{"text_format":"1","workbook":"xlsx","n_sheets":31,"sheets":["Standings","Entry List","Current Owner Standings (2)","Last Race Results (2)","Stage Results","Last Race Results","Current Owner Standings","Cars & Results","Jeff Buehrle","Doug Gebauer","Trey George","R&R Kitchen","Ron Mason","Brad McLean","Donna McLean","Steve Sheppard","Points","Schedule","Sheet2","Show me the Money","Rules","Pick Distribution","Pick_List_Template","Jeff Buehrle_Pick_List","R&R Kitchen_Pick_List","Doug Gebauer_Pick_List","Trey George_Pick_List","Ron Mason_Pick_List","Brad McLean_Pick_List","Donna McLean_Pick_List","Steve Sheppard_Pick_List"],"not_rendered":{"charts":0,"images":6,"macros":1,"external_links":2,"defined_names":100,"comments":1,"pivot_tables":0},"unopened":[],"bounds":{"document_bytes":16777216,"sheet_cells":100000,"rows_first":2000,"rows_last":500,"rows_between":2000,"halvings":0,"cell_chars":16384,"cell_head_chars":4096},"cells_cut":0,"cells_raw":0,"read":"whole","date_system":"1900"}

{"sheet":"Standings","index":0,"n_rows":20,"n_cols":19,"rows_kept":20,"cut":false,"hidden":false,"merged":[[18,2,18,12],[19,2,19,12],[17,2,17,12],[16,2,16,12]]}
["Player","Sort",{"$f":"Schedule!E26","v":"Kansas "},{"$f":"Schedule!E27","v":"New Hamp"},{"$f":"Schedule!E28","v":"Michigan (Sat)"},{"$f":"Schedule!E29","v":"Michigan (Sun)"},{"$f":"Schedule!E30","v":"Daytona (Road)"},{"$f":"Schedule!E31","v":"Dover (Sat)"},{"$f":"Schedule!E32","v":"Dover (Sun)"},{"$f":"Schedule!E33","v":"Daytona "},"Purchased  Points","Segment Total","Points Behind","Segment 1 Score","Segment 2 Score","Segment 3 Score","Segment 4 Score","YTD Score","YTD Behind"]
["Doug Gebauer",{"$f":"MID(A2,FIND(\" \", A2)+1,LEN(A2))&\", \"&LEFT(A2,FIND(\" \",A2)-1)","v":"Gebauer, Doug"},{"$f":"'Doug Gebauer'!M21","v":243.5},{"$f":"'Doug Gebauer'!O21","v":235},{"$f":"'Doug Gebauer'!Q21","v":301},{"$f":"'Doug Gebauer'!S21","v":233},{"$f":"'Doug Gebauer'!U21","v":343.5},{"$f":"'Doug Gebauer'!W21","v":260.5},{"$f":"'Doug Gebauer'!Y21","v":192},{"$f":"'Doug Gebauer'!AA21","v":257},100,{"$f":"SUM(C2:K2)","v":2165.5},{"$f":"L2-$L$2","v":0},{"$f":"'[1]Doug Gebauer'!$AC$21","v":2179.5},{"$f":"'[2]Doug Gebauer'!$AI$21","v":2541},null,null,{"$f":"SUM(N2:Q2)+L2","v":6886},{"$f":"R2-$R$2","v":0}]
["Brad McLean",{"$f":"MID(A3,FIND(\" \", A3)+1,LEN(A3))&\", \"&LEFT(A3,FIND(\" \",A3)-1)","v":"McLean, Brad"},{"$f":"'Brad McLean'!M21","v":355.5},{"$f":"'Brad McLean'!O21","v":137},{"$f":"'Brad McLean'!Q21","v":269},{"$f":"'Brad McLean'!S21","v":303},{"$f":"'Brad McLean'!U21","v":178},{"$f":"'Brad McLean'!W21","v":191},{"$f":"'Brad McLean'!Y21","v":246},{"$f":"'Brad McLean'!AA21","v":147},100,{"$f":"SUM(C3:K3)","v":1926.5},{"$f":"L3-$L$2","v":-239},{"$f":"'[1]Brad McLean'!$AC$21","v":1937.5},{"$f":"'[2]Brad McLean'!$AI$21","v":2455},null,null,{"$f":"SUM(N3:Q3)+L3","v":6319},{"$f":"R3-$R$2","v":-567}]
["Ron Mason","Mason, Ron",{"$f":"'Ron Mason'!M21","v":322.5},{"$f":"'Ron Mason'!O21","v":310},{"$f":"'Ron Mason'!Q21","v":222},{"$f":"'Ron Mason'!S21","v":218},{"$f":"'Ron Mason'!U21","v":244},{"$f":"'Ron Mason'!W21","v":264},{"$f":"'Ron Mason'!Y21","v":207},{"$f":"'Ron Mason'!AA21","v":135},null,{"$f":"SUM(C4:K4)","v":1922.5},{"$f":"L4-$L$2","v":-243},{"$f":"'[1]Ron Mason'!$AC$21","v":2318},{"$f":"'[2]Ron Mason'!$AI$21","v":2364.5},null,null,{"$f":"SUM(N4:Q4)+L4","v":6605},{"$f":"R4-$R$2","v":-281}]
["Donna McLean",{"$f":"MID(A5,FIND(\" \", A5)+1,LEN(A5))&\", \"&LEFT(A5,FIND(\" \",A5)-1)","v":"McLean, Donna"},{"$f":"'Donna McLean'!M21","v":146},{"$f":"'Donna McLean'!O21","v":262},{"$f":"'Donna McLean'!Q21","v":202},{"$f":"'Donna McLean'!S21","v":280},{"$f":"'Donna McLean'!U21","v":278},{"$f":"'Donna McLean'!W21","v":225.5},{"$f":"'Donna McLean'!Y21","v":249},{"$f":"'Donna McLean'!AA21","v":207},null,{"$f":"SUM(C5:K5)","v":1849.5},{"$f":"L5-$L$2","v":-316},{"$f":"'[1]Donna McLean'!$AC$21","v":2054.5},{"$f":"'[2]Donna McLean'!$AI$21","v":2217.5},null,null,{"$f":"SUM(N5:Q5)+L5","v":6121.5},{"$f":"R5-$R$2","v":-764.5}]
["R&R Kitchen",{"$f":"MID(A6,FIND(\" \", A6)+1,LEN(A6))&\", \"&LEFT(A6,FIND(\" \",A6)-1)","v":"Kitchen, R&R"},{"$f":"'R&R Kitchen'!M21","v":202.5},{"$f":"'R&R Kitchen'!O21","v":198},{"$f":"'R&R Kitchen'!Q21","v":272},{"$f":"'R&R Kitchen'!S21","v":265},{"$f":"'R&R Kitchen'!U21","v":256.5},{"$f":"'R&R Kitchen'!W21","v":199},{"$f":"'R&R Kitchen'!Y21","v":234},{"$f":"'R&R Kitchen'!AA21","v":146},null,{"$f":"SUM(C6:K6)","v":1773},{"$f":"L6-$L$2","v":-392.5},{"$f":"'[1]R&R Kitchen'!$AC$21","v":1959},{"$f":"'[2]R&R Kitchen'!$AI$21","v":2141.5},null,null,{"$f":"SUM(N6:Q6)+L6","v":5873.5},{"$f":"R6-$R$2","v":-1012.5}]
["Jeff Buehrle",{"$f":"MID(A7,FIND(\" \", A7)+1,LEN(A7))&\", \"&LEFT(A7,FIND(\" \",A7)-1)","v":"Buehrle, Jeff"},{"$f":"'Jeff Buehrle'!M21","v":318.5},{"$f":"'Jeff Buehrle'!O21","v":226},{"$f":"'Jeff Buehrle'!Q21","v":220},{"$f":"'Jeff Buehrle'!S21","v":233},{"$f":"'Jeff Buehrle'!U21","v":207},{"$f":"'Jeff Buehrle'!W21","v":262},{"$f":"'Jeff Buehrle'!Y21","v":137},{"$f":"'Jeff Buehrle'!AA21","v":165},null,{"$f":"SUM(C7:K7)","v":1768.5},{"$f":"L7-$L$2","v":-397},{"$f":"'[1]Jeff Buehrle'!$AC$21","v":2284.75},{"$f":"'[2]Jeff Buehrle'!$AI$21","v":2090.5},null,null,{"$f":"SUM(N7:Q7)+L7","v":6143.75},{"$f":"R7-$R$2","v":-742.25}]
["Steve Sheppard",{"$f":"MID(A8,FIND(\" \", A8)+1,LEN(A8))&\", \"&LEFT(A8,FIND(\" \",A8)-1)","v":"Sheppard, Steve"},{"$f":"'Steve Sheppard'!M21","v":175},{"$f":"'Steve Sheppard'!O21","v":113},{"$f":"'Steve Sheppard'!Q21","v":91},{"$f":"'Steve Sheppard'!S21","v":153},{"$f":"'Steve Sheppard'!U21","v":129},{"$f":"'Steve Sheppard'!W21","v":216.5},{"$f":"'Steve Sheppard'!Y21","v":204},{"$f":"'Steve Sheppard'!AA21","v":150},null,{"$f":"SUM(C8:K8)","v":1231.5},{"$f":"L8-$L$2","v":-934},{"$f":"'[1]Steve Sheppard'!$AC$21","v":1762.5},{"$f":"'[2]Steve Sheppard'!$AI$21","v":2047.5},null,null,{"$f":"SUM(N8:Q8)+L8","v":5041.5},{"$f":"R8-$R$2","v":-1844.5}]
["Trey George",{"$f":"MID(A9,FIND(\" \", A9)+1,LEN(A9))&\", \"&LEFT(A9,FIND(\" \",A9)-1)","v":"George, Trey"},{"$f":"'Trey George'!M21","v":282.5},{"$f":"'Trey George'!O21","v":107},{"$f":"'Trey George'!Q21","v":150},{"$f":"'Trey George'!S21","v":118},{"$f":"'Trey George'!U21","v":116},{"$f":"'Trey George'!W21","v":151.5},{"$f":"'Trey George'!Y21","v":134},{"$f":"'Trey George'!AA21","v":144},null,{"$f":"SUM(C9:K9)","v":1203},{"$f":"L9-$L$2","v":-962.5},{"$f":"'[1]Trey George'!$AC$21","v":1474},{"$f":"'[2]Trey George'!$AI$21","v":1930},null,null,{"$f":"SUM(N9:Q9)+L9","v":4607},{"$f":"R9-$R$2","v":-2279}]
[]
["Average Score",null,{"$f":"AVERAGE(C2:C9)","v":255.75},198.5,215.875,225.375,219,221.25,200.375,168.875,null,{"$f":"AVERAGE(L2:L9)","v":1730}]
["* Rookie"]
[null,null,null,null,null,null,null,null,null,null,null,"1st"]
[null,null,null,null,null,null,null,null,null,null,null,"2nd"]
[null,null,"Last Updated: 8/31/2020 8:42:52 AM",null,null,null,null,null,null,null,null,"3rd"]
[]
[]
[null,null,"Ready for Picks"]
[null,null,"Unofficial Race Results Posted"]
[null,null,"Official Race Results Posted"]

{"sheet":"Entry List","index":1,"n_rows":94,"n_cols":8,"rows_kept":94,"cut":false,"hidden":false,"merged":[]}
[null,null,null,null,null,null,null,"https://en.wikipedia.org/wiki/2020_NASCAR_Cup_Series#Schedule"]
[]
[]
["Entry #","Entry #","No.","Driver","Team","Manufacturer"]
[{"$f":"IF(C5=\"\",\"\",C5)","v":"00"},1,"00","Quin Houff (R)","StarCom Racing","Chevrolet"]
[{"$f":"IF(C6=\"\",\"\",VALUE(C6))","v":1},2,"1","Kurt Busch","Chip Ganassi Racing","Chevrolet"]
[{"$f":"IF(C7=\"\",\"\",VALUE(C7))","v":2},3,"2","Brad Keselowski","Team Penske","Ford"]
[3,4,"3","Austin Dillon","Richard Childress Racing","Chevrolet"]
[4,5,"4","Kevin Harvick","Stewart-Haas Racing","Ford"]
[6,6,"6","Ryan Newman","Roush Fenway Racing","Ford"]
[107,7,107,"Josh Bilicki (i)","Tommy Baldwin Racing","Chevrolet"]
[8,8,"8","Tyler Reddick (R)","Richard Childress Racing","Chevrolet"]
[9,9,"9","Chase Elliott","Hendrick Motorsports","Chevrolet"]
[10,10,"10","Aric Almirola","Stewart-Haas Racing","Ford"]
[11,11,"11","Denny Hamlin","Joe Gibbs Racing","Toyota"]
[12,12,"12","Ryan Blaney","Team Penske","Ford"]
[13,13,"13","Ty Dillon","Germain Racing","Chevrolet"]
[14,14,"14","Clint Bowyer","Stewart-Haas Racing","Ford"]
[15,15,"15","Brennan Poole (R)","Premium Motorsports","Chevrolet"]
[17,16,"17","Chris Buescher","Roush Fenway Racing","Ford"]
[18,17,"18","Kyle Busch","Joe Gibbs Racing","Toyota"]
[19,18,"19","Martin Truex Jr.","Joe Gibbs Racing","Toyota"]
[20,19,"20","Erik Jones","Joe Gibbs Racing","Toyota"]
[21,20,"21","Matt DiBenedetto","Wood Brothers Racing","Ford"]
[22,21,"22","Joey Logano","Team Penske","Ford"]
[24,22,"24","William Byron","Hendrick Motorsports","Chevrolet"]
[127,23,127,"J. J. Yeley (i)","Rick Ware Racing","Ford"]
[32,24,"32","Corey LaJoie","Go Fas Racing","Ford"]
[34,25,"34","Michael McDowell","Front Row Motorsports","Ford"]
[37,26,"37","Ryan Preece","JTG Daugherty Racing","Chevrolet"]
[38,27,"38","John Hunter Nemechek (R)","Front Row Motorsports","Ford"]
[41,28,"41","Cole Custer (R)","Stewart-Haas Racing","Ford"]
[42,29,"42","Matt Kenseth","Chip Ganassi Racing","Chevrolet"]
[43,30,"43","Bubba Wallace","Richard Petty Motorsports","Chevrolet"]
[47,31,"47","Ricky Stenhouse Jr.","JTG Daugherty Racing","Chevrolet"]
[48,32,"48","Jimmie Johnson","Hendrick Motorsports","Chevrolet"]
[51,33,"51","James Davison","Petty Ware Racing","Ford"]
[53,34,"53","Joey Gase (i)","Rick Ware Racing","Ford"]
[62,35,"62","Brendan Gaughan","Beard Motorsports","Chevrolet"]
[66,36,"66","Timmy Hill (i)","MBM Motorsports","Toyota"]
[77,37,"77","Ross Chastain (i)","Spire Motorsports","Chevrolet"]
[88,38,"88","Alex Bowman","Hendrick Motorsports","Chevrolet"]
[95,39,"95","Christopher Bell (R)","Leavine Family Racing","Toyota"]
[96,40,"96","Daniel Suárez","Gaunt Brothers Racing","Toyota"]
[]
[]
[]
[]
[]
[]
[]
[]
[]
[]
[]
[]
[]
[]
[]
[]
[]
[]
[]
[]
[]
[]
[]
[]
[]
[]
[]
[]
[]
[]
[]
[]
[]
[]
[]
[]
[]
[]
[]
[]
[]
[]
[]
[]
[]
[]
[]
[]
[]
["  "]

{"sheet":"Current Owner Standings (2)","index":2,"n_rows":497,"n_cols":35,"rows_kept":497,"cut":false,"hidden":true,"merged":[]}
[]
["RANK","+/-","CAR","OWNER","POINTS","BEHIND","STARTS","WINS","TOP 5","TOP 10","Driver"]
[1,"--","#16","Jack Roush",312,"Leader",8,1,5,6,{"$f":"IF(ISNA(VLOOKUP(VALUE(RIGHT(C3,LEN(C3)-1)),'Entry List'!$B$2:$B$103,2,FALSE)),\"Not Entered\", VLOOKUP(VALUE(RIGHT(C3,LEN(C3)-1)),'Entry List'!$B$2:$B$103,2,FALSE))","v":{"$error":"#REF!"}}]
[2,2,"#56","Michael Waltrip",297,-15,8,0,3,6,{"$f":"IF(ISNA(VLOOKUP(VALUE(RIGHT(C4,LEN(C4)-1)),'Entry List'!$B$2:$B$103,2,FALSE)),\"Not Entered\", VLOOKUP(VALUE(RIGHT(C4,LEN(C4)-1)),'Entry List'!$B$2:$B$103,2,FALSE))","v":"Not Entered"}]
[3,-1,"#17","John Henry",295,-17,8,1,5,5,{"$f":"IF(ISNA(VLOOKUP(VALUE(RIGHT(C5,LEN(C5)-1)),'Entry List'!$B$2:$B$103,2,FALSE)),\"Not Entered\", VLOOKUP(VALUE(RIGHT(C5,LEN(C5)-1)),'Entry List'!$B$2:$B$103,2,FALSE))","v":{"$error":"#REF!"}}]
[4,-1,"#88","Rick Hendrick",291,-21,8,0,3,6,{"$f":"IF(ISNA(VLOOKUP(VALUE(RIGHT(C6,LEN(C6)-1)),'Entry List'!$B$2:$B$103,2,FALSE)),\"Not Entered\", VLOOKUP(VALUE(RIGHT(C6,LEN(C6)-1)),'Entry List'!$B$2:$B$103,2,FALSE))","v":"Not Entered"}]
[5,1,"#11","J D Gibbs",289,-23,8,2,3,4,{"$f":"IF(ISNA(VLOOKUP(VALUE(RIGHT(C7,LEN(C7)-1)),'Entry List'!$B$2:$B$103,2,FALSE)),\"Not Entered\", VLOOKUP(VALUE(RIGHT(C7,LEN(C7)-1)),'Entry List'!$B$2:$B$103,2,FALSE))","v":{"$error":"#REF!"}}]
[6,-1,"#29","Richard Childress",287,-25,8,0,2,5,{"$f":"IF(ISNA(VLOOKUP(VALUE(RIGHT(C8,LEN(C8)-1)),'Entry List'!$B$2:$B$103,2,FALSE)),\"Not Entered\", VLOOKUP(VALUE(RIGHT(C8,LEN(C8)-1)),'Entry List'!$B$2:$B$103,2,FALSE))","v":{"$error":"#REF!"}}]
[7,2,"#48","Jeff Gordon",275,-37,8,0,4,6,{"$f":"IF(ISNA(VLOOKUP(VALUE(RIGHT(C9,LEN(C9)-1)),'Entry List'!$B$2:$B$103,2,FALSE)),\"Not Entered\", VLOOKUP(VALUE(RIGHT(C9,LEN(C9)-1)),'Entry List'!$B$2:$B$103,2,FALSE))","v":"Not Entered"}]
[8,"--","#14","Margaret Haas",265,-47,8,2,2,3,{"$f":"IF(ISNA(VLOOKUP(VALUE(RIGHT(C10,LEN(C10)-1)),'Entry List'!$B$2:$B$103,2,FALSE)),\"Not Entered\", VLOOKUP(VALUE(RIGHT(C10,LEN(C10)-1)),'Entry List'!$B$2:$B$103,2,FALSE))","v":{"$error":"#REF!"}}]
[9,3,"#99","Jack Roush",251,-61,8,0,2,5,{"$f":"IF(ISNA(VLOOKUP(VALUE(RIGHT(C11,LEN(C11)-1)),'Entry List'!$B$2:$B$103,2,FALSE)),\"Not Entered\", VLOOKUP(VALUE(RIGHT(C11,LEN(C11)-1)),'Entry List'!$B$2:$B$103,2,FALSE))","v":"Not Entered"}]
[10,"--","#39","Tony Stewart",249,-63,8,1,2,3,{"$f":"IF(ISNA(VLOOKUP(VALUE(RIGHT(C12,LEN(C12)-1)),'Entry List'!$B$2:$B$103,2,FALSE)),\"Not Entered\", VLOOKUP(VALUE(RIGHT(C12,LEN(C12)-1)),'Entry List'!$B$2:$B$103,2,FALSE))","v":{"$error":"#REF!"}}]
[11,-4,"#55","Bill Jenkins",247,-65,8,0,2,4,{"$f":"IF(ISNA(VLOOKUP(VALUE(RIGHT(C13,LEN(C13)-1)),'Entry List'!$B$2:$B$103,2,FALSE)),\"Not Entered\", VLOOKUP(VALUE(RIGHT(C13,LEN(C13)-1)),'Entry List'!$B$2:$B$103,2,FALSE))","v":"Not Entered"}]
[12,-1,"#15","Rob Kauffman",227,-85,8,0,1,3,{"$f":"IF(ISNA(VLOOKUP(VALUE(RIGHT(C14,LEN(C14)-1)),'Entry List'!$B$2:$B$103,2,FALSE)),\"Not Entered\", VLOOKUP(VALUE(RIGHT(C14,LEN(C14)-1)),'Entry List'!$B$2:$B$103,2,FALSE))","v":{"$error":"#REF!"}}]
[13,1,"#20","Joe Gibbs",221,-91,8,0,0,2,{"$f":"IF(ISNA(VLOOKUP(VALUE(RIGHT(C15,LEN(C15)-1)),'Entry List'!$B$2:$B$103,2,FALSE)),\"Not Entered\", VLOOKUP(VALUE(RIGHT(C15,LEN(C15)-1)),'Entry List'!$B$2:$B$103,2,FALSE))","v":{"$error":"#REF!"}}]
[14,1,"#18","Joe Gibbs",218,-94,8,0,1,3,{"$f":"IF(ISNA(VLOOKUP(VALUE(RIGHT(C16,LEN(C16)-1)),'Entry List'!$B$2:$B$103,2,FALSE)),\"Not Entered\", VLOOKUP(VALUE(RIGHT(C16,LEN(C16)-1)),'Entry List'!$B$2:$B$103,2,FALSE))","v":{"$error":"#REF!"}}]
[15,-2,"#27","Richard Childress",218,-94,8,0,0,3,{"$f":"IF(ISNA(VLOOKUP(VALUE(RIGHT(C17,LEN(C17)-1)),'Entry List'!$B$2:$B$103,2,FALSE)),\"Not Entered\", VLOOKUP(VALUE(RIGHT(C17,LEN(C17)-1)),'Entry List'!$B$2:$B$103,2,FALSE))","v":{"$error":"#REF!"}},null,null,null,null,null,null,null,null,null,{"$f":"IF(INDIRECT(ADDRESS(320,5+(T2*2),1,1,\"Cars & Results\"),TRUE)=\"Y\",IF(ISERROR(MATCH(INDIRECT(ADDRESS(317,5+(T2*2),1,1,\"Cars & Results\"),TRUE),C4:C16,0))=TRUE,0,20),\"\")","v":""},null,{"$f":"IF(INDIRECT(ADDRESS(320,5+(V2*2),1,1,\"Cars & Results\"),TRUE)=\"Y\",IF(ISERROR(MATCH(INDIRECT(ADDRESS(317,5+(V2*2),1,1,\"Cars & Results\"),TRUE),D4:D16,0))=TRUE,0,20),\"\")","v":""},null,{"$f":"IF(INDIRECT(ADDRESS(320,5+(X2*2),1,1,\"Cars & Results\"),TRUE)=\"Y\",IF(ISERROR(MATCH(INDIRECT(ADDRESS(317,5+(X2*2),1,1,\"Cars & Results\"),TRUE),E4:E16,0))=TRUE,0,20),\"\")","v":""},null,{"$f":"IF(INDIRECT(ADDRESS(320,5+(Z2*2),1,1,\"Cars & Results\"),TRUE)=\"Y\",IF(ISERROR(MATCH(INDIRECT(ADDRESS(317,5+(Z2*2),1,1,\"Cars & Results\"),TRUE),F4:F16,0))=TRUE,0,20),\"\")","v":""},null,{"$f":"IF(INDIRECT(ADDRESS(320,5+(AB2*2),1,1,\"Cars & Results\"),TRUE)=\"Y\",IF(ISERROR(MATCH(INDIRECT(ADDRESS(317,5+(AB2*2),1,1,\"Cars & Results\"),TRUE),K4:K16,0))=TRUE,0,20),\"\")","v":""},null,{"$f":"IF(INDIRECT(ADDRESS(320,5+(AD2*2),1,1,\"Cars & Results\"),TRUE)=\"Y\",IF(ISERROR(MATCH(INDIRECT(ADDRESS(317,5+(AD2*2),1,1,\"Cars & Results\"),TRUE),L4:L16,0))=TRUE,0,20),\"\")","v":""},null,{"$f":"IF(INDIRECT(ADDRESS(320,5+(AF2*2),1,1,\"Cars & Results\"),TRUE)=\"Y\",IF(ISERROR(MATCH(INDIRECT(ADDRESS(317,5+(AF2*2),1,1,\"Cars & Results\"),TRUE),M4:M16,0))=TRUE,0,20),\"\")","v":""},null,{"$f":"IF(INDIRECT(ADDRESS(320,5+(AH2*2),1,1,\"Cars & Results\"),TRUE)=\"Y\",IF(ISERROR(MATCH(INDIRECT(ADDRESS(317,5+(AH2*2),1,1,\"Cars & Results\"),TRUE),N4:N16,0))=TRUE,0,20),\"\")","v":""}]
[16,"--","#2","Roger Penske",217,-95,8,1,2,3,{"$f":"IF(ISNA(VLOOKUP(VALUE(RIGHT(C18,LEN(C18)-1)),'Entry List'!$B$2:$B$103,2,FALSE)),\"Not Entered\", VLOOKUP(VALUE(RIGHT(C18,LEN(C18)-1)),'Entry List'!$B$2:$B$103,2,FALSE))","v":{"$error":"#REF!"}},null,null,null,null,null,null,null,null,null,{"$f":"IF(INDIRECT(ADDRESS(320,5+(T2*2),1,1,\"Cars & Results\"),TRUE)=\"Y\",IF(ISERROR(MATCH(INDIRECT(ADDRESS(318,5+(T2*2),1,1,\"Cars & Results\"),TRUE),C4:C16,0))=TRUE,0,10),\"\")","v":""},null,{"$f":"IF(INDIRECT(ADDRESS(320,5+(V2*2),1,1,\"Cars & Results\"),TRUE)=\"Y\",IF(ISERROR(MATCH(INDIRECT(ADDRESS(318,5+(V2*2),1,1,\"Cars & Results\"),TRUE),D4:D16,0))=TRUE,0,10),\"\")","v":""},null,{"$f":"IF(INDIRECT(ADDRESS(320,5+(X2*2),1,1,\"Cars & Results\"),TRUE)=\"Y\",IF(ISERROR(MATCH(INDIRECT(ADDRESS(318,5+(X2*2),1,1,\"Cars & Results\"),TRUE),E4:E16,0))=TRUE,0,10),\"\")","v":""},null,{"$f":"IF(INDIRECT(ADDRESS(320,5+(Z2*2),1,1,\"Cars & Results\"),TRUE)=\"Y\",IF(ISERROR(MATCH(INDIRECT(ADDRESS(318,5+(Z2*2),1,1,\"Cars & Results\"),TRUE),F4:F16,0))=TRUE,0,10),\"\")","v":""},null,{"$f":"IF(INDIRECT(ADDRESS(320,5+(AB2*2),1,1,\"Cars & Results\"),TRUE)=\"Y\",IF(ISERROR(MATCH(INDIRECT(ADDRESS(318,5+(AB2*2),1,1,\"Cars & Results\"),TRUE),K4:K16,0))=TRUE,0,10),\"\")","v":""},null,{"$f":"IF(INDIRECT(ADDRESS(320,5+(AD2*2),1,1,\"Cars & Results\"),TRUE)=\"Y\",IF(ISERROR(MATCH(INDIRECT(ADDRESS(318,5+(AD2*2),1,1,\"Cars & Results\"),TRUE),L4:L16,0))=TRUE,0,10),\"\")","v":""},null,{"$f":"IF(INDIRECT(ADDRESS(320,5+(AF2*2),1,1,\"Cars & Results\"),TRUE)=\"Y\",IF(ISERROR(MATCH(INDIRECT(ADDRESS(318,5+(AF2*2),1,1,\"Cars & Results\"),TRUE),M4:M16,0))=TRUE,0,10),\"\")","v":""},null,{"$f":"IF(INDIRECT(ADDRESS(320,5+(AH2*2),1,1,\"Cars & Results\"),TRUE)=\"Y\",IF(ISERROR(MATCH(INDIRECT(ADDRESS(318,5+(AH2*2),1,1,\"Cars & Results\"),TRUE),N4:N16,0))=TRUE,0,10),\"\")","v":""}]
[17,2,"#42","Chip Ganassi",207,-105,8,0,0,1,{"$f":"IF(ISNA(VLOOKUP(VALUE(RIGHT(C19,LEN(C19)-1)),'Entry List'!$B$2:$B$103,2,FALSE)),\"Not Entered\", VLOOKUP(VALUE(RIGHT(C19,LEN(C19)-1)),'Entry List'!$B$2:$B$103,2,FALSE))","v":"Not Entered"},null,null,null,null,null,null,null,null,null,{"$f":"IF(INDIRECT(ADDRESS(320,5+(T2*2),1,1,\"Cars & Results\"),TRUE)=\"Y\",IF(ISERROR(MATCH(INDIRECT(ADDRESS(319,5+(T2*2),1,1,\"Cars & Results\"),TRUE),C4:C16,0))=TRUE,0,10),\"\")","v":""},null,{"$f":"IF(INDIRECT(ADDRESS(320,5+(V2*2),1,1,\"Cars & Results\"),TRUE)=\"Y\",IF(ISERROR(MATCH(INDIRECT(ADDRESS(319,5+(V2*2),1,1,\"Cars & Results\"),TRUE),D4:D16,0))=TRUE,0,10),\"\")","v":""},null,{"$f":"IF(INDIRECT(ADDRESS(320,5+(X2*2),1,1,\"Cars & Results\"),TRUE)=\"Y\",IF(ISERROR(MATCH(INDIRECT(ADDRESS(319,5+(X2*2),1,1,\"Cars & Results\"),TRUE),E4:E16,0))=TRUE,0,10),\"\")","v":""},null,{"$f":"IF(INDIRECT(ADDRESS(320,5+(Z2*2),1,1,\"Cars & Results\"),TRUE)=\"Y\",IF(ISERROR(MATCH(INDIRECT(ADDRESS(319,5+(Z2*2),1,1,\"Cars & Results\"),TRUE),F4:F16,0))=TRUE,0,10),\"\")","v":""},null,{"$f":"IF(INDIRECT(ADDRESS(320,5+(AB2*2),1,1,\"Cars & Results\"),TRUE)=\"Y\",IF(ISERROR(MATCH(INDIRECT(ADDRESS(319,5+(AB2*2),1,1,\"Cars & Results\"),TRUE),K4:K16,0))=TRUE,0,10),\"\")","v":""},null,{"$f":"IF(INDIRECT(ADDRESS(320,5+(AD2*2),1,1,\"Cars & Results\"),TRUE)=\"Y\",IF(ISERROR(MATCH(INDIRECT(ADDRESS(319,5+(AD2*2),1,1,\"Cars & Results\"),TRUE),L4:L16,0))=TRUE,0,10),\"\")","v":""},null,{"$f":"IF(INDIRECT(ADDRESS(320,5+(AF2*2),1,1,\"Cars & Results\"),TRUE)=\"Y\",IF(ISERROR(MATCH(INDIRECT(ADDRESS(319,5+(AF2*2),1,1,\"Cars & Results\"),TRUE),M4:M16,0))=TRUE,0,10),\"\")","v":""},null,{"$f":"IF(INDIRECT(ADDRESS(320,5+(AH2*2),1,1,\"Cars & Results\"),TRUE)=\"Y\",IF(ISERROR(MATCH(INDIRECT(ADDRESS(319,5+(AH2*2),1,1,\"Cars & Results\"),TRUE),N4:N16,0))=TRUE,0,10),\"\")","v":""}]
[18,-1,"#31","Richard Childress",201,-111,8,0,1,2,{"$f":"IF(ISNA(VLOOKUP(VALUE(RIGHT(C20,LEN(C20)-1)),'Entry List'!$B$2:$B$103,2,FALSE)),\"Not Entered\", VLOOKUP(VALUE(RIGHT(C20,LEN(C20)-1)),'Entry List'!$B$2:$B$103,2,FALSE))","v":{"$error":"#REF!"}}]
[19,-1,"#24","Rick Hendrick",200,-112,8,0,1,2,{"$f":"IF(ISNA(VLOOKUP(VALUE(RIGHT(C21,LEN(C21)-1)),'Entry List'!$B$2:$B$103,2,FALSE)),\"Not Entered\", VLOOKUP(VALUE(RIGHT(C21,LEN(C21)-1)),'Entry List'!$B$2:$B$103,2,FALSE))","v":{"$error":"#REF!"}}]
[20,3,"#1","Felix Sabates",190,-122,8,0,0,2,{"$f":"IF(ISNA(VLOOKUP(VALUE(RIGHT(C22,LEN(C22)-1)),'Entry List'!$B$2:$B$103,2,FALSE)),\"Not Entered\", VLOOKUP(VALUE(RIGHT(C22,LEN(C22)-1)),'Entry List'!$B$2:$B$103,2,FALSE))","v":{"$error":"#REF!"}}]
[21,1,"#43","Richard Petty",187,-125,8,0,0,1,{"$f":"IF(ISNA(VLOOKUP(VALUE(RIGHT(C23,LEN(C23)-1)),'Entry List'!$B$2:$B$103,2,FALSE)),\"Not Entered\", VLOOKUP(VALUE(RIGHT(C23,LEN(C23)-1)),'Entry List'!$B$2:$B$103,2,FALSE))","v":"Not Entered"}]
[22,2,"#9","Richard Petty",187,-125,8,0,0,0,{"$f":"IF(ISNA(VLOOKUP(VALUE(RIGHT(C24,LEN(C24)-1)),'Entry List'!$B$2:$B$103,2,FALSE)),\"Not Entered\", VLOOKUP(VALUE(RIGHT(C24,LEN(C24)-1)),'Entry List'!$B$2:$B$103,2,FALSE))","v":{"$error":"#REF!"}}]
[23,-2,"#78","Barney Visser",187,-125,8,0,0,0,{"$f":"IF(ISNA(VLOOKUP(VALUE(RIGHT(C25,LEN(C25)-1)),'Entry List'!$B$2:$B$103,2,FALSE)),\"Not Entered\", VLOOKUP(VALUE(RIGHT(C25,LEN(C25)-1)),'Entry List'!$B$2:$B$103,2,FALSE))","v":"Not Entered"}]
[24,-4,"#22","Walter Czarnecki",185,-127,8,0,1,1,{"$f":"IF(ISNA(VLOOKUP(VALUE(RIGHT(C26,LEN(C26)-1)),'Entry List'!$B$2:$B$103,2,FALSE)),\"Not Entered\", VLOOKUP(VALUE(RIGHT(C26,LEN(C26)-1)),'Entry List'!$B$2:$B$103,2,FALSE))","v":{"$error":"#REF!"}}]
[25,1,"#51","James Finch",174,-138,8,0,0,1,{"$f":"IF(ISNA(VLOOKUP(VALUE(RIGHT(C27,LEN(C27)-1)),'Entry List'!$B$2:$B$103,2,FALSE)),\"Not Entered\", VLOOKUP(VALUE(RIGHT(C27,LEN(C27)-1)),'Entry List'!$B$2:$B$103,2,FALSE))","v":"Not Entered"}]
[26,1,"#5","Linda Hendrick",166,-146,8,0,0,2,{"$f":"IF(ISNA(VLOOKUP(VALUE(RIGHT(C28,LEN(C28)-1)),'Entry List'!$B$2:$B$103,2,FALSE)),\"Not Entered\", VLOOKUP(VALUE(RIGHT(C28,LEN(C28)-1)),'Entry List'!$B$2:$B$103,2,FALSE))","v":{"$error":"#REF!"}}]
[27,-2,"#47","Tad Geschickter",161,-151,8,0,0,0,{"$f":"IF(ISNA(VLOOKUP(VALUE(RIGHT(C29,LEN(C29)-1)),'Entry List'!$B$2:$B$103,2,FALSE)),\"Not Entered\", VLOOKUP(VALUE(RIGHT(C29,LEN(C29)-1)),'Entry List'!$B$2:$B$103,2,FALSE))","v":"Not Entered"}]
[28,"--","#13","Bob Germain",137,-175,8,0,0,0,{"$f":"IF(ISNA(VLOOKUP(VALUE(RIGHT(C30,LEN(C30)-1)),'Entry List'!$B$2:$B$103,2,FALSE)),\"Not Entered\", VLOOKUP(VALUE(RIGHT(C30,LEN(C30)-1)),'Entry List'!$B$2:$B$103,2,FALSE))","v":{"$error":"#REF!"}}]
[29,1,"#38","Brad Jenkins",126,-186,8,0,0,0,{"$f":"IF(ISNA(VLOOKUP(VALUE(RIGHT(C31,LEN(C31)-1)),'Entry List'!$B$2:$B$103,2,FALSE)),\"Not Entered\", VLOOKUP(VALUE(RIGHT(C31,LEN(C31)-1)),'Entry List'!$B$2:$B$103,2,FALSE))","v":{"$error":"#REF!"}}]
[30,-1,"#34","Bob Jenkins",123,-189,8,0,0,0,{"$f":"IF(ISNA(VLOOKUP(VALUE(RIGHT(C32,LEN(C32)-1)),'Entry List'!$B$2:$B$103,2,FALSE)),\"Not Entered\", VLOOKUP(VALUE(RIGHT(C32,LEN(C32)-1)),'Entry List'!$B$2:$B$103,2,FALSE))","v":{"$error":"#REF!"}}]
[31,2,"#93","Thomas Ueberall",122,-190,8,0,0,0,{"$f":"IF(ISNA(VLOOKUP(VALUE(RIGHT(C33,LEN(C33)-1)),'Entry List'!$B$2:$B$103,2,FALSE)),\"Not Entered\", VLOOKUP(VALUE(RIGHT(C33,LEN(C33)-1)),'Entry List'!$B$2:$B$103,2,FALSE))","v":"Not Entered"}]
[32,"--","#32","Jack Roush",120,-192,8,0,0,0,{"$f":"IF(ISNA(VLOOKUP(VALUE(RIGHT(C34,LEN(C34)-1)),'Entry List'!$B$2:$B$103,2,FALSE)),\"Not Entered\", VLOOKUP(VALUE(RIGHT(C34,LEN(C34)-1)),'Entry List'!$B$2:$B$103,2,FALSE))","v":{"$error":"#REF!"}}]
[33,-2,"#36","Allan Heinke",111,-201,8,0,0,0,{"$f":"IF(ISNA(VLOOKUP(VALUE(RIGHT(C35,LEN(C35)-1)),'Entry List'!$B$2:$B$103,2,FALSE)),\"Not Entered\", VLOOKUP(VALUE(RIGHT(C35,LEN(C35)-1)),'Entry List'!$B$2:$B$103,2,FALSE))","v":{"$error":"#REF!"}}]
[34,"--","#10","Tommy Baldwin",109,-203,8,0,0,0,{"$f":"IF(ISNA(VLOOKUP(VALUE(RIGHT(C36,LEN(C36)-1)),'Entry List'!$B$2:$B$103,2,FALSE)),\"Not Entered\", VLOOKUP(VALUE(RIGHT(C36,LEN(C36)-1)),'Entry List'!$B$2:$B$103,2,FALSE))","v":{"$error":"#REF!"}}]
[35,"--","#83","Thomas Ueberall",101,-211,8,0,0,0,{"$f":"IF(ISNA(VLOOKUP(VALUE(RIGHT(C37,LEN(C37)-1)),'Entry List'!$B$2:$B$103,2,FALSE)),\"Not Entered\", VLOOKUP(VALUE(RIGHT(C37,LEN(C37)-1)),'Entry List'!$B$2:$B$103,2,FALSE))","v":"Not Entered"}]
[36,"--","#33","Richard Childress",90,-222,7,0,0,0,{"$f":"IF(ISNA(VLOOKUP(VALUE(RIGHT(C38,LEN(C38)-1)),'Entry List'!$B$2:$B$103,2,FALSE)),\"Not Entered\", VLOOKUP(VALUE(RIGHT(C38,LEN(C38)-1)),'Entry List'!$B$2:$B$103,2,FALSE))","v":{"$error":"#REF!"}}]
[37,2,"#249","Jay Robinson",73,-239,7,0,0,0,{"$f":"IF(ISNA(VLOOKUP(VALUE(RIGHT(C39,LEN(C39)-1)),'Entry List'!$B$2:$B$103,2,FALSE)),\"Not Entered\", VLOOKUP(VALUE(RIGHT(C39,LEN(C39)-1)),'Entry List'!$B$2:$B$103,2,FALSE))","v":"Not Entered"}]
[38,-1,"#30","Kevin Buckler",69,-243,7,0,0,0,{"$f":"IF(ISNA(VLOOKUP(VALUE(RIGHT(C40,LEN(C40)-1)),'Entry List'!$B$2:$B$103,2,FALSE)),\"Not Entered\", VLOOKUP(VALUE(RIGHT(C40,LEN(C40)-1)),'Entry List'!$B$2:$B$103,2,FALSE))","v":{"$error":"#REF!"}}]
[39,-1,"#21","Glen Wood",60,-252,3,0,0,1,{"$f":"IF(ISNA(VLOOKUP(VALUE(RIGHT(C41,LEN(C41)-1)),'Entry List'!$B$2:$B$103,2,FALSE)),\"Not Entered\", VLOOKUP(VALUE(RIGHT(C41,LEN(C41)-1)),'Entry List'!$B$2:$B$103,2,FALSE))","v":{"$error":"#REF!"}}]
[40,"--","#26","Jerry Freeze",56,-256,8,0,0,0,{"$f":"IF(ISNA(VLOOKUP(VALUE(RIGHT(C42,LEN(C42)-1)),'Entry List'!$B$2:$B$103,2,FALSE)),\"Not Entered\", VLOOKUP(VALUE(RIGHT(C42,LEN(C42)-1)),'Entry List'!$B$2:$B$103,2,FALSE))","v":{"$error":"#REF!"}}]
[41,"--","#98","Mike Curb",51,-261,8,0,0,0,{"$f":"IF(ISNA(VLOOKUP(VALUE(RIGHT(C43,LEN(C43)-1)),'Entry List'!$B$2:$B$103,2,FALSE)),\"Not Entered\", VLOOKUP(VALUE(RIGHT(C43,LEN(C43)-1)),'Entry List'!$B$2:$B$103,2,FALSE))","v":"Not Entered"}]
[42,"--","#87","Andrea Nemechek",35,-277,6,0,0,0,{"$f":"IF(ISNA(VLOOKUP(VALUE(RIGHT(C44,LEN(C44)-1)),'Entry List'!$B$2:$B$103,2,FALSE)),\"Not Entered\", VLOOKUP(VALUE(RIGHT(C44,LEN(C44)-1)),'Entry List'!$B$2:$B$103,2,FALSE))","v":"Not Entered"}]
[43,"--","#132","Frank Stoddard, Jr",27,-285,1,0,0,0,{"$f":"IF(ISNA(VLOOKUP(VALUE(RIGHT(C45,LEN(C45)-1)),'Entry List'!$B$2:$B$103,2,FALSE)),\"Not Entered\", VLOOKUP(VALUE(RIGHT(C45,LEN(C45)-1)),'Entry List'!$B$2:$B$103,2,FALSE))","v":"Not Entered"}]
[44,"--","#12","Roger Penske",26,-286,1,0,0,0,{"$f":"IF(ISNA(VLOOKUP(VALUE(RIGHT(C46,LEN(C46)-1)),'Entry List'!$B$2:$B$103,2,FALSE)),\"Not Entered\", VLOOKUP(VALUE(RIGHT(C46,LEN(C46)-1)),'Entry List'!$B$2:$B$103,2,FALSE))","v":{"$error":"#REF!"}}]
[45,-1,"#23","Robert Richardson",13,-299,6,0,0,0,{"$f":"IF(ISNA(VLOOKUP(VALUE(RIGHT(C47,LEN(C47)-1)),'Entry List'!$B$2:$B$103,2,FALSE)),\"Not Entered\", VLOOKUP(VALUE(RIGHT(C47,LEN(C47)-1)),'Entry List'!$B$2:$B$103,2,FALSE))","v":{"$error":"#REF!"}}]
[46,-1,"#119","Randy Humphrey",10,-302,3,0,0,0,{"$f":"IF(ISNA(VLOOKUP(VALUE(RIGHT(C48,LEN(C48)-1)),'Entry List'!$B$2:$B$103,2,FALSE)),\"Not Entered\", VLOOKUP(VALUE(RIGHT(C48,LEN(C48)-1)),'Entry List'!$B$2:$B$103,2,FALSE))","v":"Not Entered"}]
[47,-1,"#7","Robby Gordon",6,-306,2,0,0,0,{"$f":"IF(ISNA(VLOOKUP(VALUE(RIGHT(C49,LEN(C49)-1)),'Entry List'!$B$2:$B$103,2,FALSE)),\"Not Entered\", VLOOKUP(VALUE(RIGHT(C49,LEN(C49)-1)),'Entry List'!$B$2:$B$103,2,FALSE))","v":{"$error":"#REF!"}}]
[48,-1,"#74","Vickie Compton",5,-307,3,0,0,0,{"$f":"IF(ISNA(VLOOKUP(VALUE(RIGHT(C50,LEN(C50)-1)),'Entry List'!$B$2:$B$103,2,FALSE)),\"Not Entered\", VLOOKUP(VALUE(RIGHT(C50,LEN(C50)-1)),'Entry List'!$B$2:$B$103,2,FALSE))","v":"Not Entered"}]
[49,-1,"#37","Larry Gunselman",2,-310,1,0,0,0,{"$f":"IF(ISNA(VLOOKUP(VALUE(RIGHT(C51,LEN(C51)-1)),'Entry List'!$B$2:$B$103,2,FALSE)),\"Not Entered\", VLOOKUP(VALUE(RIGHT(C51,LEN(C51)-1)),'Entry List'!$B$2:$B$103,2,FALSE))","v":{"$error":"#REF!"}}]
[50,-1,"#195","Bob Leavine",1,-311,1,0,0,0,{"$f":"IF(ISNA(VLOOKUP(VALUE(RIGHT(C52,LEN(C52)-1)),'Entry List'!$B$2:$B$103,2,FALSE)),\"Not Entered\", VLOOKUP(VALUE(RIGHT(C52,LEN(C52)-1)),'Entry List'!$B$2:$B$103,2,FALSE))","v":"Not Entered"}]
[51,-1,"#140","Michael Hillman",0,-312,0,0,0,0,{"$f":"IF(ISNA(VLOOKUP(VALUE(RIGHT(C57,LEN(C57)-1)),'Entry List'!$B$2:$B$103,2,FALSE)),\"Not Entered\", VLOOKUP(VALUE(RIGHT(C57,LEN(C57)-1)),'Entry List'!$B$2:$B$103,2,FALSE))","v":"Not Entered"}]
[52,-1,"#52","Kelly Owen",0,-312,0,0,0,0]
[53,"--","#179","Archie St Hilaire",0,-312,0,0,0,0]
[54,-2,"#97","Andrea Nemechek",0,-312,0,0,0,0]
[55,-2,"#109","Brack Maggard",0,-312,0,0,0,0]
[]
[]
[]
[]
[]
[]
[]
[]
[]
[]
[]
[]
[]
[]
[]
[]
[]
[]
[]
[]
[]
[]
[]
[]
[]
[]
[]
[]
[]
[]
["00",{"$f":"IF(ISNA(MATCH(\"#\"&A88,'Current Owner Standings (2)'!$C$3:$C$87,0)),99,MATCH(\"#\"&A88,'Current Owner Standings (2)'!$C$3:$C$87,0))","v":99},null,{"$f":"IF(ISNA(MATCH(\"#\"&C88,'Current Owner Standings (2)'!$C$2:$C$187,0)),99,MATCH(\"#\"&C88,'Current Owner Standings (2)'!$C$2:$C$187,0))","v":99}]
["01",{"$f":"IF(ISNA(MATCH(\"#\"&A89,'Current Owner Standings (2)'!$C$3:$C$87,0)),99,MATCH(\"#\"&A89,'Current Owner Standings (2)'!$C$3:$C$87,0))","v":99}]
["02",{"$f":"IF(ISNA(MATCH(\"#\"&A90,'Current Owner Standings (2)'!$C$3:$C$87,0)),99,MATCH(\"#\"&A90,'Current Owner Standings (2)'!$C$3:$C$87,0))","v":99}]
["03",{"$f":"IF(ISNA(MATCH(\"#\"&A91,'Current Owner Standings (2)'!$C$3:$C$87,0)),99,MATCH(\"#\"&A91,'Current Owner Standings (2)'!$C$3:$C$87,0))","v":99}]
["04",{"$f":"IF(ISNA(MATCH(\"#\"&A92,'Current Owner Standings (2)'!$C$3:$C$87,0)),99,MATCH(\"#\"&A92,'Current Owner Standings (2)'!$C$3:$C$87,0))","v":99}]
["05",{"$f":"IF(ISNA(MATCH(\"#\"&A93,'Current Owner Standings (2)'!$C$3:$C$87,0)),99,MATCH(\"#\"&A93,'Current Owner Standings (2)'!$C$3:$C$87,0))","v":99}]
["06",{"$f":"IF(ISNA(MATCH(\"#\"&A94,'Current Owner Standings (2)'!$C$3:$C$87,0)),99,MATCH(\"#\"&A94,'Current Owner Standings (2)'!$C$3:$C$87,0))","v":99}]
["07",{"$f":"IF(ISNA(MATCH(\"#\"&A95,'Current Owner Standings (2)'!$C$3:$C$87,0)),99,MATCH(\"#\"&A95,'Current Owner Standings (2)'!$C$3:$C$87,0))","v":99}]
["08",{"$f":"IF(ISNA(MATCH(\"#\"&A96,'Current Owner Standings (2)'!$C$3:$C$87,0)),99,MATCH(\"#\"&A96,'Current Owner Standings (2)'!$C$3:$C$87,0))","v":99}]
["09",{"$f":"IF(ISNA(MATCH(\"#\"&A97,'Current Owner Standings (2)'!$C$3:$C$87,0)),99,MATCH(\"#\"&A97,'Current Owner Standings (2)'!$C$3:$C$87,0))","v":99}]
[1,{"$f":"IF(ISNA(MATCH(\"#\"&A98,'Current Owner Standings (2)'!$C$3:$C$87,0)),99,MATCH(\"#\"&A98,'Current Owner Standings (2)'!$C$3:$C$87,0))","v":20}]
[2,{"$f":"IF(ISNA(MATCH(\"#\"&A99,'Current Owner Standings (2)'!$C$3:$C$87,0)),99,MATCH(\"#\"&A99,'Current Owner Standings (2)'!$C$3:$C$87,0))","v":16}]
[3,{"$f":"IF(ISNA(MATCH(\"#\"&A100,'Current Owner Standings (2)'!$C$3:$C$87,0)),99,MATCH(\"#\"&A100,'Current Owner Standings (2)'!$C$3:$C$87,0))","v":99}]
[4,{"$f":"IF(ISNA(MATCH(\"#\"&A101,'Current Owner Standings (2)'!$C$3:$C$87,0)),99,MATCH(\"#\"&A101,'Current Owner Standings (2)'!$C$3:$C$87,0))","v":99}]
[5,{"$f":"IF(ISNA(MATCH(\"#\"&A102,'Current Owner Standings (2)'!$C$3:$C$87,0)),99,MATCH(\"#\"&A102,'Current Owner Standings (2)'!$C$3:$C$87,0))","v":26}]
[6,{"$f":"IF(ISNA(MATCH(\"#\"&A103,'Current Owner Standings (2)'!$C$3:$C$87,0)),99,MATCH(\"#\"&A103,'Current Owner Standings (2)'!$C$3:$C$87,0))","v":99}]
[7,{"$f":"IF(ISNA(MATCH(\"#\"&A104,'Current Owner Standings (2)'!$C$3:$C$87,0)),99,MATCH(\"#\"&A104,'Current Owner Standings (2)'!$C$3:$C$87,0))","v":47}]
[8,{"$f":"IF(ISNA(MATCH(\"#\"&A105,'Current Owner Standings (2)'!$C$3:$C$87,0)),99,MATCH(\"#\"&A105,'Current Owner Standings (2)'!$C$3:$C$87,0))","v":99}]
[9,{"$f":"IF(ISNA(MATCH(\"#\"&A106,'Current Owner Standings (2)'!$C$3:$C$87,0)),99,MATCH(\"#\"&A106,'Current Owner Standings (2)'!$C$3:$C$87,0))","v":22}]
[10,{"$f":"IF(ISNA(MATCH(\"#\"&A107,'Current Owner Standings (2)'!$C$3:$C$87,0)),99,MATCH(\"#\"&A107,'Current Owner Standings (2)'!$C$3:$C$87,0))","v":34}]
[11,{"$f":"IF(ISNA(MATCH(\"#\"&A108,'Current Owner Standings (2)'!$C$3:$C$87,0)),99,MATCH(\"#\"&A108,'Current Owner Standings (2)'!$C$3:$C$87,0))","v":5}]
[12,{"$f":"IF(ISNA(MATCH(\"#\"&A109,'Current Owner Standings (2)'!$C$3:$C$87,0)),99,MATCH(\"#\"&A109,'Current Owner Standings (2)'!$C$3:$C$87,0))","v":44}]
[13,{"$f":"IF(ISNA(MATCH(\"#\"&A110,'Current Owner Standings (2)'!$C$3:$C$87,0)),99,MATCH(\"#\"&A110,'Current Owner Standings (2)'!$C$3:$C$87,0))","v":28}]
[14,{"$f":"IF(ISNA(MATCH(\"#\"&A111,'Current Owner Standings (2)'!$C$3:$C$87,0)),99,MATCH(\"#\"&A111,'Current Owner Standings (2)'!$C$3:$C$87,0))","v":8}]
[15,{"$f":"IF(ISNA(MATCH(\"#\"&A112,'Current Owner Standings (2)'!$C$3:$C$87,0)),99,MATCH(\"#\"&A112,'Current Owner Standings (2)'!$C$3:$C$87,0))","v":12}]
[16,{"$f":"IF(ISNA(MATCH(\"#\"&A113,'Current Owner Standings (2)'!$C$3:$C$87,0)),99,MATCH(\"#\"&A113,'Current Owner Standings (2)'!$C$3:$C$87,0))","v":1}]
[17,{"$f":"IF(ISNA(MATCH(\"#\"&A114,'Current Owner Standings (2)'!$C$3:$C$87,0)),99,MATCH(\"#\"&A114,'Current Owner Standings (2)'!$C$3:$C$87,0))","v":3}]
[18,{"$f":"IF(ISNA(MATCH(\"#\"&A115,'Current Owner Standings (2)'!$C$3:$C$87,0)),99,MATCH(\"#\"&A115,'Current Owner Standings (2)'!$C$3:$C$87,0))","v":14}]
[19,{"$f":"IF(ISNA(MATCH(\"#\"&A116,'Current Owner Standings (2)'!$C$3:$C$87,0)),99,MATCH(\"#\"&A116,'Current Owner Standings (2)'!$C$3:$C$87,0))","v":99}]
[20,{"$f":"IF(ISNA(MATCH(\"#\"&A117,'Current Owner Standings (2)'!$C$3:$C$87,0)),99,MATCH(\"#\"&A117,'Current Owner Standings (2)'!$C$3:$C$87,0))","v":13}]
[21,{"$f":"IF(ISNA(MATCH(\"#\"&A118,'Current Owner Standings (2)'!$C$3:$C$87,0)),99,MATCH(\"#\"&A118,'Current Owner Standings (2)'!$C$3:$C$87,0))","v":39}]
[22,{"$f":"IF(ISNA(MATCH(\"#\"&A119,'Current Owner Standings (2)'!$C$3:$C$87,0)),99,MATCH(\"#\"&A119,'Current Owner Standings (2)'!$C$3:$C$87,0))","v":24}]
[23,{"$f":"IF(ISNA(MATCH(\"#\"&A120,'Current Owner Standings (2)'!$C$3:$C$87,0)),99,MATCH(\"#\"&A120,'Current Owner Standings (2)'!$C$3:$C$87,0))","v":45}]
[24,{"$f":"IF(ISNA(MATCH(\"#\"&A121,'Current Owner Standings (2)'!$C$3:$C$87,0)),99,MATCH(\"#\"&A121,'Current Owner Standings (2)'!$C$3:$C$87,0))","v":19}]
[25,{"$f":"IF(ISNA(MATCH(\"#\"&A122,'Current Owner Standings (2)'!$C$3:$C$87,0)),99,MATCH(\"#\"&A122,'Current Owner Standings (2)'!$C$3:$C$87,0))","v":99}]
[26,{"$f":"IF(ISNA(MATCH(\"#\"&A123,'Current Owner Standings (2)'!$C$3:$C$87,0)),99,MATCH(\"#\"&A123,'Current Owner Standings (2)'!$C$3:$C$87,0))","v":40}]
[27,{"$f":"IF(ISNA(MATCH(\"#\"&A124,'Current Owner Standings (2)'!$C$3:$C$87,0)),99,MATCH(\"#\"&A124,'Current Owner Standings (2)'!$C$3:$C$87,0))","v":15}]
[28,{"$f":"IF(ISNA(MATCH(\"#\"&A125,'Current Owner Standings (2)'!$C$3:$C$87,0)),99,MATCH(\"#\"&A125,'Current Owner Standings (2)'!$C$3:$C$87,0))","v":99}]
[29,{"$f":"IF(ISNA(MATCH(\"#\"&A126,'Current Owner Standings (2)'!$C$3:$C$87,0)),99,MATCH(\"#\"&A126,'Current Owner Standings (2)'!$C$3:$C$87,0))","v":6}]
[30,{"$f":"IF(ISNA(MATCH(\"#\"&A127,'Current Owner Standings (2)'!$C$3:$C$87,0)),99,MATCH(\"#\"&A127,'Current Owner Standings (2)'!$C$3:$C$87,0))","v":38}]
[31,{"$f":"IF(ISNA(MATCH(\"#\"&A128,'Current Owner Standings (2)'!$C$3:$C$87,0)),99,MATCH(\"#\"&A128,'Current Owner Standings (2)'!$C$3:$C$87,0))","v":18}]
[32,{"$f":"IF(ISNA(MATCH(\"#\"&A129,'Current Owner Standings (2)'!$C$3:$C$87,0)),99,MATCH(\"#\"&A129,'Current Owner Standings (2)'!$C$3:$C$87,0))","v":32}]
[33,{"$f":"IF(ISNA(MATCH(\"#\"&A130,'Current Owner Standings (2)'!$C$3:$C$87,0)),99,MATCH(\"#\"&A130,'Current Owner Standings (2)'!$C$3:$C$87,0))","v":36}]
[34,{"$f":"IF(ISNA(MATCH(\"#\"&A131,'Current Owner Standings (2)'!$C$3:$C$87,0)),99,MATCH(\"#\"&A131,'Current Owner Standings (2)'!$C$3:$C$87,0))","v":30}]
[35,{"$f":"IF(ISNA(MATCH(\"#\"&A132,'Current Owner Standings (2)'!$C$3:$C$87,0)),99,MATCH(\"#\"&A132,'Current Owner Standings (2)'!$C$3:$C$87,0))","v":99}]
[36,{"$f":"IF(ISNA(MATCH(\"#\"&A133,'Current Owner Standings (2)'!$C$3:$C$87,0)),99,MATCH(\"#\"&A133,'Current Owner Standings (2)'!$C$3:$C$87,0))","v":33}]
[37,{"$f":"IF(ISNA(MATCH(\"#\"&A134,'Current Owner Standings (2)'!$C$3:$C$87,0)),99,MATCH(\"#\"&A134,'Current Owner Standings (2)'!$C$3:$C$87,0))","v":49}]
[38,{"$f":"IF(ISNA(MATCH(\"#\"&A135,'Current Owner Standings (2)'!$C$3:$C$87,0)),99,MATCH(\"#\"&A135,'Current Owner Standings (2)'!$C$3:$C$87,0))","v":29}]
[39,{"$f":"IF(ISNA(MATCH(\"#\"&A136,'Current Owner Standings (2)'!$C$3:$C$87,0)),99,MATCH(\"#\"&A136,'Current Owner Standings (2)'!$C$3:$C$87,0))","v":10}]
[40,{"$f":"IF(ISNA(MATCH(\"#\"&A137,'Current Owner Standings (2)'!$C$3:$C$87,0)),99,MATCH(\"#\"&A137,'Current Owner Standings (2)'!$C$3:$C$87,0))","v":99}]
[41,{"$f":"IF(ISNA(MATCH(\"#\"&A138,'Current Owner Standings (2)'!$C$3:$C$87,0)),99,MATCH(\"#\"&A138,'Current Owner Standings (2)'!$C$3:$C$87,0))","v":99}]
[42,{"$f":"IF(ISNA(MATCH(\"#\"&A139,'Current Owner Standings (2)'!$C$3:$C$87,0)),99,MATCH(\"#\"&A139,'Current Owner Standings (2)'!$C$3:$C$87,0))","v":17}]
[43,{"$f":"IF(ISNA(MATCH(\"#\"&A140,'Current Owner Standings (2)'!$C$3:$C$87,0)),99,MATCH(\"#\"&A140,'Current Owner Standings (2)'!$C$3:$C$87,0))","v":21}]
[44,{"$f":"IF(ISNA(MATCH(\"#\"&A141,'Current Owner Standings (2)'!$C$3:$C$87,0)),99,MATCH(\"#\"&A141,'Current Owner Standings (2)'!$C$3:$C$87,0))","v":99}]
[45,{"$f":"IF(ISNA(MATCH(\"#\"&A142,'Current Owner Standings (2)'!$C$3:$C$87,0)),99,MATCH(\"#\"&A142,'Current Owner Standings (2)'!$C$3:$C$87,0))","v":99}]
[46,{"$f":"IF(ISNA(MATCH(\"#\"&A143,'Current Owner Standings (2)'!$C$3:$C$87,0)),99,MATCH(\"#\"&A143,'Current Owner Standings (2)'!$C$3:$C$87,0))","v":99}]
[47,{"$f":"IF(ISNA(MATCH(\"#\"&A144,'Current Owner Standings (2)'!$C$3:$C$87,0)),99,MATCH(\"#\"&A144,'Current Owner Standings (2)'!$C$3:$C$87,0))","v":27}]
[48,{"$f":"IF(ISNA(MATCH(\"#\"&A145,'Current Owner Standings (2)'!$C$3:$C$87,0)),99,MATCH(\"#\"&A145,'Current Owner Standings (2)'!$C$3:$C$87,0))","v":7}]
[49,{"$f":"IF(ISNA(MATCH(\"#\"&A146,'Current Owner Standings (2)'!$C$3:$C$87,0)),99,MATCH(\"#\"&A146,'Current Owner Standings (2)'!$C$3:$C$87,0))","v":99}]
[50,{"$f":"IF(ISNA(MATCH(\"#\"&A147,'Current Owner Standings (2)'!$C$3:$C$87,0)),99,MATCH(\"#\"&A147,'Current Owner Standings (2)'!$C$3:$C$87,0))","v":99}]
[51,{"$f":"IF(ISNA(MATCH(\"#\"&A148,'Current Owner Standings (2)'!$C$3:$C$87,0)),99,MATCH(\"#\"&A148,'Current Owner Standings (2)'!$C$3:$C$87,0))","v":25}]
[52,{"$f":"IF(ISNA(MATCH(\"#\"&A149,'Current Owner Standings (2)'!$C$3:$C$87,0)),99,MATCH(\"#\"&A149,'Current Owner Standings (2)'!$C$3:$C$87,0))","v":52}]
[53,{"$f":"IF(ISNA(MATCH(\"#\"&A150,'Current Owner Standings (2)'!$C$3:$C$87,0)),99,MATCH(\"#\"&A150,'Current Owner Standings (2)'!$C$3:$C$87,0))","v":99}]
[54,{"$f":"IF(ISNA(MATCH(\"#\"&A151,'Current Owner Standings (2)'!$C$3:$C$87,0)),99,MATCH(\"#\"&A151,'Current Owner Standings (2)'!$C$3:$C$87,0))","v":99}]
[55,{"$f":"IF(ISNA(MATCH(\"#\"&A152,'Current Owner Standings (2)'!$C$3:$C$87,0)),99,MATCH(\"#\"&A152,'Current Owner Standings (2)'!$C$3:$C$87,0))","v":11}]
[56,{"$f":"IF(ISNA(MATCH(\"#\"&A153,'Current Owner Standings (2)'!$C$3:$C$87,0)),99,MATCH(\"#\"&A153,'Current Owner Standings (2)'!$C$3:$C$87,0))","v":2}]
[57,{"$f":"IF(ISNA(MATCH(\"#\"&A154,'Current Owner Standings (2)'!$C$3:$C$87,0)),99,MATCH(\"#\"&A154,'Current Owner Standings (2)'!$C$3:$C$87,0))","v":99}]
[58,{"$f":"IF(ISNA(MATCH(\"#\"&A155,'Current Owner Standings (2)'!$C$3:$C$87,0)),99,MATCH(\"#\"&A155,'Current Owner Standings (2)'!$C$3:$C$87,0))","v":99}]
[59,{"$f":"IF(ISNA(MATCH(\"#\"&A156,'Current Owner Standings (2)'!$C$3:$C$87,0)),99,MATCH(\"#\"&A156,'Current Owner Standings (2)'!$C$3:$C$87,0))","v":99}]
[60,{"$f":"IF(ISNA(MATCH(\"#\"&A157,'Current Owner Standings (2)'!$C$3:$C$87,0)),99,MATCH(\"#\"&A157,'Current Owner Standings (2)'!$C$3:$C$87,0))","v":99}]
[61,{"$f":"IF(ISNA(MATCH(\"#\"&A158,'Current Owner Standings (2)'!$C$3:$C$87,0)),99,MATCH(\"#\"&A158,'Current Owner Standings (2)'!$C$3:$C$87,0))","v":99}]
[62,{"$f":"IF(ISNA(MATCH(\"#\"&A159,'Current Owner Standings (2)'!$C$3:$C$87,0)),99,MATCH(\"#\"&A159,'Current Owner Standings (2)'!$C$3:$C$87,0))","v":99}]
[63,{"$f":"IF(ISNA(MATCH(\"#\"&A160,'Current Owner Standings (2)'!$C$3:$C$87,0)),99,MATCH(\"#\"&A160,'Current Owner Standings (2)'!$C$3:$C$87,0))","v":99}]
[64,{"$f":"IF(ISNA(MATCH(\"#\"&A161,'Current Owner Standings (2)'!$C$3:$C$87,0)),99,MATCH(\"#\"&A161,'Current Owner Standings (2)'!$C$3:$C$87,0))","v":99}]
[65,{"$f":"IF(ISNA(MATCH(\"#\"&A162,'Current Owner Standings (2)'!$C$3:$C$87,0)),99,MATCH(\"#\"&A162,'Current Owner Standings (2)'!$C$3:$C$87,0))","v":99}]
[66,{"$f":"IF(ISNA(MATCH(\"#\"&A163,'Current Owner Standings (2)'!$C$3:$C$87,0)),99,MATCH(\"#\"&A163,'Current Owner Standings (2)'!$C$3:$C$87,0))","v":99}]
[67,{"$f":"IF(ISNA(MATCH(\"#\"&A164,'Current Owner Standings (2)'!$C$3:$C$87,0)),99,MATCH(\"#\"&A164,'Current Owner Standings (2)'!$C$3:$C$87,0))","v":99}]
[68,{"$f":"IF(ISNA(MATCH(\"#\"&A165,'Current Owner Standings (2)'!$C$3:$C$87,0)),99,MATCH(\"#\"&A165,'Current Owner Standings (2)'!$C$3:$C$87,0))","v":99}]
[69,{"$f":"IF(ISNA(MATCH(\"#\"&A166,'Current Owner Standings (2)'!$C$3:$C$87,0)),99,MATCH(\"#\"&A166,'Current Owner Standings (2)'!$C$3:$C$87,0))","v":99}]
[70,{"$f":"IF(ISNA(MATCH(\"#\"&A167,'Current Owner Standings (2)'!$C$3:$C$87,0)),99,MATCH(\"#\"&A167,'Current Owner Standings (2)'!$C$3:$C$87,0))","v":99}]
[71,{"$f":"IF(ISNA(MATCH(\"#\"&A168,'Current Owner Standings (2)'!$C$3:$C$87,0)),99,MATCH(\"#\"&A168,'Current Owner Standings (2)'!$C$3:$C$87,0))","v":99}]
[72,{"$f":"IF(ISNA(MATCH(\"#\"&A169,'Current Owner Standings (2)'!$C$3:$C$87,0)),99,MATCH(\"#\"&A169,'Current Owner Standings (2)'!$C$3:$C$87,0))","v":99}]
[73,{"$f":"IF(ISNA(MATCH(\"#\"&A170,'Current Owner Standings (2)'!$C$3:$C$87,0)),99,MATCH(\"#\"&A170,'Current Owner Standings (2)'!$C$3:$C$87,0))","v":99}]
[74,{"$f":"IF(ISNA(MATCH(\"#\"&A171,'Current Owner Standings (2)'!$C$3:$C$87,0)),99,MATCH(\"#\"&A171,'Current Owner Standings (2)'!$C$3:$C$87,0))","v":48}]
[75,{"$f":"IF(ISNA(MATCH(\"#\"&A172,'Current Owner Standings (2)'!$C$3:$C$87,0)),99,MATCH(\"#\"&A172,'Current Owner Standings (2)'!$C$3:$C$87,0))","v":99}]
[76,{"$f":"IF(ISNA(MATCH(\"#\"&A173,'Current Owner Standings (2)'!$C$3:$C$87,0)),99,MATCH(\"#\"&A173,'Current Owner Standings (2)'!$C$3:$C$87,0))","v":99}]
[77,{"$f":"IF(ISNA(MATCH(\"#\"&A174,'Current Owner Standings (2)'!$C$3:$C$87,0)),99,MATCH(\"#\"&A174,'Current Owner Standings (2)'!$C$3:$C$87,0))","v":99}]
[78,{"$f":"IF(ISNA(MATCH(\"#\"&A175,'Current Owner Standings (2)'!$C$3:$C$87,0)),99,MATCH(\"#\"&A175,'Current Owner Standings (2)'!$C$3:$C$87,0))","v":23}]
[79,{"$f":"IF(ISNA(MATCH(\"#\"&A176,'Current Owner Standings (2)'!$C$3:$C$87,0)),99,MATCH(\"#\"&A176,'Current Owner Standings (2)'!$C$3:$C$87,0))","v":99}]
[80,{"$f":"IF(ISNA(MATCH(\"#\"&A177,'Current Owner Standings (2)'!$C$3:$C$87,0)),99,MATCH(\"#\"&A177,'Current Owner Standings (2)'!$C$3:$C$87,0))","v":99}]
[81,{"$f":"IF(ISNA(MATCH(\"#\"&A178,'Current Owner Standings (2)'!$C$3:$C$87,0)),99,MATCH(\"#\"&A178,'Current Owner Standings (2)'!$C$3:$C$87,0))","v":99}]
[82,{"$f":"IF(ISNA(MATCH(\"#\"&A179,'Current Owner Standings (2)'!$C$3:$C$87,0)),99,MATCH(\"#\"&A179,'Current Owner Standings (2)'!$C$3:$C$87,0))","v":99}]
[83,{"$f":"IF(ISNA(MATCH(\"#\"&A180,'Current Owner Standings (2)'!$C$3:$C$87,0)),99,MATCH(\"#\"&A180,'Current Owner Standings (2)'!$C$3:$C$87,0))","v":35}]
[84,{"$f":"IF(ISNA(MATCH(\"#\"&A181,'Current Owner Standings (2)'!$C$3:$C$87,0)),99,MATCH(\"#\"&A181,'Current Owner Standings (2)'!$C$3:$C$87,0))","v":99}]
[85,{"$f":"IF(ISNA(MATCH(\"#\"&A182,'Current Owner Standings (2)'!$C$3:$C$87,0)),99,MATCH(\"#\"&A182,'Current Owner Standings (2)'!$C$3:$C$87,0))","v":99}]
[86,{"$f":"IF(ISNA(MATCH(\"#\"&A183,'Current Owner Standings (2)'!$C$3:$C$87,0)),99,MATCH(\"#\"&A183,'Current Owner Standings (2)'!$C$3:$C$87,0))","v":99}]
[87,{"$f":"IF(ISNA(MATCH(\"#\"&A184,'Current Owner Standings (2)'!$C$3:$C$87,0)),99,MATCH(\"#\"&A184,'Current Owner Standings (2)'!$C$3:$C$87,0))","v":42}]
[88,{"$f":"IF(ISNA(MATCH(\"#\"&A185,'Current Owner Standings (2)'!$C$3:$C$87,0)),99,MATCH(\"#\"&A185,'Current Owner Standings (2)'!$C$3:$C$87,0))","v":4}]
[89,{"$f":"IF(ISNA(MATCH(\"#\"&A186,'Current Owner Standings (2)'!$C$3:$C$87,0)),99,MATCH(\"#\"&A186,'Current Owner Standings (2)'!$C$3:$C$87,0))","v":99}]
[90,{"$f":"IF(ISNA(MATCH(\"#\"&A187,'Current Owner Standings (2)'!$C$3:$C$87,0)),99,MATCH(\"#\"&A187,'Current Owner Standings (2)'!$C$3:$C$87,0))","v":99}]
[91,{"$f":"IF(ISNA(MATCH(\"#\"&A188,'Current Owner Standings (2)'!$C$3:$C$87,0)),99,MATCH(\"#\"&A188,'Current Owner Standings (2)'!$C$3:$C$87,0))","v":99}]
[92,{"$f":"IF(ISNA(MATCH(\"#\"&A189,'Current Owner Standings (2)'!$C$3:$C$87,0)),99,MATCH(\"#\"&A189,'Current Owner Standings (2)'!$C$3:$C$87,0))","v":99}]
[93,{"$f":"IF(ISNA(MATCH(\"#\"&A190,'Current Owner Standings (2)'!$C$3:$C$87,0)),99,MATCH(\"#\"&A190,'Current Owner Standings (2)'!$C$3:$C$87,0))","v":31}]
[94,{"$f":"IF(ISNA(MATCH(\"#\"&A191,'Current Owner Standings (2)'!$C$3:$C$87,0)),99,MATCH(\"#\"&A191,'Current Owner Standings (2)'!$C$3:$C$87,0))","v":99}]
[95,{"$f":"IF(ISNA(MATCH(\"#\"&A192,'Current Owner Standings (2)'!$C$3:$C$87,0)),99,MATCH(\"#\"&A192,'Current Owner Standings (2)'!$C$3:$C$87,0))","v":99}]
[96,{"$f":"IF(ISNA(MATCH(\"#\"&A193,'Current Owner Standings (2)'!$C$3:$C$87,0)),99,MATCH(\"#\"&A193,'Current Owner Standings (2)'!$C$3:$C$87,0))","v":99}]
[97,{"$f":"IF(ISNA(MATCH(\"#\"&A194,'Current Owner Standings (2)'!$C$3:$C$87,0)),99,MATCH(\"#\"&A194,'Current Owner Standings (2)'!$C$3:$C$87,0))","v":54}]
[98,{"$f":"IF(ISNA(MATCH(\"#\"&A195,'Current Owner Standings (2)'!$C$3:$C$87,0)),99,MATCH(\"#\"&A195,'Current Owner Standings (2)'!$C$3:$C$87,0))","v":41}]
[99,{"$f":"IF(ISNA(MATCH(\"#\"&A196,'Current Owner Standings (2)'!$C$3:$C$87,0)),99,MATCH(\"#\"&A196,'Current Owner Standings (2)'!$C$3:$C$87,0))","v":9}]
[100,{"$f":"IF(ISNA(MATCH(\"#\"&A197,'Current Owner Standings (2)'!$C$3:$C$87,0)),99,MATCH(\"#\"&A197,'Current Owner Standings (2)'!$C$3:$C$87,0))","v":99}]
[101,{"$f":"IF(ISNA(MATCH(\"#\"&A198,'Current Owner Standings (2)'!$C$3:$C$87,0)),99,MATCH(\"#\"&A198,'Current Owner Standings (2)'!$C$3:$C$87,0))","v":99}]
[102,{"$f":"IF(ISNA(MATCH(\"#\"&A199,'Current Owner Standings (2)'!$C$3:$C$87,0)),99,MATCH(\"#\"&A199,'Current Owner Standings (2)'!$C$3:$C$87,0))","v":99}]
[103,{"$f":"IF(ISNA(MATCH(\"#\"&A200,'Current Owner Standings (2)'!$C$3:$C$87,0)),99,MATCH(\"#\"&A200,'Current Owner Standings (2)'!$C$3:$C$87,0))","v":99}]
[104,{"$f":"IF(ISNA(MATCH(\"#\"&A201,'Current Owner Standings (2)'!$C$3:$C$87,0)),99,MATCH(\"#\"&A201,'Current Owner Standings (2)'!$C$3:$C$87,0))","v":99}]
[105,{"$f":"IF(ISNA(MATCH(\"#\"&A202,'Current Owner Standings (2)'!$C$3:$C$87,0)),99,MATCH(\"#\"&A202,'Current Owner Standings (2)'!$C$3:$C$87,0))","v":99}]
[106,{"$f":"IF(ISNA(MATCH(\"#\"&A203,'Current Owner Standings (2)'!$C$3:$C$87,0)),99,MATCH(\"#\"&A203,'Current Owner Standings (2)'!$C$3:$C$87,0))","v":99}]
[107,{"$f":"IF(ISNA(MATCH(\"#\"&A204,'Current Owner Standings (2)'!$C$3:$C$87,0)),99,MATCH(\"#\"&A204,'Current Owner Standings (2)'!$C$3:$C$87,0))","v":99}]
[108,{"$f":"IF(ISNA(MATCH(\"#\"&A205,'Current Owner Standings (2)'!$C$3:$C$87,0)),99,MATCH(\"#\"&A205,'Current Owner Standings (2)'!$C$3:$C$87,0))","v":99}]
[109,{"$f":"IF(ISNA(MATCH(\"#\"&A206,'Current Owner Standings (2)'!$C$3:$C$87,0)),99,MATCH(\"#\"&A206,'Current Owner Standings (2)'!$C$3:$C$87,0))","v":55}]
[110,{"$f":"IF(ISNA(MATCH(\"#\"&A207,'Current Owner Standings (2)'!$C$3:$C$87,0)),99,MATCH(\"#\"&A207,'Current Owner Standings (2)'!$C$3:$C$87,0))","v":99}]
[111,{"$f":"IF(ISNA(MATCH(\"#\"&A208,'Current Owner Standings (2)'!$C$3:$C$87,0)),99,MATCH(\"#\"&A208,'Current Owner Standings (2)'!$C$3:$C$87,0))","v":99}]
[112,{"$f":"IF(ISNA(MATCH(\"#\"&A209,'Current Owner Standings (2)'!$C$3:$C$87,0)),99,MATCH(\"#\"&A209,'Current Owner Standings (2)'!$C$3:$C$87,0))","v":99}]
[113,{"$f":"IF(ISNA(MATCH(\"#\"&A210,'Current Owner Standings (2)'!$C$3:$C$87,0)),99,MATCH(\"#\"&A210,'Current Owner Standings (2)'!$C$3:$C$87,0))","v":99}]
[114,{"$f":"IF(ISNA(MATCH(\"#\"&A211,'Current Owner Standings (2)'!$C$3:$C$87,0)),99,MATCH(\"#\"&A211,'Current Owner Standings (2)'!$C$3:$C$87,0))","v":99}]
[115,{"$f":"IF(ISNA(MATCH(\"#\"&A212,'Current Owner Standings (2)'!$C$3:$C$87,0)),99,MATCH(\"#\"&A212,'Current Owner Standings (2)'!$C$3:$C$87,0))","v":99}]
[116,{"$f":"IF(ISNA(MATCH(\"#\"&A213,'Current Owner Standings (2)'!$C$3:$C$87,0)),99,MATCH(\"#\"&A213,'Current Owner Standings (2)'!$C$3:$C$87,0))","v":99}]
[117,{"$f":"IF(ISNA(MATCH(\"#\"&A214,'Current Owner Standings (2)'!$C$3:$C$87,0)),99,MATCH(\"#\"&A214,'Current Owner Standings (2)'!$C$3:$C$87,0))","v":99}]
[118,{"$f":"IF(ISNA(MATCH(\"#\"&A215,'Current Owner Standings (2)'!$C$3:$C$87,0)),99,MATCH(\"#\"&A215,'Current Owner Standings (2)'!$C$3:$C$87,0))","v":99}]
[119,{"$f":"IF(ISNA(MATCH(\"#\"&A216,'Current Owner Standings (2)'!$C$3:$C$87,0)),99,MATCH(\"#\"&A216,'Current Owner Standings (2)'!$C$3:$C$87,0))","v":46}]
[120,{"$f":"IF(ISNA(MATCH(\"#\"&A217,'Current Owner Standings (2)'!$C$3:$C$87,0)),99,MATCH(\"#\"&A217,'Current Owner Standings (2)'!$C$3:$C$87,0))","v":99}]
[121,{"$f":"IF(ISNA(MATCH(\"#\"&A218,'Current Owner Standings (2)'!$C$3:$C$87,0)),99,MATCH(\"#\"&A218,'Current Owner Standings (2)'!$C$3:$C$87,0))","v":99}]
[122,{"$f":"IF(ISNA(MATCH(\"#\"&A219,'Current Owner Standings (2)'!$C$3:$C$87,0)),99,MATCH(\"#\"&A219,'Current Owner Standings (2)'!$C$3:$C$87,0))","v":99}]
[123,{"$f":"IF(ISNA(MATCH(\"#\"&A220,'Current Owner Standings (2)'!$C$3:$C$87,0)),99,MATCH(\"#\"&A220,'Current Owner Standings (2)'!$C$3:$C$87,0))","v":99}]
[124,{"$f":"IF(ISNA(MATCH(\"#\"&A221,'Current Owner Standings (2)'!$C$3:$C$87,0)),99,MATCH(\"#\"&A221,'Current Owner Standings (2)'!$C$3:$C$87,0))","v":99}]
[125,{"$f":"IF(ISNA(MATCH(\"#\"&A222,'Current Owner Standings (2)'!$C$3:$C$87,0)),99,MATCH(\"#\"&A222,'Current Owner Standings (2)'!$C$3:$C$87,0))","v":99}]
[126,{"$f":"IF(ISNA(MATCH(\"#\"&A223,'Current Owner Standings (2)'!$C$3:$C$87,0)),99,MATCH(\"#\"&A223,'Current Owner Standings (2)'!$C$3:$C$87,0))","v":99}]
[127,{"$f":"IF(ISNA(MATCH(\"#\"&A224,'Current Owner Standings (2)'!$C$3:$C$87,0)),99,MATCH(\"#\"&A224,'Current Owner Standings (2)'!$C$3:$C$87,0))","v":99}]
[128,{"$f":"IF(ISNA(MATCH(\"#\"&A225,'Current Owner Standings (2)'!$C$3:$C$87,0)),99,MATCH(\"#\"&A225,'Current Owner Standings (2)'!$C$3:$C$87,0))","v":99}]
[129,{"$f":"IF(ISNA(MATCH(\"#\"&A226,'Current Owner Standings (2)'!$C$3:$C$87,0)),99,MATCH(\"#\"&A226,'Current Owner Standings (2)'!$C$3:$C$87,0))","v":99}]
[130,{"$f":"IF(ISNA(MATCH(\"#\"&A227,'Current Owner Standings (2)'!$C$3:$C$87,0)),99,MATCH(\"#\"&A227,'Current Owner Standings (2)'!$C$3:$C$87,0))","v":99}]
[131,{"$f":"IF(ISNA(MATCH(\"#\"&A228,'Current Owner Standings (2)'!$C$3:$C$87,0)),99,MATCH(\"#\"&A228,'Current Owner Standings (2)'!$C$3:$C$87,0))","v":99}]
[132,{"$f":"IF(ISNA(MATCH(\"#\"&A229,'Current Owner Standings (2)'!$C$3:$C$87,0)),99,MATCH(\"#\"&A229,'Current Owner Standings (2)'!$C$3:$C$87,0))","v":43}]
[133,{"$f":"IF(ISNA(MATCH(\"#\"&A230,'Current Owner Standings (2)'!$C$3:$C$87,0)),99,MATCH(\"#\"&A230,'Current Owner Standings (2)'!$C$3:$C$87,0))","v":99}]
[134,{"$f":"IF(ISNA(MATCH(\"#\"&A231,'Current Owner Standings (2)'!$C$3:$C$87,0)),99,MATCH(\"#\"&A231,'Current Owner Standings (2)'!$C$3:$C$87,0))","v":99}]
[135,{"$f":"IF(ISNA(MATCH(\"#\"&A232,'Current Owner Standings (2)'!$C$3:$C$87,0)),99,MATCH(\"#\"&A232,'Current Owner Standings (2)'!$C$3:$C$87,0))","v":99}]
[136,{"$f":"IF(ISNA(MATCH(\"#\"&A233,'Current Owner Standings (2)'!$C$3:$C$87,0)),99,MATCH(\"#\"&A233,'Current Owner Standings (2)'!$C$3:$C$87,0))","v":99}]
[137,{"$f":"IF(ISNA(MATCH(\"#\"&A234,'Current Owner Standings (2)'!$C$3:$C$87,0)),99,MATCH(\"#\"&A234,'Current Owner Standings (2)'!$C$3:$C$87,0))","v":99}]
[138,{"$f":"IF(ISNA(MATCH(\"#\"&A235,'Current Owner Standings (2)'!$C$3:$C$87,0)),99,MATCH(\"#\"&A235,'Current Owner Standings (2)'!$C$3:$C$87,0))","v":99}]
[139,{"$f":"IF(ISNA(MATCH(\"#\"&A236,'Current Owner Standings (2)'!$C$3:$C$87,0)),99,MATCH(\"#\"&A236,'Current Owner Standings (2)'!$C$3:$C$87,0))","v":99}]
[140,{"$f":"IF(ISNA(MATCH(\"#\"&A237,'Current Owner Standings (2)'!$C$3:$C$87,0)),99,MATCH(\"#\"&A237,'Current Owner Standings (2)'!$C$3:$C$87,0))","v":51}]
[141,{"$f":"IF(ISNA(MATCH(\"#\"&A238,'Current Owner Standings (2)'!$C$3:$C$87,0)),99,MATCH(\"#\"&A238,'Current Owner Standings (2)'!$C$3:$C$87,0))","v":99}]
[142,{"$f":"IF(ISNA(MATCH(\"#\"&A239,'Current Owner Standings (2)'!$C$3:$C$87,0)),99,MATCH(\"#\"&A239,'Current Owner Standings (2)'!$C$3:$C$87,0))","v":99}]
[143,{"$f":"IF(ISNA(MATCH(\"#\"&A240,'Current Owner Standings (2)'!$C$3:$C$87,0)),99,MATCH(\"#\"&A240,'Current Owner Standings (2)'!$C$3:$C$87,0))","v":99}]
[144,{"$f":"IF(ISNA(MATCH(\"#\"&A241,'Current Owner Standings (2)'!$C$3:$C$87,0)),99,MATCH(\"#\"&A241,'Current Owner Standings (2)'!$C$3:$C$87,0))","v":99}]
[145,{"$f":"IF(ISNA(MATCH(\"#\"&A242,'Current Owner Standings (2)'!$C$3:$C$87,0)),99,MATCH(\"#\"&A242,'Current Owner Standings (2)'!$C$3:$C$87,0))","v":99}]
[146,{"$f":"IF(ISNA(MATCH(\"#\"&A243,'Current Owner Standings (2)'!$C$3:$C$87,0)),99,MATCH(\"#\"&A243,'Current Owner Standings (2)'!$C$3:$C$87,0))","v":99}]
[147,{"$f":"IF(ISNA(MATCH(\"#\"&A244,'Current Owner Standings (2)'!$C$3:$C$87,0)),99,MATCH(\"#\"&A244,'Current Owner Standings (2)'!$C$3:$C$87,0))","v":99}]
[148,{"$f":"IF(ISNA(MATCH(\"#\"&A245,'Current Owner Standings (2)'!$C$3:$C$87,0)),99,MATCH(\"#\"&A245,'Current Owner Standings (2)'!$C$3:$C$87,0))","v":99}]
[149,{"$f":"IF(ISNA(MATCH(\"#\"&A246,'Current Owner Standings (2)'!$C$3:$C$87,0)),99,MATCH(\"#\"&A246,'Current Owner Standings (2)'!$C$3:$C$87,0))","v":99}]
[150,{"$f":"IF(ISNA(MATCH(\"#\"&A247,'Current Owner Standings (2)'!$C$3:$C$87,0)),99,MATCH(\"#\"&A247,'Current Owner Standings (2)'!$C$3:$C$87,0))","v":99}]
[151,{"$f":"IF(ISNA(MATCH(\"#\"&A248,'Current Owner Standings (2)'!$C$3:$C$87,0)),99,MATCH(\"#\"&A248,'Current Owner Standings (2)'!$C$3:$C$87,0))","v":99}]
[152,{"$f":"IF(ISNA(MATCH(\"#\"&A249,'Current Owner Standings (2)'!$C$3:$C$87,0)),99,MATCH(\"#\"&A249,'Current Owner Standings (2)'!$C$3:$C$87,0))","v":99}]
[153,{"$f":"IF(ISNA(MATCH(\"#\"&A250,'Current Owner Standings (2)'!$C$3:$C$87,0)),99,MATCH(\"#\"&A250,'Current Owner Standings (2)'!$C$3:$C$87,0))","v":99}]
[154,{"$f":"IF(ISNA(MATCH(\"#\"&A251,'Current Owner Standings (2)'!$C$3:$C$87,0)),99,MATCH(\"#\"&A251,'Current Owner Standings (2)'!$C$3:$C$87,0))","v":99}]
[155,{"$f":"IF(ISNA(MATCH(\"#\"&A252,'Current Owner Standings (2)'!$C$3:$C$87,0)),99,MATCH(\"#\"&A252,'Current Owner Standings (2)'!$C$3:$C$87,0))","v":99}]
[156,{"$f":"IF(ISNA(MATCH(\"#\"&A253,'Current Owner Standings (2)'!$C$3:$C$87,0)),99,MATCH(\"#\"&A253,'Current Owner Standings (2)'!$C$3:$C$87,0))","v":99}]
[157,{"$f":"IF(ISNA(MATCH(\"#\"&A254,'Current Owner Standings (2)'!$C$3:$C$87,0)),99,MATCH(\"#\"&A254,'Current Owner Standings (2)'!$C$3:$C$87,0))","v":99}]
[158,{"$f":"IF(ISNA(MATCH(\"#\"&A255,'Current Owner Standings (2)'!$C$3:$C$87,0)),99,MATCH(\"#\"&A255,'Current Owner Standings (2)'!$C$3:$C$87,0))","v":99}]
[159,{"$f":"IF(ISNA(MATCH(\"#\"&A256,'Current Owner Standings (2)'!$C$3:$C$87,0)),99,MATCH(\"#\"&A256,'Current Owner Standings (2)'!$C$3:$C$87,0))","v":99}]
[160,{"$f":"IF(ISNA(MATCH(\"#\"&A257,'Current Owner Standings (2)'!$C$3:$C$87,0)),99,MATCH(\"#\"&A257,'Current Owner Standings (2)'!$C$3:$C$87,0))","v":99}]
[161,{"$f":"IF(ISNA(MATCH(\"#\"&A258,'Current Owner Standings (2)'!$C$3:$C$87,0)),99,MATCH(\"#\"&A258,'Current Owner Standings (2)'!$C$3:$C$87,0))","v":99}]
[162,{"$f":"IF(ISNA(MATCH(\"#\"&A259,'Current Owner Standings (2)'!$C$3:$C$87,0)),99,MATCH(\"#\"&A259,'Current Owner Standings (2)'!$C$3:$C$87,0))","v":99}]
[163,{"$f":"IF(ISNA(MATCH(\"#\"&A260,'Current Owner Standings (2)'!$C$3:$C$87,0)),99,MATCH(\"#\"&A260,'Current Owner Standings (2)'!$C$3:$C$87,0))","v":99}]
[164,{"$f":"IF(ISNA(MATCH(\"#\"&A261,'Current Owner Standings (2)'!$C$3:$C$87,0)),99,MATCH(\"#\"&A261,'Current Owner Standings (2)'!$C$3:$C$87,0))","v":99}]
[165,{"$f":"IF(ISNA(MATCH(\"#\"&A262,'Current Owner Standings (2)'!$C$3:$C$87,0)),99,MATCH(\"#\"&A262,'Current Owner Standings (2)'!$C$3:$C$87,0))","v":99}]
[166,{"$f":"IF(ISNA(MATCH(\"#\"&A263,'Current Owner Standings (2)'!$C$3:$C$87,0)),99,MATCH(\"#\"&A263,'Current Owner Standings (2)'!$C$3:$C$87,0))","v":99}]
[167,{"$f":"IF(ISNA(MATCH(\"#\"&A264,'Current Owner Standings (2)'!$C$3:$C$87,0)),99,MATCH(\"#\"&A264,'Current Owner Standings (2)'!$C$3:$C$87,0))","v":99}]
[168,{"$f":"IF(ISNA(MATCH(\"#\"&A265,'Current Owner Standings (2)'!$C$3:$C$87,0)),99,MATCH(\"#\"&A265,'Current Owner Standings (2)'!$C$3:$C$87,0))","v":99}]
[169,{"$f":"IF(ISNA(MATCH(\"#\"&A266,'Current Owner Standings (2)'!$C$3:$C$87,0)),99,MATCH(\"#\"&A266,'Current Owner Standings (2)'!$C$3:$C$87,0))","v":99}]
[170,{"$f":"IF(ISNA(MATCH(\"#\"&A267,'Current Owner Standings (2)'!$C$3:$C$87,0)),99,MATCH(\"#\"&A267,'Current Owner Standings (2)'!$C$3:$C$87,0))","v":99}]
[171,{"$f":"IF(ISNA(MATCH(\"#\"&A268,'Current Owner Standings (2)'!$C$3:$C$87,0)),99,MATCH(\"#\"&A268,'Current Owner Standings (2)'!$C$3:$C$87,0))","v":99}]
[172,{"$f":"IF(ISNA(MATCH(\"#\"&A269,'Current Owner Standings (2)'!$C$3:$C$87,0)),99,MATCH(\"#\"&A269,'Current Owner Standings (2)'!$C$3:$C$87,0))","v":99}]
[173,{"$f":"IF(ISNA(MATCH(\"#\"&A270,'Current Owner Standings (2)'!$C$3:$C$87,0)),99,MATCH(\"#\"&A270,'Current Owner Standings (2)'!$C$3:$C$87,0))","v":99}]
[174,{"$f":"IF(ISNA(MATCH(\"#\"&A271,'Current Owner Standings (2)'!$C$3:$C$87,0)),99,MATCH(\"#\"&A271,'Current Owner Standings (2)'!$C$3:$C$87,0))","v":99}]
[175,{"$f":"IF(ISNA(MATCH(\"#\"&A272,'Current Owner Standings (2)'!$C$3:$C$87,0)),99,MATCH(\"#\"&A272,'Current Owner Standings (2)'!$C$3:$C$87,0))","v":99}]
[176,{"$f":"IF(ISNA(MATCH(\"#\"&A273,'Current Owner Standings (2)'!$C$3:$C$87,0)),99,MATCH(\"#\"&A273,'Current Owner Standings (2)'!$C$3:$C$87,0))","v":99}]
[177,{"$f":"IF(ISNA(MATCH(\"#\"&A274,'Current Owner Standings (2)'!$C$3:$C$87,0)),99,MATCH(\"#\"&A274,'Current Owner Standings (2)'!$C$3:$C$87,0))","v":99}]
[178,{"$f":"IF(ISNA(MATCH(\"#\"&A275,'Current Owner Standings (2)'!$C$3:$C$87,0)),99,MATCH(\"#\"&A275,'Current Owner Standings (2)'!$C$3:$C$87,0))","v":99}]
[179,{"$f":"IF(ISNA(MATCH(\"#\"&A276,'Current Owner Standings (2)'!$C$3:$C$87,0)),99,MATCH(\"#\"&A276,'Current Owner Standings (2)'!$C$3:$C$87,0))","v":53}]
[180,{"$f":"IF(ISNA(MATCH(\"#\"&A277,'Current Owner Standings (2)'!$C$3:$C$87,0)),99,MATCH(\"#\"&A277,'Current Owner Standings (2)'!$C$3:$C$87,0))","v":99}]
[181,{"$f":"IF(ISNA(MATCH(\"#\"&A278,'Current Owner Standings (2)'!$C$3:$C$87,0)),99,MATCH(\"#\"&A278,'Current Owner Standings (2)'!$C$3:$C$87,0))","v":99}]
[182,{"$f":"IF(ISNA(MATCH(\"#\"&A279,'Current Owner Standings (2)'!$C$3:$C$87,0)),99,MATCH(\"#\"&A279,'Current Owner Standings (2)'!$C$3:$C$87,0))","v":99}]
[183,{"$f":"IF(ISNA(MATCH(\"#\"&A280,'Current Owner Standings (2)'!$C$3:$C$87,0)),99,MATCH(\"#\"&A280,'Current Owner Standings (2)'!$C$3:$C$87,0))","v":99}]
[184,{"$f":"IF(ISNA(MATCH(\"#\"&A281,'Current Owner Standings (2)'!$C$3:$C$87,0)),99,MATCH(\"#\"&A281,'Current Owner Standings (2)'!$C$3:$C$87,0))","v":99}]
[185,{"$f":"IF(ISNA(MATCH(\"#\"&A282,'Current Owner Standings (2)'!$C$3:$C$87,0)),99,MATCH(\"#\"&A282,'Current Owner Standings (2)'!$C$3:$C$87,0))","v":99}]
[186,{"$f":"IF(ISNA(MATCH(\"#\"&A283,'Current Owner Standings (2)'!$C$3:$C$87,0)),99,MATCH(\"#\"&A283,'Current Owner Standings (2)'!$C$3:$C$87,0))","v":99}]
[187,{"$f":"IF(ISNA(MATCH(\"#\"&A284,'Current Owner Standings (2)'!$C$3:$C$87,0)),99,MATCH(\"#\"&A284,'Current Owner Standings (2)'!$C$3:$C$87,0))","v":99}]
[188,{"$f":"IF(ISNA(MATCH(\"#\"&A285,'Current Owner Standings (2)'!$C$3:$C$87,0)),99,MATCH(\"#\"&A285,'Current Owner Standings (2)'!$C$3:$C$87,0))","v":99}]
[189,{"$f":"IF(ISNA(MATCH(\"#\"&A286,'Current Owner Standings (2)'!$C$3:$C$87,0)),99,MATCH(\"#\"&A286,'Current Owner Standings (2)'!$C$3:$C$87,0))","v":99}]
[190,{"$f":"IF(ISNA(MATCH(\"#\"&A287,'Current Owner Standings (2)'!$C$3:$C$87,0)),99,MATCH(\"#\"&A287,'Current Owner Standings (2)'!$C$3:$C$87,0))","v":99}]
[191,{"$f":"IF(ISNA(MATCH(\"#\"&A288,'Current Owner Standings (2)'!$C$3:$C$87,0)),99,MATCH(\"#\"&A288,'Current Owner Standings (2)'!$C$3:$C$87,0))","v":99}]
[192,{"$f":"IF(ISNA(MATCH(\"#\"&A289,'Current Owner Standings (2)'!$C$3:$C$87,0)),99,MATCH(\"#\"&A289,'Current Owner Standings (2)'!$C$3:$C$87,0))","v":99}]
[193,{"$f":"IF(ISNA(MATCH(\"#\"&A290,'Current Owner Standings (2)'!$C$3:$C$87,0)),99,MATCH(\"#\"&A290,'Current Owner Standings (2)'!$C$3:$C$87,0))","v":99}]
[194,{"$f":"IF(ISNA(MATCH(\"#\"&A291,'Current Owner Standings (2)'!$C$3:$C$87,0)),99,MATCH(\"#\"&A291,'Current Owner Standings (2)'!$C$3:$C$87,0))","v":99}]
[195,{"$f":"IF(ISNA(MATCH(\"#\"&A292,'Current Owner Standings (2)'!$C$3:$C$87,0)),99,MATCH(\"#\"&A292,'Current Owner Standings (2)'!$C$3:$C$87,0))","v":50}]
[196,{"$f":"IF(ISNA(MATCH(\"#\"&A293,'Current Owner Standings (2)'!$C$3:$C$87,0)),99,MATCH(\"#\"&A293,'Current Owner Standings (2)'!$C$3:$C$87,0))","v":99}]
[197,{"$f":"IF(ISNA(MATCH(\"#\"&A294,'Current Owner Standings (2)'!$C$3:$C$87,0)),99,MATCH(\"#\"&A294,'Current Owner Standings (2)'!$C$3:$C$87,0))","v":99}]
[198,{"$f":"IF(ISNA(MATCH(\"#\"&A295,'Current Owner Standings (2)'!$C$3:$C$87,0)),99,MATCH(\"#\"&A295,'Current Owner Standings (2)'!$C$3:$C$87,0))","v":99}]
[199,{"$f":"IF(ISNA(MATCH(\"#\"&A296,'Current Owner Standings (2)'!$C$3:$C$87,0)),99,MATCH(\"#\"&A296,'Current Owner Standings (2)'!$C$3:$C$87,0))","v":99}]
[200,{"$f":"IF(ISNA(MATCH(\"#\"&A297,'Current Owner Standings (2)'!$C$3:$C$87,0)),99,MATCH(\"#\"&A297,'Current Owner Standings (2)'!$C$3:$C$87,0))","v":99}]
[201,{"$f":"IF(ISNA(MATCH(\"#\"&A298,'Current Owner Standings (2)'!$C$3:$C$87,0)),99,MATCH(\"#\"&A298,'Current Owner Standings (2)'!$C$3:$C$87,0))","v":99}]
[202,{"$f":"IF(ISNA(MATCH(\"#\"&A299,'Current Owner Standings (2)'!$C$3:$C$87,0)),99,MATCH(\"#\"&A299,'Current Owner Standings (2)'!$C$3:$C$87,0))","v":99}]
[203,{"$f":"IF(ISNA(MATCH(\"#\"&A300,'Current Owner Standings (2)'!$C$3:$C$87,0)),99,MATCH(\"#\"&A300,'Current Owner Standings (2)'!$C$3:$C$87,0))","v":99}]
[204,{"$f":"IF(ISNA(MATCH(\"#\"&A301,'Current Owner Standings (2)'!$C$3:$C$87,0)),99,MATCH(\"#\"&A301,'Current Owner Standings (2)'!$C$3:$C$87,0))","v":99}]
[205,{"$f":"IF(ISNA(MATCH(\"#\"&A302,'Current Owner Standings (2)'!$C$3:$C$87,0)),99,MATCH(\"#\"&A302,'Current Owner Standings (2)'!$C$3:$C$87,0))","v":99}]
[206,{"$f":"IF(ISNA(MATCH(\"#\"&A303,'Current Owner Standings (2)'!$C$3:$C$87,0)),99,MATCH(\"#\"&A303,'Current Owner Standings (2)'!$C$3:$C$87,0))","v":99}]
[207,{"$f":"IF(ISNA(MATCH(\"#\"&A304,'Current Owner Standings (2)'!$C$3:$C$87,0)),99,MATCH(\"#\"&A304,'Current Owner Standings (2)'!$C$3:$C$87,0))","v":99}]
[208,{"$f":"IF(ISNA(MATCH(\"#\"&A305,'Current Owner Standings (2)'!$C$3:$C$87,0)),99,MATCH(\"#\"&A305,'Current Owner Standings (2)'!$C$3:$C$87,0))","v":99}]
[209,{"$f":"IF(ISNA(MATCH(\"#\"&A306,'Current Owner Standings (2)'!$C$3:$C$87,0)),99,MATCH(\"#\"&A306,'Current Owner Standings (2)'!$C$3:$C$87,0))","v":99}]
[210,{"$f":"IF(ISNA(MATCH(\"#\"&A307,'Current Owner Standings (2)'!$C$3:$C$87,0)),99,MATCH(\"#\"&A307,'Current Owner Standings (2)'!$C$3:$C$87,0))","v":99}]
[211,{"$f":"IF(ISNA(MATCH(\"#\"&A308,'Current Owner Standings (2)'!$C$3:$C$87,0)),99,MATCH(\"#\"&A308,'Current Owner Standings (2)'!$C$3:$C$87,0))","v":99}]
[212,{"$f":"IF(ISNA(MATCH(\"#\"&A309,'Current Owner Standings (2)'!$C$3:$C$87,0)),99,MATCH(\"#\"&A309,'Current Owner Standings (2)'!$C$3:$C$87,0))","v":99}]
[213,{"$f":"IF(ISNA(MATCH(\"#\"&A310,'Current Owner Standings (2)'!$C$3:$C$87,0)),99,MATCH(\"#\"&A310,'Current Owner Standings (2)'!$C$3:$C$87,0))","v":99}]
[214,{"$f":"IF(ISNA(MATCH(\"#\"&A311,'Current Owner Standings (2)'!$C$3:$C$87,0)),99,MATCH(\"#\"&A311,'Current Owner Standings (2)'!$C$3:$C$87,0))","v":99}]
[215,{"$f":"IF(ISNA(MATCH(\"#\"&A312,'Current Owner Standings (2)'!$C$3:$C$87,0)),99,MATCH(\"#\"&A312,'Current Owner Standings (2)'!$C$3:$C$87,0))","v":99}]
[216,{"$f":"IF(ISNA(MATCH(\"#\"&A313,'Current Owner Standings (2)'!$C$3:$C$87,0)),99,MATCH(\"#\"&A313,'Current Owner Standings (2)'!$C$3:$C$87,0))","v":99}]
[217,{"$f":"IF(ISNA(MATCH(\"#\"&A314,'Current Owner Standings (2)'!$C$3:$C$87,0)),99,MATCH(\"#\"&A314,'Current Owner Standings (2)'!$C$3:$C$87,0))","v":99}]
[218,{"$f":"IF(ISNA(MATCH(\"#\"&A315,'Current Owner Standings (2)'!$C$3:$C$87,0)),99,MATCH(\"#\"&A315,'Current Owner Standings (2)'!$C$3:$C$87,0))","v":99}]
[219,{"$f":"IF(ISNA(MATCH(\"#\"&A316,'Current Owner Standings (2)'!$C$3:$C$87,0)),99,MATCH(\"#\"&A316,'Current Owner Standings (2)'!$C$3:$C$87,0))","v":99}]
[220,{"$f":"IF(ISNA(MATCH(\"#\"&A317,'Current Owner Standings (2)'!$C$3:$C$87,0)),99,MATCH(\"#\"&A317,'Current Owner Standings (2)'!$C$3:$C$87,0))","v":99}]
[221,{"$f":"IF(ISNA(MATCH(\"#\"&A318,'Current Owner Standings (2)'!$C$3:$C$87,0)),99,MATCH(\"#\"&A318,'Current Owner Standings (2)'!$C$3:$C$87,0))","v":99}]
[222,{"$f":"IF(ISNA(MATCH(\"#\"&A319,'Current Owner Standings (2)'!$C$3:$C$87,0)),99,MATCH(\"#\"&A319,'Current Owner Standings (2)'!$C$3:$C$87,0))","v":99}]
[223,{"$f":"IF(ISNA(MATCH(\"#\"&A320,'Current Owner Standings (2)'!$C$3:$C$87,0)),99,MATCH(\"#\"&A320,'Current Owner Standings (2)'!$C$3:$C$87,0))","v":99}]
[224,{"$f":"IF(ISNA(MATCH(\"#\"&A321,'Current Owner Standings (2)'!$C$3:$C$87,0)),99,MATCH(\"#\"&A321,'Current Owner Standings (2)'!$C$3:$C$87,0))","v":99}]
[225,{"$f":"IF(ISNA(MATCH(\"#\"&A322,'Current Owner Standings (2)'!$C$3:$C$87,0)),99,MATCH(\"#\"&A322,'Current Owner Standings (2)'!$C$3:$C$87,0))","v":99}]
[226,{"$f":"IF(ISNA(MATCH(\"#\"&A323,'Current Owner Standings (2)'!$C$3:$C$87,0)),99,MATCH(\"#\"&A323,'Current Owner Standings (2)'!$C$3:$C$87,0))","v":99}]
[227,{"$f":"IF(ISNA(MATCH(\"#\"&A324,'Current Owner Standings (2)'!$C$3:$C$87,0)),99,MATCH(\"#\"&A324,'Current Owner Standings (2)'!$C$3:$C$87,0))","v":99}]
[228,{"$f":"IF(ISNA(MATCH(\"#\"&A325,'Current Owner Standings (2)'!$C$3:$C$87,0)),99,MATCH(\"#\"&A325,'Current Owner Standings (2)'!$C$3:$C$87,0))","v":99}]
[229,{"$f":"IF(ISNA(MATCH(\"#\"&A326,'Current Owner Standings (2)'!$C$3:$C$87,0)),99,MATCH(\"#\"&A326,'Current Owner Standings (2)'!$C$3:$C$87,0))","v":99}]
[230,{"$f":"IF(ISNA(MATCH(\"#\"&A327,'Current Owner Standings (2)'!$C$3:$C$87,0)),99,MATCH(\"#\"&A327,'Current Owner Standings (2)'!$C$3:$C$87,0))","v":99}]
[231,{"$f":"IF(ISNA(MATCH(\"#\"&A328,'Current Owner Standings (2)'!$C$3:$C$87,0)),99,MATCH(\"#\"&A328,'Current Owner Standings (2)'!$C$3:$C$87,0))","v":99}]
[232,{"$f":"IF(ISNA(MATCH(\"#\"&A329,'Current Owner Standings (2)'!$C$3:$C$87,0)),99,MATCH(\"#\"&A329,'Current Owner Standings (2)'!$C$3:$C$87,0))","v":99}]
[233,{"$f":"IF(ISNA(MATCH(\"#\"&A330,'Current Owner Standings (2)'!$C$3:$C$87,0)),99,MATCH(\"#\"&A330,'Current Owner Standings (2)'!$C$3:$C$87,0))","v":99}]
[234,{"$f":"IF(ISNA(MATCH(\"#\"&A331,'Current Owner Standings (2)'!$C$3:$C$87,0)),99,MATCH(\"#\"&A331,'Current Owner Standings (2)'!$C$3:$C$87,0))","v":99}]
[235,{"$f":"IF(ISNA(MATCH(\"#\"&A332,'Current Owner Standings (2)'!$C$3:$C$87,0)),99,MATCH(\"#\"&A332,'Current Owner Standings (2)'!$C$3:$C$87,0))","v":99}]
[236,{"$f":"IF(ISNA(MATCH(\"#\"&A333,'Current Owner Standings (2)'!$C$3:$C$87,0)),99,MATCH(\"#\"&A333,'Current Owner Standings (2)'!$C$3:$C$87,0))","v":99}]
[237,{"$f":"IF(ISNA(MATCH(\"#\"&A334,'Current Owner Standings (2)'!$C$3:$C$87,0)),99,MATCH(\"#\"&A334,'Current Owner Standings (2)'!$C$3:$C$87,0))","v":99}]
[238,{"$f":"IF(ISNA(MATCH(\"#\"&A335,'Current Owner Standings (2)'!$C$3:$C$87,0)),99,MATCH(\"#\"&A335,'Current Owner Standings (2)'!$C$3:$C$87,0))","v":99}]
[239,{"$f":"IF(ISNA(MATCH(\"#\"&A336,'Current Owner Standings (2)'!$C$3:$C$87,0)),99,MATCH(\"#\"&A336,'Current Owner Standings (2)'!$C$3:$C$87,0))","v":99}]
[240,{"$f":"IF(ISNA(MATCH(\"#\"&A337,'Current Owner Standings (2)'!$C$3:$C$87,0)),99,MATCH(\"#\"&A337,'Current Owner Standings (2)'!$C$3:$C$87,0))","v":99}]
[241,{"$f":"IF(ISNA(MATCH(\"#\"&A338,'Current Owner Standings (2)'!$C$3:$C$87,0)),99,MATCH(\"#\"&A338,'Current Owner Standings (2)'!$C$3:$C$87,0))","v":99}]
[242,{"$f":"IF(ISNA(MATCH(\"#\"&A339,'Current Owner Standings (2)'!$C$3:$C$87,0)),99,MATCH(\"#\"&A339,'Current Owner Standings (2)'!$C$3:$C$87,0))","v":99}]
[243,{"$f":"IF(ISNA(MATCH(\"#\"&A340,'Current Owner Standings (2)'!$C$3:$C$87,0)),99,MATCH(\"#\"&A340,'Current Owner Standings (2)'!$C$3:$C$87,0))","v":99}]
[244,{"$f":"IF(ISNA(MATCH(\"#\"&A341,'Current Owner Standings (2)'!$C$3:$C$87,0)),99,MATCH(\"#\"&A341,'Current Owner Standings (2)'!$C$3:$C$87,0))","v":99}]
[245,{"$f":"IF(ISNA(MATCH(\"#\"&A342,'Current Owner Standings (2)'!$C$3:$C$87,0)),99,MATCH(\"#\"&A342,'Current Owner Standings (2)'!$C$3:$C$87,0))","v":99}]
[246,{"$f":"IF(ISNA(MATCH(\"#\"&A343,'Current Owner Standings (2)'!$C$3:$C$87,0)),99,MATCH(\"#\"&A343,'Current Owner Standings (2)'!$C$3:$C$87,0))","v":99}]
[247,{"$f":"IF(ISNA(MATCH(\"#\"&A344,'Current Owner Standings (2)'!$C$3:$C$87,0)),99,MATCH(\"#\"&A344,'Current Owner Standings (2)'!$C$3:$C$87,0))","v":99}]
[248,{"$f":"IF(ISNA(MATCH(\"#\"&A345,'Current Owner Standings (2)'!$C$3:$C$87,0)),99,MATCH(\"#\"&A345,'Current Owner Standings (2)'!$C$3:$C$87,0))","v":99}]
[249,{"$f":"IF(ISNA(MATCH(\"#\"&A346,'Current Owner Standings (2)'!$C$3:$C$87,0)),99,MATCH(\"#\"&A346,'Current Owner Standings (2)'!$C$3:$C$87,0))","v":37}]
[250,{"$f":"IF(ISNA(MATCH(\"#\"&A347,'Current Owner Standings (2)'!$C$3:$C$87,0)),99,MATCH(\"#\"&A347,'Current Owner Standings (2)'!$C$3:$C$87,0))","v":99}]
[251,{"$f":"IF(ISNA(MATCH(\"#\"&A348,'Current Owner Standings (2)'!$C$3:$C$87,0)),99,MATCH(\"#\"&A348,'Current Owner Standings (2)'!$C$3:$C$87,0))","v":99}]
[252,{"$f":"IF(ISNA(MATCH(\"#\"&A349,'Current Owner Standings (2)'!$C$3:$C$87,0)),99,MATCH(\"#\"&A349,'Current Owner Standings (2)'!$C$3:$C$87,0))","v":99}]
[253,{"$f":"IF(ISNA(MATCH(\"#\"&A350,'Current Owner Standings (2)'!$C$3:$C$87,0)),99,MATCH(\"#\"&A350,'Current Owner Standings (2)'!$C$3:$C$87,0))","v":99}]
[254,{"$f":"IF(ISNA(MATCH(\"#\"&A351,'Current Owner Standings (2)'!$C$3:$C$87,0)),99,MATCH(\"#\"&A351,'Current Owner Standings (2)'!$C$3:$C$87,0))","v":99}]
[255,{"$f":"IF(ISNA(MATCH(\"#\"&A352,'Current Owner Standings (2)'!$C$3:$C$87,0)),99,MATCH(\"#\"&A352,'Current Owner Standings (2)'!$C$3:$C$87,0))","v":99}]
[256,{"$f":"IF(ISNA(MATCH(\"#\"&A353,'Current Owner Standings (2)'!$C$3:$C$87,0)),99,MATCH(\"#\"&A353,'Current Owner Standings (2)'!$C$3:$C$87,0))","v":99}]
[257,{"$f":"IF(ISNA(MATCH(\"#\"&A354,'Current Owner Standings (2)'!$C$3:$C$87,0)),99,MATCH(\"#\"&A354,'Current Owner Standings (2)'!$C$3:$C$87,0))","v":99}]
[258,{"$f":"IF(ISNA(MATCH(\"#\"&A355,'Current Owner Standings (2)'!$C$3:$C$87,0)),99,MATCH(\"#\"&A355,'Current Owner Standings (2)'!$C$3:$C$87,0))","v":99}]
[259,{"$f":"IF(ISNA(MATCH(\"#\"&A356,'Current Owner Standings (2)'!$C$3:$C$87,0)),99,MATCH(\"#\"&A356,'Current Owner Standings (2)'!$C$3:$C$87,0))","v":99}]
[260,{"$f":"IF(ISNA(MATCH(\"#\"&A357,'Current Owner Standings (2)'!$C$3:$C$87,0)),99,MATCH(\"#\"&A357,'Current Owner Standings (2)'!$C$3:$C$87,0))","v":99}]
[261,{"$f":"IF(ISNA(MATCH(\"#\"&A358,'Current Owner Standings (2)'!$C$3:$C$87,0)),99,MATCH(\"#\"&A358,'Current Owner Standings (2)'!$C$3:$C$87,0))","v":99}]
[262,{"$f":"IF(ISNA(MATCH(\"#\"&A359,'Current Owner Standings (2)'!$C$3:$C$87,0)),99,MATCH(\"#\"&A359,'Current Owner Standings (2)'!$C$3:$C$87,0))","v":99}]
[263,{"$f":"IF(ISNA(MATCH(\"#\"&A360,'Current Owner Standings (2)'!$C$3:$C$87,0)),99,MATCH(\"#\"&A360,'Current Owner Standings (2)'!$C$3:$C$87,0))","v":99}]
[264,{"$f":"IF(ISNA(MATCH(\"#\"&A361,'Current Owner Standings (2)'!$C$3:$C$87,0)),99,MATCH(\"#\"&A361,'Current Owner Standings (2)'!$C$3:$C$87,0))","v":99}]
[265,{"$f":"IF(ISNA(MATCH(\"#\"&A362,'Current Owner Standings (2)'!$C$3:$C$87,0)),99,MATCH(\"#\"&A362,'Current Owner Standings (2)'!$C$3:$C$87,0))","v":99}]
[266,{"$f":"IF(ISNA(MATCH(\"#\"&A363,'Current Owner Standings (2)'!$C$3:$C$87,0)),99,MATCH(\"#\"&A363,'Current Owner Standings (2)'!$C$3:$C$87,0))","v":99}]
[267,{"$f":"IF(ISNA(MATCH(\"#\"&A364,'Current Owner Standings (2)'!$C$3:$C$87,0)),99,MATCH(\"#\"&A364,'Current Owner Standings (2)'!$C$3:$C$87,0))","v":99}]
[268,{"$f":"IF(ISNA(MATCH(\"#\"&A365,'Current Owner Standings (2)'!$C$3:$C$87,0)),99,MATCH(\"#\"&A365,'Current Owner Standings (2)'!$C$3:$C$87,0))","v":99}]
[269,{"$f":"IF(ISNA(MATCH(\"#\"&A366,'Current Owner Standings (2)'!$C$3:$C$87,0)),99,MATCH(\"#\"&A366,'Current Owner Standings (2)'!$C$3:$C$87,0))","v":99}]
[270,{"$f":"IF(ISNA(MATCH(\"#\"&A367,'Current Owner Standings (2)'!$C$3:$C$87,0)),99,MATCH(\"#\"&A367,'Current Owner Standings (2)'!$C$3:$C$87,0))","v":99}]
[271,{"$f":"IF(ISNA(MATCH(\"#\"&A368,'Current Owner Standings (2)'!$C$3:$C$87,0)),99,MATCH(\"#\"&A368,'Current Owner Standings (2)'!$C$3:$C$87,0))","v":99}]
[272,{"$f":"IF(ISNA(MATCH(\"#\"&A369,'Current Owner Standings (2)'!$C$3:$C$87,0)),99,MATCH(\"#\"&A369,'Current Owner Standings (2)'!$C$3:$C$87,0))","v":99}]
[273,{"$f":"IF(ISNA(MATCH(\"#\"&A370,'Current Owner Standings (2)'!$C$3:$C$87,0)),99,MATCH(\"#\"&A370,'Current Owner Standings (2)'!$C$3:$C$87,0))","v":99}]
[274,{"$f":"IF(ISNA(MATCH(\"#\"&A371,'Current Owner Standings (2)'!$C$3:$C$87,0)),99,MATCH(\"#\"&A371,'Current Owner Standings (2)'!$C$3:$C$87,0))","v":99}]
[275,{"$f":"IF(ISNA(MATCH(\"#\"&A372,'Current Owner Standings (2)'!$C$3:$C$87,0)),99,MATCH(\"#\"&A372,'Current Owner Standings (2)'!$C$3:$C$87,0))","v":99}]
[276,{"$f":"IF(ISNA(MATCH(\"#\"&A373,'Current Owner Standings (2)'!$C$3:$C$87,0)),99,MATCH(\"#\"&A373,'Current Owner Standings (2)'!$C$3:$C$87,0))","v":99}]
[277,{"$f":"IF(ISNA(MATCH(\"#\"&A374,'Current Owner Standings (2)'!$C$3:$C$87,0)),99,MATCH(\"#\"&A374,'Current Owner Standings (2)'!$C$3:$C$87,0))","v":99}]
[278,{"$f":"IF(ISNA(MATCH(\"#\"&A375,'Current Owner Standings (2)'!$C$3:$C$87,0)),99,MATCH(\"#\"&A375,'Current Owner Standings (2)'!$C$3:$C$87,0))","v":99}]
[279,{"$f":"IF(ISNA(MATCH(\"#\"&A376,'Current Owner Standings (2)'!$C$3:$C$87,0)),99,MATCH(\"#\"&A376,'Current Owner Standings (2)'!$C$3:$C$87,0))","v":99}]
[280,{"$f":"IF(ISNA(MATCH(\"#\"&A377,'Current Owner Standings (2)'!$C$3:$C$87,0)),99,MATCH(\"#\"&A377,'Current Owner Standings (2)'!$C$3:$C$87,0))","v":99}]
[281,{"$f":"IF(ISNA(MATCH(\"#\"&A378,'Current Owner Standings (2)'!$C$3:$C$87,0)),99,MATCH(\"#\"&A378,'Current Owner Standings (2)'!$C$3:$C$87,0))","v":99}]
[282,{"$f":"IF(ISNA(MATCH(\"#\"&A379,'Current Owner Standings (2)'!$C$3:$C$87,0)),99,MATCH(\"#\"&A379,'Current Owner Standings (2)'!$C$3:$C$87,0))","v":99}]
[283,{"$f":"IF(ISNA(MATCH(\"#\"&A380,'Current Owner Standings (2)'!$C$3:$C$87,0)),99,MATCH(\"#\"&A380,'Current Owner Standings (2)'!$C$3:$C$87,0))","v":99}]
[284,{"$f":"IF(ISNA(MATCH(\"#\"&A381,'Current Owner Standings (2)'!$C$3:$C$87,0)),99,MATCH(\"#\"&A381,'Current Owner Standings (2)'!$C$3:$C$87,0))","v":99}]
[285,{"$f":"IF(ISNA(MATCH(\"#\"&A382,'Current Owner Standings (2)'!$C$3:$C$87,0)),99,MATCH(\"#\"&A382,'Current Owner Standings (2)'!$C$3:$C$87,0))","v":99}]
[286,{"$f":"IF(ISNA(MATCH(\"#\"&A383,'Current Owner Standings (2)'!$C$3:$C$87,0)),99,MATCH(\"#\"&A383,'Current Owner Standings (2)'!$C$3:$C$87,0))","v":99}]
[287,{"$f":"IF(ISNA(MATCH(\"#\"&A384,'Current Owner Standings (2)'!$C$3:$C$87,0)),99,MATCH(\"#\"&A384,'Current Owner Standings (2)'!$C$3:$C$87,0))","v":99}]
[288,{"$f":"IF(ISNA(MATCH(\"#\"&A385,'Current Owner Standings (2)'!$C$3:$C$87,0)),99,MATCH(\"#\"&A385,'Current Owner Standings (2)'!$C$3:$C$87,0))","v":99}]
[289,{"$f":"IF(ISNA(MATCH(\"#\"&A386,'Current Owner Standings (2)'!$C$3:$C$87,0)),99,MATCH(\"#\"&A386,'Current Owner Standings (2)'!$C$3:$C$87,0))","v":99}]
[290,{"$f":"IF(ISNA(MATCH(\"#\"&A387,'Current Owner Standings (2)'!$C$3:$C$87,0)),99,MATCH(\"#\"&A387,'Current Owner Standings (2)'!$C$3:$C$87,0))","v":99}]
[291,{"$f":"IF(ISNA(MATCH(\"#\"&A388,'Current Owner Standings (2)'!$C$3:$C$87,0)),99,MATCH(\"#\"&A388,'Current Owner Standings (2)'!$C$3:$C$87,0))","v":99}]
[292,{"$f":"IF(ISNA(MATCH(\"#\"&A389,'Current Owner Standings (2)'!$C$3:$C$87,0)),99,MATCH(\"#\"&A389,'Current Owner Standings (2)'!$C$3:$C$87,0))","v":99}]
[293,{"$f":"IF(ISNA(MATCH(\"#\"&A390,'Current Owner Standings (2)'!$C$3:$C$87,0)),99,MATCH(\"#\"&A390,'Current Owner Standings (2)'!$C$3:$C$87,0))","v":99}]
[294,{"$f":"IF(ISNA(MATCH(\"#\"&A391,'Current Owner Standings (2)'!$C$3:$C$87,0)),99,MATCH(\"#\"&A391,'Current Owner Standings (2)'!$C$3:$C$87,0))","v":99}]
[295,{"$f":"IF(ISNA(MATCH(\"#\"&A392,'Current Owner Standings (2)'!$C$3:$C$87,0)),99,MATCH(\"#\"&A392,'Current Owner Standings (2)'!$C$3:$C$87,0))","v":99}]
[296,{"$f":"IF(ISNA(MATCH(\"#\"&A393,'Current Owner Standings (2)'!$C$3:$C$87,0)),99,MATCH(\"#\"&A393,'Current Owner Standings (2)'!$C$3:$C$87,0))","v":99}]
[297,{"$f":"IF(ISNA(MATCH(\"#\"&A394,'Current Owner Standings (2)'!$C$3:$C$87,0)),99,MATCH(\"#\"&A394,'Current Owner Standings (2)'!$C$3:$C$87,0))","v":99}]
[298,{"$f":"IF(ISNA(MATCH(\"#\"&A395,'Current Owner Standings (2)'!$C$3:$C$87,0)),99,MATCH(\"#\"&A395,'Current Owner Standings (2)'!$C$3:$C$87,0))","v":99}]
[299,{"$f":"IF(ISNA(MATCH(\"#\"&A396,'Current Owner Standings (2)'!$C$3:$C$87,0)),99,MATCH(\"#\"&A396,'Current Owner Standings (2)'!$C$3:$C$87,0))","v":99}]
[300,{"$f":"IF(ISNA(MATCH(\"#\"&A397,'Current Owner Standings (2)'!$C$3:$C$87,0)),99,MATCH(\"#\"&A397,'Current Owner Standings (2)'!$C$3:$C$87,0))","v":99}]
[301,{"$f":"IF(ISNA(MATCH(\"#\"&A398,'Current Owner Standings (2)'!$C$3:$C$87,0)),99,MATCH(\"#\"&A398,'Current Owner Standings (2)'!$C$3:$C$87,0))","v":99}]
[302,{"$f":"IF(ISNA(MATCH(\"#\"&A399,'Current Owner Standings (2)'!$C$3:$C$87,0)),99,MATCH(\"#\"&A399,'Current Owner Standings (2)'!$C$3:$C$87,0))","v":99}]
[303,{"$f":"IF(ISNA(MATCH(\"#\"&A400,'Current Owner Standings (2)'!$C$3:$C$87,0)),99,MATCH(\"#\"&A400,'Current Owner Standings (2)'!$C$3:$C$87,0))","v":99}]
[304,{"$f":"IF(ISNA(MATCH(\"#\"&A401,'Current Owner Standings (2)'!$C$3:$C$87,0)),99,MATCH(\"#\"&A401,'Current Owner Standings (2)'!$C$3:$C$87,0))","v":99}]
[305,{"$f":"IF(ISNA(MATCH(\"#\"&A402,'Current Owner Standings (2)'!$C$3:$C$87,0)),99,MATCH(\"#\"&A402,'Current Owner Standings (2)'!$C$3:$C$87,0))","v":99}]
[306,{"$f":"IF(ISNA(MATCH(\"#\"&A403,'Current Owner Standings (2)'!$C$3:$C$87,0)),99,MATCH(\"#\"&A403,'Current Owner Standings (2)'!$C$3:$C$87,0))","v":99}]
[307,{"$f":"IF(ISNA(MATCH(\"#\"&A404,'Current Owner Standings (2)'!$C$3:$C$87,0)),99,MATCH(\"#\"&A404,'Current Owner Standings (2)'!$C$3:$C$87,0))","v":99}]
[308,{"$f":"IF(ISNA(MATCH(\"#\"&A405,'Current Owner Standings (2)'!$C$3:$C$87,0)),99,MATCH(\"#\"&A405,'Current Owner Standings (2)'!$C$3:$C$87,0))","v":99}]
[309,{"$f":"IF(ISNA(MATCH(\"#\"&A406,'Current Owner Standings (2)'!$C$3:$C$87,0)),99,MATCH(\"#\"&A406,'Current Owner Standings (2)'!$C$3:$C$87,0))","v":99}]
[310,{"$f":"IF(ISNA(MATCH(\"#\"&A407,'Current Owner Standings (2)'!$C$3:$C$87,0)),99,MATCH(\"#\"&A407,'Current Owner Standings (2)'!$C$3:$C$87,0))","v":99}]
[311,{"$f":"IF(ISNA(MATCH(\"#\"&A408,'Current Owner Standings (2)'!$C$3:$C$87,0)),99,MATCH(\"#\"&A408,'Current Owner Standings (2)'!$C$3:$C$87,0))","v":99}]
[312,{"$f":"IF(ISNA(MATCH(\"#\"&A409,'Current Owner Standings (2)'!$C$3:$C$87,0)),99,MATCH(\"#\"&A409,'Current Owner Standings (2)'!$C$3:$C$87,0))","v":99}]
[313,{"$f":"IF(ISNA(MATCH(\"#\"&A410,'Current Owner Standings (2)'!$C$3:$C$87,0)),99,MATCH(\"#\"&A410,'Current Owner Standings (2)'!$C$3:$C$87,0))","v":99}]
[314,{"$f":"IF(ISNA(MATCH(\"#\"&A411,'Current Owner Standings (2)'!$C$3:$C$87,0)),99,MATCH(\"#\"&A411,'Current Owner Standings (2)'!$C$3:$C$87,0))","v":99}]
[315,{"$f":"IF(ISNA(MATCH(\"#\"&A412,'Current Owner Standings (2)'!$C$3:$C$87,0)),99,MATCH(\"#\"&A412,'Current Owner Standings (2)'!$C$3:$C$87,0))","v":99}]
[316,{"$f":"IF(ISNA(MATCH(\"#\"&A413,'Current Owner Standings (2)'!$C$3:$C$87,0)),99,MATCH(\"#\"&A413,'Current Owner Standings (2)'!$C$3:$C$87,0))","v":99}]
[317,{"$f":"IF(ISNA(MATCH(\"#\"&A414,'Current Owner Standings (2)'!$C$3:$C$87,0)),99,MATCH(\"#\"&A414,'Current Owner Standings (2)'!$C$3:$C$87,0))","v":99}]
[318,{"$f":"IF(ISNA(MATCH(\"#\"&A415,'Current Owner Standings (2)'!$C$3:$C$87,0)),99,MATCH(\"#\"&A415,'Current Owner Standings (2)'!$C$3:$C$87,0))","v":99}]
[319,{"$f":"IF(ISNA(MATCH(\"#\"&A416,'Current Owner Standings (2)'!$C$3:$C$87,0)),99,MATCH(\"#\"&A416,'Current Owner Standings (2)'!$C$3:$C$87,0))","v":99}]
[320,{"$f":"IF(ISNA(MATCH(\"#\"&A417,'Current Owner Standings (2)'!$C$3:$C$87,0)),99,MATCH(\"#\"&A417,'Current Owner Standings (2)'!$C$3:$C$87,0))","v":99}]
[321,{"$f":"IF(ISNA(MATCH(\"#\"&A418,'Current Owner Standings (2)'!$C$3:$C$87,0)),99,MATCH(\"#\"&A418,'Current Owner Standings (2)'!$C$3:$C$87,0))","v":99}]
[322,{"$f":"IF(ISNA(MATCH(\"#\"&A419,'Current Owner Standings (2)'!$C$3:$C$87,0)),99,MATCH(\"#\"&A419,'Current Owner Standings (2)'!$C$3:$C$87,0))","v":99}]
[323,{"$f":"IF(ISNA(MATCH(\"#\"&A420,'Current Owner Standings (2)'!$C$3:$C$87,0)),99,MATCH(\"#\"&A420,'Current Owner Standings (2)'!$C$3:$C$87,0))","v":99}]
[324,{"$f":"IF(ISNA(MATCH(\"#\"&A421,'Current Owner Standings (2)'!$C$3:$C$87,0)),99,MATCH(\"#\"&A421,'Current Owner Standings (2)'!$C$3:$C$87,0))","v":99}]
[325,{"$f":"IF(ISNA(MATCH(\"#\"&A422,'Current Owner Standings (2)'!$C$3:$C$87,0)),99,MATCH(\"#\"&A422,'Current Owner Standings (2)'!$C$3:$C$87,0))","v":99}]
[326,{"$f":"IF(ISNA(MATCH(\"#\"&A423,'Current Owner Standings (2)'!$C$3:$C$87,0)),99,MATCH(\"#\"&A423,'Current Owner Standings (2)'!$C$3:$C$87,0))","v":99}]
[327,{"$f":"IF(ISNA(MATCH(\"#\"&A424,'Current Owner Standings (2)'!$C$3:$C$87,0)),99,MATCH(\"#\"&A424,'Current Owner Standings (2)'!$C$3:$C$87,0))","v":99}]
[328,{"$f":"IF(ISNA(MATCH(\"#\"&A425,'Current Owner Standings (2)'!$C$3:$C$87,0)),99,MATCH(\"#\"&A425,'Current Owner Standings (2)'!$C$3:$C$87,0))","v":99}]
[329,{"$f":"IF(ISNA(MATCH(\"#\"&A426,'Current Owner Standings (2)'!$C$3:$C$87,0)),99,MATCH(\"#\"&A426,'Current Owner Standings (2)'!$C$3:$C$87,0))","v":99}]
[330,{"$f":"IF(ISNA(MATCH(\"#\"&A427,'Current Owner Standings (2)'!$C$3:$C$87,0)),99,MATCH(\"#\"&A427,'Current Owner Standings (2)'!$C$3:$C$87,0))","v":99}]
[331,{"$f":"IF(ISNA(MATCH(\"#\"&A428,'Current Owner Standings (2)'!$C$3:$C$87,0)),99,MATCH(\"#\"&A428,'Current Owner Standings (2)'!$C$3:$C$87,0))","v":99}]
[332,{"$f":"IF(ISNA(MATCH(\"#\"&A429,'Current Owner Standings (2)'!$C$3:$C$87,0)),99,MATCH(\"#\"&A429,'Current Owner Standings (2)'!$C$3:$C$87,0))","v":99}]
[333,{"$f":"IF(ISNA(MATCH(\"#\"&A430,'Current Owner Standings (2)'!$C$3:$C$87,0)),99,MATCH(\"#\"&A430,'Current Owner Standings (2)'!$C$3:$C$87,0))","v":99}]
[334,{"$f":"IF(ISNA(MATCH(\"#\"&A431,'Current Owner Standings (2)'!$C$3:$C$87,0)),99,MATCH(\"#\"&A431,'Current Owner Standings (2)'!$C$3:$C$87,0))","v":99}]
[335,{"$f":"IF(ISNA(MATCH(\"#\"&A432,'Current Owner Standings (2)'!$C$3:$C$87,0)),99,MATCH(\"#\"&A432,'Current Owner Standings (2)'!$C$3:$C$87,0))","v":99}]
[336,{"$f":"IF(ISNA(MATCH(\"#\"&A433,'Current Owner Standings (2)'!$C$3:$C$87,0)),99,MATCH(\"#\"&A433,'Current Owner Standings (2)'!$C$3:$C$87,0))","v":99}]
[337,{"$f":"IF(ISNA(MATCH(\"#\"&A434,'Current Owner Standings (2)'!$C$3:$C$87,0)),99,MATCH(\"#\"&A434,'Current Owner Standings (2)'!$C$3:$C$87,0))","v":99}]
[338,{"$f":"IF(ISNA(MATCH(\"#\"&A435,'Current Owner Standings (2)'!$C$3:$C$87,0)),99,MATCH(\"#\"&A435,'Current Owner Standings (2)'!$C$3:$C$87,0))","v":99}]
[339,{"$f":"IF(ISNA(MATCH(\"#\"&A436,'Current Owner Standings (2)'!$C$3:$C$87,0)),99,MATCH(\"#\"&A436,'Current Owner Standings (2)'!$C$3:$C$87,0))","v":99}]
[340,{"$f":"IF(ISNA(MATCH(\"#\"&A437,'Current Owner Standings (2)'!$C$3:$C$87,0)),99,MATCH(\"#\"&A437,'Current Owner Standings (2)'!$C$3:$C$87,0))","v":99}]
[341,{"$f":"IF(ISNA(MATCH(\"#\"&A438,'Current Owner Standings (2)'!$C$3:$C$87,0)),99,MATCH(\"#\"&A438,'Current Owner Standings (2)'!$C$3:$C$87,0))","v":99}]
[342,{"$f":"IF(ISNA(MATCH(\"#\"&A439,'Current Owner Standings (2)'!$C$3:$C$87,0)),99,MATCH(\"#\"&A439,'Current Owner Standings (2)'!$C$3:$C$87,0))","v":99}]
[343,{"$f":"IF(ISNA(MATCH(\"#\"&A440,'Current Owner Standings (2)'!$C$3:$C$87,0)),99,MATCH(\"#\"&A440,'Current Owner Standings (2)'!$C$3:$C$87,0))","v":99}]
[344,{"$f":"IF(ISNA(MATCH(\"#\"&A441,'Current Owner Standings (2)'!$C$3:$C$87,0)),99,MATCH(\"#\"&A441,'Current Owner Standings (2)'!$C$3:$C$87,0))","v":99}]
[345,{"$f":"IF(ISNA(MATCH(\"#\"&A442,'Current Owner Standings (2)'!$C$3:$C$87,0)),99,MATCH(\"#\"&A442,'Current Owner Standings (2)'!$C$3:$C$87,0))","v":99}]
[346,{"$f":"IF(ISNA(MATCH(\"#\"&A443,'Current Owner Standings (2)'!$C$3:$C$87,0)),99,MATCH(\"#\"&A443,'Current Owner Standings (2)'!$C$3:$C$87,0))","v":99}]
[347,{"$f":"IF(ISNA(MATCH(\"#\"&A444,'Current Owner Standings (2)'!$C$3:$C$87,0)),99,MATCH(\"#\"&A444,'Current Owner Standings (2)'!$C$3:$C$87,0))","v":99}]
[348,{"$f":"IF(ISNA(MATCH(\"#\"&A445,'Current Owner Standings (2)'!$C$3:$C$87,0)),99,MATCH(\"#\"&A445,'Current Owner Standings (2)'!$C$3:$C$87,0))","v":99}]
[349,{"$f":"IF(ISNA(MATCH(\"#\"&A446,'Current Owner Standings (2)'!$C$3:$C$87,0)),99,MATCH(\"#\"&A446,'Current Owner Standings (2)'!$C$3:$C$87,0))","v":99}]
[350,{"$f":"IF(ISNA(MATCH(\"#\"&A447,'Current Owner Standings (2)'!$C$3:$C$87,0)),99,MATCH(\"#\"&A447,'Current Owner Standings (2)'!$C$3:$C$87,0))","v":99}]
[351,{"$f":"IF(ISNA(MATCH(\"#\"&A448,'Current Owner Standings (2)'!$C$3:$C$87,0)),99,MATCH(\"#\"&A448,'Current Owner Standings (2)'!$C$3:$C$87,0))","v":99}]
[352,{"$f":"IF(ISNA(MATCH(\"#\"&A449,'Current Owner Standings (2)'!$C$3:$C$87,0)),99,MATCH(\"#\"&A449,'Current Owner Standings (2)'!$C$3:$C$87,0))","v":99}]
[353,{"$f":"IF(ISNA(MATCH(\"#\"&A450,'Current Owner Standings (2)'!$C$3:$C$87,0)),99,MATCH(\"#\"&A450,'Current Owner Standings (2)'!$C$3:$C$87,0))","v":99}]
[354,{"$f":"IF(ISNA(MATCH(\"#\"&A451,'Current Owner Standings (2)'!$C$3:$C$87,0)),99,MATCH(\"#\"&A451,'Current Owner Standings (2)'!$C$3:$C$87,0))","v":99}]
[355,{"$f":"IF(ISNA(MATCH(\"#\"&A452,'Current Owner Standings (2)'!$C$3:$C$87,0)),99,MATCH(\"#\"&A452,'Current Owner Standings (2)'!$C$3:$C$87,0))","v":99}]
[356,{"$f":"IF(ISNA(MATCH(\"#\"&A453,'Current Owner Standings (2)'!$C$3:$C$87,0)),99,MATCH(\"#\"&A453,'Current Owner Standings (2)'!$C$3:$C$87,0))","v":99}]
[357,{"$f":"IF(ISNA(MATCH(\"#\"&A454,'Current Owner Standings (2)'!$C$3:$C$87,0)),99,MATCH(\"#\"&A454,'Current Owner Standings (2)'!$C$3:$C$87,0))","v":99}]
[358,{"$f":"IF(ISNA(MATCH(\"#\"&A455,'Current Owner Standings (2)'!$C$3:$C$87,0)),99,MATCH(\"#\"&A455,'Current Owner Standings (2)'!$C$3:$C$87,0))","v":99}]
[359,{"$f":"IF(ISNA(MATCH(\"#\"&A456,'Current Owner Standings (2)'!$C$3:$C$87,0)),99,MATCH(\"#\"&A456,'Current Owner Standings (2)'!$C$3:$C$87,0))","v":99}]
[360,{"$f":"IF(ISNA(MATCH(\"#\"&A457,'Current Owner Standings (2)'!$C$3:$C$87,0)),99,MATCH(\"#\"&A457,'Current Owner Standings (2)'!$C$3:$C$87,0))","v":99}]
[361,{"$f":"IF(ISNA(MATCH(\"#\"&A458,'Current Owner Standings (2)'!$C$3:$C$87,0)),99,MATCH(\"#\"&A458,'Current Owner Standings (2)'!$C$3:$C$87,0))","v":99}]
[362,{"$f":"IF(ISNA(MATCH(\"#\"&A459,'Current Owner Standings (2)'!$C$3:$C$87,0)),99,MATCH(\"#\"&A459,'Current Owner Standings (2)'!$C$3:$C$87,0))","v":99}]
[363,{"$f":"IF(ISNA(MATCH(\"#\"&A460,'Current Owner Standings (2)'!$C$3:$C$87,0)),99,MATCH(\"#\"&A460,'Current Owner Standings (2)'!$C$3:$C$87,0))","v":99}]
[364,{"$f":"IF(ISNA(MATCH(\"#\"&A461,'Current Owner Standings (2)'!$C$3:$C$87,0)),99,MATCH(\"#\"&A461,'Current Owner Standings (2)'!$C$3:$C$87,0))","v":99}]
[365,{"$f":"IF(ISNA(MATCH(\"#\"&A462,'Current Owner Standings (2)'!$C$3:$C$87,0)),99,MATCH(\"#\"&A462,'Current Owner Standings (2)'!$C$3:$C$87,0))","v":99}]
[366,{"$f":"IF(ISNA(MATCH(\"#\"&A463,'Current Owner Standings (2)'!$C$3:$C$87,0)),99,MATCH(\"#\"&A463,'Current Owner Standings (2)'!$C$3:$C$87,0))","v":99}]
[367,{"$f":"IF(ISNA(MATCH(\"#\"&A464,'Current Owner Standings (2)'!$C$3:$C$87,0)),99,MATCH(\"#\"&A464,'Current Owner Standings (2)'!$C$3:$C$87,0))","v":99}]
[368,{"$f":"IF(ISNA(MATCH(\"#\"&A465,'Current Owner Standings (2)'!$C$3:$C$87,0)),99,MATCH(\"#\"&A465,'Current Owner Standings (2)'!$C$3:$C$87,0))","v":99}]
[369,{"$f":"IF(ISNA(MATCH(\"#\"&A466,'Current Owner Standings (2)'!$C$3:$C$87,0)),99,MATCH(\"#\"&A466,'Current Owner Standings (2)'!$C$3:$C$87,0))","v":99}]
[370,{"$f":"IF(ISNA(MATCH(\"#\"&A467,'Current Owner Standings (2)'!$C$3:$C$87,0)),99,MATCH(\"#\"&A467,'Current Owner Standings (2)'!$C$3:$C$87,0))","v":99}]
[371,{"$f":"IF(ISNA(MATCH(\"#\"&A468,'Current Owner Standings (2)'!$C$3:$C$87,0)),99,MATCH(\"#\"&A468,'Current Owner Standings (2)'!$C$3:$C$87,0))","v":99}]
[372,{"$f":"IF(ISNA(MATCH(\"#\"&A469,'Current Owner Standings (2)'!$C$3:$C$87,0)),99,MATCH(\"#\"&A469,'Current Owner Standings (2)'!$C$3:$C$87,0))","v":99}]
[373,{"$f":"IF(ISNA(MATCH(\"#\"&A470,'Current Owner Standings (2)'!$C$3:$C$87,0)),99,MATCH(\"#\"&A470,'Current Owner Standings (2)'!$C$3:$C$87,0))","v":99}]
[374,{"$f":"IF(ISNA(MATCH(\"#\"&A471,'Current Owner Standings (2)'!$C$3:$C$87,0)),99,MATCH(\"#\"&A471,'Current Owner Standings (2)'!$C$3:$C$87,0))","v":99}]
[375,{"$f":"IF(ISNA(MATCH(\"#\"&A472,'Current Owner Standings (2)'!$C$3:$C$87,0)),99,MATCH(\"#\"&A472,'Current Owner Standings (2)'!$C$3:$C$87,0))","v":99}]
[376,{"$f":"IF(ISNA(MATCH(\"#\"&A473,'Current Owner Standings (2)'!$C$3:$C$87,0)),99,MATCH(\"#\"&A473,'Current Owner Standings (2)'!$C$3:$C$87,0))","v":99}]
[377,{"$f":"IF(ISNA(MATCH(\"#\"&A474,'Current Owner Standings (2)'!$C$3:$C$87,0)),99,MATCH(\"#\"&A474,'Current Owner Standings (2)'!$C$3:$C$87,0))","v":99}]
[378,{"$f":"IF(ISNA(MATCH(\"#\"&A475,'Current Owner Standings (2)'!$C$3:$C$87,0)),99,MATCH(\"#\"&A475,'Current Owner Standings (2)'!$C$3:$C$87,0))","v":99}]
[379,{"$f":"IF(ISNA(MATCH(\"#\"&A476,'Current Owner Standings (2)'!$C$3:$C$87,0)),99,MATCH(\"#\"&A476,'Current Owner Standings (2)'!$C$3:$C$87,0))","v":99}]
[380,{"$f":"IF(ISNA(MATCH(\"#\"&A477,'Current Owner Standings (2)'!$C$3:$C$87,0)),99,MATCH(\"#\"&A477,'Current Owner Standings (2)'!$C$3:$C$87,0))","v":99}]
[381,{"$f":"IF(ISNA(MATCH(\"#\"&A478,'Current Owner Standings (2)'!$C$3:$C$87,0)),99,MATCH(\"#\"&A478,'Current Owner Standings (2)'!$C$3:$C$87,0))","v":99}]
[382,{"$f":"IF(ISNA(MATCH(\"#\"&A479,'Current Owner Standings (2)'!$C$3:$C$87,0)),99,MATCH(\"#\"&A479,'Current Owner Standings (2)'!$C$3:$C$87,0))","v":99}]
[383,{"$f":"IF(ISNA(MATCH(\"#\"&A480,'Current Owner Standings (2)'!$C$3:$C$87,0)),99,MATCH(\"#\"&A480,'Current Owner Standings (2)'!$C$3:$C$87,0))","v":99}]
[384,{"$f":"IF(ISNA(MATCH(\"#\"&A481,'Current Owner Standings (2)'!$C$3:$C$87,0)),99,MATCH(\"#\"&A481,'Current Owner Standings (2)'!$C$3:$C$87,0))","v":99}]
[385,{"$f":"IF(ISNA(MATCH(\"#\"&A482,'Current Owner Standings (2)'!$C$3:$C$87,0)),99,MATCH(\"#\"&A482,'Current Owner Standings (2)'!$C$3:$C$87,0))","v":99}]
[386,{"$f":"IF(ISNA(MATCH(\"#\"&A483,'Current Owner Standings (2)'!$C$3:$C$87,0)),99,MATCH(\"#\"&A483,'Current Owner Standings (2)'!$C$3:$C$87,0))","v":99}]
[387,{"$f":"IF(ISNA(MATCH(\"#\"&A484,'Current Owner Standings (2)'!$C$3:$C$87,0)),99,MATCH(\"#\"&A484,'Current Owner Standings (2)'!$C$3:$C$87,0))","v":99}]
[388,{"$f":"IF(ISNA(MATCH(\"#\"&A485,'Current Owner Standings (2)'!$C$3:$C$87,0)),99,MATCH(\"#\"&A485,'Current Owner Standings (2)'!$C$3:$C$87,0))","v":99}]
[389,{"$f":"IF(ISNA(MATCH(\"#\"&A486,'Current Owner Standings (2)'!$C$3:$C$87,0)),99,MATCH(\"#\"&A486,'Current Owner Standings (2)'!$C$3:$C$87,0))","v":99}]
[390,{"$f":"IF(ISNA(MATCH(\"#\"&A487,'Current Owner Standings (2)'!$C$3:$C$87,0)),99,MATCH(\"#\"&A487,'Current Owner Standings (2)'!$C$3:$C$87,0))","v":99}]
[391,{"$f":"IF(ISNA(MATCH(\"#\"&A488,'Current Owner Standings (2)'!$C$3:$C$87,0)),99,MATCH(\"#\"&A488,'Current Owner Standings (2)'!$C$3:$C$87,0))","v":99}]
[392,{"$f":"IF(ISNA(MATCH(\"#\"&A489,'Current Owner Standings (2)'!$C$3:$C$87,0)),99,MATCH(\"#\"&A489,'Current Owner Standings (2)'!$C$3:$C$87,0))","v":99}]
[393,{"$f":"IF(ISNA(MATCH(\"#\"&A490,'Current Owner Standings (2)'!$C$3:$C$87,0)),99,MATCH(\"#\"&A490,'Current Owner Standings (2)'!$C$3:$C$87,0))","v":99}]
[394,{"$f":"IF(ISNA(MATCH(\"#\"&A491,'Current Owner Standings (2)'!$C$3:$C$87,0)),99,MATCH(\"#\"&A491,'Current Owner Standings (2)'!$C$3:$C$87,0))","v":99}]
[395,{"$f":"IF(ISNA(MATCH(\"#\"&A492,'Current Owner Standings (2)'!$C$3:$C$87,0)),99,MATCH(\"#\"&A492,'Current Owner Standings (2)'!$C$3:$C$87,0))","v":99}]
[396,{"$f":"IF(ISNA(MATCH(\"#\"&A493,'Current Owner Standings (2)'!$C$3:$C$87,0)),99,MATCH(\"#\"&A493,'Current Owner Standings (2)'!$C$3:$C$87,0))","v":99}]
[397,{"$f":"IF(ISNA(MATCH(\"#\"&A494,'Current Owner Standings (2)'!$C$3:$C$87,0)),99,MATCH(\"#\"&A494,'Current Owner Standings (2)'!$C$3:$C$87,0))","v":99}]
[398,{"$f":"IF(ISNA(MATCH(\"#\"&A495,'Current Owner Standings (2)'!$C$3:$C$87,0)),99,MATCH(\"#\"&A495,'Current Owner Standings (2)'!$C$3:$C$87,0))","v":99}]
[399,{"$f":"IF(ISNA(MATCH(\"#\"&A496,'Current Owner Standings (2)'!$C$3:$C$87,0)),99,MATCH(\"#\"&A496,'Current Owner Standings (2)'!$C$3:$C$87,0))","v":99}]
[400,{"$f":"IF(ISNA(MATCH(\"#\"&A497,'Current Owner Standings (2)'!$C$3:$C$87,0)),99,MATCH(\"#\"&A497,'Current Owner Standings (2)'!$C$3:$C$87,0))","v":99}]

{"sheet":"Last Race Results (2)","index":3,"n_rows":264,"n_cols":24,"rows_kept":264,"cut":false,"hidden":true,"merged":[]}
[null,null,null,null,null,null,null,null,null,null,null,null,null,null,"http://msn.foxsports.com/nascar/results?circuit=2"]
[]
["Car","Leader","Finish","ST","CAR","DRIVER","MAKE","Most laps","PTS/BNS","LAPS","STATUS","Laps Lead","Winnings"]
[null,null,null,null,null,null,null,null,null,null,null,null,null,null,"Position","Driver","Manufacturer","Start","Laps","Led","Status","Points","Bonus","Earnings"]
[{"$f":"VALUE(MID(P5,2,FIND(\" \",P5)-1))","v":48},{"$f":"VALUE(RIGHT(I5,LEN(I5)-FIND(\"/\",I5,1)))","v":0},{"$f":"O5","v":1},{"$f":"R5","v":14},{"$f":"VALUE(MID(P5,2,FIND(\" \",P5)-1))","v":48},{"$f":"RIGHT(P5,LEN(P5)-FIND(\" \",P5))","v":"Jimmie Johnson "},{"$f":"Q5","v":"Chevrolet"},{"$f":"IF(W5=5,\"Y\",\"\")","v":""},{"$f":"V5&\"/\"&W5","v":"40/0"},{"$f":"S5","v":268},{"$f":"U5","v":"Running"},{"$f":"T5","v":3},{"$f":"X5","v":0},null,1,"#48 Jimmie Johnson ","Chevrolet",14,268,3,"Running",40,0,0]
[42,2,2,24,42,"Kyle Larson ","Chevrolet",{"$f":"IF(W6>=2,\"Y\",\"\")","v":"Y"},{"$f":"V6&\"/\"&W6","v":"41/2"},{"$f":"S6","v":268},{"$f":"U6","v":"Running"},{"$f":"T6","v":132},{"$f":"X6","v":0},null,2,"#42 Kyle Larson ","Chevrolet",24,268,132,"Running",41,2,0]
[4,1,3,1,4,"Kevin Harvick ","Chevrolet","","39/1",268,"Running",79,0,null,3,"#4 Kevin Harvick ","Chevrolet",1,268,79,"Running",39,1,0]
[22,0,4,13,22,"Joey Logano ","Ford","","37/0",268,"Running",6,0,null,4,"#22 Joey Logano ","Ford",13,268,6,"Running",37,0,0]
[1,0,5,15,1,"Jamie McMurray ","Chevrolet","","36/0",268,"Running",0,0,null,5,"#1 Jamie McMurray ","Chevrolet",15,268,0,"Running",36,0,0]
[18,0,6,9,18,"Kyle Busch ","Toyota","","35/0",268,"Running",1,0,null,6,"#18 Kyle Busch ","Toyota",9,268,1,"Running",35,0,0]
[20,0,7,7,20,"Matt Kenseth ","Toyota","","34/0",268,"Running",0,0,null,7,"#20 Matt Kenseth ","Toyota",7,268,0,"Running",34,0,0]
[47,0,8,12,47,"AJ Allmendinger ","Chevrolet","","33/0",268,"Running",0,0,null,8,"#47 AJ Allmendinger ","Chevrolet",12,268,0,"Running",33,0,0]
[11,0,9,4,11,"Denny Hamlin ","Toyota","","32/0",268,"Running",0,0,null,9,"#11 Denny Hamlin ","Toyota",4,268,0,"Running",32,0,0]
[59,0,10,26,59,"Michael McDowell ","Chevrolet","","31/0",268,"Running",0,0,null,10,"#59 Michael McDowell ","Chevrolet",26,268,0,"Running",31,0,0]
[24,0,11,5,24,"Chase Elliott ","Chevrolet","","30/0",268,"Running",0,0,null,11,"#24 Chase Elliott ","Chevrolet",5,268,0,"Running",30,0,0]
[3,0,12,17,3,"Austin Dillon ","Chevrolet","","29/0",268,"Running",0,0,null,12,"#3 Austin Dillon ","Chevrolet",17,268,0,"Running",29,0,0]
[41,0,13,16,41,"Kurt Busch ","Chevrolet","","28/0",268,"Running",0,0,null,13,"#41 Kurt Busch ","Chevrolet",16,268,0,"Running",28,0,0]
[27,0,14,28,27,"Paul Menard ","Chevrolet","","27/0",268,"Running",0,0,null,14,"#27 Paul Menard ","Chevrolet",28,268,0,"Running",27,0,0]
[44,0,15,22,44,"Brian Scott ","Ford","","26/0",268,"Running",0,0,null,15,"#44 Brian Scott ","Ford",22,268,0,"Running",26,0,0]
[88,0,16,19,88,"Alex Bowman ","Chevrolet","","0/0",268,"Running",0,0,null,16,"#88 Alex Bowman ","Chevrolet",19,268,0,"Running",0,0,0]
[16,0,17,21,16,"Greg Biffle ","Ford","","24/0",267,"Running",0,0,null,17,"#16 Greg Biffle ","Ford",21,267,0,"Running",24,0,0]
[13,0,18,23,13,"Casey Mears ","Chevrolet","","23/0",267,"Running",0,0,null,18,"#13 Casey Mears ","Chevrolet",23,267,0,"Running",23,0,0]
[10,0,19,30,10,"Danica Patrick ","Chevrolet","","22/0",266,"Running",0,0,null,19,"#10 Danica Patrick ","Chevrolet",30,266,0,"Running",22,0,0]
[6,0,20,20,6,"Trevor Bayne ","Ford","","21/0",266,"Running",0,0,null,20,"#6 Trevor Bayne ","Ford",20,266,0,"Running",21,0,0]
[38,0,21,32,38,"Landon Cassill ","Ford","","20/0",266,"Running",0,0,null,21,"#38 Landon Cassill ","Ford",32,266,0,"Running",20,0,0]
[14,0,22,11,14,"Tony Stewart ","Chevrolet","","19/0",266,"Running",0,0,null,22,"#14 Tony Stewart ","Chevrolet",11,266,0,"Running",19,0,0]
[15,0,23,33,15,"Clint Bowyer ","Chevrolet","","18/0",266,"Running",0,0,null,23,"#15 Clint Bowyer ","Chevrolet",33,266,0,"Running",18,0,0]
[34,0,24,27,34,"Chris Buescher ","Ford","","17/0",266,"Running",0,0,null,24,"#34 Chris Buescher ","Ford",27,266,0,"Running",17,0,0]
[31,0,25,3,31,"Ryan Newman ","Chevrolet","","16/0",264,"Accident",0,0,null,25,"#31 Ryan Newman ","Chevrolet",3,264,0,"Accident",16,0,0]
[21,0,26,8,21,"Ryan Blaney ","Ford","","15/0",264,"Running",0,0,null,26,"#21 Ryan Blaney ","Ford",8,264,0,"Running",15,0,0]
[93,0,27,31,93,"Matt DiBenedetto ","Toyota","","14/0",264,"Running",0,0,null,27,"#93 Matt DiBenedetto ","Toyota",31,264,0,"Running",14,0,0]
[46,0,28,40,46,"Michael Annett ","Chevrolet","","13/0",264,"Running",0,0,null,28,"#46 Michael Annett ","Chevrolet",40,264,0,"Running",13,0,0]
[23,0,29,36,23,"David Ragan ","Toyota","","12/0",264,"Running",0,0,null,29,"#23 David Ragan ","Toyota",36,264,0,"Running",12,0,0]
[17,0,30,18,17,"Ricky Stenhouse Jr. ","Ford","","11/0",262,"Accident",0,0,null,30,"#17 Ricky Stenhouse Jr. ","Ford",18,262,0,"Accident",11,0,0]
[83,0,31,38,83,"Jeffrey Earnhardt ","Toyota","","10/0",261,"Running",0,0,null,31,"#83 Jeffrey Earnhardt ","Toyota",38,261,0,"Running",10,0,0]
[55,0,32,37,55,"Reed Sorenson ","Toyota","","9/0",259,"Running",0,0,null,32,"#55 Reed Sorenson ","Toyota",37,259,0,"Running",9,0,0]
[95,0,33,34,95,"Ty Dillon ","Chevrolet","","0/0",258,"Accident",0,0,null,33,"#95 Ty Dillon ","Chevrolet",34,258,0,"Accident",0,0,0]
[19,0,34,10,19,"Carl Edwards ","Toyota","","7/0",257,"Accident",47,0,null,34,"#19 Carl Edwards ","Toyota",10,257,47,"Accident",7,0,0]
[2,0,35,2,2,"Brad Keselowski ","Ford","","6/0",257,"Accident",0,0,null,35,"#2 Brad Keselowski ","Ford",2,257,0,"Accident",6,0,0]
[78,0,36,6,78,"Martin Truex Jr. ","Toyota","","5/0",257,"Accident",0,0,null,36,"#78 Martin Truex Jr. ","Toyota",6,257,0,"Accident",5,0,0]
[5,0,37,29,5,"Kasey Kahne ","Chevrolet","","4/0",257,"Accident",0,0,null,37,"#5 Kasey Kahne ","Chevrolet",29,257,0,"Accident",4,0,0]
[7,0,38,35,7,"Regan Smith ","Chevrolet","","3/0",255,"Accident",0,0,null,38,"#7 Regan Smith ","Chevrolet",35,255,0,"Accident",3,0,0]
[32,0,39,39,32,"Dylan Lupton ","Ford","","0/0",250,"Running",0,0,null,39,"#32 Dylan Lupton ","Ford",39,250,0,"Running",0,0,0]
[43,0,40,25,43,"Aric Almirola ","Ford","","1/0",213,"Running",0,0,null,40,"#43 Aric Almirola ","Ford",25,213,0,"Running",1,0,0]
[]
[]
[]
[]
[]
[]
[]
[]
[]
[]
[]
[]
[]
[]
[]
[]
[]
[]
[]
[]
[]
[]
[]
[]
[]
[]
[]
[]
[]
[]
[]
[]
[]
[]
[]
[]
[]
[]
[]
[]
[]
[]
[]
[]
[]
[]
[]
[]
[]
[]
[]
[]
[]
[]
[]
[]
[]
[]
[]
[]
[]
[]
[]
[]
[]
[]
[]
[]
[]
[]
[]
[]
[]
[]
[]
[]
[]
[]
[]
[]
[]
[]
[]
[]
[]
[]
[]
[]
[]
[]
[]
[]
[]
[]
[]
[]
[]
[]
[]
[]
[]
[]
[]
[]
[]
[]
[]
[]
[]
[]
[]
[]
[]
[]
[]
[]
[]
[]
[]
[]
[]
[]
[]
[]
[]
[]
[]
[]
[]
[]
[]
[]
[]
[]
[]
[]
[]
[]
[]
[]
[]
[]
[]
[]
[]
[]
[]
[]
[]
[]
[]
[]
[]
[]
[]
[]
[]
[]
[]
[]
[null,null,null,null,null,null,null,null,null,null,null,null,null,null,"Pos","Driver","MFG","Start","Laps","Led","Status","Pts","Bonus","Earnings"]
[null,null,null,null,null,null,null,null,null,null,null,null,null,null,1,"#4 Kevin Harvick ","Chevrolet",13,312,224,"Running",48,5,260048]
[null,null,null,null,null,null,null,null,null,null,null,null,null,null,2,"#88 Dale Earnhardt Jr. ","Chevrolet",5,312,0,"Running",42,0,172240]
[null,null,null,null,null,null,null,null,null,null,null,null,null,null,3,"#2 Brad Keselowski ","Ford",1,312,3,"Running",42,1,180673]
[null,null,null,null,null,null,null,null,null,null,null,null,null,null,4,"#22 Joey Logano ","Ford",2,312,71,"Running",41,1,159641]
[null,null,null,null,null,null,null,null,null,null,null,null,null,null,5,"#24 Jeff Gordon ","Chevrolet",17,312,4,"Running",40,1,159326]
[null,null,null,null,null,null,null,null,null,null,null,null,null,null,6,"#48 Jimmie Johnson ","Chevrolet",4,312,0,"Running",38,0,152266]
[null,null,null,null,null,null,null,null,null,null,null,null,null,null,7,"#31 Ryan Newman ","Chevrolet",15,312,6,"Running",38,1,104380]
[null,null,null,null,null,null,null,null,null,null,null,null,null,null,8,"#99 Carl Edwards ","Ford",23,312,1,"Running",37,1,117330]
[null,null,null,null,null,null,null,null,null,null,null,null,null,null,9,"#18 Kyle Busch ","Toyota",7,312,0,"Running",35,0,132871]
[null,null,null,null,null,null,null,null,null,null,null,null,null,null,10,"#1 Jamie McMurray ","Chevrolet",3,312,0,"Running",34,0,122444]
[null,null,null,null,null,null,null,null,null,null,null,null,null,null,11,"#5 Kasey Kahne ","Chevrolet",11,312,0,"Running",33,0,101430]
[null,null,null,null,null,null,null,null,null,null,null,null,null,null,12,"#20 Matt Kenseth ","Toyota",19,312,0,"Running",32,0,130266]
[null,null,null,null,null,null,null,null,null,null,null,null,null,null,13,"#15 Clint Bowyer ","Toyota",14,312,1,"Running",32,1,118671]
[null,null,null,null,null,null,null,null,null,null,null,null,null,null,14,"#13 Casey Mears ","Chevrolet",18,312,0,"Running",30,0,108513]
[null,null,null,null,null,null,null,null,null,null,null,null,null,null,15,"#43 Aric Almirola ","Ford",9,312,0,"Running",29,0,119066]
[null,null,null,null,null,null,null,null,null,null,null,null,null,null,16,"#14 Tony Stewart ","Chevrolet",20,312,0,"Running",28,0,114963]
[null,null,null,null,null,null,null,null,null,null,null,null,null,null,17,"#16 Greg Biffle ","Ford",6,312,0,"Running",27,0,120480]
[null,null,null,null,null,null,null,null,null,null,null,null,null,null,18,"#17 Ricky Stenhouse Jr. ","Ford",21,312,0,"Running",26,0,115605]
[null,null,null,null,null,null,null,null,null,null,null,null,null,null,19,"#11 Denny Hamlin ","Toyota",12,312,0,"Running",25,0,87480]
[null,null,null,null,null,null,null,null,null,null,null,null,null,null,20,"#42 Kyle Larson ","Chevrolet",8,312,0,"Running",24,0,108200]
[null,null,null,null,null,null,null,null,null,null,null,null,null,null,21,"#9 Marcos Ambrose ","Ford",29,311,0,"Running",23,0,105250]
[null,null,null,null,null,null,null,null,null,null,null,null,null,null,22,"#78 Martin Truex Jr. ","Chevrolet",27,311,0,"Running",22,0,106538]
[null,null,null,null,null,null,null,null,null,null,null,null,null,null,23,"#27 Paul Menard ","Chevrolet",22,311,0,"Running",21,0,105594]
[null,null,null,null,null,null,null,null,null,null,null,null,null,null,24,"#3 Austin Dillon ","Chevrolet",24,311,0,"Running",20,0,123466]
[null,null,null,null,null,null,null,null,null,null,null,null,null,null,25,"#55 Brian Vickers ","Toyota",16,311,0,"Running",19,0,110680]
[null,null,null,null,null,null,null,null,null,null,null,null,null,null,26,"#47 A J Allmendinger ","Chevrolet",25,310,0,"Running",18,0,93938]
[null,null,null,null,null,null,null,null,null,null,null,null,null,null,27,"#26 Cole Whitt ","Toyota",31,310,0,"Running",17,0,74355]
[null,null,null,null,null,null,null,null,null,null,null,null,null,null,28,"#34 David Ragan ","Ford",30,310,0,"Running",16,0,99588]
[null,null,null,null,null,null,null,null,null,null,null,null,null,null,29,"#38 David Gilliland ","Ford",28,309,2,"Running",16,1,96863]
[null,null,null,null,null,null,null,null,null,null,null,null,null,null,30,"#51 Justin Allgaier ","Chevrolet",43,309,0,"Running",14,0,96002]
[null,null,null,null,null,null,null,null,null,null,null,null,null,null,31,"#36 Reed Sorenson ","Chevrolet",39,308,0,"Running",13,0,76790]
[null,null,null,null,null,null,null,null,null,null,null,null,null,null,32,"#33 Brian Scott ","Chevrolet",32,308,0,"Running",0,0,76105]
[null,null,null,null,null,null,null,null,null,null,null,null,null,null,33,"#95 Michael McDowell ","Ford",26,307,0,"Running",11,0,73480]
[null,null,null,null,null,null,null,null,null,null,null,null,null,null,34,"#7 Michael Annett ","Chevrolet",41,307,0,"Running",10,0,73355]
[null,null,null,null,null,null,null,null,null,null,null,null,null,null,35,"#83 Ryan Truex ","Toyota",34,307,0,"Running",9,0,73230]
[null,null,null,null,null,null,null,null,null,null,null,null,null,null,36,"#10 Danica Patrick ","Chevrolet",33,306,0,"Running",8,0,81075]
[null,null,null,null,null,null,null,null,null,null,null,null,null,null,37,"#35 Blake Koch ","Ford",37,306,0,"Running",0,0,72946]
[null,null,null,null,null,null,null,null,null,null,null,null,null,null,38,"#32 Travis Kvapil ","Ford",40,302,0,"Running",6,0,68380]
[null,null,null,null,null,null,null,null,null,null,null,null,null,null,39,"#41 Kurt Busch ","Chevrolet",10,292,0,"Engine",5,0,64380]
[null,null,null,null,null,null,null,null,null,null,null,null,null,null,40,"#66 Joe Nemechek ","Toyota",38,292,0,"Running",0,0,68380]
[null,null,null,null,null,null,null,null,null,null,null,null,null,null,41,"#23 Alex Bowman ","Toyota",35,230,0,"Brakes",3,0,56380]
[null,null,null,null,null,null,null,null,null,null,null,null,null,null,42,"#30 Parker Kligerman ","Toyota",36,226,0,"Engine",2,0,52380]
[null,null,null,null,null,null,null,null,null,null,null,null,null,null,43,"#87 Morgan Shepherd ","Toyota",42,28,0,"Brakes",0,0,48880]
[null,null,null,null,null,null,null,null,null,null,null,null,null,null,"MSN Ad Configuration"]
[]
[null,null,null,null,null,null,null,null,null,null,null,null,null,null,"DEFAULT"]
[null,null,null,null,null,null,null,null,null,null,null,null,null,null,"PG=SPTFBB"]
[null,null,null,null,null,null,null,null,null,null,null,null,null,null,"AP=1089"]
[null,null,null,null,null,null,null,null,null,null,null,null,null,null,"SIZE=300x250"]
[]
[null,null,null,null,null,null,null,null,null,null,null,null,null,null,"2 COLUMN"]
[null,null,null,null,null,null,null,null,null,null,null,null,null,null,"PG=SPTFBB"]
[null,null,null,null,null,null,null,null,null,null,null,null,null,null,"AP=1089"]
[null,null,null,null,null,null,null,null,null,null,null,null,null,null,"SIZE=300x250"]
[]
[null,null,null,null,null,null,null,null,null,null,null,null,null,null,"1 COLUMN"]
[null,null,null,null,null,null,null,null,null,null,null,null,null,null,"PG=SPTFBB"]
[null,null,null,null,null,null,null,null,null,null,null,null,null,null,"AP=1089"]
[null,null,null,null,null,null,null,null,null,null,null,null,null,null,"SIZE=300x250"]

{"sheet":"Stage Results","index":4,"n_rows":42,"n_cols":16,"rows_kept":42,"cut":false,"hidden":false,"merged":[]}
[]
["Pos","No","Driver","Team","Manufacturer","Points",null,null,"Pos","Grid","No","Driver","Team","Manufacturer","Laps","Points"]
["1","22","Joey Logano","Team Penske","Ford",10,null,null,1,"6","24","William Byron","Hendrick Motorsports","Chevrolet","164",44]
["2","20","Erik Jones","Joe Gibbs Racing","Toyota",9,null,null,2,"27","9","Chase Elliott","Hendrick Motorsports","Chevrolet","164",35]
["3","8","Tyler Reddick (R)","Richard Childress Racing","Chevrolet",8,null,null,3,"10","11","Denny Hamlin","Joe Gibbs Racing","Toyota","164",36]
["4","12","Ryan Blaney","Team Penske","Ford",7,null,null,4,"2","19","Martin Truex Jr.","Joe Gibbs Racing","Toyota","164",42]
["5","48","Jimmie Johnson","Hendrick Motorsports","Chevrolet",6,null,null,5,"21","43","Bubba Wallace","Richard Petty Motorsports","Chevrolet","164",32]
["6","95","Christopher Bell (R)","Leavine Family Racing","Toyota",5,null,null,6,"9","12","Ryan Blaney","Team Penske","Ford","164",40]
["7","24","William Byron","Hendrick Motorsports","Chevrolet",4,null,null,7,"8","88","Alex Bowman","Hendrick Motorsports","Chevrolet","164",30]
["8","34","Michael McDowell","Front Row Motorsports","Ford",3,null,null,8,"40","62","Brendan Gaughan","Beard Motorsports","Chevrolet","164",29]
["9","11","Denny Hamlin","Joe Gibbs Racing","Toyota",2,null,null,9,"17","17","Chris Buescher","Roush Fenway Racing","Ford","164",28]
["10","18","Kyle Busch","Joe Gibbs Racing","Toyota",1,null,null,10,"4","2","Brad Keselowski","Team Penske","Ford","164",32]
[null,null,null,null,null,null,null,null,11,"24","38","John Hunter Nemechek (R)","Front Row Motorsports","Ford","164",26]
[null,null,null,null,null,null,null,null,12,"15","21","Matt DiBenedetto","Wood Brothers Racing","Ford","164",29]
[null,null,null,null,null,null,null,null,13,"23","95","Christopher Bell (R)","Leavine Family Racing","Toyota","164",30]
[null,null,null,null,null,null,null,null,14,"26","34","Michael McDowell","Front Row Motorsports","Ford","164",26]
[null,null,null,null,null,null,null,null,15,"32","15","Brennan Poole (R)","Premium Motorsports","Chevrolet","164",22]
[null,null,null,null,null,null,null,null,16,"36","77","Ross Chastain (i)","Spire Motorsports","Chevrolet","164",21]
[null,null,null,null,null,null,null,null,17,"7","48","Jimmie Johnson","Hendrick Motorsports","Chevrolet","164",32]
["Pos","No","Driver","Team","Manufacturer","Points",null,null,18,"5","10","Aric Almirola","Stewart-Haas Racing","Ford","164",19]
["1","22","Joey Logano","Team Penske","Ford",10,null,null,19,"14","14","Clint Bowyer","Stewart-Haas Racing","Ford","164",26]
["2","19","Martin Truex Jr.","Joe Gibbs Racing","Toyota",9,null,null,20,"1","4","Kevin Harvick","Stewart-Haas Racing","Ford","164",17]
["3","14","Clint Bowyer","Stewart-Haas Racing","Ford",8,null,null,21,"25","32","Corey LaJoie","Go Fas Racing","Ford","163",16]
["4","1","Kurt Busch","Chip Ganassi Racing","Chevrolet",7,null,null,22,"29","13","Ty Dillon","Germain Racing","Chevrolet","163",15]
["5","48","Jimmie Johnson","Hendrick Motorsports","Chevrolet",6,null,null,23,"34","00","Quin Houff (R)","StarCom Racing","Chevrolet","162",14]
["6","2","Brad Keselowski","Team Penske","Ford",5,null,null,24,"35","66","Timmy Hill (i)","MBM Motorsports","Toyota","161",13]
["7","21","Matt DiBenedetto","Wood Brothers Racing","Ford",4,null,null,25,"12","3","Austin Dillon","Richard Childress Racing","Chevrolet","161",12]
["8","47","Ricky Stenhouse Jr.","JTG Daugherty Racing","Chevrolet",3,null,null,26,"30","96","Daniel Suárez","Gaunt Brothers Racing","Toyota","159",11]
["9","12","Ryan Blaney","Team Penske","Ford",2,null,null,27,"3","22","Joey Logano","Team Penske","Ford","158",30]
["10","95","Christopher Bell (R)","Leavine Family Racing","Toyota",1,null,null,28,"19","42","Matt Kenseth","Chip Ganassi Racing","Chevrolet","158",9]
[null,null,null,null,null,null,null,null,29,"18","8","Tyler Reddick (R)","Richard Childress Racing","Chevrolet","158",16]
[null,null,null,null,null,null,null,null,30,"16","41","Cole Custer (R)","Stewart-Haas Racing","Ford","158",7]
[null,null,null,null,null,null,null,null,31,"37","53","Joey Gase (i)","Rick Ware Racing","Ford","158",6]
[null,null,null,null,null,null,null,null,32,"31","47","Ricky Stenhouse Jr.","JTG Daugherty Racing","Chevrolet","155",8]
[null,null,null,null,null,null,null,null,33,"11","18","Kyle Busch","Joe Gibbs Racing","Toyota","152",5]
[null,null,null,null,null,null,null,null,34,"13","1","Kurt Busch","Chip Ganassi Racing","Chevrolet","151",10]
[null,null,null,null,null,null,null,null,35,"20","20","Erik Jones","Joe Gibbs Racing","Toyota","151",11]
[null,null,null,null,null,null,null,null,36,"22","6","Ryan Newman","Roush Fenway Racing","Ford","151",1]
[null,null,null,null,null,null,null,null,37,"28","37","Ryan Preece","JTG Daugherty Racing","Chevrolet","151",1]
[null,null,null,null,null,null,null,null,38,"39","7","Josh Bilicki (i)","Tommy Baldwin Racing","Chevrolet","151",1]
[null,null,null,null,null,null,null,null,39,"38","51","James Davison","Petty Ware Racing","Ford","139",1]
[null,null,null,null,null,null,null,null,40,"33","27","J. J. Yeley (i)","Rick Ware Racing","Chevrolet","3",1]

{"sheet":"Last Race Results","index":5,"n_rows":264,"n_cols":11,"rows_kept":264,"cut":false,"hidden":false,"merged":[]}
[null,"https://en.wikipedia.org/wiki/2020_NASCAR_Cup_Series#Schedule"]
[]
[]
["Car Number","Position","Car #","Driver","Team","Manuafurer","Laps","Points","S1 Points","S2 Point","Total"]
[{"$f":"IF(C5=\"00\",C5,VALUE(C5))","v":24},{"$f":"VALUE('Stage Results'!I3)","v":1},{"$f":"'Stage Results'!K3","v":"24"},{"$f":"'Stage Results'!L3","v":"William Byron"},{"$f":"'Stage Results'!M3","v":"Hendrick Motorsports"},{"$f":"'Stage Results'!N3","v":"Chevrolet"},{"$f":"'Stage Results'!O3","v":"164"},{"$f":"'Stage Results'!P3","v":44},{"$f":"_xlfn.IFNA(VLOOKUP(C5,'Stage Results'!$B$3:$F$12,5,FALSE),0)","v":4},{"$f":"_xlfn.IFNA(VLOOKUP(C5,'Stage Results'!$B$21:$F$30,5,FALSE),0)","v":0},{"$f":"H5","v":44}]
[{"$f":"IF(C6=\"00\",C6,VALUE(C6))","v":9},{"$f":"VALUE('Stage Results'!I4)","v":2},{"$f":"'Stage Results'!K4","v":"9"},{"$f":"'Stage Results'!L4","v":"Chase Elliott"},{"$f":"'Stage Results'!M4","v":"Hendrick Motorsports"},{"$f":"'Stage Results'!N4","v":"Chevrolet"},{"$f":"'Stage Results'!O4","v":"164"},{"$f":"'Stage Results'!P4","v":35},{"$f":"_xlfn.IFNA(VLOOKUP(C6,'Stage Results'!$B$3:$F$12,5,FALSE),0)","v":0},{"$f":"_xlfn.IFNA(VLOOKUP(C6,'Stage Results'!$B$21:$F$30,5,FALSE),0)","v":0},{"$f":"H6","v":35}]
[11,{"$f":"VALUE('Stage Results'!I5)","v":3},{"$f":"'Stage Results'!K5","v":"11"},{"$f":"'Stage Results'!L5","v":"Denny Hamlin"},{"$f":"'Stage Results'!M5","v":"Joe Gibbs Racing"},{"$f":"'Stage Results'!N5","v":"Toyota"},{"$f":"'Stage Results'!O5","v":"164"},{"$f":"'Stage Results'!P5","v":36},{"$f":"_xlfn.IFNA(VLOOKUP(C7,'Stage Results'!$B$3:$F$12,5,FALSE),0)","v":2},{"$f":"_xlfn.IFNA(VLOOKUP(C7,'Stage Results'!$B$21:$F$30,5,FALSE),0)","v":0},36]
[19,{"$f":"VALUE('Stage Results'!I6)","v":4},{"$f":"'Stage Results'!K6","v":"19"},{"$f":"'Stage Results'!L6","v":"Martin Truex Jr."},{"$f":"'Stage Results'!M6","v":"Joe Gibbs Racing"},{"$f":"'Stage Results'!N6","v":"Toyota"},{"$f":"'Stage Results'!O6","v":"164"},{"$f":"'Stage Results'!P6","v":42},{"$f":"_xlfn.IFNA(VLOOKUP(C8,'Stage Results'!$B$3:$F$12,5,FALSE),0)","v":0},{"$f":"_xlfn.IFNA(VLOOKUP(C8,'Stage Results'!$B$21:$F$30,5,FALSE),0)","v":9},42]
[43,{"$f":"VALUE('Stage Results'!I7)","v":5},{"$f":"'Stage Results'!K7","v":"43"},{"$f":"'Stage Results'!L7","v":"Bubba Wallace"},{"$f":"'Stage Results'!M7","v":"Richard Petty Motorsports"},{"$f":"'Stage Results'!N7","v":"Chevrolet"},{"$f":"'Stage Results'!O7","v":"164"},{"$f":"'Stage Results'!P7","v":32},{"$f":"_xlfn.IFNA(VLOOKUP(C9,'Stage Results'!$B$3:$F$12,5,FALSE),0)","v":0},{"$f":"_xlfn.IFNA(VLOOKUP(C9,'Stage Results'!$B$21:$F$30,5,FALSE),0)","v":0},32]
[12,{"$f":"VALUE('Stage Results'!I8)","v":6},{"$f":"'Stage Results'!K8","v":"12"},{"$f":"'Stage Results'!L8","v":"Ryan Blaney"},{"$f":"'Stage Results'!M8","v":"Team Penske"},{"$f":"'Stage Results'!N8","v":"Ford"},{"$f":"'Stage Results'!O8","v":"164"},{"$f":"'Stage Results'!P8","v":40},{"$f":"_xlfn.IFNA(VLOOKUP(C10,'Stage Results'!$B$3:$F$12,5,FALSE),0)","v":7},{"$f":"_xlfn.IFNA(VLOOKUP(C10,'Stage Results'!$B$21:$F$30,5,FALSE),0)","v":2},40]
[88,{"$f":"VALUE('Stage Results'!I9)","v":7},{"$f":"'Stage Results'!K9","v":"88"},{"$f":"'Stage Results'!L9","v":"Alex Bowman"},{"$f":"'Stage Results'!M9","v":"Hendrick Motorsports"},{"$f":"'Stage Results'!N9","v":"Chevrolet"},{"$f":"'Stage Results'!O9","v":"164"},{"$f":"'Stage Results'!P9","v":30},{"$f":"_xlfn.IFNA(VLOOKUP(C11,'Stage Results'!$B$3:$F$12,5,FALSE),0)","v":0},{"$f":"_xlfn.IFNA(VLOOKUP(C11,'Stage Results'!$B$21:$F$30,5,FALSE),0)","v":0},30]
[62,{"$f":"VALUE('Stage Results'!I10)","v":8},{"$f":"'Stage Results'!K10","v":"62"},{"$f":"'Stage Results'!L10","v":"Brendan Gaughan"},{"$f":"'Stage Results'!M10","v":"Beard Motorsports"},{"$f":"'Stage Results'!N10","v":"Chevrolet"},{"$f":"'Stage Results'!O10","v":"164"},{"$f":"'Stage Results'!P10","v":29},{"$f":"_xlfn.IFNA(VLOOKUP(C12,'Stage Results'!$B$3:$F$12,5,FALSE),0)","v":0},{"$f":"_xlfn.IFNA(VLOOKUP(C12,'Stage Results'!$B$21:$F$30,5,FALSE),0)","v":0},29]
[17,{"$f":"VALUE('Stage Results'!I11)","v":9},{"$f":"'Stage Results'!K11","v":"17"},{"$f":"'Stage Results'!L11","v":"Chris Buescher"},{"$f":"'Stage Results'!M11","v":"Roush Fenway Racing"},{"$f":"'Stage Results'!N11","v":"Ford"},{"$f":"'Stage Results'!O11","v":"164"},{"$f":"'Stage Results'!P11","v":28},{"$f":"_xlfn.IFNA(VLOOKUP(C13,'Stage Results'!$B$3:$F$12,5,FALSE),0)","v":0},{"$f":"_xlfn.IFNA(VLOOKUP(C13,'Stage Results'!$B$21:$F$30,5,FALSE),0)","v":0},28]
[2,{"$f":"VALUE('Stage Results'!I12)","v":10},{"$f":"'Stage Results'!K12","v":"2"},{"$f":"'Stage Results'!L12","v":"Brad Keselowski"},{"$f":"'Stage Results'!M12","v":"Team Penske"},{"$f":"'Stage Results'!N12","v":"Ford"},{"$f":"'Stage Results'!O12","v":"164"},{"$f":"'Stage Results'!P12","v":32},{"$f":"_xlfn.IFNA(VLOOKUP(C14,'Stage Results'!$B$3:$F$12,5,FALSE),0)","v":0},{"$f":"_xlfn.IFNA(VLOOKUP(C14,'Stage Results'!$B$21:$F$30,5,FALSE),0)","v":5},32]
[38,{"$f":"VALUE('Stage Results'!I13)","v":11},{"$f":"'Stage Results'!K13","v":"38"},{"$f":"'Stage Results'!L13","v":"John Hunter Nemechek (R)"},{"$f":"'Stage Results'!M13","v":"Front Row Motorsports"},{"$f":"'Stage Results'!N13","v":"Ford"},{"$f":"'Stage Results'!O13","v":"164"},{"$f":"'Stage Results'!P13","v":26},{"$f":"_xlfn.IFNA(VLOOKUP(C15,'Stage Results'!$B$3:$F$12,5,FALSE),0)","v":0},{"$f":"_xlfn.IFNA(VLOOKUP(C15,'Stage Results'!$B$21:$F$30,5,FALSE),0)","v":0},26]
[21,{"$f":"VALUE('Stage Results'!I14)","v":12},{"$f":"'Stage Results'!K14","v":"21"},{"$f":"'Stage Results'!L14","v":"Matt DiBenedetto"},{"$f":"'Stage Results'!M14","v":"Wood Brothers Racing"},{"$f":"'Stage Results'!N14","v":"Ford"},{"$f":"'Stage Results'!O14","v":"164"},{"$f":"'Stage Results'!P14","v":29},{"$f":"_xlfn.IFNA(VLOOKUP(C16,'Stage Results'!$B$3:$F$12,5,FALSE),0)","v":0},{"$f":"_xlfn.IFNA(VLOOKUP(C16,'Stage Results'!$B$21:$F$30,5,FALSE),0)","v":4},29]
[95,{"$f":"VALUE('Stage Results'!I15)","v":13},{"$f":"'Stage Results'!K15","v":"95"},{"$f":"'Stage Results'!L15","v":"Christopher Bell (R)"},{"$f":"'Stage Results'!M15","v":"Leavine Family Racing"},{"$f":"'Stage Results'!N15","v":"Toyota"},{"$f":"'Stage Results'!O15","v":"164"},{"$f":"'Stage Results'!P15","v":30},{"$f":"_xlfn.IFNA(VLOOKUP(C17,'Stage Results'!$B$3:$F$12,5,FALSE),0)","v":5},{"$f":"_xlfn.IFNA(VLOOKUP(C17,'Stage Results'!$B$21:$F$30,5,FALSE),0)","v":1},30]
[34,{"$f":"VALUE('Stage Results'!I16)","v":14},{"$f":"'Stage Results'!K16","v":"34"},{"$f":"'Stage Results'!L16","v":"Michael McDowell"},{"$f":"'Stage Results'!M16","v":"Front Row Motorsports"},{"$f":"'Stage Results'!N16","v":"Ford"},{"$f":"'Stage Results'!O16","v":"164"},{"$f":"'Stage Results'!P16","v":26},{"$f":"_xlfn.IFNA(VLOOKUP(C18,'Stage Results'!$B$3:$F$12,5,FALSE),0)","v":3},{"$f":"_xlfn.IFNA(VLOOKUP(C18,'Stage Results'!$B$21:$F$30,5,FALSE),0)","v":0},26]
[15,{"$f":"VALUE('Stage Results'!I17)","v":15},{"$f":"'Stage Results'!K17","v":"15"},{"$f":"'Stage Results'!L17","v":"Brennan Poole (R)"},{"$f":"'Stage Results'!M17","v":"Premium Motorsports"},{"$f":"'Stage Results'!N17","v":"Chevrolet"},{"$f":"'Stage Results'!O17","v":"164"},{"$f":"'Stage Results'!P17","v":22},{"$f":"_xlfn.IFNA(VLOOKUP(C19,'Stage Results'!$B$3:$F$12,5,FALSE),0)","v":0},{"$f":"_xlfn.IFNA(VLOOKUP(C19,'Stage Results'!$B$21:$F$30,5,FALSE),0)","v":0},22]
[77,{"$f":"VALUE('Stage Results'!I18)","v":16},{"$f":"'Stage Results'!K18","v":"77"},{"$f":"'Stage Results'!L18","v":"Ross Chastain (i)"},{"$f":"'Stage Results'!M18","v":"Spire Motorsports"},{"$f":"'Stage Results'!N18","v":"Chevrolet"},{"$f":"'Stage Results'!O18","v":"164"},{"$f":"'Stage Results'!P18","v":21},{"$f":"_xlfn.IFNA(VLOOKUP(C20,'Stage Results'!$B$3:$F$12,5,FALSE),0)","v":0},{"$f":"_xlfn.IFNA(VLOOKUP(C20,'Stage Results'!$B$21:$F$30,5,FALSE),0)","v":0},21]
[48,{"$f":"VALUE('Stage Results'!I19)","v":17},{"$f":"'Stage Results'!K19","v":"48"},{"$f":"'Stage Results'!L19","v":"Jimmie Johnson"},{"$f":"'Stage Results'!M19","v":"Hendrick Motorsports"},{"$f":"'Stage Results'!N19","v":"Chevrolet"},{"$f":"'Stage Results'!O19","v":"164"},{"$f":"'Stage Results'!P19","v":32},{"$f":"_xlfn.IFNA(VLOOKUP(C21,'Stage Results'!$B$3:$F$12,5,FALSE),0)","v":6},{"$f":"_xlfn.IFNA(VLOOKUP(C21,'Stage Results'!$B$21:$F$30,5,FALSE),0)","v":6},32]
[10,{"$f":"VALUE('Stage Results'!I20)","v":18},{"$f":"'Stage Results'!K20","v":"10"},{"$f":"'Stage Results'!L20","v":"Aric Almirola"},{"$f":"'Stage Results'!M20","v":"Stewart-Haas Racing"},{"$f":"'Stage Results'!N20","v":"Ford"},{"$f":"'Stage Results'!O20","v":"164"},{"$f":"'Stage Results'!P20","v":19},{"$f":"_xlfn.IFNA(VLOOKUP(C22,'Stage Results'!$B$3:$F$12,5,FALSE),0)","v":0},{"$f":"_xlfn.IFNA(VLOOKUP(C22,'Stage Results'!$B$21:$F$30,5,FALSE),0)","v":0},19]
[14,{"$f":"VALUE('Stage Results'!I21)","v":19},{"$f":"'Stage Results'!K21","v":"14"},{"$f":"'Stage Results'!L21","v":"Clint Bowyer"},{"$f":"'Stage Results'!M21","v":"Stewart-Haas Racing"},{"$f":"'Stage Results'!N21","v":"Ford"},{"$f":"'Stage Results'!O21","v":"164"},{"$f":"'Stage Results'!P21","v":26},{"$f":"_xlfn.IFNA(VLOOKUP(C23,'Stage Results'!$B$3:$F$12,5,FALSE),0)","v":0},{"$f":"_xlfn.IFNA(VLOOKUP(C23,'Stage Results'!$B$21:$F$30,5,FALSE),0)","v":8},26]
[4,{"$f":"VALUE('Stage Results'!I22)","v":20},{"$f":"'Stage Results'!K22","v":"4"},{"$f":"'Stage Results'!L22","v":"Kevin Harvick"},{"$f":"'Stage Results'!M22","v":"Stewart-Haas Racing"},{"$f":"'Stage Results'!N22","v":"Ford"},{"$f":"'Stage Results'!O22","v":"164"},{"$f":"'Stage Results'!P22","v":17},{"$f":"_xlfn.IFNA(VLOOKUP(C24,'Stage Results'!$B$3:$F$12,5,FALSE),0)","v":0},{"$f":"_xlfn.IFNA(VLOOKUP(C24,'Stage Results'!$B$21:$F$30,5,FALSE),0)","v":0},17]
[32,{"$f":"VALUE('Stage Results'!I23)","v":21},{"$f":"'Stage Results'!K23","v":"32"},{"$f":"'Stage Results'!L23","v":"Corey LaJoie"},{"$f":"'Stage Results'!M23","v":"Go Fas Racing"},{"$f":"'Stage Results'!N23","v":"Ford"},{"$f":"'Stage Results'!O23","v":"163"},{"$f":"'Stage Results'!P23","v":16},{"$f":"_xlfn.IFNA(VLOOKUP(C25,'Stage Results'!$B$3:$F$12,5,FALSE),0)","v":0},{"$f":"_xlfn.IFNA(VLOOKUP(C25,'Stage Results'!$B$21:$F$30,5,FALSE),0)","v":0},16]
[13,{"$f":"VALUE('Stage Results'!I24)","v":22},{"$f":"'Stage Results'!K24","v":"13"},{"$f":"'Stage Results'!L24","v":"Ty Dillon"},{"$f":"'Stage Results'!M24","v":"Germain Racing"},{"$f":"'Stage Results'!N24","v":"Chevrolet"},{"$f":"'Stage Results'!O24","v":"163"},{"$f":"'Stage Results'!P24","v":15},{"$f":"_xlfn.IFNA(VLOOKUP(C26,'Stage Results'!$B$3:$F$12,5,FALSE),0)","v":0},{"$f":"_xlfn.IFNA(VLOOKUP(C26,'Stage Results'!$B$21:$F$30,5,FALSE),0)","v":0},15]
["00",{"$f":"VALUE('Stage Results'!I25)","v":23},{"$f":"'Stage Results'!K25","v":"00"},{"$f":"'Stage Results'!L25","v":"Quin Houff (R)"},{"$f":"'Stage Results'!M25","v":"StarCom Racing"},{"$f":"'Stage Results'!N25","v":"Chevrolet"},{"$f":"'Stage Results'!O25","v":"162"},{"$f":"'Stage Results'!P25","v":14},{"$f":"_xlfn.IFNA(VLOOKUP(C27,'Stage Results'!$B$3:$F$12,5,FALSE),0)","v":0},{"$f":"_xlfn.IFNA(VLOOKUP(C27,'Stage Results'!$B$21:$F$30,5,FALSE),0)","v":0},14]
[66,{"$f":"VALUE('Stage Results'!I26)","v":24},{"$f":"'Stage Results'!K26","v":"66"},{"$f":"'Stage Results'!L26","v":"Timmy Hill (i)"},{"$f":"'Stage Results'!M26","v":"MBM Motorsports"},{"$f":"'Stage Results'!N26","v":"Toyota"},{"$f":"'Stage Results'!O26","v":"161"},{"$f":"'Stage Results'!P26","v":13},{"$f":"_xlfn.IFNA(VLOOKUP(C28,'Stage Results'!$B$3:$F$12,5,FALSE),0)","v":0},{"$f":"_xlfn.IFNA(VLOOKUP(C28,'Stage Results'!$B$21:$F$30,5,FALSE),0)","v":0},13]
[3,{"$f":"VALUE('Stage Results'!I27)","v":25},{"$f":"'Stage Results'!K27","v":"3"},{"$f":"'Stage Results'!L27","v":"Austin Dillon"},{"$f":"'Stage Results'!M27","v":"Richard Childress Racing"},{"$f":"'Stage Results'!N27","v":"Chevrolet"},{"$f":"'Stage Results'!O27","v":"161"},{"$f":"'Stage Results'!P27","v":12},{"$f":"_xlfn.IFNA(VLOOKUP(C29,'Stage Results'!$B$3:$F$12,5,FALSE),0)","v":0},{"$f":"_xlfn.IFNA(VLOOKUP(C29,'Stage Results'!$B$21:$F$30,5,FALSE),0)","v":0},12]
[96,{"$f":"VALUE('Stage Results'!I28)","v":26},{"$f":"'Stage Results'!K28","v":"96"},{"$f":"'Stage Results'!L28","v":"Daniel Suárez"},{"$f":"'Stage Results'!M28","v":"Gaunt Brothers Racing"},{"$f":"'Stage Results'!N28","v":"Toyota"},{"$f":"'Stage Results'!O28","v":"159"},{"$f":"'Stage Results'!P28","v":11},{"$f":"_xlfn.IFNA(VLOOKUP(C30,'Stage Results'!$B$3:$F$12,5,FALSE),0)","v":0},{"$f":"_xlfn.IFNA(VLOOKUP(C30,'Stage Results'!$B$21:$F$30,5,FALSE),0)","v":0},11]
[22,{"$f":"VALUE('Stage Results'!I29)","v":27},{"$f":"'Stage Results'!K29","v":"22"},{"$f":"'Stage Results'!L29","v":"Joey Logano"},{"$f":"'Stage Results'!M29","v":"Team Penske"},{"$f":"'Stage Results'!N29","v":"Ford"},{"$f":"'Stage Results'!O29","v":"158"},{"$f":"'Stage Results'!P29","v":30},{"$f":"_xlfn.IFNA(VLOOKUP(C31,'Stage Results'!$B$3:$F$12,5,FALSE),0)","v":10},{"$f":"_xlfn.IFNA(VLOOKUP(C31,'Stage Results'!$B$21:$F$30,5,FALSE),0)","v":10},30]
[42,{"$f":"VALUE('Stage Results'!I30)","v":28},{"$f":"'Stage Results'!K30","v":"42"},{"$f":"'Stage Results'!L30","v":"Matt Kenseth"},{"$f":"'Stage Results'!M30","v":"Chip Ganassi Racing"},{"$f":"'Stage Results'!N30","v":"Chevrolet"},{"$f":"'Stage Results'!O30","v":"158"},{"$f":"'Stage Results'!P30","v":9},{"$f":"_xlfn.IFNA(VLOOKUP(C32,'Stage Results'!$B$3:$F$12,5,FALSE),0)","v":0},{"$f":"_xlfn.IFNA(VLOOKUP(C32,'Stage Results'!$B$21:$F$30,5,FALSE),0)","v":0},9]
[8,{"$f":"VALUE('Stage Results'!I31)","v":29},{"$f":"'Stage Results'!K31","v":"8"},{"$f":"'Stage Results'!L31","v":"Tyler Reddick (R)"},{"$f":"'Stage Results'!M31","v":"Richard Childress Racing"},{"$f":"'Stage Results'!N31","v":"Chevrolet"},{"$f":"'Stage Results'!O31","v":"158"},{"$f":"'Stage Results'!P31","v":16},{"$f":"_xlfn.IFNA(VLOOKUP(C33,'Stage Results'!$B$3:$F$12,5,FALSE),0)","v":8},{"$f":"_xlfn.IFNA(VLOOKUP(C33,'Stage Results'!$B$21:$F$30,5,FALSE),0)","v":0},16]
[41,{"$f":"VALUE('Stage Results'!I32)","v":30},{"$f":"'Stage Results'!K32","v":"41"},{"$f":"'Stage Results'!L32","v":"Cole Custer (R)"},{"$f":"'Stage Results'!M32","v":"Stewart-Haas Racing"},{"$f":"'Stage Results'!N32","v":"Ford"},{"$f":"'Stage Results'!O32","v":"158"},{"$f":"'Stage Results'!P32","v":7},{"$f":"_xlfn.IFNA(VLOOKUP(C34,'Stage Results'!$B$3:$F$12,5,FALSE),0)","v":0},{"$f":"_xlfn.IFNA(VLOOKUP(C34,'Stage Results'!$B$21:$F$30,5,FALSE),0)","v":0},7]
[53,{"$f":"VALUE('Stage Results'!I33)","v":31},{"$f":"'Stage Results'!K33","v":"53"},{"$f":"'Stage Results'!L33","v":"Joey Gase (i)"},{"$f":"'Stage Results'!M33","v":"Rick Ware Racing"},{"$f":"'Stage Results'!N33","v":"Ford"},{"$f":"'Stage Results'!O33","v":"158"},{"$f":"'Stage Results'!P33","v":6},{"$f":"_xlfn.IFNA(VLOOKUP(C35,'Stage Results'!$B$3:$F$12,5,FALSE),0)","v":0},{"$f":"_xlfn.IFNA(VLOOKUP(C35,'Stage Results'!$B$21:$F$30,5,FALSE),0)","v":0},6]
[47,{"$f":"VALUE('Stage Results'!I34)","v":32},{"$f":"'Stage Results'!K34","v":"47"},{"$f":"'Stage Results'!L34","v":"Ricky Stenhouse Jr."},{"$f":"'Stage Results'!M34","v":"JTG Daugherty Racing"},{"$f":"'Stage Results'!N34","v":"Chevrolet"},{"$f":"'Stage Results'!O34","v":"155"},{"$f":"'Stage Results'!P34","v":8},{"$f":"_xlfn.IFNA(VLOOKUP(C36,'Stage Results'!$B$3:$F$12,5,FALSE),0)","v":0},{"$f":"_xlfn.IFNA(VLOOKUP(C36,'Stage Results'!$B$21:$F$30,5,FALSE),0)","v":3},8]
[18,{"$f":"VALUE('Stage Results'!I35)","v":33},{"$f":"'Stage Results'!K35","v":"18"},{"$f":"'Stage Results'!L35","v":"Kyle Busch"},{"$f":"'Stage Results'!M35","v":"Joe Gibbs Racing"},{"$f":"'Stage Results'!N35","v":"Toyota"},{"$f":"'Stage Results'!O35","v":"152"},{"$f":"'Stage Results'!P35","v":5},{"$f":"_xlfn.IFNA(VLOOKUP(C37,'Stage Results'!$B$3:$F$12,5,FALSE),0)","v":1},{"$f":"_xlfn.IFNA(VLOOKUP(C37,'Stage Results'!$B$21:$F$30,5,FALSE),0)","v":0},5]
[1,{"$f":"VALUE('Stage Results'!I36)","v":34},{"$f":"'Stage Results'!K36","v":"1"},{"$f":"'Stage Results'!L36","v":"Kurt Busch"},{"$f":"'Stage Results'!M36","v":"Chip Ganassi Racing"},{"$f":"'Stage Results'!N36","v":"Chevrolet"},{"$f":"'Stage Results'!O36","v":"151"},{"$f":"'Stage Results'!P36","v":10},{"$f":"_xlfn.IFNA(VLOOKUP(C38,'Stage Results'!$B$3:$F$12,5,FALSE),0)","v":0},{"$f":"_xlfn.IFNA(VLOOKUP(C38,'Stage Results'!$B$21:$F$30,5,FALSE),0)","v":7},10]
[20,{"$f":"VALUE('Stage Results'!I37)","v":35},{"$f":"'Stage Results'!K37","v":"20"},{"$f":"'Stage Results'!L37","v":"Erik Jones"},{"$f":"'Stage Results'!M37","v":"Joe Gibbs Racing"},{"$f":"'Stage Results'!N37","v":"Toyota"},{"$f":"'Stage Results'!O37","v":"151"},{"$f":"'Stage Results'!P37","v":11},{"$f":"_xlfn.IFNA(VLOOKUP(C39,'Stage Results'!$B$3:$F$12,5,FALSE),0)","v":9},{"$f":"_xlfn.IFNA(VLOOKUP(C39,'Stage Results'!$B$21:$F$30,5,FALSE),0)","v":0},11]
[6,{"$f":"VALUE('Stage Results'!I38)","v":36},{"$f":"'Stage Results'!K38","v":"6"},{"$f":"'Stage Results'!L38","v":"Ryan Newman"},{"$f":"'Stage Results'!M38","v":"Roush Fenway Racing"},{"$f":"'Stage Results'!N38","v":"Ford"},{"$f":"'Stage Results'!O38","v":"151"},{"$f":"'Stage Results'!P38","v":1},{"$f":"_xlfn.IFNA(VLOOKUP(C40,'Stage Results'!$B$3:$F$12,5,FALSE),0)","v":0},{"$f":"_xlfn.IFNA(VLOOKUP(C40,'Stage Results'!$B$21:$F$30,5,FALSE),0)","v":0},1]
[37,{"$f":"VALUE('Stage Results'!I39)","v":37},{"$f":"'Stage Results'!K39","v":"37"},{"$f":"'Stage Results'!L39","v":"Ryan Preece"},{"$f":"'Stage Results'!M39","v":"JTG Daugherty Racing"},{"$f":"'Stage Results'!N39","v":"Chevrolet"},{"$f":"'Stage Results'!O39","v":"151"},{"$f":"'Stage Results'!P39","v":1},{"$f":"_xlfn.IFNA(VLOOKUP(C41,'Stage Results'!$B$3:$F$12,5,FALSE),0)","v":0},{"$f":"_xlfn.IFNA(VLOOKUP(C41,'Stage Results'!$B$21:$F$30,5,FALSE),0)","v":0},1]
[7,{"$f":"VALUE('Stage Results'!I40)","v":38},{"$f":"'Stage Results'!K40","v":"7"},{"$f":"'Stage Results'!L40","v":"Josh Bilicki (i)"},{"$f":"'Stage Results'!M40","v":"Tommy Baldwin Racing"},{"$f":"'Stage Results'!N40","v":"Chevrolet"},{"$f":"'Stage Results'!O40","v":"151"},{"$f":"'Stage Results'!P40","v":1},{"$f":"_xlfn.IFNA(VLOOKUP(C42,'Stage Results'!$B$3:$F$12,5,FALSE),0)","v":0},{"$f":"_xlfn.IFNA(VLOOKUP(C42,'Stage Results'!$B$21:$F$30,5,FALSE),0)","v":0},1]
[51,{"$f":"VALUE('Stage Results'!I41)","v":39},{"$f":"'Stage Results'!K41","v":"51"},{"$f":"'Stage Results'!L41","v":"James Davison"},{"$f":"'Stage Results'!M41","v":"Petty Ware Racing"},{"$f":"'Stage Results'!N41","v":"Ford"},{"$f":"'Stage Results'!O41","v":"139"},{"$f":"'Stage Results'!P41","v":1},{"$f":"_xlfn.IFNA(VLOOKUP(C43,'Stage Results'!$B$3:$F$12,5,FALSE),0)","v":0},{"$f":"_xlfn.IFNA(VLOOKUP(C43,'Stage Results'!$B$21:$F$30,5,FALSE),0)","v":0},1]
[27,{"$f":"VALUE('Stage Results'!I42)","v":40},{"$f":"'Stage Results'!K42","v":"27"},{"$f":"'Stage Results'!L42","v":"J. J. Yeley (i)"},{"$f":"'Stage Results'!M42","v":"Rick Ware Racing"},{"$f":"'Stage Results'!N42","v":"Chevrolet"},{"$f":"'Stage Results'!O42","v":"3"},{"$f":"'Stage Results'!P42","v":1},{"$f":"_xlfn.IFNA(VLOOKUP(C44,'Stage Results'!$B$3:$F$12,5,FALSE),0)","v":0},{"$f":"_xlfn.IFNA(VLOOKUP(C44,'Stage Results'!$B$21:$F$30,5,FALSE),0)","v":0},1]
[]
[]
[]
[]
[]
[]
[]
[]
[]
[]
[]
[]
[]
[]
[]
[]
[]
[]
[]
[]
[]
[]
[]
[]
[]
[]
[]
[]
[]
[]
[]
[]
[]
[]
[]
[]
[]
[]
[]
[]
[]
[]
[]
[]
[]
[]
[]
[]
[]
[]
[]
[]
[]
[]
[]
[]
[]
[]
[]
[]
[]
[]
[]
[]
[]
[]
[]
[]
[]
[]
[]
[]
[]
[]
[]
[]
[]
[]
[]
[]
[]
[]
[]
[]
[]
[]
[]
[]
[]
[]
[]
[]
[]
[]
[]
[]
[]
[]
[]
[]
[]
[]
[]
[]
[]
[]
[]
[]
[]
[]
[]
[]
[]
[]
[]
[]
[]
[]
[]
[]
[]
[]
[]
[]
[]
[]
[]
[]
[]
[]
[]
[]
[]
[]
[]
[]
[]
[]
[]
[]
[]
[]
[]
[]
[]
[]
[]
[]
[]
[]
[]
[]
[]
[]
[]
[]
[]
[]
[]
[]
[null,"Pos",null,"Driver","MFG","Start","Laps","Led"]
[null,1,null,"#4 Kevin Harvick ","Chevrolet",13,312,224]
[null,2,null,"#88 Dale Earnhardt Jr. ","Chevrolet",5,312,0]
[null,3,null,"#2 Brad Keselowski ","Ford",1,312,3]
[null,4,null,"#22 Joey Logano ","Ford",2,312,71]
[null,5,null,"#24 Jeff Gordon ","Chevrolet",17,312,4]
[null,6,null,"#48 Jimmie Johnson ","Chevrolet",4,312,0]
[null,7,null,"#31 Ryan Newman ","Chevrolet",15,312,6]
[null,8,null,"#99 Carl Edwards ","Ford",23,312,1]
[null,9,null,"#18 Kyle Busch ","Toyota",7,312,0]
[null,10,null,"#1 Jamie McMurray ","Chevrolet",3,312,0]
[null,11,null,"#5 Kasey Kahne ","Chevrolet",11,312,0]
[null,12,null,"#20 Matt Kenseth ","Toyota",19,312,0]
[null,13,null,"#15 Clint Bowyer ","Toyota",14,312,1]
[null,14,null,"#13 Casey Mears ","Chevrolet",18,312,0]
[null,15,null,"#43 Aric Almirola ","Ford",9,312,0]
[null,16,null,"#14 Tony Stewart ","Chevrolet",20,312,0]
[null,17,null,"#16 Greg Biffle ","Ford",6,312,0]
[null,18,null,"#17 Ricky Stenhouse Jr. ","Ford",21,312,0]
[null,19,null,"#11 Denny Hamlin ","Toyota",12,312,0]
[null,20,null,"#42 Kyle Larson ","Chevrolet",8,312,0]
[null,21,null,"#9 Marcos Ambrose ","Ford",29,311,0]
[null,22,null,"#78 Martin Truex Jr. ","Chevrolet",27,311,0]
[null,23,null,"#27 Paul Menard ","Chevrolet",22,311,0]
[null,24,null,"#3 Austin Dillon ","Chevrolet",24,311,0]
[null,25,null,"#55 Brian Vickers ","Toyota",16,311,0]
[null,26,null,"#47 A J Allmendinger ","Chevrolet",25,310,0]
[null,27,null,"#26 Cole Whitt ","Toyota",31,310,0]
[null,28,null,"#34 David Ragan ","Ford",30,310,0]
[null,29,null,"#38 David Gilliland ","Ford",28,309,2]
[null,30,null,"#51 Justin Allgaier ","Chevrolet",43,309,0]
[null,31,null,"#36 Reed Sorenson ","Chevrolet",39,308,0]
[null,32,null,"#33 Brian Scott ","Chevrolet",32,308,0]
[null,33,null,"#95 Michael McDowell ","Ford",26,307,0]
[null,34,null,"#7 Michael Annett ","Chevrolet",41,307,0]
[null,35,null,"#83 Ryan Truex ","Toyota",34,307,0]
[null,36,null,"#10 Danica Patrick ","Chevrolet",33,306,0]
[null,37,null,"#35 Blake Koch ","Ford",37,306,0]
[null,38,null,"#32 Travis Kvapil ","Ford",40,302,0]
[null,39,null,"#41 Kurt Busch ","Chevrolet",10,292,0]
[null,40,null,"#66 Joe Nemechek ","Toyota",38,292,0]
[null,41,null,"#23 Alex Bowman ","Toyota",35,230,0]
[null,42,null,"#30 Parker Kligerman ","Toyota",36,226,0]
[null,43,null,"#87 Morgan Shepherd ","Toyota",42,28,0]
[null,"MSN Ad Configuration"]
[]
[null,"DEFAULT"]
[null,"PG=SPTFBB"]
[null,"AP=1089"]
[null,"SIZE=300x250"]
[]
[null,"2 COLUMN"]
[null,"PG=SPTFBB"]
[null,"AP=1089"]
[null,"SIZE=300x250"]
[]
[null,"1 COLUMN"]
[null,"PG=SPTFBB"]
[null,"AP=1089"]
[null,"SIZE=300x250"]

{"sheet":"Current Owner Standings","index":6,"n_rows":480,"n_cols":27,"rows_kept":480,"cut":false,"hidden":false,"merged":[]}
[]
[null,null,null,null,null,null,null,null,null,null,null,null,null,null,null,null,"Column1","Column2","Column3","Column4","Column5","Column6","Column7","Column8","Column9","Column10","Column11"]
["RK",null,"OWNER","Car #","Points","Behind","Wins","Starts","Top 5","Top 10","DNF","DRIVER",null,null,null,null,"Rank","Car #","Owner","Points","Behind","Wins","Starts","Top 5","Top 10","DNF"]
[1,null,{"$f":"Owner_Points[[#This Row],[Column3]]","v":"Stewart-Haas Racing"},{"$f":"IF(R4=\"00\",R4,VALUE(R4))","v":4},{"$f":"T4","v":"1041"},"-","7","25","17","21","0",{"$f":"IF(D4=\"00\",_xlfn.IFNA(VLOOKUP(D4,'Entry List'!$A$2:$E$88,4,FALSE),\"Not Entered\"),_xlfn.IFNA(VLOOKUP(VALUE(D4),'Entry List'!$A$2:$E$88,4,FALSE),\"Not Entered\"))","v":"Kevin Harvick"},{"$f":"(35-A4)*0.35","v":11.899999999999999},null,null,null,"1","4","Stewart-Haas Racing","1041","-","7","25","17","21","0"]
[2,null,{"$f":"Owner_Points[[#This Row],[Column3]]","v":"Joe Gibbs Racing"},{"$f":"IF(R5=\"00\",R5,VALUE(R5))","v":11},{"$f":"T5","v":"907"},{"$f":"U5","v":"134"},{"$f":"V5","v":"6"},{"$f":"W5","v":"25"},{"$f":"X5","v":"14"},{"$f":"Y5","v":"16"},{"$f":"Z5","v":"1"},{"$f":"IF(D5=\"00\",_xlfn.IFNA(VLOOKUP(D5,'Entry List'!$A$2:$E$88,4,FALSE),\"Not Entered\"),_xlfn.IFNA(VLOOKUP(VALUE(D5),'Entry List'!$A$2:$E$88,4,FALSE),\"Not Entered\"))","v":"Denny Hamlin"},null,null,null,null,"2","11","Joe Gibbs Racing","907","134","6","25","14","16","1"]
[3,null,{"$f":"Owner_Points[[#This Row],[Column3]]","v":"Team Penske"},2,"881","160","3","25","9","18","2",{"$f":"IF(D6=\"00\",_xlfn.IFNA(VLOOKUP(D6,'Entry List'!$A$2:$E$88,4,FALSE),\"Not Entered\"),_xlfn.IFNA(VLOOKUP(VALUE(D6),'Entry List'!$A$2:$E$88,4,FALSE),\"Not Entered\"))","v":"Brad Keselowski"},null,null,null,null,"3","2","Team Penske","881","160","3","25","9","18","2"]
[4,null,{"$f":"Owner_Points[[#This Row],[Column3]]","v":"Joe Gibbs Racing"},19,"845","196","1","25","10","16","3",{"$f":"IF(D7=\"00\",_xlfn.IFNA(VLOOKUP(D7,'Entry List'!$A$2:$E$88,4,FALSE),\"Not Entered\"),_xlfn.IFNA(VLOOKUP(VALUE(D7),'Entry List'!$A$2:$E$88,4,FALSE),\"Not Entered\"))","v":"Martin Truex Jr."},null,null,null,null,"4","19","Joe Gibbs Racing","845","196","1","25","10","16","3"]
[5,null,{"$f":"Owner_Points[[#This Row],[Column3]]","v":"Team Penske"},22,"836","205","2","25","6","14","2",{"$f":"IF(D8=\"00\",_xlfn.IFNA(VLOOKUP(D8,'Entry List'!$A$2:$E$88,4,FALSE),\"Not Entered\"),_xlfn.IFNA(VLOOKUP(VALUE(D8),'Entry List'!$A$2:$E$88,4,FALSE),\"Not Entered\"))","v":"Joey Logano"},null,null,null,null,"5","22","Team Penske","836","205","2","25","6","14","2"]
[6,null,{"$f":"Owner_Points[[#This Row],[Column3]]","v":"Team Penske"},12,"818","223","1","25","8","10","4",{"$f":"IF(D9=\"00\",_xlfn.IFNA(VLOOKUP(D9,'Entry List'!$A$2:$E$88,4,FALSE),\"Not Entered\"),_xlfn.IFNA(VLOOKUP(VALUE(D9),'Entry List'!$A$2:$E$88,4,FALSE),\"Not Entered\"))","v":"Ryan Blaney"},null,null,null,null,"6","12","Team Penske","818","223","1","25","8","10","4"]
[7,null,{"$f":"Owner_Points[[#This Row],[Column3]]","v":"Hendrick Motorsports"},9,"809","232","2","25","9","14","3",{"$f":"IF(D10=\"00\",_xlfn.IFNA(VLOOKUP(D10,'Entry List'!$A$2:$E$88,4,FALSE),\"Not Entered\"),_xlfn.IFNA(VLOOKUP(VALUE(D10),'Entry List'!$A$2:$E$88,4,FALSE),\"Not Entered\"))","v":"Chase Elliott"},null,null,null,null,"7","9","Hendrick Motorsports","809","232","2","25","9","14","3"]
[8,null,{"$f":"Owner_Points[[#This Row],[Column3]]","v":"Stewart-Haas Racing"},10,"740","301","0","25","5","14","2",{"$f":"IF(D11=\"00\",_xlfn.IFNA(VLOOKUP(D11,'Entry List'!$A$2:$E$88,4,FALSE),\"Not Entered\"),_xlfn.IFNA(VLOOKUP(VALUE(D11),'Entry List'!$A$2:$E$88,4,FALSE),\"Not Entered\"))","v":"Aric Almirola"},null,null,null,null,"8","10","Stewart-Haas Racing","740","301","0","25","5","14","2"]
[9,null,{"$f":"Owner_Points[[#This Row],[Column3]]","v":"Joe Gibbs Racing"},18,"719","322","0","25","11","13","4",{"$f":"IF(D12=\"00\",_xlfn.IFNA(VLOOKUP(D12,'Entry List'!$A$2:$E$88,4,FALSE),\"Not Entered\"),_xlfn.IFNA(VLOOKUP(VALUE(D12),'Entry List'!$A$2:$E$88,4,FALSE),\"Not Entered\"))","v":"Kyle Busch"},null,null,null,null,"9","18","Joe Gibbs Racing","719","322","0","25","11","13","4"]
[10,null,{"$f":"Owner_Points[[#This Row],[Column3]]","v":"Chip Ganassi Racing"},1,"700","341","0","25","4","14","2",{"$f":"IF(D13=\"00\",_xlfn.IFNA(VLOOKUP(D13,'Entry List'!$A$2:$E$88,4,FALSE),\"Not Entered\"),_xlfn.IFNA(VLOOKUP(VALUE(D13),'Entry List'!$A$2:$E$88,4,FALSE),\"Not Entered\"))","v":"Kurt Busch"},null,null,null,null,"10","1","Chip Ganassi Racing","700","341","0","25","4","14","2"]
[11,null,{"$f":"Owner_Points[[#This Row],[Column3]]","v":"Stewart-Haas Racing"},14,"685","356","0","25","2","7","1",{"$f":"IF(D14=\"00\",_xlfn.IFNA(VLOOKUP(D14,'Entry List'!$A$2:$E$88,4,FALSE),\"Not Entered\"),_xlfn.IFNA(VLOOKUP(VALUE(D14),'Entry List'!$A$2:$E$88,4,FALSE),\"Not Entered\"))","v":"Clint Bowyer"},null,null,null,null,"11","14","Stewart-Haas Racing","685","356","0","25","2","7","1"]
[12,null,{"$f":"Owner_Points[[#This Row],[Column3]]","v":"Hendrick Motorsports"},88,"662","379","1","25","3","7","4",{"$f":"IF(D15=\"00\",_xlfn.IFNA(VLOOKUP(D15,'Entry List'!$A$2:$E$88,4,FALSE),\"Not Entered\"),_xlfn.IFNA(VLOOKUP(VALUE(D15),'Entry List'!$A$2:$E$88,4,FALSE),\"Not Entered\"))","v":"Alex Bowman"},null,null,null,null,"12","88","Hendrick Motorsports","662","379","1","25","3","7","4"]
[13,null,{"$f":"Owner_Points[[#This Row],[Column3]]","v":"Wood Brothers Racing"},21,"637","404","0","25","2","7","1",{"$f":"IF(D16=\"00\",_xlfn.IFNA(VLOOKUP(D16,'Entry List'!$A$2:$E$88,4,FALSE),\"Not Entered\"),_xlfn.IFNA(VLOOKUP(VALUE(D16),'Entry List'!$A$2:$E$88,4,FALSE),\"Not Entered\"))","v":"Matt DiBenedetto"},null,null,null,null,"13","21","Wood Brothers Racing","637","404","0","25","2","7","1"]
[14,null,{"$f":"Owner_Points[[#This Row],[Column3]]","v":"Hendrick Motorsports"},24,"632","409","0","25","1","8","2",{"$f":"IF(D17=\"00\",_xlfn.IFNA(VLOOKUP(D17,'Entry List'!$A$2:$E$88,4,FALSE),\"Not Entered\"),_xlfn.IFNA(VLOOKUP(VALUE(D17),'Entry List'!$A$2:$E$88,4,FALSE),\"Not Entered\"))","v":"William Byron"},null,null,null,null,"14","24","Hendrick Motorsports","632","409","0","25","1","8","2"]
[15,null,{"$f":"Owner_Points[[#This Row],[Column3]]","v":"Hendrick Motorsports"},48,"629","412","0","25","4","9","5",{"$f":"IF(D18=\"00\",_xlfn.IFNA(VLOOKUP(D18,'Entry List'!$A$2:$E$88,4,FALSE),\"Not Entered\"),_xlfn.IFNA(VLOOKUP(VALUE(D18),'Entry List'!$A$2:$E$88,4,FALSE),\"Not Entered\"))","v":"Jimmie Johnson"},null,null,null,null,"15","48","Hendrick Motorsports","629","412","0","25","4","9","5"]
[16,null,{"$f":"Owner_Points[[#This Row],[Column3]]","v":"Richard Childress Racing"},3,"591","450","1","25","2","8","3",{"$f":"IF(D19=\"00\",_xlfn.IFNA(VLOOKUP(D19,'Entry List'!$A$2:$E$88,4,FALSE),\"Not Entered\"),_xlfn.IFNA(VLOOKUP(VALUE(D19),'Entry List'!$A$2:$E$88,4,FALSE),\"Not Entered\"))","v":"Austin Dillon"},null,null,null,null,"16","3","Richard Childress Racing","591","450","1","25","2","8","3"]
[17,null,{"$f":"Owner_Points[[#This Row],[Column3]]","v":"Joe Gibbs Racing"},20,"582","459","0","25","5","8","2",{"$f":"IF(D20=\"00\",_xlfn.IFNA(VLOOKUP(D20,'Entry List'!$A$2:$E$88,4,FALSE),\"Not Entered\"),_xlfn.IFNA(VLOOKUP(VALUE(D20),'Entry List'!$A$2:$E$88,4,FALSE),\"Not Entered\"))","v":"Erik Jones"},null,null,null,null,"17","20","Joe Gibbs Racing","582","459","0","25","5","8","2"]
[18,null,{"$f":"Owner_Points[[#This Row],[Column3]]","v":"Richard Childress Racing"},8,"563","478","0","25","2","7","3",{"$f":"IF(D21=\"00\",_xlfn.IFNA(VLOOKUP(D21,'Entry List'!$A$2:$E$88,4,FALSE),\"Not Entered\"),_xlfn.IFNA(VLOOKUP(VALUE(D21),'Entry List'!$A$2:$E$88,4,FALSE),\"Not Entered\"))","v":"Tyler Reddick (R)"},null,null,null,null,"18","8","Richard Childress Racing","563","478","0","25","2","7","3"]
[19,null,{"$f":"Owner_Points[[#This Row],[Column3]]","v":"Chip Ganassi Racing"},42,"484","557","0","25","2","5","2",{"$f":"IF(D22=\"00\",_xlfn.IFNA(VLOOKUP(D22,'Entry List'!$A$2:$E$88,4,FALSE),\"Not Entered\"),_xlfn.IFNA(VLOOKUP(VALUE(D22),'Entry List'!$A$2:$E$88,4,FALSE),\"Not Entered\"))","v":"Matt Kenseth"},null,null,null,null,"19","42","Chip Ganassi Racing","484","557","0","25","2","5","2"]
[20,null,{"$f":"Owner_Points[[#This Row],[Column3]]","v":"Stewart-Haas Racing"},41,"469","572","1","25","2","6","4",{"$f":"IF(D23=\"00\",_xlfn.IFNA(VLOOKUP(D23,'Entry List'!$A$2:$E$88,4,FALSE),\"Not Entered\"),_xlfn.IFNA(VLOOKUP(VALUE(D23),'Entry List'!$A$2:$E$88,4,FALSE),\"Not Entered\"))","v":"Cole Custer (R)"},null,null,null,null,"20","41","Stewart-Haas Racing","469","572","1","25","2","6","4"]
[21,null,{"$f":"Owner_Points[[#This Row],[Column3]]","v":"Leavine Family Racing"},95,"456","585","0","25","1","5","3",{"$f":"IF(D24=\"00\",_xlfn.IFNA(VLOOKUP(D24,'Entry List'!$A$2:$E$88,4,FALSE),\"Not Entered\"),_xlfn.IFNA(VLOOKUP(VALUE(D24),'Entry List'!$A$2:$E$88,4,FALSE),\"Not Entered\"))","v":"Christopher Bell (R)"},null,null,null,null,"21","95","Leavine Family Racing","456","585","0","25","1","5","3"]
[22,null,{"$f":"Owner_Points[[#This Row],[Column3]]","v":"Roush Fenway Racing"},17,"449","592","0","25","2","5","2",{"$f":"IF(D25=\"00\",_xlfn.IFNA(VLOOKUP(D25,'Entry List'!$A$2:$E$88,4,FALSE),\"Not Entered\"),_xlfn.IFNA(VLOOKUP(VALUE(D25),'Entry List'!$A$2:$E$88,4,FALSE),\"Not Entered\"))","v":"Chris Buescher"},null,null,null,null,"22","17","Roush Fenway Racing","449","592","0","25","2","5","2"]
[23,null,{"$f":"Owner_Points[[#This Row],[Column3]]","v":"Richard Petty Motorsports"},43,"438","603","0","25","0","4","3",{"$f":"IF(D26=\"00\",_xlfn.IFNA(VLOOKUP(D26,'Entry List'!$A$2:$E$88,4,FALSE),\"Not Entered\"),_xlfn.IFNA(VLOOKUP(VALUE(D26),'Entry List'!$A$2:$E$88,4,FALSE),\"Not Entered\"))","v":"Bubba Wallace"},null,null,null,null,"23","43","Richard Petty Motorsports","438","603","0","25","0","4","3"]
[24,null,{"$f":"Owner_Points[[#This Row],[Column3]]","v":"Roush Fenway Racing"},6,"432","609","0","25","0","1","1",{"$f":"IF(D27=\"00\",_xlfn.IFNA(VLOOKUP(D27,'Entry List'!$A$2:$E$88,4,FALSE),\"Not Entered\"),_xlfn.IFNA(VLOOKUP(VALUE(D27),'Entry List'!$A$2:$E$88,4,FALSE),\"Not Entered\"))","v":"Ryan Newman"},null,null,null,null,"24","6","Roush Fenway Racing","432","609","0","25","0","1","1"]
[25,null,{"$f":"Owner_Points[[#This Row],[Column3]]","v":"JTG Daugherty Racing"},47,"426","615","0","25","3","4","5",{"$f":"IF(D28=\"00\",_xlfn.IFNA(VLOOKUP(D28,'Entry List'!$A$2:$E$88,4,FALSE),\"Not Entered\"),_xlfn.IFNA(VLOOKUP(VALUE(D28),'Entry List'!$A$2:$E$88,4,FALSE),\"Not Entered\"))","v":"Ricky Stenhouse Jr."},null,null,null,null,"25","47","JTG Daugherty Racing","426","615","0","25","3","4","5"]
[26,null,{"$f":"Owner_Points[[#This Row],[Column3]]","v":"Front Row Motorsports"},34,"426","615","0","25","0","3","1",{"$f":"IF(D29=\"00\",_xlfn.IFNA(VLOOKUP(D29,'Entry List'!$A$2:$E$88,4,FALSE),\"Not Entered\"),_xlfn.IFNA(VLOOKUP(VALUE(D29),'Entry List'!$A$2:$E$88,4,FALSE),\"Not Entered\"))","v":"Michael McDowell"},null,null,null,null,"26","34","Front Row Motorsports","426","615","0","25","0","3","1"]
[27,null,{"$f":"Owner_Points[[#This Row],[Column3]]","v":"Front Row Motorsports"},38,"373","668","0","25","0","2","4",{"$f":"IF(D30=\"00\",_xlfn.IFNA(VLOOKUP(D30,'Entry List'!$A$2:$E$88,4,FALSE),\"Not Entered\"),_xlfn.IFNA(VLOOKUP(VALUE(D30),'Entry List'!$A$2:$E$88,4,FALSE),\"Not Entered\"))","v":"John Hunter Nemechek (R)"},null,null,null,null,"27","38","Front Row Motorsports","373","668","0","25","0","2","4"]
[28,null,{"$f":"Owner_Points[[#This Row],[Column3]]","v":"Germain Racing"},13,"369","672","0","25","0","1","3",{"$f":"IF(D31=\"00\",_xlfn.IFNA(VLOOKUP(D31,'Entry List'!$A$2:$E$88,4,FALSE),\"Not Entered\"),_xlfn.IFNA(VLOOKUP(VALUE(D31),'Entry List'!$A$2:$E$88,4,FALSE),\"Not Entered\"))","v":"Ty Dillon"},null,null,null,null,"28","13","Germain Racing","369","672","0","25","0","1","3"]
[29,null,{"$f":"Owner_Points[[#This Row],[Column3]]","v":"Go FAS Racing"},32,"309","732","0","25","0","1","2",{"$f":"IF(D32=\"00\",_xlfn.IFNA(VLOOKUP(D32,'Entry List'!$A$2:$E$88,4,FALSE),\"Not Entered\"),_xlfn.IFNA(VLOOKUP(VALUE(D32),'Entry List'!$A$2:$E$88,4,FALSE),\"Not Entered\"))","v":"Corey LaJoie"},null,null,null,null,"29","32","Go FAS Racing","309","732","0","25","0","1","2"]
[30,null,{"$f":"Owner_Points[[#This Row],[Column3]]","v":"JTG Daugherty Racing"},37,"292","749","0","25","0","0","7",{"$f":"IF(D33=\"00\",_xlfn.IFNA(VLOOKUP(D33,'Entry List'!$A$2:$E$88,4,FALSE),\"Not Entered\"),_xlfn.IFNA(VLOOKUP(VALUE(D33),'Entry List'!$A$2:$E$88,4,FALSE),\"Not Entered\"))","v":"Ryan Preece"},null,null,null,null,"30","37","JTG Daugherty Racing","292","749","0","25","0","0","7"]
[31,null,{"$f":"Owner_Points[[#This Row],[Column3]]","v":"Gaunt Brothers Racing"},96,"264","777","0","24","0","0","0",{"$f":"IF(D34=\"00\",_xlfn.IFNA(VLOOKUP(D34,'Entry List'!$A$2:$E$88,4,FALSE),\"Not Entered\"),_xlfn.IFNA(VLOOKUP(VALUE(D34),'Entry List'!$A$2:$E$88,4,FALSE),\"Not Entered\"))","v":"Daniel Suárez"},null,null,null,null,"31","96","Gaunt Brothers Racing","264","777","0","24","0","0","0"]
[32,null,{"$f":"Owner_Points[[#This Row],[Column3]]","v":"Rick Ware Racing"},127,"180","861","0","25","0","0","4",{"$f":"IF(D35=\"00\",_xlfn.IFNA(VLOOKUP(D35,'Entry List'!$A$2:$E$88,4,FALSE),\"Not Entered\"),_xlfn.IFNA(VLOOKUP(VALUE(D35),'Entry List'!$A$2:$E$88,4,FALSE),\"Not Entered\"))","v":"J. J. Yeley (i)"},null,null,null,null,"32","127","Rick Ware Racing","180","861","0","25","0","0","4"]
[33,null,{"$f":"Owner_Points[[#This Row],[Column3]]","v":"Spire Motorsports"},77,"172","869","0","25","0","0","2",{"$f":"IF(D36=\"00\",_xlfn.IFNA(VLOOKUP(D36,'Entry List'!$A$2:$E$88,4,FALSE),\"Not Entered\"),_xlfn.IFNA(VLOOKUP(VALUE(D36),'Entry List'!$A$2:$E$88,4,FALSE),\"Not Entered\"))","v":"Ross Chastain (i)"},null,null,null,null,"33","77","Spire Motorsports","172","869","0","25","0","0","2"]
[34,null,{"$f":"Owner_Points[[#This Row],[Column3]]","v":"Premium Motorsports"},15,"171","870","0","25","0","0","7",{"$f":"IF(D37=\"00\",_xlfn.IFNA(VLOOKUP(D37,'Entry List'!$A$2:$E$88,4,FALSE),\"Not Entered\"),_xlfn.IFNA(VLOOKUP(VALUE(D37),'Entry List'!$A$2:$E$88,4,FALSE),\"Not Entered\"))","v":"Brennan Poole (R)"},null,null,null,null,"34","15","Premium Motorsports","171","870","0","25","0","0","7"]
[35,null,{"$f":"Owner_Points[[#This Row],[Column3]]","v":"Rick Ware Racing"},53,"137","904","0","25","1","1","5",{"$f":"IF(D38=\"00\",_xlfn.IFNA(VLOOKUP(D38,'Entry List'!$A$2:$E$88,4,FALSE),\"Not Entered\"),_xlfn.IFNA(VLOOKUP(VALUE(D38),'Entry List'!$A$2:$E$88,4,FALSE),\"Not Entered\"))","v":"Joey Gase (i)"},null,null,null,null,"35","53","Rick Ware Racing","137","904","0","25","1","1","5"]
[36,null,{"$f":"Owner_Points[[#This Row],[Column3]]","v":"StarCom Racing"},"00","132","909","0","25","0","0","5",{"$f":"IF(D39=\"00\",_xlfn.IFNA(VLOOKUP(D39,'Entry List'!$A$2:$E$88,4,FALSE),\"Not Entered\"),_xlfn.IFNA(VLOOKUP(VALUE(D39),'Entry List'!$A$2:$E$88,4,FALSE),\"Not Entered\"))","v":"Quin Houff (R)"},null,null,null,null,"36","00","StarCom Racing","132","909","0","25","0","0","5"]
[37,null,{"$f":"Owner_Points[[#This Row],[Column3]]","v":"Motorsports Business Management"},66,"98","943","0","25","0","0","9",{"$f":"IF(D40=\"00\",_xlfn.IFNA(VLOOKUP(D40,'Entry List'!$A$2:$E$88,4,FALSE),\"Not Entered\"),_xlfn.IFNA(VLOOKUP(VALUE(D40),'Entry List'!$A$2:$E$88,4,FALSE),\"Not Entered\"))","v":"Timmy Hill (i)"},null,null,null,null,"37","66","Motorsports Business Management","98","943","0","25","0","0","9"]
[38,null,{"$f":"Owner_Points[[#This Row],[Column3]]","v":"Petty Ware Racing"},51,"84","957","0","25","0","0","5",{"$f":"IF(D41=\"00\",_xlfn.IFNA(VLOOKUP(D41,'Entry List'!$A$2:$E$88,4,FALSE),\"Not Entered\"),_xlfn.IFNA(VLOOKUP(VALUE(D41),'Entry List'!$A$2:$E$88,4,FALSE),\"Not Entered\"))","v":"James Davison"},null,null,null,null,"38","51","Petty Ware Racing","84","957","0","25","0","0","5"]
[39,null,{"$f":"Owner_Points[[#This Row],[Column3]]","v":"Tommy Baldwin Racing"},107,"62","979","0","15","0","0","5",{"$f":"IF(D42=\"00\",_xlfn.IFNA(VLOOKUP(D42,'Entry List'!$A$2:$E$88,4,FALSE),\"Not Entered\"),_xlfn.IFNA(VLOOKUP(VALUE(D42),'Entry List'!$A$2:$E$88,4,FALSE),\"Not Entered\"))","v":"Josh Bilicki (i)"},null,null,null,null,"39","107","Tommy Baldwin Racing","62","979","0","15","0","0","5"]
[40,null,{"$f":"Owner_Points[[#This Row],[Column3]]","v":"Petty Ware Racing"},78,"51","990","0","14","0","0","6",{"$f":"IF(D43=\"00\",_xlfn.IFNA(VLOOKUP(D43,'Entry List'!$A$2:$E$88,4,FALSE),\"Not Entered\"),_xlfn.IFNA(VLOOKUP(VALUE(D43),'Entry List'!$A$2:$E$88,4,FALSE),\"Not Entered\"))","v":"Not Entered"},null,null,null,null,"40","78","Petty Ware Racing","51","990","0","14","0","0","6"]
[41,null,{"$f":"Owner_Points[[#This Row],[Column3]]","v":"Beard Motorsports"},62,"47","994","0","3","0","1","1",{"$f":"IF(D44=\"00\",_xlfn.IFNA(VLOOKUP(D44,'Entry List'!$A$2:$E$88,4,FALSE),\"Not Entered\"),_xlfn.IFNA(VLOOKUP(VALUE(D44),'Entry List'!$A$2:$E$88,4,FALSE),\"Not Entered\"))","v":"Brendan Gaughan"},null,null,null,null,"41","62","Beard Motorsports","47","994","0","3","0","1","1"]
[42,null,{"$f":"Owner_Points[[#This Row],[Column3]]","v":"Kaulig Racing"},116,"24","1017","0","1","0","0","0",{"$f":"IF(D45=\"00\",_xlfn.IFNA(VLOOKUP(D45,'Entry List'!$A$2:$E$88,4,FALSE),\"Not Entered\"),_xlfn.IFNA(VLOOKUP(VALUE(D45),'Entry List'!$A$2:$E$88,4,FALSE),\"Not Entered\"))","v":"Not Entered"},null,null,null,null,"42","116","Kaulig Racing","24","1017","0","1","0","0","0"]
[43,null,{"$f":"Owner_Points[[#This Row],[Column3]]","v":"Premium Motorsports"},27,"6","1035","0","1","0","0","1",{"$f":"IF(D46=\"00\",_xlfn.IFNA(VLOOKUP(D46,'Entry List'!$A$2:$E$88,4,FALSE),\"Not Entered\"),_xlfn.IFNA(VLOOKUP(VALUE(D46),'Entry List'!$A$2:$E$88,4,FALSE),\"Not Entered\"))","v":"Not Entered"},null,null,null,null,"43","27","Premium Motorsports","6","1035","0","1","0","0","1"]
[44,null,{"$f":"Owner_Points[[#This Row],[Column3]]","v":"Rick Ware Racing"},54,"0","1041","0","0","0","0","0",{"$f":"IF(D47=\"00\",_xlfn.IFNA(VLOOKUP(D47,'Entry List'!$A$2:$E$88,4,FALSE),\"Not Entered\"),_xlfn.IFNA(VLOOKUP(VALUE(D47),'Entry List'!$A$2:$E$88,4,FALSE),\"Not Entered\"))","v":"Not Entered"},null,null,null,null,"44","54","Rick Ware Racing","0","1041","0","0","0","0","0"]
[45,null,{"$f":"Owner_Points[[#This Row],[Column3]]","v":"Motorsports Business Management"},{"$f":"IF(R48=\"00\",R48,VALUE(R48))","v":49},{"$f":"T48","v":"0"},"1041","0","0","0","0","0",{"$f":"IF(D48=\"00\",_xlfn.IFNA(VLOOKUP(D48,'Entry List'!$A$2:$E$88,4,FALSE),\"Not Entered\"),_xlfn.IFNA(VLOOKUP(VALUE(D48),'Entry List'!$A$2:$E$88,4,FALSE),\"Not Entered\"))","v":"Not Entered"},null,null,null,null,"45","49","Motorsports Business Management","0","1041","0","0","0","0","0"]
[]
[]
[]
[]
[]
[]
[]
[]
[]
[]
[]
[]
[]
[]
[]
[]
[]
[]
[]
[]
[]
[]
["00",{"$f":"IF(ISNA(MATCH(A71,'Current Owner Standings'!$D$4:$D$70,0)),99,MATCH(A71,'Current Owner Standings'!$D$4:$D$70,0))","v":36},null,{"$f":"IF(ISNA(MATCH(\"#\"&C71,'Current Owner Standings'!$C$2:$C$170,0)),99,MATCH(\"#\"&C71,'Current Owner Standings'!$C$2:$C$170,0))","v":99}]
["01",{"$f":"IF(ISNA(MATCH(A72,'Current Owner Standings'!$D$4:$D$70,0)),99,MATCH(A72,'Current Owner Standings'!$D$4:$D$70,0))","v":99}]
["02",{"$f":"IF(ISNA(MATCH(A73,'Current Owner Standings'!$D$4:$D$70,0)),99,MATCH(A73,'Current Owner Standings'!$D$4:$D$70,0))","v":99}]
["03",{"$f":"IF(ISNA(MATCH(A74,'Current Owner Standings'!$D$4:$D$70,0)),99,MATCH(A74,'Current Owner Standings'!$D$4:$D$70,0))","v":99}]
["04",{"$f":"IF(ISNA(MATCH(A75,'Current Owner Standings'!$D$4:$D$70,0)),99,MATCH(A75,'Current Owner Standings'!$D$4:$D$70,0))","v":99}]
["05",{"$f":"IF(ISNA(MATCH(A76,'Current Owner Standings'!$D$4:$D$70,0)),99,MATCH(A76,'Current Owner Standings'!$D$4:$D$70,0))","v":99}]
["06",{"$f":"IF(ISNA(MATCH(A77,'Current Owner Standings'!$D$4:$D$70,0)),99,MATCH(A77,'Current Owner Standings'!$D$4:$D$70,0))","v":99}]
["07",{"$f":"IF(ISNA(MATCH(A78,'Current Owner Standings'!$D$4:$D$70,0)),99,MATCH(A78,'Current Owner Standings'!$D$4:$D$70,0))","v":99}]
["08",{"$f":"IF(ISNA(MATCH(A79,'Current Owner Standings'!$D$4:$D$70,0)),99,MATCH(A79,'Current Owner Standings'!$D$4:$D$70,0))","v":99}]
["09",{"$f":"IF(ISNA(MATCH(A80,'Current Owner Standings'!$D$4:$D$70,0)),99,MATCH(A80,'Current Owner Standings'!$D$4:$D$70,0))","v":99}]
[1,{"$f":"IF(ISNA(MATCH(A81,'Current Owner Standings'!$D$4:$D$70,0)),99,MATCH(A81,'Current Owner Standings'!$D$4:$D$70,0))","v":10}]
[2,{"$f":"IF(ISNA(MATCH(A82,'Current Owner Standings'!$D$4:$D$70,0)),99,MATCH(A82,'Current Owner Standings'!$D$4:$D$70,0))","v":3}]
[3,{"$f":"IF(ISNA(MATCH(A83,'Current Owner Standings'!$D$4:$D$70,0)),99,MATCH(A83,'Current Owner Standings'!$D$4:$D$70,0))","v":16}]
[4,{"$f":"IF(ISNA(MATCH(A84,'Current Owner Standings'!$D$4:$D$70,0)),99,MATCH(A84,'Current Owner Standings'!$D$4:$D$70,0))","v":1}]
[5,{"$f":"IF(ISNA(MATCH(A85,'Current Owner Standings'!$D$4:$D$70,0)),99,MATCH(A85,'Current Owner Standings'!$D$4:$D$70,0))","v":99}]
[6,{"$f":"IF(ISNA(MATCH(A86,'Current Owner Standings'!$D$4:$D$70,0)),99,MATCH(A86,'Current Owner Standings'!$D$4:$D$70,0))","v":24}]
[7,{"$f":"IF(ISNA(MATCH(A87,'Current Owner Standings'!$D$4:$D$70,0)),99,MATCH(A87,'Current Owner Standings'!$D$4:$D$70,0))","v":99}]
[8,{"$f":"IF(ISNA(MATCH(A88,'Current Owner Standings'!$D$4:$D$70,0)),99,MATCH(A88,'Current Owner Standings'!$D$4:$D$70,0))","v":18}]
[9,{"$f":"IF(ISNA(MATCH(A89,'Current Owner Standings'!$D$4:$D$70,0)),99,MATCH(A89,'Current Owner Standings'!$D$4:$D$70,0))","v":7}]
[10,{"$f":"IF(ISNA(MATCH(A90,'Current Owner Standings'!$D$4:$D$70,0)),99,MATCH(A90,'Current Owner Standings'!$D$4:$D$70,0))","v":8}]
[11,{"$f":"IF(ISNA(MATCH(A91,'Current Owner Standings'!$D$4:$D$70,0)),99,MATCH(A91,'Current Owner Standings'!$D$4:$D$70,0))","v":2}]
[12,{"$f":"IF(ISNA(MATCH(A92,'Current Owner Standings'!$D$4:$D$70,0)),99,MATCH(A92,'Current Owner Standings'!$D$4:$D$70,0))","v":6}]
[13,{"$f":"IF(ISNA(MATCH(A93,'Current Owner Standings'!$D$4:$D$70,0)),99,MATCH(A93,'Current Owner Standings'!$D$4:$D$70,0))","v":28}]
[14,{"$f":"IF(ISNA(MATCH(A94,'Current Owner Standings'!$D$4:$D$70,0)),99,MATCH(A94,'Current Owner Standings'!$D$4:$D$70,0))","v":11}]
[15,{"$f":"IF(ISNA(MATCH(A95,'Current Owner Standings'!$D$4:$D$70,0)),99,MATCH(A95,'Current Owner Standings'!$D$4:$D$70,0))","v":34}]
[16,{"$f":"IF(ISNA(MATCH(A96,'Current Owner Standings'!$D$4:$D$70,0)),99,MATCH(A96,'Current Owner Standings'!$D$4:$D$70,0))","v":99}]
[17,{"$f":"IF(ISNA(MATCH(A97,'Current Owner Standings'!$D$4:$D$70,0)),99,MATCH(A97,'Current Owner Standings'!$D$4:$D$70,0))","v":22}]
[18,{"$f":"IF(ISNA(MATCH(A98,'Current Owner Standings'!$D$4:$D$70,0)),99,MATCH(A98,'Current Owner Standings'!$D$4:$D$70,0))","v":9}]
[19,{"$f":"IF(ISNA(MATCH(A99,'Current Owner Standings'!$D$4:$D$70,0)),99,MATCH(A99,'Current Owner Standings'!$D$4:$D$70,0))","v":4}]
[20,{"$f":"IF(ISNA(MATCH(A100,'Current Owner Standings'!$D$4:$D$70,0)),99,MATCH(A100,'Current Owner Standings'!$D$4:$D$70,0))","v":17}]
[21,{"$f":"IF(ISNA(MATCH(A101,'Current Owner Standings'!$D$4:$D$70,0)),99,MATCH(A101,'Current Owner Standings'!$D$4:$D$70,0))","v":13}]
[22,{"$f":"IF(ISNA(MATCH(A102,'Current Owner Standings'!$D$4:$D$70,0)),99,MATCH(A102,'Current Owner Standings'!$D$4:$D$70,0))","v":5}]
[23,{"$f":"IF(ISNA(MATCH(A103,'Current Owner Standings'!$D$4:$D$70,0)),99,MATCH(A103,'Current Owner Standings'!$D$4:$D$70,0))","v":99}]
[24,{"$f":"IF(ISNA(MATCH(A104,'Current Owner Standings'!$D$4:$D$70,0)),99,MATCH(A104,'Current Owner Standings'!$D$4:$D$70,0))","v":14}]
[25,{"$f":"IF(ISNA(MATCH(A105,'Current Owner Standings'!$D$4:$D$70,0)),99,MATCH(A105,'Current Owner Standings'!$D$4:$D$70,0))","v":99}]
[26,{"$f":"IF(ISNA(MATCH(A106,'Current Owner Standings'!$D$4:$D$70,0)),99,MATCH(A106,'Current Owner Standings'!$D$4:$D$70,0))","v":99}]
[27,{"$f":"IF(ISNA(MATCH(A107,'Current Owner Standings'!$D$4:$D$70,0)),99,MATCH(A107,'Current Owner Standings'!$D$4:$D$70,0))","v":43}]
[28,{"$f":"IF(ISNA(MATCH(A108,'Current Owner Standings'!$D$4:$D$70,0)),99,MATCH(A108,'Current Owner Standings'!$D$4:$D$70,0))","v":99}]
[29,{"$f":"IF(ISNA(MATCH(A109,'Current Owner Standings'!$D$4:$D$70,0)),99,MATCH(A109,'Current Owner Standings'!$D$4:$D$70,0))","v":99}]
[30,{"$f":"IF(ISNA(MATCH(A110,'Current Owner Standings'!$D$4:$D$70,0)),99,MATCH(A110,'Current Owner Standings'!$D$4:$D$70,0))","v":99}]
[31,{"$f":"IF(ISNA(MATCH(A111,'Current Owner Standings'!$D$4:$D$70,0)),99,MATCH(A111,'Current Owner Standings'!$D$4:$D$70,0))","v":99}]
[32,{"$f":"IF(ISNA(MATCH(A112,'Current Owner Standings'!$D$4:$D$70,0)),99,MATCH(A112,'Current Owner Standings'!$D$4:$D$70,0))","v":29}]
[33,{"$f":"IF(ISNA(MATCH(A113,'Current Owner Standings'!$D$4:$D$70,0)),99,MATCH(A113,'Current Owner Standings'!$D$4:$D$70,0))","v":99}]
[34,{"$f":"IF(ISNA(MATCH(A114,'Current Owner Standings'!$D$4:$D$70,0)),99,MATCH(A114,'Current Owner Standings'!$D$4:$D$70,0))","v":26}]
[35,{"$f":"IF(ISNA(MATCH(A115,'Current Owner Standings'!$D$4:$D$70,0)),99,MATCH(A115,'Current Owner Standings'!$D$4:$D$70,0))","v":99}]
[36,{"$f":"IF(ISNA(MATCH(A116,'Current Owner Standings'!$D$4:$D$70,0)),99,MATCH(A116,'Current Owner Standings'!$D$4:$D$70,0))","v":99}]
[37,{"$f":"IF(ISNA(MATCH(A117,'Current Owner Standings'!$D$4:$D$70,0)),99,MATCH(A117,'Current Owner Standings'!$D$4:$D$70,0))","v":30}]
[38,{"$f":"IF(ISNA(MATCH(A118,'Current Owner Standings'!$D$4:$D$70,0)),99,MATCH(A118,'Current Owner Standings'!$D$4:$D$70,0))","v":27}]
[39,{"$f":"IF(ISNA(MATCH(A119,'Current Owner Standings'!$D$4:$D$70,0)),99,MATCH(A119,'Current Owner Standings'!$D$4:$D$70,0))","v":99}]
[40,{"$f":"IF(ISNA(MATCH(A120,'Current Owner Standings'!$D$4:$D$70,0)),99,MATCH(A120,'Current Owner Standings'!$D$4:$D$70,0))","v":99}]
[41,{"$f":"IF(ISNA(MATCH(A121,'Current Owner Standings'!$D$4:$D$70,0)),99,MATCH(A121,'Current Owner Standings'!$D$4:$D$70,0))","v":20}]
[42,{"$f":"IF(ISNA(MATCH(A122,'Current Owner Standings'!$D$4:$D$70,0)),99,MATCH(A122,'Current Owner Standings'!$D$4:$D$70,0))","v":19}]
[43,{"$f":"IF(ISNA(MATCH(A123,'Current Owner Standings'!$D$4:$D$70,0)),99,MATCH(A123,'Current Owner Standings'!$D$4:$D$70,0))","v":23}]
[44,{"$f":"IF(ISNA(MATCH(A124,'Current Owner Standings'!$D$4:$D$70,0)),99,MATCH(A124,'Current Owner Standings'!$D$4:$D$70,0))","v":99}]
[45,{"$f":"IF(ISNA(MATCH(A125,'Current Owner Standings'!$D$4:$D$70,0)),99,MATCH(A125,'Current Owner Standings'!$D$4:$D$70,0))","v":99}]
[46,{"$f":"IF(ISNA(MATCH(A126,'Current Owner Standings'!$D$4:$D$70,0)),99,MATCH(A126,'Current Owner Standings'!$D$4:$D$70,0))","v":99}]
[47,{"$f":"IF(ISNA(MATCH(A127,'Current Owner Standings'!$D$4:$D$70,0)),99,MATCH(A127,'Current Owner Standings'!$D$4:$D$70,0))","v":25}]
[48,{"$f":"IF(ISNA(MATCH(A128,'Current Owner Standings'!$D$4:$D$70,0)),99,MATCH(A128,'Current Owner Standings'!$D$4:$D$70,0))","v":15}]
[49,{"$f":"IF(ISNA(MATCH(A129,'Current Owner Standings'!$D$4:$D$70,0)),99,MATCH(A129,'Current Owner Standings'!$D$4:$D$70,0))","v":45}]
[50,{"$f":"IF(ISNA(MATCH(A130,'Current Owner Standings'!$D$4:$D$70,0)),99,MATCH(A130,'Current Owner Standings'!$D$4:$D$70,0))","v":99}]
[51,{"$f":"IF(ISNA(MATCH(A131,'Current Owner Standings'!$D$4:$D$70,0)),99,MATCH(A131,'Current Owner Standings'!$D$4:$D$70,0))","v":38}]
[52,{"$f":"IF(ISNA(MATCH(A132,'Current Owner Standings'!$D$4:$D$70,0)),99,MATCH(A132,'Current Owner Standings'!$D$4:$D$70,0))","v":99}]
[53,{"$f":"IF(ISNA(MATCH(A133,'Current Owner Standings'!$D$4:$D$70,0)),99,MATCH(A133,'Current Owner Standings'!$D$4:$D$70,0))","v":35}]
[54,{"$f":"IF(ISNA(MATCH(A134,'Current Owner Standings'!$D$4:$D$70,0)),99,MATCH(A134,'Current Owner Standings'!$D$4:$D$70,0))","v":44}]
[55,{"$f":"IF(ISNA(MATCH(A135,'Current Owner Standings'!$D$4:$D$70,0)),99,MATCH(A135,'Current Owner Standings'!$D$4:$D$70,0))","v":99}]
[56,{"$f":"IF(ISNA(MATCH(A136,'Current Owner Standings'!$D$4:$D$70,0)),99,MATCH(A136,'Current Owner Standings'!$D$4:$D$70,0))","v":99}]
[57,{"$f":"IF(ISNA(MATCH(A137,'Current Owner Standings'!$D$4:$D$70,0)),99,MATCH(A137,'Current Owner Standings'!$D$4:$D$70,0))","v":99}]
[58,{"$f":"IF(ISNA(MATCH(A138,'Current Owner Standings'!$D$4:$D$70,0)),99,MATCH(A138,'Current Owner Standings'!$D$4:$D$70,0))","v":99}]
[59,{"$f":"IF(ISNA(MATCH(A139,'Current Owner Standings'!$D$4:$D$70,0)),99,MATCH(A139,'Current Owner Standings'!$D$4:$D$70,0))","v":99}]
[60,{"$f":"IF(ISNA(MATCH(A140,'Current Owner Standings'!$D$4:$D$70,0)),99,MATCH(A140,'Current Owner Standings'!$D$4:$D$70,0))","v":99}]
[61,{"$f":"IF(ISNA(MATCH(A141,'Current Owner Standings'!$D$4:$D$70,0)),99,MATCH(A141,'Current Owner Standings'!$D$4:$D$70,0))","v":99}]
[62,{"$f":"IF(ISNA(MATCH(A142,'Current Owner Standings'!$D$4:$D$70,0)),99,MATCH(A142,'Current Owner Standings'!$D$4:$D$70,0))","v":41}]
[63,{"$f":"IF(ISNA(MATCH(A143,'Current Owner Standings'!$D$4:$D$70,0)),99,MATCH(A143,'Current Owner Standings'!$D$4:$D$70,0))","v":99}]
[64,{"$f":"IF(ISNA(MATCH(A144,'Current Owner Standings'!$D$4:$D$70,0)),99,MATCH(A144,'Current Owner Standings'!$D$4:$D$70,0))","v":99}]
[65,{"$f":"IF(ISNA(MATCH(A145,'Current Owner Standings'!$D$4:$D$70,0)),99,MATCH(A145,'Current Owner Standings'!$D$4:$D$70,0))","v":99}]
[66,{"$f":"IF(ISNA(MATCH(A146,'Current Owner Standings'!$D$4:$D$70,0)),99,MATCH(A146,'Current Owner Standings'!$D$4:$D$70,0))","v":37}]
[67,{"$f":"IF(ISNA(MATCH(A147,'Current Owner Standings'!$D$4:$D$70,0)),99,MATCH(A147,'Current Owner Standings'!$D$4:$D$70,0))","v":99}]
[68,{"$f":"IF(ISNA(MATCH(A148,'Current Owner Standings'!$D$4:$D$70,0)),99,MATCH(A148,'Current Owner Standings'!$D$4:$D$70,0))","v":99}]
[69,{"$f":"IF(ISNA(MATCH(A149,'Current Owner Standings'!$D$4:$D$70,0)),99,MATCH(A149,'Current Owner Standings'!$D$4:$D$70,0))","v":99}]
[70,{"$f":"IF(ISNA(MATCH(A150,'Current Owner Standings'!$D$4:$D$70,0)),99,MATCH(A150,'Current Owner Standings'!$D$4:$D$70,0))","v":99}]
[71,{"$f":"IF(ISNA(MATCH(A151,'Current Owner Standings'!$D$4:$D$70,0)),99,MATCH(A151,'Current Owner Standings'!$D$4:$D$70,0))","v":99}]
[72,{"$f":"IF(ISNA(MATCH(A152,'Current Owner Standings'!$D$4:$D$70,0)),99,MATCH(A152,'Current Owner Standings'!$D$4:$D$70,0))","v":99}]
[73,{"$f":"IF(ISNA(MATCH(A153,'Current Owner Standings'!$D$4:$D$70,0)),99,MATCH(A153,'Current Owner Standings'!$D$4:$D$70,0))","v":99}]
[74,{"$f":"IF(ISNA(MATCH(A154,'Current Owner Standings'!$D$4:$D$70,0)),99,MATCH(A154,'Current Owner Standings'!$D$4:$D$70,0))","v":99}]
[75,{"$f":"IF(ISNA(MATCH(A155,'Current Owner Standings'!$D$4:$D$70,0)),99,MATCH(A155,'Current Owner Standings'!$D$4:$D$70,0))","v":99}]
[76,{"$f":"IF(ISNA(MATCH(A156,'Current Owner Standings'!$D$4:$D$70,0)),99,MATCH(A156,'Current Owner Standings'!$D$4:$D$70,0))","v":99}]
[77,{"$f":"IF(ISNA(MATCH(A157,'Current Owner Standings'!$D$4:$D$70,0)),99,MATCH(A157,'Current Owner Standings'!$D$4:$D$70,0))","v":33}]
[78,{"$f":"IF(ISNA(MATCH(A158,'Current Owner Standings'!$D$4:$D$70,0)),99,MATCH(A158,'Current Owner Standings'!$D$4:$D$70,0))","v":40}]
[79,{"$f":"IF(ISNA(MATCH(A159,'Current Owner Standings'!$D$4:$D$70,0)),99,MATCH(A159,'Current Owner Standings'!$D$4:$D$70,0))","v":99}]
[80,{"$f":"IF(ISNA(MATCH(A160,'Current Owner Standings'!$D$4:$D$70,0)),99,MATCH(A160,'Current Owner Standings'!$D$4:$D$70,0))","v":99}]
[81,{"$f":"IF(ISNA(MATCH(A161,'Current Owner Standings'!$D$4:$D$70,0)),99,MATCH(A161,'Current Owner Standings'!$D$4:$D$70,0))","v":99}]
[82,{"$f":"IF(ISNA(MATCH(A162,'Current Owner Standings'!$D$4:$D$70,0)),99,MATCH(A162,'Current Owner Standings'!$D$4:$D$70,0))","v":99}]
[83,{"$f":"IF(ISNA(MATCH(A163,'Current Owner Standings'!$D$4:$D$70,0)),99,MATCH(A163,'Current Owner Standings'!$D$4:$D$70,0))","v":99}]
[84,{"$f":"IF(ISNA(MATCH(A164,'Current Owner Standings'!$D$4:$D$70,0)),99,MATCH(A164,'Current Owner Standings'!$D$4:$D$70,0))","v":99}]
[85,{"$f":"IF(ISNA(MATCH(A165,'Current Owner Standings'!$D$4:$D$70,0)),99,MATCH(A165,'Current Owner Standings'!$D$4:$D$70,0))","v":99}]
[86,{"$f":"IF(ISNA(MATCH(A166,'Current Owner Standings'!$D$4:$D$70,0)),99,MATCH(A166,'Current Owner Standings'!$D$4:$D$70,0))","v":99}]
[87,{"$f":"IF(ISNA(MATCH(A167,'Current Owner Standings'!$D$4:$D$70,0)),99,MATCH(A167,'Current Owner Standings'!$D$4:$D$70,0))","v":99}]
[88,{"$f":"IF(ISNA(MATCH(A168,'Current Owner Standings'!$D$4:$D$70,0)),99,MATCH(A168,'Current Owner Standings'!$D$4:$D$70,0))","v":12}]
[89,{"$f":"IF(ISNA(MATCH(A169,'Current Owner Standings'!$D$4:$D$70,0)),99,MATCH(A169,'Current Owner Standings'!$D$4:$D$70,0))","v":99}]
[90,{"$f":"IF(ISNA(MATCH(A170,'Current Owner Standings'!$D$4:$D$70,0)),99,MATCH(A170,'Current Owner Standings'!$D$4:$D$70,0))","v":99}]
[91,{"$f":"IF(ISNA(MATCH(A171,'Current Owner Standings'!$D$4:$D$70,0)),99,MATCH(A171,'Current Owner Standings'!$D$4:$D$70,0))","v":99}]
[92,{"$f":"IF(ISNA(MATCH(A172,'Current Owner Standings'!$D$4:$D$70,0)),99,MATCH(A172,'Current Owner Standings'!$D$4:$D$70,0))","v":99}]
[93,{"$f":"IF(ISNA(MATCH(A173,'Current Owner Standings'!$D$4:$D$70,0)),99,MATCH(A173,'Current Owner Standings'!$D$4:$D$70,0))","v":99}]
[94,{"$f":"IF(ISNA(MATCH(A174,'Current Owner Standings'!$D$4:$D$70,0)),99,MATCH(A174,'Current Owner Standings'!$D$4:$D$70,0))","v":99}]
[95,{"$f":"IF(ISNA(MATCH(A175,'Current Owner Standings'!$D$4:$D$70,0)),99,MATCH(A175,'Current Owner Standings'!$D$4:$D$70,0))","v":21}]
[96,{"$f":"IF(ISNA(MATCH(A176,'Current Owner Standings'!$D$4:$D$70,0)),99,MATCH(A176,'Current Owner Standings'!$D$4:$D$70,0))","v":31}]
[97,{"$f":"IF(ISNA(MATCH(A177,'Current Owner Standings'!$D$4:$D$70,0)),99,MATCH(A177,'Current Owner Standings'!$D$4:$D$70,0))","v":99}]
[98,{"$f":"IF(ISNA(MATCH(A178,'Current Owner Standings'!$D$4:$D$70,0)),99,MATCH(A178,'Current Owner Standings'!$D$4:$D$70,0))","v":99}]
[99,{"$f":"IF(ISNA(MATCH(A179,'Current Owner Standings'!$D$4:$D$70,0)),99,MATCH(A179,'Current Owner Standings'!$D$4:$D$70,0))","v":99}]
[100,{"$f":"IF(ISNA(MATCH(A180,'Current Owner Standings'!$D$4:$D$70,0)),99,MATCH(A180,'Current Owner Standings'!$D$4:$D$70,0))","v":99}]
[101,{"$f":"IF(ISNA(MATCH(A181,'Current Owner Standings'!$D$4:$D$70,0)),99,MATCH(A181,'Current Owner Standings'!$D$4:$D$70,0))","v":99}]
[102,{"$f":"IF(ISNA(MATCH(A182,'Current Owner Standings'!$D$4:$D$70,0)),99,MATCH(A182,'Current Owner Standings'!$D$4:$D$70,0))","v":99}]
[103,{"$f":"IF(ISNA(MATCH(A183,'Current Owner Standings'!$D$4:$D$70,0)),99,MATCH(A183,'Current Owner Standings'!$D$4:$D$70,0))","v":99}]
[104,{"$f":"IF(ISNA(MATCH(A184,'Current Owner Standings'!$D$4:$D$70,0)),99,MATCH(A184,'Current Owner Standings'!$D$4:$D$70,0))","v":99}]
[105,{"$f":"IF(ISNA(MATCH(A185,'Current Owner Standings'!$D$4:$D$70,0)),99,MATCH(A185,'Current Owner Standings'!$D$4:$D$70,0))","v":99}]
[106,{"$f":"IF(ISNA(MATCH(A186,'Current Owner Standings'!$D$4:$D$70,0)),99,MATCH(A186,'Current Owner Standings'!$D$4:$D$70,0))","v":99}]
[107,{"$f":"IF(ISNA(MATCH(A187,'Current Owner Standings'!$D$4:$D$70,0)),99,MATCH(A187,'Current Owner Standings'!$D$4:$D$70,0))","v":39}]
[108,{"$f":"IF(ISNA(MATCH(A188,'Current Owner Standings'!$D$4:$D$70,0)),99,MATCH(A188,'Current Owner Standings'!$D$4:$D$70,0))","v":99}]
[109,{"$f":"IF(ISNA(MATCH(A189,'Current Owner Standings'!$D$4:$D$70,0)),99,MATCH(A189,'Current Owner Standings'!$D$4:$D$70,0))","v":99}]
[110,{"$f":"IF(ISNA(MATCH(A190,'Current Owner Standings'!$D$4:$D$70,0)),99,MATCH(A190,'Current Owner Standings'!$D$4:$D$70,0))","v":99}]
[111,{"$f":"IF(ISNA(MATCH(A191,'Current Owner Standings'!$D$4:$D$70,0)),99,MATCH(A191,'Current Owner Standings'!$D$4:$D$70,0))","v":99}]
[112,{"$f":"IF(ISNA(MATCH(A192,'Current Owner Standings'!$D$4:$D$70,0)),99,MATCH(A192,'Current Owner Standings'!$D$4:$D$70,0))","v":99}]
[113,{"$f":"IF(ISNA(MATCH(A193,'Current Owner Standings'!$D$4:$D$70,0)),99,MATCH(A193,'Current Owner Standings'!$D$4:$D$70,0))","v":99}]
[114,{"$f":"IF(ISNA(MATCH(A194,'Current Owner Standings'!$D$4:$D$70,0)),99,MATCH(A194,'Current Owner Standings'!$D$4:$D$70,0))","v":99}]
[115,{"$f":"IF(ISNA(MATCH(A195,'Current Owner Standings'!$D$4:$D$70,0)),99,MATCH(A195,'Current Owner Standings'!$D$4:$D$70,0))","v":99}]
[116,{"$f":"IF(ISNA(MATCH(A196,'Current Owner Standings'!$D$4:$D$70,0)),99,MATCH(A196,'Current Owner Standings'!$D$4:$D$70,0))","v":42}]
[117,{"$f":"IF(ISNA(MATCH(A197,'Current Owner Standings'!$D$4:$D$70,0)),99,MATCH(A197,'Current Owner Standings'!$D$4:$D$70,0))","v":99}]
[118,{"$f":"IF(ISNA(MATCH(A198,'Current Owner Standings'!$D$4:$D$70,0)),99,MATCH(A198,'Current Owner Standings'!$D$4:$D$70,0))","v":99}]
[119,{"$f":"IF(ISNA(MATCH(A199,'Current Owner Standings'!$D$4:$D$70,0)),99,MATCH(A199,'Current Owner Standings'!$D$4:$D$70,0))","v":99}]
[120,{"$f":"IF(ISNA(MATCH(A200,'Current Owner Standings'!$D$4:$D$70,0)),99,MATCH(A200,'Current Owner Standings'!$D$4:$D$70,0))","v":99}]
[121,{"$f":"IF(ISNA(MATCH(A201,'Current Owner Standings'!$D$4:$D$70,0)),99,MATCH(A201,'Current Owner Standings'!$D$4:$D$70,0))","v":99}]
[122,{"$f":"IF(ISNA(MATCH(A202,'Current Owner Standings'!$D$4:$D$70,0)),99,MATCH(A202,'Current Owner Standings'!$D$4:$D$70,0))","v":99}]
[123,{"$f":"IF(ISNA(MATCH(A203,'Current Owner Standings'!$D$4:$D$70,0)),99,MATCH(A203,'Current Owner Standings'!$D$4:$D$70,0))","v":99}]
[124,{"$f":"IF(ISNA(MATCH(A204,'Current Owner Standings'!$D$4:$D$70,0)),99,MATCH(A204,'Current Owner Standings'!$D$4:$D$70,0))","v":99}]
[125,{"$f":"IF(ISNA(MATCH(A205,'Current Owner Standings'!$D$4:$D$70,0)),99,MATCH(A205,'Current Owner Standings'!$D$4:$D$70,0))","v":99}]
[126,{"$f":"IF(ISNA(MATCH(A206,'Current Owner Standings'!$D$4:$D$70,0)),99,MATCH(A206,'Current Owner Standings'!$D$4:$D$70,0))","v":99}]
[127,{"$f":"IF(ISNA(MATCH(A207,'Current Owner Standings'!$D$4:$D$70,0)),99,MATCH(A207,'Current Owner Standings'!$D$4:$D$70,0))","v":32}]
[128,{"$f":"IF(ISNA(MATCH(A208,'Current Owner Standings'!$D$4:$D$70,0)),99,MATCH(A208,'Current Owner Standings'!$D$4:$D$70,0))","v":99}]
[129,{"$f":"IF(ISNA(MATCH(A209,'Current Owner Standings'!$D$4:$D$70,0)),99,MATCH(A209,'Current Owner Standings'!$D$4:$D$70,0))","v":99}]
[130,{"$f":"IF(ISNA(MATCH(A210,'Current Owner Standings'!$D$4:$D$70,0)),99,MATCH(A210,'Current Owner Standings'!$D$4:$D$70,0))","v":99}]
[131,{"$f":"IF(ISNA(MATCH(A211,'Current Owner Standings'!$D$4:$D$70,0)),99,MATCH(A211,'Current Owner Standings'!$D$4:$D$70,0))","v":99}]
[132,{"$f":"IF(ISNA(MATCH(A212,'Current Owner Standings'!$D$4:$D$70,0)),99,MATCH(A212,'Current Owner Standings'!$D$4:$D$70,0))","v":99}]
[133,{"$f":"IF(ISNA(MATCH(A213,'Current Owner Standings'!$D$4:$D$70,0)),99,MATCH(A213,'Current Owner Standings'!$D$4:$D$70,0))","v":99}]
[134,{"$f":"IF(ISNA(MATCH(A214,'Current Owner Standings'!$D$4:$D$70,0)),99,MATCH(A214,'Current Owner Standings'!$D$4:$D$70,0))","v":99}]
[135,{"$f":"IF(ISNA(MATCH(A215,'Current Owner Standings'!$D$4:$D$70,0)),99,MATCH(A215,'Current Owner Standings'!$D$4:$D$70,0))","v":99}]
[136,{"$f":"IF(ISNA(MATCH(A216,'Current Owner Standings'!$D$4:$D$70,0)),99,MATCH(A216,'Current Owner Standings'!$D$4:$D$70,0))","v":99}]
[137,{"$f":"IF(ISNA(MATCH(A217,'Current Owner Standings'!$D$4:$D$70,0)),99,MATCH(A217,'Current Owner Standings'!$D$4:$D$70,0))","v":99}]
[138,{"$f":"IF(ISNA(MATCH(A218,'Current Owner Standings'!$D$4:$D$70,0)),99,MATCH(A218,'Current Owner Standings'!$D$4:$D$70,0))","v":99}]
[139,{"$f":"IF(ISNA(MATCH(A219,'Current Owner Standings'!$D$4:$D$70,0)),99,MATCH(A219,'Current Owner Standings'!$D$4:$D$70,0))","v":99}]
[140,{"$f":"IF(ISNA(MATCH(A220,'Current Owner Standings'!$D$4:$D$70,0)),99,MATCH(A220,'Current Owner Standings'!$D$4:$D$70,0))","v":99}]
[141,{"$f":"IF(ISNA(MATCH(A221,'Current Owner Standings'!$D$4:$D$70,0)),99,MATCH(A221,'Current Owner Standings'!$D$4:$D$70,0))","v":99}]
[142,{"$f":"IF(ISNA(MATCH(A222,'Current Owner Standings'!$D$4:$D$70,0)),99,MATCH(A222,'Current Owner Standings'!$D$4:$D$70,0))","v":99}]
[143,{"$f":"IF(ISNA(MATCH(A223,'Current Owner Standings'!$D$4:$D$70,0)),99,MATCH(A223,'Current Owner Standings'!$D$4:$D$70,0))","v":99}]
[144,{"$f":"IF(ISNA(MATCH(A224,'Current Owner Standings'!$D$4:$D$70,0)),99,MATCH(A224,'Current Owner Standings'!$D$4:$D$70,0))","v":99}]
[145,{"$f":"IF(ISNA(MATCH(A225,'Current Owner Standings'!$D$4:$D$70,0)),99,MATCH(A225,'Current Owner Standings'!$D$4:$D$70,0))","v":99}]
[146,{"$f":"IF(ISNA(MATCH(A226,'Current Owner Standings'!$D$4:$D$70,0)),99,MATCH(A226,'Current Owner Standings'!$D$4:$D$70,0))","v":99}]
[147,{"$f":"IF(ISNA(MATCH(A227,'Current Owner Standings'!$D$4:$D$70,0)),99,MATCH(A227,'Current Owner Standings'!$D$4:$D$70,0))","v":99}]
[148,{"$f":"IF(ISNA(MATCH(A228,'Current Owner Standings'!$D$4:$D$70,0)),99,MATCH(A228,'Current Owner Standings'!$D$4:$D$70,0))","v":99}]
[149,{"$f":"IF(ISNA(MATCH(A229,'Current Owner Standings'!$D$4:$D$70,0)),99,MATCH(A229,'Current Owner Standings'!$D$4:$D$70,0))","v":99}]
[150,{"$f":"IF(ISNA(MATCH(A230,'Current Owner Standings'!$D$4:$D$70,0)),99,MATCH(A230,'Current Owner Standings'!$D$4:$D$70,0))","v":99}]
[151,{"$f":"IF(ISNA(MATCH(A231,'Current Owner Standings'!$D$4:$D$70,0)),99,MATCH(A231,'Current Owner Standings'!$D$4:$D$70,0))","v":99}]
[152,{"$f":"IF(ISNA(MATCH(A232,'Current Owner Standings'!$D$4:$D$70,0)),99,MATCH(A232,'Current Owner Standings'!$D$4:$D$70,0))","v":99}]
[153,{"$f":"IF(ISNA(MATCH(A233,'Current Owner Standings'!$D$4:$D$70,0)),99,MATCH(A233,'Current Owner Standings'!$D$4:$D$70,0))","v":99}]
[154,{"$f":"IF(ISNA(MATCH(A234,'Current Owner Standings'!$D$4:$D$70,0)),99,MATCH(A234,'Current Owner Standings'!$D$4:$D$70,0))","v":99}]
[155,{"$f":"IF(ISNA(MATCH(A235,'Current Owner Standings'!$D$4:$D$70,0)),99,MATCH(A235,'Current Owner Standings'!$D$4:$D$70,0))","v":99}]
[156,{"$f":"IF(ISNA(MATCH(A236,'Current Owner Standings'!$D$4:$D$70,0)),99,MATCH(A236,'Current Owner Standings'!$D$4:$D$70,0))","v":99}]
[157,{"$f":"IF(ISNA(MATCH(A237,'Current Owner Standings'!$D$4:$D$70,0)),99,MATCH(A237,'Current Owner Standings'!$D$4:$D$70,0))","v":99}]
[158,{"$f":"IF(ISNA(MATCH(A238,'Current Owner Standings'!$D$4:$D$70,0)),99,MATCH(A238,'Current Owner Standings'!$D$4:$D$70,0))","v":99}]
[159,{"$f":"IF(ISNA(MATCH(A239,'Current Owner Standings'!$D$4:$D$70,0)),99,MATCH(A239,'Current Owner Standings'!$D$4:$D$70,0))","v":99}]
[160,{"$f":"IF(ISNA(MATCH(A240,'Current Owner Standings'!$D$4:$D$70,0)),99,MATCH(A240,'Current Owner Standings'!$D$4:$D$70,0))","v":99}]
[161,{"$f":"IF(ISNA(MATCH(A241,'Current Owner Standings'!$D$4:$D$70,0)),99,MATCH(A241,'Current Owner Standings'!$D$4:$D$70,0))","v":99}]
[162,{"$f":"IF(ISNA(MATCH(A242,'Current Owner Standings'!$D$4:$D$70,0)),99,MATCH(A242,'Current Owner Standings'!$D$4:$D$70,0))","v":99}]
[163,{"$f":"IF(ISNA(MATCH(A243,'Current Owner Standings'!$D$4:$D$70,0)),99,MATCH(A243,'Current Owner Standings'!$D$4:$D$70,0))","v":99}]
[164,{"$f":"IF(ISNA(MATCH(A244,'Current Owner Standings'!$D$4:$D$70,0)),99,MATCH(A244,'Current Owner Standings'!$D$4:$D$70,0))","v":99}]
[165,{"$f":"IF(ISNA(MATCH(A245,'Current Owner Standings'!$D$4:$D$70,0)),99,MATCH(A245,'Current Owner Standings'!$D$4:$D$70,0))","v":99}]
[166,{"$f":"IF(ISNA(MATCH(A246,'Current Owner Standings'!$D$4:$D$70,0)),99,MATCH(A246,'Current Owner Standings'!$D$4:$D$70,0))","v":99}]
[167,{"$f":"IF(ISNA(MATCH(A247,'Current Owner Standings'!$D$4:$D$70,0)),99,MATCH(A247,'Current Owner Standings'!$D$4:$D$70,0))","v":99}]
[168,{"$f":"IF(ISNA(MATCH(A248,'Current Owner Standings'!$D$4:$D$70,0)),99,MATCH(A248,'Current Owner Standings'!$D$4:$D$70,0))","v":99}]
[169,{"$f":"IF(ISNA(MATCH(A249,'Current Owner Standings'!$D$4:$D$70,0)),99,MATCH(A249,'Current Owner Standings'!$D$4:$D$70,0))","v":99}]
[170,{"$f":"IF(ISNA(MATCH(A250,'Current Owner Standings'!$D$4:$D$70,0)),99,MATCH(A250,'Current Owner Standings'!$D$4:$D$70,0))","v":99}]
[171,{"$f":"IF(ISNA(MATCH(A251,'Current Owner Standings'!$D$4:$D$70,0)),99,MATCH(A251,'Current Owner Standings'!$D$4:$D$70,0))","v":99}]
[172,{"$f":"IF(ISNA(MATCH(A252,'Current Owner Standings'!$D$4:$D$70,0)),99,MATCH(A252,'Current Owner Standings'!$D$4:$D$70,0))","v":99}]
[173,{"$f":"IF(ISNA(MATCH(A253,'Current Owner Standings'!$D$4:$D$70,0)),99,MATCH(A253,'Current Owner Standings'!$D$4:$D$70,0))","v":99}]
[174,{"$f":"IF(ISNA(MATCH(A254,'Current Owner Standings'!$D$4:$D$70,0)),99,MATCH(A254,'Current Owner Standings'!$D$4:$D$70,0))","v":99}]
[175,{"$f":"IF(ISNA(MATCH(A255,'Current Owner Standings'!$D$4:$D$70,0)),99,MATCH(A255,'Current Owner Standings'!$D$4:$D$70,0))","v":99}]
[176,{"$f":"IF(ISNA(MATCH(A256,'Current Owner Standings'!$D$4:$D$70,0)),99,MATCH(A256,'Current Owner Standings'!$D$4:$D$70,0))","v":99}]
[177,{"$f":"IF(ISNA(MATCH(A257,'Current Owner Standings'!$D$4:$D$70,0)),99,MATCH(A257,'Current Owner Standings'!$D$4:$D$70,0))","v":99}]
[178,{"$f":"IF(ISNA(MATCH(A258,'Current Owner Standings'!$D$4:$D$70,0)),99,MATCH(A258,'Current Owner Standings'!$D$4:$D$70,0))","v":99}]
[179,{"$f":"IF(ISNA(MATCH(A259,'Current Owner Standings'!$D$4:$D$70,0)),99,MATCH(A259,'Current Owner Standings'!$D$4:$D$70,0))","v":99}]
[180,{"$f":"IF(ISNA(MATCH(A260,'Current Owner Standings'!$D$4:$D$70,0)),99,MATCH(A260,'Current Owner Standings'!$D$4:$D$70,0))","v":99}]
[181,{"$f":"IF(ISNA(MATCH(A261,'Current Owner Standings'!$D$4:$D$70,0)),99,MATCH(A261,'Current Owner Standings'!$D$4:$D$70,0))","v":99}]
[182,{"$f":"IF(ISNA(MATCH(A262,'Current Owner Standings'!$D$4:$D$70,0)),99,MATCH(A262,'Current Owner Standings'!$D$4:$D$70,0))","v":99}]
[183,{"$f":"IF(ISNA(MATCH(A263,'Current Owner Standings'!$D$4:$D$70,0)),99,MATCH(A263,'Current Owner Standings'!$D$4:$D$70,0))","v":99}]
[184,{"$f":"IF(ISNA(MATCH(A264,'Current Owner Standings'!$D$4:$D$70,0)),99,MATCH(A264,'Current Owner Standings'!$D$4:$D$70,0))","v":99}]
[185,{"$f":"IF(ISNA(MATCH(A265,'Current Owner Standings'!$D$4:$D$70,0)),99,MATCH(A265,'Current Owner Standings'!$D$4:$D$70,0))","v":99}]
[186,{"$f":"IF(ISNA(MATCH(A266,'Current Owner Standings'!$D$4:$D$70,0)),99,MATCH(A266,'Current Owner Standings'!$D$4:$D$70,0))","v":99}]
[187,{"$f":"IF(ISNA(MATCH(A267,'Current Owner Standings'!$D$4:$D$70,0)),99,MATCH(A267,'Current Owner Standings'!$D$4:$D$70,0))","v":99}]
[188,{"$f":"IF(ISNA(MATCH(A268,'Current Owner Standings'!$D$4:$D$70,0)),99,MATCH(A268,'Current Owner Standings'!$D$4:$D$70,0))","v":99}]
[189,{"$f":"IF(ISNA(MATCH(A269,'Current Owner Standings'!$D$4:$D$70,0)),99,MATCH(A269,'Current Owner Standings'!$D$4:$D$70,0))","v":99}]
[190,{"$f":"IF(ISNA(MATCH(A270,'Current Owner Standings'!$D$4:$D$70,0)),99,MATCH(A270,'Current Owner Standings'!$D$4:$D$70,0))","v":99}]
[191,{"$f":"IF(ISNA(MATCH(A271,'Current Owner Standings'!$D$4:$D$70,0)),99,MATCH(A271,'Current Owner Standings'!$D$4:$D$70,0))","v":99}]
[192,{"$f":"IF(ISNA(MATCH(A272,'Current Owner Standings'!$D$4:$D$70,0)),99,MATCH(A272,'Current Owner Standings'!$D$4:$D$70,0))","v":99}]
[193,{"$f":"IF(ISNA(MATCH(A273,'Current Owner Standings'!$D$4:$D$70,0)),99,MATCH(A273,'Current Owner Standings'!$D$4:$D$70,0))","v":99}]
[194,{"$f":"IF(ISNA(MATCH(A274,'Current Owner Standings'!$D$4:$D$70,0)),99,MATCH(A274,'Current Owner Standings'!$D$4:$D$70,0))","v":99}]
[195,{"$f":"IF(ISNA(MATCH(A275,'Current Owner Standings'!$D$4:$D$70,0)),99,MATCH(A275,'Current Owner Standings'!$D$4:$D$70,0))","v":99}]
[196,{"$f":"IF(ISNA(MATCH(A276,'Current Owner Standings'!$D$4:$D$70,0)),99,MATCH(A276,'Current Owner Standings'!$D$4:$D$70,0))","v":99}]
[197,{"$f":"IF(ISNA(MATCH(A277,'Current Owner Standings'!$D$4:$D$70,0)),99,MATCH(A277,'Current Owner Standings'!$D$4:$D$70,0))","v":99}]
[198,{"$f":"IF(ISNA(MATCH(A278,'Current Owner Standings'!$D$4:$D$70,0)),99,MATCH(A278,'Current Owner Standings'!$D$4:$D$70,0))","v":99}]
[199,{"$f":"IF(ISNA(MATCH(A279,'Current Owner Standings'!$D$4:$D$70,0)),99,MATCH(A279,'Current Owner Standings'!$D$4:$D$70,0))","v":99}]
[200,{"$f":"IF(ISNA(MATCH(A280,'Current Owner Standings'!$D$4:$D$70,0)),99,MATCH(A280,'Current Owner Standings'!$D$4:$D$70,0))","v":99}]
[201,{"$f":"IF(ISNA(MATCH(A281,'Current Owner Standings'!$D$4:$D$70,0)),99,MATCH(A281,'Current Owner Standings'!$D$4:$D$70,0))","v":99}]
[202,{"$f":"IF(ISNA(MATCH(A282,'Current Owner Standings'!$D$4:$D$70,0)),99,MATCH(A282,'Current Owner Standings'!$D$4:$D$70,0))","v":99}]
[203,{"$f":"IF(ISNA(MATCH(A283,'Current Owner Standings'!$D$4:$D$70,0)),99,MATCH(A283,'Current Owner Standings'!$D$4:$D$70,0))","v":99}]
[204,{"$f":"IF(ISNA(MATCH(A284,'Current Owner Standings'!$D$4:$D$70,0)),99,MATCH(A284,'Current Owner Standings'!$D$4:$D$70,0))","v":99}]
[205,{"$f":"IF(ISNA(MATCH(A285,'Current Owner Standings'!$D$4:$D$70,0)),99,MATCH(A285,'Current Owner Standings'!$D$4:$D$70,0))","v":99}]
[206,{"$f":"IF(ISNA(MATCH(A286,'Current Owner Standings'!$D$4:$D$70,0)),99,MATCH(A286,'Current Owner Standings'!$D$4:$D$70,0))","v":99}]
[207,{"$f":"IF(ISNA(MATCH(A287,'Current Owner Standings'!$D$4:$D$70,0)),99,MATCH(A287,'Current Owner Standings'!$D$4:$D$70,0))","v":99}]
[208,{"$f":"IF(ISNA(MATCH(A288,'Current Owner Standings'!$D$4:$D$70,0)),99,MATCH(A288,'Current Owner Standings'!$D$4:$D$70,0))","v":99}]
[209,{"$f":"IF(ISNA(MATCH(A289,'Current Owner Standings'!$D$4:$D$70,0)),99,MATCH(A289,'Current Owner Standings'!$D$4:$D$70,0))","v":99}]
[210,{"$f":"IF(ISNA(MATCH(A290,'Current Owner Standings'!$D$4:$D$70,0)),99,MATCH(A290,'Current Owner Standings'!$D$4:$D$70,0))","v":99}]
[211,{"$f":"IF(ISNA(MATCH(A291,'Current Owner Standings'!$D$4:$D$70,0)),99,MATCH(A291,'Current Owner Standings'!$D$4:$D$70,0))","v":99}]
[212,{"$f":"IF(ISNA(MATCH(A292,'Current Owner Standings'!$D$4:$D$70,0)),99,MATCH(A292,'Current Owner Standings'!$D$4:$D$70,0))","v":99}]
[213,{"$f":"IF(ISNA(MATCH(A293,'Current Owner Standings'!$D$4:$D$70,0)),99,MATCH(A293,'Current Owner Standings'!$D$4:$D$70,0))","v":99}]
[214,{"$f":"IF(ISNA(MATCH(A294,'Current Owner Standings'!$D$4:$D$70,0)),99,MATCH(A294,'Current Owner Standings'!$D$4:$D$70,0))","v":99}]
[215,{"$f":"IF(ISNA(MATCH(A295,'Current Owner Standings'!$D$4:$D$70,0)),99,MATCH(A295,'Current Owner Standings'!$D$4:$D$70,0))","v":99}]
[216,{"$f":"IF(ISNA(MATCH(A296,'Current Owner Standings'!$D$4:$D$70,0)),99,MATCH(A296,'Current Owner Standings'!$D$4:$D$70,0))","v":99}]
[217,{"$f":"IF(ISNA(MATCH(A297,'Current Owner Standings'!$D$4:$D$70,0)),99,MATCH(A297,'Current Owner Standings'!$D$4:$D$70,0))","v":99}]
[218,{"$f":"IF(ISNA(MATCH(A298,'Current Owner Standings'!$D$4:$D$70,0)),99,MATCH(A298,'Current Owner Standings'!$D$4:$D$70,0))","v":99}]
[219,{"$f":"IF(ISNA(MATCH(A299,'Current Owner Standings'!$D$4:$D$70,0)),99,MATCH(A299,'Current Owner Standings'!$D$4:$D$70,0))","v":99}]
[220,{"$f":"IF(ISNA(MATCH(A300,'Current Owner Standings'!$D$4:$D$70,0)),99,MATCH(A300,'Current Owner Standings'!$D$4:$D$70,0))","v":99}]
[221,{"$f":"IF(ISNA(MATCH(A301,'Current Owner Standings'!$D$4:$D$70,0)),99,MATCH(A301,'Current Owner Standings'!$D$4:$D$70,0))","v":99}]
[222,{"$f":"IF(ISNA(MATCH(A302,'Current Owner Standings'!$D$4:$D$70,0)),99,MATCH(A302,'Current Owner Standings'!$D$4:$D$70,0))","v":99}]
[223,{"$f":"IF(ISNA(MATCH(A303,'Current Owner Standings'!$D$4:$D$70,0)),99,MATCH(A303,'Current Owner Standings'!$D$4:$D$70,0))","v":99}]
[224,{"$f":"IF(ISNA(MATCH(A304,'Current Owner Standings'!$D$4:$D$70,0)),99,MATCH(A304,'Current Owner Standings'!$D$4:$D$70,0))","v":99}]
[225,{"$f":"IF(ISNA(MATCH(A305,'Current Owner Standings'!$D$4:$D$70,0)),99,MATCH(A305,'Current Owner Standings'!$D$4:$D$70,0))","v":99}]
[226,{"$f":"IF(ISNA(MATCH(A306,'Current Owner Standings'!$D$4:$D$70,0)),99,MATCH(A306,'Current Owner Standings'!$D$4:$D$70,0))","v":99}]
[227,{"$f":"IF(ISNA(MATCH(A307,'Current Owner Standings'!$D$4:$D$70,0)),99,MATCH(A307,'Current Owner Standings'!$D$4:$D$70,0))","v":99}]
[228,{"$f":"IF(ISNA(MATCH(A308,'Current Owner Standings'!$D$4:$D$70,0)),99,MATCH(A308,'Current Owner Standings'!$D$4:$D$70,0))","v":99}]
[229,{"$f":"IF(ISNA(MATCH(A309,'Current Owner Standings'!$D$4:$D$70,0)),99,MATCH(A309,'Current Owner Standings'!$D$4:$D$70,0))","v":99}]
[230,{"$f":"IF(ISNA(MATCH(A310,'Current Owner Standings'!$D$4:$D$70,0)),99,MATCH(A310,'Current Owner Standings'!$D$4:$D$70,0))","v":99}]
[231,{"$f":"IF(ISNA(MATCH(A311,'Current Owner Standings'!$D$4:$D$70,0)),99,MATCH(A311,'Current Owner Standings'!$D$4:$D$70,0))","v":99}]
[232,{"$f":"IF(ISNA(MATCH(A312,'Current Owner Standings'!$D$4:$D$70,0)),99,MATCH(A312,'Current Owner Standings'!$D$4:$D$70,0))","v":99}]
[233,{"$f":"IF(ISNA(MATCH(A313,'Current Owner Standings'!$D$4:$D$70,0)),99,MATCH(A313,'Current Owner Standings'!$D$4:$D$70,0))","v":99}]
[234,{"$f":"IF(ISNA(MATCH(A314,'Current Owner Standings'!$D$4:$D$70,0)),99,MATCH(A314,'Current Owner Standings'!$D$4:$D$70,0))","v":99}]
[235,{"$f":"IF(ISNA(MATCH(A315,'Current Owner Standings'!$D$4:$D$70,0)),99,MATCH(A315,'Current Owner Standings'!$D$4:$D$70,0))","v":99}]
[236,{"$f":"IF(ISNA(MATCH(A316,'Current Owner Standings'!$D$4:$D$70,0)),99,MATCH(A316,'Current Owner Standings'!$D$4:$D$70,0))","v":99}]
[237,{"$f":"IF(ISNA(MATCH(A317,'Current Owner Standings'!$D$4:$D$70,0)),99,MATCH(A317,'Current Owner Standings'!$D$4:$D$70,0))","v":99}]
[238,{"$f":"IF(ISNA(MATCH(A318,'Current Owner Standings'!$D$4:$D$70,0)),99,MATCH(A318,'Current Owner Standings'!$D$4:$D$70,0))","v":99}]
[239,{"$f":"IF(ISNA(MATCH(A319,'Current Owner Standings'!$D$4:$D$70,0)),99,MATCH(A319,'Current Owner Standings'!$D$4:$D$70,0))","v":99}]
[240,{"$f":"IF(ISNA(MATCH(A320,'Current Owner Standings'!$D$4:$D$70,0)),99,MATCH(A320,'Current Owner Standings'!$D$4:$D$70,0))","v":99}]
[241,{"$f":"IF(ISNA(MATCH(A321,'Current Owner Standings'!$D$4:$D$70,0)),99,MATCH(A321,'Current Owner Standings'!$D$4:$D$70,0))","v":99}]
[242,{"$f":"IF(ISNA(MATCH(A322,'Current Owner Standings'!$D$4:$D$70,0)),99,MATCH(A322,'Current Owner Standings'!$D$4:$D$70,0))","v":99}]
[243,{"$f":"IF(ISNA(MATCH(A323,'Current Owner Standings'!$D$4:$D$70,0)),99,MATCH(A323,'Current Owner Standings'!$D$4:$D$70,0))","v":99}]
[244,{"$f":"IF(ISNA(MATCH(A324,'Current Owner Standings'!$D$4:$D$70,0)),99,MATCH(A324,'Current Owner Standings'!$D$4:$D$70,0))","v":99}]
[245,{"$f":"IF(ISNA(MATCH(A325,'Current Owner Standings'!$D$4:$D$70,0)),99,MATCH(A325,'Current Owner Standings'!$D$4:$D$70,0))","v":99}]
[246,{"$f":"IF(ISNA(MATCH(A326,'Current Owner Standings'!$D$4:$D$70,0)),99,MATCH(A326,'Current Owner Standings'!$D$4:$D$70,0))","v":99}]
[247,{"$f":"IF(ISNA(MATCH(A327,'Current Owner Standings'!$D$4:$D$70,0)),99,MATCH(A327,'Current Owner Standings'!$D$4:$D$70,0))","v":99}]
[248,{"$f":"IF(ISNA(MATCH(A328,'Current Owner Standings'!$D$4:$D$70,0)),99,MATCH(A328,'Current Owner Standings'!$D$4:$D$70,0))","v":99}]
[249,{"$f":"IF(ISNA(MATCH(A329,'Current Owner Standings'!$D$4:$D$70,0)),99,MATCH(A329,'Current Owner Standings'!$D$4:$D$70,0))","v":99}]
[250,{"$f":"IF(ISNA(MATCH(A330,'Current Owner Standings'!$D$4:$D$70,0)),99,MATCH(A330,'Current Owner Standings'!$D$4:$D$70,0))","v":99}]
[251,{"$f":"IF(ISNA(MATCH(A331,'Current Owner Standings'!$D$4:$D$70,0)),99,MATCH(A331,'Current Owner Standings'!$D$4:$D$70,0))","v":99}]
[252,{"$f":"IF(ISNA(MATCH(A332,'Current Owner Standings'!$D$4:$D$70,0)),99,MATCH(A332,'Current Owner Standings'!$D$4:$D$70,0))","v":99}]
[253,{"$f":"IF(ISNA(MATCH(A333,'Current Owner Standings'!$D$4:$D$70,0)),99,MATCH(A333,'Current Owner Standings'!$D$4:$D$70,0))","v":99}]
[254,{"$f":"IF(ISNA(MATCH(A334,'Current Owner Standings'!$D$4:$D$70,0)),99,MATCH(A334,'Current Owner Standings'!$D$4:$D$70,0))","v":99}]
[255,{"$f":"IF(ISNA(MATCH(A335,'Current Owner Standings'!$D$4:$D$70,0)),99,MATCH(A335,'Current Owner Standings'!$D$4:$D$70,0))","v":99}]
[256,{"$f":"IF(ISNA(MATCH(A336,'Current Owner Standings'!$D$4:$D$70,0)),99,MATCH(A336,'Current Owner Standings'!$D$4:$D$70,0))","v":99}]
[257,{"$f":"IF(ISNA(MATCH(A337,'Current Owner Standings'!$D$4:$D$70,0)),99,MATCH(A337,'Current Owner Standings'!$D$4:$D$70,0))","v":99}]
[258,{"$f":"IF(ISNA(MATCH(A338,'Current Owner Standings'!$D$4:$D$70,0)),99,MATCH(A338,'Current Owner Standings'!$D$4:$D$70,0))","v":99}]
[259,{"$f":"IF(ISNA(MATCH(A339,'Current Owner Standings'!$D$4:$D$70,0)),99,MATCH(A339,'Current Owner Standings'!$D$4:$D$70,0))","v":99}]
[260,{"$f":"IF(ISNA(MATCH(A340,'Current Owner Standings'!$D$4:$D$70,0)),99,MATCH(A340,'Current Owner Standings'!$D$4:$D$70,0))","v":99}]
[261,{"$f":"IF(ISNA(MATCH(A341,'Current Owner Standings'!$D$4:$D$70,0)),99,MATCH(A341,'Current Owner Standings'!$D$4:$D$70,0))","v":99}]
[262,{"$f":"IF(ISNA(MATCH(A342,'Current Owner Standings'!$D$4:$D$70,0)),99,MATCH(A342,'Current Owner Standings'!$D$4:$D$70,0))","v":99}]
[263,{"$f":"IF(ISNA(MATCH(A343,'Current Owner Standings'!$D$4:$D$70,0)),99,MATCH(A343,'Current Owner Standings'!$D$4:$D$70,0))","v":99}]
[264,{"$f":"IF(ISNA(MATCH(A344,'Current Owner Standings'!$D$4:$D$70,0)),99,MATCH(A344,'Current Owner Standings'!$D$4:$D$70,0))","v":99}]
[265,{"$f":"IF(ISNA(MATCH(A345,'Current Owner Standings'!$D$4:$D$70,0)),99,MATCH(A345,'Current Owner Standings'!$D$4:$D$70,0))","v":99}]
[266,{"$f":"IF(ISNA(MATCH(A346,'Current Owner Standings'!$D$4:$D$70,0)),99,MATCH(A346,'Current Owner Standings'!$D$4:$D$70,0))","v":99}]
[267,{"$f":"IF(ISNA(MATCH(A347,'Current Owner Standings'!$D$4:$D$70,0)),99,MATCH(A347,'Current Owner Standings'!$D$4:$D$70,0))","v":99}]
[268,{"$f":"IF(ISNA(MATCH(A348,'Current Owner Standings'!$D$4:$D$70,0)),99,MATCH(A348,'Current Owner Standings'!$D$4:$D$70,0))","v":99}]
[269,{"$f":"IF(ISNA(MATCH(A349,'Current Owner Standings'!$D$4:$D$70,0)),99,MATCH(A349,'Current Owner Standings'!$D$4:$D$70,0))","v":99}]
[270,{"$f":"IF(ISNA(MATCH(A350,'Current Owner Standings'!$D$4:$D$70,0)),99,MATCH(A350,'Current Owner Standings'!$D$4:$D$70,0))","v":99}]
[271,{"$f":"IF(ISNA(MATCH(A351,'Current Owner Standings'!$D$4:$D$70,0)),99,MATCH(A351,'Current Owner Standings'!$D$4:$D$70,0))","v":99}]
[272,{"$f":"IF(ISNA(MATCH(A352,'Current Owner Standings'!$D$4:$D$70,0)),99,MATCH(A352,'Current Owner Standings'!$D$4:$D$70,0))","v":99}]
[273,{"$f":"IF(ISNA(MATCH(A353,'Current Owner Standings'!$D$4:$D$70,0)),99,MATCH(A353,'Current Owner Standings'!$D$4:$D$70,0))","v":99}]
[274,{"$f":"IF(ISNA(MATCH(A354,'Current Owner Standings'!$D$4:$D$70,0)),99,MATCH(A354,'Current Owner Standings'!$D$4:$D$70,0))","v":99}]
[275,{"$f":"IF(ISNA(MATCH(A355,'Current Owner Standings'!$D$4:$D$70,0)),99,MATCH(A355,'Current Owner Standings'!$D$4:$D$70,0))","v":99}]
[276,{"$f":"IF(ISNA(MATCH(A356,'Current Owner Standings'!$D$4:$D$70,0)),99,MATCH(A356,'Current Owner Standings'!$D$4:$D$70,0))","v":99}]
[277,{"$f":"IF(ISNA(MATCH(A357,'Current Owner Standings'!$D$4:$D$70,0)),99,MATCH(A357,'Current Owner Standings'!$D$4:$D$70,0))","v":99}]
[278,{"$f":"IF(ISNA(MATCH(A358,'Current Owner Standings'!$D$4:$D$70,0)),99,MATCH(A358,'Current Owner Standings'!$D$4:$D$70,0))","v":99}]
[279,{"$f":"IF(ISNA(MATCH(A359,'Current Owner Standings'!$D$4:$D$70,0)),99,MATCH(A359,'Current Owner Standings'!$D$4:$D$70,0))","v":99}]
[280,{"$f":"IF(ISNA(MATCH(A360,'Current Owner Standings'!$D$4:$D$70,0)),99,MATCH(A360,'Current Owner Standings'!$D$4:$D$70,0))","v":99}]
[281,{"$f":"IF(ISNA(MATCH(A361,'Current Owner Standings'!$D$4:$D$70,0)),99,MATCH(A361,'Current Owner Standings'!$D$4:$D$70,0))","v":99}]
[282,{"$f":"IF(ISNA(MATCH(A362,'Current Owner Standings'!$D$4:$D$70,0)),99,MATCH(A362,'Current Owner Standings'!$D$4:$D$70,0))","v":99}]
[283,{"$f":"IF(ISNA(MATCH(A363,'Current Owner Standings'!$D$4:$D$70,0)),99,MATCH(A363,'Current Owner Standings'!$D$4:$D$70,0))","v":99}]
[284,{"$f":"IF(ISNA(MATCH(A364,'Current Owner Standings'!$D$4:$D$70,0)),99,MATCH(A364,'Current Owner Standings'!$D$4:$D$70,0))","v":99}]
[285,{"$f":"IF(ISNA(MATCH(A365,'Current Owner Standings'!$D$4:$D$70,0)),99,MATCH(A365,'Current Owner Standings'!$D$4:$D$70,0))","v":99}]
[286,{"$f":"IF(ISNA(MATCH(A366,'Current Owner Standings'!$D$4:$D$70,0)),99,MATCH(A366,'Current Owner Standings'!$D$4:$D$70,0))","v":99}]
[287,{"$f":"IF(ISNA(MATCH(A367,'Current Owner Standings'!$D$4:$D$70,0)),99,MATCH(A367,'Current Owner Standings'!$D$4:$D$70,0))","v":99}]
[288,{"$f":"IF(ISNA(MATCH(A368,'Current Owner Standings'!$D$4:$D$70,0)),99,MATCH(A368,'Current Owner Standings'!$D$4:$D$70,0))","v":99}]
[289,{"$f":"IF(ISNA(MATCH(A369,'Current Owner Standings'!$D$4:$D$70,0)),99,MATCH(A369,'Current Owner Standings'!$D$4:$D$70,0))","v":99}]
[290,{"$f":"IF(ISNA(MATCH(A370,'Current Owner Standings'!$D$4:$D$70,0)),99,MATCH(A370,'Current Owner Standings'!$D$4:$D$70,0))","v":99}]
[291,{"$f":"IF(ISNA(MATCH(A371,'Current Owner Standings'!$D$4:$D$70,0)),99,MATCH(A371,'Current Owner Standings'!$D$4:$D$70,0))","v":99}]
[292,{"$f":"IF(ISNA(MATCH(A372,'Current Owner Standings'!$D$4:$D$70,0)),99,MATCH(A372,'Current Owner Standings'!$D$4:$D$70,0))","v":99}]
[293,{"$f":"IF(ISNA(MATCH(A373,'Current Owner Standings'!$D$4:$D$70,0)),99,MATCH(A373,'Current Owner Standings'!$D$4:$D$70,0))","v":99}]
[294,{"$f":"IF(ISNA(MATCH(A374,'Current Owner Standings'!$D$4:$D$70,0)),99,MATCH(A374,'Current Owner Standings'!$D$4:$D$70,0))","v":99}]
[295,{"$f":"IF(ISNA(MATCH(A375,'Current Owner Standings'!$D$4:$D$70,0)),99,MATCH(A375,'Current Owner Standings'!$D$4:$D$70,0))","v":99}]
[296,{"$f":"IF(ISNA(MATCH(A376,'Current Owner Standings'!$D$4:$D$70,0)),99,MATCH(A376,'Current Owner Standings'!$D$4:$D$70,0))","v":99}]
[297,{"$f":"IF(ISNA(MATCH(A377,'Current Owner Standings'!$D$4:$D$70,0)),99,MATCH(A377,'Current Owner Standings'!$D$4:$D$70,0))","v":99}]
[298,{"$f":"IF(ISNA(MATCH(A378,'Current Owner Standings'!$D$4:$D$70,0)),99,MATCH(A378,'Current Owner Standings'!$D$4:$D$70,0))","v":99}]
[299,{"$f":"IF(ISNA(MATCH(A379,'Current Owner Standings'!$D$4:$D$70,0)),99,MATCH(A379,'Current Owner Standings'!$D$4:$D$70,0))","v":99}]
[300,{"$f":"IF(ISNA(MATCH(A380,'Current Owner Standings'!$D$4:$D$70,0)),99,MATCH(A380,'Current Owner Standings'!$D$4:$D$70,0))","v":99}]
[301,{"$f":"IF(ISNA(MATCH(A381,'Current Owner Standings'!$D$4:$D$70,0)),99,MATCH(A381,'Current Owner Standings'!$D$4:$D$70,0))","v":99}]
[302,{"$f":"IF(ISNA(MATCH(A382,'Current Owner Standings'!$D$4:$D$70,0)),99,MATCH(A382,'Current Owner Standings'!$D$4:$D$70,0))","v":99}]
[303,{"$f":"IF(ISNA(MATCH(A383,'Current Owner Standings'!$D$4:$D$70,0)),99,MATCH(A383,'Current Owner Standings'!$D$4:$D$70,0))","v":99}]
[304,{"$f":"IF(ISNA(MATCH(A384,'Current Owner Standings'!$D$4:$D$70,0)),99,MATCH(A384,'Current Owner Standings'!$D$4:$D$70,0))","v":99}]
[305,{"$f":"IF(ISNA(MATCH(A385,'Current Owner Standings'!$D$4:$D$70,0)),99,MATCH(A385,'Current Owner Standings'!$D$4:$D$70,0))","v":99}]
[306,{"$f":"IF(ISNA(MATCH(A386,'Current Owner Standings'!$D$4:$D$70,0)),99,MATCH(A386,'Current Owner Standings'!$D$4:$D$70,0))","v":99}]
[307,{"$f":"IF(ISNA(MATCH(A387,'Current Owner Standings'!$D$4:$D$70,0)),99,MATCH(A387,'Current Owner Standings'!$D$4:$D$70,0))","v":99}]
[308,{"$f":"IF(ISNA(MATCH(A388,'Current Owner Standings'!$D$4:$D$70,0)),99,MATCH(A388,'Current Owner Standings'!$D$4:$D$70,0))","v":99}]
[309,{"$f":"IF(ISNA(MATCH(A389,'Current Owner Standings'!$D$4:$D$70,0)),99,MATCH(A389,'Current Owner Standings'!$D$4:$D$70,0))","v":99}]
[310,{"$f":"IF(ISNA(MATCH(A390,'Current Owner Standings'!$D$4:$D$70,0)),99,MATCH(A390,'Current Owner Standings'!$D$4:$D$70,0))","v":99}]
[311,{"$f":"IF(ISNA(MATCH(A391,'Current Owner Standings'!$D$4:$D$70,0)),99,MATCH(A391,'Current Owner Standings'!$D$4:$D$70,0))","v":99}]
[312,{"$f":"IF(ISNA(MATCH(A392,'Current Owner Standings'!$D$4:$D$70,0)),99,MATCH(A392,'Current Owner Standings'!$D$4:$D$70,0))","v":99}]
[313,{"$f":"IF(ISNA(MATCH(A393,'Current Owner Standings'!$D$4:$D$70,0)),99,MATCH(A393,'Current Owner Standings'!$D$4:$D$70,0))","v":99}]
[314,{"$f":"IF(ISNA(MATCH(A394,'Current Owner Standings'!$D$4:$D$70,0)),99,MATCH(A394,'Current Owner Standings'!$D$4:$D$70,0))","v":99}]
[315,{"$f":"IF(ISNA(MATCH(A395,'Current Owner Standings'!$D$4:$D$70,0)),99,MATCH(A395,'Current Owner Standings'!$D$4:$D$70,0))","v":99}]
[316,{"$f":"IF(ISNA(MATCH(A396,'Current Owner Standings'!$D$4:$D$70,0)),99,MATCH(A396,'Current Owner Standings'!$D$4:$D$70,0))","v":99}]
[317,{"$f":"IF(ISNA(MATCH(A397,'Current Owner Standings'!$D$4:$D$70,0)),99,MATCH(A397,'Current Owner Standings'!$D$4:$D$70,0))","v":99}]
[318,{"$f":"IF(ISNA(MATCH(A398,'Current Owner Standings'!$D$4:$D$70,0)),99,MATCH(A398,'Current Owner Standings'!$D$4:$D$70,0))","v":99}]
[319,{"$f":"IF(ISNA(MATCH(A399,'Current Owner Standings'!$D$4:$D$70,0)),99,MATCH(A399,'Current Owner Standings'!$D$4:$D$70,0))","v":99}]
[320,{"$f":"IF(ISNA(MATCH(A400,'Current Owner Standings'!$D$4:$D$70,0)),99,MATCH(A400,'Current Owner Standings'!$D$4:$D$70,0))","v":99}]
[321,{"$f":"IF(ISNA(MATCH(A401,'Current Owner Standings'!$D$4:$D$70,0)),99,MATCH(A401,'Current Owner Standings'!$D$4:$D$70,0))","v":99}]
[322,{"$f":"IF(ISNA(MATCH(A402,'Current Owner Standings'!$D$4:$D$70,0)),99,MATCH(A402,'Current Owner Standings'!$D$4:$D$70,0))","v":99}]
[323,{"$f":"IF(ISNA(MATCH(A403,'Current Owner Standings'!$D$4:$D$70,0)),99,MATCH(A403,'Current Owner Standings'!$D$4:$D$70,0))","v":99}]
[324,{"$f":"IF(ISNA(MATCH(A404,'Current Owner Standings'!$D$4:$D$70,0)),99,MATCH(A404,'Current Owner Standings'!$D$4:$D$70,0))","v":99}]
[325,{"$f":"IF(ISNA(MATCH(A405,'Current Owner Standings'!$D$4:$D$70,0)),99,MATCH(A405,'Current Owner Standings'!$D$4:$D$70,0))","v":99}]
[326,{"$f":"IF(ISNA(MATCH(A406,'Current Owner Standings'!$D$4:$D$70,0)),99,MATCH(A406,'Current Owner Standings'!$D$4:$D$70,0))","v":99}]
[327,{"$f":"IF(ISNA(MATCH(A407,'Current Owner Standings'!$D$4:$D$70,0)),99,MATCH(A407,'Current Owner Standings'!$D$4:$D$70,0))","v":99}]
[328,{"$f":"IF(ISNA(MATCH(A408,'Current Owner Standings'!$D$4:$D$70,0)),99,MATCH(A408,'Current Owner Standings'!$D$4:$D$70,0))","v":99}]
[329,{"$f":"IF(ISNA(MATCH(A409,'Current Owner Standings'!$D$4:$D$70,0)),99,MATCH(A409,'Current Owner Standings'!$D$4:$D$70,0))","v":99}]
[330,{"$f":"IF(ISNA(MATCH(A410,'Current Owner Standings'!$D$4:$D$70,0)),99,MATCH(A410,'Current Owner Standings'!$D$4:$D$70,0))","v":99}]
[331,{"$f":"IF(ISNA(MATCH(A411,'Current Owner Standings'!$D$4:$D$70,0)),99,MATCH(A411,'Current Owner Standings'!$D$4:$D$70,0))","v":99}]
[332,{"$f":"IF(ISNA(MATCH(A412,'Current Owner Standings'!$D$4:$D$70,0)),99,MATCH(A412,'Current Owner Standings'!$D$4:$D$70,0))","v":99}]
[333,{"$f":"IF(ISNA(MATCH(A413,'Current Owner Standings'!$D$4:$D$70,0)),99,MATCH(A413,'Current Owner Standings'!$D$4:$D$70,0))","v":99}]
[334,{"$f":"IF(ISNA(MATCH(A414,'Current Owner Standings'!$D$4:$D$70,0)),99,MATCH(A414,'Current Owner Standings'!$D$4:$D$70,0))","v":99}]
[335,{"$f":"IF(ISNA(MATCH(A415,'Current Owner Standings'!$D$4:$D$70,0)),99,MATCH(A415,'Current Owner Standings'!$D$4:$D$70,0))","v":99}]
[336,{"$f":"IF(ISNA(MATCH(A416,'Current Owner Standings'!$D$4:$D$70,0)),99,MATCH(A416,'Current Owner Standings'!$D$4:$D$70,0))","v":99}]
[337,{"$f":"IF(ISNA(MATCH(A417,'Current Owner Standings'!$D$4:$D$70,0)),99,MATCH(A417,'Current Owner Standings'!$D$4:$D$70,0))","v":99}]
[338,{"$f":"IF(ISNA(MATCH(A418,'Current Owner Standings'!$D$4:$D$70,0)),99,MATCH(A418,'Current Owner Standings'!$D$4:$D$70,0))","v":99}]
[339,{"$f":"IF(ISNA(MATCH(A419,'Current Owner Standings'!$D$4:$D$70,0)),99,MATCH(A419,'Current Owner Standings'!$D$4:$D$70,0))","v":99}]
[340,{"$f":"IF(ISNA(MATCH(A420,'Current Owner Standings'!$D$4:$D$70,0)),99,MATCH(A420,'Current Owner Standings'!$D$4:$D$70,0))","v":99}]
[341,{"$f":"IF(ISNA(MATCH(A421,'Current Owner Standings'!$D$4:$D$70,0)),99,MATCH(A421,'Current Owner Standings'!$D$4:$D$70,0))","v":99}]
[342,{"$f":"IF(ISNA(MATCH(A422,'Current Owner Standings'!$D$4:$D$70,0)),99,MATCH(A422,'Current Owner Standings'!$D$4:$D$70,0))","v":99}]
[343,{"$f":"IF(ISNA(MATCH(A423,'Current Owner Standings'!$D$4:$D$70,0)),99,MATCH(A423,'Current Owner Standings'!$D$4:$D$70,0))","v":99}]
[344,{"$f":"IF(ISNA(MATCH(A424,'Current Owner Standings'!$D$4:$D$70,0)),99,MATCH(A424,'Current Owner Standings'!$D$4:$D$70,0))","v":99}]
[345,{"$f":"IF(ISNA(MATCH(A425,'Current Owner Standings'!$D$4:$D$70,0)),99,MATCH(A425,'Current Owner Standings'!$D$4:$D$70,0))","v":99}]
[346,{"$f":"IF(ISNA(MATCH(A426,'Current Owner Standings'!$D$4:$D$70,0)),99,MATCH(A426,'Current Owner Standings'!$D$4:$D$70,0))","v":99}]
[347,{"$f":"IF(ISNA(MATCH(A427,'Current Owner Standings'!$D$4:$D$70,0)),99,MATCH(A427,'Current Owner Standings'!$D$4:$D$70,0))","v":99}]
[348,{"$f":"IF(ISNA(MATCH(A428,'Current Owner Standings'!$D$4:$D$70,0)),99,MATCH(A428,'Current Owner Standings'!$D$4:$D$70,0))","v":99}]
[349,{"$f":"IF(ISNA(MATCH(A429,'Current Owner Standings'!$D$4:$D$70,0)),99,MATCH(A429,'Current Owner Standings'!$D$4:$D$70,0))","v":99}]
[350,{"$f":"IF(ISNA(MATCH(A430,'Current Owner Standings'!$D$4:$D$70,0)),99,MATCH(A430,'Current Owner Standings'!$D$4:$D$70,0))","v":99}]
[351,{"$f":"IF(ISNA(MATCH(A431,'Current Owner Standings'!$D$4:$D$70,0)),99,MATCH(A431,'Current Owner Standings'!$D$4:$D$70,0))","v":99}]
[352,{"$f":"IF(ISNA(MATCH(A432,'Current Owner Standings'!$D$4:$D$70,0)),99,MATCH(A432,'Current Owner Standings'!$D$4:$D$70,0))","v":99}]
[353,{"$f":"IF(ISNA(MATCH(A433,'Current Owner Standings'!$D$4:$D$70,0)),99,MATCH(A433,'Current Owner Standings'!$D$4:$D$70,0))","v":99}]
[354,{"$f":"IF(ISNA(MATCH(A434,'Current Owner Standings'!$D$4:$D$70,0)),99,MATCH(A434,'Current Owner Standings'!$D$4:$D$70,0))","v":99}]
[355,{"$f":"IF(ISNA(MATCH(A435,'Current Owner Standings'!$D$4:$D$70,0)),99,MATCH(A435,'Current Owner Standings'!$D$4:$D$70,0))","v":99}]
[356,{"$f":"IF(ISNA(MATCH(A436,'Current Owner Standings'!$D$4:$D$70,0)),99,MATCH(A436,'Current Owner Standings'!$D$4:$D$70,0))","v":99}]
[357,{"$f":"IF(ISNA(MATCH(A437,'Current Owner Standings'!$D$4:$D$70,0)),99,MATCH(A437,'Current Owner Standings'!$D$4:$D$70,0))","v":99}]
[358,{"$f":"IF(ISNA(MATCH(A438,'Current Owner Standings'!$D$4:$D$70,0)),99,MATCH(A438,'Current Owner Standings'!$D$4:$D$70,0))","v":99}]
[359,{"$f":"IF(ISNA(MATCH(A439,'Current Owner Standings'!$D$4:$D$70,0)),99,MATCH(A439,'Current Owner Standings'!$D$4:$D$70,0))","v":99}]
[360,{"$f":"IF(ISNA(MATCH(A440,'Current Owner Standings'!$D$4:$D$70,0)),99,MATCH(A440,'Current Owner Standings'!$D$4:$D$70,0))","v":99}]
[361,{"$f":"IF(ISNA(MATCH(A441,'Current Owner Standings'!$D$4:$D$70,0)),99,MATCH(A441,'Current Owner Standings'!$D$4:$D$70,0))","v":99}]
[362,{"$f":"IF(ISNA(MATCH(A442,'Current Owner Standings'!$D$4:$D$70,0)),99,MATCH(A442,'Current Owner Standings'!$D$4:$D$70,0))","v":99}]
[363,{"$f":"IF(ISNA(MATCH(A443,'Current Owner Standings'!$D$4:$D$70,0)),99,MATCH(A443,'Current Owner Standings'!$D$4:$D$70,0))","v":99}]
[364,{"$f":"IF(ISNA(MATCH(A444,'Current Owner Standings'!$D$4:$D$70,0)),99,MATCH(A444,'Current Owner Standings'!$D$4:$D$70,0))","v":99}]
[365,{"$f":"IF(ISNA(MATCH(A445,'Current Owner Standings'!$D$4:$D$70,0)),99,MATCH(A445,'Current Owner Standings'!$D$4:$D$70,0))","v":99}]
[366,{"$f":"IF(ISNA(MATCH(A446,'Current Owner Standings'!$D$4:$D$70,0)),99,MATCH(A446,'Current Owner Standings'!$D$4:$D$70,0))","v":99}]
[367,{"$f":"IF(ISNA(MATCH(A447,'Current Owner Standings'!$D$4:$D$70,0)),99,MATCH(A447,'Current Owner Standings'!$D$4:$D$70,0))","v":99}]
[368,{"$f":"IF(ISNA(MATCH(A448,'Current Owner Standings'!$D$4:$D$70,0)),99,MATCH(A448,'Current Owner Standings'!$D$4:$D$70,0))","v":99}]
[369,{"$f":"IF(ISNA(MATCH(A449,'Current Owner Standings'!$D$4:$D$70,0)),99,MATCH(A449,'Current Owner Standings'!$D$4:$D$70,0))","v":99}]
[370,{"$f":"IF(ISNA(MATCH(A450,'Current Owner Standings'!$D$4:$D$70,0)),99,MATCH(A450,'Current Owner Standings'!$D$4:$D$70,0))","v":99}]
[371,{"$f":"IF(ISNA(MATCH(A451,'Current Owner Standings'!$D$4:$D$70,0)),99,MATCH(A451,'Current Owner Standings'!$D$4:$D$70,0))","v":99}]
[372,{"$f":"IF(ISNA(MATCH(A452,'Current Owner Standings'!$D$4:$D$70,0)),99,MATCH(A452,'Current Owner Standings'!$D$4:$D$70,0))","v":99}]
[373,{"$f":"IF(ISNA(MATCH(A453,'Current Owner Standings'!$D$4:$D$70,0)),99,MATCH(A453,'Current Owner Standings'!$D$4:$D$70,0))","v":99}]
[374,{"$f":"IF(ISNA(MATCH(A454,'Current Owner Standings'!$D$4:$D$70,0)),99,MATCH(A454,'Current Owner Standings'!$D$4:$D$70,0))","v":99}]
[375,{"$f":"IF(ISNA(MATCH(A455,'Current Owner Standings'!$D$4:$D$70,0)),99,MATCH(A455,'Current Owner Standings'!$D$4:$D$70,0))","v":99}]
[376,{"$f":"IF(ISNA(MATCH(A456,'Current Owner Standings'!$D$4:$D$70,0)),99,MATCH(A456,'Current Owner Standings'!$D$4:$D$70,0))","v":99}]
[377,{"$f":"IF(ISNA(MATCH(A457,'Current Owner Standings'!$D$4:$D$70,0)),99,MATCH(A457,'Current Owner Standings'!$D$4:$D$70,0))","v":99}]
[378,{"$f":"IF(ISNA(MATCH(A458,'Current Owner Standings'!$D$4:$D$70,0)),99,MATCH(A458,'Current Owner Standings'!$D$4:$D$70,0))","v":99}]
[379,{"$f":"IF(ISNA(MATCH(A459,'Current Owner Standings'!$D$4:$D$70,0)),99,MATCH(A459,'Current Owner Standings'!$D$4:$D$70,0))","v":99}]
[380,{"$f":"IF(ISNA(MATCH(A460,'Current Owner Standings'!$D$4:$D$70,0)),99,MATCH(A460,'Current Owner Standings'!$D$4:$D$70,0))","v":99}]
[381,{"$f":"IF(ISNA(MATCH(A461,'Current Owner Standings'!$D$4:$D$70,0)),99,MATCH(A461,'Current Owner Standings'!$D$4:$D$70,0))","v":99}]
[382,{"$f":"IF(ISNA(MATCH(A462,'Current Owner Standings'!$D$4:$D$70,0)),99,MATCH(A462,'Current Owner Standings'!$D$4:$D$70,0))","v":99}]
[383,{"$f":"IF(ISNA(MATCH(A463,'Current Owner Standings'!$D$4:$D$70,0)),99,MATCH(A463,'Current Owner Standings'!$D$4:$D$70,0))","v":99}]
[384,{"$f":"IF(ISNA(MATCH(A464,'Current Owner Standings'!$D$4:$D$70,0)),99,MATCH(A464,'Current Owner Standings'!$D$4:$D$70,0))","v":99}]
[385,{"$f":"IF(ISNA(MATCH(A465,'Current Owner Standings'!$D$4:$D$70,0)),99,MATCH(A465,'Current Owner Standings'!$D$4:$D$70,0))","v":99}]
[386,{"$f":"IF(ISNA(MATCH(A466,'Current Owner Standings'!$D$4:$D$70,0)),99,MATCH(A466,'Current Owner Standings'!$D$4:$D$70,0))","v":99}]
[387,{"$f":"IF(ISNA(MATCH(A467,'Current Owner Standings'!$D$4:$D$70,0)),99,MATCH(A467,'Current Owner Standings'!$D$4:$D$70,0))","v":99}]
[388,{"$f":"IF(ISNA(MATCH(A468,'Current Owner Standings'!$D$4:$D$70,0)),99,MATCH(A468,'Current Owner Standings'!$D$4:$D$70,0))","v":99}]
[389,{"$f":"IF(ISNA(MATCH(A469,'Current Owner Standings'!$D$4:$D$70,0)),99,MATCH(A469,'Current Owner Standings'!$D$4:$D$70,0))","v":99}]
[390,{"$f":"IF(ISNA(MATCH(A470,'Current Owner Standings'!$D$4:$D$70,0)),99,MATCH(A470,'Current Owner Standings'!$D$4:$D$70,0))","v":99}]
[391,{"$f":"IF(ISNA(MATCH(A471,'Current Owner Standings'!$D$4:$D$70,0)),99,MATCH(A471,'Current Owner Standings'!$D$4:$D$70,0))","v":99}]
[392,{"$f":"IF(ISNA(MATCH(A472,'Current Owner Standings'!$D$4:$D$70,0)),99,MATCH(A472,'Current Owner Standings'!$D$4:$D$70,0))","v":99}]
[393,{"$f":"IF(ISNA(MATCH(A473,'Current Owner Standings'!$D$4:$D$70,0)),99,MATCH(A473,'Current Owner Standings'!$D$4:$D$70,0))","v":99}]
[394,{"$f":"IF(ISNA(MATCH(A474,'Current Owner Standings'!$D$4:$D$70,0)),99,MATCH(A474,'Current Owner Standings'!$D$4:$D$70,0))","v":99}]
[395,{"$f":"IF(ISNA(MATCH(A475,'Current Owner Standings'!$D$4:$D$70,0)),99,MATCH(A475,'Current Owner Standings'!$D$4:$D$70,0))","v":99}]
[396,{"$f":"IF(ISNA(MATCH(A476,'Current Owner Standings'!$D$4:$D$70,0)),99,MATCH(A476,'Current Owner Standings'!$D$4:$D$70,0))","v":99}]
[397,{"$f":"IF(ISNA(MATCH(A477,'Current Owner Standings'!$D$4:$D$70,0)),99,MATCH(A477,'Current Owner Standings'!$D$4:$D$70,0))","v":99}]
[398,{"$f":"IF(ISNA(MATCH(A478,'Current Owner Standings'!$D$4:$D$70,0)),99,MATCH(A478,'Current Owner Standings'!$D$4:$D$70,0))","v":99}]
[399,{"$f":"IF(ISNA(MATCH(A479,'Current Owner Standings'!$D$4:$D$70,0)),99,MATCH(A479,'Current Owner Standings'!$D$4:$D$70,0))","v":99}]
[400,{"$f":"IF(ISNA(MATCH(A480,'Current Owner Standings'!$D$4:$D$70,0)),99,MATCH(A480,'Current Owner Standings'!$D$4:$D$70,0))","v":99}]

{"sheet":"Cars & Results","index":7,"n_rows":321,"n_cols":78,"rows_kept":321,"cut":false,"hidden":false,"merged":[[4,64,4,65],[4,66,4,67],[4,68,4,69],[4,70,4,71],[3,76,3,77],[2,72,2,73],[2,74,2,75],[4,72,4,73],[4,74,4,75],[4,76,4,77],[0,74,0,75],[0,76,0,77],[3,64,3,65],[3,66,3,67],[3,68,3,69],[3,70,3,71],[3,72,3,73],[3,74,3,75],[2,64,2,65],[2,66,2,67],[0,68,0,69],[0,66,0,67],[0,72,0,73],[2,62,2,63],[2,76,2,77],[1,76,1,77],[1,64,1,65],[1,66,1,67],[1,68,1,69],[1,70,1,71],[1,72,1,73],[2,68,2,69],[2,70,2,71],[1,16,1,17],[0,6,0,7],[0,8,0,9],[0,26,0,27],[1,26,1,27],[0,40,0,41],[1,40,1,41],[1,74,1,75],[2,10,2,11],[2,12,2,13],[0,70,0,71],[0,64,0,65],[0,18,0,19],[1,18,1,19],[0,20,0,21],[1,20,1,21],[2,20,2,21],[2,8,2,9],[0,10,0,11],[0,12,0,13],[0,14,0,15],[0,16,0,17],[2,40,2,41],[0,38,0,39],[3,6,3,7],[3,8,3,9],[3,10,3,11],[3,12,3,13],[1,6,1,7],[1,8,1,9],[1,10,1,11],[1,12,1,13],[4,20,4,21],[4,14,4,15],[4,16,4,17],[3,14,3,15],[3,16,3,17],[1,14,1,15],[4,6,4,7],[4,8,4,9],[4,10,4,11],[4,12,4,13],[2,18,2,19],[3,18,3,19],[2,14,2,15],[2,16,2,17],[4,18,4,19],[2,6,2,7],[3,20,3,21],[0,32,0,33],[1,32,1,33],[2,32,2,33],[3,32,3,33],[0,30,0,31],[1,30,1,31],[2,30,2,31],[3,30,3,31],[2,26,2,27],[0,28,0,29],[1,28,1,29],[2,28,2,29],[4,22,4,23],[0,24,0,25],[1,24,1,25],[2,24,2,25],[3,24,3,25],[0,22,0,23],[1,22,1,23],[2,22,2,23],[3,22,3,23],[4,24,4,25],[4,26,4,27],[3,26,3,27],[4,28,4,29],[3,28,3,29],[3,46,3,47],[4,46,4,47],[4,36,4,37],[4,32,4,33],[4,30,4,31],[4,34,4,35],[4,44,4,45],[4,42,4,43],[4,38,4,39],[4,40,4,41],[0,42,0,43],[3,42,3,43],[1,42,1,43],[2,46,2,47],[3,34,3,35],[2,42,2,43],[3,40,3,41],[2,38,2,39],[0,34,0,35],[1,38,1,39],[3,38,3,39],[1,34,1,35],[2,34,2,35],[0,48,0,49],[1,48,1,49],[2,48,2,49],[3,48,3,49],[2,44,2,45],[3,44,3,45],[0,44,0,45],[1,44,1,45],[0,46,0,47],[1,46,1,47],[4,62,4,63],[0,60,0,61],[1,60,1,61],[2,60,2,61],[3,60,3,61],[0,36,0,37],[1,36,1,37],[2,36,2,37],[3,36,3,37],[3,62,3,63],[0,52,0,53],[1,52,1,53],[2,52,2,53],[3,52,3,53],[0,50,0,51],[4,48,4,49],[3,50,3,51],[1,50,1,51],[2,50,2,51],[4,50,4,51],[4,60,4,61],[0,62,0,63],[1,62,1,63],[4,58,4,59],[3,58,3,59],[0,58,0,59],[1,58,1,59],[2,58,2,59],[4,54,4,55],[4,52,4,53],[0,54,0,55],[1,54,1,55],[2,54,2,55],[3,54,3,55],[4,56,4,57],[0,56,0,57],[1,56,1,57],[2,56,2,57],[3,56,3,57]]}
[null,null,null,null,null,null,{"$f":"VLOOKUP(G$5,Schedule!$A$7:$G$43,2,FALSE)","v":"2020-02-16"},null,{"$f":"VLOOKUP(I$5,Schedule!$A$7:$G$43,2,FALSE)","v":"2020-02-23"},null,{"$f":"VLOOKUP(K$5,Schedule!$A$7:$G$43,2,FALSE)","v":"2020-03-01"},null,{"$f":"VLOOKUP(M$5,Schedule!$A$7:$G$43,2,FALSE)","v":"2020-03-08"},null,{"$f":"VLOOKUP(O$5,Schedule!$A$7:$G$43,2,FALSE)","v":"2020-05-17"},null,{"$f":"VLOOKUP(Q$5,Schedule!$A$7:$G$43,2,FALSE)","v":"2020-05-20"},null,{"$f":"VLOOKUP(S$5,Schedule!$A$7:$G$43,2,FALSE)","v":"2020-05-24"},null,{"$f":"VLOOKUP(U$5,Schedule!$A$7:$G$43,2,FALSE)","v":"2020-05-27"},null,{"$f":"VLOOKUP(W$5,Schedule!$A$7:$G$43,2,FALSE)","v":"2020-05-31"},null,{"$f":"VLOOKUP(Y$5,Schedule!$A$7:$G$43,2,FALSE)","v":"2020-06-07"},null,{"$f":"VLOOKUP(AA$5,Schedule!$A$7:$G$43,2,FALSE)","v":"2020-06-10"},null,{"$f":"VLOOKUP(AC$5,Schedule!$A$7:$G$43,2,FALSE)","v":"2020-06-14"},null,{"$f":"VLOOKUP(AE$5,Schedule!$A$7:$G$43,2,FALSE)","v":"2020-06-21"},null,{"$f":"VLOOKUP(AG$5,Schedule!$A$7:$G$43,2,FALSE)","v":"2020-06-27"},null,{"$f":"VLOOKUP(AI$5,Schedule!$A$7:$G$43,2,FALSE)","v":"2020-06-28"},null,{"$f":"VLOOKUP(AK$5,Schedule!$A$7:$G$43,2,FALSE)","v":"2020-07-05"},null,{"$f":"VLOOKUP(AM$5,Schedule!$A$7:$G$43,2,FALSE)","v":"2020-07-12"},null,{"$f":"VLOOKUP(AO$5,Schedule!$A$7:$G$43,2,FALSE)","v":"2020-07-19"},null,{"$f":"VLOOKUP(AQ$5,Schedule!$A$7:$G$43,2,FALSE)","v":"2020-07-23"},null,{"$f":"VLOOKUP(AS$5,Schedule!$A$7:$G$43,2,FALSE)","v":"2020-08-02"},null,{"$f":"VLOOKUP(AU$5,Schedule!$A$7:$G$43,2,FALSE)","v":"2020-08-08"},null,{"$f":"VLOOKUP(AW$5,Schedule!$A$7:$G$43,2,FALSE)","v":"2020-08-09"},null,{"$f":"VLOOKUP(AY$5,Schedule!$A$7:$G$43,2,FALSE)","v":"2020-08-16"},null,{"$f":"VLOOKUP(BA$5,Schedule!$A$7:$G$43,2,FALSE)","v":"2020-08-22"},null,{"$f":"VLOOKUP(BC$5,Schedule!$A$7:$G$43,2,FALSE)","v":"2020-08-23"},null,{"$f":"VLOOKUP(BE$5,Schedule!$A$7:$G$43,2,FALSE)","v":"2020-08-29"},null,{"$f":"VLOOKUP(BG$5,Schedule!$A$7:$G$43,2,FALSE)","v":"2020-09-06"},null,{"$f":"VLOOKUP(BI$5,Schedule!$A$7:$G$43,2,FALSE)","v":"2020-09-12"},null,{"$f":"VLOOKUP(BK$5,Schedule!$A$7:$G$43,2,FALSE)","v":"2020-09-19"},null,{"$f":"VLOOKUP(BM$5,Schedule!$A$7:$G$43,2,FALSE)","v":"2020-09-27"},null,{"$f":"VLOOKUP(BO$5,Schedule!$A$7:$G$43,2,FALSE)","v":"2020-10-04"},null,{"$f":"VLOOKUP(BQ$5,Schedule!$A$7:$G$43,2,FALSE)","v":"2020-10-11"},null,{"$f":"VLOOKUP(BS$5,Schedule!$A$7:$G$43,2,FALSE)","v":"2020-10-18"},null,{"$f":"VLOOKUP(BU$5,Schedule!$A$7:$G$43,2,FALSE)","v":"2020-10-25"},null,{"$f":"VLOOKUP(BW$5,Schedule!$A$7:$G$43,2,FALSE)","v":"2020-11-01"},null,{"$f":"VLOOKUP(BY$5,Schedule!$A$7:$G$43,2,FALSE)","v":"2020-11-08"}]
[null,null,null,null,null,null,{"$f":"VLOOKUP(G$5,Schedule!$A$7:$G$43,3,FALSE)","v":"Daytona 500"},null,{"$f":"VLOOKUP(I$5,Schedule!$A$7:$G$43,3,FALSE)","v":"Pennzoil 400 presented by Jiffy Lube"},null,{"$f":"VLOOKUP(K$5,Schedule!$A$7:$G$43,3,FALSE)","v":"Auto Club 400"},null,{"$f":"VLOOKUP(M$5,Schedule!$A$7:$G$43,3,FALSE)","v":"FanShield 500"},null,{"$f":"VLOOKUP(O$5,Schedule!$A$7:$G$43,3,FALSE)","v":"Darlington Raceway 400"},null,{"$f":"VLOOKUP(Q$5,Schedule!$A$7:$G$43,3,FALSE)","v":"Darlington Raceway 500KM"},null,{"$f":"VLOOKUP(S$5,Schedule!$A$7:$G$43,3,FALSE)","v":"Coca-Cola 600"},null,{"$f":"VLOOKUP(U$5,Schedule!$A$7:$G$43,3,FALSE)","v":"Charlotte Motor Speedway 500KM"},null,{"$f":"VLOOKUP(W$5,Schedule!$A$7:$G$43,3,FALSE)","v":"Bristol 500"},null,{"$f":"VLOOKUP(Y$5,Schedule!$A$7:$G$43,3,FALSE)","v":"Atlanta 500"},null,{"$f":"VLOOKUP(AA$5,Schedule!$A$7:$G$43,3,FALSE)","v":"Martinsville 500"},null,{"$f":"VLOOKUP(AC$5,Schedule!$A$7:$G$43,3,FALSE)","v":"Homestead 400"},null,{"$f":"VLOOKUP(AE$5,Schedule!$A$7:$G$43,3,FALSE)","v":"Talladega 500"},null,{"$f":"VLOOKUP(AG$5,Schedule!$A$7:$G$43,3,FALSE)","v":"Kids Free 325"},null,{"$f":"VLOOKUP(AI$5,Schedule!$A$7:$G$43,3,FALSE)","v":"Worry-Free Weather Guarantee 350"},null,{"$f":"VLOOKUP(AK$5,Schedule!$A$7:$G$43,3,FALSE)","v":"Big Machine Vodka 400 at the Brickyard"},null,{"$f":"VLOOKUP(AM$5,Schedule!$A$7:$G$43,3,FALSE)","v":"Quaker State 400"},null,{"$f":"VLOOKUP(AO$5,Schedule!$A$7:$G$43,3,FALSE)","v":"O'Reilly Auto Parts 500"},null,{"$f":"VLOOKUP(AQ$5,Schedule!$A$7:$G$43,3,FALSE)","v":"Super Start Batteries 400"},null,{"$f":"VLOOKUP(AS$5,Schedule!$A$7:$G$43,3,FALSE)","v":"Foxwoods Resort Casino 301"},null,{"$f":"VLOOKUP(AU$5,Schedule!$A$7:$G$43,3,FALSE)","v":"FireKeepers Casino 500"},null,{"$f":"VLOOKUP(AW$5,Schedule!$A$7:$G$43,3,FALSE)","v":"Consumers Energy 500"},null,{"$f":"VLOOKUP(AY$5,Schedule!$A$7:$G$43,3,FALSE)","v":"Go Bowling at The Glen"},null,{"$f":"VLOOKUP(BA$5,Schedule!$A$7:$G$43,3,FALSE)","v":"Drydene 311 (Sat)"},null,{"$f":"VLOOKUP(BC$5,Schedule!$A$7:$G$43,3,FALSE)","v":"Drydene 311 (Sun)"},null,{"$f":"VLOOKUP(BE$5,Schedule!$A$7:$G$43,3,FALSE)","v":"Coke Zero Sugar 400"},null,{"$f":"VLOOKUP(BG$5,Schedule!$A$7:$G$43,3,FALSE)","v":"Cokk Out Southern 500"},null,{"$f":"VLOOKUP(BI$5,Schedule!$A$7:$G$43,3,FALSE)","v":"Federated Auto Parts 400"},null,{"$f":"VLOOKUP(BK$5,Schedule!$A$7:$G$43,3,FALSE)","v":"Bass Pro Shops NRA Night Race"},null,{"$f":"VLOOKUP(BM$5,Schedule!$A$7:$G$43,3,FALSE)","v":"South Point 400"},null,{"$f":"VLOOKUP(BO$5,Schedule!$A$7:$G$43,3,FALSE)","v":"YellaWood 500"},null,{"$f":"VLOOKUP(BQ$5,Schedule!$A$7:$G$43,3,FALSE)","v":"Bank of America Roval 400"},null,{"$f":"VLOOKUP(BS$5,Schedule!$A$7:$G$43,3,FALSE)","v":"Hollywood Casino 400"},null,{"$f":"VLOOKUP(BU$5,Schedule!$A$7:$G$43,3,FALSE)","v":"AAA Texas 500"},null,{"$f":"VLOOKUP(BW$5,Schedule!$A$7:$G$43,3,FALSE)","v":"Xfinity 500"},null,{"$f":"VLOOKUP(BY$5,Schedule!$A$7:$G$43,3,FALSE)","v":"Bluegreen Vacations 500"}]
[null,null,null,null,null,null,{"$f":"VLOOKUP(G$5,Schedule!$A$7:$G$43,4,FALSE)","v":"Daytona International Speedway, Daytona Beach, Florida"},null,{"$f":"VLOOKUP(I$5,Schedule!$A$7:$G$43,4,FALSE)","v":"Las Vegas Motor Speedway, Las Vegas, Nevada"},null,{"$f":"VLOOKUP(K$5,Schedule!$A$7:$G$43,4,FALSE)","v":"Auto Club Speedway, Fontana, California"},null,{"$f":"VLOOKUP(M$5,Schedule!$A$7:$G$43,4,FALSE)","v":"Phoenix Raceway, Avondale, Arizona"},null,{"$f":"VLOOKUP(O$5,Schedule!$A$7:$G$43,4,FALSE)","v":"Darlington Raceway, Darlington, South Carolina"},null,{"$f":"VLOOKUP(Q$5,Schedule!$A$7:$G$43,4,FALSE)","v":"Darlington Raceway, Darlington, South Carolina"},null,{"$f":"VLOOKUP(S$5,Schedule!$A$7:$G$43,4,FALSE)","v":"Charlotte Motor Speedway, Concord, North Carolina"},null,{"$f":"VLOOKUP(U$5,Schedule!$A$7:$G$43,4,FALSE)","v":"Charlotte Motor Speedway, Concord, North Carolina"},null,{"$f":"VLOOKUP(W$5,Schedule!$A$7:$G$43,4,FALSE)","v":"Bristol Motor Speedway, Bristol, Tennessee"},null,{"$f":"VLOOKUP(Y$5,Schedule!$A$7:$G$43,4,FALSE)","v":"Atlanta Motor Speedway, Hampton, GA"},null,{"$f":"VLOOKUP(AA$5,Schedule!$A$7:$G$43,4,FALSE)","v":"Martinsville Speedway, Ridgeway, Virginia"},null,{"$f":"VLOOKUP(AC$5,Schedule!$A$7:$G$43,4,FALSE)","v":"Miami Homestead Speedway, Homestead, Florida"},null,{"$f":"VLOOKUP(AE$5,Schedule!$A$7:$G$43,4,FALSE)","v":"Talladega Superspeedway, Lincoln, Alabama"},null,{"$f":"VLOOKUP(AG$5,Schedule!$A$7:$G$43,4,FALSE)","v":"Pocono Raceway, Long Pond, Pennsylvania"},null,{"$f":"VLOOKUP(AI$5,Schedule!$A$7:$G$43,4,FALSE)","v":"Pocono Raceway, Long Pond, Pennsylvania"},null,{"$f":"VLOOKUP(AK$5,Schedule!$A$7:$G$43,4,FALSE)","v":"Indianapolis Motor Speedway, Speedway, Indiana"},null,{"$f":"VLOOKUP(AM$5,Schedule!$A$7:$G$43,4,FALSE)","v":"Kentucky Speedway, Sparta, Kentucky"},null,{"$f":"VLOOKUP(AO$5,Schedule!$A$7:$G$43,4,FALSE)","v":"Texas Motor Speedway, Fort Worth, Texas"},null,{"$f":"VLOOKUP(AQ$5,Schedule!$A$7:$G$43,4,FALSE)","v":"Kansas Speedway, Kansas City, Kansas"},null,{"$f":"VLOOKUP(AS$5,Schedule!$A$7:$G$43,4,FALSE)","v":"New Hampshire Motor Speedway, Loudon, New Hampshire"},null,{"$f":"VLOOKUP(AU$5,Schedule!$A$7:$G$43,4,FALSE)","v":"Michigan International Speedway, Brooklyn, Michigan"},null,{"$f":"VLOOKUP(AW$5,Schedule!$A$7:$G$43,4,FALSE)","v":"Michigan International Speedway, Brooklyn, Michigan"},null,{"$f":"VLOOKUP(AY$5,Schedule!$A$7:$G$43,4,FALSE)","v":"Daytona International Speedway, Daytona Beach, Florida"},null,{"$f":"VLOOKUP(BA$5,Schedule!$A$7:$G$43,4,FALSE)","v":"Dover International Speedway, Dover, Delaware"},null,{"$f":"VLOOKUP(BC$5,Schedule!$A$7:$G$43,4,FALSE)","v":"Dover International Speedway, Dover, Delaware"},null,{"$f":"VLOOKUP(BE$5,Schedule!$A$7:$G$43,4,FALSE)","v":"Daytona International Speedway, Daytona Beach, Florida"},null,{"$f":"VLOOKUP(BG$5,Schedule!$A$7:$G$43,4,FALSE)","v":"Darlington Raceway, Darlington, South Carolina"},null,{"$f":"VLOOKUP(BI$5,Schedule!$A$7:$G$43,4,FALSE)","v":"Richmond Raceway, Richmond, Virginia"},null,{"$f":"VLOOKUP(BK$5,Schedule!$A$7:$G$43,4,FALSE)","v":"Bristol Motor Speedway, Bristol, Tennessee"},null,{"$f":"VLOOKUP(BM$5,Schedule!$A$7:$G$43,4,FALSE)","v":"Las Vegas Motor Speedway, Las Vegas, Nevada"},null,{"$f":"VLOOKUP(BO$5,Schedule!$A$7:$G$43,4,FALSE)","v":"Talladega Superspeedway, Lincoln, Alabama"},null,{"$f":"VLOOKUP(BQ$5,Schedule!$A$7:$G$43,4,FALSE)","v":"Charlotte Motor Speedway, Concord, North Carolina, (Roval)"},null,{"$f":"VLOOKUP(BS$5,Schedule!$A$7:$G$43,4,FALSE)","v":"Kansas Speedway, Kansas City, Kansas"},null,{"$f":"VLOOKUP(BU$5,Schedule!$A$7:$G$43,4,FALSE)","v":"Texas Motor Speedway, Fort Worth, Texas"},null,{"$f":"VLOOKUP(BW$5,Schedule!$A$7:$G$43,4,FALSE)","v":"Martinsville Speedway, Ridgeway, Virginia"},null,{"$f":"VLOOKUP(BY$5,Schedule!$A$7:$G$43,4,FALSE)","v":"Phoenix Raceway, Avondale, Arizona"}]
[null,null,null,null,null,null,{"$f":"VLOOKUP(G$5,Schedule!$A$7:$G$43,7,FALSE)","v":"1900-04-29"},null,{"$f":"VLOOKUP(I$5,Schedule!$A$7:$G$43,7,FALSE)","v":"1900-06-18"},null,{"$f":"VLOOKUP(K$5,Schedule!$A$7:$G$43,7,FALSE)","v":"1900-06-08"},null,{"$f":"VLOOKUP(M$5,Schedule!$A$7:$G$43,7,FALSE)","v":"1900-05-29"},null,{"$f":"VLOOKUP(O$5,Schedule!$A$7:$G$43,7,FALSE)","v":"1900-04-29"},null,{"$f":"VLOOKUP(Q$5,Schedule!$A$7:$G$43,7,FALSE)","v":"1900-09-16"},null,{"$f":"VLOOKUP(S$5,Schedule!$A$7:$G$43,7,FALSE)","v":"1900-06-18"},null,{"$f":"VLOOKUP(U$5,Schedule!$A$7:$G$43,7,FALSE)","v":"1900-09-06"},null,{"$f":"VLOOKUP(W$5,Schedule!$A$7:$G$43,7,FALSE)","v":"1900-07-18"},null,{"$f":"VLOOKUP(Y$5,Schedule!$A$7:$G$43,7,FALSE)","v":"1900-04-19"},null,{"$f":"VLOOKUP(AA$5,Schedule!$A$7:$G$43,7,FALSE)","v":"1900-08-27"},null,{"$f":"VLOOKUP(AC$5,Schedule!$A$7:$G$43,7,FALSE)","v":"1900-06-08"},null,{"$f":"VLOOKUP(AE$5,Schedule!$A$7:$G$43,7,FALSE)","v":"1900-07-18"},null,{"$f":"VLOOKUP(AG$5,Schedule!$A$7:$G$43,7,FALSE)","v":"1900-04-09"},null,{"$f":"VLOOKUP(AI$5,Schedule!$A$7:$G$43,7,FALSE)","v":"1900-04-29"},null,{"$f":"VLOOKUP(AK$5,Schedule!$A$7:$G$43,7,FALSE)","v":"1900-02-19"},null,{"$f":"VLOOKUP(AM$5,Schedule!$A$7:$G$43,7,FALSE)","v":"1900-06-08"},null,{"$f":"VLOOKUP(AO$5,Schedule!$A$7:$G$43,7,FALSE)","v":"1900-03-20"},null,{"$f":"VLOOKUP(AQ$5,Schedule!$A$7:$G$43,7,FALSE)","v":"1900-06-08"},null,{"$f":"VLOOKUP(AS$5,Schedule!$A$7:$G$43,7,FALSE)","v":"1900-05-29"},null,{"$f":"VLOOKUP(AU$5,Schedule!$A$7:$G$43,7,FALSE)","v":"1900-05-29"},null,{"$f":"VLOOKUP(AW$5,Schedule!$A$7:$G$43,7,FALSE)","v":"1900-05-29"},null,{"$f":"VLOOKUP(AY$5,Schedule!$A$7:$G$43,7,FALSE)","v":"1900-05-29"},null,{"$f":"VLOOKUP(BA$5,Schedule!$A$7:$G$43,7,FALSE)","v":"1900-05-29"},null,{"$f":"VLOOKUP(BC$5,Schedule!$A$7:$G$43,7,FALSE)","v":"1900-05-29"},null,{"$f":"VLOOKUP(BE$5,Schedule!$A$7:$G$43,7,FALSE)","v":"1900-05-29"},null,{"$f":"VLOOKUP(BG$5,Schedule!$A$7:$G$43,7,FALSE)","v":"1900-05-29"},null,{"$f":"VLOOKUP(BI$5,Schedule!$A$7:$G$43,7,FALSE)","v":"1900-05-29"},null,{"$f":"VLOOKUP(BK$5,Schedule!$A$7:$G$43,7,FALSE)","v":"1900-05-29"},null,{"$f":"VLOOKUP(BM$5,Schedule!$A$7:$G$43,7,FALSE)","v":"1900-05-29"},null,{"$f":"VLOOKUP(BO$5,Schedule!$A$7:$G$43,7,FALSE)","v":"1900-05-29"},null,{"$f":"VLOOKUP(BQ$5,Schedule!$A$7:$G$43,7,FALSE)","v":"1900-05-29"},null,{"$f":"VLOOKUP(BS$5,Schedule!$A$7:$G$43,7,FALSE)","v":"1900-05-29"},null,{"$f":"VLOOKUP(BU$5,Schedule!$A$7:$G$43,7,FALSE)","v":"1900-05-29"},null,{"$f":"VLOOKUP(BW$5,Schedule!$A$7:$G$43,7,FALSE)","v":"1900-05-29"},null,{"$f":"VLOOKUP(BY$5,Schedule!$A$7:$G$43,7,FALSE)","v":"1900-06-08"}]
[null,4,6,5,5,4,1,null,2,null,3,null,4,null,5,null,6,null,7,null,8,null,9,null,10,null,11,null,12,null,13,null,14,null,15,null,16,null,17,null,18,null,19,null,20,null,21,null,22,null,23,null,24,null,25,null,26,null,27,null,28,null,29,null,30,null,31,null,32,null,33,null,34,null,35,null,36]
["Car","Driver","Make","Sponsor","Team","Home Town","Finishing Position","Points","Finishing Position","Points","Finishing Position","Lead (Y/N)","Finishing Position","Lead (Y/N)","Finishing Position","Lead (Y/N)","Finishing Position","Lead (Y/N)","Finishing Position","Lead (Y/N)","Finishing Position","Lead (Y/N)","Finishing Position","Lead (Y/N)","Finishing Position","Lead (Y/N)","Finishing Position","Lead (Y/N)","Finishing Position","Lead (Y/N)","Finishing Position","Lead (Y/N)","Finishing Position","Lead (Y/N)","Finishing Position","Lead (Y/N)","Finishing Position","Lead (Y/N)","Finishing Position","Lead (Y/N)","Finishing Position","Lead (Y/N)","Finishing Position","Lead (Y/N)","Finishing Position","Lead (Y/N)","Finishing Position","Lead (Y/N)","Finishing Position","Lead (Y/N)","Finishing Position","Lead (Y/N)","Finishing Position","Lead (Y/N)","Finishing Position","Lead (Y/N)","Finishing Position","Lead (Y/N)","Finishing Position","Lead (Y/N)","Finishing Position","Lead (Y/N)","Finishing Position","Lead (Y/N)","Finishing Position","Lead (Y/N)","Finishing Position","Lead (Y/N)","Finishing Position","Lead (Y/N)","Finishing Position","Lead (Y/N)","Finishing Position","Lead (Y/N)","Finishing Position","Lead (Y/N)","Finishing Position","Lead (Y/N)"]
["00",{"$f":"IF(ISNA(VLOOKUP($A7,'Entry List'!$A$1:$F$61,B$5,FALSE)),\"\",VLOOKUP($A7,'Entry List'!$A$1:$F$61,B$5,FALSE))","v":"Quin Houff (R)"},{"$f":"IF(ISNA(VLOOKUP($A7,'Entry List'!$A$1:$F$61,C$5,FALSE)),\"\",VLOOKUP($A7,'Entry List'!$A$1:$F$61,C$5,FALSE))","v":"Chevrolet"},{"$f":"IF(ISNA(VLOOKUP($A7,'Entry List'!$A$1:$F$61,D$5,FALSE)),\"\",VLOOKUP($A7,'Entry List'!$A$1:$F$61,D$5,FALSE))","v":"StarCom Racing"},{"$f":"IF(ISNA(VLOOKUP($A7,'Entry List'!$A$1:$F$61,E$5,FALSE)),\"\",VLOOKUP($A7,'Entry List'!$A$1:$F$61,E$5,FALSE))","v":"StarCom Racing"},{"$f":"IF(ISNA(VLOOKUP($A7,'Entry List'!$A$1:$F$61,F$5,FALSE)),\"\",VLOOKUP($A7,'Entry List'!$A$1:$F$61,F$5,FALSE))","v":"Quin Houff (R)"},39,1,32,5,35,2,34,3,36,1,26,11,32,5,32,5,27,10,32,5,34,3,33,4,27,10,40,1,31,6,23,14,35,2,"DNS",0,24,13,32,5,27,10,32,5,33,4,33,4,34,3,{"$f":"IF('Last Race Results'!$B$5=0,0,IF(ISNA(VLOOKUP($A7,'Last Race Results'!$A$5:$J$44,2,FALSE)),\"DNS\",VLOOKUP($A7,'Last Race Results'!$A$5:$J$44,2,FALSE)))","v":23},{"$f":"IF('Last Race Results'!$B$5=0,0,IF(ISNA(VLOOKUP($A7,'Last Race Results'!$A$5:$K$44,11,FALSE)),0,VLOOKUP($A7,'Last Race Results'!$A$5:$K$44,11,FALSE)))","v":14},null,null,null,null,null,null,null,null,null,null,null,null,null,null,null,null,null,null,{"$f":"IF('Last Race Results'!$B$5=0,0,IF(ISNA(VLOOKUP($A7,'Last Race Results'!$A$5:$J$44,2,FALSE)),\"DNS\",VLOOKUP($A7,'Last Race Results'!$A$5:$J$44,2,FALSE)))","v":23},{"$f":"IF('Last Race Results'!$B$5=0,0,IF(ISNA(VLOOKUP($A7,'Last Race Results'!$A$5:$J$44,11,FALSE)),0,VLOOKUP($A7,'Last Race Results'!$A$5:$J$44,11,FALSE)))","v":{"$error":"#REF!"}}]
[1,{"$f":"IF(ISNA(VLOOKUP($A8,'Entry List'!$A$1:$F$61,B$5,FALSE)),\"\",VLOOKUP($A8,'Entry List'!$A$1:$F$61,B$5,FALSE))","v":"Kurt Busch"},{"$f":"IF(ISNA(VLOOKUP($A8,'Entry List'!$A$1:$F$61,C$5,FALSE)),\"\",VLOOKUP($A8,'Entry List'!$A$1:$F$61,C$5,FALSE))","v":"Chevrolet"},{"$f":"IF(ISNA(VLOOKUP($A8,'Entry List'!$A$1:$F$61,D$5,FALSE)),\"\",VLOOKUP($A8,'Entry List'!$A$1:$F$61,D$5,FALSE))","v":"Chip Ganassi Racing"},{"$f":"IF(ISNA(VLOOKUP($A8,'Entry List'!$A$1:$F$61,E$5,FALSE)),\"\",VLOOKUP($A8,'Entry List'!$A$1:$F$61,E$5,FALSE))","v":"Chip Ganassi Racing"},null,33,7,25,12,3,40,6,31,3,39,15,22,5,40,5,40,7,30,6,31,9,34,17,20,9,31,18,24,13,37,13,27,5,35,30,11,9,28,17,20,10,38,10,29,14,25,40,1,13,26,{"$f":"IF('Last Race Results'!$B$5=0,0,IF(ISNA(VLOOKUP($A8,'Last Race Results'!$A$5:$J$44,2,FALSE)),\"DNS\",VLOOKUP($A8,'Last Race Results'!$A$5:$J$44,2,FALSE)))","v":34},{"$f":"IF('Last Race Results'!$B$5=0,0,IF(ISNA(VLOOKUP($A8,'Last Race Results'!$A$5:$K$44,11,FALSE)),0,VLOOKUP($A8,'Last Race Results'!$A$5:$K$44,11,FALSE)))","v":10},null,null,null,null,null,null,null,null,null,null,null,null,null,null,null,null,null,null,{"$f":"IF('Last Race Results'!$B$5=0,0,IF(ISNA(VLOOKUP($A8,'Last Race Results'!$A$5:$J$44,2,FALSE)),\"DNS\",VLOOKUP($A8,'Last Race Results'!$A$5:$J$44,2,FALSE)))","v":34},{"$f":"IF('Last Race Results'!$B$5=0,0,IF(ISNA(VLOOKUP($A8,'Last Race Results'!$A$5:$J$44,11,FALSE)),0,VLOOKUP($A8,'Last Race Results'!$A$5:$J$44,11,FALSE)))","v":{"$error":"#REF!"}}]
[2,{"$f":"IF(ISNA(VLOOKUP($A9,'Entry List'!$A$1:$F$61,B$5,FALSE)),\"\",VLOOKUP($A9,'Entry List'!$A$1:$F$61,B$5,FALSE))","v":"Brad Keselowski"},{"$f":"IF(ISNA(VLOOKUP($A9,'Entry List'!$A$1:$F$61,C$5,FALSE)),\"\",VLOOKUP($A9,'Entry List'!$A$1:$F$61,C$5,FALSE))","v":"Ford"},{"$f":"IF(ISNA(VLOOKUP($A9,'Entry List'!$A$1:$F$61,D$5,FALSE)),\"\",VLOOKUP($A9,'Entry List'!$A$1:$F$61,D$5,FALSE))","v":"Team Penske"},{"$f":"IF(ISNA(VLOOKUP($A9,'Entry List'!$A$1:$F$61,E$5,FALSE)),\"\",VLOOKUP($A9,'Entry List'!$A$1:$F$61,E$5,FALSE))","v":"Team Penske"},null,36,8,7,30,5,44,11,36,13,40,4,33,7,30,7,30,1,50,9,31,3,34,10,32,19,29,9,31,11,42,4,35,9,38,38,1,2,51,1,56,2,47,39,10,13,24,9,42,8,36,{"$f":"IF('Last Race Results'!$B$5=0,0,IF(ISNA(VLOOKUP($A9,'Last Race Results'!$A$5:$J$44,2,FALSE)),\"DNS\",VLOOKUP($A9,'Last Race Results'!$A$5:$J$44,2,FALSE)))","v":10},{"$f":"IF('Last Race Results'!$B$5=0,0,IF(ISNA(VLOOKUP($A9,'Last Race Results'!$A$5:$K$44,11,FALSE)),0,VLOOKUP($A9,'Last Race Results'!$A$5:$K$44,11,FALSE)))","v":32},null,null,null,null,null,null,null,null,null,null,null,null,null,null,null,null,null,null,{"$f":"IF('Last Race Results'!$B$5=0,0,IF(ISNA(VLOOKUP($A9,'Last Race Results'!$A$5:$J$44,2,FALSE)),\"DNS\",VLOOKUP($A9,'Last Race Results'!$A$5:$J$44,2,FALSE)))","v":10},{"$f":"IF('Last Race Results'!$B$5=0,0,IF(ISNA(VLOOKUP($A9,'Last Race Results'!$A$5:$J$44,11,FALSE)),0,VLOOKUP($A9,'Last Race Results'!$A$5:$J$44,11,FALSE)))","v":{"$error":"#REF!"}}]
[3,{"$f":"IF(ISNA(VLOOKUP($A10,'Entry List'!$A$1:$F$61,B$5,FALSE)),\"\",VLOOKUP($A10,'Entry List'!$A$1:$F$61,B$5,FALSE))","v":"Austin Dillon"},{"$f":"IF(ISNA(VLOOKUP($A10,'Entry List'!$A$1:$F$61,C$5,FALSE)),\"\",VLOOKUP($A10,'Entry List'!$A$1:$F$61,C$5,FALSE))","v":"Chevrolet"},{"$f":"IF(ISNA(VLOOKUP($A10,'Entry List'!$A$1:$F$61,D$5,FALSE)),\"\",VLOOKUP($A10,'Entry List'!$A$1:$F$61,D$5,FALSE))","v":"Richard Childress Racing"},{"$f":"IF(ISNA(VLOOKUP($A10,'Entry List'!$A$1:$F$61,E$5,FALSE)),\"\",VLOOKUP($A10,'Entry List'!$A$1:$F$61,E$5,FALSE))","v":"Richard Childress Racing"},null,12,29,4,33,24,13,36,1,11,26,20,17,8,37,8,37,6,31,11,26,37,1,7,33,"DNS",0,19,18,14,27,18,33,13,28,12,25,27,10,13,28,31,6,8,29,7,0,15,31,9,29,{"$f":"IF('Last Race Results'!$B$5=0,0,IF(ISNA(VLOOKUP($A10,'Last Race Results'!$A$5:$J$44,2,FALSE)),\"DNS\",VLOOKUP($A10,'Last Race Results'!$A$5:$J$44,2,FALSE)))","v":25},{"$f":"IF('Last Race Results'!$B$5=0,0,IF(ISNA(VLOOKUP($A10,'Last Race Results'!$A$5:$K$44,11,FALSE)),0,VLOOKUP($A10,'Last Race Results'!$A$5:$K$44,11,FALSE)))","v":12},null,null,null,null,null,null,null,null,null,null,null,null,null,null,null,null,null,null,{"$f":"IF('Last Race Results'!$B$5=0,0,IF(ISNA(VLOOKUP($A10,'Last Race Results'!$A$5:$J$44,2,FALSE)),\"DNS\",VLOOKUP($A10,'Last Race Results'!$A$5:$J$44,2,FALSE)))","v":25},{"$f":"IF('Last Race Results'!$B$5=0,0,IF(ISNA(VLOOKUP($A10,'Last Race Results'!$A$5:$J$44,11,FALSE)),0,VLOOKUP($A10,'Last Race Results'!$A$5:$J$44,11,FALSE)))","v":{"$error":"#REF!"}}]
[4,{"$f":"IF(ISNA(VLOOKUP($A11,'Entry List'!$A$1:$F$61,B$5,FALSE)),\"\",VLOOKUP($A11,'Entry List'!$A$1:$F$61,B$5,FALSE))","v":"Kevin Harvick"},{"$f":"IF(ISNA(VLOOKUP($A11,'Entry List'!$A$1:$F$61,C$5,FALSE)),\"\",VLOOKUP($A11,'Entry List'!$A$1:$F$61,C$5,FALSE))","v":"Ford"},{"$f":"IF(ISNA(VLOOKUP($A11,'Entry List'!$A$1:$F$61,D$5,FALSE)),\"\",VLOOKUP($A11,'Entry List'!$A$1:$F$61,D$5,FALSE))","v":"Stewart-Haas Racing"},{"$f":"IF(ISNA(VLOOKUP($A11,'Entry List'!$A$1:$F$61,E$5,FALSE)),\"\",VLOOKUP($A11,'Entry List'!$A$1:$F$61,E$5,FALSE))","v":"Stewart-Haas Racing"},null,5,39,8,42,9,29,2,54,1,54,3,40,10,40,10,40,11,39,1,51,15,31,26,11,10,27,1,44,2,47,1,56,4,38,1,58,4,42,5,40,1,60,1,53,17,23,4,42,1,60,{"$f":"IF('Last Race Results'!$B$5=0,0,IF(ISNA(VLOOKUP($A11,'Last Race Results'!$A$5:$J$44,2,FALSE)),\"DNS\",VLOOKUP($A11,'Last Race Results'!$A$5:$J$44,2,FALSE)))","v":20},{"$f":"IF('Last Race Results'!$B$5=0,0,IF(ISNA(VLOOKUP($A11,'Last Race Results'!$A$5:$K$44,11,FALSE)),0,VLOOKUP($A11,'Last Race Results'!$A$5:$K$44,11,FALSE)))","v":17},null,null,null,null,null,null,null,null,null,null,null,null,null,null,null,null,null,null,{"$f":"IF('Last Race Results'!$B$5=0,0,IF(ISNA(VLOOKUP($A11,'Last Race Results'!$A$5:$J$44,2,FALSE)),\"DNS\",VLOOKUP($A11,'Last Race Results'!$A$5:$J$44,2,FALSE)))","v":20},{"$f":"IF('Last Race Results'!$B$5=0,0,IF(ISNA(VLOOKUP($A11,'Last Race Results'!$A$5:$J$44,11,FALSE)),0,VLOOKUP($A11,'Last Race Results'!$A$5:$J$44,11,FALSE)))","v":{"$error":"#REF!"}}]
[5,{"$f":"IF(ISNA(VLOOKUP($A12,'Entry List'!$A$1:$F$61,B$5,FALSE)),\"\",VLOOKUP($A12,'Entry List'!$A$1:$F$61,B$5,FALSE))","v":""},{"$f":"IF(ISNA(VLOOKUP($A12,'Entry List'!$A$1:$F$61,C$5,FALSE)),\"\",VLOOKUP($A12,'Entry List'!$A$1:$F$61,C$5,FALSE))","v":""},{"$f":"IF(ISNA(VLOOKUP($A12,'Entry List'!$A$1:$F$61,D$5,FALSE)),\"\",VLOOKUP($A12,'Entry List'!$A$1:$F$61,D$5,FALSE))","v":""},{"$f":"IF(ISNA(VLOOKUP($A12,'Entry List'!$A$1:$F$61,E$5,FALSE)),\"\",VLOOKUP($A12,'Entry List'!$A$1:$F$61,E$5,FALSE))","v":""},null,"DNS",0,"DNS",0,"DNS",0,"DNS",0,"DNS",0,"DNS",0,"DNS",0,"DNS",0,"DNS",0,"DNS",0,"DNS",0,"DNS",0,"DNS",0,"DNS",0,"DNS",0,"DNS",0,"DNS",0,"DNS",0,"DNS",0,"DNS",0,"DNS",0,"DNS",0,"DNS",0,"DNS",0,"DNS",0,{"$f":"IF('Last Race Results'!$B$5=0,0,IF(ISNA(VLOOKUP($A12,'Last Race Results'!$A$5:$J$44,2,FALSE)),\"DNS\",VLOOKUP($A12,'Last Race Results'!$A$5:$J$44,2,FALSE)))","v":"DNS"},{"$f":"IF('Last Race Results'!$B$5=0,0,IF(ISNA(VLOOKUP($A12,'Last Race Results'!$A$5:$K$44,11,FALSE)),0,VLOOKUP($A12,'Last Race Results'!$A$5:$K$44,11,FALSE)))","v":0},null,null,null,null,null,null,null,null,null,null,null,null,null,null,null,null,null,null,{"$f":"IF('Last Race Results'!$B$5=0,0,IF(ISNA(VLOOKUP($A12,'Last Race Results'!$A$5:$J$44,2,FALSE)),\"DNS\",VLOOKUP($A12,'Last Race Results'!$A$5:$J$44,2,FALSE)))","v":"DNS"},{"$f":"IF('Last Race Results'!$B$5=0,0,IF(ISNA(VLOOKUP($A12,'Last Race Results'!$A$5:$J$44,11,FALSE)),0,VLOOKUP($A12,'Last Race Results'!$A$5:$J$44,11,FALSE)))","v":0}]
[6,{"$f":"IF(ISNA(VLOOKUP($A13,'Entry List'!$A$1:$F$61,B$5,FALSE)),\"\",VLOOKUP($A13,'Entry List'!$A$1:$F$61,B$5,FALSE))","v":"Ryan Newman"},{"$f":"IF(ISNA(VLOOKUP($A13,'Entry List'!$A$1:$F$61,C$5,FALSE)),\"\",VLOOKUP($A13,'Entry List'!$A$1:$F$61,C$5,FALSE))","v":"Ford"},{"$f":"IF(ISNA(VLOOKUP($A13,'Entry List'!$A$1:$F$61,D$5,FALSE)),\"\",VLOOKUP($A13,'Entry List'!$A$1:$F$61,D$5,FALSE))","v":"Roush Fenway Racing"},{"$f":"IF(ISNA(VLOOKUP($A13,'Entry List'!$A$1:$F$61,E$5,FALSE)),\"\",VLOOKUP($A13,'Entry List'!$A$1:$F$61,E$5,FALSE))","v":"Roush Fenway Racing"},null,9,36,27,10,17,20,23,14,15,24,14,23,17,20,17,20,15,22,14,23,12,25,30,7,23,14,15,22,18,27,34,3,17,20,8,35,28,9,21,16,28,9,13,24,19,18,19,18,24,13,{"$f":"IF('Last Race Results'!$B$5=0,0,IF(ISNA(VLOOKUP($A13,'Last Race Results'!$A$5:$J$44,2,FALSE)),\"DNS\",VLOOKUP($A13,'Last Race Results'!$A$5:$J$44,2,FALSE)))","v":36},{"$f":"IF('Last Race Results'!$B$5=0,0,IF(ISNA(VLOOKUP($A13,'Last Race Results'!$A$5:$K$44,11,FALSE)),0,VLOOKUP($A13,'Last Race Results'!$A$5:$K$44,11,FALSE)))","v":1},null,null,null,null,null,null,null,null,null,null,null,null,null,null,null,null,null,null,{"$f":"IF('Last Race Results'!$B$5=0,0,IF(ISNA(VLOOKUP($A13,'Last Race Results'!$A$5:$J$44,2,FALSE)),\"DNS\",VLOOKUP($A13,'Last Race Results'!$A$5:$J$44,2,FALSE)))","v":36},{"$f":"IF('Last Race Results'!$B$5=0,0,IF(ISNA(VLOOKUP($A13,'Last Race Results'!$A$5:$J$44,11,FALSE)),0,VLOOKUP($A13,'Last Race Results'!$A$5:$J$44,11,FALSE)))","v":{"$error":"#REF!"}}]
[7,{"$f":"IF(ISNA(VLOOKUP($A14,'Entry List'!$A$1:$F$61,B$5,FALSE)),\"\",VLOOKUP($A14,'Entry List'!$A$1:$F$61,B$5,FALSE))","v":""},{"$f":"IF(ISNA(VLOOKUP($A14,'Entry List'!$A$1:$F$61,C$5,FALSE)),\"\",VLOOKUP($A14,'Entry List'!$A$1:$F$61,C$5,FALSE))","v":""},{"$f":"IF(ISNA(VLOOKUP($A14,'Entry List'!$A$1:$F$61,D$5,FALSE)),\"\",VLOOKUP($A14,'Entry List'!$A$1:$F$61,D$5,FALSE))","v":""},{"$f":"IF(ISNA(VLOOKUP($A14,'Entry List'!$A$1:$F$61,E$5,FALSE)),\"\",VLOOKUP($A14,'Entry List'!$A$1:$F$61,E$5,FALSE))","v":""},null,"DNS",0,"DNS",0,"DNS",0,"DNS",0,34,3,"DNS",0,36,1,36,1,25,12,37,1,38,1,"DNS",0,"DNS",0,32,5,34,3,25,12,"DNS",0,"DNS",0,31,6,"DNS",0,39,1,33,4,"DNS",0,37,1,35,2,{"$f":"IF('Last Race Results'!$B$5=0,0,IF(ISNA(VLOOKUP($A14,'Last Race Results'!$A$5:$J$44,2,FALSE)),\"DNS\",VLOOKUP($A14,'Last Race Results'!$A$5:$J$44,2,FALSE)))","v":38},{"$f":"IF('Last Race Results'!$B$5=0,0,IF(ISNA(VLOOKUP($A14,'Last Race Results'!$A$5:$K$44,11,FALSE)),0,VLOOKUP($A14,'Last Race Results'!$A$5:$K$44,11,FALSE)))","v":1},null,null,null,null,null,null,null,null,null,null,null,null,null,null,null,null,null,null,{"$f":"IF('Last Race Results'!$B$5=0,0,IF(ISNA(VLOOKUP($A14,'Last Race Results'!$A$5:$J$44,2,FALSE)),\"DNS\",VLOOKUP($A14,'Last Race Results'!$A$5:$J$44,2,FALSE)))","v":38},{"$f":"IF('Last Race Results'!$B$5=0,0,IF(ISNA(VLOOKUP($A14,'Last Race Results'!$A$5:$J$44,11,FALSE)),0,VLOOKUP($A14,'Last Race Results'!$A$5:$J$44,11,FALSE)))","v":{"$error":"#REF!"}}]
[8,{"$f":"IF(ISNA(VLOOKUP($A15,'Entry List'!$A$1:$F$61,B$5,FALSE)),\"\",VLOOKUP($A15,'Entry List'!$A$1:$F$61,B$5,FALSE))","v":"Tyler Reddick (R)"},{"$f":"IF(ISNA(VLOOKUP($A15,'Entry List'!$A$1:$F$61,C$5,FALSE)),\"\",VLOOKUP($A15,'Entry List'!$A$1:$F$61,C$5,FALSE))","v":"Chevrolet"},{"$f":"IF(ISNA(VLOOKUP($A15,'Entry List'!$A$1:$F$61,D$5,FALSE)),\"\",VLOOKUP($A15,'Entry List'!$A$1:$F$61,D$5,FALSE))","v":"Richard Childress Racing"},{"$f":"IF(ISNA(VLOOKUP($A15,'Entry List'!$A$1:$F$61,E$5,FALSE)),\"\",VLOOKUP($A15,'Entry List'!$A$1:$F$61,E$5,FALSE))","v":"Richard Childress Racing"},null,28,10,18,19,11,26,33,13,7,33,13,24,14,23,14,23,36,1,16,21,16,22,4,50,20,27,30,7,35,2,8,29,10,27,34,3,13,29,10,27,18,19,24,13,18,19,13,24,18,19,{"$f":"IF('Last Race Results'!$B$5=0,0,IF(ISNA(VLOOKUP($A15,'Last Race Results'!$A$5:$J$44,2,FALSE)),\"DNS\",VLOOKUP($A15,'Last Race Results'!$A$5:$J$44,2,FALSE)))","v":29},{"$f":"IF('Last Race Results'!$B$5=0,0,IF(ISNA(VLOOKUP($A15,'Last Race Results'!$A$5:$K$44,11,FALSE)),0,VLOOKUP($A15,'Last Race Results'!$A$5:$K$44,11,FALSE)))","v":16},null,null,null,null,null,null,null,null,null,null,null,null,null,null,null,null,null,null,{"$f":"IF('Last Race Results'!$B$5=0,0,IF(ISNA(VLOOKUP($A15,'Last Race Results'!$A$5:$J$44,2,FALSE)),\"DNS\",VLOOKUP($A15,'Last Race Results'!$A$5:$J$44,2,FALSE)))","v":29},{"$f":"IF('Last Race Results'!$B$5=0,0,IF(ISNA(VLOOKUP($A15,'Last Race Results'!$A$5:$J$44,11,FALSE)),0,VLOOKUP($A15,'Last Race Results'!$A$5:$J$44,11,FALSE)))","v":{"$error":"#REF!"}}]
[9,{"$f":"IF(ISNA(VLOOKUP($A16,'Entry List'!$A$1:$F$61,B$5,FALSE)),\"\",VLOOKUP($A16,'Entry List'!$A$1:$F$61,B$5,FALSE))","v":"Chase Elliott"},{"$f":"IF(ISNA(VLOOKUP($A16,'Entry List'!$A$1:$F$61,C$5,FALSE)),\"\",VLOOKUP($A16,'Entry List'!$A$1:$F$61,C$5,FALSE))","v":"Chevrolet"},{"$f":"IF(ISNA(VLOOKUP($A16,'Entry List'!$A$1:$F$61,D$5,FALSE)),\"\",VLOOKUP($A16,'Entry List'!$A$1:$F$61,D$5,FALSE))","v":"Hendrick Motorsports"},{"$f":"IF(ISNA(VLOOKUP($A16,'Entry List'!$A$1:$F$61,E$5,FALSE)),\"\",VLOOKUP($A16,'Entry List'!$A$1:$F$61,E$5,FALSE))","v":"Hendrick Motorsports"},null,17,34,26,31,4,40,7,39,4,34,38,14,1,49,1,49,22,35,8,40,5,40,2,50,"DNS",0,25,19,4,33,11,42,23,23,9,28,12,26,9,30,7,33,9,28,1,54,5,33,39,1,{"$f":"IF('Last Race Results'!$B$5=0,0,IF(ISNA(VLOOKUP($A16,'Last Race Results'!$A$5:$J$44,2,FALSE)),\"DNS\",VLOOKUP($A16,'Last Race Results'!$A$5:$J$44,2,FALSE)))","v":2},{"$f":"IF('Last Race Results'!$B$5=0,0,IF(ISNA(VLOOKUP($A16,'Last Race Results'!$A$5:$K$44,11,FALSE)),0,VLOOKUP($A16,'Last Race Results'!$A$5:$K$44,11,FALSE)))","v":35},null,null,null,null,null,null,null,null,null,null,null,null,null,null,null,null,null,null,{"$f":"IF('Last Race Results'!$B$5=0,0,IF(ISNA(VLOOKUP($A16,'Last Race Results'!$A$5:$J$44,2,FALSE)),\"DNS\",VLOOKUP($A16,'Last Race Results'!$A$5:$J$44,2,FALSE)))","v":2},{"$f":"IF('Last Race Results'!$B$5=0,0,IF(ISNA(VLOOKUP($A16,'Last Race Results'!$A$5:$J$44,11,FALSE)),0,VLOOKUP($A16,'Last Race Results'!$A$5:$J$44,11,FALSE)))","v":{"$error":"#REF!"}}]
[10,{"$f":"IF(ISNA(VLOOKUP($A17,'Entry List'!$A$1:$F$61,B$5,FALSE)),\"\",VLOOKUP($A17,'Entry List'!$A$1:$F$61,B$5,FALSE))","v":"Aric Almirola"},{"$f":"IF(ISNA(VLOOKUP($A17,'Entry List'!$A$1:$F$61,C$5,FALSE)),\"\",VLOOKUP($A17,'Entry List'!$A$1:$F$61,C$5,FALSE))","v":"Ford"},{"$f":"IF(ISNA(VLOOKUP($A17,'Entry List'!$A$1:$F$61,D$5,FALSE)),\"\",VLOOKUP($A17,'Entry List'!$A$1:$F$61,D$5,FALSE))","v":"Stewart-Haas Racing"},{"$f":"IF(ISNA(VLOOKUP($A17,'Entry List'!$A$1:$F$61,E$5,FALSE)),\"\",VLOOKUP($A17,'Entry List'!$A$1:$F$61,E$5,FALSE))","v":"Stewart-Haas Racing"},null,22,32,21,16,8,36,8,37,12,30,7,35,20,17,20,17,29,15,17,20,33,4,5,39,3,34,3,53,5,41,3,34,8,39,14,24,6,42,7,38,16,21,6,34,24,13,17,21,7,37,{"$f":"IF('Last Race Results'!$B$5=0,0,IF(ISNA(VLOOKUP($A17,'Last Race Results'!$A$5:$J$44,2,FALSE)),\"DNS\",VLOOKUP($A17,'Last Race Results'!$A$5:$J$44,2,FALSE)))","v":18},{"$f":"IF('Last Race Results'!$B$5=0,0,IF(ISNA(VLOOKUP($A17,'Last Race Results'!$A$5:$K$44,11,FALSE)),0,VLOOKUP($A17,'Last Race Results'!$A$5:$K$44,11,FALSE)))","v":19},null,null,null,null,null,null,null,null,null,null,null,null,null,null,null,null,null,null,{"$f":"IF('Last Race Results'!$B$5=0,0,IF(ISNA(VLOOKUP($A17,'Last Race Results'!$A$5:$J$44,2,FALSE)),\"DNS\",VLOOKUP($A17,'Last Race Results'!$A$5:$J$44,2,FALSE)))","v":18},{"$f":"IF('Last Race Results'!$B$5=0,0,IF(ISNA(VLOOKUP($A17,'Last Race Results'!$A$5:$J$44,11,FALSE)),0,VLOOKUP($A17,'Last Race Results'!$A$5:$J$44,11,FALSE)))","v":{"$error":"#REF!"}}]
[11,{"$f":"IF(ISNA(VLOOKUP($A18,'Entry List'!$A$1:$F$61,B$5,FALSE)),\"\",VLOOKUP($A18,'Entry List'!$A$1:$F$61,B$5,FALSE))","v":"Denny Hamlin"},{"$f":"IF(ISNA(VLOOKUP($A18,'Entry List'!$A$1:$F$61,C$5,FALSE)),\"\",VLOOKUP($A18,'Entry List'!$A$1:$F$61,C$5,FALSE))","v":"Toyota"},{"$f":"IF(ISNA(VLOOKUP($A18,'Entry List'!$A$1:$F$61,D$5,FALSE)),\"\",VLOOKUP($A18,'Entry List'!$A$1:$F$61,D$5,FALSE))","v":"Joe Gibbs Racing"},{"$f":"IF(ISNA(VLOOKUP($A18,'Entry List'!$A$1:$F$61,E$5,FALSE)),\"\",VLOOKUP($A18,'Entry List'!$A$1:$F$61,E$5,FALSE))","v":"Joe Gibbs Racing"},null,1,50,17,20,6,34,20,17,5,43,1,47,2,35,2,35,17,32,5,46,24,13,1,60,4,33,2,37,1,41,28,22,12,25,6,34,1,56,2,54,6,48,2,40,2,45,1,60,19,26,{"$f":"IF('Last Race Results'!$B$5=0,0,IF(ISNA(VLOOKUP($A18,'Last Race Results'!$A$5:$J$44,2,FALSE)),\"DNS\",VLOOKUP($A18,'Last Race Results'!$A$5:$J$44,2,FALSE)))","v":3},{"$f":"IF('Last Race Results'!$B$5=0,0,IF(ISNA(VLOOKUP($A18,'Last Race Results'!$A$5:$K$44,11,FALSE)),0,VLOOKUP($A18,'Last Race Results'!$A$5:$K$44,11,FALSE)))","v":36},null,null,null,null,null,null,null,null,null,null,null,null,null,null,null,null,null,null,{"$f":"IF('Last Race Results'!$B$5=0,0,IF(ISNA(VLOOKUP($A18,'Last Race Results'!$A$5:$J$44,2,FALSE)),\"DNS\",VLOOKUP($A18,'Last Race Results'!$A$5:$J$44,2,FALSE)))","v":3},{"$f":"IF('Last Race Results'!$B$5=0,0,IF(ISNA(VLOOKUP($A18,'Last Race Results'!$A$5:$J$44,11,FALSE)),0,VLOOKUP($A18,'Last Race Results'!$A$5:$J$44,11,FALSE)))","v":{"$error":"#REF!"}}]
[12,{"$f":"IF(ISNA(VLOOKUP($A19,'Entry List'!$A$1:$F$61,B$5,FALSE)),\"\",VLOOKUP($A19,'Entry List'!$A$1:$F$61,B$5,FALSE))","v":"Ryan Blaney"},{"$f":"IF(ISNA(VLOOKUP($A19,'Entry List'!$A$1:$F$61,C$5,FALSE)),\"\",VLOOKUP($A19,'Entry List'!$A$1:$F$61,C$5,FALSE))","v":"Ford"},{"$f":"IF(ISNA(VLOOKUP($A19,'Entry List'!$A$1:$F$61,D$5,FALSE)),\"\",VLOOKUP($A19,'Entry List'!$A$1:$F$61,D$5,FALSE))","v":"Team Penske"},{"$f":"IF(ISNA(VLOOKUP($A19,'Entry List'!$A$1:$F$61,E$5,FALSE)),\"\",VLOOKUP($A19,'Entry List'!$A$1:$F$61,E$5,FALSE))","v":"Team Penske"},null,2,43,11,42,19,37,37,1,16,21,21,24,3,52,3,52,40,10,4,43,2,44,3,50,1,54,12,40,22,24,32,5,6,46,7,45,20,33,20,22,4,50,38,6,31,14,14,23,12,40,{"$f":"IF('Last Race Results'!$B$5=0,0,IF(ISNA(VLOOKUP($A19,'Last Race Results'!$A$5:$J$44,2,FALSE)),\"DNS\",VLOOKUP($A19,'Last Race Results'!$A$5:$J$44,2,FALSE)))","v":6},{"$f":"IF('Last Race Results'!$B$5=0,0,IF(ISNA(VLOOKUP($A19,'Last Race Results'!$A$5:$K$44,11,FALSE)),0,VLOOKUP($A19,'Last Race Results'!$A$5:$K$44,11,FALSE)))","v":40},null,null,null,null,null,null,null,null,null,null,null,null,null,null,null,null,null,null,{"$f":"IF('Last Race Results'!$B$5=0,0,IF(ISNA(VLOOKUP($A19,'Last Race Results'!$A$5:$J$44,2,FALSE)),\"DNS\",VLOOKUP($A19,'Last Race Results'!$A$5:$J$44,2,FALSE)))","v":6},{"$f":"IF('Last Race Results'!$B$5=0,0,IF(ISNA(VLOOKUP($A19,'Last Race Results'!$A$5:$J$44,11,FALSE)),0,VLOOKUP($A19,'Last Race Results'!$A$5:$J$44,11,FALSE)))","v":{"$error":"#REF!"}}]
[13,{"$f":"IF(ISNA(VLOOKUP($A20,'Entry List'!$A$1:$F$61,B$5,FALSE)),\"\",VLOOKUP($A20,'Entry List'!$A$1:$F$61,B$5,FALSE))","v":"Ty Dillon"},{"$f":"IF(ISNA(VLOOKUP($A20,'Entry List'!$A$1:$F$61,C$5,FALSE)),\"\",VLOOKUP($A20,'Entry List'!$A$1:$F$61,C$5,FALSE))","v":"Chevrolet"},{"$f":"IF(ISNA(VLOOKUP($A20,'Entry List'!$A$1:$F$61,D$5,FALSE)),\"\",VLOOKUP($A20,'Entry List'!$A$1:$F$61,D$5,FALSE))","v":"Germain Racing"},{"$f":"IF(ISNA(VLOOKUP($A20,'Entry List'!$A$1:$F$61,E$5,FALSE)),\"\",VLOOKUP($A20,'Entry List'!$A$1:$F$61,E$5,FALSE))","v":"Germain Racing"},null,30,8,10,27,26,11,15,22,19,18,19,18,27,10,27,10,39,1,29,8,22,15,28,9,12,25,26,11,23,14,14,23,16,21,13,24,15,22,22,15,23,14,18,19,20,17,18,19,29,8,{"$f":"IF('Last Race Results'!$B$5=0,0,IF(ISNA(VLOOKUP($A20,'Last Race Results'!$A$5:$J$44,2,FALSE)),\"DNS\",VLOOKUP($A20,'Last Race Results'!$A$5:$J$44,2,FALSE)))","v":22},{"$f":"IF('Last Race Results'!$B$5=0,0,IF(ISNA(VLOOKUP($A20,'Last Race Results'!$A$5:$K$44,11,FALSE)),0,VLOOKUP($A20,'Last Race Results'!$A$5:$K$44,11,FALSE)))","v":15},null,null,null,null,null,null,null,null,null,null,null,null,null,null,null,null,null,null,{"$f":"IF('Last Race Results'!$B$5=0,0,IF(ISNA(VLOOKUP($A20,'Last Race Results'!$A$5:$J$44,2,FALSE)),\"DNS\",VLOOKUP($A20,'Last Race Results'!$A$5:$J$44,2,FALSE)))","v":22},{"$f":"IF('Last Race Results'!$B$5=0,0,IF(ISNA(VLOOKUP($A20,'Last Race Results'!$A$5:$J$44,11,FALSE)),0,VLOOKUP($A20,'Last Race Results'!$A$5:$J$44,11,FALSE)))","v":{"$error":"#REF!"}}]
[14,{"$f":"IF(ISNA(VLOOKUP($A21,'Entry List'!$A$1:$F$61,B$5,FALSE)),\"\",VLOOKUP($A21,'Entry List'!$A$1:$F$61,B$5,FALSE))","v":"Clint Bowyer"},{"$f":"IF(ISNA(VLOOKUP($A21,'Entry List'!$A$1:$F$61,C$5,FALSE)),\"\",VLOOKUP($A21,'Entry List'!$A$1:$F$61,C$5,FALSE))","v":"Ford"},{"$f":"IF(ISNA(VLOOKUP($A21,'Entry List'!$A$1:$F$61,D$5,FALSE)),\"\",VLOOKUP($A21,'Entry List'!$A$1:$F$61,D$5,FALSE))","v":"Stewart-Haas Racing"},{"$f":"IF(ISNA(VLOOKUP($A21,'Entry List'!$A$1:$F$61,E$5,FALSE)),\"\",VLOOKUP($A21,'Entry List'!$A$1:$F$61,E$5,FALSE))","v":"Stewart-Haas Racing"},null,6,31,12,25,23,14,5,35,17,30,22,35,16,21,16,21,2,40,20,27,17,29,11,28,25,12,7,30,8,29,16,23,14,25,5,38,14,23,18,28,19,20,14,39,6,47,6,46,16,21,{"$f":"IF('Last Race Results'!$B$5=0,0,IF(ISNA(VLOOKUP($A21,'Last Race Results'!$A$5:$J$44,2,FALSE)),\"DNS\",VLOOKUP($A21,'Last Race Results'!$A$5:$J$44,2,FALSE)))","v":19},{"$f":"IF('Last Race Results'!$B$5=0,0,IF(ISNA(VLOOKUP($A21,'Last Race Results'!$A$5:$K$44,11,FALSE)),0,VLOOKUP($A21,'Last Race Results'!$A$5:$K$44,11,FALSE)))","v":26},null,null,null,null,null,null,null,null,null,null,null,null,null,null,null,null,null,null,{"$f":"IF('Last Race Results'!$B$5=0,0,IF(ISNA(VLOOKUP($A21,'Last Race Results'!$A$5:$J$44,2,FALSE)),\"DNS\",VLOOKUP($A21,'Last Race Results'!$A$5:$J$44,2,FALSE)))","v":19},{"$f":"IF('Last Race Results'!$B$5=0,0,IF(ISNA(VLOOKUP($A21,'Last Race Results'!$A$5:$J$44,11,FALSE)),0,VLOOKUP($A21,'Last Race Results'!$A$5:$J$44,11,FALSE)))","v":{"$error":"#REF!"}}]
[15,{"$f":"IF(ISNA(VLOOKUP($A22,'Entry List'!$A$1:$F$61,B$5,FALSE)),\"\",VLOOKUP($A22,'Entry List'!$A$1:$F$61,B$5,FALSE))","v":"Brennan Poole (R)"},{"$f":"IF(ISNA(VLOOKUP($A22,'Entry List'!$A$1:$F$61,C$5,FALSE)),\"\",VLOOKUP($A22,'Entry List'!$A$1:$F$61,C$5,FALSE))","v":"Chevrolet"},{"$f":"IF(ISNA(VLOOKUP($A22,'Entry List'!$A$1:$F$61,D$5,FALSE)),\"\",VLOOKUP($A22,'Entry List'!$A$1:$F$61,D$5,FALSE))","v":"Premium Motorsports"},{"$f":"IF(ISNA(VLOOKUP($A22,'Entry List'!$A$1:$F$61,E$5,FALSE)),\"\",VLOOKUP($A22,'Entry List'!$A$1:$F$61,E$5,FALSE))","v":"Premium Motorsports"},null,16,21,29,8,32,5,31,6,27,10,37,1,38,1,38,1,24,13,30,7,30,7,32,5,35,2,29,8,27,10,35,2,31,6,22,15,30,7,27,10,37,1,30,7,28,9,36,1,30,7,{"$f":"IF('Last Race Results'!$B$5=0,0,IF(ISNA(VLOOKUP($A22,'Last Race Results'!$A$5:$J$44,2,FALSE)),\"DNS\",VLOOKUP($A22,'Last Race Results'!$A$5:$J$44,2,FALSE)))","v":15},{"$f":"IF('Last Race Results'!$B$5=0,0,IF(ISNA(VLOOKUP($A22,'Last Race Results'!$A$5:$K$44,11,FALSE)),0,VLOOKUP($A22,'Last Race Results'!$A$5:$K$44,11,FALSE)))","v":22},null,null,null,null,null,null,null,null,null,null,null,null,null,null,null,null,null,null,{"$f":"IF('Last Race Results'!$B$5=0,0,IF(ISNA(VLOOKUP($A22,'Last Race Results'!$A$5:$J$44,2,FALSE)),\"DNS\",VLOOKUP($A22,'Last Race Results'!$A$5:$J$44,2,FALSE)))","v":15},{"$f":"IF('Last Race Results'!$B$5=0,0,IF(ISNA(VLOOKUP($A22,'Last Race Results'!$A$5:$J$44,11,FALSE)),0,VLOOKUP($A22,'Last Race Results'!$A$5:$J$44,11,FALSE)))","v":{"$error":"#REF!"}}]
[16,{"$f":"IF(ISNA(VLOOKUP($A23,'Entry List'!$A$1:$F$61,B$5,FALSE)),\"\",VLOOKUP($A23,'Entry List'!$A$1:$F$61,B$5,FALSE))","v":""},{"$f":"IF(ISNA(VLOOKUP($A23,'Entry List'!$A$1:$F$61,C$5,FALSE)),\"\",VLOOKUP($A23,'Entry List'!$A$1:$F$61,C$5,FALSE))","v":""},{"$f":"IF(ISNA(VLOOKUP($A23,'Entry List'!$A$1:$F$61,D$5,FALSE)),\"\",VLOOKUP($A23,'Entry List'!$A$1:$F$61,D$5,FALSE))","v":""},{"$f":"IF(ISNA(VLOOKUP($A23,'Entry List'!$A$1:$F$61,E$5,FALSE)),\"\",VLOOKUP($A23,'Entry List'!$A$1:$F$61,E$5,FALSE))","v":""},null,13,24,"DNS",0,"DNS",0,"DNS",0,"DNS",0,"DNS",0,"DNS",0,"DNS",0,"DNS",0,"DNS",0,"DNS",0,"DNS",0,"DNS",0,"DNS",0,"DNS",0,"DNS",0,"DNS",0,"DNS",0,"DNS",0,"DNS",0,"DNS",0,"DNS",0,"DNS",0,"DNS",0,"DNS",0,{"$f":"IF('Last Race Results'!$B$5=0,0,IF(ISNA(VLOOKUP($A23,'Last Race Results'!$A$5:$J$44,2,FALSE)),\"DNS\",VLOOKUP($A23,'Last Race Results'!$A$5:$J$44,2,FALSE)))","v":"DNS"},{"$f":"IF('Last Race Results'!$B$5=0,0,IF(ISNA(VLOOKUP($A23,'Last Race Results'!$A$5:$K$44,11,FALSE)),0,VLOOKUP($A23,'Last Race Results'!$A$5:$K$44,11,FALSE)))","v":0},null,null,null,null,null,null,null,null,null,null,null,null,null,null,null,null,null,null,{"$f":"IF('Last Race Results'!$B$5=0,0,IF(ISNA(VLOOKUP($A23,'Last Race Results'!$A$5:$J$44,2,FALSE)),\"DNS\",VLOOKUP($A23,'Last Race Results'!$A$5:$J$44,2,FALSE)))","v":"DNS"},{"$f":"IF('Last Race Results'!$B$5=0,0,IF(ISNA(VLOOKUP($A23,'Last Race Results'!$A$5:$J$44,11,FALSE)),0,VLOOKUP($A23,'Last Race Results'!$A$5:$J$44,11,FALSE)))","v":0}]
[17,{"$f":"IF(ISNA(VLOOKUP($A24,'Entry List'!$A$1:$F$61,B$5,FALSE)),\"\",VLOOKUP($A24,'Entry List'!$A$1:$F$61,B$5,FALSE))","v":"Chris Buescher"},{"$f":"IF(ISNA(VLOOKUP($A24,'Entry List'!$A$1:$F$61,C$5,FALSE)),\"\",VLOOKUP($A24,'Entry List'!$A$1:$F$61,C$5,FALSE))","v":"Ford"},{"$f":"IF(ISNA(VLOOKUP($A24,'Entry List'!$A$1:$F$61,D$5,FALSE)),\"\",VLOOKUP($A24,'Entry List'!$A$1:$F$61,D$5,FALSE))","v":"Roush Fenway Racing"},{"$f":"IF(ISNA(VLOOKUP($A24,'Entry List'!$A$1:$F$61,E$5,FALSE)),\"\",VLOOKUP($A24,'Entry List'!$A$1:$F$61,E$5,FALSE))","v":"Roush Fenway Racing"},null,3,38,14,23,16,21,17,20,32,5,23,14,22,16,22,16,23,15,22,15,13,24,23,15,6,33,10,27,36,5,31,6,20,17,31,6,33,4,25,12,20,17,20,17,5,32,16,23,14,23,{"$f":"IF('Last Race Results'!$B$5=0,0,IF(ISNA(VLOOKUP($A24,'Last Race Results'!$A$5:$J$44,2,FALSE)),\"DNS\",VLOOKUP($A24,'Last Race Results'!$A$5:$J$44,2,FALSE)))","v":9},{"$f":"IF('Last Race Results'!$B$5=0,0,IF(ISNA(VLOOKUP($A24,'Last Race Results'!$A$5:$K$44,11,FALSE)),0,VLOOKUP($A24,'Last Race Results'!$A$5:$K$44,11,FALSE)))","v":28},null,null,null,null,null,null,null,null,null,null,null,null,null,null,null,null,null,null,{"$f":"IF('Last Race Results'!$B$5=0,0,IF(ISNA(VLOOKUP($A24,'Last Race Results'!$A$5:$J$44,2,FALSE)),\"DNS\",VLOOKUP($A24,'Last Race Results'!$A$5:$J$44,2,FALSE)))","v":9},{"$f":"IF('Last Race Results'!$B$5=0,0,IF(ISNA(VLOOKUP($A24,'Last Race Results'!$A$5:$J$44,11,FALSE)),0,VLOOKUP($A24,'Last Race Results'!$A$5:$J$44,11,FALSE)))","v":{"$error":"#REF!"}}]
[18,{"$f":"IF(ISNA(VLOOKUP($A25,'Entry List'!$A$1:$F$61,B$5,FALSE)),\"\",VLOOKUP($A25,'Entry List'!$A$1:$F$61,B$5,FALSE))","v":"Kyle Busch"},{"$f":"IF(ISNA(VLOOKUP($A25,'Entry List'!$A$1:$F$61,C$5,FALSE)),\"\",VLOOKUP($A25,'Entry List'!$A$1:$F$61,C$5,FALSE))","v":"Toyota"},{"$f":"IF(ISNA(VLOOKUP($A25,'Entry List'!$A$1:$F$61,D$5,FALSE)),\"\",VLOOKUP($A25,'Entry List'!$A$1:$F$61,D$5,FALSE))","v":"Joe Gibbs Racing"},{"$f":"IF(ISNA(VLOOKUP($A25,'Entry List'!$A$1:$F$61,E$5,FALSE)),\"\",VLOOKUP($A25,'Entry List'!$A$1:$F$61,E$5,FALSE))","v":"Joe Gibbs Racing"},null,34,12,15,23,2,40,3,46,26,11,2,35,29,8,29,8,4,39,2,52,19,18,6,33,32,19,5,42,38,3,6,38,21,16,37,5,11,42,38,1,5,39,4,49,37,1,3,41,11,26,{"$f":"IF('Last Race Results'!$B$5=0,0,IF(ISNA(VLOOKUP($A25,'Last Race Results'!$A$5:$J$44,2,FALSE)),\"DNS\",VLOOKUP($A25,'Last Race Results'!$A$5:$J$44,2,FALSE)))","v":33},{"$f":"IF('Last Race Results'!$B$5=0,0,IF(ISNA(VLOOKUP($A25,'Last Race Results'!$A$5:$K$44,11,FALSE)),0,VLOOKUP($A25,'Last Race Results'!$A$5:$K$44,11,FALSE)))","v":5},null,null,null,null,null,null,null,null,null,null,null,null,null,null,null,null,null,null,{"$f":"IF('Last Race Results'!$B$5=0,0,IF(ISNA(VLOOKUP($A25,'Last Race Results'!$A$5:$J$44,2,FALSE)),\"DNS\",VLOOKUP($A25,'Last Race Results'!$A$5:$J$44,2,FALSE)))","v":33},{"$f":"IF('Last Race Results'!$B$5=0,0,IF(ISNA(VLOOKUP($A25,'Last Race Results'!$A$5:$J$44,11,FALSE)),0,VLOOKUP($A25,'Last Race Results'!$A$5:$J$44,11,FALSE)))","v":{"$error":"#REF!"}}]
[19,{"$f":"IF(ISNA(VLOOKUP($A26,'Entry List'!$A$1:$F$61,B$5,FALSE)),\"\",VLOOKUP($A26,'Entry List'!$A$1:$F$61,B$5,FALSE))","v":"Martin Truex Jr."},{"$f":"IF(ISNA(VLOOKUP($A26,'Entry List'!$A$1:$F$61,C$5,FALSE)),\"\",VLOOKUP($A26,'Entry List'!$A$1:$F$61,C$5,FALSE))","v":"Toyota"},{"$f":"IF(ISNA(VLOOKUP($A26,'Entry List'!$A$1:$F$61,D$5,FALSE)),\"\",VLOOKUP($A26,'Entry List'!$A$1:$F$61,D$5,FALSE))","v":"Joe Gibbs Racing"},{"$f":"IF(ISNA(VLOOKUP($A26,'Entry List'!$A$1:$F$61,E$5,FALSE)),\"\",VLOOKUP($A26,'Entry List'!$A$1:$F$61,E$5,FALSE))","v":"Joe Gibbs Racing"},null,32,16,20,34,14,29,32,17,6,39,10,44,9,28,9,28,20,17,3,54,1,47,12,29,24,13,6,39,10,37,38,1,2,42,27,10,3,45,3,46,3,34,3,34,3,37,2,50,2,42,{"$f":"IF('Last Race Results'!$B$5=0,0,IF(ISNA(VLOOKUP($A26,'Last Race Results'!$A$5:$J$44,2,FALSE)),\"DNS\",VLOOKUP($A26,'Last Race Results'!$A$5:$J$44,2,FALSE)))","v":4},{"$f":"IF('Last Race Results'!$B$5=0,0,IF(ISNA(VLOOKUP($A26,'Last Race Results'!$A$5:$K$44,11,FALSE)),0,VLOOKUP($A26,'Last Race Results'!$A$5:$K$44,11,FALSE)))","v":42},null,null,null,null,null,null,null,null,null,null,null,null,null,null,null,null,null,null,{"$f":"IF('Last Race Results'!$B$5=0,0,IF(ISNA(VLOOKUP($A26,'Last Race Results'!$A$5:$J$44,2,FALSE)),\"DNS\",VLOOKUP($A26,'Last Race Results'!$A$5:$J$44,2,FALSE)))","v":4},{"$f":"IF('Last Race Results'!$B$5=0,0,IF(ISNA(VLOOKUP($A26,'Last Race Results'!$A$5:$J$44,11,FALSE)),0,VLOOKUP($A26,'Last Race Results'!$A$5:$J$44,11,FALSE)))","v":{"$error":"#REF!"}}]
[20,{"$f":"IF(ISNA(VLOOKUP($A27,'Entry List'!$A$1:$F$61,B$5,FALSE)),\"\",VLOOKUP($A27,'Entry List'!$A$1:$F$61,B$5,FALSE))","v":"Erik Jones"},{"$f":"IF(ISNA(VLOOKUP($A27,'Entry List'!$A$1:$F$61,C$5,FALSE)),\"\",VLOOKUP($A27,'Entry List'!$A$1:$F$61,C$5,FALSE))","v":"Toyota"},{"$f":"IF(ISNA(VLOOKUP($A27,'Entry List'!$A$1:$F$61,D$5,FALSE)),\"\",VLOOKUP($A27,'Entry List'!$A$1:$F$61,D$5,FALSE))","v":"Joe Gibbs Racing"},{"$f":"IF(ISNA(VLOOKUP($A27,'Entry List'!$A$1:$F$61,E$5,FALSE)),\"\",VLOOKUP($A27,'Entry List'!$A$1:$F$61,E$5,FALSE))","v":"Joe Gibbs Racing"},null,18,24,23,14,10,29,28,9,8,30,5,39,26,11,26,11,5,35,28,12,20,17,21,16,5,32,38,2,3,34,33,13,22,16,39,1,5,37,24,13,11,38,27,20,11,31,12,25,22,15,{"$f":"IF('Last Race Results'!$B$5=0,0,IF(ISNA(VLOOKUP($A27,'Last Race Results'!$A$5:$J$44,2,FALSE)),\"DNS\",VLOOKUP($A27,'Last Race Results'!$A$5:$J$44,2,FALSE)))","v":35},{"$f":"IF('Last Race Results'!$B$5=0,0,IF(ISNA(VLOOKUP($A27,'Last Race Results'!$A$5:$K$44,11,FALSE)),0,VLOOKUP($A27,'Last Race Results'!$A$5:$K$44,11,FALSE)))","v":11},null,null,null,null,null,null,null,null,null,null,null,null,null,null,null,null,null,null,{"$f":"IF('Last Race Results'!$B$5=0,0,IF(ISNA(VLOOKUP($A27,'Last Race Results'!$A$5:$J$44,2,FALSE)),\"DNS\",VLOOKUP($A27,'Last Race Results'!$A$5:$J$44,2,FALSE)))","v":35},{"$f":"IF('Last Race Results'!$B$5=0,0,IF(ISNA(VLOOKUP($A27,'Last Race Results'!$A$5:$J$44,11,FALSE)),0,VLOOKUP($A27,'Last Race Results'!$A$5:$J$44,11,FALSE)))","v":{"$error":"#REF!"}}]
[21,{"$f":"IF(ISNA(VLOOKUP($A28,'Entry List'!$A$1:$F$61,B$5,FALSE)),\"\",VLOOKUP($A28,'Entry List'!$A$1:$F$61,B$5,FALSE))","v":"Matt DiBenedetto"},{"$f":"IF(ISNA(VLOOKUP($A28,'Entry List'!$A$1:$F$61,C$5,FALSE)),\"\",VLOOKUP($A28,'Entry List'!$A$1:$F$61,C$5,FALSE))","v":"Ford"},{"$f":"IF(ISNA(VLOOKUP($A28,'Entry List'!$A$1:$F$61,D$5,FALSE)),\"\",VLOOKUP($A28,'Entry List'!$A$1:$F$61,D$5,FALSE))","v":"Wood Brothers Racing"},{"$f":"IF(ISNA(VLOOKUP($A28,'Entry List'!$A$1:$F$61,E$5,FALSE)),\"\",VLOOKUP($A28,'Entry List'!$A$1:$F$61,E$5,FALSE))","v":"Wood Brothers Racing"},null,19,25,2,35,13,27,13,31,14,23,9,29,15,30,15,30,31,10,25,16,7,32,14,23,26,11,13,34,6,38,19,29,3,43,10,27,36,1,6,32,15,22,7,37,15,28,20,17,17,24,{"$f":"IF('Last Race Results'!$B$5=0,0,IF(ISNA(VLOOKUP($A28,'Last Race Results'!$A$5:$J$44,2,FALSE)),\"DNS\",VLOOKUP($A28,'Last Race Results'!$A$5:$J$44,2,FALSE)))","v":12},{"$f":"IF('Last Race Results'!$B$5=0,0,IF(ISNA(VLOOKUP($A28,'Last Race Results'!$A$5:$K$44,11,FALSE)),0,VLOOKUP($A28,'Last Race Results'!$A$5:$K$44,11,FALSE)))","v":29},null,null,null,null,null,null,null,null,null,null,null,null,null,null,null,null,null,null,{"$f":"IF('Last Race Results'!$B$5=0,0,IF(ISNA(VLOOKUP($A28,'Last Race Results'!$A$5:$J$44,2,FALSE)),\"DNS\",VLOOKUP($A28,'Last Race Results'!$A$5:$J$44,2,FALSE)))","v":12},{"$f":"IF('Last Race Results'!$B$5=0,0,IF(ISNA(VLOOKUP($A28,'Last Race Results'!$A$5:$J$44,11,FALSE)),0,VLOOKUP($A28,'Last Race Results'!$A$5:$J$44,11,FALSE)))","v":{"$error":"#REF!"}}]
[22,{"$f":"IF(ISNA(VLOOKUP($A29,'Entry List'!$A$1:$F$61,B$5,FALSE)),\"\",VLOOKUP($A29,'Entry List'!$A$1:$F$61,B$5,FALSE))","v":"Joey Logano"},{"$f":"IF(ISNA(VLOOKUP($A29,'Entry List'!$A$1:$F$61,C$5,FALSE)),\"\",VLOOKUP($A29,'Entry List'!$A$1:$F$61,C$5,FALSE))","v":"Ford"},{"$f":"IF(ISNA(VLOOKUP($A29,'Entry List'!$A$1:$F$61,D$5,FALSE)),\"\",VLOOKUP($A29,'Entry List'!$A$1:$F$61,D$5,FALSE))","v":"Team Penske"},{"$f":"IF(ISNA(VLOOKUP($A29,'Entry List'!$A$1:$F$61,E$5,FALSE)),\"\",VLOOKUP($A29,'Entry List'!$A$1:$F$61,E$5,FALSE))","v":"Team Penske"},null,26,30,1,52,12,29,1,52,18,22,6,39,6,49,6,49,21,29,10,27,4,51,27,10,16,34,36,20,24,13,10,27,15,37,2,52,35,2,4,44,8,29,5,35,9,37,8,37,6,45,{"$f":"IF('Last Race Results'!$B$5=0,0,IF(ISNA(VLOOKUP($A29,'Last Race Results'!$A$5:$J$44,2,FALSE)),\"DNS\",VLOOKUP($A29,'Last Race Results'!$A$5:$J$44,2,FALSE)))","v":27},{"$f":"IF('Last Race Results'!$B$5=0,0,IF(ISNA(VLOOKUP($A29,'Last Race Results'!$A$5:$K$44,11,FALSE)),0,VLOOKUP($A29,'Last Race Results'!$A$5:$K$44,11,FALSE)))","v":30},null,null,null,null,null,null,null,null,null,null,null,null,null,null,null,null,null,null,{"$f":"IF('Last Race Results'!$B$5=0,0,IF(ISNA(VLOOKUP($A29,'Last Race Results'!$A$5:$J$44,2,FALSE)),\"DNS\",VLOOKUP($A29,'Last Race Results'!$A$5:$J$44,2,FALSE)))","v":27},{"$f":"IF('Last Race Results'!$B$5=0,0,IF(ISNA(VLOOKUP($A29,'Last Race Results'!$A$5:$J$44,11,FALSE)),0,VLOOKUP($A29,'Last Race Results'!$A$5:$J$44,11,FALSE)))","v":{"$error":"#REF!"}}]
[23,{"$f":"IF(ISNA(VLOOKUP($A30,'Entry List'!$A$1:$F$61,B$5,FALSE)),\"\",VLOOKUP($A30,'Entry List'!$A$1:$F$61,B$5,FALSE))","v":""},{"$f":"IF(ISNA(VLOOKUP($A30,'Entry List'!$A$1:$F$61,C$5,FALSE)),\"\",VLOOKUP($A30,'Entry List'!$A$1:$F$61,C$5,FALSE))","v":""},{"$f":"IF(ISNA(VLOOKUP($A30,'Entry List'!$A$1:$F$61,D$5,FALSE)),\"\",VLOOKUP($A30,'Entry List'!$A$1:$F$61,D$5,FALSE))","v":""},{"$f":"IF(ISNA(VLOOKUP($A30,'Entry List'!$A$1:$F$61,E$5,FALSE)),\"\",VLOOKUP($A30,'Entry List'!$A$1:$F$61,E$5,FALSE))","v":""},null,"DNS",0,"DNS",0,"DNS",0,"DNS",0,"DNS",0,"DNS",0,"DNS",0,"DNS",0,"DNS",0,"DNS",0,"DNS",0,"DNS",0,"DNS",0,"DNS",0,"DNS",0,"DNS",0,"DNS",0,"DNS",0,"DNS",0,"DNS",0,"DNS",0,"DNS",0,"DNS",0,"DNS",0,"DNS",0,{"$f":"IF('Last Race Results'!$B$5=0,0,IF(ISNA(VLOOKUP($A30,'Last Race Results'!$A$5:$J$44,2,FALSE)),\"DNS\",VLOOKUP($A30,'Last Race Results'!$A$5:$J$44,2,FALSE)))","v":"DNS"},{"$f":"IF('Last Race Results'!$B$5=0,0,IF(ISNA(VLOOKUP($A30,'Last Race Results'!$A$5:$K$44,11,FALSE)),0,VLOOKUP($A30,'Last Race Results'!$A$5:$K$44,11,FALSE)))","v":0},null,null,null,null,null,null,null,null,null,null,null,null,null,null,null,null,null,null,{"$f":"IF('Last Race Results'!$B$5=0,0,IF(ISNA(VLOOKUP($A30,'Last Race Results'!$A$5:$J$44,2,FALSE)),\"DNS\",VLOOKUP($A30,'Last Race Results'!$A$5:$J$44,2,FALSE)))","v":"DNS"},{"$f":"IF('Last Race Results'!$B$5=0,0,IF(ISNA(VLOOKUP($A30,'Last Race Results'!$A$5:$J$44,11,FALSE)),0,VLOOKUP($A30,'Last Race Results'!$A$5:$J$44,11,FALSE)))","v":0}]
[24,{"$f":"IF(ISNA(VLOOKUP($A31,'Entry List'!$A$1:$F$61,B$5,FALSE)),\"\",VLOOKUP($A31,'Entry List'!$A$1:$F$61,B$5,FALSE))","v":"William Byron"},{"$f":"IF(ISNA(VLOOKUP($A31,'Entry List'!$A$1:$F$61,C$5,FALSE)),\"\",VLOOKUP($A31,'Entry List'!$A$1:$F$61,C$5,FALSE))","v":"Chevrolet"},{"$f":"IF(ISNA(VLOOKUP($A31,'Entry List'!$A$1:$F$61,D$5,FALSE)),\"\",VLOOKUP($A31,'Entry List'!$A$1:$F$61,D$5,FALSE))","v":"Hendrick Motorsports"},{"$f":"IF(ISNA(VLOOKUP($A31,'Entry List'!$A$1:$F$61,E$5,FALSE)),\"\",VLOOKUP($A31,'Entry List'!$A$1:$F$61,E$5,FALSE))","v":"Hendrick Motorsports"},null,40,11,22,27,15,22,10,27,35,12,12,30,12,25,12,25,8,33,33,4,8,34,9,37,11,28,14,23,7,30,27,20,11,26,4,35,10,27,11,32,14,23,12,30,8,40,28,9,4,46,{"$f":"IF('Last Race Results'!$B$5=0,0,IF(ISNA(VLOOKUP($A31,'Last Race Results'!$A$5:$J$44,2,FALSE)),\"DNS\",VLOOKUP($A31,'Last Race Results'!$A$5:$J$44,2,FALSE)))","v":1},{"$f":"IF('Last Race Results'!$B$5=0,0,IF(ISNA(VLOOKUP($A31,'Last Race Results'!$A$5:$K$44,11,FALSE)),0,VLOOKUP($A31,'Last Race Results'!$A$5:$K$44,11,FALSE)))","v":44},null,null,null,null,null,null,null,null,null,null,null,null,null,null,null,null,null,null,{"$f":"IF('Last Race Results'!$B$5=0,0,IF(ISNA(VLOOKUP($A31,'Last Race Results'!$A$5:$J$44,2,FALSE)),\"DNS\",VLOOKUP($A31,'Last Race Results'!$A$5:$J$44,2,FALSE)))","v":1},{"$f":"IF('Last Race Results'!$B$5=0,0,IF(ISNA(VLOOKUP($A31,'Last Race Results'!$A$5:$J$44,11,FALSE)),0,VLOOKUP($A31,'Last Race Results'!$A$5:$J$44,11,FALSE)))","v":{"$error":"#REF!"}}]
[25,{"$f":"IF(ISNA(VLOOKUP($A32,'Entry List'!$A$1:$F$61,B$5,FALSE)),\"\",VLOOKUP($A32,'Entry List'!$A$1:$F$61,B$5,FALSE))","v":""},{"$f":"IF(ISNA(VLOOKUP($A32,'Entry List'!$A$1:$F$61,C$5,FALSE)),\"\",VLOOKUP($A32,'Entry List'!$A$1:$F$61,C$5,FALSE))","v":""},{"$f":"IF(ISNA(VLOOKUP($A32,'Entry List'!$A$1:$F$61,D$5,FALSE)),\"\",VLOOKUP($A32,'Entry List'!$A$1:$F$61,D$5,FALSE))","v":""},{"$f":"IF(ISNA(VLOOKUP($A32,'Entry List'!$A$1:$F$61,E$5,FALSE)),\"\",VLOOKUP($A32,'Entry List'!$A$1:$F$61,E$5,FALSE))","v":""},null,"DNS",0,"DNS",0,"DNS",0,"DNS",0,"DNS",0,"DNS",0,"DNS",0,"DNS",0,"DNS",0,"DNS",0,"DNS",0,"DNS",0,"DNS",0,"DNS",0,"DNS",0,"DNS",0,"DNS",0,"DNS",0,"DNS",0,"DNS",0,"DNS",0,"DNS",0,"DNS",0,"DNS",0,"DNS",0,{"$f":"IF('Last Race Results'!$B$5=0,0,IF(ISNA(VLOOKUP($A32,'Last Race Results'!$A$5:$J$44,2,FALSE)),\"DNS\",VLOOKUP($A32,'Last Race Results'!$A$5:$J$44,2,FALSE)))","v":"DNS"},{"$f":"IF('Last Race Results'!$B$5=0,0,IF(ISNA(VLOOKUP($A32,'Last Race Results'!$A$5:$K$44,11,FALSE)),0,VLOOKUP($A32,'Last Race Results'!$A$5:$K$44,11,FALSE)))","v":0},null,null,null,null,null,null,null,null,null,null,null,null,null,null,null,null,null,null,{"$f":"IF('Last Race Results'!$B$5=0,0,IF(ISNA(VLOOKUP($A32,'Last Race Results'!$A$5:$J$44,2,FALSE)),\"DNS\",VLOOKUP($A32,'Last Race Results'!$A$5:$J$44,2,FALSE)))","v":"DNS"},{"$f":"IF('Last Race Results'!$B$5=0,0,IF(ISNA(VLOOKUP($A32,'Last Race Results'!$A$5:$J$44,11,FALSE)),0,VLOOKUP($A32,'Last Race Results'!$A$5:$J$44,11,FALSE)))","v":0}]
[26,{"$f":"IF(ISNA(VLOOKUP($A33,'Entry List'!$A$1:$F$61,B$5,FALSE)),\"\",VLOOKUP($A33,'Entry List'!$A$1:$F$61,B$5,FALSE))","v":""},{"$f":"IF(ISNA(VLOOKUP($A33,'Entry List'!$A$1:$F$61,C$5,FALSE)),\"\",VLOOKUP($A33,'Entry List'!$A$1:$F$61,C$5,FALSE))","v":""},{"$f":"IF(ISNA(VLOOKUP($A33,'Entry List'!$A$1:$F$61,D$5,FALSE)),\"\",VLOOKUP($A33,'Entry List'!$A$1:$F$61,D$5,FALSE))","v":""},{"$f":"IF(ISNA(VLOOKUP($A33,'Entry List'!$A$1:$F$61,E$5,FALSE)),\"\",VLOOKUP($A33,'Entry List'!$A$1:$F$61,E$5,FALSE))","v":""},null,"DNS",0,"DNS",0,"DNS",0,"DNS",0,"DNS",0,"DNS",0,"DNS",0,"DNS",0,"DNS",0,"DNS",0,"DNS",0,"DNS",0,"DNS",0,"DNS",0,"DNS",0,"DNS",0,"DNS",0,"DNS",0,"DNS",0,"DNS",0,"DNS",0,"DNS",0,"DNS",0,"DNS",0,"DNS",0,{"$f":"IF('Last Race Results'!$B$5=0,0,IF(ISNA(VLOOKUP($A33,'Last Race Results'!$A$5:$J$44,2,FALSE)),\"DNS\",VLOOKUP($A33,'Last Race Results'!$A$5:$J$44,2,FALSE)))","v":"DNS"},{"$f":"IF('Last Race Results'!$B$5=0,0,IF(ISNA(VLOOKUP($A33,'Last Race Results'!$A$5:$K$44,11,FALSE)),0,VLOOKUP($A33,'Last Race Results'!$A$5:$K$44,11,FALSE)))","v":0},null,null,null,null,null,null,null,null,null,null,null,null,null,null,null,null,null,null,{"$f":"IF('Last Race Results'!$B$5=0,0,IF(ISNA(VLOOKUP($A33,'Last Race Results'!$A$5:$J$44,2,FALSE)),\"DNS\",VLOOKUP($A33,'Last Race Results'!$A$5:$J$44,2,FALSE)))","v":"DNS"},{"$f":"IF('Last Race Results'!$B$5=0,0,IF(ISNA(VLOOKUP($A33,'Last Race Results'!$A$5:$J$44,11,FALSE)),0,VLOOKUP($A33,'Last Race Results'!$A$5:$J$44,11,FALSE)))","v":0}]
[27,{"$f":"IF(ISNA(VLOOKUP($A34,'Entry List'!$A$1:$F$61,B$5,FALSE)),\"\",VLOOKUP($A34,'Entry List'!$A$1:$F$61,B$5,FALSE))","v":""},{"$f":"IF(ISNA(VLOOKUP($A34,'Entry List'!$A$1:$F$61,C$5,FALSE)),\"\",VLOOKUP($A34,'Entry List'!$A$1:$F$61,C$5,FALSE))","v":""},{"$f":"IF(ISNA(VLOOKUP($A34,'Entry List'!$A$1:$F$61,D$5,FALSE)),\"\",VLOOKUP($A34,'Entry List'!$A$1:$F$61,D$5,FALSE))","v":""},{"$f":"IF(ISNA(VLOOKUP($A34,'Entry List'!$A$1:$F$61,E$5,FALSE)),\"\",VLOOKUP($A34,'Entry List'!$A$1:$F$61,E$5,FALSE))","v":""},null,31,6,"DNS",0,"DNS",0,"DNS",0,28,9,32,5,30,7,30,7,30,7,34,3,31,6,"DNS",0,30,7,31,6,28,9,21,16,30,0,24,13,22,0,29,8,26,11,29,8,34,3,31,6,38,1,{"$f":"IF('Last Race Results'!$B$5=0,0,IF(ISNA(VLOOKUP($A34,'Last Race Results'!$A$5:$J$44,2,FALSE)),\"DNS\",VLOOKUP($A34,'Last Race Results'!$A$5:$J$44,2,FALSE)))","v":40},{"$f":"IF('Last Race Results'!$B$5=0,0,IF(ISNA(VLOOKUP($A34,'Last Race Results'!$A$5:$K$44,11,FALSE)),0,VLOOKUP($A34,'Last Race Results'!$A$5:$K$44,11,FALSE)))","v":1},null,null,null,null,null,null,null,null,null,null,null,null,null,null,null,null,null,null,{"$f":"IF('Last Race Results'!$B$5=0,0,IF(ISNA(VLOOKUP($A34,'Last Race Results'!$A$5:$J$44,2,FALSE)),\"DNS\",VLOOKUP($A34,'Last Race Results'!$A$5:$J$44,2,FALSE)))","v":40},{"$f":"IF('Last Race Results'!$B$5=0,0,IF(ISNA(VLOOKUP($A34,'Last Race Results'!$A$5:$J$44,11,FALSE)),0,VLOOKUP($A34,'Last Race Results'!$A$5:$J$44,11,FALSE)))","v":{"$error":"#REF!"}}]
[28,{"$f":"IF(ISNA(VLOOKUP($A35,'Entry List'!$A$1:$F$61,B$5,FALSE)),\"\",VLOOKUP($A35,'Entry List'!$A$1:$F$61,B$5,FALSE))","v":""},{"$f":"IF(ISNA(VLOOKUP($A35,'Entry List'!$A$1:$F$61,C$5,FALSE)),\"\",VLOOKUP($A35,'Entry List'!$A$1:$F$61,C$5,FALSE))","v":""},{"$f":"IF(ISNA(VLOOKUP($A35,'Entry List'!$A$1:$F$61,D$5,FALSE)),\"\",VLOOKUP($A35,'Entry List'!$A$1:$F$61,D$5,FALSE))","v":""},{"$f":"IF(ISNA(VLOOKUP($A35,'Entry List'!$A$1:$F$61,E$5,FALSE)),\"\",VLOOKUP($A35,'Entry List'!$A$1:$F$61,E$5,FALSE))","v":""},null,"DNS",0,"DNS",0,"DNS",0,"DNS",0,"DNS",0,"DNS",0,"DNS",0,"DNS",0,"DNS",0,"DNS",0,"DNS",0,"DNS",0,"DNS",0,"DNS",0,"DNS",0,"DNS",0,"DNS",0,"DNS",0,"DNS",0,"DNS",0,"DNS",0,"DNS",0,"DNS",0,"DNS",0,"DNS",0,{"$f":"IF('Last Race Results'!$B$5=0,0,IF(ISNA(VLOOKUP($A35,'Last Race Results'!$A$5:$J$44,2,FALSE)),\"DNS\",VLOOKUP($A35,'Last Race Results'!$A$5:$J$44,2,FALSE)))","v":"DNS"},{"$f":"IF('Last Race Results'!$B$5=0,0,IF(ISNA(VLOOKUP($A35,'Last Race Results'!$A$5:$K$44,11,FALSE)),0,VLOOKUP($A35,'Last Race Results'!$A$5:$K$44,11,FALSE)))","v":0},null,null,null,null,null,null,null,null,null,null,null,null,null,null,null,null,null,null,{"$f":"IF('Last Race Results'!$B$5=0,0,IF(ISNA(VLOOKUP($A35,'Last Race Results'!$A$5:$J$44,2,FALSE)),\"DNS\",VLOOKUP($A35,'Last Race Results'!$A$5:$J$44,2,FALSE)))","v":"DNS"},{"$f":"IF('Last Race Results'!$B$5=0,0,IF(ISNA(VLOOKUP($A35,'Last Race Results'!$A$5:$J$44,11,FALSE)),0,VLOOKUP($A35,'Last Race Results'!$A$5:$J$44,11,FALSE)))","v":0}]
[29,{"$f":"IF(ISNA(VLOOKUP($A36,'Entry List'!$A$1:$F$61,B$5,FALSE)),\"\",VLOOKUP($A36,'Entry List'!$A$1:$F$61,B$5,FALSE))","v":""},{"$f":"IF(ISNA(VLOOKUP($A36,'Entry List'!$A$1:$F$61,C$5,FALSE)),\"\",VLOOKUP($A36,'Entry List'!$A$1:$F$61,C$5,FALSE))","v":""},{"$f":"IF(ISNA(VLOOKUP($A36,'Entry List'!$A$1:$F$61,D$5,FALSE)),\"\",VLOOKUP($A36,'Entry List'!$A$1:$F$61,D$5,FALSE))","v":""},{"$f":"IF(ISNA(VLOOKUP($A36,'Entry List'!$A$1:$F$61,E$5,FALSE)),\"\",VLOOKUP($A36,'Entry List'!$A$1:$F$61,E$5,FALSE))","v":""},null,"DNS",0,"DNS",0,"DNS",0,"DNS",0,"DNS",0,"DNS",0,"DNS",0,"DNS",0,"DNS",0,"DNS",0,"DNS",0,"DNS",0,"DNS",0,"DNS",0,"DNS",0,"DNS",0,"DNS",0,"DNS",0,"DNS",0,"DNS",0,"DNS",0,"DNS",0,"DNS",0,"DNS",0,"DNS",0,{"$f":"IF('Last Race Results'!$B$5=0,0,IF(ISNA(VLOOKUP($A36,'Last Race Results'!$A$5:$J$44,2,FALSE)),\"DNS\",VLOOKUP($A36,'Last Race Results'!$A$5:$J$44,2,FALSE)))","v":"DNS"},{"$f":"IF('Last Race Results'!$B$5=0,0,IF(ISNA(VLOOKUP($A36,'Last Race Results'!$A$5:$K$44,11,FALSE)),0,VLOOKUP($A36,'Last Race Results'!$A$5:$K$44,11,FALSE)))","v":0},null,null,null,null,null,null,null,null,null,null,null,null,null,null,null,null,null,null,{"$f":"IF('Last Race Results'!$B$5=0,0,IF(ISNA(VLOOKUP($A36,'Last Race Results'!$A$5:$J$44,2,FALSE)),\"DNS\",VLOOKUP($A36,'Last Race Results'!$A$5:$J$44,2,FALSE)))","v":"DNS"},{"$f":"IF('Last Race Results'!$B$5=0,0,IF(ISNA(VLOOKUP($A36,'Last Race Results'!$A$5:$J$44,11,FALSE)),0,VLOOKUP($A36,'Last Race Results'!$A$5:$J$44,11,FALSE)))","v":0}]
[30,{"$f":"IF(ISNA(VLOOKUP($A37,'Entry List'!$A$1:$F$61,B$5,FALSE)),\"\",VLOOKUP($A37,'Entry List'!$A$1:$F$61,B$5,FALSE))","v":""},{"$f":"IF(ISNA(VLOOKUP($A37,'Entry List'!$A$1:$F$61,C$5,FALSE)),\"\",VLOOKUP($A37,'Entry List'!$A$1:$F$61,C$5,FALSE))","v":""},{"$f":"IF(ISNA(VLOOKUP($A37,'Entry List'!$A$1:$F$61,D$5,FALSE)),\"\",VLOOKUP($A37,'Entry List'!$A$1:$F$61,D$5,FALSE))","v":""},{"$f":"IF(ISNA(VLOOKUP($A37,'Entry List'!$A$1:$F$61,E$5,FALSE)),\"\",VLOOKUP($A37,'Entry List'!$A$1:$F$61,E$5,FALSE))","v":""},null,"DNS",0,"DNS",0,"DNS",0,"DNS",0,"DNS",0,"DNS",0,"DNS",0,"DNS",0,"DNS",0,"DNS",0,"DNS",0,"DNS",0,"DNS",0,"DNS",0,"DNS",0,"DNS",0,"DNS",0,"DNS",0,"DNS",0,"DNS",0,"DNS",0,"DNS",0,"DNS",0,"DNS",0,"DNS",0,{"$f":"IF('Last Race Results'!$B$5=0,0,IF(ISNA(VLOOKUP($A37,'Last Race Results'!$A$5:$J$44,2,FALSE)),\"DNS\",VLOOKUP($A37,'Last Race Results'!$A$5:$J$44,2,FALSE)))","v":"DNS"},{"$f":"IF('Last Race Results'!$B$5=0,0,IF(ISNA(VLOOKUP($A37,'Last Race Results'!$A$5:$K$44,11,FALSE)),0,VLOOKUP($A37,'Last Race Results'!$A$5:$K$44,11,FALSE)))","v":0},null,null,null,null,null,null,null,null,null,null,null,null,null,null,null,null,null,null,{"$f":"IF('Last Race Results'!$B$5=0,0,IF(ISNA(VLOOKUP($A37,'Last Race Results'!$A$5:$J$44,2,FALSE)),\"DNS\",VLOOKUP($A37,'Last Race Results'!$A$5:$J$44,2,FALSE)))","v":"DNS"},{"$f":"IF('Last Race Results'!$B$5=0,0,IF(ISNA(VLOOKUP($A37,'Last Race Results'!$A$5:$J$44,11,FALSE)),0,VLOOKUP($A37,'Last Race Results'!$A$5:$J$44,11,FALSE)))","v":0}]
[31,{"$f":"IF(ISNA(VLOOKUP($A38,'Entry List'!$A$1:$F$61,B$5,FALSE)),\"\",VLOOKUP($A38,'Entry List'!$A$1:$F$61,B$5,FALSE))","v":""},{"$f":"IF(ISNA(VLOOKUP($A38,'Entry List'!$A$1:$F$61,C$5,FALSE)),\"\",VLOOKUP($A38,'Entry List'!$A$1:$F$61,C$5,FALSE))","v":""},{"$f":"IF(ISNA(VLOOKUP($A38,'Entry List'!$A$1:$F$61,D$5,FALSE)),\"\",VLOOKUP($A38,'Entry List'!$A$1:$F$61,D$5,FALSE))","v":""},{"$f":"IF(ISNA(VLOOKUP($A38,'Entry List'!$A$1:$F$61,E$5,FALSE)),\"\",VLOOKUP($A38,'Entry List'!$A$1:$F$61,E$5,FALSE))","v":""},null,"DNS",0,"DNS",0,"DNS",0,"DNS",0,"DNS",0,"DNS",0,"DNS",0,"DNS",0,"DNS",0,"DNS",0,"DNS",0,"DNS",0,"DNS",0,"DNS",0,"DNS",0,"DNS",0,"DNS",0,"DNS",0,"DNS",0,"DNS",0,"DNS",0,"DNS",0,"DNS",0,"DNS",0,"DNS",0,{"$f":"IF('Last Race Results'!$B$5=0,0,IF(ISNA(VLOOKUP($A38,'Last Race Results'!$A$5:$J$44,2,FALSE)),\"DNS\",VLOOKUP($A38,'Last Race Results'!$A$5:$J$44,2,FALSE)))","v":"DNS"},{"$f":"IF('Last Race Results'!$B$5=0,0,IF(ISNA(VLOOKUP($A38,'Last Race Results'!$A$5:$K$44,11,FALSE)),0,VLOOKUP($A38,'Last Race Results'!$A$5:$K$44,11,FALSE)))","v":0},null,null,null,null,null,null,null,null,null,null,null,null,null,null,null,null,null,null,{"$f":"IF('Last Race Results'!$B$5=0,0,IF(ISNA(VLOOKUP($A38,'Last Race Results'!$A$5:$J$44,2,FALSE)),\"DNS\",VLOOKUP($A38,'Last Race Results'!$A$5:$J$44,2,FALSE)))","v":"DNS"},{"$f":"IF('Last Race Results'!$B$5=0,0,IF(ISNA(VLOOKUP($A38,'Last Race Results'!$A$5:$J$44,11,FALSE)),0,VLOOKUP($A38,'Last Race Results'!$A$5:$J$44,11,FALSE)))","v":0}]
[32,{"$f":"IF(ISNA(VLOOKUP($A39,'Entry List'!$A$1:$F$61,B$5,FALSE)),\"\",VLOOKUP($A39,'Entry List'!$A$1:$F$61,B$5,FALSE))","v":"Corey LaJoie"},{"$f":"IF(ISNA(VLOOKUP($A39,'Entry List'!$A$1:$F$61,C$5,FALSE)),\"\",VLOOKUP($A39,'Entry List'!$A$1:$F$61,C$5,FALSE))","v":"Ford"},{"$f":"IF(ISNA(VLOOKUP($A39,'Entry List'!$A$1:$F$61,D$5,FALSE)),\"\",VLOOKUP($A39,'Entry List'!$A$1:$F$61,D$5,FALSE))","v":"Go Fas Racing"},{"$f":"IF(ISNA(VLOOKUP($A39,'Entry List'!$A$1:$F$61,E$5,FALSE)),\"\",VLOOKUP($A39,'Entry List'!$A$1:$F$61,E$5,FALSE))","v":"Go Fas Racing"},null,8,29,16,21,29,8,27,10,31,6,24,13,19,18,19,18,32,5,27,10,18,19,29,8,17,20,23,14,21,16,39,1,28,9,19,18,21,16,35,2,22,15,22,15,32,6,29,8,23,14,{"$f":"IF('Last Race Results'!$B$5=0,0,IF(ISNA(VLOOKUP($A39,'Last Race Results'!$A$5:$J$44,2,FALSE)),\"DNS\",VLOOKUP($A39,'Last Race Results'!$A$5:$J$44,2,FALSE)))","v":21},{"$f":"IF('Last Race Results'!$B$5=0,0,IF(ISNA(VLOOKUP($A39,'Last Race Results'!$A$5:$K$44,11,FALSE)),0,VLOOKUP($A39,'Last Race Results'!$A$5:$K$44,11,FALSE)))","v":16},null,null,null,null,null,null,null,null,null,null,null,null,null,null,null,null,null,null,{"$f":"IF('Last Race Results'!$B$5=0,0,IF(ISNA(VLOOKUP($A39,'Last Race Results'!$A$5:$J$44,2,FALSE)),\"DNS\",VLOOKUP($A39,'Last Race Results'!$A$5:$J$44,2,FALSE)))","v":21},{"$f":"IF('Last Race Results'!$B$5=0,0,IF(ISNA(VLOOKUP($A39,'Last Race Results'!$A$5:$J$44,11,FALSE)),0,VLOOKUP($A39,'Last Race Results'!$A$5:$J$44,11,FALSE)))","v":{"$error":"#REF!"}}]
[33,{"$f":"IF(ISNA(VLOOKUP($A40,'Entry List'!$A$1:$F$61,B$5,FALSE)),\"\",VLOOKUP($A40,'Entry List'!$A$1:$F$61,B$5,FALSE))","v":""},{"$f":"IF(ISNA(VLOOKUP($A40,'Entry List'!$A$1:$F$61,C$5,FALSE)),\"\",VLOOKUP($A40,'Entry List'!$A$1:$F$61,C$5,FALSE))","v":""},{"$f":"IF(ISNA(VLOOKUP($A40,'Entry List'!$A$1:$F$61,D$5,FALSE)),\"\",VLOOKUP($A40,'Entry List'!$A$1:$F$61,D$5,FALSE))","v":""},{"$f":"IF(ISNA(VLOOKUP($A40,'Entry List'!$A$1:$F$61,E$5,FALSE)),\"\",VLOOKUP($A40,'Entry List'!$A$1:$F$61,E$5,FALSE))","v":""},null,"DNS",0,"DNS",0,"DNS",0,"DNS",0,"DNS",0,"DNS",0,"DNS",0,"DNS",0,"DNS",0,"DNS",0,"DNS",0,"DNS",0,"DNS",0,"DNS",0,"DNS",0,"DNS",0,"DNS",0,"DNS",0,"DNS",0,"DNS",0,"DNS",0,"DNS",0,"DNS",0,"DNS",0,"DNS",0,{"$f":"IF('Last Race Results'!$B$5=0,0,IF(ISNA(VLOOKUP($A40,'Last Race Results'!$A$5:$J$44,2,FALSE)),\"DNS\",VLOOKUP($A40,'Last Race Results'!$A$5:$J$44,2,FALSE)))","v":"DNS"},{"$f":"IF('Last Race Results'!$B$5=0,0,IF(ISNA(VLOOKUP($A40,'Last Race Results'!$A$5:$K$44,11,FALSE)),0,VLOOKUP($A40,'Last Race Results'!$A$5:$K$44,11,FALSE)))","v":0},null,null,null,null,null,null,null,null,null,null,null,null,null,null,null,null,null,null,{"$f":"IF('Last Race Results'!$B$5=0,0,IF(ISNA(VLOOKUP($A40,'Last Race Results'!$A$5:$J$44,2,FALSE)),\"DNS\",VLOOKUP($A40,'Last Race Results'!$A$5:$J$44,2,FALSE)))","v":"DNS"},{"$f":"IF('Last Race Results'!$B$5=0,0,IF(ISNA(VLOOKUP($A40,'Last Race Results'!$A$5:$J$44,11,FALSE)),0,VLOOKUP($A40,'Last Race Results'!$A$5:$J$44,11,FALSE)))","v":0}]
[34,{"$f":"IF(ISNA(VLOOKUP($A41,'Entry List'!$A$1:$F$61,B$5,FALSE)),\"\",VLOOKUP($A41,'Entry List'!$A$1:$F$61,B$5,FALSE))","v":"Michael McDowell"},{"$f":"IF(ISNA(VLOOKUP($A41,'Entry List'!$A$1:$F$61,C$5,FALSE)),\"\",VLOOKUP($A41,'Entry List'!$A$1:$F$61,C$5,FALSE))","v":"Ford"},{"$f":"IF(ISNA(VLOOKUP($A41,'Entry List'!$A$1:$F$61,D$5,FALSE)),\"\",VLOOKUP($A41,'Entry List'!$A$1:$F$61,D$5,FALSE))","v":"Front Row Motorsports"},{"$f":"IF(ISNA(VLOOKUP($A41,'Entry List'!$A$1:$F$61,E$5,FALSE)),\"\",VLOOKUP($A41,'Entry List'!$A$1:$F$61,E$5,FALSE))","v":"Front Row Motorsports"},null,14,23,36,1,22,15,16,21,23,14,17,20,25,12,25,12,14,23,24,13,14,23,15,22,18,19,8,29,40,1,7,30,24,13,17,20,16,21,19,18,29,8,28,9,10,27,26,11,25,12,{"$f":"IF('Last Race Results'!$B$5=0,0,IF(ISNA(VLOOKUP($A41,'Last Race Results'!$A$5:$J$44,2,FALSE)),\"DNS\",VLOOKUP($A41,'Last Race Results'!$A$5:$J$44,2,FALSE)))","v":14},{"$f":"IF('Last Race Results'!$B$5=0,0,IF(ISNA(VLOOKUP($A41,'Last Race Results'!$A$5:$K$44,11,FALSE)),0,VLOOKUP($A41,'Last Race Results'!$A$5:$K$44,11,FALSE)))","v":26},null,null,null,null,null,null,null,null,null,null,null,null,null,null,null,null,null,null,{"$f":"IF('Last Race Results'!$B$5=0,0,IF(ISNA(VLOOKUP($A41,'Last Race Results'!$A$5:$J$44,2,FALSE)),\"DNS\",VLOOKUP($A41,'Last Race Results'!$A$5:$J$44,2,FALSE)))","v":14},{"$f":"IF('Last Race Results'!$B$5=0,0,IF(ISNA(VLOOKUP($A41,'Last Race Results'!$A$5:$J$44,11,FALSE)),0,VLOOKUP($A41,'Last Race Results'!$A$5:$J$44,11,FALSE)))","v":{"$error":"#REF!"}}]
[35,{"$f":"IF(ISNA(VLOOKUP($A42,'Entry List'!$A$1:$F$61,B$5,FALSE)),\"\",VLOOKUP($A42,'Entry List'!$A$1:$F$61,B$5,FALSE))","v":""},{"$f":"IF(ISNA(VLOOKUP($A42,'Entry List'!$A$1:$F$61,C$5,FALSE)),\"\",VLOOKUP($A42,'Entry List'!$A$1:$F$61,C$5,FALSE))","v":""},{"$f":"IF(ISNA(VLOOKUP($A42,'Entry List'!$A$1:$F$61,D$5,FALSE)),\"\",VLOOKUP($A42,'Entry List'!$A$1:$F$61,D$5,FALSE))","v":""},{"$f":"IF(ISNA(VLOOKUP($A42,'Entry List'!$A$1:$F$61,E$5,FALSE)),\"\",VLOOKUP($A42,'Entry List'!$A$1:$F$61,E$5,FALSE))","v":""},null,"DNS",0,"DNS",0,"DNS",0,"DNS",0,"DNS",0,"DNS",0,"DNS",0,"DNS",0,"DNS",0,"DNS",0,"DNS",0,"DNS",0,"DNS",0,"DNS",0,"DNS",0,"DNS",0,"DNS",0,"DNS",0,"DNS",0,"DNS",0,"DNS",0,"DNS",0,"DNS",0,"DNS",0,"DNS",0,{"$f":"IF('Last Race Results'!$B$5=0,0,IF(ISNA(VLOOKUP($A42,'Last Race Results'!$A$5:$J$44,2,FALSE)),\"DNS\",VLOOKUP($A42,'Last Race Results'!$A$5:$J$44,2,FALSE)))","v":"DNS"},{"$f":"IF('Last Race Results'!$B$5=0,0,IF(ISNA(VLOOKUP($A42,'Last Race Results'!$A$5:$K$44,11,FALSE)),0,VLOOKUP($A42,'Last Race Results'!$A$5:$K$44,11,FALSE)))","v":0},null,null,null,null,null,null,null,null,null,null,null,null,null,null,null,null,null,null,{"$f":"IF('Last Race Results'!$B$5=0,0,IF(ISNA(VLOOKUP($A42,'Last Race Results'!$A$5:$J$44,2,FALSE)),\"DNS\",VLOOKUP($A42,'Last Race Results'!$A$5:$J$44,2,FALSE)))","v":"DNS"},{"$f":"IF('Last Race Results'!$B$5=0,0,IF(ISNA(VLOOKUP($A42,'Last Race Results'!$A$5:$J$44,11,FALSE)),0,VLOOKUP($A42,'Last Race Results'!$A$5:$J$44,11,FALSE)))","v":0}]
[36,{"$f":"IF(ISNA(VLOOKUP($A43,'Entry List'!$A$1:$F$61,B$5,FALSE)),\"\",VLOOKUP($A43,'Entry List'!$A$1:$F$61,B$5,FALSE))","v":""},{"$f":"IF(ISNA(VLOOKUP($A43,'Entry List'!$A$1:$F$61,C$5,FALSE)),\"\",VLOOKUP($A43,'Entry List'!$A$1:$F$61,C$5,FALSE))","v":""},{"$f":"IF(ISNA(VLOOKUP($A43,'Entry List'!$A$1:$F$61,D$5,FALSE)),\"\",VLOOKUP($A43,'Entry List'!$A$1:$F$61,D$5,FALSE))","v":""},{"$f":"IF(ISNA(VLOOKUP($A43,'Entry List'!$A$1:$F$61,E$5,FALSE)),\"\",VLOOKUP($A43,'Entry List'!$A$1:$F$61,E$5,FALSE))","v":""},null,4,33,"DNS",0,"DNS",0,"DNS",0,"DNS",0,"DNS",0,"DNS",0,"DNS",0,"DNS",0,"DNS",0,"DNS",0,"DNS",0,"DNS",0,"DNS",0,"DNS",0,"DNS",0,"DNS",0,32,5,"DNS",0,"DNS",0,"DNS",0,"DNS",0,"DNS",0,"DNS",0,"DNS",0,{"$f":"IF('Last Race Results'!$B$5=0,0,IF(ISNA(VLOOKUP($A43,'Last Race Results'!$A$5:$J$44,2,FALSE)),\"DNS\",VLOOKUP($A43,'Last Race Results'!$A$5:$J$44,2,FALSE)))","v":"DNS"},{"$f":"IF('Last Race Results'!$B$5=0,0,IF(ISNA(VLOOKUP($A43,'Last Race Results'!$A$5:$K$44,11,FALSE)),0,VLOOKUP($A43,'Last Race Results'!$A$5:$K$44,11,FALSE)))","v":0},null,null,null,null,null,null,null,null,null,null,null,null,null,null,null,null,null,null,{"$f":"IF('Last Race Results'!$B$5=0,0,IF(ISNA(VLOOKUP($A43,'Last Race Results'!$A$5:$J$44,2,FALSE)),\"DNS\",VLOOKUP($A43,'Last Race Results'!$A$5:$J$44,2,FALSE)))","v":"DNS"},{"$f":"IF('Last Race Results'!$B$5=0,0,IF(ISNA(VLOOKUP($A43,'Last Race Results'!$A$5:$J$44,11,FALSE)),0,VLOOKUP($A43,'Last Race Results'!$A$5:$J$44,11,FALSE)))","v":0}]
[37,{"$f":"IF(ISNA(VLOOKUP($A44,'Entry List'!$A$1:$F$61,B$5,FALSE)),\"\",VLOOKUP($A44,'Entry List'!$A$1:$F$61,B$5,FALSE))","v":"Ryan Preece"},{"$f":"IF(ISNA(VLOOKUP($A44,'Entry List'!$A$1:$F$61,C$5,FALSE)),\"\",VLOOKUP($A44,'Entry List'!$A$1:$F$61,C$5,FALSE))","v":"Chevrolet"},{"$f":"IF(ISNA(VLOOKUP($A44,'Entry List'!$A$1:$F$61,D$5,FALSE)),\"\",VLOOKUP($A44,'Entry List'!$A$1:$F$61,D$5,FALSE))","v":"JTG Daugherty Racing"},{"$f":"IF(ISNA(VLOOKUP($A44,'Entry List'!$A$1:$F$61,E$5,FALSE)),\"\",VLOOKUP($A44,'Entry List'!$A$1:$F$61,E$5,FALSE))","v":"JTG Daugherty Racing"},null,29,8,37,1,30,7,18,19,20,21,39,2,24,13,24,13,12,25,26,11,26,11,24,13,15,22,20,17,25,12,40,1,38,1,15,23,34,3,16,23,25,12,16,21,23,20,25,12,26,11,{"$f":"IF('Last Race Results'!$B$5=0,0,IF(ISNA(VLOOKUP($A44,'Last Race Results'!$A$5:$J$44,2,FALSE)),\"DNS\",VLOOKUP($A44,'Last Race Results'!$A$5:$J$44,2,FALSE)))","v":37},{"$f":"IF('Last Race Results'!$B$5=0,0,IF(ISNA(VLOOKUP($A44,'Last Race Results'!$A$5:$K$44,11,FALSE)),0,VLOOKUP($A44,'Last Race Results'!$A$5:$K$44,11,FALSE)))","v":1},null,null,null,null,null,null,null,null,null,null,null,null,null,null,null,null,null,null,{"$f":"IF('Last Race Results'!$B$5=0,0,IF(ISNA(VLOOKUP($A44,'Last Race Results'!$A$5:$J$44,2,FALSE)),\"DNS\",VLOOKUP($A44,'Last Race Results'!$A$5:$J$44,2,FALSE)))","v":37},{"$f":"IF('Last Race Results'!$B$5=0,0,IF(ISNA(VLOOKUP($A44,'Last Race Results'!$A$5:$J$44,11,FALSE)),0,VLOOKUP($A44,'Last Race Results'!$A$5:$J$44,11,FALSE)))","v":{"$error":"#REF!"}}]
[38,{"$f":"IF(ISNA(VLOOKUP($A45,'Entry List'!$A$1:$F$61,B$5,FALSE)),\"\",VLOOKUP($A45,'Entry List'!$A$1:$F$61,B$5,FALSE))","v":"John Hunter Nemechek (R)"},{"$f":"IF(ISNA(VLOOKUP($A45,'Entry List'!$A$1:$F$61,C$5,FALSE)),\"\",VLOOKUP($A45,'Entry List'!$A$1:$F$61,C$5,FALSE))","v":"Ford"},{"$f":"IF(ISNA(VLOOKUP($A45,'Entry List'!$A$1:$F$61,D$5,FALSE)),\"\",VLOOKUP($A45,'Entry List'!$A$1:$F$61,D$5,FALSE))","v":"Front Row Motorsports"},{"$f":"IF(ISNA(VLOOKUP($A45,'Entry List'!$A$1:$F$61,E$5,FALSE)),\"\",VLOOKUP($A45,'Entry List'!$A$1:$F$61,E$5,FALSE))","v":"Front Row Motorsports"},null,11,26,24,13,25,12,25,12,9,28,35,2,13,27,13,27,13,24,23,14,25,12,19,18,8,29,24,13,19,18,15,22,36,1,20,17,19,18,36,1,36,1,23,14,35,2,24,13,20,17,{"$f":"IF('Last Race Results'!$B$5=0,0,IF(ISNA(VLOOKUP($A45,'Last Race Results'!$A$5:$J$44,2,FALSE)),\"DNS\",VLOOKUP($A45,'Last Race Results'!$A$5:$J$44,2,FALSE)))","v":11},{"$f":"IF('Last Race Results'!$B$5=0,0,IF(ISNA(VLOOKUP($A45,'Last Race Results'!$A$5:$K$44,11,FALSE)),0,VLOOKUP($A45,'Last Race Results'!$A$5:$K$44,11,FALSE)))","v":26},null,null,null,null,null,null,null,null,null,null,null,null,null,null,null,null,null,null,{"$f":"IF('Last Race Results'!$B$5=0,0,IF(ISNA(VLOOKUP($A45,'Last Race Results'!$A$5:$J$44,2,FALSE)),\"DNS\",VLOOKUP($A45,'Last Race Results'!$A$5:$J$44,2,FALSE)))","v":11},{"$f":"IF('Last Race Results'!$B$5=0,0,IF(ISNA(VLOOKUP($A45,'Last Race Results'!$A$5:$J$44,11,FALSE)),0,VLOOKUP($A45,'Last Race Results'!$A$5:$J$44,11,FALSE)))","v":{"$error":"#REF!"}}]
[39,{"$f":"IF(ISNA(VLOOKUP($A46,'Entry List'!$A$1:$F$61,B$5,FALSE)),\"\",VLOOKUP($A46,'Entry List'!$A$1:$F$61,B$5,FALSE))","v":""},{"$f":"IF(ISNA(VLOOKUP($A46,'Entry List'!$A$1:$F$61,C$5,FALSE)),\"\",VLOOKUP($A46,'Entry List'!$A$1:$F$61,C$5,FALSE))","v":""},{"$f":"IF(ISNA(VLOOKUP($A46,'Entry List'!$A$1:$F$61,D$5,FALSE)),\"\",VLOOKUP($A46,'Entry List'!$A$1:$F$61,D$5,FALSE))","v":""},{"$f":"IF(ISNA(VLOOKUP($A46,'Entry List'!$A$1:$F$61,E$5,FALSE)),\"\",VLOOKUP($A46,'Entry List'!$A$1:$F$61,E$5,FALSE))","v":""},null,"DNS",0,"DNS",0,"DNS",0,"DNS",0,"DNS",0,"DNS",0,"DNS",0,"DNS",0,"DNS",0,"DNS",0,"DNS",0,"DNS",0,"DNS",0,"DNS",0,"DNS",0,"DNS",0,"DNS",0,"DNS",0,"DNS",0,"DNS",0,"DNS",0,"DNS",0,"DNS",0,"DNS",0,"DNS",0,{"$f":"IF('Last Race Results'!$B$5=0,0,IF(ISNA(VLOOKUP($A46,'Last Race Results'!$A$5:$J$44,2,FALSE)),\"DNS\",VLOOKUP($A46,'Last Race Results'!$A$5:$J$44,2,FALSE)))","v":"DNS"},{"$f":"IF('Last Race Results'!$B$5=0,0,IF(ISNA(VLOOKUP($A46,'Last Race Results'!$A$5:$K$44,11,FALSE)),0,VLOOKUP($A46,'Last Race Results'!$A$5:$K$44,11,FALSE)))","v":0},null,null,null,null,null,null,null,null,null,null,null,null,null,null,null,null,null,null,{"$f":"IF('Last Race Results'!$B$5=0,0,IF(ISNA(VLOOKUP($A46,'Last Race Results'!$A$5:$J$44,2,FALSE)),\"DNS\",VLOOKUP($A46,'Last Race Results'!$A$5:$J$44,2,FALSE)))","v":"DNS"},{"$f":"IF('Last Race Results'!$B$5=0,0,IF(ISNA(VLOOKUP($A46,'Last Race Results'!$A$5:$J$44,11,FALSE)),0,VLOOKUP($A46,'Last Race Results'!$A$5:$J$44,11,FALSE)))","v":0}]
[40,{"$f":"IF(ISNA(VLOOKUP($A47,'Entry List'!$A$1:$F$61,B$5,FALSE)),\"\",VLOOKUP($A47,'Entry List'!$A$1:$F$61,B$5,FALSE))","v":""},{"$f":"IF(ISNA(VLOOKUP($A47,'Entry List'!$A$1:$F$61,C$5,FALSE)),\"\",VLOOKUP($A47,'Entry List'!$A$1:$F$61,C$5,FALSE))","v":""},{"$f":"IF(ISNA(VLOOKUP($A47,'Entry List'!$A$1:$F$61,D$5,FALSE)),\"\",VLOOKUP($A47,'Entry List'!$A$1:$F$61,D$5,FALSE))","v":""},{"$f":"IF(ISNA(VLOOKUP($A47,'Entry List'!$A$1:$F$61,E$5,FALSE)),\"\",VLOOKUP($A47,'Entry List'!$A$1:$F$61,E$5,FALSE))","v":""},null,"DNS",0,"DNS",0,"DNS",0,"DNS",0,"DNS",0,"DNS",0,"DNS",0,"DNS",0,"DNS",0,"DNS",0,"DNS",0,"DNS",0,"DNS",0,"DNS",0,"DNS",0,"DNS",0,"DNS",0,"DNS",0,"DNS",0,"DNS",0,"DNS",0,"DNS",0,"DNS",0,"DNS",0,"DNS",0,{"$f":"IF('Last Race Results'!$B$5=0,0,IF(ISNA(VLOOKUP($A47,'Last Race Results'!$A$5:$J$44,2,FALSE)),\"DNS\",VLOOKUP($A47,'Last Race Results'!$A$5:$J$44,2,FALSE)))","v":"DNS"},{"$f":"IF('Last Race Results'!$B$5=0,0,IF(ISNA(VLOOKUP($A47,'Last Race Results'!$A$5:$K$44,11,FALSE)),0,VLOOKUP($A47,'Last Race Results'!$A$5:$K$44,11,FALSE)))","v":0},null,null,null,null,null,null,null,null,null,null,null,null,null,null,null,null,null,null,{"$f":"IF('Last Race Results'!$B$5=0,0,IF(ISNA(VLOOKUP($A47,'Last Race Results'!$A$5:$J$44,2,FALSE)),\"DNS\",VLOOKUP($A47,'Last Race Results'!$A$5:$J$44,2,FALSE)))","v":"DNS"},{"$f":"IF('Last Race Results'!$B$5=0,0,IF(ISNA(VLOOKUP($A47,'Last Race Results'!$A$5:$J$44,11,FALSE)),0,VLOOKUP($A47,'Last Race Results'!$A$5:$J$44,11,FALSE)))","v":0}]
[41,{"$f":"IF(ISNA(VLOOKUP($A48,'Entry List'!$A$1:$F$61,B$5,FALSE)),\"\",VLOOKUP($A48,'Entry List'!$A$1:$F$61,B$5,FALSE))","v":"Cole Custer (R)"},{"$f":"IF(ISNA(VLOOKUP($A48,'Entry List'!$A$1:$F$61,C$5,FALSE)),\"\",VLOOKUP($A48,'Entry List'!$A$1:$F$61,C$5,FALSE))","v":"Ford"},{"$f":"IF(ISNA(VLOOKUP($A48,'Entry List'!$A$1:$F$61,D$5,FALSE)),\"\",VLOOKUP($A48,'Entry List'!$A$1:$F$61,D$5,FALSE))","v":"Stewart-Haas Racing"},{"$f":"IF(ISNA(VLOOKUP($A48,'Entry List'!$A$1:$F$61,E$5,FALSE)),\"\",VLOOKUP($A48,'Entry List'!$A$1:$F$61,E$5,FALSE))","v":"Stewart-Haas Racing"},null,37,7,19,18,18,19,9,29,22,15,31,6,18,19,18,19,35,2,19,18,29,8,22,15,22,18,16,21,17,21,5,32,1,48,11,31,7,30,8,29,34,3,25,12,22,17,11,26,10,30,{"$f":"IF('Last Race Results'!$B$5=0,0,IF(ISNA(VLOOKUP($A48,'Last Race Results'!$A$5:$J$44,2,FALSE)),\"DNS\",VLOOKUP($A48,'Last Race Results'!$A$5:$J$44,2,FALSE)))","v":30},{"$f":"IF('Last Race Results'!$B$5=0,0,IF(ISNA(VLOOKUP($A48,'Last Race Results'!$A$5:$K$44,11,FALSE)),0,VLOOKUP($A48,'Last Race Results'!$A$5:$K$44,11,FALSE)))","v":7},null,null,null,null,null,null,null,null,null,null,null,null,null,null,null,null,null,null,{"$f":"IF('Last Race Results'!$B$5=0,0,IF(ISNA(VLOOKUP($A48,'Last Race Results'!$A$5:$J$44,2,FALSE)),\"DNS\",VLOOKUP($A48,'Last Race Results'!$A$5:$J$44,2,FALSE)))","v":30},{"$f":"IF('Last Race Results'!$B$5=0,0,IF(ISNA(VLOOKUP($A48,'Last Race Results'!$A$5:$J$44,11,FALSE)),0,VLOOKUP($A48,'Last Race Results'!$A$5:$J$44,11,FALSE)))","v":{"$error":"#REF!"}}]
[42,{"$f":"IF(ISNA(VLOOKUP($A49,'Entry List'!$A$1:$F$61,B$5,FALSE)),\"\",VLOOKUP($A49,'Entry List'!$A$1:$F$61,B$5,FALSE))","v":"Matt Kenseth"},{"$f":"IF(ISNA(VLOOKUP($A49,'Entry List'!$A$1:$F$61,C$5,FALSE)),\"\",VLOOKUP($A49,'Entry List'!$A$1:$F$61,C$5,FALSE))","v":"Chevrolet"},{"$f":"IF(ISNA(VLOOKUP($A49,'Entry List'!$A$1:$F$61,D$5,FALSE)),\"\",VLOOKUP($A49,'Entry List'!$A$1:$F$61,D$5,FALSE))","v":"Chip Ganassi Racing"},{"$f":"IF(ISNA(VLOOKUP($A49,'Entry List'!$A$1:$F$61,E$5,FALSE)),\"\",VLOOKUP($A49,'Entry List'!$A$1:$F$61,E$5,FALSE))","v":"Chip Ganassi Racing"},null,10,35,9,35,21,16,4,35,10,27,30,9,23,14,23,14,16,21,15,22,23,14,25,12,40,1,11,26,12,25,2,40,25,12,33,4,17,20,37,1,17,20,15,22,26,11,23,14,15,22,{"$f":"IF('Last Race Results'!$B$5=0,0,IF(ISNA(VLOOKUP($A49,'Last Race Results'!$A$5:$J$44,2,FALSE)),\"DNS\",VLOOKUP($A49,'Last Race Results'!$A$5:$J$44,2,FALSE)))","v":28},{"$f":"IF('Last Race Results'!$B$5=0,0,IF(ISNA(VLOOKUP($A49,'Last Race Results'!$A$5:$K$44,11,FALSE)),0,VLOOKUP($A49,'Last Race Results'!$A$5:$K$44,11,FALSE)))","v":9},null,null,null,null,null,null,null,null,null,null,null,null,null,null,null,null,null,null,{"$f":"IF('Last Race Results'!$B$5=0,0,IF(ISNA(VLOOKUP($A49,'Last Race Results'!$A$5:$J$44,2,FALSE)),\"DNS\",VLOOKUP($A49,'Last Race Results'!$A$5:$J$44,2,FALSE)))","v":28},{"$f":"IF('Last Race Results'!$B$5=0,0,IF(ISNA(VLOOKUP($A49,'Last Race Results'!$A$5:$J$44,11,FALSE)),0,VLOOKUP($A49,'Last Race Results'!$A$5:$J$44,11,FALSE)))","v":{"$error":"#REF!"}}]
[43,{"$f":"IF(ISNA(VLOOKUP($A50,'Entry List'!$A$1:$F$61,B$5,FALSE)),\"\",VLOOKUP($A50,'Entry List'!$A$1:$F$61,B$5,FALSE))","v":"Bubba Wallace"},{"$f":"IF(ISNA(VLOOKUP($A50,'Entry List'!$A$1:$F$61,C$5,FALSE)),\"\",VLOOKUP($A50,'Entry List'!$A$1:$F$61,C$5,FALSE))","v":"Chevrolet"},{"$f":"IF(ISNA(VLOOKUP($A50,'Entry List'!$A$1:$F$61,D$5,FALSE)),\"\",VLOOKUP($A50,'Entry List'!$A$1:$F$61,D$5,FALSE))","v":"Richard Petty Motorsports"},{"$f":"IF(ISNA(VLOOKUP($A50,'Entry List'!$A$1:$F$61,E$5,FALSE)),\"\",VLOOKUP($A50,'Entry List'!$A$1:$F$61,E$5,FALSE))","v":"Richard Petty Motorsports"},null,15,28,6,31,27,10,19,18,21,16,16,21,37,1,37,1,10,27,21,16,11,37,13,24,14,27,22,15,20,17,9,28,27,10,3,34,37,1,23,14,9,28,21,16,25,12,27,10,21,16,{"$f":"IF('Last Race Results'!$B$5=0,0,IF(ISNA(VLOOKUP($A50,'Last Race Results'!$A$5:$J$44,2,FALSE)),\"DNS\",VLOOKUP($A50,'Last Race Results'!$A$5:$J$44,2,FALSE)))","v":5},{"$f":"IF('Last Race Results'!$B$5=0,0,IF(ISNA(VLOOKUP($A50,'Last Race Results'!$A$5:$K$44,11,FALSE)),0,VLOOKUP($A50,'Last Race Results'!$A$5:$K$44,11,FALSE)))","v":32},null,null,null,null,null,null,null,null,null,null,null,null,null,null,null,null,null,null,{"$f":"IF('Last Race Results'!$B$5=0,0,IF(ISNA(VLOOKUP($A50,'Last Race Results'!$A$5:$J$44,2,FALSE)),\"DNS\",VLOOKUP($A50,'Last Race Results'!$A$5:$J$44,2,FALSE)))","v":5},{"$f":"IF('Last Race Results'!$B$5=0,0,IF(ISNA(VLOOKUP($A50,'Last Race Results'!$A$5:$J$44,11,FALSE)),0,VLOOKUP($A50,'Last Race Results'!$A$5:$J$44,11,FALSE)))","v":{"$error":"#REF!"}}]
[44,{"$f":"IF(ISNA(VLOOKUP($A51,'Entry List'!$A$1:$F$61,B$5,FALSE)),\"\",VLOOKUP($A51,'Entry List'!$A$1:$F$61,B$5,FALSE))","v":""},{"$f":"IF(ISNA(VLOOKUP($A51,'Entry List'!$A$1:$F$61,C$5,FALSE)),\"\",VLOOKUP($A51,'Entry List'!$A$1:$F$61,C$5,FALSE))","v":""},{"$f":"IF(ISNA(VLOOKUP($A51,'Entry List'!$A$1:$F$61,D$5,FALSE)),\"\",VLOOKUP($A51,'Entry List'!$A$1:$F$61,D$5,FALSE))","v":""},{"$f":"IF(ISNA(VLOOKUP($A51,'Entry List'!$A$1:$F$61,E$5,FALSE)),\"\",VLOOKUP($A51,'Entry List'!$A$1:$F$61,E$5,FALSE))","v":""},null,"DNS",0,"DNS",0,"DNS",0,"DNS",0,"DNS",0,"DNS",0,"DNS",0,"DNS",0,"DNS",0,"DNS",0,"DNS",0,"DNS",0,"DNS",0,"DNS",0,"DNS",0,"DNS",0,"DNS",0,"DNS",0,"DNS",0,"DNS",0,"DNS",0,"DNS",0,"DNS",0,"DNS",0,"DNS",0,{"$f":"IF('Last Race Results'!$B$5=0,0,IF(ISNA(VLOOKUP($A51,'Last Race Results'!$A$5:$J$44,2,FALSE)),\"DNS\",VLOOKUP($A51,'Last Race Results'!$A$5:$J$44,2,FALSE)))","v":"DNS"},{"$f":"IF('Last Race Results'!$B$5=0,0,IF(ISNA(VLOOKUP($A51,'Last Race Results'!$A$5:$K$44,11,FALSE)),0,VLOOKUP($A51,'Last Race Results'!$A$5:$K$44,11,FALSE)))","v":0},null,null,null,null,null,null,null,null,null,null,null,null,null,null,null,null,null,null,{"$f":"IF('Last Race Results'!$B$5=0,0,IF(ISNA(VLOOKUP($A51,'Last Race Results'!$A$5:$J$44,2,FALSE)),\"DNS\",VLOOKUP($A51,'Last Race Results'!$A$5:$J$44,2,FALSE)))","v":"DNS"},{"$f":"IF('Last Race Results'!$B$5=0,0,IF(ISNA(VLOOKUP($A51,'Last Race Results'!$A$5:$J$44,11,FALSE)),0,VLOOKUP($A51,'Last Race Results'!$A$5:$J$44,11,FALSE)))","v":0}]
[45,{"$f":"IF(ISNA(VLOOKUP($A52,'Entry List'!$A$1:$F$61,B$5,FALSE)),\"\",VLOOKUP($A52,'Entry List'!$A$1:$F$61,B$5,FALSE))","v":""},{"$f":"IF(ISNA(VLOOKUP($A52,'Entry List'!$A$1:$F$61,C$5,FALSE)),\"\",VLOOKUP($A52,'Entry List'!$A$1:$F$61,C$5,FALSE))","v":""},{"$f":"IF(ISNA(VLOOKUP($A52,'Entry List'!$A$1:$F$61,D$5,FALSE)),\"\",VLOOKUP($A52,'Entry List'!$A$1:$F$61,D$5,FALSE))","v":""},{"$f":"IF(ISNA(VLOOKUP($A52,'Entry List'!$A$1:$F$61,E$5,FALSE)),\"\",VLOOKUP($A52,'Entry List'!$A$1:$F$61,E$5,FALSE))","v":""},null,"DNS",0,"DNS",0,"DNS",0,"DNS",0,"DNS",0,"DNS",0,"DNS",0,"DNS",0,"DNS",0,"DNS",0,"DNS",0,"DNS",0,"DNS",0,"DNS",0,"DNS",0,"DNS",0,"DNS",0,"DNS",0,"DNS",0,"DNS",0,"DNS",0,"DNS",0,"DNS",0,"DNS",0,"DNS",0,{"$f":"IF('Last Race Results'!$B$5=0,0,IF(ISNA(VLOOKUP($A52,'Last Race Results'!$A$5:$J$44,2,FALSE)),\"DNS\",VLOOKUP($A52,'Last Race Results'!$A$5:$J$44,2,FALSE)))","v":"DNS"},{"$f":"IF('Last Race Results'!$B$5=0,0,IF(ISNA(VLOOKUP($A52,'Last Race Results'!$A$5:$K$44,11,FALSE)),0,VLOOKUP($A52,'Last Race Results'!$A$5:$K$44,11,FALSE)))","v":0},null,null,null,null,null,null,null,null,null,null,null,null,null,null,null,null,null,null,{"$f":"IF('Last Race Results'!$B$5=0,0,IF(ISNA(VLOOKUP($A52,'Last Race Results'!$A$5:$J$44,2,FALSE)),\"DNS\",VLOOKUP($A52,'Last Race Results'!$A$5:$J$44,2,FALSE)))","v":"DNS"},{"$f":"IF('Last Race Results'!$B$5=0,0,IF(ISNA(VLOOKUP($A52,'Last Race Results'!$A$5:$J$44,11,FALSE)),0,VLOOKUP($A52,'Last Race Results'!$A$5:$J$44,11,FALSE)))","v":0}]
[46,{"$f":"IF(ISNA(VLOOKUP($A53,'Entry List'!$A$1:$F$61,B$5,FALSE)),\"\",VLOOKUP($A53,'Entry List'!$A$1:$F$61,B$5,FALSE))","v":""},{"$f":"IF(ISNA(VLOOKUP($A53,'Entry List'!$A$1:$F$61,C$5,FALSE)),\"\",VLOOKUP($A53,'Entry List'!$A$1:$F$61,C$5,FALSE))","v":""},{"$f":"IF(ISNA(VLOOKUP($A53,'Entry List'!$A$1:$F$61,D$5,FALSE)),\"\",VLOOKUP($A53,'Entry List'!$A$1:$F$61,D$5,FALSE))","v":""},{"$f":"IF(ISNA(VLOOKUP($A53,'Entry List'!$A$1:$F$61,E$5,FALSE)),\"\",VLOOKUP($A53,'Entry List'!$A$1:$F$61,E$5,FALSE))","v":""},null,"DNS",0,"DNS",0,"DNS",0,"DNS",0,"DNS",0,"DNS",0,"DNS",0,"DNS",0,"DNS",0,"DNS",0,"DNS",0,"DNS",0,"DNS",0,"DNS",0,"DNS",0,"DNS",0,"DNS",0,"DNS",0,"DNS",0,"DNS",0,"DNS",0,"DNS",0,"DNS",0,"DNS",0,"DNS",0,{"$f":"IF('Last Race Results'!$B$5=0,0,IF(ISNA(VLOOKUP($A53,'Last Race Results'!$A$5:$J$44,2,FALSE)),\"DNS\",VLOOKUP($A53,'Last Race Results'!$A$5:$J$44,2,FALSE)))","v":"DNS"},{"$f":"IF('Last Race Results'!$B$5=0,0,IF(ISNA(VLOOKUP($A53,'Last Race Results'!$A$5:$K$44,11,FALSE)),0,VLOOKUP($A53,'Last Race Results'!$A$5:$K$44,11,FALSE)))","v":0},null,null,null,null,null,null,null,null,null,null,null,null,null,null,null,null,null,null,{"$f":"IF('Last Race Results'!$B$5=0,0,IF(ISNA(VLOOKUP($A53,'Last Race Results'!$A$5:$J$44,2,FALSE)),\"DNS\",VLOOKUP($A53,'Last Race Results'!$A$5:$J$44,2,FALSE)))","v":"DNS"},{"$f":"IF('Last Race Results'!$B$5=0,0,IF(ISNA(VLOOKUP($A53,'Last Race Results'!$A$5:$J$44,11,FALSE)),0,VLOOKUP($A53,'Last Race Results'!$A$5:$J$44,11,FALSE)))","v":0}]
[47,{"$f":"IF(ISNA(VLOOKUP($A54,'Entry List'!$A$1:$F$61,B$5,FALSE)),\"\",VLOOKUP($A54,'Entry List'!$A$1:$F$61,B$5,FALSE))","v":"Ricky Stenhouse Jr."},{"$f":"IF(ISNA(VLOOKUP($A54,'Entry List'!$A$1:$F$61,C$5,FALSE)),\"\",VLOOKUP($A54,'Entry List'!$A$1:$F$61,C$5,FALSE))","v":"Chevrolet"},{"$f":"IF(ISNA(VLOOKUP($A54,'Entry List'!$A$1:$F$61,D$5,FALSE)),\"\",VLOOKUP($A54,'Entry List'!$A$1:$F$61,D$5,FALSE))","v":"JTG Daugherty Racing"},{"$f":"IF(ISNA(VLOOKUP($A54,'Entry List'!$A$1:$F$61,E$5,FALSE)),\"\",VLOOKUP($A54,'Entry List'!$A$1:$F$61,E$5,FALSE))","v":"JTG Daugherty Racing"},null,20,32,3,34,20,17,22,15,40,1,25,12,4,38,4,38,34,5,13,28,21,16,20,17,2,45,17,20,15,28,36,1,29,8,16,21,40,1,14,23,32,6,19,18,16,27,10,29,37,1,{"$f":"IF('Last Race Results'!$B$5=0,0,IF(ISNA(VLOOKUP($A54,'Last Race Results'!$A$5:$J$44,2,FALSE)),\"DNS\",VLOOKUP($A54,'Last Race Results'!$A$5:$J$44,2,FALSE)))","v":32},{"$f":"IF('Last Race Results'!$B$5=0,0,IF(ISNA(VLOOKUP($A54,'Last Race Results'!$A$5:$K$44,11,FALSE)),0,VLOOKUP($A54,'Last Race Results'!$A$5:$K$44,11,FALSE)))","v":8},null,null,null,null,null,null,null,null,null,null,null,null,null,null,null,null,null,null,{"$f":"IF('Last Race Results'!$B$5=0,0,IF(ISNA(VLOOKUP($A54,'Last Race Results'!$A$5:$J$44,2,FALSE)),\"DNS\",VLOOKUP($A54,'Last Race Results'!$A$5:$J$44,2,FALSE)))","v":32},{"$f":"IF('Last Race Results'!$B$5=0,0,IF(ISNA(VLOOKUP($A54,'Last Race Results'!$A$5:$J$44,11,FALSE)),0,VLOOKUP($A54,'Last Race Results'!$A$5:$J$44,11,FALSE)))","v":{"$error":"#REF!"}}]
[48,{"$f":"IF(ISNA(VLOOKUP($A55,'Entry List'!$A$1:$F$61,B$5,FALSE)),\"\",VLOOKUP($A55,'Entry List'!$A$1:$F$61,B$5,FALSE))","v":"Jimmie Johnson"},{"$f":"IF(ISNA(VLOOKUP($A55,'Entry List'!$A$1:$F$61,C$5,FALSE)),\"\",VLOOKUP($A55,'Entry List'!$A$1:$F$61,C$5,FALSE))","v":"Chevrolet"},{"$f":"IF(ISNA(VLOOKUP($A55,'Entry List'!$A$1:$F$61,D$5,FALSE)),\"\",VLOOKUP($A55,'Entry List'!$A$1:$F$61,D$5,FALSE))","v":"Hendrick Motorsports"},{"$f":"IF(ISNA(VLOOKUP($A55,'Entry List'!$A$1:$F$61,E$5,FALSE)),\"\",VLOOKUP($A55,'Entry List'!$A$1:$F$61,E$5,FALSE))","v":"Hendrick Motorsports"},null,35,22,5,38,7,46,12,25,38,1,8,29,11,26,11,26,3,35,7,33,10,45,16,21,13,31,21,16,16,21,37,1,18,22,35,10,32,7,12,25,12,26,11,26,4,41,7,37,3,39,{"$f":"IF('Last Race Results'!$B$5=0,0,IF(ISNA(VLOOKUP($A55,'Last Race Results'!$A$5:$J$44,2,FALSE)),\"DNS\",VLOOKUP($A55,'Last Race Results'!$A$5:$J$44,2,FALSE)))","v":17},{"$f":"IF('Last Race Results'!$B$5=0,0,IF(ISNA(VLOOKUP($A55,'Last Race Results'!$A$5:$K$44,11,FALSE)),0,VLOOKUP($A55,'Last Race Results'!$A$5:$K$44,11,FALSE)))","v":32},null,null,null,null,null,null,null,null,null,null,null,null,null,null,null,null,null,null,{"$f":"IF('Last Race Results'!$B$5=0,0,IF(ISNA(VLOOKUP($A55,'Last Race Results'!$A$5:$J$44,2,FALSE)),\"DNS\",VLOOKUP($A55,'Last Race Results'!$A$5:$J$44,2,FALSE)))","v":17},{"$f":"IF('Last Race Results'!$B$5=0,0,IF(ISNA(VLOOKUP($A55,'Last Race Results'!$A$5:$J$44,11,FALSE)),0,VLOOKUP($A55,'Last Race Results'!$A$5:$J$44,11,FALSE)))","v":{"$error":"#REF!"}}]
[49,{"$f":"IF(ISNA(VLOOKUP($A56,'Entry List'!$A$1:$F$61,B$5,FALSE)),\"\",VLOOKUP($A56,'Entry List'!$A$1:$F$61,B$5,FALSE))","v":""},{"$f":"IF(ISNA(VLOOKUP($A56,'Entry List'!$A$1:$F$61,C$5,FALSE)),\"\",VLOOKUP($A56,'Entry List'!$A$1:$F$61,C$5,FALSE))","v":""},{"$f":"IF(ISNA(VLOOKUP($A56,'Entry List'!$A$1:$F$61,D$5,FALSE)),\"\",VLOOKUP($A56,'Entry List'!$A$1:$F$61,D$5,FALSE))","v":""},{"$f":"IF(ISNA(VLOOKUP($A56,'Entry List'!$A$1:$F$61,E$5,FALSE)),\"\",VLOOKUP($A56,'Entry List'!$A$1:$F$61,E$5,FALSE))","v":""},null,"DNS",0,"DNS",0,"DNS",0,"DNS",0,"DNS",0,"DNS",0,"DNS",0,"DNS",0,"DNS",0,"DNS",0,"DNS",0,"DNS",0,"DNS",0,"DNS",0,"DNS",0,"DNS",0,"DNS",0,"DNS",0,"DNS",0,"DNS",0,"DNS",0,"DNS",0,"DNS",0,"DNS",0,"DNS",0,{"$f":"IF('Last Race Results'!$B$5=0,0,IF(ISNA(VLOOKUP($A56,'Last Race Results'!$A$5:$J$44,2,FALSE)),\"DNS\",VLOOKUP($A56,'Last Race Results'!$A$5:$J$44,2,FALSE)))","v":"DNS"},{"$f":"IF('Last Race Results'!$B$5=0,0,IF(ISNA(VLOOKUP($A56,'Last Race Results'!$A$5:$K$44,11,FALSE)),0,VLOOKUP($A56,'Last Race Results'!$A$5:$K$44,11,FALSE)))","v":0},null,null,null,null,null,null,null,null,null,null,null,null,null,null,null,null,null,null,{"$f":"IF('Last Race Results'!$B$5=0,0,IF(ISNA(VLOOKUP($A56,'Last Race Results'!$A$5:$J$44,2,FALSE)),\"DNS\",VLOOKUP($A56,'Last Race Results'!$A$5:$J$44,2,FALSE)))","v":"DNS"},{"$f":"IF('Last Race Results'!$B$5=0,0,IF(ISNA(VLOOKUP($A56,'Last Race Results'!$A$5:$J$44,11,FALSE)),0,VLOOKUP($A56,'Last Race Results'!$A$5:$J$44,11,FALSE)))","v":0}]
[50,{"$f":"IF(ISNA(VLOOKUP($A57,'Entry List'!$A$1:$F$61,B$5,FALSE)),\"\",VLOOKUP($A57,'Entry List'!$A$1:$F$61,B$5,FALSE))","v":""},{"$f":"IF(ISNA(VLOOKUP($A57,'Entry List'!$A$1:$F$61,C$5,FALSE)),\"\",VLOOKUP($A57,'Entry List'!$A$1:$F$61,C$5,FALSE))","v":""},{"$f":"IF(ISNA(VLOOKUP($A57,'Entry List'!$A$1:$F$61,D$5,FALSE)),\"\",VLOOKUP($A57,'Entry List'!$A$1:$F$61,D$5,FALSE))","v":""},{"$f":"IF(ISNA(VLOOKUP($A57,'Entry List'!$A$1:$F$61,E$5,FALSE)),\"\",VLOOKUP($A57,'Entry List'!$A$1:$F$61,E$5,FALSE))","v":""},null,"DNS",0,"DNS",0,"DNS",0,"DNS",0,"DNS",0,"DNS",0,"DNS",0,"DNS",0,"DNS",0,"DNS",0,"DNS",0,"DNS",0,"DNS",0,"DNS",0,"DNS",0,"DNS",0,"DNS",0,"DNS",0,"DNS",0,"DNS",0,"DNS",0,"DNS",0,"DNS",0,"DNS",0,"DNS",0,{"$f":"IF('Last Race Results'!$B$5=0,0,IF(ISNA(VLOOKUP($A57,'Last Race Results'!$A$5:$J$44,2,FALSE)),\"DNS\",VLOOKUP($A57,'Last Race Results'!$A$5:$J$44,2,FALSE)))","v":"DNS"},{"$f":"IF('Last Race Results'!$B$5=0,0,IF(ISNA(VLOOKUP($A57,'Last Race Results'!$A$5:$K$44,11,FALSE)),0,VLOOKUP($A57,'Last Race Results'!$A$5:$K$44,11,FALSE)))","v":0},null,null,null,null,null,null,null,null,null,null,null,null,null,null,null,null,null,null,{"$f":"IF('Last Race Results'!$B$5=0,0,IF(ISNA(VLOOKUP($A57,'Last Race Results'!$A$5:$J$44,2,FALSE)),\"DNS\",VLOOKUP($A57,'Last Race Results'!$A$5:$J$44,2,FALSE)))","v":"DNS"},{"$f":"IF('Last Race Results'!$B$5=0,0,IF(ISNA(VLOOKUP($A57,'Last Race Results'!$A$5:$J$44,11,FALSE)),0,VLOOKUP($A57,'Last Race Results'!$A$5:$J$44,11,FALSE)))","v":0}]
[51,{"$f":"IF(ISNA(VLOOKUP($A58,'Entry List'!$A$1:$F$61,B$5,FALSE)),\"\",VLOOKUP($A58,'Entry List'!$A$1:$F$61,B$5,FALSE))","v":"James Davison"},{"$f":"IF(ISNA(VLOOKUP($A58,'Entry List'!$A$1:$F$61,C$5,FALSE)),\"\",VLOOKUP($A58,'Entry List'!$A$1:$F$61,C$5,FALSE))","v":"Ford"},{"$f":"IF(ISNA(VLOOKUP($A58,'Entry List'!$A$1:$F$61,D$5,FALSE)),\"\",VLOOKUP($A58,'Entry List'!$A$1:$F$61,D$5,FALSE))","v":"Petty Ware Racing"},{"$f":"IF(ISNA(VLOOKUP($A58,'Entry List'!$A$1:$F$61,E$5,FALSE)),\"\",VLOOKUP($A58,'Entry List'!$A$1:$F$61,E$5,FALSE))","v":"Petty Ware Racing"},null,23,14,35,2,34,3,35,2,30,7,29,8,"DNS",0,"DNS",0,33,4,38,1,35,2,36,1,37,1,37,1,33,4,26,11,34,0,25,12,29,0,34,3,38,1,37,1,30,7,35,2,40,1,{"$f":"IF('Last Race Results'!$B$5=0,0,IF(ISNA(VLOOKUP($A58,'Last Race Results'!$A$5:$J$44,2,FALSE)),\"DNS\",VLOOKUP($A58,'Last Race Results'!$A$5:$J$44,2,FALSE)))","v":39},{"$f":"IF('Last Race Results'!$B$5=0,0,IF(ISNA(VLOOKUP($A58,'Last Race Results'!$A$5:$K$44,11,FALSE)),0,VLOOKUP($A58,'Last Race Results'!$A$5:$K$44,11,FALSE)))","v":1},null,null,null,null,null,null,null,null,null,null,null,null,null,null,null,null,null,null,{"$f":"IF('Last Race Results'!$B$5=0,0,IF(ISNA(VLOOKUP($A58,'Last Race Results'!$A$5:$J$44,2,FALSE)),\"DNS\",VLOOKUP($A58,'Last Race Results'!$A$5:$J$44,2,FALSE)))","v":39},{"$f":"IF('Last Race Results'!$B$5=0,0,IF(ISNA(VLOOKUP($A58,'Last Race Results'!$A$5:$J$44,11,FALSE)),0,VLOOKUP($A58,'Last Race Results'!$A$5:$J$44,11,FALSE)))","v":{"$error":"#REF!"}}]
[52,{"$f":"IF(ISNA(VLOOKUP($A59,'Entry List'!$A$1:$F$61,B$5,FALSE)),\"\",VLOOKUP($A59,'Entry List'!$A$1:$F$61,B$5,FALSE))","v":""},{"$f":"IF(ISNA(VLOOKUP($A59,'Entry List'!$A$1:$F$61,C$5,FALSE)),\"\",VLOOKUP($A59,'Entry List'!$A$1:$F$61,C$5,FALSE))","v":""},{"$f":"IF(ISNA(VLOOKUP($A59,'Entry List'!$A$1:$F$61,D$5,FALSE)),\"\",VLOOKUP($A59,'Entry List'!$A$1:$F$61,D$5,FALSE))","v":""},{"$f":"IF(ISNA(VLOOKUP($A59,'Entry List'!$A$1:$F$61,E$5,FALSE)),\"\",VLOOKUP($A59,'Entry List'!$A$1:$F$61,E$5,FALSE))","v":""},null,38,1,28,9,31,6,26,11,"DNS",0,"DNS",0,"DNS",0,"DNS",0,"DNS",0,"DNS",0,"DNS",0,"DNS",0,"DNS",0,"DNS",0,"DNS",0,"DNS",0,"DNS",0,28,9,"DNS",0,"DNS",0,"DNS",0,"DNS",0,"DNS",0,"DNS",0,"DNS",0,{"$f":"IF('Last Race Results'!$B$5=0,0,IF(ISNA(VLOOKUP($A59,'Last Race Results'!$A$5:$J$44,2,FALSE)),\"DNS\",VLOOKUP($A59,'Last Race Results'!$A$5:$J$44,2,FALSE)))","v":"DNS"},{"$f":"IF('Last Race Results'!$B$5=0,0,IF(ISNA(VLOOKUP($A59,'Last Race Results'!$A$5:$K$44,11,FALSE)),0,VLOOKUP($A59,'Last Race Results'!$A$5:$K$44,11,FALSE)))","v":0},null,null,null,null,null,null,null,null,null,null,null,null,null,null,null,null,null,null,{"$f":"IF('Last Race Results'!$B$5=0,0,IF(ISNA(VLOOKUP($A59,'Last Race Results'!$A$5:$J$44,2,FALSE)),\"DNS\",VLOOKUP($A59,'Last Race Results'!$A$5:$J$44,2,FALSE)))","v":"DNS"},{"$f":"IF('Last Race Results'!$B$5=0,0,IF(ISNA(VLOOKUP($A59,'Last Race Results'!$A$5:$J$44,11,FALSE)),0,VLOOKUP($A59,'Last Race Results'!$A$5:$J$44,11,FALSE)))","v":0}]
[53,{"$f":"IF(ISNA(VLOOKUP($A60,'Entry List'!$A$1:$F$61,B$5,FALSE)),\"\",VLOOKUP($A60,'Entry List'!$A$1:$F$61,B$5,FALSE))","v":"Joey Gase (i)"},{"$f":"IF(ISNA(VLOOKUP($A60,'Entry List'!$A$1:$F$61,C$5,FALSE)),\"\",VLOOKUP($A60,'Entry List'!$A$1:$F$61,C$5,FALSE))","v":"Ford"},{"$f":"IF(ISNA(VLOOKUP($A60,'Entry List'!$A$1:$F$61,D$5,FALSE)),\"\",VLOOKUP($A60,'Entry List'!$A$1:$F$61,D$5,FALSE))","v":"Rick Ware Racing"},{"$f":"IF(ISNA(VLOOKUP($A60,'Entry List'!$A$1:$F$61,E$5,FALSE)),\"\",VLOOKUP($A60,'Entry List'!$A$1:$F$61,E$5,FALSE))","v":"Rick Ware Racing"},null,"DNS",0,31,0,33,4,29,8,37,1,34,3,40,0,40,0,38,1,35,2,32,5,37,1,36,1,33,4,32,5,24,13,33,0,29,8,25,0,30,7,35,2,34,3,36,1,32,5,32,5,{"$f":"IF('Last Race Results'!$B$5=0,0,IF(ISNA(VLOOKUP($A60,'Last Race Results'!$A$5:$J$44,2,FALSE)),\"DNS\",VLOOKUP($A60,'Last Race Results'!$A$5:$J$44,2,FALSE)))","v":31},{"$f":"IF('Last Race Results'!$B$5=0,0,IF(ISNA(VLOOKUP($A60,'Last Race Results'!$A$5:$K$44,11,FALSE)),0,VLOOKUP($A60,'Last Race Results'!$A$5:$K$44,11,FALSE)))","v":6},null,null,null,null,null,null,null,null,null,null,null,null,null,null,null,null,null,null,{"$f":"IF('Last Race Results'!$B$5=0,0,IF(ISNA(VLOOKUP($A60,'Last Race Results'!$A$5:$J$44,2,FALSE)),\"DNS\",VLOOKUP($A60,'Last Race Results'!$A$5:$J$44,2,FALSE)))","v":31},{"$f":"IF('Last Race Results'!$B$5=0,0,IF(ISNA(VLOOKUP($A60,'Last Race Results'!$A$5:$J$44,11,FALSE)),0,VLOOKUP($A60,'Last Race Results'!$A$5:$J$44,11,FALSE)))","v":{"$error":"#REF!"}}]
[54,{"$f":"IF(ISNA(VLOOKUP($A61,'Entry List'!$A$1:$F$61,B$5,FALSE)),\"\",VLOOKUP($A61,'Entry List'!$A$1:$F$61,B$5,FALSE))","v":""},{"$f":"IF(ISNA(VLOOKUP($A61,'Entry List'!$A$1:$F$61,C$5,FALSE)),\"\",VLOOKUP($A61,'Entry List'!$A$1:$F$61,C$5,FALSE))","v":""},{"$f":"IF(ISNA(VLOOKUP($A61,'Entry List'!$A$1:$F$61,D$5,FALSE)),\"\",VLOOKUP($A61,'Entry List'!$A$1:$F$61,D$5,FALSE))","v":""},{"$f":"IF(ISNA(VLOOKUP($A61,'Entry List'!$A$1:$F$61,E$5,FALSE)),\"\",VLOOKUP($A61,'Entry List'!$A$1:$F$61,E$5,FALSE))","v":""},null,"DNS",0,"DNS",0,"DNS",0,"DNS",0,"DNS",0,"DNS",0,"DNS",0,"DNS",0,"DNS",0,"DNS",0,"DNS",0,"DNS",0,"DNS",0,"DNS",0,"DNS",0,"DNS",0,"DNS",0,26,11,"DNS",0,"DNS",0,"DNS",0,"DNS",0,"DNS",0,"DNS",0,"DNS",0,{"$f":"IF('Last Race Results'!$B$5=0,0,IF(ISNA(VLOOKUP($A61,'Last Race Results'!$A$5:$J$44,2,FALSE)),\"DNS\",VLOOKUP($A61,'Last Race Results'!$A$5:$J$44,2,FALSE)))","v":"DNS"},{"$f":"IF('Last Race Results'!$B$5=0,0,IF(ISNA(VLOOKUP($A61,'Last Race Results'!$A$5:$K$44,11,FALSE)),0,VLOOKUP($A61,'Last Race Results'!$A$5:$K$44,11,FALSE)))","v":0},null,null,null,null,null,null,null,null,null,null,null,null,null,null,null,null,null,null,{"$f":"IF('Last Race Results'!$B$5=0,0,IF(ISNA(VLOOKUP($A61,'Last Race Results'!$A$5:$J$44,2,FALSE)),\"DNS\",VLOOKUP($A61,'Last Race Results'!$A$5:$J$44,2,FALSE)))","v":"DNS"},{"$f":"IF('Last Race Results'!$B$5=0,0,IF(ISNA(VLOOKUP($A61,'Last Race Results'!$A$5:$J$44,11,FALSE)),0,VLOOKUP($A61,'Last Race Results'!$A$5:$J$44,11,FALSE)))","v":0}]
[55,{"$f":"IF(ISNA(VLOOKUP($A62,'Entry List'!$A$1:$F$61,B$5,FALSE)),\"\",VLOOKUP($A62,'Entry List'!$A$1:$F$61,B$5,FALSE))","v":""},{"$f":"IF(ISNA(VLOOKUP($A62,'Entry List'!$A$1:$F$61,C$5,FALSE)),\"\",VLOOKUP($A62,'Entry List'!$A$1:$F$61,C$5,FALSE))","v":""},{"$f":"IF(ISNA(VLOOKUP($A62,'Entry List'!$A$1:$F$61,D$5,FALSE)),\"\",VLOOKUP($A62,'Entry List'!$A$1:$F$61,D$5,FALSE))","v":""},{"$f":"IF(ISNA(VLOOKUP($A62,'Entry List'!$A$1:$F$61,E$5,FALSE)),\"\",VLOOKUP($A62,'Entry List'!$A$1:$F$61,E$5,FALSE))","v":""},null,"DNS",0,"DNS",0,"DNS",0,"DNS",0,"DNS",0,"DNS",0,"DNS",0,"DNS",0,"DNS",0,"DNS",0,"DNS",0,"DNS",0,"DNS",0,"DNS",0,"DNS",0,"DNS",0,"DNS",0,"DNS",0,"DNS",0,"DNS",0,"DNS",0,"DNS",0,"DNS",0,"DNS",0,"DNS",0,{"$f":"IF('Last Race Results'!$B$5=0,0,IF(ISNA(VLOOKUP($A62,'Last Race Results'!$A$5:$J$44,2,FALSE)),\"DNS\",VLOOKUP($A62,'Last Race Results'!$A$5:$J$44,2,FALSE)))","v":"DNS"},{"$f":"IF('Last Race Results'!$B$5=0,0,IF(ISNA(VLOOKUP($A62,'Last Race Results'!$A$5:$K$44,11,FALSE)),0,VLOOKUP($A62,'Last Race Results'!$A$5:$K$44,11,FALSE)))","v":0},null,null,null,null,null,null,null,null,null,null,null,null,null,null,null,null,null,null,{"$f":"IF('Last Race Results'!$B$5=0,0,IF(ISNA(VLOOKUP($A62,'Last Race Results'!$A$5:$J$44,2,FALSE)),\"DNS\",VLOOKUP($A62,'Last Race Results'!$A$5:$J$44,2,FALSE)))","v":"DNS"},{"$f":"IF('Last Race Results'!$B$5=0,0,IF(ISNA(VLOOKUP($A62,'Last Race Results'!$A$5:$J$44,11,FALSE)),0,VLOOKUP($A62,'Last Race Results'!$A$5:$J$44,11,FALSE)))","v":0}]
[56,{"$f":"IF(ISNA(VLOOKUP($A63,'Entry List'!$A$1:$F$61,B$5,FALSE)),\"\",VLOOKUP($A63,'Entry List'!$A$1:$F$61,B$5,FALSE))","v":""},{"$f":"IF(ISNA(VLOOKUP($A63,'Entry List'!$A$1:$F$61,C$5,FALSE)),\"\",VLOOKUP($A63,'Entry List'!$A$1:$F$61,C$5,FALSE))","v":""},{"$f":"IF(ISNA(VLOOKUP($A63,'Entry List'!$A$1:$F$61,D$5,FALSE)),\"\",VLOOKUP($A63,'Entry List'!$A$1:$F$61,D$5,FALSE))","v":""},{"$f":"IF(ISNA(VLOOKUP($A63,'Entry List'!$A$1:$F$61,E$5,FALSE)),\"\",VLOOKUP($A63,'Entry List'!$A$1:$F$61,E$5,FALSE))","v":""},null,"DNS",0,"DNS",0,"DNS",0,"DNS",0,"DNS",0,"DNS",0,"DNS",0,"DNS",0,"DNS",0,"DNS",0,"DNS",0,"DNS",0,"DNS",0,"DNS",0,"DNS",0,"DNS",0,"DNS",0,"DNS",0,"DNS",0,"DNS",0,"DNS",0,"DNS",0,"DNS",0,"DNS",0,"DNS",0,{"$f":"IF('Last Race Results'!$B$5=0,0,IF(ISNA(VLOOKUP($A63,'Last Race Results'!$A$5:$J$44,2,FALSE)),\"DNS\",VLOOKUP($A63,'Last Race Results'!$A$5:$J$44,2,FALSE)))","v":"DNS"},{"$f":"IF('Last Race Results'!$B$5=0,0,IF(ISNA(VLOOKUP($A63,'Last Race Results'!$A$5:$K$44,11,FALSE)),0,VLOOKUP($A63,'Last Race Results'!$A$5:$K$44,11,FALSE)))","v":0},null,null,null,null,null,null,null,null,null,null,null,null,null,null,null,null,null,null,{"$f":"IF('Last Race Results'!$B$5=0,0,IF(ISNA(VLOOKUP($A63,'Last Race Results'!$A$5:$J$44,2,FALSE)),\"DNS\",VLOOKUP($A63,'Last Race Results'!$A$5:$J$44,2,FALSE)))","v":"DNS"},{"$f":"IF('Last Race Results'!$B$5=0,0,IF(ISNA(VLOOKUP($A63,'Last Race Results'!$A$5:$J$44,11,FALSE)),0,VLOOKUP($A63,'Last Race Results'!$A$5:$J$44,11,FALSE)))","v":0}]
[57,{"$f":"IF(ISNA(VLOOKUP($A64,'Entry List'!$A$1:$F$61,B$5,FALSE)),\"\",VLOOKUP($A64,'Entry List'!$A$1:$F$61,B$5,FALSE))","v":""},{"$f":"IF(ISNA(VLOOKUP($A64,'Entry List'!$A$1:$F$61,C$5,FALSE)),\"\",VLOOKUP($A64,'Entry List'!$A$1:$F$61,C$5,FALSE))","v":""},{"$f":"IF(ISNA(VLOOKUP($A64,'Entry List'!$A$1:$F$61,D$5,FALSE)),\"\",VLOOKUP($A64,'Entry List'!$A$1:$F$61,D$5,FALSE))","v":""},{"$f":"IF(ISNA(VLOOKUP($A64,'Entry List'!$A$1:$F$61,E$5,FALSE)),\"\",VLOOKUP($A64,'Entry List'!$A$1:$F$61,E$5,FALSE))","v":""},null,"DNS",0,"DNS",0,"DNS",0,"DNS",0,"DNS",0,"DNS",0,"DNS",0,"DNS",0,"DNS",0,"DNS",0,"DNS",0,"DNS",0,"DNS",0,"DNS",0,"DNS",0,"DNS",0,"DNS",0,"DNS",0,"DNS",0,"DNS",0,"DNS",0,"DNS",0,"DNS",0,"DNS",0,"DNS",0,{"$f":"IF('Last Race Results'!$B$5=0,0,IF(ISNA(VLOOKUP($A64,'Last Race Results'!$A$5:$J$44,2,FALSE)),\"DNS\",VLOOKUP($A64,'Last Race Results'!$A$5:$J$44,2,FALSE)))","v":"DNS"},{"$f":"IF('Last Race Results'!$B$5=0,0,IF(ISNA(VLOOKUP($A64,'Last Race Results'!$A$5:$K$44,11,FALSE)),0,VLOOKUP($A64,'Last Race Results'!$A$5:$K$44,11,FALSE)))","v":0},null,null,null,null,null,null,null,null,null,null,null,null,null,null,null,null,null,null,{"$f":"IF('Last Race Results'!$B$5=0,0,IF(ISNA(VLOOKUP($A64,'Last Race Results'!$A$5:$J$44,2,FALSE)),\"DNS\",VLOOKUP($A64,'Last Race Results'!$A$5:$J$44,2,FALSE)))","v":"DNS"},{"$f":"IF('Last Race Results'!$B$5=0,0,IF(ISNA(VLOOKUP($A64,'Last Race Results'!$A$5:$J$44,11,FALSE)),0,VLOOKUP($A64,'Last Race Results'!$A$5:$J$44,11,FALSE)))","v":0}]
[58,{"$f":"IF(ISNA(VLOOKUP($A65,'Entry List'!$A$1:$F$61,B$5,FALSE)),\"\",VLOOKUP($A65,'Entry List'!$A$1:$F$61,B$5,FALSE))","v":""},{"$f":"IF(ISNA(VLOOKUP($A65,'Entry List'!$A$1:$F$61,C$5,FALSE)),\"\",VLOOKUP($A65,'Entry List'!$A$1:$F$61,C$5,FALSE))","v":""},{"$f":"IF(ISNA(VLOOKUP($A65,'Entry List'!$A$1:$F$61,D$5,FALSE)),\"\",VLOOKUP($A65,'Entry List'!$A$1:$F$61,D$5,FALSE))","v":""},{"$f":"IF(ISNA(VLOOKUP($A65,'Entry List'!$A$1:$F$61,E$5,FALSE)),\"\",VLOOKUP($A65,'Entry List'!$A$1:$F$61,E$5,FALSE))","v":""},null,"DNS",0,"DNS",0,"DNS",0,"DNS",0,"DNS",0,"DNS",0,"DNS",0,"DNS",0,"DNS",0,"DNS",0,"DNS",0,"DNS",0,"DNS",0,"DNS",0,"DNS",0,"DNS",0,"DNS",0,"DNS",0,"DNS",0,"DNS",0,"DNS",0,"DNS",0,"DNS",0,"DNS",0,"DNS",0,{"$f":"IF('Last Race Results'!$B$5=0,0,IF(ISNA(VLOOKUP($A65,'Last Race Results'!$A$5:$J$44,2,FALSE)),\"DNS\",VLOOKUP($A65,'Last Race Results'!$A$5:$J$44,2,FALSE)))","v":"DNS"},{"$f":"IF('Last Race Results'!$B$5=0,0,IF(ISNA(VLOOKUP($A65,'Last Race Results'!$A$5:$K$44,11,FALSE)),0,VLOOKUP($A65,'Last Race Results'!$A$5:$K$44,11,FALSE)))","v":0},null,null,null,null,null,null,null,null,null,null,null,null,null,null,null,null,null,null,{"$f":"IF('Last Race Results'!$B$5=0,0,IF(ISNA(VLOOKUP($A65,'Last Race Results'!$A$5:$J$44,2,FALSE)),\"DNS\",VLOOKUP($A65,'Last Race Results'!$A$5:$J$44,2,FALSE)))","v":"DNS"},{"$f":"IF('Last Race Results'!$B$5=0,0,IF(ISNA(VLOOKUP($A65,'Last Race Results'!$A$5:$J$44,11,FALSE)),0,VLOOKUP($A65,'Last Race Results'!$A$5:$J$44,11,FALSE)))","v":0}]
[59,{"$f":"IF(ISNA(VLOOKUP($A66,'Entry List'!$A$1:$F$61,B$5,FALSE)),\"\",VLOOKUP($A66,'Entry List'!$A$1:$F$61,B$5,FALSE))","v":""},{"$f":"IF(ISNA(VLOOKUP($A66,'Entry List'!$A$1:$F$61,C$5,FALSE)),\"\",VLOOKUP($A66,'Entry List'!$A$1:$F$61,C$5,FALSE))","v":""},{"$f":"IF(ISNA(VLOOKUP($A66,'Entry List'!$A$1:$F$61,D$5,FALSE)),\"\",VLOOKUP($A66,'Entry List'!$A$1:$F$61,D$5,FALSE))","v":""},{"$f":"IF(ISNA(VLOOKUP($A66,'Entry List'!$A$1:$F$61,E$5,FALSE)),\"\",VLOOKUP($A66,'Entry List'!$A$1:$F$61,E$5,FALSE))","v":""},null,"DNS",0,"DNS",0,"DNS",0,"DNS",0,"DNS",0,"DNS",0,"DNS",0,"DNS",0,"DNS",0,"DNS",0,"DNS",0,"DNS",0,"DNS",0,"DNS",0,"DNS",0,"DNS",0,"DNS",0,"DNS",0,"DNS",0,"DNS",0,"DNS",0,"DNS",0,"DNS",0,"DNS",0,"DNS",0,{"$f":"IF('Last Race Results'!$B$5=0,0,IF(ISNA(VLOOKUP($A66,'Last Race Results'!$A$5:$J$44,2,FALSE)),\"DNS\",VLOOKUP($A66,'Last Race Results'!$A$5:$J$44,2,FALSE)))","v":"DNS"},{"$f":"IF('Last Race Results'!$B$5=0,0,IF(ISNA(VLOOKUP($A66,'Last Race Results'!$A$5:$K$44,11,FALSE)),0,VLOOKUP($A66,'Last Race Results'!$A$5:$K$44,11,FALSE)))","v":0},null,null,null,null,null,null,null,null,null,null,null,null,null,null,null,null,null,null,{"$f":"IF('Last Race Results'!$B$5=0,0,IF(ISNA(VLOOKUP($A66,'Last Race Results'!$A$5:$J$44,2,FALSE)),\"DNS\",VLOOKUP($A66,'Last Race Results'!$A$5:$J$44,2,FALSE)))","v":"DNS"},{"$f":"IF('Last Race Results'!$B$5=0,0,IF(ISNA(VLOOKUP($A66,'Last Race Results'!$A$5:$J$44,11,FALSE)),0,VLOOKUP($A66,'Last Race Results'!$A$5:$J$44,11,FALSE)))","v":0}]
[60,{"$f":"IF(ISNA(VLOOKUP($A67,'Entry List'!$A$1:$F$61,B$5,FALSE)),\"\",VLOOKUP($A67,'Entry List'!$A$1:$F$61,B$5,FALSE))","v":""},{"$f":"IF(ISNA(VLOOKUP($A67,'Entry List'!$A$1:$F$61,C$5,FALSE)),\"\",VLOOKUP($A67,'Entry List'!$A$1:$F$61,C$5,FALSE))","v":""},{"$f":"IF(ISNA(VLOOKUP($A67,'Entry List'!$A$1:$F$61,D$5,FALSE)),\"\",VLOOKUP($A67,'Entry List'!$A$1:$F$61,D$5,FALSE))","v":""},{"$f":"IF(ISNA(VLOOKUP($A67,'Entry List'!$A$1:$F$61,E$5,FALSE)),\"\",VLOOKUP($A67,'Entry List'!$A$1:$F$61,E$5,FALSE))","v":""},null,"DNS",0,"DNS",0,"DNS",0,"DNS",0,"DNS",0,"DNS",0,"DNS",0,"DNS",0,"DNS",0,"DNS",0,"DNS",0,"DNS",0,"DNS",0,"DNS",0,"DNS",0,"DNS",0,"DNS",0,"DNS",0,"DNS",0,"DNS",0,"DNS",0,"DNS",0,"DNS",0,"DNS",0,"DNS",0,{"$f":"IF('Last Race Results'!$B$5=0,0,IF(ISNA(VLOOKUP($A67,'Last Race Results'!$A$5:$J$44,2,FALSE)),\"DNS\",VLOOKUP($A67,'Last Race Results'!$A$5:$J$44,2,FALSE)))","v":"DNS"},{"$f":"IF('Last Race Results'!$B$5=0,0,IF(ISNA(VLOOKUP($A67,'Last Race Results'!$A$5:$K$44,11,FALSE)),0,VLOOKUP($A67,'Last Race Results'!$A$5:$K$44,11,FALSE)))","v":0},null,null,null,null,null,null,null,null,null,null,null,null,null,null,null,null,null,null,{"$f":"IF('Last Race Results'!$B$5=0,0,IF(ISNA(VLOOKUP($A67,'Last Race Results'!$A$5:$J$44,2,FALSE)),\"DNS\",VLOOKUP($A67,'Last Race Results'!$A$5:$J$44,2,FALSE)))","v":"DNS"},{"$f":"IF('Last Race Results'!$B$5=0,0,IF(ISNA(VLOOKUP($A67,'Last Race Results'!$A$5:$J$44,11,FALSE)),0,VLOOKUP($A67,'Last Race Results'!$A$5:$J$44,11,FALSE)))","v":0}]
[61,{"$f":"IF(ISNA(VLOOKUP($A68,'Entry List'!$A$1:$F$61,B$5,FALSE)),\"\",VLOOKUP($A68,'Entry List'!$A$1:$F$61,B$5,FALSE))","v":""},{"$f":"IF(ISNA(VLOOKUP($A68,'Entry List'!$A$1:$F$61,C$5,FALSE)),\"\",VLOOKUP($A68,'Entry List'!$A$1:$F$61,C$5,FALSE))","v":""},{"$f":"IF(ISNA(VLOOKUP($A68,'Entry List'!$A$1:$F$61,D$5,FALSE)),\"\",VLOOKUP($A68,'Entry List'!$A$1:$F$61,D$5,FALSE))","v":""},{"$f":"IF(ISNA(VLOOKUP($A68,'Entry List'!$A$1:$F$61,E$5,FALSE)),\"\",VLOOKUP($A68,'Entry List'!$A$1:$F$61,E$5,FALSE))","v":""},null,"DNS",0,"DNS",0,"DNS",0,"DNS",0,"DNS",0,"DNS",0,"DNS",0,"DNS",0,"DNS",0,"DNS",0,"DNS",0,"DNS",0,"DNS",0,"DNS",0,"DNS",0,"DNS",0,"DNS",0,"DNS",0,"DNS",0,"DNS",0,"DNS",0,"DNS",0,"DNS",0,"DNS",0,"DNS",0,{"$f":"IF('Last Race Results'!$B$5=0,0,IF(ISNA(VLOOKUP($A68,'Last Race Results'!$A$5:$J$44,2,FALSE)),\"DNS\",VLOOKUP($A68,'Last Race Results'!$A$5:$J$44,2,FALSE)))","v":"DNS"},{"$f":"IF('Last Race Results'!$B$5=0,0,IF(ISNA(VLOOKUP($A68,'Last Race Results'!$A$5:$K$44,11,FALSE)),0,VLOOKUP($A68,'Last Race Results'!$A$5:$K$44,11,FALSE)))","v":0},null,null,null,null,null,null,null,null,null,null,null,null,null,null,null,null,null,null,{"$f":"IF('Last Race Results'!$B$5=0,0,IF(ISNA(VLOOKUP($A68,'Last Race Results'!$A$5:$J$44,2,FALSE)),\"DNS\",VLOOKUP($A68,'Last Race Results'!$A$5:$J$44,2,FALSE)))","v":"DNS"},{"$f":"IF('Last Race Results'!$B$5=0,0,IF(ISNA(VLOOKUP($A68,'Last Race Results'!$A$5:$J$44,11,FALSE)),0,VLOOKUP($A68,'Last Race Results'!$A$5:$J$44,11,FALSE)))","v":0}]
[62,{"$f":"IF(ISNA(VLOOKUP($A69,'Entry List'!$A$1:$F$61,B$5,FALSE)),\"\",VLOOKUP($A69,'Entry List'!$A$1:$F$61,B$5,FALSE))","v":"Brendan Gaughan"},{"$f":"IF(ISNA(VLOOKUP($A69,'Entry List'!$A$1:$F$61,C$5,FALSE)),\"\",VLOOKUP($A69,'Entry List'!$A$1:$F$61,C$5,FALSE))","v":"Chevrolet"},{"$f":"IF(ISNA(VLOOKUP($A69,'Entry List'!$A$1:$F$61,D$5,FALSE)),\"\",VLOOKUP($A69,'Entry List'!$A$1:$F$61,D$5,FALSE))","v":"Beard Motorsports"},{"$f":"IF(ISNA(VLOOKUP($A69,'Entry List'!$A$1:$F$61,E$5,FALSE)),\"\",VLOOKUP($A69,'Entry List'!$A$1:$F$61,E$5,FALSE))","v":"Beard Motorsports"},null,7,30,"DNS",0,"DNS",0,"DNS",0,"DNS",0,"DNS",0,"DNS",0,"DNS",0,"DNS",0,"DNS",0,"DNS",0,"DNS",0,21,16,"DNS",0,"DNS",0,"DNS",0,"DNS",0,"DNS",0,"DNS",0,"DNS",0,"DNS",0,"DNS",0,39,1,"DNS",0,"DNS",0,{"$f":"IF('Last Race Results'!$B$5=0,0,IF(ISNA(VLOOKUP($A69,'Last Race Results'!$A$5:$J$44,2,FALSE)),\"DNS\",VLOOKUP($A69,'Last Race Results'!$A$5:$J$44,2,FALSE)))","v":8},{"$f":"IF('Last Race Results'!$B$5=0,0,IF(ISNA(VLOOKUP($A69,'Last Race Results'!$A$5:$K$44,11,FALSE)),0,VLOOKUP($A69,'Last Race Results'!$A$5:$K$44,11,FALSE)))","v":29},null,null,null,null,null,null,null,null,null,null,null,null,null,null,null,null,null,null,{"$f":"IF('Last Race Results'!$B$5=0,0,IF(ISNA(VLOOKUP($A69,'Last Race Results'!$A$5:$J$44,2,FALSE)),\"DNS\",VLOOKUP($A69,'Last Race Results'!$A$5:$J$44,2,FALSE)))","v":8},{"$f":"IF('Last Race Results'!$B$5=0,0,IF(ISNA(VLOOKUP($A69,'Last Race Results'!$A$5:$J$44,11,FALSE)),0,VLOOKUP($A69,'Last Race Results'!$A$5:$J$44,11,FALSE)))","v":{"$error":"#REF!"}}]
[63,{"$f":"IF(ISNA(VLOOKUP($A70,'Entry List'!$A$1:$F$61,B$5,FALSE)),\"\",VLOOKUP($A70,'Entry List'!$A$1:$F$61,B$5,FALSE))","v":""},{"$f":"IF(ISNA(VLOOKUP($A70,'Entry List'!$A$1:$F$61,C$5,FALSE)),\"\",VLOOKUP($A70,'Entry List'!$A$1:$F$61,C$5,FALSE))","v":""},{"$f":"IF(ISNA(VLOOKUP($A70,'Entry List'!$A$1:$F$61,D$5,FALSE)),\"\",VLOOKUP($A70,'Entry List'!$A$1:$F$61,D$5,FALSE))","v":""},{"$f":"IF(ISNA(VLOOKUP($A70,'Entry List'!$A$1:$F$61,E$5,FALSE)),\"\",VLOOKUP($A70,'Entry List'!$A$1:$F$61,E$5,FALSE))","v":""},null,"DNS",0,"DNS",0,"DNS",0,"DNS",0,"DNS",0,"DNS",0,"DNS",0,"DNS",0,"DNS",0,"DNS",0,"DNS",0,"DNS",0,"DNS",0,"DNS",0,"DNS",0,"DNS",0,"DNS",0,"DNS",0,"DNS",0,"DNS",0,"DNS",0,"DNS",0,"DNS",0,"DNS",0,"DNS",0,{"$f":"IF('Last Race Results'!$B$5=0,0,IF(ISNA(VLOOKUP($A70,'Last Race Results'!$A$5:$J$44,2,FALSE)),\"DNS\",VLOOKUP($A70,'Last Race Results'!$A$5:$J$44,2,FALSE)))","v":"DNS"},{"$f":"IF('Last Race Results'!$B$5=0,0,IF(ISNA(VLOOKUP($A70,'Last Race Results'!$A$5:$K$44,11,FALSE)),0,VLOOKUP($A70,'Last Race Results'!$A$5:$K$44,11,FALSE)))","v":0},null,null,null,null,null,null,null,null,null,null,null,null,null,null,null,null,null,null,{"$f":"IF('Last Race Results'!$B$5=0,0,IF(ISNA(VLOOKUP($A70,'Last Race Results'!$A$5:$J$44,2,FALSE)),\"DNS\",VLOOKUP($A70,'Last Race Results'!$A$5:$J$44,2,FALSE)))","v":"DNS"},{"$f":"IF('Last Race Results'!$B$5=0,0,IF(ISNA(VLOOKUP($A70,'Last Race Results'!$A$5:$J$44,11,FALSE)),0,VLOOKUP($A70,'Last Race Results'!$A$5:$J$44,11,FALSE)))","v":0}]
[64,{"$f":"IF(ISNA(VLOOKUP($A71,'Entry List'!$A$1:$F$61,B$5,FALSE)),\"\",VLOOKUP($A71,'Entry List'!$A$1:$F$61,B$5,FALSE))","v":""},{"$f":"IF(ISNA(VLOOKUP($A71,'Entry List'!$A$1:$F$61,C$5,FALSE)),\"\",VLOOKUP($A71,'Entry List'!$A$1:$F$61,C$5,FALSE))","v":""},{"$f":"IF(ISNA(VLOOKUP($A71,'Entry List'!$A$1:$F$61,D$5,FALSE)),\"\",VLOOKUP($A71,'Entry List'!$A$1:$F$61,D$5,FALSE))","v":""},{"$f":"IF(ISNA(VLOOKUP($A71,'Entry List'!$A$1:$F$61,E$5,FALSE)),\"\",VLOOKUP($A71,'Entry List'!$A$1:$F$61,E$5,FALSE))","v":""},null,"DNS",0,"DNS",0,"DNS",0,"DNS",0,"DNS",0,"DNS",0,"DNS",0,"DNS",0,"DNS",0,"DNS",0,"DNS",0,"DNS",0,"DNS",0,"DNS",0,"DNS",0,"DNS",0,"DNS",0,"DNS",0,"DNS",0,"DNS",0,"DNS",0,"DNS",0,"DNS",0,"DNS",0,"DNS",0,{"$f":"IF('Last Race Results'!$B$5=0,0,IF(ISNA(VLOOKUP($A71,'Last Race Results'!$A$5:$J$44,2,FALSE)),\"DNS\",VLOOKUP($A71,'Last Race Results'!$A$5:$J$44,2,FALSE)))","v":"DNS"},{"$f":"IF('Last Race Results'!$B$5=0,0,IF(ISNA(VLOOKUP($A71,'Last Race Results'!$A$5:$K$44,11,FALSE)),0,VLOOKUP($A71,'Last Race Results'!$A$5:$K$44,11,FALSE)))","v":0},null,null,null,null,null,null,null,null,null,null,null,null,null,null,null,null,null,null,{"$f":"IF('Last Race Results'!$B$5=0,0,IF(ISNA(VLOOKUP($A71,'Last Race Results'!$A$5:$J$44,2,FALSE)),\"DNS\",VLOOKUP($A71,'Last Race Results'!$A$5:$J$44,2,FALSE)))","v":"DNS"},{"$f":"IF('Last Race Results'!$B$5=0,0,IF(ISNA(VLOOKUP($A71,'Last Race Results'!$A$5:$J$44,11,FALSE)),0,VLOOKUP($A71,'Last Race Results'!$A$5:$J$44,11,FALSE)))","v":0}]
[65,{"$f":"IF(ISNA(VLOOKUP($A72,'Entry List'!$A$1:$F$61,B$5,FALSE)),\"\",VLOOKUP($A72,'Entry List'!$A$1:$F$61,B$5,FALSE))","v":""},{"$f":"IF(ISNA(VLOOKUP($A72,'Entry List'!$A$1:$F$61,C$5,FALSE)),\"\",VLOOKUP($A72,'Entry List'!$A$1:$F$61,C$5,FALSE))","v":""},{"$f":"IF(ISNA(VLOOKUP($A72,'Entry List'!$A$1:$F$61,D$5,FALSE)),\"\",VLOOKUP($A72,'Entry List'!$A$1:$F$61,D$5,FALSE))","v":""},{"$f":"IF(ISNA(VLOOKUP($A72,'Entry List'!$A$1:$F$61,E$5,FALSE)),\"\",VLOOKUP($A72,'Entry List'!$A$1:$F$61,E$5,FALSE))","v":""},null,"DNS",0,"DNS",0,"DNS",0,"DNS",0,"DNS",0,"DNS",0,"DNS",0,"DNS",0,"DNS",0,"DNS",0,"DNS",0,"DNS",0,"DNS",0,"DNS",0,"DNS",0,"DNS",0,"DNS",0,"DNS",0,"DNS",0,"DNS",0,"DNS",0,"DNS",0,"DNS",0,"DNS",0,"DNS",0,{"$f":"IF('Last Race Results'!$B$5=0,0,IF(ISNA(VLOOKUP($A72,'Last Race Results'!$A$5:$J$44,2,FALSE)),\"DNS\",VLOOKUP($A72,'Last Race Results'!$A$5:$J$44,2,FALSE)))","v":"DNS"},{"$f":"IF('Last Race Results'!$B$5=0,0,IF(ISNA(VLOOKUP($A72,'Last Race Results'!$A$5:$K$44,11,FALSE)),0,VLOOKUP($A72,'Last Race Results'!$A$5:$K$44,11,FALSE)))","v":0},null,null,null,null,null,null,null,null,null,null,null,null,null,null,null,null,null,null,{"$f":"IF('Last Race Results'!$B$5=0,0,IF(ISNA(VLOOKUP($A72,'Last Race Results'!$A$5:$J$44,2,FALSE)),\"DNS\",VLOOKUP($A72,'Last Race Results'!$A$5:$J$44,2,FALSE)))","v":"DNS"},{"$f":"IF('Last Race Results'!$B$5=0,0,IF(ISNA(VLOOKUP($A72,'Last Race Results'!$A$5:$J$44,11,FALSE)),0,VLOOKUP($A72,'Last Race Results'!$A$5:$J$44,11,FALSE)))","v":0}]
[66,{"$f":"IF(ISNA(VLOOKUP($A73,'Entry List'!$A$1:$F$61,B$5,FALSE)),\"\",VLOOKUP($A73,'Entry List'!$A$1:$F$61,B$5,FALSE))","v":"Timmy Hill (i)"},{"$f":"IF(ISNA(VLOOKUP($A73,'Entry List'!$A$1:$F$61,C$5,FALSE)),\"\",VLOOKUP($A73,'Entry List'!$A$1:$F$61,C$5,FALSE))","v":"Toyota"},{"$f":"IF(ISNA(VLOOKUP($A73,'Entry List'!$A$1:$F$61,D$5,FALSE)),\"\",VLOOKUP($A73,'Entry List'!$A$1:$F$61,D$5,FALSE))","v":"MBM Motorsports"},{"$f":"IF(ISNA(VLOOKUP($A73,'Entry List'!$A$1:$F$61,E$5,FALSE)),\"\",VLOOKUP($A73,'Entry List'!$A$1:$F$61,E$5,FALSE))","v":"MBM Motorsports"},null,27,10,38,1,37,1,38,1,33,4,33,4,33,4,33,4,19,18,39,1,39,1,34,3,33,4,35,2,29,8,29,8,37,0,"DNS",0,38,0,33,4,33,4,35,2,29,8,34,3,36,1,{"$f":"IF('Last Race Results'!$B$5=0,0,IF(ISNA(VLOOKUP($A73,'Last Race Results'!$A$5:$J$44,2,FALSE)),\"DNS\",VLOOKUP($A73,'Last Race Results'!$A$5:$J$44,2,FALSE)))","v":24},{"$f":"IF('Last Race Results'!$B$5=0,0,IF(ISNA(VLOOKUP($A73,'Last Race Results'!$A$5:$K$44,11,FALSE)),0,VLOOKUP($A73,'Last Race Results'!$A$5:$K$44,11,FALSE)))","v":13},null,null,null,null,null,null,null,null,null,null,null,null,null,null,null,null,null,null,{"$f":"IF('Last Race Results'!$B$5=0,0,IF(ISNA(VLOOKUP($A73,'Last Race Results'!$A$5:$J$44,2,FALSE)),\"DNS\",VLOOKUP($A73,'Last Race Results'!$A$5:$J$44,2,FALSE)))","v":24},{"$f":"IF('Last Race Results'!$B$5=0,0,IF(ISNA(VLOOKUP($A73,'Last Race Results'!$A$5:$J$44,11,FALSE)),0,VLOOKUP($A73,'Last Race Results'!$A$5:$J$44,11,FALSE)))","v":{"$error":"#REF!"}}]
[67,{"$f":"IF(ISNA(VLOOKUP($A74,'Entry List'!$A$1:$F$61,B$5,FALSE)),\"\",VLOOKUP($A74,'Entry List'!$A$1:$F$61,B$5,FALSE))","v":""},{"$f":"IF(ISNA(VLOOKUP($A74,'Entry List'!$A$1:$F$61,C$5,FALSE)),\"\",VLOOKUP($A74,'Entry List'!$A$1:$F$61,C$5,FALSE))","v":""},{"$f":"IF(ISNA(VLOOKUP($A74,'Entry List'!$A$1:$F$61,D$5,FALSE)),\"\",VLOOKUP($A74,'Entry List'!$A$1:$F$61,D$5,FALSE))","v":""},{"$f":"IF(ISNA(VLOOKUP($A74,'Entry List'!$A$1:$F$61,E$5,FALSE)),\"\",VLOOKUP($A74,'Entry List'!$A$1:$F$61,E$5,FALSE))","v":""},null,"DNS",0,"DNS",0,"DNS",0,"DNS",0,"DNS",0,"DNS",0,"DNS",0,"DNS",0,"DNS",0,"DNS",0,"DNS",0,"DNS",0,"DNS",0,"DNS",0,"DNS",0,"DNS",0,"DNS",0,"DNS",0,"DNS",0,"DNS",0,"DNS",0,"DNS",0,"DNS",0,"DNS",0,"DNS",0,{"$f":"IF('Last Race Results'!$B$5=0,0,IF(ISNA(VLOOKUP($A74,'Last Race Results'!$A$5:$J$44,2,FALSE)),\"DNS\",VLOOKUP($A74,'Last Race Results'!$A$5:$J$44,2,FALSE)))","v":"DNS"},{"$f":"IF('Last Race Results'!$B$5=0,0,IF(ISNA(VLOOKUP($A74,'Last Race Results'!$A$5:$K$44,11,FALSE)),0,VLOOKUP($A74,'Last Race Results'!$A$5:$K$44,11,FALSE)))","v":0},null,null,null,null,null,null,null,null,null,null,null,null,null,null,null,null,null,null,{"$f":"IF('Last Race Results'!$B$5=0,0,IF(ISNA(VLOOKUP($A74,'Last Race Results'!$A$5:$J$44,2,FALSE)),\"DNS\",VLOOKUP($A74,'Last Race Results'!$A$5:$J$44,2,FALSE)))","v":"DNS"},{"$f":"IF('Last Race Results'!$B$5=0,0,IF(ISNA(VLOOKUP($A74,'Last Race Results'!$A$5:$J$44,11,FALSE)),0,VLOOKUP($A74,'Last Race Results'!$A$5:$J$44,11,FALSE)))","v":0}]
[68,{"$f":"IF(ISNA(VLOOKUP($A75,'Entry List'!$A$1:$F$61,B$5,FALSE)),\"\",VLOOKUP($A75,'Entry List'!$A$1:$F$61,B$5,FALSE))","v":""},{"$f":"IF(ISNA(VLOOKUP($A75,'Entry List'!$A$1:$F$61,C$5,FALSE)),\"\",VLOOKUP($A75,'Entry List'!$A$1:$F$61,C$5,FALSE))","v":""},{"$f":"IF(ISNA(VLOOKUP($A75,'Entry List'!$A$1:$F$61,D$5,FALSE)),\"\",VLOOKUP($A75,'Entry List'!$A$1:$F$61,D$5,FALSE))","v":""},{"$f":"IF(ISNA(VLOOKUP($A75,'Entry List'!$A$1:$F$61,E$5,FALSE)),\"\",VLOOKUP($A75,'Entry List'!$A$1:$F$61,E$5,FALSE))","v":""},null,"DNS",0,"DNS",0,"DNS",0,"DNS",0,"DNS",0,"DNS",0,"DNS",0,"DNS",0,"DNS",0,"DNS",0,"DNS",0,"DNS",0,"DNS",0,"DNS",0,"DNS",0,"DNS",0,"DNS",0,"DNS",0,"DNS",0,"DNS",0,"DNS",0,"DNS",0,"DNS",0,"DNS",0,"DNS",0,{"$f":"IF('Last Race Results'!$B$5=0,0,IF(ISNA(VLOOKUP($A75,'Last Race Results'!$A$5:$J$44,2,FALSE)),\"DNS\",VLOOKUP($A75,'Last Race Results'!$A$5:$J$44,2,FALSE)))","v":"DNS"},{"$f":"IF('Last Race Results'!$B$5=0,0,IF(ISNA(VLOOKUP($A75,'Last Race Results'!$A$5:$K$44,11,FALSE)),0,VLOOKUP($A75,'Last Race Results'!$A$5:$K$44,11,FALSE)))","v":0},null,null,null,null,null,null,null,null,null,null,null,null,null,null,null,null,null,null,{"$f":"IF('Last Race Results'!$B$5=0,0,IF(ISNA(VLOOKUP($A75,'Last Race Results'!$A$5:$J$44,2,FALSE)),\"DNS\",VLOOKUP($A75,'Last Race Results'!$A$5:$J$44,2,FALSE)))","v":"DNS"},{"$f":"IF('Last Race Results'!$B$5=0,0,IF(ISNA(VLOOKUP($A75,'Last Race Results'!$A$5:$J$44,11,FALSE)),0,VLOOKUP($A75,'Last Race Results'!$A$5:$J$44,11,FALSE)))","v":0}]
[69,{"$f":"IF(ISNA(VLOOKUP($A76,'Entry List'!$A$1:$F$61,B$5,FALSE)),\"\",VLOOKUP($A76,'Entry List'!$A$1:$F$61,B$5,FALSE))","v":""},{"$f":"IF(ISNA(VLOOKUP($A76,'Entry List'!$A$1:$F$61,C$5,FALSE)),\"\",VLOOKUP($A76,'Entry List'!$A$1:$F$61,C$5,FALSE))","v":""},{"$f":"IF(ISNA(VLOOKUP($A76,'Entry List'!$A$1:$F$61,D$5,FALSE)),\"\",VLOOKUP($A76,'Entry List'!$A$1:$F$61,D$5,FALSE))","v":""},{"$f":"IF(ISNA(VLOOKUP($A76,'Entry List'!$A$1:$F$61,E$5,FALSE)),\"\",VLOOKUP($A76,'Entry List'!$A$1:$F$61,E$5,FALSE))","v":""},null,"DNS",0,"DNS",0,"DNS",0,"DNS",0,"DNS",0,"DNS",0,"DNS",0,"DNS",0,"DNS",0,"DNS",0,"DNS",0,"DNS",0,"DNS",0,"DNS",0,"DNS",0,"DNS",0,"DNS",0,"DNS",0,"DNS",0,"DNS",0,"DNS",0,"DNS",0,"DNS",0,"DNS",0,"DNS",0,{"$f":"IF('Last Race Results'!$B$5=0,0,IF(ISNA(VLOOKUP($A76,'Last Race Results'!$A$5:$J$44,2,FALSE)),\"DNS\",VLOOKUP($A76,'Last Race Results'!$A$5:$J$44,2,FALSE)))","v":"DNS"},{"$f":"IF('Last Race Results'!$B$5=0,0,IF(ISNA(VLOOKUP($A76,'Last Race Results'!$A$5:$K$44,11,FALSE)),0,VLOOKUP($A76,'Last Race Results'!$A$5:$K$44,11,FALSE)))","v":0},null,null,null,null,null,null,null,null,null,null,null,null,null,null,null,null,null,null,{"$f":"IF('Last Race Results'!$B$5=0,0,IF(ISNA(VLOOKUP($A76,'Last Race Results'!$A$5:$J$44,2,FALSE)),\"DNS\",VLOOKUP($A76,'Last Race Results'!$A$5:$J$44,2,FALSE)))","v":"DNS"},{"$f":"IF('Last Race Results'!$B$5=0,0,IF(ISNA(VLOOKUP($A76,'Last Race Results'!$A$5:$J$44,11,FALSE)),0,VLOOKUP($A76,'Last Race Results'!$A$5:$J$44,11,FALSE)))","v":0}]
[70,{"$f":"IF(ISNA(VLOOKUP($A77,'Entry List'!$A$1:$F$61,B$5,FALSE)),\"\",VLOOKUP($A77,'Entry List'!$A$1:$F$61,B$5,FALSE))","v":""},{"$f":"IF(ISNA(VLOOKUP($A77,'Entry List'!$A$1:$F$61,C$5,FALSE)),\"\",VLOOKUP($A77,'Entry List'!$A$1:$F$61,C$5,FALSE))","v":""},{"$f":"IF(ISNA(VLOOKUP($A77,'Entry List'!$A$1:$F$61,D$5,FALSE)),\"\",VLOOKUP($A77,'Entry List'!$A$1:$F$61,D$5,FALSE))","v":""},{"$f":"IF(ISNA(VLOOKUP($A77,'Entry List'!$A$1:$F$61,E$5,FALSE)),\"\",VLOOKUP($A77,'Entry List'!$A$1:$F$61,E$5,FALSE))","v":""},null,"DNS",0,"DNS",0,"DNS",0,"DNS",0,"DNS",0,"DNS",0,"DNS",0,"DNS",0,"DNS",0,"DNS",0,"DNS",0,"DNS",0,"DNS",0,"DNS",0,"DNS",0,"DNS",0,"DNS",0,"DNS",0,"DNS",0,"DNS",0,"DNS",0,"DNS",0,"DNS",0,"DNS",0,"DNS",0,{"$f":"IF('Last Race Results'!$B$5=0,0,IF(ISNA(VLOOKUP($A77,'Last Race Results'!$A$5:$J$44,2,FALSE)),\"DNS\",VLOOKUP($A77,'Last Race Results'!$A$5:$J$44,2,FALSE)))","v":"DNS"},{"$f":"IF('Last Race Results'!$B$5=0,0,IF(ISNA(VLOOKUP($A77,'Last Race Results'!$A$5:$K$44,11,FALSE)),0,VLOOKUP($A77,'Last Race Results'!$A$5:$K$44,11,FALSE)))","v":0},null,null,null,null,null,null,null,null,null,null,null,null,null,null,null,null,null,null,{"$f":"IF('Last Race Results'!$B$5=0,0,IF(ISNA(VLOOKUP($A77,'Last Race Results'!$A$5:$J$44,2,FALSE)),\"DNS\",VLOOKUP($A77,'Last Race Results'!$A$5:$J$44,2,FALSE)))","v":"DNS"},{"$f":"IF('Last Race Results'!$B$5=0,0,IF(ISNA(VLOOKUP($A77,'Last Race Results'!$A$5:$J$44,11,FALSE)),0,VLOOKUP($A77,'Last Race Results'!$A$5:$J$44,11,FALSE)))","v":0}]
[71,{"$f":"IF(ISNA(VLOOKUP($A78,'Entry List'!$A$1:$F$61,B$5,FALSE)),\"\",VLOOKUP($A78,'Entry List'!$A$1:$F$61,B$5,FALSE))","v":""},{"$f":"IF(ISNA(VLOOKUP($A78,'Entry List'!$A$1:$F$61,C$5,FALSE)),\"\",VLOOKUP($A78,'Entry List'!$A$1:$F$61,C$5,FALSE))","v":""},{"$f":"IF(ISNA(VLOOKUP($A78,'Entry List'!$A$1:$F$61,D$5,FALSE)),\"\",VLOOKUP($A78,'Entry List'!$A$1:$F$61,D$5,FALSE))","v":""},{"$f":"IF(ISNA(VLOOKUP($A78,'Entry List'!$A$1:$F$61,E$5,FALSE)),\"\",VLOOKUP($A78,'Entry List'!$A$1:$F$61,E$5,FALSE))","v":""},null,"DNS",0,"DNS",0,"DNS",0,"DNS",0,"DNS",0,"DNS",0,"DNS",0,"DNS",0,"DNS",0,"DNS",0,"DNS",0,"DNS",0,"DNS",0,"DNS",0,"DNS",0,"DNS",0,"DNS",0,"DNS",0,"DNS",0,"DNS",0,"DNS",0,"DNS",0,"DNS",0,"DNS",0,"DNS",0,{"$f":"IF('Last Race Results'!$B$5=0,0,IF(ISNA(VLOOKUP($A78,'Last Race Results'!$A$5:$J$44,2,FALSE)),\"DNS\",VLOOKUP($A78,'Last Race Results'!$A$5:$J$44,2,FALSE)))","v":"DNS"},{"$f":"IF('Last Race Results'!$B$5=0,0,IF(ISNA(VLOOKUP($A78,'Last Race Results'!$A$5:$K$44,11,FALSE)),0,VLOOKUP($A78,'Last Race Results'!$A$5:$K$44,11,FALSE)))","v":0},null,null,null,null,null,null,null,null,null,null,null,null,null,null,null,null,null,null,{"$f":"IF('Last Race Results'!$B$5=0,0,IF(ISNA(VLOOKUP($A78,'Last Race Results'!$A$5:$J$44,2,FALSE)),\"DNS\",VLOOKUP($A78,'Last Race Results'!$A$5:$J$44,2,FALSE)))","v":"DNS"},{"$f":"IF('Last Race Results'!$B$5=0,0,IF(ISNA(VLOOKUP($A78,'Last Race Results'!$A$5:$J$44,11,FALSE)),0,VLOOKUP($A78,'Last Race Results'!$A$5:$J$44,11,FALSE)))","v":0}]
[72,{"$f":"IF(ISNA(VLOOKUP($A79,'Entry List'!$A$1:$F$61,B$5,FALSE)),\"\",VLOOKUP($A79,'Entry List'!$A$1:$F$61,B$5,FALSE))","v":""},{"$f":"IF(ISNA(VLOOKUP($A79,'Entry List'!$A$1:$F$61,C$5,FALSE)),\"\",VLOOKUP($A79,'Entry List'!$A$1:$F$61,C$5,FALSE))","v":""},{"$f":"IF(ISNA(VLOOKUP($A79,'Entry List'!$A$1:$F$61,D$5,FALSE)),\"\",VLOOKUP($A79,'Entry List'!$A$1:$F$61,D$5,FALSE))","v":""},{"$f":"IF(ISNA(VLOOKUP($A79,'Entry List'!$A$1:$F$61,E$5,FALSE)),\"\",VLOOKUP($A79,'Entry List'!$A$1:$F$61,E$5,FALSE))","v":""},null,"DNS",0,"DNS",0,"DNS",0,"DNS",0,"DNS",0,"DNS",0,"DNS",0,"DNS",0,"DNS",0,"DNS",0,"DNS",0,"DNS",0,"DNS",0,"DNS",0,"DNS",0,"DNS",0,"DNS",0,"DNS",0,"DNS",0,"DNS",0,"DNS",0,"DNS",0,"DNS",0,"DNS",0,"DNS",0,{"$f":"IF('Last Race Results'!$B$5=0,0,IF(ISNA(VLOOKUP($A79,'Last Race Results'!$A$5:$J$44,2,FALSE)),\"DNS\",VLOOKUP($A79,'Last Race Results'!$A$5:$J$44,2,FALSE)))","v":"DNS"},{"$f":"IF('Last Race Results'!$B$5=0,0,IF(ISNA(VLOOKUP($A79,'Last Race Results'!$A$5:$K$44,11,FALSE)),0,VLOOKUP($A79,'Last Race Results'!$A$5:$K$44,11,FALSE)))","v":0},null,null,null,null,null,null,null,null,null,null,null,null,null,null,null,null,null,null,{"$f":"IF('Last Race Results'!$B$5=0,0,IF(ISNA(VLOOKUP($A79,'Last Race Results'!$A$5:$J$44,2,FALSE)),\"DNS\",VLOOKUP($A79,'Last Race Results'!$A$5:$J$44,2,FALSE)))","v":"DNS"},{"$f":"IF('Last Race Results'!$B$5=0,0,IF(ISNA(VLOOKUP($A79,'Last Race Results'!$A$5:$J$44,11,FALSE)),0,VLOOKUP($A79,'Last Race Results'!$A$5:$J$44,11,FALSE)))","v":0}]
[73,{"$f":"IF(ISNA(VLOOKUP($A80,'Entry List'!$A$1:$F$61,B$5,FALSE)),\"\",VLOOKUP($A80,'Entry List'!$A$1:$F$61,B$5,FALSE))","v":""},{"$f":"IF(ISNA(VLOOKUP($A80,'Entry List'!$A$1:$F$61,C$5,FALSE)),\"\",VLOOKUP($A80,'Entry List'!$A$1:$F$61,C$5,FALSE))","v":""},{"$f":"IF(ISNA(VLOOKUP($A80,'Entry List'!$A$1:$F$61,D$5,FALSE)),\"\",VLOOKUP($A80,'Entry List'!$A$1:$F$61,D$5,FALSE))","v":""},{"$f":"IF(ISNA(VLOOKUP($A80,'Entry List'!$A$1:$F$61,E$5,FALSE)),\"\",VLOOKUP($A80,'Entry List'!$A$1:$F$61,E$5,FALSE))","v":""},null,"DNS",0,"DNS",0,"DNS",0,"DNS",0,"DNS",0,"DNS",0,"DNS",0,"DNS",0,"DNS",0,"DNS",0,"DNS",0,"DNS",0,"DNS",0,"DNS",0,"DNS",0,"DNS",0,"DNS",0,"DNS",0,"DNS",0,"DNS",0,"DNS",0,"DNS",0,"DNS",0,"DNS",0,"DNS",0,{"$f":"IF('Last Race Results'!$B$5=0,0,IF(ISNA(VLOOKUP($A80,'Last Race Results'!$A$5:$J$44,2,FALSE)),\"DNS\",VLOOKUP($A80,'Last Race Results'!$A$5:$J$44,2,FALSE)))","v":"DNS"},{"$f":"IF('Last Race Results'!$B$5=0,0,IF(ISNA(VLOOKUP($A80,'Last Race Results'!$A$5:$K$44,11,FALSE)),0,VLOOKUP($A80,'Last Race Results'!$A$5:$K$44,11,FALSE)))","v":0},null,null,null,null,null,null,null,null,null,null,null,null,null,null,null,null,null,null,{"$f":"IF('Last Race Results'!$B$5=0,0,IF(ISNA(VLOOKUP($A80,'Last Race Results'!$A$5:$J$44,2,FALSE)),\"DNS\",VLOOKUP($A80,'Last Race Results'!$A$5:$J$44,2,FALSE)))","v":"DNS"},{"$f":"IF('Last Race Results'!$B$5=0,0,IF(ISNA(VLOOKUP($A80,'Last Race Results'!$A$5:$J$44,11,FALSE)),0,VLOOKUP($A80,'Last Race Results'!$A$5:$J$44,11,FALSE)))","v":0}]
[74,{"$f":"IF(ISNA(VLOOKUP($A81,'Entry List'!$A$1:$F$61,B$5,FALSE)),\"\",VLOOKUP($A81,'Entry List'!$A$1:$F$61,B$5,FALSE))","v":""},{"$f":"IF(ISNA(VLOOKUP($A81,'Entry List'!$A$1:$F$61,C$5,FALSE)),\"\",VLOOKUP($A81,'Entry List'!$A$1:$F$61,C$5,FALSE))","v":""},{"$f":"IF(ISNA(VLOOKUP($A81,'Entry List'!$A$1:$F$61,D$5,FALSE)),\"\",VLOOKUP($A81,'Entry List'!$A$1:$F$61,D$5,FALSE))","v":""},{"$f":"IF(ISNA(VLOOKUP($A81,'Entry List'!$A$1:$F$61,E$5,FALSE)),\"\",VLOOKUP($A81,'Entry List'!$A$1:$F$61,E$5,FALSE))","v":""},null,"DNS",0,"DNS",0,"DNS",0,"DNS",0,"DNS",0,"DNS",0,"DNS",0,"DNS",0,"DNS",0,"DNS",0,"DNS",0,"DNS",0,"DNS",0,"DNS",0,"DNS",0,"DNS",0,"DNS",0,"DNS",0,"DNS",0,"DNS",0,30,7,31,6,"DNS",0,"DNS",0,"DNS",0,{"$f":"IF('Last Race Results'!$B$5=0,0,IF(ISNA(VLOOKUP($A81,'Last Race Results'!$A$5:$J$44,2,FALSE)),\"DNS\",VLOOKUP($A81,'Last Race Results'!$A$5:$J$44,2,FALSE)))","v":"DNS"},{"$f":"IF('Last Race Results'!$B$5=0,0,IF(ISNA(VLOOKUP($A81,'Last Race Results'!$A$5:$K$44,11,FALSE)),0,VLOOKUP($A81,'Last Race Results'!$A$5:$K$44,11,FALSE)))","v":0},null,null,null,null,null,null,null,null,null,null,null,null,null,null,null,null,null,null,{"$f":"IF('Last Race Results'!$B$5=0,0,IF(ISNA(VLOOKUP($A81,'Last Race Results'!$A$5:$J$44,2,FALSE)),\"DNS\",VLOOKUP($A81,'Last Race Results'!$A$5:$J$44,2,FALSE)))","v":"DNS"},{"$f":"IF('Last Race Results'!$B$5=0,0,IF(ISNA(VLOOKUP($A81,'Last Race Results'!$A$5:$J$44,11,FALSE)),0,VLOOKUP($A81,'Last Race Results'!$A$5:$J$44,11,FALSE)))","v":0}]
[75,{"$f":"IF(ISNA(VLOOKUP($A82,'Entry List'!$A$1:$F$61,B$5,FALSE)),\"\",VLOOKUP($A82,'Entry List'!$A$1:$F$61,B$5,FALSE))","v":""},{"$f":"IF(ISNA(VLOOKUP($A82,'Entry List'!$A$1:$F$61,C$5,FALSE)),\"\",VLOOKUP($A82,'Entry List'!$A$1:$F$61,C$5,FALSE))","v":""},{"$f":"IF(ISNA(VLOOKUP($A82,'Entry List'!$A$1:$F$61,D$5,FALSE)),\"\",VLOOKUP($A82,'Entry List'!$A$1:$F$61,D$5,FALSE))","v":""},{"$f":"IF(ISNA(VLOOKUP($A82,'Entry List'!$A$1:$F$61,E$5,FALSE)),\"\",VLOOKUP($A82,'Entry List'!$A$1:$F$61,E$5,FALSE))","v":""},null,"DNS",0,"DNS",0,"DNS",0,"DNS",0,"DNS",0,"DNS",0,"DNS",0,"DNS",0,"DNS",0,"DNS",0,"DNS",0,"DNS",0,"DNS",0,"DNS",0,"DNS",0,"DNS",0,"DNS",0,"DNS",0,"DNS",0,"DNS",0,"DNS",0,"DNS",0,"DNS",0,"DNS",0,"DNS",0,{"$f":"IF('Last Race Results'!$B$5=0,0,IF(ISNA(VLOOKUP($A82,'Last Race Results'!$A$5:$J$44,2,FALSE)),\"DNS\",VLOOKUP($A82,'Last Race Results'!$A$5:$J$44,2,FALSE)))","v":"DNS"},{"$f":"IF('Last Race Results'!$B$5=0,0,IF(ISNA(VLOOKUP($A82,'Last Race Results'!$A$5:$K$44,11,FALSE)),0,VLOOKUP($A82,'Last Race Results'!$A$5:$K$44,11,FALSE)))","v":0},null,null,null,null,null,null,null,null,null,null,null,null,null,null,null,null,null,null,{"$f":"IF('Last Race Results'!$B$5=0,0,IF(ISNA(VLOOKUP($A82,'Last Race Results'!$A$5:$J$44,2,FALSE)),\"DNS\",VLOOKUP($A82,'Last Race Results'!$A$5:$J$44,2,FALSE)))","v":"DNS"},{"$f":"IF('Last Race Results'!$B$5=0,0,IF(ISNA(VLOOKUP($A82,'Last Race Results'!$A$5:$J$44,11,FALSE)),0,VLOOKUP($A82,'Last Race Results'!$A$5:$J$44,11,FALSE)))","v":0}]
[76,{"$f":"IF(ISNA(VLOOKUP($A83,'Entry List'!$A$1:$F$61,B$5,FALSE)),\"\",VLOOKUP($A83,'Entry List'!$A$1:$F$61,B$5,FALSE))","v":""},{"$f":"IF(ISNA(VLOOKUP($A83,'Entry List'!$A$1:$F$61,C$5,FALSE)),\"\",VLOOKUP($A83,'Entry List'!$A$1:$F$61,C$5,FALSE))","v":""},{"$f":"IF(ISNA(VLOOKUP($A83,'Entry List'!$A$1:$F$61,D$5,FALSE)),\"\",VLOOKUP($A83,'Entry List'!$A$1:$F$61,D$5,FALSE))","v":""},{"$f":"IF(ISNA(VLOOKUP($A83,'Entry List'!$A$1:$F$61,E$5,FALSE)),\"\",VLOOKUP($A83,'Entry List'!$A$1:$F$61,E$5,FALSE))","v":""},null,"DNS",0,"DNS",0,"DNS",0,"DNS",0,"DNS",0,"DNS",0,"DNS",0,"DNS",0,"DNS",0,"DNS",0,"DNS",0,"DNS",0,"DNS",0,"DNS",0,"DNS",0,"DNS",0,"DNS",0,"DNS",0,"DNS",0,"DNS",0,"DNS",0,"DNS",0,"DNS",0,"DNS",0,"DNS",0,{"$f":"IF('Last Race Results'!$B$5=0,0,IF(ISNA(VLOOKUP($A83,'Last Race Results'!$A$5:$J$44,2,FALSE)),\"DNS\",VLOOKUP($A83,'Last Race Results'!$A$5:$J$44,2,FALSE)))","v":"DNS"},{"$f":"IF('Last Race Results'!$B$5=0,0,IF(ISNA(VLOOKUP($A83,'Last Race Results'!$A$5:$K$44,11,FALSE)),0,VLOOKUP($A83,'Last Race Results'!$A$5:$K$44,11,FALSE)))","v":0},null,null,null,null,null,null,null,null,null,null,null,null,null,null,null,null,null,null,{"$f":"IF('Last Race Results'!$B$5=0,0,IF(ISNA(VLOOKUP($A83,'Last Race Results'!$A$5:$J$44,2,FALSE)),\"DNS\",VLOOKUP($A83,'Last Race Results'!$A$5:$J$44,2,FALSE)))","v":"DNS"},{"$f":"IF('Last Race Results'!$B$5=0,0,IF(ISNA(VLOOKUP($A83,'Last Race Results'!$A$5:$J$44,11,FALSE)),0,VLOOKUP($A83,'Last Race Results'!$A$5:$J$44,11,FALSE)))","v":0}]
[77,{"$f":"IF(ISNA(VLOOKUP($A84,'Entry List'!$A$1:$F$61,B$5,FALSE)),\"\",VLOOKUP($A84,'Entry List'!$A$1:$F$61,B$5,FALSE))","v":"Ross Chastain (i)"},{"$f":"IF(ISNA(VLOOKUP($A84,'Entry List'!$A$1:$F$61,C$5,FALSE)),\"\",VLOOKUP($A84,'Entry List'!$A$1:$F$61,C$5,FALSE))","v":"Chevrolet"},{"$f":"IF(ISNA(VLOOKUP($A84,'Entry List'!$A$1:$F$61,D$5,FALSE)),\"\",VLOOKUP($A84,'Entry List'!$A$1:$F$61,D$5,FALSE))","v":"Spire Motorsports"},{"$f":"IF(ISNA(VLOOKUP($A84,'Entry List'!$A$1:$F$61,E$5,FALSE)),\"\",VLOOKUP($A84,'Entry List'!$A$1:$F$61,E$5,FALSE))","v":"Spire Motorsports"},null,25,20,34,3,36,1,30,7,29,8,28,9,34,3,34,3,26,11,36,1,36,1,35,2,31,6,34,3,30,7,17,20,32,0,23,14,26,0,31,6,"DNS",0,"DNS",0,38,1,39,1,33,4,{"$f":"IF('Last Race Results'!$B$5=0,0,IF(ISNA(VLOOKUP($A84,'Last Race Results'!$A$5:$J$44,2,FALSE)),\"DNS\",VLOOKUP($A84,'Last Race Results'!$A$5:$J$44,2,FALSE)))","v":16},{"$f":"IF('Last Race Results'!$B$5=0,0,IF(ISNA(VLOOKUP($A84,'Last Race Results'!$A$5:$K$44,11,FALSE)),0,VLOOKUP($A84,'Last Race Results'!$A$5:$K$44,11,FALSE)))","v":21},null,null,null,null,null,null,null,null,null,null,null,null,null,null,null,null,null,null,{"$f":"IF('Last Race Results'!$B$5=0,0,IF(ISNA(VLOOKUP($A84,'Last Race Results'!$A$5:$J$44,2,FALSE)),\"DNS\",VLOOKUP($A84,'Last Race Results'!$A$5:$J$44,2,FALSE)))","v":16},{"$f":"IF('Last Race Results'!$B$5=0,0,IF(ISNA(VLOOKUP($A84,'Last Race Results'!$A$5:$J$44,11,FALSE)),0,VLOOKUP($A84,'Last Race Results'!$A$5:$J$44,11,FALSE)))","v":{"$error":"#REF!"}}]
[78,{"$f":"IF(ISNA(VLOOKUP($A85,'Entry List'!$A$1:$F$61,B$5,FALSE)),\"\",VLOOKUP($A85,'Entry List'!$A$1:$F$61,B$5,FALSE))","v":""},{"$f":"IF(ISNA(VLOOKUP($A85,'Entry List'!$A$1:$F$61,C$5,FALSE)),\"\",VLOOKUP($A85,'Entry List'!$A$1:$F$61,C$5,FALSE))","v":""},{"$f":"IF(ISNA(VLOOKUP($A85,'Entry List'!$A$1:$F$61,D$5,FALSE)),\"\",VLOOKUP($A85,'Entry List'!$A$1:$F$61,D$5,FALSE))","v":""},{"$f":"IF(ISNA(VLOOKUP($A85,'Entry List'!$A$1:$F$61,E$5,FALSE)),\"\",VLOOKUP($A85,'Entry List'!$A$1:$F$61,E$5,FALSE))","v":""},null,"DNS",0,"DNS",0,"DNS",0,"DNS",0,39,1,36,1,35,0,35,0,28,9,40,1,"DNS",0,"DNS",0,34,3,39,1,37,1,22,15,"DNS",0,"DNS",0,39,0,"DNS",0,"DNS",0,"DNS",0,"DNS",0,38,1,31,6,{"$f":"IF('Last Race Results'!$B$5=0,0,IF(ISNA(VLOOKUP($A85,'Last Race Results'!$A$5:$J$44,2,FALSE)),\"DNS\",VLOOKUP($A85,'Last Race Results'!$A$5:$J$44,2,FALSE)))","v":"DNS"},{"$f":"IF('Last Race Results'!$B$5=0,0,IF(ISNA(VLOOKUP($A85,'Last Race Results'!$A$5:$K$44,11,FALSE)),0,VLOOKUP($A85,'Last Race Results'!$A$5:$K$44,11,FALSE)))","v":0},null,null,null,null,null,null,null,null,null,null,null,null,null,null,null,null,null,null,{"$f":"IF('Last Race Results'!$B$5=0,0,IF(ISNA(VLOOKUP($A85,'Last Race Results'!$A$5:$J$44,2,FALSE)),\"DNS\",VLOOKUP($A85,'Last Race Results'!$A$5:$J$44,2,FALSE)))","v":"DNS"},{"$f":"IF('Last Race Results'!$B$5=0,0,IF(ISNA(VLOOKUP($A85,'Last Race Results'!$A$5:$J$44,11,FALSE)),0,VLOOKUP($A85,'Last Race Results'!$A$5:$J$44,11,FALSE)))","v":0}]
[79,{"$f":"IF(ISNA(VLOOKUP($A86,'Entry List'!$A$1:$F$61,B$5,FALSE)),\"\",VLOOKUP($A86,'Entry List'!$A$1:$F$61,B$5,FALSE))","v":""},{"$f":"IF(ISNA(VLOOKUP($A86,'Entry List'!$A$1:$F$61,C$5,FALSE)),\"\",VLOOKUP($A86,'Entry List'!$A$1:$F$61,C$5,FALSE))","v":""},{"$f":"IF(ISNA(VLOOKUP($A86,'Entry List'!$A$1:$F$61,D$5,FALSE)),\"\",VLOOKUP($A86,'Entry List'!$A$1:$F$61,D$5,FALSE))","v":""},{"$f":"IF(ISNA(VLOOKUP($A86,'Entry List'!$A$1:$F$61,E$5,FALSE)),\"\",VLOOKUP($A86,'Entry List'!$A$1:$F$61,E$5,FALSE))","v":""},null,"DNS",0,"DNS",0,"DNS",0,"DNS",0,"DNS",0,"DNS",0,"DNS",0,"DNS",0,"DNS",0,"DNS",0,"DNS",0,"DNS",0,"DNS",0,"DNS",0,"DNS",0,"DNS",0,"DNS",0,"DNS",0,"DNS",0,"DNS",0,"DNS",0,"DNS",0,"DNS",0,"DNS",0,"DNS",0,{"$f":"IF('Last Race Results'!$B$5=0,0,IF(ISNA(VLOOKUP($A86,'Last Race Results'!$A$5:$J$44,2,FALSE)),\"DNS\",VLOOKUP($A86,'Last Race Results'!$A$5:$J$44,2,FALSE)))","v":"DNS"},{"$f":"IF('Last Race Results'!$B$5=0,0,IF(ISNA(VLOOKUP($A86,'Last Race Results'!$A$5:$K$44,11,FALSE)),0,VLOOKUP($A86,'Last Race Results'!$A$5:$K$44,11,FALSE)))","v":0},null,null,null,null,null,null,null,null,null,null,null,null,null,null,null,null,null,null,{"$f":"IF('Last Race Results'!$B$5=0,0,IF(ISNA(VLOOKUP($A86,'Last Race Results'!$A$5:$J$44,2,FALSE)),\"DNS\",VLOOKUP($A86,'Last Race Results'!$A$5:$J$44,2,FALSE)))","v":"DNS"},{"$f":"IF('Last Race Results'!$B$5=0,0,IF(ISNA(VLOOKUP($A86,'Last Race Results'!$A$5:$J$44,11,FALSE)),0,VLOOKUP($A86,'Last Race Results'!$A$5:$J$44,11,FALSE)))","v":0}]
[80,{"$f":"IF(ISNA(VLOOKUP($A87,'Entry List'!$A$1:$F$61,B$5,FALSE)),\"\",VLOOKUP($A87,'Entry List'!$A$1:$F$61,B$5,FALSE))","v":""},{"$f":"IF(ISNA(VLOOKUP($A87,'Entry List'!$A$1:$F$61,C$5,FALSE)),\"\",VLOOKUP($A87,'Entry List'!$A$1:$F$61,C$5,FALSE))","v":""},{"$f":"IF(ISNA(VLOOKUP($A87,'Entry List'!$A$1:$F$61,D$5,FALSE)),\"\",VLOOKUP($A87,'Entry List'!$A$1:$F$61,D$5,FALSE))","v":""},{"$f":"IF(ISNA(VLOOKUP($A87,'Entry List'!$A$1:$F$61,E$5,FALSE)),\"\",VLOOKUP($A87,'Entry List'!$A$1:$F$61,E$5,FALSE))","v":""},null,"DNS",0,"DNS",0,"DNS",0,"DNS",0,"DNS",0,"DNS",0,"DNS",0,"DNS",0,"DNS",0,"DNS",0,"DNS",0,"DNS",0,"DNS",0,"DNS",0,"DNS",0,"DNS",0,"DNS",0,"DNS",0,"DNS",0,"DNS",0,"DNS",0,"DNS",0,"DNS",0,"DNS",0,"DNS",0,{"$f":"IF('Last Race Results'!$B$5=0,0,IF(ISNA(VLOOKUP($A87,'Last Race Results'!$A$5:$J$44,2,FALSE)),\"DNS\",VLOOKUP($A87,'Last Race Results'!$A$5:$J$44,2,FALSE)))","v":"DNS"},{"$f":"IF('Last Race Results'!$B$5=0,0,IF(ISNA(VLOOKUP($A87,'Last Race Results'!$A$5:$K$44,11,FALSE)),0,VLOOKUP($A87,'Last Race Results'!$A$5:$K$44,11,FALSE)))","v":0},null,null,null,null,null,null,null,null,null,null,null,null,null,null,null,null,null,null,{"$f":"IF('Last Race Results'!$B$5=0,0,IF(ISNA(VLOOKUP($A87,'Last Race Results'!$A$5:$J$44,2,FALSE)),\"DNS\",VLOOKUP($A87,'Last Race Results'!$A$5:$J$44,2,FALSE)))","v":"DNS"},{"$f":"IF('Last Race Results'!$B$5=0,0,IF(ISNA(VLOOKUP($A87,'Last Race Results'!$A$5:$J$44,11,FALSE)),0,VLOOKUP($A87,'Last Race Results'!$A$5:$J$44,11,FALSE)))","v":0}]
[81,{"$f":"IF(ISNA(VLOOKUP($A88,'Entry List'!$A$1:$F$61,B$5,FALSE)),\"\",VLOOKUP($A88,'Entry List'!$A$1:$F$61,B$5,FALSE))","v":""},{"$f":"IF(ISNA(VLOOKUP($A88,'Entry List'!$A$1:$F$61,C$5,FALSE)),\"\",VLOOKUP($A88,'Entry List'!$A$1:$F$61,C$5,FALSE))","v":""},{"$f":"IF(ISNA(VLOOKUP($A88,'Entry List'!$A$1:$F$61,D$5,FALSE)),\"\",VLOOKUP($A88,'Entry List'!$A$1:$F$61,D$5,FALSE))","v":""},{"$f":"IF(ISNA(VLOOKUP($A88,'Entry List'!$A$1:$F$61,E$5,FALSE)),\"\",VLOOKUP($A88,'Entry List'!$A$1:$F$61,E$5,FALSE))","v":""},null,"DNS",0,"DNS",0,"DNS",0,"DNS",0,"DNS",0,"DNS",0,"DNS",0,"DNS",0,"DNS",0,"DNS",0,"DNS",0,"DNS",0,"DNS",0,"DNS",0,"DNS",0,"DNS",0,"DNS",0,"DNS",0,"DNS",0,"DNS",0,"DNS",0,"DNS",0,"DNS",0,"DNS",0,"DNS",0,{"$f":"IF('Last Race Results'!$B$5=0,0,IF(ISNA(VLOOKUP($A88,'Last Race Results'!$A$5:$J$44,2,FALSE)),\"DNS\",VLOOKUP($A88,'Last Race Results'!$A$5:$J$44,2,FALSE)))","v":"DNS"},{"$f":"IF('Last Race Results'!$B$5=0,0,IF(ISNA(VLOOKUP($A88,'Last Race Results'!$A$5:$K$44,11,FALSE)),0,VLOOKUP($A88,'Last Race Results'!$A$5:$K$44,11,FALSE)))","v":0},null,null,null,null,null,null,null,null,null,null,null,null,null,null,null,null,null,null,{"$f":"IF('Last Race Results'!$B$5=0,0,IF(ISNA(VLOOKUP($A88,'Last Race Results'!$A$5:$J$44,2,FALSE)),\"DNS\",VLOOKUP($A88,'Last Race Results'!$A$5:$J$44,2,FALSE)))","v":"DNS"},{"$f":"IF('Last Race Results'!$B$5=0,0,IF(ISNA(VLOOKUP($A88,'Last Race Results'!$A$5:$J$44,11,FALSE)),0,VLOOKUP($A88,'Last Race Results'!$A$5:$J$44,11,FALSE)))","v":0}]
[82,{"$f":"IF(ISNA(VLOOKUP($A89,'Entry List'!$A$1:$F$61,B$5,FALSE)),\"\",VLOOKUP($A89,'Entry List'!$A$1:$F$61,B$5,FALSE))","v":""},{"$f":"IF(ISNA(VLOOKUP($A89,'Entry List'!$A$1:$F$61,C$5,FALSE)),\"\",VLOOKUP($A89,'Entry List'!$A$1:$F$61,C$5,FALSE))","v":""},{"$f":"IF(ISNA(VLOOKUP($A89,'Entry List'!$A$1:$F$61,D$5,FALSE)),\"\",VLOOKUP($A89,'Entry List'!$A$1:$F$61,D$5,FALSE))","v":""},{"$f":"IF(ISNA(VLOOKUP($A89,'Entry List'!$A$1:$F$61,E$5,FALSE)),\"\",VLOOKUP($A89,'Entry List'!$A$1:$F$61,E$5,FALSE))","v":""},null,"DNS",0,"DNS",0,"DNS",0,"DNS",0,"DNS",0,"DNS",0,"DNS",0,"DNS",0,"DNS",0,"DNS",0,"DNS",0,"DNS",0,"DNS",0,"DNS",0,"DNS",0,"DNS",0,"DNS",0,"DNS",0,"DNS",0,"DNS",0,"DNS",0,"DNS",0,"DNS",0,"DNS",0,"DNS",0,{"$f":"IF('Last Race Results'!$B$5=0,0,IF(ISNA(VLOOKUP($A89,'Last Race Results'!$A$5:$J$44,2,FALSE)),\"DNS\",VLOOKUP($A89,'Last Race Results'!$A$5:$J$44,2,FALSE)))","v":"DNS"},{"$f":"IF('Last Race Results'!$B$5=0,0,IF(ISNA(VLOOKUP($A89,'Last Race Results'!$A$5:$K$44,11,FALSE)),0,VLOOKUP($A89,'Last Race Results'!$A$5:$K$44,11,FALSE)))","v":0},null,null,null,null,null,null,null,null,null,null,null,null,null,null,null,null,null,null,{"$f":"IF('Last Race Results'!$B$5=0,0,IF(ISNA(VLOOKUP($A89,'Last Race Results'!$A$5:$J$44,2,FALSE)),\"DNS\",VLOOKUP($A89,'Last Race Results'!$A$5:$J$44,2,FALSE)))","v":"DNS"},{"$f":"IF('Last Race Results'!$B$5=0,0,IF(ISNA(VLOOKUP($A89,'Last Race Results'!$A$5:$J$44,11,FALSE)),0,VLOOKUP($A89,'Last Race Results'!$A$5:$J$44,11,FALSE)))","v":0}]
[83,{"$f":"IF(ISNA(VLOOKUP($A90,'Entry List'!$A$1:$F$61,B$5,FALSE)),\"\",VLOOKUP($A90,'Entry List'!$A$1:$F$61,B$5,FALSE))","v":""},{"$f":"IF(ISNA(VLOOKUP($A90,'Entry List'!$A$1:$F$61,C$5,FALSE)),\"\",VLOOKUP($A90,'Entry List'!$A$1:$F$61,C$5,FALSE))","v":""},{"$f":"IF(ISNA(VLOOKUP($A90,'Entry List'!$A$1:$F$61,D$5,FALSE)),\"\",VLOOKUP($A90,'Entry List'!$A$1:$F$61,D$5,FALSE))","v":""},{"$f":"IF(ISNA(VLOOKUP($A90,'Entry List'!$A$1:$F$61,E$5,FALSE)),\"\",VLOOKUP($A90,'Entry List'!$A$1:$F$61,E$5,FALSE))","v":""},null,"DNS",0,"DNS",0,"DNS",0,"DNS",0,"DNS",0,"DNS",0,"DNS",0,"DNS",0,"DNS",0,"DNS",0,"DNS",0,"DNS",0,"DNS",0,"DNS",0,"DNS",0,"DNS",0,"DNS",0,"DNS",0,"DNS",0,"DNS",0,"DNS",0,"DNS",0,"DNS",0,"DNS",0,"DNS",0,{"$f":"IF('Last Race Results'!$B$5=0,0,IF(ISNA(VLOOKUP($A90,'Last Race Results'!$A$5:$J$44,2,FALSE)),\"DNS\",VLOOKUP($A90,'Last Race Results'!$A$5:$J$44,2,FALSE)))","v":"DNS"},{"$f":"IF('Last Race Results'!$B$5=0,0,IF(ISNA(VLOOKUP($A90,'Last Race Results'!$A$5:$K$44,11,FALSE)),0,VLOOKUP($A90,'Last Race Results'!$A$5:$K$44,11,FALSE)))","v":0},null,null,null,null,null,null,null,null,null,null,null,null,null,null,null,null,null,null,{"$f":"IF('Last Race Results'!$B$5=0,0,IF(ISNA(VLOOKUP($A90,'Last Race Results'!$A$5:$J$44,2,FALSE)),\"DNS\",VLOOKUP($A90,'Last Race Results'!$A$5:$J$44,2,FALSE)))","v":"DNS"},{"$f":"IF('Last Race Results'!$B$5=0,0,IF(ISNA(VLOOKUP($A90,'Last Race Results'!$A$5:$J$44,11,FALSE)),0,VLOOKUP($A90,'Last Race Results'!$A$5:$J$44,11,FALSE)))","v":0}]
[84,{"$f":"IF(ISNA(VLOOKUP($A91,'Entry List'!$A$1:$F$61,B$5,FALSE)),\"\",VLOOKUP($A91,'Entry List'!$A$1:$F$61,B$5,FALSE))","v":""},{"$f":"IF(ISNA(VLOOKUP($A91,'Entry List'!$A$1:$F$61,C$5,FALSE)),\"\",VLOOKUP($A91,'Entry List'!$A$1:$F$61,C$5,FALSE))","v":""},{"$f":"IF(ISNA(VLOOKUP($A91,'Entry List'!$A$1:$F$61,D$5,FALSE)),\"\",VLOOKUP($A91,'Entry List'!$A$1:$F$61,D$5,FALSE))","v":""},{"$f":"IF(ISNA(VLOOKUP($A91,'Entry List'!$A$1:$F$61,E$5,FALSE)),\"\",VLOOKUP($A91,'Entry List'!$A$1:$F$61,E$5,FALSE))","v":""},null,"DNS",0,"DNS",0,"DNS",0,"DNS",0,"DNS",0,"DNS",0,"DNS",0,"DNS",0,"DNS",0,"DNS",0,"DNS",0,"DNS",0,"DNS",0,"DNS",0,"DNS",0,"DNS",0,"DNS",0,"DNS",0,"DNS",0,"DNS",0,"DNS",0,"DNS",0,"DNS",0,"DNS",0,"DNS",0,{"$f":"IF('Last Race Results'!$B$5=0,0,IF(ISNA(VLOOKUP($A91,'Last Race Results'!$A$5:$J$44,2,FALSE)),\"DNS\",VLOOKUP($A91,'Last Race Results'!$A$5:$J$44,2,FALSE)))","v":"DNS"},{"$f":"IF('Last Race Results'!$B$5=0,0,IF(ISNA(VLOOKUP($A91,'Last Race Results'!$A$5:$K$44,11,FALSE)),0,VLOOKUP($A91,'Last Race Results'!$A$5:$K$44,11,FALSE)))","v":0},null,null,null,null,null,null,null,null,null,null,null,null,null,null,null,null,null,null,{"$f":"IF('Last Race Results'!$B$5=0,0,IF(ISNA(VLOOKUP($A91,'Last Race Results'!$A$5:$J$44,2,FALSE)),\"DNS\",VLOOKUP($A91,'Last Race Results'!$A$5:$J$44,2,FALSE)))","v":"DNS"},{"$f":"IF('Last Race Results'!$B$5=0,0,IF(ISNA(VLOOKUP($A91,'Last Race Results'!$A$5:$J$44,11,FALSE)),0,VLOOKUP($A91,'Last Race Results'!$A$5:$J$44,11,FALSE)))","v":0}]
[85,{"$f":"IF(ISNA(VLOOKUP($A92,'Entry List'!$A$1:$F$61,B$5,FALSE)),\"\",VLOOKUP($A92,'Entry List'!$A$1:$F$61,B$5,FALSE))","v":""},{"$f":"IF(ISNA(VLOOKUP($A92,'Entry List'!$A$1:$F$61,C$5,FALSE)),\"\",VLOOKUP($A92,'Entry List'!$A$1:$F$61,C$5,FALSE))","v":""},{"$f":"IF(ISNA(VLOOKUP($A92,'Entry List'!$A$1:$F$61,D$5,FALSE)),\"\",VLOOKUP($A92,'Entry List'!$A$1:$F$61,D$5,FALSE))","v":""},{"$f":"IF(ISNA(VLOOKUP($A92,'Entry List'!$A$1:$F$61,E$5,FALSE)),\"\",VLOOKUP($A92,'Entry List'!$A$1:$F$61,E$5,FALSE))","v":""},null,"DNS",0,"DNS",0,"DNS",0,"DNS",0,"DNS",0,"DNS",0,"DNS",0,"DNS",0,"DNS",0,"DNS",0,"DNS",0,"DNS",0,"DNS",0,"DNS",0,"DNS",0,"DNS",0,"DNS",0,"DNS",0,"DNS",0,"DNS",0,"DNS",0,"DNS",0,"DNS",0,"DNS",0,"DNS",0,{"$f":"IF('Last Race Results'!$B$5=0,0,IF(ISNA(VLOOKUP($A92,'Last Race Results'!$A$5:$J$44,2,FALSE)),\"DNS\",VLOOKUP($A92,'Last Race Results'!$A$5:$J$44,2,FALSE)))","v":"DNS"},{"$f":"IF('Last Race Results'!$B$5=0,0,IF(ISNA(VLOOKUP($A92,'Last Race Results'!$A$5:$K$44,11,FALSE)),0,VLOOKUP($A92,'Last Race Results'!$A$5:$K$44,11,FALSE)))","v":0},null,null,null,null,null,null,null,null,null,null,null,null,null,null,null,null,null,null,{"$f":"IF('Last Race Results'!$B$5=0,0,IF(ISNA(VLOOKUP($A92,'Last Race Results'!$A$5:$J$44,2,FALSE)),\"DNS\",VLOOKUP($A92,'Last Race Results'!$A$5:$J$44,2,FALSE)))","v":"DNS"},{"$f":"IF('Last Race Results'!$B$5=0,0,IF(ISNA(VLOOKUP($A92,'Last Race Results'!$A$5:$J$44,11,FALSE)),0,VLOOKUP($A92,'Last Race Results'!$A$5:$J$44,11,FALSE)))","v":0}]
[86,{"$f":"IF(ISNA(VLOOKUP($A93,'Entry List'!$A$1:$F$61,B$5,FALSE)),\"\",VLOOKUP($A93,'Entry List'!$A$1:$F$61,B$5,FALSE))","v":""},{"$f":"IF(ISNA(VLOOKUP($A93,'Entry List'!$A$1:$F$61,C$5,FALSE)),\"\",VLOOKUP($A93,'Entry List'!$A$1:$F$61,C$5,FALSE))","v":""},{"$f":"IF(ISNA(VLOOKUP($A93,'Entry List'!$A$1:$F$61,D$5,FALSE)),\"\",VLOOKUP($A93,'Entry List'!$A$1:$F$61,D$5,FALSE))","v":""},{"$f":"IF(ISNA(VLOOKUP($A93,'Entry List'!$A$1:$F$61,E$5,FALSE)),\"\",VLOOKUP($A93,'Entry List'!$A$1:$F$61,E$5,FALSE))","v":""},null,"DNS",0,"DNS",0,"DNS",0,"DNS",0,"DNS",0,"DNS",0,"DNS",0,"DNS",0,"DNS",0,"DNS",0,"DNS",0,"DNS",0,"DNS",0,"DNS",0,"DNS",0,"DNS",0,"DNS",0,"DNS",0,"DNS",0,"DNS",0,"DNS",0,"DNS",0,"DNS",0,"DNS",0,"DNS",0,{"$f":"IF('Last Race Results'!$B$5=0,0,IF(ISNA(VLOOKUP($A93,'Last Race Results'!$A$5:$J$44,2,FALSE)),\"DNS\",VLOOKUP($A93,'Last Race Results'!$A$5:$J$44,2,FALSE)))","v":"DNS"},{"$f":"IF('Last Race Results'!$B$5=0,0,IF(ISNA(VLOOKUP($A93,'Last Race Results'!$A$5:$K$44,11,FALSE)),0,VLOOKUP($A93,'Last Race Results'!$A$5:$K$44,11,FALSE)))","v":0},null,null,null,null,null,null,null,null,null,null,null,null,null,null,null,null,null,null,{"$f":"IF('Last Race Results'!$B$5=0,0,IF(ISNA(VLOOKUP($A93,'Last Race Results'!$A$5:$J$44,2,FALSE)),\"DNS\",VLOOKUP($A93,'Last Race Results'!$A$5:$J$44,2,FALSE)))","v":"DNS"},{"$f":"IF('Last Race Results'!$B$5=0,0,IF(ISNA(VLOOKUP($A93,'Last Race Results'!$A$5:$J$44,11,FALSE)),0,VLOOKUP($A93,'Last Race Results'!$A$5:$J$44,11,FALSE)))","v":0}]
[87,{"$f":"IF(ISNA(VLOOKUP($A94,'Entry List'!$A$1:$F$61,B$5,FALSE)),\"\",VLOOKUP($A94,'Entry List'!$A$1:$F$61,B$5,FALSE))","v":""},{"$f":"IF(ISNA(VLOOKUP($A94,'Entry List'!$A$1:$F$61,C$5,FALSE)),\"\",VLOOKUP($A94,'Entry List'!$A$1:$F$61,C$5,FALSE))","v":""},{"$f":"IF(ISNA(VLOOKUP($A94,'Entry List'!$A$1:$F$61,D$5,FALSE)),\"\",VLOOKUP($A94,'Entry List'!$A$1:$F$61,D$5,FALSE))","v":""},{"$f":"IF(ISNA(VLOOKUP($A94,'Entry List'!$A$1:$F$61,E$5,FALSE)),\"\",VLOOKUP($A94,'Entry List'!$A$1:$F$61,E$5,FALSE))","v":""},null,"DNS",0,"DNS",0,"DNS",0,"DNS",0,"DNS",0,"DNS",0,"DNS",0,"DNS",0,"DNS",0,"DNS",0,"DNS",0,"DNS",0,"DNS",0,"DNS",0,"DNS",0,"DNS",0,"DNS",0,"DNS",0,"DNS",0,"DNS",0,"DNS",0,"DNS",0,"DNS",0,"DNS",0,"DNS",0,{"$f":"IF('Last Race Results'!$B$5=0,0,IF(ISNA(VLOOKUP($A94,'Last Race Results'!$A$5:$J$44,2,FALSE)),\"DNS\",VLOOKUP($A94,'Last Race Results'!$A$5:$J$44,2,FALSE)))","v":"DNS"},{"$f":"IF('Last Race Results'!$B$5=0,0,IF(ISNA(VLOOKUP($A94,'Last Race Results'!$A$5:$K$44,11,FALSE)),0,VLOOKUP($A94,'Last Race Results'!$A$5:$K$44,11,FALSE)))","v":0},null,null,null,null,null,null,null,null,null,null,null,null,null,null,null,null,null,null,{"$f":"IF('Last Race Results'!$B$5=0,0,IF(ISNA(VLOOKUP($A94,'Last Race Results'!$A$5:$J$44,2,FALSE)),\"DNS\",VLOOKUP($A94,'Last Race Results'!$A$5:$J$44,2,FALSE)))","v":"DNS"},{"$f":"IF('Last Race Results'!$B$5=0,0,IF(ISNA(VLOOKUP($A94,'Last Race Results'!$A$5:$J$44,11,FALSE)),0,VLOOKUP($A94,'Last Race Results'!$A$5:$J$44,11,FALSE)))","v":0}]
[88,{"$f":"IF(ISNA(VLOOKUP($A95,'Entry List'!$A$1:$F$61,B$5,FALSE)),\"\",VLOOKUP($A95,'Entry List'!$A$1:$F$61,B$5,FALSE))","v":"Alex Bowman"},{"$f":"IF(ISNA(VLOOKUP($A95,'Entry List'!$A$1:$F$61,C$5,FALSE)),\"\",VLOOKUP($A95,'Entry List'!$A$1:$F$61,C$5,FALSE))","v":"Chevrolet"},{"$f":"IF(ISNA(VLOOKUP($A95,'Entry List'!$A$1:$F$61,D$5,FALSE)),\"\",VLOOKUP($A95,'Entry List'!$A$1:$F$61,D$5,FALSE))","v":"Hendrick Motorsports"},{"$f":"IF(ISNA(VLOOKUP($A95,'Entry List'!$A$1:$F$61,E$5,FALSE)),\"\",VLOOKUP($A95,'Entry List'!$A$1:$F$61,E$5,FALSE))","v":"Hendrick Motorsports"},null,24,22,13,29,1,59,14,28,2,52,18,29,31,22,31,22,37,1,12,25,6,38,18,28,7,39,27,17,9,28,30,7,19,27,21,18,8,31,15,22,21,23,36,1,12,25,21,16,5,36,{"$f":"IF('Last Race Results'!$B$5=0,0,IF(ISNA(VLOOKUP($A95,'Last Race Results'!$A$5:$J$44,2,FALSE)),\"DNS\",VLOOKUP($A95,'Last Race Results'!$A$5:$J$44,2,FALSE)))","v":7},{"$f":"IF('Last Race Results'!$B$5=0,0,IF(ISNA(VLOOKUP($A95,'Last Race Results'!$A$5:$K$44,11,FALSE)),0,VLOOKUP($A95,'Last Race Results'!$A$5:$K$44,11,FALSE)))","v":30},null,null,null,null,null,null,null,null,null,null,null,null,null,null,null,null,null,null,{"$f":"IF('Last Race Results'!$B$5=0,0,IF(ISNA(VLOOKUP($A95,'Last Race Results'!$A$5:$J$44,2,FALSE)),\"DNS\",VLOOKUP($A95,'Last Race Results'!$A$5:$J$44,2,FALSE)))","v":7},{"$f":"IF('Last Race Results'!$B$5=0,0,IF(ISNA(VLOOKUP($A95,'Last Race Results'!$A$5:$J$44,11,FALSE)),0,VLOOKUP($A95,'Last Race Results'!$A$5:$J$44,11,FALSE)))","v":{"$error":"#REF!"}}]
[89,{"$f":"IF(ISNA(VLOOKUP($A96,'Entry List'!$A$1:$F$61,B$5,FALSE)),\"\",VLOOKUP($A96,'Entry List'!$A$1:$F$61,B$5,FALSE))","v":""},{"$f":"IF(ISNA(VLOOKUP($A96,'Entry List'!$A$1:$F$61,C$5,FALSE)),\"\",VLOOKUP($A96,'Entry List'!$A$1:$F$61,C$5,FALSE))","v":""},{"$f":"IF(ISNA(VLOOKUP($A96,'Entry List'!$A$1:$F$61,D$5,FALSE)),\"\",VLOOKUP($A96,'Entry List'!$A$1:$F$61,D$5,FALSE))","v":""},{"$f":"IF(ISNA(VLOOKUP($A96,'Entry List'!$A$1:$F$61,E$5,FALSE)),\"\",VLOOKUP($A96,'Entry List'!$A$1:$F$61,E$5,FALSE))","v":""},null,"DNS",0,"DNS",0,"DNS",0,"DNS",0,"DNS",0,"DNS",0,"DNS",0,"DNS",0,"DNS",0,"DNS",0,"DNS",0,"DNS",0,"DNS",0,"DNS",0,"DNS",0,"DNS",0,"DNS",0,"DNS",0,"DNS",0,"DNS",0,"DNS",0,"DNS",0,"DNS",0,"DNS",0,"DNS",0,{"$f":"IF('Last Race Results'!$B$5=0,0,IF(ISNA(VLOOKUP($A96,'Last Race Results'!$A$5:$J$44,2,FALSE)),\"DNS\",VLOOKUP($A96,'Last Race Results'!$A$5:$J$44,2,FALSE)))","v":"DNS"},{"$f":"IF('Last Race Results'!$B$5=0,0,IF(ISNA(VLOOKUP($A96,'Last Race Results'!$A$5:$K$44,11,FALSE)),0,VLOOKUP($A96,'Last Race Results'!$A$5:$K$44,11,FALSE)))","v":0},null,null,null,null,null,null,null,null,null,null,null,null,null,null,null,null,null,null,{"$f":"IF('Last Race Results'!$B$5=0,0,IF(ISNA(VLOOKUP($A96,'Last Race Results'!$A$5:$J$44,2,FALSE)),\"DNS\",VLOOKUP($A96,'Last Race Results'!$A$5:$J$44,2,FALSE)))","v":"DNS"},{"$f":"IF('Last Race Results'!$B$5=0,0,IF(ISNA(VLOOKUP($A96,'Last Race Results'!$A$5:$J$44,11,FALSE)),0,VLOOKUP($A96,'Last Race Results'!$A$5:$J$44,11,FALSE)))","v":0}]
[90,{"$f":"IF(ISNA(VLOOKUP($A97,'Entry List'!$A$1:$F$61,B$5,FALSE)),\"\",VLOOKUP($A97,'Entry List'!$A$1:$F$61,B$5,FALSE))","v":""},{"$f":"IF(ISNA(VLOOKUP($A97,'Entry List'!$A$1:$F$61,C$5,FALSE)),\"\",VLOOKUP($A97,'Entry List'!$A$1:$F$61,C$5,FALSE))","v":""},{"$f":"IF(ISNA(VLOOKUP($A97,'Entry List'!$A$1:$F$61,D$5,FALSE)),\"\",VLOOKUP($A97,'Entry List'!$A$1:$F$61,D$5,FALSE))","v":""},{"$f":"IF(ISNA(VLOOKUP($A97,'Entry List'!$A$1:$F$61,E$5,FALSE)),\"\",VLOOKUP($A97,'Entry List'!$A$1:$F$61,E$5,FALSE))","v":""},null,"DNS",0,"DNS",0,"DNS",0,"DNS",0,"DNS",0,"DNS",0,"DNS",0,"DNS",0,"DNS",0,"DNS",0,"DNS",0,"DNS",0,"DNS",0,"DNS",0,"DNS",0,"DNS",0,"DNS",0,"DNS",0,"DNS",0,"DNS",0,"DNS",0,"DNS",0,"DNS",0,"DNS",0,"DNS",0,{"$f":"IF('Last Race Results'!$B$5=0,0,IF(ISNA(VLOOKUP($A97,'Last Race Results'!$A$5:$J$44,2,FALSE)),\"DNS\",VLOOKUP($A97,'Last Race Results'!$A$5:$J$44,2,FALSE)))","v":"DNS"},{"$f":"IF('Last Race Results'!$B$5=0,0,IF(ISNA(VLOOKUP($A97,'Last Race Results'!$A$5:$K$44,11,FALSE)),0,VLOOKUP($A97,'Last Race Results'!$A$5:$K$44,11,FALSE)))","v":0},null,null,null,null,null,null,null,null,null,null,null,null,null,null,null,null,null,null,{"$f":"IF('Last Race Results'!$B$5=0,0,IF(ISNA(VLOOKUP($A97,'Last Race Results'!$A$5:$J$44,2,FALSE)),\"DNS\",VLOOKUP($A97,'Last Race Results'!$A$5:$J$44,2,FALSE)))","v":"DNS"},{"$f":"IF('Last Race Results'!$B$5=0,0,IF(ISNA(VLOOKUP($A97,'Last Race Results'!$A$5:$J$44,11,FALSE)),0,VLOOKUP($A97,'Last Race Results'!$A$5:$J$44,11,FALSE)))","v":0}]
[91,{"$f":"IF(ISNA(VLOOKUP($A98,'Entry List'!$A$1:$F$61,B$5,FALSE)),\"\",VLOOKUP($A98,'Entry List'!$A$1:$F$61,B$5,FALSE))","v":""},{"$f":"IF(ISNA(VLOOKUP($A98,'Entry List'!$A$1:$F$61,C$5,FALSE)),\"\",VLOOKUP($A98,'Entry List'!$A$1:$F$61,C$5,FALSE))","v":""},{"$f":"IF(ISNA(VLOOKUP($A98,'Entry List'!$A$1:$F$61,D$5,FALSE)),\"\",VLOOKUP($A98,'Entry List'!$A$1:$F$61,D$5,FALSE))","v":""},{"$f":"IF(ISNA(VLOOKUP($A98,'Entry List'!$A$1:$F$61,E$5,FALSE)),\"\",VLOOKUP($A98,'Entry List'!$A$1:$F$61,E$5,FALSE))","v":""},null,"DNS",0,"DNS",0,"DNS",0,"DNS",0,"DNS",0,"DNS",0,"DNS",0,"DNS",0,"DNS",0,"DNS",0,"DNS",0,"DNS",0,"DNS",0,"DNS",0,"DNS",0,"DNS",0,"DNS",0,"DNS",0,"DNS",0,"DNS",0,"DNS",0,"DNS",0,"DNS",0,"DNS",0,"DNS",0,{"$f":"IF('Last Race Results'!$B$5=0,0,IF(ISNA(VLOOKUP($A98,'Last Race Results'!$A$5:$J$44,2,FALSE)),\"DNS\",VLOOKUP($A98,'Last Race Results'!$A$5:$J$44,2,FALSE)))","v":"DNS"},{"$f":"IF('Last Race Results'!$B$5=0,0,IF(ISNA(VLOOKUP($A98,'Last Race Results'!$A$5:$K$44,11,FALSE)),0,VLOOKUP($A98,'Last Race Results'!$A$5:$K$44,11,FALSE)))","v":0},null,null,null,null,null,null,null,null,null,null,null,null,null,null,null,null,null,null,{"$f":"IF('Last Race Results'!$B$5=0,0,IF(ISNA(VLOOKUP($A98,'Last Race Results'!$A$5:$J$44,2,FALSE)),\"DNS\",VLOOKUP($A98,'Last Race Results'!$A$5:$J$44,2,FALSE)))","v":"DNS"},{"$f":"IF('Last Race Results'!$B$5=0,0,IF(ISNA(VLOOKUP($A98,'Last Race Results'!$A$5:$J$44,11,FALSE)),0,VLOOKUP($A98,'Last Race Results'!$A$5:$J$44,11,FALSE)))","v":0}]
[92,{"$f":"IF(ISNA(VLOOKUP($A99,'Entry List'!$A$1:$F$61,B$5,FALSE)),\"\",VLOOKUP($A99,'Entry List'!$A$1:$F$61,B$5,FALSE))","v":""},{"$f":"IF(ISNA(VLOOKUP($A99,'Entry List'!$A$1:$F$61,C$5,FALSE)),\"\",VLOOKUP($A99,'Entry List'!$A$1:$F$61,C$5,FALSE))","v":""},{"$f":"IF(ISNA(VLOOKUP($A99,'Entry List'!$A$1:$F$61,D$5,FALSE)),\"\",VLOOKUP($A99,'Entry List'!$A$1:$F$61,D$5,FALSE))","v":""},{"$f":"IF(ISNA(VLOOKUP($A99,'Entry List'!$A$1:$F$61,E$5,FALSE)),\"\",VLOOKUP($A99,'Entry List'!$A$1:$F$61,E$5,FALSE))","v":""},null,"DNS",0,"DNS",0,"DNS",0,"DNS",0,"DNS",0,"DNS",0,"DNS",0,"DNS",0,"DNS",0,"DNS",0,"DNS",0,"DNS",0,"DNS",0,"DNS",0,"DNS",0,"DNS",0,"DNS",0,"DNS",0,"DNS",0,"DNS",0,"DNS",0,"DNS",0,"DNS",0,"DNS",0,"DNS",0,{"$f":"IF('Last Race Results'!$B$5=0,0,IF(ISNA(VLOOKUP($A99,'Last Race Results'!$A$5:$J$44,2,FALSE)),\"DNS\",VLOOKUP($A99,'Last Race Results'!$A$5:$J$44,2,FALSE)))","v":"DNS"},{"$f":"IF('Last Race Results'!$B$5=0,0,IF(ISNA(VLOOKUP($A99,'Last Race Results'!$A$5:$K$44,11,FALSE)),0,VLOOKUP($A99,'Last Race Results'!$A$5:$K$44,11,FALSE)))","v":0},null,null,null,null,null,null,null,null,null,null,null,null,null,null,null,null,null,null,{"$f":"IF('Last Race Results'!$B$5=0,0,IF(ISNA(VLOOKUP($A99,'Last Race Results'!$A$5:$J$44,2,FALSE)),\"DNS\",VLOOKUP($A99,'Last Race Results'!$A$5:$J$44,2,FALSE)))","v":"DNS"},{"$f":"IF('Last Race Results'!$B$5=0,0,IF(ISNA(VLOOKUP($A99,'Last Race Results'!$A$5:$J$44,11,FALSE)),0,VLOOKUP($A99,'Last Race Results'!$A$5:$J$44,11,FALSE)))","v":0}]
[93,{"$f":"IF(ISNA(VLOOKUP($A100,'Entry List'!$A$1:$F$61,B$5,FALSE)),\"\",VLOOKUP($A100,'Entry List'!$A$1:$F$61,B$5,FALSE))","v":""},{"$f":"IF(ISNA(VLOOKUP($A100,'Entry List'!$A$1:$F$61,C$5,FALSE)),\"\",VLOOKUP($A100,'Entry List'!$A$1:$F$61,C$5,FALSE))","v":""},{"$f":"IF(ISNA(VLOOKUP($A100,'Entry List'!$A$1:$F$61,D$5,FALSE)),\"\",VLOOKUP($A100,'Entry List'!$A$1:$F$61,D$5,FALSE))","v":""},{"$f":"IF(ISNA(VLOOKUP($A100,'Entry List'!$A$1:$F$61,E$5,FALSE)),\"\",VLOOKUP($A100,'Entry List'!$A$1:$F$61,E$5,FALSE))","v":""},null,"DNS",0,"DNS",0,"DNS",0,"DNS",0,"DNS",0,"DNS",0,"DNS",0,"DNS",0,"DNS",0,"DNS",0,"DNS",0,"DNS",0,"DNS",0,"DNS",0,"DNS",0,"DNS",0,"DNS",0,"DNS",0,"DNS",0,"DNS",0,"DNS",0,"DNS",0,"DNS",0,"DNS",0,"DNS",0,{"$f":"IF('Last Race Results'!$B$5=0,0,IF(ISNA(VLOOKUP($A100,'Last Race Results'!$A$5:$J$44,2,FALSE)),\"DNS\",VLOOKUP($A100,'Last Race Results'!$A$5:$J$44,2,FALSE)))","v":"DNS"},{"$f":"IF('Last Race Results'!$B$5=0,0,IF(ISNA(VLOOKUP($A100,'Last Race Results'!$A$5:$K$44,11,FALSE)),0,VLOOKUP($A100,'Last Race Results'!$A$5:$K$44,11,FALSE)))","v":0},null,null,null,null,null,null,null,null,null,null,null,null,null,null,null,null,null,null,{"$f":"IF('Last Race Results'!$B$5=0,0,IF(ISNA(VLOOKUP($A100,'Last Race Results'!$A$5:$J$44,2,FALSE)),\"DNS\",VLOOKUP($A100,'Last Race Results'!$A$5:$J$44,2,FALSE)))","v":"DNS"},{"$f":"IF('Last Race Results'!$B$5=0,0,IF(ISNA(VLOOKUP($A100,'Last Race Results'!$A$5:$J$44,11,FALSE)),0,VLOOKUP($A100,'Last Race Results'!$A$5:$J$44,11,FALSE)))","v":0}]
[94,{"$f":"IF(ISNA(VLOOKUP($A101,'Entry List'!$A$1:$F$61,B$5,FALSE)),\"\",VLOOKUP($A101,'Entry List'!$A$1:$F$61,B$5,FALSE))","v":""},{"$f":"IF(ISNA(VLOOKUP($A101,'Entry List'!$A$1:$F$61,C$5,FALSE)),\"\",VLOOKUP($A101,'Entry List'!$A$1:$F$61,C$5,FALSE))","v":""},{"$f":"IF(ISNA(VLOOKUP($A101,'Entry List'!$A$1:$F$61,D$5,FALSE)),\"\",VLOOKUP($A101,'Entry List'!$A$1:$F$61,D$5,FALSE))","v":""},{"$f":"IF(ISNA(VLOOKUP($A101,'Entry List'!$A$1:$F$61,E$5,FALSE)),\"\",VLOOKUP($A101,'Entry List'!$A$1:$F$61,E$5,FALSE))","v":""},null,"DNS",0,"DNS",0,"DNS",0,"DNS",0,"DNS",0,"DNS",0,"DNS",0,"DNS",0,"DNS",0,"DNS",0,"DNS",0,"DNS",0,"DNS",0,"DNS",0,"DNS",0,"DNS",0,"DNS",0,"DNS",0,"DNS",0,"DNS",0,"DNS",0,"DNS",0,"DNS",0,"DNS",0,"DNS",0,{"$f":"IF('Last Race Results'!$B$5=0,0,IF(ISNA(VLOOKUP($A101,'Last Race Results'!$A$5:$J$44,2,FALSE)),\"DNS\",VLOOKUP($A101,'Last Race Results'!$A$5:$J$44,2,FALSE)))","v":"DNS"},{"$f":"IF('Last Race Results'!$B$5=0,0,IF(ISNA(VLOOKUP($A101,'Last Race Results'!$A$5:$K$44,11,FALSE)),0,VLOOKUP($A101,'Last Race Results'!$A$5:$K$44,11,FALSE)))","v":0},null,null,null,null,null,null,null,null,null,null,null,null,null,null,null,null,null,null,{"$f":"IF('Last Race Results'!$B$5=0,0,IF(ISNA(VLOOKUP($A101,'Last Race Results'!$A$5:$J$44,2,FALSE)),\"DNS\",VLOOKUP($A101,'Last Race Results'!$A$5:$J$44,2,FALSE)))","v":"DNS"},{"$f":"IF('Last Race Results'!$B$5=0,0,IF(ISNA(VLOOKUP($A101,'Last Race Results'!$A$5:$J$44,11,FALSE)),0,VLOOKUP($A101,'Last Race Results'!$A$5:$J$44,11,FALSE)))","v":0}]
[95,{"$f":"IF(ISNA(VLOOKUP($A102,'Entry List'!$A$1:$F$61,B$5,FALSE)),\"\",VLOOKUP($A102,'Entry List'!$A$1:$F$61,B$5,FALSE))","v":"Christopher Bell (R)"},{"$f":"IF(ISNA(VLOOKUP($A102,'Entry List'!$A$1:$F$61,C$5,FALSE)),\"\",VLOOKUP($A102,'Entry List'!$A$1:$F$61,C$5,FALSE))","v":"Toyota"},{"$f":"IF(ISNA(VLOOKUP($A102,'Entry List'!$A$1:$F$61,D$5,FALSE)),\"\",VLOOKUP($A102,'Entry List'!$A$1:$F$61,D$5,FALSE))","v":"Leavine Family Racing"},{"$f":"IF(ISNA(VLOOKUP($A102,'Entry List'!$A$1:$F$61,E$5,FALSE)),\"\",VLOOKUP($A102,'Entry List'!$A$1:$F$61,E$5,FALSE))","v":"Leavine Family Racing"},null,21,18,33,4,38,1,24,13,24,13,11,26,21,16,21,16,9,28,18,19,28,9,8,29,29,14,4,33,39,9,12,27,7,30,18,19,23,14,28,16,13,24,17,36,21,16,22,15,27,10,{"$f":"IF('Last Race Results'!$B$5=0,0,IF(ISNA(VLOOKUP($A102,'Last Race Results'!$A$5:$J$44,2,FALSE)),\"DNS\",VLOOKUP($A102,'Last Race Results'!$A$5:$J$44,2,FALSE)))","v":13},{"$f":"IF('Last Race Results'!$B$5=0,0,IF(ISNA(VLOOKUP($A102,'Last Race Results'!$A$5:$K$44,11,FALSE)),0,VLOOKUP($A102,'Last Race Results'!$A$5:$K$44,11,FALSE)))","v":30},null,null,null,null,null,null,null,null,null,null,null,null,null,null,null,null,null,null,{"$f":"IF('Last Race Results'!$B$5=0,0,IF(ISNA(VLOOKUP($A102,'Last Race Results'!$A$5:$J$44,2,FALSE)),\"DNS\",VLOOKUP($A102,'Last Race Results'!$A$5:$J$44,2,FALSE)))","v":13},{"$f":"IF('Last Race Results'!$B$5=0,0,IF(ISNA(VLOOKUP($A102,'Last Race Results'!$A$5:$J$44,11,FALSE)),0,VLOOKUP($A102,'Last Race Results'!$A$5:$J$44,11,FALSE)))","v":{"$error":"#REF!"}}]
[96,{"$f":"IF(ISNA(VLOOKUP($A103,'Entry List'!$A$1:$F$61,B$5,FALSE)),\"\",VLOOKUP($A103,'Entry List'!$A$1:$F$61,B$5,FALSE))","v":"Daniel Suárez"},{"$f":"IF(ISNA(VLOOKUP($A103,'Entry List'!$A$1:$F$61,C$5,FALSE)),\"\",VLOOKUP($A103,'Entry List'!$A$1:$F$61,C$5,FALSE))","v":"Toyota"},{"$f":"IF(ISNA(VLOOKUP($A103,'Entry List'!$A$1:$F$61,D$5,FALSE)),\"\",VLOOKUP($A103,'Entry List'!$A$1:$F$61,D$5,FALSE))","v":"Gaunt Brothers Racing"},{"$f":"IF(ISNA(VLOOKUP($A103,'Entry List'!$A$1:$F$61,E$5,FALSE)),\"\",VLOOKUP($A103,'Entry List'!$A$1:$F$61,E$5,FALSE))","v":"Gaunt Brothers Racing"},null,"DNS",0,30,7,28,9,21,16,25,12,27,10,28,9,28,9,18,19,31,6,27,10,31,6,28,9,28,9,26,11,20,17,26,11,36,1,18,19,26,11,24,13,26,11,27,10,30,7,28,9,{"$f":"IF('Last Race Results'!$B$5=0,0,IF(ISNA(VLOOKUP($A103,'Last Race Results'!$A$5:$J$44,2,FALSE)),\"DNS\",VLOOKUP($A103,'Last Race Results'!$A$5:$J$44,2,FALSE)))","v":26},{"$f":"IF('Last Race Results'!$B$5=0,0,IF(ISNA(VLOOKUP($A103,'Last Race Results'!$A$5:$K$44,11,FALSE)),0,VLOOKUP($A103,'Last Race Results'!$A$5:$K$44,11,FALSE)))","v":11},null,null,null,null,null,null,null,null,null,null,null,null,null,null,null,null,null,null,{"$f":"IF('Last Race Results'!$B$5=0,0,IF(ISNA(VLOOKUP($A103,'Last Race Results'!$A$5:$J$44,2,FALSE)),\"DNS\",VLOOKUP($A103,'Last Race Results'!$A$5:$J$44,2,FALSE)))","v":26},{"$f":"IF('Last Race Results'!$B$5=0,0,IF(ISNA(VLOOKUP($A103,'Last Race Results'!$A$5:$J$44,11,FALSE)),0,VLOOKUP($A103,'Last Race Results'!$A$5:$J$44,11,FALSE)))","v":{"$error":"#REF!"}}]
[97,{"$f":"IF(ISNA(VLOOKUP($A104,'Entry List'!$A$1:$F$61,B$5,FALSE)),\"\",VLOOKUP($A104,'Entry List'!$A$1:$F$61,B$5,FALSE))","v":""},{"$f":"IF(ISNA(VLOOKUP($A104,'Entry List'!$A$1:$F$61,C$5,FALSE)),\"\",VLOOKUP($A104,'Entry List'!$A$1:$F$61,C$5,FALSE))","v":""},{"$f":"IF(ISNA(VLOOKUP($A104,'Entry List'!$A$1:$F$61,D$5,FALSE)),\"\",VLOOKUP($A104,'Entry List'!$A$1:$F$61,D$5,FALSE))","v":""},{"$f":"IF(ISNA(VLOOKUP($A104,'Entry List'!$A$1:$F$61,E$5,FALSE)),\"\",VLOOKUP($A104,'Entry List'!$A$1:$F$61,E$5,FALSE))","v":""},null,"DNS",0,"DNS",0,"DNS",0,"DNS",0,"DNS",0,"DNS",0,"DNS",0,"DNS",0,"DNS",0,"DNS",0,"DNS",0,"DNS",0,"DNS",0,"DNS",0,"DNS",0,"DNS",0,"DNS",0,"DNS",0,"DNS",0,"DNS",0,"DNS",0,"DNS",0,"DNS",0,"DNS",0,"DNS",0,{"$f":"IF('Last Race Results'!$B$5=0,0,IF(ISNA(VLOOKUP($A104,'Last Race Results'!$A$5:$J$44,2,FALSE)),\"DNS\",VLOOKUP($A104,'Last Race Results'!$A$5:$J$44,2,FALSE)))","v":"DNS"},{"$f":"IF('Last Race Results'!$B$5=0,0,IF(ISNA(VLOOKUP($A104,'Last Race Results'!$A$5:$K$44,11,FALSE)),0,VLOOKUP($A104,'Last Race Results'!$A$5:$K$44,11,FALSE)))","v":0},null,null,null,null,null,null,null,null,null,null,null,null,null,null,null,null,null,null,{"$f":"IF('Last Race Results'!$B$5=0,0,IF(ISNA(VLOOKUP($A104,'Last Race Results'!$A$5:$J$44,2,FALSE)),\"DNS\",VLOOKUP($A104,'Last Race Results'!$A$5:$J$44,2,FALSE)))","v":"DNS"},{"$f":"IF('Last Race Results'!$B$5=0,0,IF(ISNA(VLOOKUP($A104,'Last Race Results'!$A$5:$J$44,11,FALSE)),0,VLOOKUP($A104,'Last Race Results'!$A$5:$J$44,11,FALSE)))","v":0}]
[98,{"$f":"IF(ISNA(VLOOKUP($A105,'Entry List'!$A$1:$F$61,B$5,FALSE)),\"\",VLOOKUP($A105,'Entry List'!$A$1:$F$61,B$5,FALSE))","v":""},{"$f":"IF(ISNA(VLOOKUP($A105,'Entry List'!$A$1:$F$61,C$5,FALSE)),\"\",VLOOKUP($A105,'Entry List'!$A$1:$F$61,C$5,FALSE))","v":""},{"$f":"IF(ISNA(VLOOKUP($A105,'Entry List'!$A$1:$F$61,D$5,FALSE)),\"\",VLOOKUP($A105,'Entry List'!$A$1:$F$61,D$5,FALSE))","v":""},{"$f":"IF(ISNA(VLOOKUP($A105,'Entry List'!$A$1:$F$61,E$5,FALSE)),\"\",VLOOKUP($A105,'Entry List'!$A$1:$F$61,E$5,FALSE))","v":""},null,"DNS",0,"DNS",0,"DNS",0,"DNS",0,"DNS",0,"DNS",0,"DNS",0,"DNS",0,"DNS",0,"DNS",0,"DNS",0,"DNS",0,"DNS",0,"DNS",0,"DNS",0,"DNS",0,"DNS",0,"DNS",0,"DNS",0,"DNS",0,"DNS",0,"DNS",0,"DNS",0,"DNS",0,"DNS",0,{"$f":"IF('Last Race Results'!$B$5=0,0,IF(ISNA(VLOOKUP($A105,'Last Race Results'!$A$5:$J$44,2,FALSE)),\"DNS\",VLOOKUP($A105,'Last Race Results'!$A$5:$J$44,2,FALSE)))","v":"DNS"},{"$f":"IF('Last Race Results'!$B$5=0,0,IF(ISNA(VLOOKUP($A105,'Last Race Results'!$A$5:$K$44,11,FALSE)),0,VLOOKUP($A105,'Last Race Results'!$A$5:$K$44,11,FALSE)))","v":0},null,null,null,null,null,null,null,null,null,null,null,null,null,null,null,null,null,null,{"$f":"IF('Last Race Results'!$B$5=0,0,IF(ISNA(VLOOKUP($A105,'Last Race Results'!$A$5:$J$44,2,FALSE)),\"DNS\",VLOOKUP($A105,'Last Race Results'!$A$5:$J$44,2,FALSE)))","v":"DNS"},{"$f":"IF('Last Race Results'!$B$5=0,0,IF(ISNA(VLOOKUP($A105,'Last Race Results'!$A$5:$J$44,11,FALSE)),0,VLOOKUP($A105,'Last Race Results'!$A$5:$J$44,11,FALSE)))","v":0}]
[99,{"$f":"IF(ISNA(VLOOKUP($A106,'Entry List'!$A$1:$F$61,B$5,FALSE)),\"\",VLOOKUP($A106,'Entry List'!$A$1:$F$61,B$5,FALSE))","v":""},{"$f":"IF(ISNA(VLOOKUP($A106,'Entry List'!$A$1:$F$61,C$5,FALSE)),\"\",VLOOKUP($A106,'Entry List'!$A$1:$F$61,C$5,FALSE))","v":""},{"$f":"IF(ISNA(VLOOKUP($A106,'Entry List'!$A$1:$F$61,D$5,FALSE)),\"\",VLOOKUP($A106,'Entry List'!$A$1:$F$61,D$5,FALSE))","v":""},{"$f":"IF(ISNA(VLOOKUP($A106,'Entry List'!$A$1:$F$61,E$5,FALSE)),\"\",VLOOKUP($A106,'Entry List'!$A$1:$F$61,E$5,FALSE))","v":""},null,"DNS",0,"DNS",0,"DNS",0,"DNS",0,"DNS",0,"DNS",0,"DNS",0,"DNS",0,"DNS",0,"DNS",0,"DNS",0,"DNS",0,"DNS",0,"DNS",0,"DNS",0,"DNS",0,"DNS",0,"DNS",0,"DNS",0,"DNS",0,"DNS",0,"DNS",0,"DNS",0,"DNS",0,"DNS",0,{"$f":"IF('Last Race Results'!$B$5=0,0,IF(ISNA(VLOOKUP($A106,'Last Race Results'!$A$5:$J$44,2,FALSE)),\"DNS\",VLOOKUP($A106,'Last Race Results'!$A$5:$J$44,2,FALSE)))","v":"DNS"},{"$f":"IF('Last Race Results'!$B$5=0,0,IF(ISNA(VLOOKUP($A106,'Last Race Results'!$A$5:$K$44,11,FALSE)),0,VLOOKUP($A106,'Last Race Results'!$A$5:$K$44,11,FALSE)))","v":0},null,null,null,null,null,null,null,null,null,null,null,null,null,null,null,null,null,null,{"$f":"IF('Last Race Results'!$B$5=0,0,IF(ISNA(VLOOKUP($A106,'Last Race Results'!$A$5:$J$44,2,FALSE)),\"DNS\",VLOOKUP($A106,'Last Race Results'!$A$5:$J$44,2,FALSE)))","v":"DNS"},{"$f":"IF('Last Race Results'!$B$5=0,0,IF(ISNA(VLOOKUP($A106,'Last Race Results'!$A$5:$J$44,11,FALSE)),0,VLOOKUP($A106,'Last Race Results'!$A$5:$J$44,11,FALSE)))","v":0}]
["00",{"$f":"IF(ISNA(VLOOKUP($A107,'Entry List'!$A$1:$F$61,B$5,FALSE)),\"\",VLOOKUP($A107,'Entry List'!$A$1:$F$61,B$5,FALSE))","v":"Quin Houff (R)"},{"$f":"IF(ISNA(VLOOKUP($A107,'Entry List'!$A$1:$F$61,C$5,FALSE)),\"\",VLOOKUP($A107,'Entry List'!$A$1:$F$61,C$5,FALSE))","v":"Chevrolet"},{"$f":"IF(ISNA(VLOOKUP($A107,'Entry List'!$A$1:$F$61,D$5,FALSE)),\"\",VLOOKUP($A107,'Entry List'!$A$1:$F$61,D$5,FALSE))","v":"StarCom Racing"},{"$f":"IF(ISNA(VLOOKUP($A107,'Entry List'!$A$1:$F$61,E$5,FALSE)),\"\",VLOOKUP($A107,'Entry List'!$A$1:$F$61,E$5,FALSE))","v":"StarCom Racing"},null,39,1,32,5,35,2,34,3,36,1,26,11,32,5,32,5,27,10,32,5,34,3,33,4,27,10,40,1,31,6,23,14,35,2,"DNS",0,24,13,32,5,27,10,32,5,33,4,33,4,34,3,{"$f":"IF('Last Race Results'!$B$5=0,0,IF(ISNA(VLOOKUP($A107,'Last Race Results'!$A$5:$J$44,2,FALSE)),\"DNS\",VLOOKUP($A107,'Last Race Results'!$A$5:$J$44,2,FALSE)))","v":23},{"$f":"IF('Last Race Results'!$B$5=0,0,IF(ISNA(VLOOKUP($A107,'Last Race Results'!$A$5:$K$44,11,FALSE)),0,VLOOKUP($A107,'Last Race Results'!$A$5:$K$44,11,FALSE)))","v":14},null,null,null,null,null,null,null,null,null,null,null,null,null,null,null,null,null,null,{"$f":"IF('Last Race Results'!$B$5=0,0,IF(ISNA(VLOOKUP($A107,'Last Race Results'!$A$5:$J$44,2,FALSE)),\"DNS\",VLOOKUP($A107,'Last Race Results'!$A$5:$J$44,2,FALSE)))","v":23},{"$f":"IF('Last Race Results'!$B$5=0,0,IF(ISNA(VLOOKUP($A107,'Last Race Results'!$A$5:$J$44,11,FALSE)),0,VLOOKUP($A107,'Last Race Results'!$A$5:$J$44,11,FALSE)))","v":{"$error":"#REF!"}}]
["01",{"$f":"IF(ISNA(VLOOKUP($A108,'Entry List'!$A$1:$F$61,B$5,FALSE)),\"\",VLOOKUP($A108,'Entry List'!$A$1:$F$61,B$5,FALSE))","v":""},{"$f":"IF(ISNA(VLOOKUP($A108,'Entry List'!$A$1:$F$61,C$5,FALSE)),\"\",VLOOKUP($A108,'Entry List'!$A$1:$F$61,C$5,FALSE))","v":""},{"$f":"IF(ISNA(VLOOKUP($A108,'Entry List'!$A$1:$F$61,D$5,FALSE)),\"\",VLOOKUP($A108,'Entry List'!$A$1:$F$61,D$5,FALSE))","v":""},{"$f":"IF(ISNA(VLOOKUP($A108,'Entry List'!$A$1:$F$61,E$5,FALSE)),\"\",VLOOKUP($A108,'Entry List'!$A$1:$F$61,E$5,FALSE))","v":""},null,"DNS",0,"DNS",0,"DNS",0,"DNS",0,"DNS",0,"DNS",0,"DNS",0,"DNS",0,"DNS",0,"DNS",0,"DNS",0,"DNS",0,"DNS",0,"DNS",0,"DNS",0,"DNS",0,"DNS",0,"DNS",0,"DNS",0,"DNS",0,"DNS",0,"DNS",0,"DNS",0,"DNS",0,"DNS",0,{"$f":"IF('Last Race Results'!$B$5=0,0,IF(ISNA(VLOOKUP($A108,'Last Race Results'!$A$5:$J$44,2,FALSE)),\"DNS\",VLOOKUP($A108,'Last Race Results'!$A$5:$J$44,2,FALSE)))","v":"DNS"},{"$f":"IF('Last Race Results'!$B$5=0,0,IF(ISNA(VLOOKUP($A108,'Last Race Results'!$A$5:$K$44,11,FALSE)),0,VLOOKUP($A108,'Last Race Results'!$A$5:$K$44,11,FALSE)))","v":0},null,null,null,null,null,null,null,null,null,null,null,null,null,null,null,null,null,null,{"$f":"IF('Last Race Results'!$B$5=0,0,IF(ISNA(VLOOKUP($A108,'Last Race Results'!$A$5:$J$44,2,FALSE)),\"DNS\",VLOOKUP($A108,'Last Race Results'!$A$5:$J$44,2,FALSE)))","v":"DNS"},{"$f":"IF('Last Race Results'!$B$5=0,0,IF(ISNA(VLOOKUP($A108,'Last Race Results'!$A$5:$J$44,11,FALSE)),0,VLOOKUP($A108,'Last Race Results'!$A$5:$J$44,11,FALSE)))","v":0}]
["02",{"$f":"IF(ISNA(VLOOKUP($A109,'Entry List'!$A$1:$F$61,B$5,FALSE)),\"\",VLOOKUP($A109,'Entry List'!$A$1:$F$61,B$5,FALSE))","v":""},{"$f":"IF(ISNA(VLOOKUP($A109,'Entry List'!$A$1:$F$61,C$5,FALSE)),\"\",VLOOKUP($A109,'Entry List'!$A$1:$F$61,C$5,FALSE))","v":""},{"$f":"IF(ISNA(VLOOKUP($A109,'Entry List'!$A$1:$F$61,D$5,FALSE)),\"\",VLOOKUP($A109,'Entry List'!$A$1:$F$61,D$5,FALSE))","v":""},{"$f":"IF(ISNA(VLOOKUP($A109,'Entry List'!$A$1:$F$61,E$5,FALSE)),\"\",VLOOKUP($A109,'Entry List'!$A$1:$F$61,E$5,FALSE))","v":""},null,"DNS",0,"DNS",0,"DNS",0,"DNS",0,"DNS",0,"DNS",0,"DNS",0,"DNS",0,"DNS",0,"DNS",0,"DNS",0,"DNS",0,"DNS",0,"DNS",0,"DNS",0,"DNS",0,"DNS",0,"DNS",0,"DNS",0,"DNS",0,"DNS",0,"DNS",0,"DNS",0,"DNS",0,"DNS",0,{"$f":"IF('Last Race Results'!$B$5=0,0,IF(ISNA(VLOOKUP($A109,'Last Race Results'!$A$5:$J$44,2,FALSE)),\"DNS\",VLOOKUP($A109,'Last Race Results'!$A$5:$J$44,2,FALSE)))","v":"DNS"},{"$f":"IF('Last Race Results'!$B$5=0,0,IF(ISNA(VLOOKUP($A109,'Last Race Results'!$A$5:$K$44,11,FALSE)),0,VLOOKUP($A109,'Last Race Results'!$A$5:$K$44,11,FALSE)))","v":0},null,null,null,null,null,null,null,null,null,null,null,null,null,null,null,null,null,null,{"$f":"IF('Last Race Results'!$B$5=0,0,IF(ISNA(VLOOKUP($A109,'Last Race Results'!$A$5:$J$44,2,FALSE)),\"DNS\",VLOOKUP($A109,'Last Race Results'!$A$5:$J$44,2,FALSE)))","v":"DNS"},{"$f":"IF('Last Race Results'!$B$5=0,0,IF(ISNA(VLOOKUP($A109,'Last Race Results'!$A$5:$J$44,11,FALSE)),0,VLOOKUP($A109,'Last Race Results'!$A$5:$J$44,11,FALSE)))","v":0}]
["03",{"$f":"IF(ISNA(VLOOKUP($A110,'Entry List'!$A$1:$F$61,B$5,FALSE)),\"\",VLOOKUP($A110,'Entry List'!$A$1:$F$61,B$5,FALSE))","v":""},{"$f":"IF(ISNA(VLOOKUP($A110,'Entry List'!$A$1:$F$61,C$5,FALSE)),\"\",VLOOKUP($A110,'Entry List'!$A$1:$F$61,C$5,FALSE))","v":""},{"$f":"IF(ISNA(VLOOKUP($A110,'Entry List'!$A$1:$F$61,D$5,FALSE)),\"\",VLOOKUP($A110,'Entry List'!$A$1:$F$61,D$5,FALSE))","v":""},{"$f":"IF(ISNA(VLOOKUP($A110,'Entry List'!$A$1:$F$61,E$5,FALSE)),\"\",VLOOKUP($A110,'Entry List'!$A$1:$F$61,E$5,FALSE))","v":""},null,"DNS",0,"DNS",0,"DNS",0,"DNS",0,"DNS",0,"DNS",0,"DNS",0,"DNS",0,"DNS",0,"DNS",0,"DNS",0,"DNS",0,"DNS",0,"DNS",0,"DNS",0,"DNS",0,"DNS",0,"DNS",0,"DNS",0,"DNS",0,"DNS",0,"DNS",0,"DNS",0,"DNS",0,"DNS",0,{"$f":"IF('Last Race Results'!$B$5=0,0,IF(ISNA(VLOOKUP($A110,'Last Race Results'!$A$5:$J$44,2,FALSE)),\"DNS\",VLOOKUP($A110,'Last Race Results'!$A$5:$J$44,2,FALSE)))","v":"DNS"},{"$f":"IF('Last Race Results'!$B$5=0,0,IF(ISNA(VLOOKUP($A110,'Last Race Results'!$A$5:$K$44,11,FALSE)),0,VLOOKUP($A110,'Last Race Results'!$A$5:$K$44,11,FALSE)))","v":0},null,null,null,null,null,null,null,null,null,null,null,null,null,null,null,null,null,null,{"$f":"IF('Last Race Results'!$B$5=0,0,IF(ISNA(VLOOKUP($A110,'Last Race Results'!$A$5:$J$44,2,FALSE)),\"DNS\",VLOOKUP($A110,'Last Race Results'!$A$5:$J$44,2,FALSE)))","v":"DNS"},{"$f":"IF('Last Race Results'!$B$5=0,0,IF(ISNA(VLOOKUP($A110,'Last Race Results'!$A$5:$J$44,11,FALSE)),0,VLOOKUP($A110,'Last Race Results'!$A$5:$J$44,11,FALSE)))","v":0}]
["04",{"$f":"IF(ISNA(VLOOKUP($A111,'Entry List'!$A$1:$F$61,B$5,FALSE)),\"\",VLOOKUP($A111,'Entry List'!$A$1:$F$61,B$5,FALSE))","v":""},{"$f":"IF(ISNA(VLOOKUP($A111,'Entry List'!$A$1:$F$61,C$5,FALSE)),\"\",VLOOKUP($A111,'Entry List'!$A$1:$F$61,C$5,FALSE))","v":""},{"$f":"IF(ISNA(VLOOKUP($A111,'Entry List'!$A$1:$F$61,D$5,FALSE)),\"\",VLOOKUP($A111,'Entry List'!$A$1:$F$61,D$5,FALSE))","v":""},{"$f":"IF(ISNA(VLOOKUP($A111,'Entry List'!$A$1:$F$61,E$5,FALSE)),\"\",VLOOKUP($A111,'Entry List'!$A$1:$F$61,E$5,FALSE))","v":""},null,"DNS",0,"DNS",0,"DNS",0,"DNS",0,"DNS",0,"DNS",0,"DNS",0,"DNS",0,"DNS",0,"DNS",0,"DNS",0,"DNS",0,"DNS",0,"DNS",0,"DNS",0,"DNS",0,"DNS",0,"DNS",0,"DNS",0,"DNS",0,"DNS",0,"DNS",0,"DNS",0,"DNS",0,"DNS",0,{"$f":"IF('Last Race Results'!$B$5=0,0,IF(ISNA(VLOOKUP($A111,'Last Race Results'!$A$5:$J$44,2,FALSE)),\"DNS\",VLOOKUP($A111,'Last Race Results'!$A$5:$J$44,2,FALSE)))","v":"DNS"},{"$f":"IF('Last Race Results'!$B$5=0,0,IF(ISNA(VLOOKUP($A111,'Last Race Results'!$A$5:$K$44,11,FALSE)),0,VLOOKUP($A111,'Last Race Results'!$A$5:$K$44,11,FALSE)))","v":0},null,null,null,null,null,null,null,null,null,null,null,null,null,null,null,null,null,null,{"$f":"IF('Last Race Results'!$B$5=0,0,IF(ISNA(VLOOKUP($A111,'Last Race Results'!$A$5:$J$44,2,FALSE)),\"DNS\",VLOOKUP($A111,'Last Race Results'!$A$5:$J$44,2,FALSE)))","v":"DNS"},{"$f":"IF('Last Race Results'!$B$5=0,0,IF(ISNA(VLOOKUP($A111,'Last Race Results'!$A$5:$J$44,11,FALSE)),0,VLOOKUP($A111,'Last Race Results'!$A$5:$J$44,11,FALSE)))","v":0}]
["05",{"$f":"IF(ISNA(VLOOKUP($A112,'Entry List'!$A$1:$F$61,B$5,FALSE)),\"\",VLOOKUP($A112,'Entry List'!$A$1:$F$61,B$5,FALSE))","v":""},{"$f":"IF(ISNA(VLOOKUP($A112,'Entry List'!$A$1:$F$61,C$5,FALSE)),\"\",VLOOKUP($A112,'Entry List'!$A$1:$F$61,C$5,FALSE))","v":""},{"$f":"IF(ISNA(VLOOKUP($A112,'Entry List'!$A$1:$F$61,D$5,FALSE)),\"\",VLOOKUP($A112,'Entry List'!$A$1:$F$61,D$5,FALSE))","v":""},{"$f":"IF(ISNA(VLOOKUP($A112,'Entry List'!$A$1:$F$61,E$5,FALSE)),\"\",VLOOKUP($A112,'Entry List'!$A$1:$F$61,E$5,FALSE))","v":""},null,"DNS",0,"DNS",0,"DNS",0,"DNS",0,"DNS",0,"DNS",0,"DNS",0,"DNS",0,"DNS",0,"DNS",0,"DNS",0,"DNS",0,"DNS",0,"DNS",0,"DNS",0,"DNS",0,"DNS",0,"DNS",0,"DNS",0,"DNS",0,"DNS",0,"DNS",0,"DNS",0,"DNS",0,"DNS",0,{"$f":"IF('Last Race Results'!$B$5=0,0,IF(ISNA(VLOOKUP($A112,'Last Race Results'!$A$5:$J$44,2,FALSE)),\"DNS\",VLOOKUP($A112,'Last Race Results'!$A$5:$J$44,2,FALSE)))","v":"DNS"},{"$f":"IF('Last Race Results'!$B$5=0,0,IF(ISNA(VLOOKUP($A112,'Last Race Results'!$A$5:$K$44,11,FALSE)),0,VLOOKUP($A112,'Last Race Results'!$A$5:$K$44,11,FALSE)))","v":0},null,null,null,null,null,null,null,null,null,null,null,null,null,null,null,null,null,null,{"$f":"IF('Last Race Results'!$B$5=0,0,IF(ISNA(VLOOKUP($A112,'Last Race Results'!$A$5:$J$44,2,FALSE)),\"DNS\",VLOOKUP($A112,'Last Race Results'!$A$5:$J$44,2,FALSE)))","v":"DNS"},{"$f":"IF('Last Race Results'!$B$5=0,0,IF(ISNA(VLOOKUP($A112,'Last Race Results'!$A$5:$J$44,11,FALSE)),0,VLOOKUP($A112,'Last Race Results'!$A$5:$J$44,11,FALSE)))","v":0}]
["06",{"$f":"IF(ISNA(VLOOKUP($A113,'Entry List'!$A$1:$F$61,B$5,FALSE)),\"\",VLOOKUP($A113,'Entry List'!$A$1:$F$61,B$5,FALSE))","v":""},{"$f":"IF(ISNA(VLOOKUP($A113,'Entry List'!$A$1:$F$61,C$5,FALSE)),\"\",VLOOKUP($A113,'Entry List'!$A$1:$F$61,C$5,FALSE))","v":""},{"$f":"IF(ISNA(VLOOKUP($A113,'Entry List'!$A$1:$F$61,D$5,FALSE)),\"\",VLOOKUP($A113,'Entry List'!$A$1:$F$61,D$5,FALSE))","v":""},{"$f":"IF(ISNA(VLOOKUP($A113,'Entry List'!$A$1:$F$61,E$5,FALSE)),\"\",VLOOKUP($A113,'Entry List'!$A$1:$F$61,E$5,FALSE))","v":""},null,"DNS",0,"DNS",0,"DNS",0,"DNS",0,"DNS",0,"DNS",0,"DNS",0,"DNS",0,"DNS",0,"DNS",0,"DNS",0,"DNS",0,"DNS",0,"DNS",0,"DNS",0,"DNS",0,"DNS",0,"DNS",0,"DNS",0,"DNS",0,"DNS",0,"DNS",0,"DNS",0,"DNS",0,"DNS",0,{"$f":"IF('Last Race Results'!$B$5=0,0,IF(ISNA(VLOOKUP($A113,'Last Race Results'!$A$5:$J$44,2,FALSE)),\"DNS\",VLOOKUP($A113,'Last Race Results'!$A$5:$J$44,2,FALSE)))","v":"DNS"},{"$f":"IF('Last Race Results'!$B$5=0,0,IF(ISNA(VLOOKUP($A113,'Last Race Results'!$A$5:$K$44,11,FALSE)),0,VLOOKUP($A113,'Last Race Results'!$A$5:$K$44,11,FALSE)))","v":0},null,null,null,null,null,null,null,null,null,null,null,null,null,null,null,null,null,null,{"$f":"IF('Last Race Results'!$B$5=0,0,IF(ISNA(VLOOKUP($A113,'Last Race Results'!$A$5:$J$44,2,FALSE)),\"DNS\",VLOOKUP($A113,'Last Race Results'!$A$5:$J$44,2,FALSE)))","v":"DNS"},{"$f":"IF('Last Race Results'!$B$5=0,0,IF(ISNA(VLOOKUP($A113,'Last Race Results'!$A$5:$J$44,11,FALSE)),0,VLOOKUP($A113,'Last Race Results'!$A$5:$J$44,11,FALSE)))","v":0}]
["07",{"$f":"IF(ISNA(VLOOKUP($A114,'Entry List'!$A$1:$F$61,B$5,FALSE)),\"\",VLOOKUP($A114,'Entry List'!$A$1:$F$61,B$5,FALSE))","v":""},{"$f":"IF(ISNA(VLOOKUP($A114,'Entry List'!$A$1:$F$61,C$5,FALSE)),\"\",VLOOKUP($A114,'Entry List'!$A$1:$F$61,C$5,FALSE))","v":""},{"$f":"IF(ISNA(VLOOKUP($A114,'Entry List'!$A$1:$F$61,D$5,FALSE)),\"\",VLOOKUP($A114,'Entry List'!$A$1:$F$61,D$5,FALSE))","v":""},{"$f":"IF(ISNA(VLOOKUP($A114,'Entry List'!$A$1:$F$61,E$5,FALSE)),\"\",VLOOKUP($A114,'Entry List'!$A$1:$F$61,E$5,FALSE))","v":""},null,"DNS",0,"DNS",0,"DNS",0,"DNS",0,"DNS",0,"DNS",0,"DNS",0,"DNS",0,"DNS",0,"DNS",0,"DNS",0,"DNS",0,"DNS",0,"DNS",0,"DNS",0,"DNS",0,"DNS",0,"DNS",0,"DNS",0,"DNS",0,"DNS",0,"DNS",0,"DNS",0,"DNS",0,"DNS",0,{"$f":"IF('Last Race Results'!$B$5=0,0,IF(ISNA(VLOOKUP($A114,'Last Race Results'!$A$5:$J$44,2,FALSE)),\"DNS\",VLOOKUP($A114,'Last Race Results'!$A$5:$J$44,2,FALSE)))","v":"DNS"},{"$f":"IF('Last Race Results'!$B$5=0,0,IF(ISNA(VLOOKUP($A114,'Last Race Results'!$A$5:$K$44,11,FALSE)),0,VLOOKUP($A114,'Last Race Results'!$A$5:$K$44,11,FALSE)))","v":0},null,null,null,null,null,null,null,null,null,null,null,null,null,null,null,null,null,null,{"$f":"IF('Last Race Results'!$B$5=0,0,IF(ISNA(VLOOKUP($A114,'Last Race Results'!$A$5:$J$44,2,FALSE)),\"DNS\",VLOOKUP($A114,'Last Race Results'!$A$5:$J$44,2,FALSE)))","v":"DNS"},{"$f":"IF('Last Race Results'!$B$5=0,0,IF(ISNA(VLOOKUP($A114,'Last Race Results'!$A$5:$J$44,11,FALSE)),0,VLOOKUP($A114,'Last Race Results'!$A$5:$J$44,11,FALSE)))","v":0}]
["08",{"$f":"IF(ISNA(VLOOKUP($A115,'Entry List'!$A$1:$F$61,B$5,FALSE)),\"\",VLOOKUP($A115,'Entry List'!$A$1:$F$61,B$5,FALSE))","v":""},{"$f":"IF(ISNA(VLOOKUP($A115,'Entry List'!$A$1:$F$61,C$5,FALSE)),\"\",VLOOKUP($A115,'Entry List'!$A$1:$F$61,C$5,FALSE))","v":""},{"$f":"IF(ISNA(VLOOKUP($A115,'Entry List'!$A$1:$F$61,D$5,FALSE)),\"\",VLOOKUP($A115,'Entry List'!$A$1:$F$61,D$5,FALSE))","v":""},{"$f":"IF(ISNA(VLOOKUP($A115,'Entry List'!$A$1:$F$61,E$5,FALSE)),\"\",VLOOKUP($A115,'Entry List'!$A$1:$F$61,E$5,FALSE))","v":""},null,"DNS",0,"DNS",0,"DNS",0,"DNS",0,"DNS",0,"DNS",0,"DNS",0,"DNS",0,"DNS",0,"DNS",0,"DNS",0,"DNS",0,"DNS",0,"DNS",0,"DNS",0,"DNS",0,"DNS",0,"DNS",0,"DNS",0,"DNS",0,"DNS",0,"DNS",0,"DNS",0,"DNS",0,"DNS",0,{"$f":"IF('Last Race Results'!$B$5=0,0,IF(ISNA(VLOOKUP($A115,'Last Race Results'!$A$5:$J$44,2,FALSE)),\"DNS\",VLOOKUP($A115,'Last Race Results'!$A$5:$J$44,2,FALSE)))","v":"DNS"},{"$f":"IF('Last Race Results'!$B$5=0,0,IF(ISNA(VLOOKUP($A115,'Last Race Results'!$A$5:$K$44,11,FALSE)),0,VLOOKUP($A115,'Last Race Results'!$A$5:$K$44,11,FALSE)))","v":0},null,null,null,null,null,null,null,null,null,null,null,null,null,null,null,null,null,null,{"$f":"IF('Last Race Results'!$B$5=0,0,IF(ISNA(VLOOKUP($A115,'Last Race Results'!$A$5:$J$44,2,FALSE)),\"DNS\",VLOOKUP($A115,'Last Race Results'!$A$5:$J$44,2,FALSE)))","v":"DNS"},{"$f":"IF('Last Race Results'!$B$5=0,0,IF(ISNA(VLOOKUP($A115,'Last Race Results'!$A$5:$J$44,11,FALSE)),0,VLOOKUP($A115,'Last Race Results'!$A$5:$J$44,11,FALSE)))","v":0}]
["09",{"$f":"IF(ISNA(VLOOKUP($A116,'Entry List'!$A$1:$F$61,B$5,FALSE)),\"\",VLOOKUP($A116,'Entry List'!$A$1:$F$61,B$5,FALSE))","v":""},{"$f":"IF(ISNA(VLOOKUP($A116,'Entry List'!$A$1:$F$61,C$5,FALSE)),\"\",VLOOKUP($A116,'Entry List'!$A$1:$F$61,C$5,FALSE))","v":""},{"$f":"IF(ISNA(VLOOKUP($A116,'Entry List'!$A$1:$F$61,D$5,FALSE)),\"\",VLOOKUP($A116,'Entry List'!$A$1:$F$61,D$5,FALSE))","v":""},{"$f":"IF(ISNA(VLOOKUP($A116,'Entry List'!$A$1:$F$61,E$5,FALSE)),\"\",VLOOKUP($A116,'Entry List'!$A$1:$F$61,E$5,FALSE))","v":""},null,"DNS",0,"DNS",0,"DNS",0,"DNS",0,"DNS",0,"DNS",0,"DNS",0,"DNS",0,"DNS",0,"DNS",0,"DNS",0,"DNS",0,"DNS",0,"DNS",0,"DNS",0,"DNS",0,"DNS",0,"DNS",0,"DNS",0,"DNS",0,"DNS",0,"DNS",0,"DNS",0,"DNS",0,"DNS",0,{"$f":"IF('Last Race Results'!$B$5=0,0,IF(ISNA(VLOOKUP($A116,'Last Race Results'!$A$5:$J$44,2,FALSE)),\"DNS\",VLOOKUP($A116,'Last Race Results'!$A$5:$J$44,2,FALSE)))","v":"DNS"},{"$f":"IF('Last Race Results'!$B$5=0,0,IF(ISNA(VLOOKUP($A116,'Last Race Results'!$A$5:$K$44,11,FALSE)),0,VLOOKUP($A116,'Last Race Results'!$A$5:$K$44,11,FALSE)))","v":0},null,null,null,null,null,null,null,null,null,null,null,null,null,null,null,null,null,null,{"$f":"IF('Last Race Results'!$B$5=0,0,IF(ISNA(VLOOKUP($A116,'Last Race Results'!$A$5:$J$44,2,FALSE)),\"DNS\",VLOOKUP($A116,'Last Race Results'!$A$5:$J$44,2,FALSE)))","v":"DNS"},{"$f":"IF('Last Race Results'!$B$5=0,0,IF(ISNA(VLOOKUP($A116,'Last Race Results'!$A$5:$J$44,11,FALSE)),0,VLOOKUP($A116,'Last Race Results'!$A$5:$J$44,11,FALSE)))","v":0}]
[100,{"$f":"IF(ISNA(VLOOKUP($A117,'Entry List'!$A$1:$F$61,B$5,FALSE)),\"\",VLOOKUP($A117,'Entry List'!$A$1:$F$61,B$5,FALSE))","v":""},{"$f":"IF(ISNA(VLOOKUP($A117,'Entry List'!$A$1:$F$61,C$5,FALSE)),\"\",VLOOKUP($A117,'Entry List'!$A$1:$F$61,C$5,FALSE))","v":""},{"$f":"IF(ISNA(VLOOKUP($A117,'Entry List'!$A$1:$F$61,D$5,FALSE)),\"\",VLOOKUP($A117,'Entry List'!$A$1:$F$61,D$5,FALSE))","v":""},{"$f":"IF(ISNA(VLOOKUP($A117,'Entry List'!$A$1:$F$61,E$5,FALSE)),\"\",VLOOKUP($A117,'Entry List'!$A$1:$F$61,E$5,FALSE))","v":""},null,"DNS",0,"DNS",0,"DNS",0,"DNS",0,"DNS",0,"DNS",0,"DNS",0,"DNS",0,"DNS",0,"DNS",0,"DNS",0,"DNS",0,"DNS",0,"DNS",0,"DNS",0,"DNS",0,"DNS",0,"DNS",0,"DNS",0,"DNS",0,"DNS",0,"DNS",0,"DNS",0,"DNS",0,"DNS",0,{"$f":"IF('Last Race Results'!$B$5=0,0,IF(ISNA(VLOOKUP($A117,'Last Race Results'!$A$5:$J$44,2,FALSE)),\"DNS\",VLOOKUP($A117,'Last Race Results'!$A$5:$J$44,2,FALSE)))","v":"DNS"},{"$f":"IF('Last Race Results'!$B$5=0,0,IF(ISNA(VLOOKUP($A117,'Last Race Results'!$A$5:$K$44,11,FALSE)),0,VLOOKUP($A117,'Last Race Results'!$A$5:$K$44,11,FALSE)))","v":0},null,null,null,null,null,null,null,null,null,null,null,null,null,null,null,null,null,null,{"$f":"IF('Last Race Results'!$B$5=0,0,IF(ISNA(VLOOKUP($A117,'Last Race Results'!$A$5:$J$44,2,FALSE)),\"DNS\",VLOOKUP($A117,'Last Race Results'!$A$5:$J$44,2,FALSE)))","v":"DNS"},{"$f":"IF('Last Race Results'!$B$5=0,0,IF(ISNA(VLOOKUP($A117,'Last Race Results'!$A$5:$J$44,11,FALSE)),0,VLOOKUP($A117,'Last Race Results'!$A$5:$J$44,11,FALSE)))","v":0}]
[101,{"$f":"IF(ISNA(VLOOKUP($A118,'Entry List'!$A$1:$F$61,B$5,FALSE)),\"\",VLOOKUP($A118,'Entry List'!$A$1:$F$61,B$5,FALSE))","v":""},{"$f":"IF(ISNA(VLOOKUP($A118,'Entry List'!$A$1:$F$61,C$5,FALSE)),\"\",VLOOKUP($A118,'Entry List'!$A$1:$F$61,C$5,FALSE))","v":""},{"$f":"IF(ISNA(VLOOKUP($A118,'Entry List'!$A$1:$F$61,D$5,FALSE)),\"\",VLOOKUP($A118,'Entry List'!$A$1:$F$61,D$5,FALSE))","v":""},{"$f":"IF(ISNA(VLOOKUP($A118,'Entry List'!$A$1:$F$61,E$5,FALSE)),\"\",VLOOKUP($A118,'Entry List'!$A$1:$F$61,E$5,FALSE))","v":""},null,"DNS",0,"DNS",0,"DNS",0,"DNS",0,"DNS",0,"DNS",0,"DNS",0,"DNS",0,"DNS",0,"DNS",0,"DNS",0,"DNS",0,"DNS",0,"DNS",0,"DNS",0,"DNS",0,"DNS",0,"DNS",0,"DNS",0,"DNS",0,"DNS",0,"DNS",0,"DNS",0,"DNS",0,"DNS",0,{"$f":"IF('Last Race Results'!$B$5=0,0,IF(ISNA(VLOOKUP($A118,'Last Race Results'!$A$5:$J$44,2,FALSE)),\"DNS\",VLOOKUP($A118,'Last Race Results'!$A$5:$J$44,2,FALSE)))","v":"DNS"},{"$f":"IF('Last Race Results'!$B$5=0,0,IF(ISNA(VLOOKUP($A118,'Last Race Results'!$A$5:$K$44,11,FALSE)),0,VLOOKUP($A118,'Last Race Results'!$A$5:$K$44,11,FALSE)))","v":0},null,null,null,null,null,null,null,null,null,null,null,null,null,null,null,null,null,null,{"$f":"IF('Last Race Results'!$B$5=0,0,IF(ISNA(VLOOKUP($A118,'Last Race Results'!$A$5:$J$44,2,FALSE)),\"DNS\",VLOOKUP($A118,'Last Race Results'!$A$5:$J$44,2,FALSE)))","v":"DNS"},{"$f":"IF('Last Race Results'!$B$5=0,0,IF(ISNA(VLOOKUP($A118,'Last Race Results'!$A$5:$J$44,11,FALSE)),0,VLOOKUP($A118,'Last Race Results'!$A$5:$J$44,11,FALSE)))","v":0}]
[102,{"$f":"IF(ISNA(VLOOKUP($A119,'Entry List'!$A$1:$F$61,B$5,FALSE)),\"\",VLOOKUP($A119,'Entry List'!$A$1:$F$61,B$5,FALSE))","v":""},{"$f":"IF(ISNA(VLOOKUP($A119,'Entry List'!$A$1:$F$61,C$5,FALSE)),\"\",VLOOKUP($A119,'Entry List'!$A$1:$F$61,C$5,FALSE))","v":""},{"$f":"IF(ISNA(VLOOKUP($A119,'Entry List'!$A$1:$F$61,D$5,FALSE)),\"\",VLOOKUP($A119,'Entry List'!$A$1:$F$61,D$5,FALSE))","v":""},{"$f":"IF(ISNA(VLOOKUP($A119,'Entry List'!$A$1:$F$61,E$5,FALSE)),\"\",VLOOKUP($A119,'Entry List'!$A$1:$F$61,E$5,FALSE))","v":""},null,"DNS",0,"DNS",0,"DNS",0,"DNS",0,"DNS",0,"DNS",0,"DNS",0,"DNS",0,"DNS",0,"DNS",0,"DNS",0,"DNS",0,"DNS",0,"DNS",0,"DNS",0,"DNS",0,"DNS",0,"DNS",0,"DNS",0,"DNS",0,"DNS",0,"DNS",0,"DNS",0,"DNS",0,"DNS",0,{"$f":"IF('Last Race Results'!$B$5=0,0,IF(ISNA(VLOOKUP($A119,'Last Race Results'!$A$5:$J$44,2,FALSE)),\"DNS\",VLOOKUP($A119,'Last Race Results'!$A$5:$J$44,2,FALSE)))","v":"DNS"},{"$f":"IF('Last Race Results'!$B$5=0,0,IF(ISNA(VLOOKUP($A119,'Last Race Results'!$A$5:$K$44,11,FALSE)),0,VLOOKUP($A119,'Last Race Results'!$A$5:$K$44,11,FALSE)))","v":0},null,null,null,null,null,null,null,null,null,null,null,null,null,null,null,null,null,null,{"$f":"IF('Last Race Results'!$B$5=0,0,IF(ISNA(VLOOKUP($A119,'Last Race Results'!$A$5:$J$44,2,FALSE)),\"DNS\",VLOOKUP($A119,'Last Race Results'!$A$5:$J$44,2,FALSE)))","v":"DNS"},{"$f":"IF('Last Race Results'!$B$5=0,0,IF(ISNA(VLOOKUP($A119,'Last Race Results'!$A$5:$J$44,11,FALSE)),0,VLOOKUP($A119,'Last Race Results'!$A$5:$J$44,11,FALSE)))","v":0}]
[103,{"$f":"IF(ISNA(VLOOKUP($A120,'Entry List'!$A$1:$F$61,B$5,FALSE)),\"\",VLOOKUP($A120,'Entry List'!$A$1:$F$61,B$5,FALSE))","v":""},{"$f":"IF(ISNA(VLOOKUP($A120,'Entry List'!$A$1:$F$61,C$5,FALSE)),\"\",VLOOKUP($A120,'Entry List'!$A$1:$F$61,C$5,FALSE))","v":""},{"$f":"IF(ISNA(VLOOKUP($A120,'Entry List'!$A$1:$F$61,D$5,FALSE)),\"\",VLOOKUP($A120,'Entry List'!$A$1:$F$61,D$5,FALSE))","v":""},{"$f":"IF(ISNA(VLOOKUP($A120,'Entry List'!$A$1:$F$61,E$5,FALSE)),\"\",VLOOKUP($A120,'Entry List'!$A$1:$F$61,E$5,FALSE))","v":""},null,"DNS",0,"DNS",0,"DNS",0,"DNS",0,"DNS",0,"DNS",0,"DNS",0,"DNS",0,"DNS",0,"DNS",0,"DNS",0,"DNS",0,"DNS",0,"DNS",0,"DNS",0,"DNS",0,"DNS",0,"DNS",0,"DNS",0,"DNS",0,"DNS",0,"DNS",0,"DNS",0,"DNS",0,"DNS",0,{"$f":"IF('Last Race Results'!$B$5=0,0,IF(ISNA(VLOOKUP($A120,'Last Race Results'!$A$5:$J$44,2,FALSE)),\"DNS\",VLOOKUP($A120,'Last Race Results'!$A$5:$J$44,2,FALSE)))","v":"DNS"},{"$f":"IF('Last Race Results'!$B$5=0,0,IF(ISNA(VLOOKUP($A120,'Last Race Results'!$A$5:$K$44,11,FALSE)),0,VLOOKUP($A120,'Last Race Results'!$A$5:$K$44,11,FALSE)))","v":0},null,null,null,null,null,null,null,null,null,null,null,null,null,null,null,null,null,null,{"$f":"IF('Last Race Results'!$B$5=0,0,IF(ISNA(VLOOKUP($A120,'Last Race Results'!$A$5:$J$44,2,FALSE)),\"DNS\",VLOOKUP($A120,'Last Race Results'!$A$5:$J$44,2,FALSE)))","v":"DNS"},{"$f":"IF('Last Race Results'!$B$5=0,0,IF(ISNA(VLOOKUP($A120,'Last Race Results'!$A$5:$J$44,11,FALSE)),0,VLOOKUP($A120,'Last Race Results'!$A$5:$J$44,11,FALSE)))","v":0}]
[104,{"$f":"IF(ISNA(VLOOKUP($A121,'Entry List'!$A$1:$F$61,B$5,FALSE)),\"\",VLOOKUP($A121,'Entry List'!$A$1:$F$61,B$5,FALSE))","v":""},{"$f":"IF(ISNA(VLOOKUP($A121,'Entry List'!$A$1:$F$61,C$5,FALSE)),\"\",VLOOKUP($A121,'Entry List'!$A$1:$F$61,C$5,FALSE))","v":""},{"$f":"IF(ISNA(VLOOKUP($A121,'Entry List'!$A$1:$F$61,D$5,FALSE)),\"\",VLOOKUP($A121,'Entry List'!$A$1:$F$61,D$5,FALSE))","v":""},{"$f":"IF(ISNA(VLOOKUP($A121,'Entry List'!$A$1:$F$61,E$5,FALSE)),\"\",VLOOKUP($A121,'Entry List'!$A$1:$F$61,E$5,FALSE))","v":""},null,"DNS",0,"DNS",0,"DNS",0,"DNS",0,"DNS",0,"DNS",0,"DNS",0,"DNS",0,"DNS",0,"DNS",0,"DNS",0,"DNS",0,"DNS",0,"DNS",0,"DNS",0,"DNS",0,"DNS",0,"DNS",0,"DNS",0,"DNS",0,"DNS",0,"DNS",0,"DNS",0,"DNS",0,"DNS",0,{"$f":"IF('Last Race Results'!$B$5=0,0,IF(ISNA(VLOOKUP($A121,'Last Race Results'!$A$5:$J$44,2,FALSE)),\"DNS\",VLOOKUP($A121,'Last Race Results'!$A$5:$J$44,2,FALSE)))","v":"DNS"},{"$f":"IF('Last Race Results'!$B$5=0,0,IF(ISNA(VLOOKUP($A121,'Last Race Results'!$A$5:$K$44,11,FALSE)),0,VLOOKUP($A121,'Last Race Results'!$A$5:$K$44,11,FALSE)))","v":0},null,null,null,null,null,null,null,null,null,null,null,null,null,null,null,null,null,null,{"$f":"IF('Last Race Results'!$B$5=0,0,IF(ISNA(VLOOKUP($A121,'Last Race Results'!$A$5:$J$44,2,FALSE)),\"DNS\",VLOOKUP($A121,'Last Race Results'!$A$5:$J$44,2,FALSE)))","v":"DNS"},{"$f":"IF('Last Race Results'!$B$5=0,0,IF(ISNA(VLOOKUP($A121,'Last Race Results'!$A$5:$J$44,11,FALSE)),0,VLOOKUP($A121,'Last Race Results'!$A$5:$J$44,11,FALSE)))","v":0}]
[105,{"$f":"IF(ISNA(VLOOKUP($A122,'Entry List'!$A$1:$F$61,B$5,FALSE)),\"\",VLOOKUP($A122,'Entry List'!$A$1:$F$61,B$5,FALSE))","v":""},{"$f":"IF(ISNA(VLOOKUP($A122,'Entry List'!$A$1:$F$61,C$5,FALSE)),\"\",VLOOKUP($A122,'Entry List'!$A$1:$F$61,C$5,FALSE))","v":""},{"$f":"IF(ISNA(VLOOKUP($A122,'Entry List'!$A$1:$F$61,D$5,FALSE)),\"\",VLOOKUP($A122,'Entry List'!$A$1:$F$61,D$5,FALSE))","v":""},{"$f":"IF(ISNA(VLOOKUP($A122,'Entry List'!$A$1:$F$61,E$5,FALSE)),\"\",VLOOKUP($A122,'Entry List'!$A$1:$F$61,E$5,FALSE))","v":""},null,"DNS",0,"DNS",0,"DNS",0,"DNS",0,"DNS",0,"DNS",0,"DNS",0,"DNS",0,"DNS",0,"DNS",0,"DNS",0,"DNS",0,"DNS",0,"DNS",0,"DNS",0,"DNS",0,"DNS",0,"DNS",0,"DNS",0,"DNS",0,"DNS",0,"DNS",0,"DNS",0,"DNS",0,"DNS",0,{"$f":"IF('Last Race Results'!$B$5=0,0,IF(ISNA(VLOOKUP($A122,'Last Race Results'!$A$5:$J$44,2,FALSE)),\"DNS\",VLOOKUP($A122,'Last Race Results'!$A$5:$J$44,2,FALSE)))","v":"DNS"},{"$f":"IF('Last Race Results'!$B$5=0,0,IF(ISNA(VLOOKUP($A122,'Last Race Results'!$A$5:$K$44,11,FALSE)),0,VLOOKUP($A122,'Last Race Results'!$A$5:$K$44,11,FALSE)))","v":0},null,null,null,null,null,null,null,null,null,null,null,null,null,null,null,null,null,null,{"$f":"IF('Last Race Results'!$B$5=0,0,IF(ISNA(VLOOKUP($A122,'Last Race Results'!$A$5:$J$44,2,FALSE)),\"DNS\",VLOOKUP($A122,'Last Race Results'!$A$5:$J$44,2,FALSE)))","v":"DNS"},{"$f":"IF('Last Race Results'!$B$5=0,0,IF(ISNA(VLOOKUP($A122,'Last Race Results'!$A$5:$J$44,11,FALSE)),0,VLOOKUP($A122,'Last Race Results'!$A$5:$J$44,11,FALSE)))","v":0}]
[106,{"$f":"IF(ISNA(VLOOKUP($A123,'Entry List'!$A$1:$F$61,B$5,FALSE)),\"\",VLOOKUP($A123,'Entry List'!$A$1:$F$61,B$5,FALSE))","v":""},{"$f":"IF(ISNA(VLOOKUP($A123,'Entry List'!$A$1:$F$61,C$5,FALSE)),\"\",VLOOKUP($A123,'Entry List'!$A$1:$F$61,C$5,FALSE))","v":""},{"$f":"IF(ISNA(VLOOKUP($A123,'Entry List'!$A$1:$F$61,D$5,FALSE)),\"\",VLOOKUP($A123,'Entry List'!$A$1:$F$61,D$5,FALSE))","v":""},{"$f":"IF(ISNA(VLOOKUP($A123,'Entry List'!$A$1:$F$61,E$5,FALSE)),\"\",VLOOKUP($A123,'Entry List'!$A$1:$F$61,E$5,FALSE))","v":""},null,"DNS",0,"DNS",0,"DNS",0,"DNS",0,"DNS",0,"DNS",0,"DNS",0,"DNS",0,"DNS",0,"DNS",0,"DNS",0,"DNS",0,"DNS",0,"DNS",0,"DNS",0,"DNS",0,"DNS",0,"DNS",0,"DNS",0,"DNS",0,"DNS",0,"DNS",0,"DNS",0,"DNS",0,"DNS",0,{"$f":"IF('Last Race Results'!$B$5=0,0,IF(ISNA(VLOOKUP($A123,'Last Race Results'!$A$5:$J$44,2,FALSE)),\"DNS\",VLOOKUP($A123,'Last Race Results'!$A$5:$J$44,2,FALSE)))","v":"DNS"},{"$f":"IF('Last Race Results'!$B$5=0,0,IF(ISNA(VLOOKUP($A123,'Last Race Results'!$A$5:$K$44,11,FALSE)),0,VLOOKUP($A123,'Last Race Results'!$A$5:$K$44,11,FALSE)))","v":0},null,null,null,null,null,null,null,null,null,null,null,null,null,null,null,null,null,null,{"$f":"IF('Last Race Results'!$B$5=0,0,IF(ISNA(VLOOKUP($A123,'Last Race Results'!$A$5:$J$44,2,FALSE)),\"DNS\",VLOOKUP($A123,'Last Race Results'!$A$5:$J$44,2,FALSE)))","v":"DNS"},{"$f":"IF('Last Race Results'!$B$5=0,0,IF(ISNA(VLOOKUP($A123,'Last Race Results'!$A$5:$J$44,11,FALSE)),0,VLOOKUP($A123,'Last Race Results'!$A$5:$J$44,11,FALSE)))","v":0}]
[107,{"$f":"IF(ISNA(VLOOKUP($A124,'Entry List'!$A$1:$F$61,B$5,FALSE)),\"\",VLOOKUP($A124,'Entry List'!$A$1:$F$61,B$5,FALSE))","v":"Josh Bilicki (i)"},{"$f":"IF(ISNA(VLOOKUP($A124,'Entry List'!$A$1:$F$61,C$5,FALSE)),\"\",VLOOKUP($A124,'Entry List'!$A$1:$F$61,C$5,FALSE))","v":"Chevrolet"},{"$f":"IF(ISNA(VLOOKUP($A124,'Entry List'!$A$1:$F$61,D$5,FALSE)),\"\",VLOOKUP($A124,'Entry List'!$A$1:$F$61,D$5,FALSE))","v":"Tommy Baldwin Racing"},{"$f":"IF(ISNA(VLOOKUP($A124,'Entry List'!$A$1:$F$61,E$5,FALSE)),\"\",VLOOKUP($A124,'Entry List'!$A$1:$F$61,E$5,FALSE))","v":"Tommy Baldwin Racing"},null,"DNS",0,"DNS",0,"DNS",0,"DNS",0,"DNS",0,"DNS",0,"DNS",0,"DNS",0,"DNS",0,"DNS",0,"DNS",0,"DNS",0,"DNS",0,"DNS",0,"DNS",0,"DNS",0,"DNS",0,"DNS",0,"DNS",0,"DNS",0,"DNS",0,"DNS",0,"DNS",0,"DNS",0,"DNS",0,{"$f":"IF('Last Race Results'!$B$5=0,0,IF(ISNA(VLOOKUP($A124,'Last Race Results'!$A$5:$J$44,2,FALSE)),\"DNS\",VLOOKUP($A124,'Last Race Results'!$A$5:$J$44,2,FALSE)))","v":"DNS"},{"$f":"IF('Last Race Results'!$B$5=0,0,IF(ISNA(VLOOKUP($A124,'Last Race Results'!$A$5:$K$44,11,FALSE)),0,VLOOKUP($A124,'Last Race Results'!$A$5:$K$44,11,FALSE)))","v":0},null,null,null,null,null,null,null,null,null,null,null,null,null,null,null,null,null,null,{"$f":"IF('Last Race Results'!$B$5=0,0,IF(ISNA(VLOOKUP($A124,'Last Race Results'!$A$5:$J$44,2,FALSE)),\"DNS\",VLOOKUP($A124,'Last Race Results'!$A$5:$J$44,2,FALSE)))","v":"DNS"},{"$f":"IF('Last Race Results'!$B$5=0,0,IF(ISNA(VLOOKUP($A124,'Last Race Results'!$A$5:$J$44,11,FALSE)),0,VLOOKUP($A124,'Last Race Results'!$A$5:$J$44,11,FALSE)))","v":0}]
[108,{"$f":"IF(ISNA(VLOOKUP($A125,'Entry List'!$A$1:$F$61,B$5,FALSE)),\"\",VLOOKUP($A125,'Entry List'!$A$1:$F$61,B$5,FALSE))","v":""},{"$f":"IF(ISNA(VLOOKUP($A125,'Entry List'!$A$1:$F$61,C$5,FALSE)),\"\",VLOOKUP($A125,'Entry List'!$A$1:$F$61,C$5,FALSE))","v":""},{"$f":"IF(ISNA(VLOOKUP($A125,'Entry List'!$A$1:$F$61,D$5,FALSE)),\"\",VLOOKUP($A125,'Entry List'!$A$1:$F$61,D$5,FALSE))","v":""},{"$f":"IF(ISNA(VLOOKUP($A125,'Entry List'!$A$1:$F$61,E$5,FALSE)),\"\",VLOOKUP($A125,'Entry List'!$A$1:$F$61,E$5,FALSE))","v":""},null,"DNS",0,"DNS",0,"DNS",0,"DNS",0,"DNS",0,"DNS",0,"DNS",0,"DNS",0,"DNS",0,"DNS",0,"DNS",0,"DNS",0,"DNS",0,"DNS",0,"DNS",0,"DNS",0,"DNS",0,"DNS",0,"DNS",0,"DNS",0,"DNS",0,"DNS",0,"DNS",0,"DNS",0,"DNS",0,{"$f":"IF('Last Race Results'!$B$5=0,0,IF(ISNA(VLOOKUP($A125,'Last Race Results'!$A$5:$J$44,2,FALSE)),\"DNS\",VLOOKUP($A125,'Last Race Results'!$A$5:$J$44,2,FALSE)))","v":"DNS"},{"$f":"IF('Last Race Results'!$B$5=0,0,IF(ISNA(VLOOKUP($A125,'Last Race Results'!$A$5:$K$44,11,FALSE)),0,VLOOKUP($A125,'Last Race Results'!$A$5:$K$44,11,FALSE)))","v":0},null,null,null,null,null,null,null,null,null,null,null,null,null,null,null,null,null,null,{"$f":"IF('Last Race Results'!$B$5=0,0,IF(ISNA(VLOOKUP($A125,'Last Race Results'!$A$5:$J$44,2,FALSE)),\"DNS\",VLOOKUP($A125,'Last Race Results'!$A$5:$J$44,2,FALSE)))","v":"DNS"},{"$f":"IF('Last Race Results'!$B$5=0,0,IF(ISNA(VLOOKUP($A125,'Last Race Results'!$A$5:$J$44,11,FALSE)),0,VLOOKUP($A125,'Last Race Results'!$A$5:$J$44,11,FALSE)))","v":0}]
[109,{"$f":"IF(ISNA(VLOOKUP($A126,'Entry List'!$A$1:$F$61,B$5,FALSE)),\"\",VLOOKUP($A126,'Entry List'!$A$1:$F$61,B$5,FALSE))","v":""},{"$f":"IF(ISNA(VLOOKUP($A126,'Entry List'!$A$1:$F$61,C$5,FALSE)),\"\",VLOOKUP($A126,'Entry List'!$A$1:$F$61,C$5,FALSE))","v":""},{"$f":"IF(ISNA(VLOOKUP($A126,'Entry List'!$A$1:$F$61,D$5,FALSE)),\"\",VLOOKUP($A126,'Entry List'!$A$1:$F$61,D$5,FALSE))","v":""},{"$f":"IF(ISNA(VLOOKUP($A126,'Entry List'!$A$1:$F$61,E$5,FALSE)),\"\",VLOOKUP($A126,'Entry List'!$A$1:$F$61,E$5,FALSE))","v":""},null,"DNS",0,"DNS",0,"DNS",0,"DNS",0,"DNS",0,"DNS",0,"DNS",0,"DNS",0,"DNS",0,"DNS",0,"DNS",0,"DNS",0,"DNS",0,"DNS",0,"DNS",0,"DNS",0,"DNS",0,"DNS",0,"DNS",0,"DNS",0,"DNS",0,"DNS",0,"DNS",0,"DNS",0,"DNS",0,{"$f":"IF('Last Race Results'!$B$5=0,0,IF(ISNA(VLOOKUP($A126,'Last Race Results'!$A$5:$J$44,2,FALSE)),\"DNS\",VLOOKUP($A126,'Last Race Results'!$A$5:$J$44,2,FALSE)))","v":"DNS"},{"$f":"IF('Last Race Results'!$B$5=0,0,IF(ISNA(VLOOKUP($A126,'Last Race Results'!$A$5:$K$44,11,FALSE)),0,VLOOKUP($A126,'Last Race Results'!$A$5:$K$44,11,FALSE)))","v":0},null,null,null,null,null,null,null,null,null,null,null,null,null,null,null,null,null,null,{"$f":"IF('Last Race Results'!$B$5=0,0,IF(ISNA(VLOOKUP($A126,'Last Race Results'!$A$5:$J$44,2,FALSE)),\"DNS\",VLOOKUP($A126,'Last Race Results'!$A$5:$J$44,2,FALSE)))","v":"DNS"},{"$f":"IF('Last Race Results'!$B$5=0,0,IF(ISNA(VLOOKUP($A126,'Last Race Results'!$A$5:$J$44,11,FALSE)),0,VLOOKUP($A126,'Last Race Results'!$A$5:$J$44,11,FALSE)))","v":0}]
[110,{"$f":"IF(ISNA(VLOOKUP($A127,'Entry List'!$A$1:$F$61,B$5,FALSE)),\"\",VLOOKUP($A127,'Entry List'!$A$1:$F$61,B$5,FALSE))","v":""},{"$f":"IF(ISNA(VLOOKUP($A127,'Entry List'!$A$1:$F$61,C$5,FALSE)),\"\",VLOOKUP($A127,'Entry List'!$A$1:$F$61,C$5,FALSE))","v":""},{"$f":"IF(ISNA(VLOOKUP($A127,'Entry List'!$A$1:$F$61,D$5,FALSE)),\"\",VLOOKUP($A127,'Entry List'!$A$1:$F$61,D$5,FALSE))","v":""},{"$f":"IF(ISNA(VLOOKUP($A127,'Entry List'!$A$1:$F$61,E$5,FALSE)),\"\",VLOOKUP($A127,'Entry List'!$A$1:$F$61,E$5,FALSE))","v":""},null,"DNS",0,"DNS",0,"DNS",0,"DNS",0,"DNS",0,"DNS",0,"DNS",0,"DNS",0,"DNS",0,"DNS",0,"DNS",0,"DNS",0,"DNS",0,"DNS",0,"DNS",0,"DNS",0,"DNS",0,"DNS",0,"DNS",0,"DNS",0,"DNS",0,"DNS",0,"DNS",0,"DNS",0,"DNS",0,{"$f":"IF('Last Race Results'!$B$5=0,0,IF(ISNA(VLOOKUP($A127,'Last Race Results'!$A$5:$J$44,2,FALSE)),\"DNS\",VLOOKUP($A127,'Last Race Results'!$A$5:$J$44,2,FALSE)))","v":"DNS"},{"$f":"IF('Last Race Results'!$B$5=0,0,IF(ISNA(VLOOKUP($A127,'Last Race Results'!$A$5:$K$44,11,FALSE)),0,VLOOKUP($A127,'Last Race Results'!$A$5:$K$44,11,FALSE)))","v":0},null,null,null,null,null,null,null,null,null,null,null,null,null,null,null,null,null,null,{"$f":"IF('Last Race Results'!$B$5=0,0,IF(ISNA(VLOOKUP($A127,'Last Race Results'!$A$5:$J$44,2,FALSE)),\"DNS\",VLOOKUP($A127,'Last Race Results'!$A$5:$J$44,2,FALSE)))","v":"DNS"},{"$f":"IF('Last Race Results'!$B$5=0,0,IF(ISNA(VLOOKUP($A127,'Last Race Results'!$A$5:$J$44,11,FALSE)),0,VLOOKUP($A127,'Last Race Results'!$A$5:$J$44,11,FALSE)))","v":0}]
[111,{"$f":"IF(ISNA(VLOOKUP($A128,'Entry List'!$A$1:$F$61,B$5,FALSE)),\"\",VLOOKUP($A128,'Entry List'!$A$1:$F$61,B$5,FALSE))","v":""},{"$f":"IF(ISNA(VLOOKUP($A128,'Entry List'!$A$1:$F$61,C$5,FALSE)),\"\",VLOOKUP($A128,'Entry List'!$A$1:$F$61,C$5,FALSE))","v":""},{"$f":"IF(ISNA(VLOOKUP($A128,'Entry List'!$A$1:$F$61,D$5,FALSE)),\"\",VLOOKUP($A128,'Entry List'!$A$1:$F$61,D$5,FALSE))","v":""},{"$f":"IF(ISNA(VLOOKUP($A128,'Entry List'!$A$1:$F$61,E$5,FALSE)),\"\",VLOOKUP($A128,'Entry List'!$A$1:$F$61,E$5,FALSE))","v":""},null,"DNS",0,"DNS",0,"DNS",0,"DNS",0,"DNS",0,"DNS",0,"DNS",0,"DNS",0,"DNS",0,"DNS",0,"DNS",0,"DNS",0,"DNS",0,"DNS",0,"DNS",0,"DNS",0,"DNS",0,"DNS",0,"DNS",0,"DNS",0,"DNS",0,"DNS",0,"DNS",0,"DNS",0,"DNS",0,{"$f":"IF('Last Race Results'!$B$5=0,0,IF(ISNA(VLOOKUP($A128,'Last Race Results'!$A$5:$J$44,2,FALSE)),\"DNS\",VLOOKUP($A128,'Last Race Results'!$A$5:$J$44,2,FALSE)))","v":"DNS"},{"$f":"IF('Last Race Results'!$B$5=0,0,IF(ISNA(VLOOKUP($A128,'Last Race Results'!$A$5:$K$44,11,FALSE)),0,VLOOKUP($A128,'Last Race Results'!$A$5:$K$44,11,FALSE)))","v":0},null,null,null,null,null,null,null,null,null,null,null,null,null,null,null,null,null,null,{"$f":"IF('Last Race Results'!$B$5=0,0,IF(ISNA(VLOOKUP($A128,'Last Race Results'!$A$5:$J$44,2,FALSE)),\"DNS\",VLOOKUP($A128,'Last Race Results'!$A$5:$J$44,2,FALSE)))","v":"DNS"},{"$f":"IF('Last Race Results'!$B$5=0,0,IF(ISNA(VLOOKUP($A128,'Last Race Results'!$A$5:$J$44,11,FALSE)),0,VLOOKUP($A128,'Last Race Results'!$A$5:$J$44,11,FALSE)))","v":0}]
[112,{"$f":"IF(ISNA(VLOOKUP($A129,'Entry List'!$A$1:$F$61,B$5,FALSE)),\"\",VLOOKUP($A129,'Entry List'!$A$1:$F$61,B$5,FALSE))","v":""},{"$f":"IF(ISNA(VLOOKUP($A129,'Entry List'!$A$1:$F$61,C$5,FALSE)),\"\",VLOOKUP($A129,'Entry List'!$A$1:$F$61,C$5,FALSE))","v":""},{"$f":"IF(ISNA(VLOOKUP($A129,'Entry List'!$A$1:$F$61,D$5,FALSE)),\"\",VLOOKUP($A129,'Entry List'!$A$1:$F$61,D$5,FALSE))","v":""},{"$f":"IF(ISNA(VLOOKUP($A129,'Entry List'!$A$1:$F$61,E$5,FALSE)),\"\",VLOOKUP($A129,'Entry List'!$A$1:$F$61,E$5,FALSE))","v":""},null,"DNS",0,"DNS",0,"DNS",0,"DNS",0,"DNS",0,"DNS",0,"DNS",0,"DNS",0,"DNS",0,"DNS",0,"DNS",0,"DNS",0,"DNS",0,"DNS",0,"DNS",0,"DNS",0,"DNS",0,"DNS",0,"DNS",0,"DNS",0,"DNS",0,"DNS",0,"DNS",0,"DNS",0,"DNS",0,{"$f":"IF('Last Race Results'!$B$5=0,0,IF(ISNA(VLOOKUP($A129,'Last Race Results'!$A$5:$J$44,2,FALSE)),\"DNS\",VLOOKUP($A129,'Last Race Results'!$A$5:$J$44,2,FALSE)))","v":"DNS"},{"$f":"IF('Last Race Results'!$B$5=0,0,IF(ISNA(VLOOKUP($A129,'Last Race Results'!$A$5:$K$44,11,FALSE)),0,VLOOKUP($A129,'Last Race Results'!$A$5:$K$44,11,FALSE)))","v":0},null,null,null,null,null,null,null,null,null,null,null,null,null,null,null,null,null,null,{"$f":"IF('Last Race Results'!$B$5=0,0,IF(ISNA(VLOOKUP($A129,'Last Race Results'!$A$5:$J$44,2,FALSE)),\"DNS\",VLOOKUP($A129,'Last Race Results'!$A$5:$J$44,2,FALSE)))","v":"DNS"},{"$f":"IF('Last Race Results'!$B$5=0,0,IF(ISNA(VLOOKUP($A129,'Last Race Results'!$A$5:$J$44,11,FALSE)),0,VLOOKUP($A129,'Last Race Results'!$A$5:$J$44,11,FALSE)))","v":0}]
[113,{"$f":"IF(ISNA(VLOOKUP($A130,'Entry List'!$A$1:$F$61,B$5,FALSE)),\"\",VLOOKUP($A130,'Entry List'!$A$1:$F$61,B$5,FALSE))","v":""},{"$f":"IF(ISNA(VLOOKUP($A130,'Entry List'!$A$1:$F$61,C$5,FALSE)),\"\",VLOOKUP($A130,'Entry List'!$A$1:$F$61,C$5,FALSE))","v":""},{"$f":"IF(ISNA(VLOOKUP($A130,'Entry List'!$A$1:$F$61,D$5,FALSE)),\"\",VLOOKUP($A130,'Entry List'!$A$1:$F$61,D$5,FALSE))","v":""},{"$f":"IF(ISNA(VLOOKUP($A130,'Entry List'!$A$1:$F$61,E$5,FALSE)),\"\",VLOOKUP($A130,'Entry List'!$A$1:$F$61,E$5,FALSE))","v":""},null,"DNS",0,"DNS",0,"DNS",0,"DNS",0,"DNS",0,"DNS",0,"DNS",0,"DNS",0,"DNS",0,"DNS",0,"DNS",0,"DNS",0,"DNS",0,"DNS",0,"DNS",0,"DNS",0,"DNS",0,"DNS",0,"DNS",0,"DNS",0,"DNS",0,"DNS",0,"DNS",0,"DNS",0,"DNS",0,{"$f":"IF('Last Race Results'!$B$5=0,0,IF(ISNA(VLOOKUP($A130,'Last Race Results'!$A$5:$J$44,2,FALSE)),\"DNS\",VLOOKUP($A130,'Last Race Results'!$A$5:$J$44,2,FALSE)))","v":"DNS"},{"$f":"IF('Last Race Results'!$B$5=0,0,IF(ISNA(VLOOKUP($A130,'Last Race Results'!$A$5:$K$44,11,FALSE)),0,VLOOKUP($A130,'Last Race Results'!$A$5:$K$44,11,FALSE)))","v":0},null,null,null,null,null,null,null,null,null,null,null,null,null,null,null,null,null,null,{"$f":"IF('Last Race Results'!$B$5=0,0,IF(ISNA(VLOOKUP($A130,'Last Race Results'!$A$5:$J$44,2,FALSE)),\"DNS\",VLOOKUP($A130,'Last Race Results'!$A$5:$J$44,2,FALSE)))","v":"DNS"},{"$f":"IF('Last Race Results'!$B$5=0,0,IF(ISNA(VLOOKUP($A130,'Last Race Results'!$A$5:$J$44,11,FALSE)),0,VLOOKUP($A130,'Last Race Results'!$A$5:$J$44,11,FALSE)))","v":0}]
[114,{"$f":"IF(ISNA(VLOOKUP($A131,'Entry List'!$A$1:$F$61,B$5,FALSE)),\"\",VLOOKUP($A131,'Entry List'!$A$1:$F$61,B$5,FALSE))","v":""},{"$f":"IF(ISNA(VLOOKUP($A131,'Entry List'!$A$1:$F$61,C$5,FALSE)),\"\",VLOOKUP($A131,'Entry List'!$A$1:$F$61,C$5,FALSE))","v":""},{"$f":"IF(ISNA(VLOOKUP($A131,'Entry List'!$A$1:$F$61,D$5,FALSE)),\"\",VLOOKUP($A131,'Entry List'!$A$1:$F$61,D$5,FALSE))","v":""},{"$f":"IF(ISNA(VLOOKUP($A131,'Entry List'!$A$1:$F$61,E$5,FALSE)),\"\",VLOOKUP($A131,'Entry List'!$A$1:$F$61,E$5,FALSE))","v":""},null,"DNS",0,"DNS",0,"DNS",0,"DNS",0,"DNS",0,"DNS",0,"DNS",0,"DNS",0,"DNS",0,"DNS",0,"DNS",0,"DNS",0,"DNS",0,"DNS",0,"DNS",0,"DNS",0,"DNS",0,"DNS",0,"DNS",0,"DNS",0,"DNS",0,"DNS",0,"DNS",0,"DNS",0,"DNS",0,{"$f":"IF('Last Race Results'!$B$5=0,0,IF(ISNA(VLOOKUP($A131,'Last Race Results'!$A$5:$J$44,2,FALSE)),\"DNS\",VLOOKUP($A131,'Last Race Results'!$A$5:$J$44,2,FALSE)))","v":"DNS"},{"$f":"IF('Last Race Results'!$B$5=0,0,IF(ISNA(VLOOKUP($A131,'Last Race Results'!$A$5:$K$44,11,FALSE)),0,VLOOKUP($A131,'Last Race Results'!$A$5:$K$44,11,FALSE)))","v":0},null,null,null,null,null,null,null,null,null,null,null,null,null,null,null,null,null,null,{"$f":"IF('Last Race Results'!$B$5=0,0,IF(ISNA(VLOOKUP($A131,'Last Race Results'!$A$5:$J$44,2,FALSE)),\"DNS\",VLOOKUP($A131,'Last Race Results'!$A$5:$J$44,2,FALSE)))","v":"DNS"},{"$f":"IF('Last Race Results'!$B$5=0,0,IF(ISNA(VLOOKUP($A131,'Last Race Results'!$A$5:$J$44,11,FALSE)),0,VLOOKUP($A131,'Last Race Results'!$A$5:$J$44,11,FALSE)))","v":0}]
[115,{"$f":"IF(ISNA(VLOOKUP($A132,'Entry List'!$A$1:$F$61,B$5,FALSE)),\"\",VLOOKUP($A132,'Entry List'!$A$1:$F$61,B$5,FALSE))","v":""},{"$f":"IF(ISNA(VLOOKUP($A132,'Entry List'!$A$1:$F$61,C$5,FALSE)),\"\",VLOOKUP($A132,'Entry List'!$A$1:$F$61,C$5,FALSE))","v":""},{"$f":"IF(ISNA(VLOOKUP($A132,'Entry List'!$A$1:$F$61,D$5,FALSE)),\"\",VLOOKUP($A132,'Entry List'!$A$1:$F$61,D$5,FALSE))","v":""},{"$f":"IF(ISNA(VLOOKUP($A132,'Entry List'!$A$1:$F$61,E$5,FALSE)),\"\",VLOOKUP($A132,'Entry List'!$A$1:$F$61,E$5,FALSE))","v":""},null,"DNS",0,"DNS",0,"DNS",0,"DNS",0,"DNS",0,"DNS",0,"DNS",0,"DNS",0,"DNS",0,"DNS",0,"DNS",0,"DNS",0,"DNS",0,"DNS",0,"DNS",0,"DNS",0,"DNS",0,"DNS",0,"DNS",0,"DNS",0,"DNS",0,"DNS",0,"DNS",0,"DNS",0,"DNS",0,{"$f":"IF('Last Race Results'!$B$5=0,0,IF(ISNA(VLOOKUP($A132,'Last Race Results'!$A$5:$J$44,2,FALSE)),\"DNS\",VLOOKUP($A132,'Last Race Results'!$A$5:$J$44,2,FALSE)))","v":"DNS"},{"$f":"IF('Last Race Results'!$B$5=0,0,IF(ISNA(VLOOKUP($A132,'Last Race Results'!$A$5:$K$44,11,FALSE)),0,VLOOKUP($A132,'Last Race Results'!$A$5:$K$44,11,FALSE)))","v":0},null,null,null,null,null,null,null,null,null,null,null,null,null,null,null,null,null,null,{"$f":"IF('Last Race Results'!$B$5=0,0,IF(ISNA(VLOOKUP($A132,'Last Race Results'!$A$5:$J$44,2,FALSE)),\"DNS\",VLOOKUP($A132,'Last Race Results'!$A$5:$J$44,2,FALSE)))","v":"DNS"},{"$f":"IF('Last Race Results'!$B$5=0,0,IF(ISNA(VLOOKUP($A132,'Last Race Results'!$A$5:$J$44,11,FALSE)),0,VLOOKUP($A132,'Last Race Results'!$A$5:$J$44,11,FALSE)))","v":0}]
[116,{"$f":"IF(ISNA(VLOOKUP($A133,'Entry List'!$A$1:$F$61,B$5,FALSE)),\"\",VLOOKUP($A133,'Entry List'!$A$1:$F$61,B$5,FALSE))","v":""},{"$f":"IF(ISNA(VLOOKUP($A133,'Entry List'!$A$1:$F$61,C$5,FALSE)),\"\",VLOOKUP($A133,'Entry List'!$A$1:$F$61,C$5,FALSE))","v":""},{"$f":"IF(ISNA(VLOOKUP($A133,'Entry List'!$A$1:$F$61,D$5,FALSE)),\"\",VLOOKUP($A133,'Entry List'!$A$1:$F$61,D$5,FALSE))","v":""},{"$f":"IF(ISNA(VLOOKUP($A133,'Entry List'!$A$1:$F$61,E$5,FALSE)),\"\",VLOOKUP($A133,'Entry List'!$A$1:$F$61,E$5,FALSE))","v":""},null,"DNS",0,"DNS",0,"DNS",0,"DNS",0,"DNS",0,"DNS",0,"DNS",0,"DNS",0,"DNS",0,"DNS",0,"DNS",0,"DNS",0,"DNS",0,"DNS",0,"DNS",0,"DNS",0,"DNS",0,"DNS",0,"DNS",0,"DNS",0,"DNS",0,"DNS",0,"DNS",0,"DNS",0,"DNS",0,{"$f":"IF('Last Race Results'!$B$5=0,0,IF(ISNA(VLOOKUP($A133,'Last Race Results'!$A$5:$J$44,2,FALSE)),\"DNS\",VLOOKUP($A133,'Last Race Results'!$A$5:$J$44,2,FALSE)))","v":"DNS"},{"$f":"IF('Last Race Results'!$B$5=0,0,IF(ISNA(VLOOKUP($A133,'Last Race Results'!$A$5:$K$44,11,FALSE)),0,VLOOKUP($A133,'Last Race Results'!$A$5:$K$44,11,FALSE)))","v":0},null,null,null,null,null,null,null,null,null,null,null,null,null,null,null,null,null,null,{"$f":"IF('Last Race Results'!$B$5=0,0,IF(ISNA(VLOOKUP($A133,'Last Race Results'!$A$5:$J$44,2,FALSE)),\"DNS\",VLOOKUP($A133,'Last Race Results'!$A$5:$J$44,2,FALSE)))","v":"DNS"},{"$f":"IF('Last Race Results'!$B$5=0,0,IF(ISNA(VLOOKUP($A133,'Last Race Results'!$A$5:$J$44,11,FALSE)),0,VLOOKUP($A133,'Last Race Results'!$A$5:$J$44,11,FALSE)))","v":0}]
[117,{"$f":"IF(ISNA(VLOOKUP($A134,'Entry List'!$A$1:$F$61,B$5,FALSE)),\"\",VLOOKUP($A134,'Entry List'!$A$1:$F$61,B$5,FALSE))","v":""},{"$f":"IF(ISNA(VLOOKUP($A134,'Entry List'!$A$1:$F$61,C$5,FALSE)),\"\",VLOOKUP($A134,'Entry List'!$A$1:$F$61,C$5,FALSE))","v":""},{"$f":"IF(ISNA(VLOOKUP($A134,'Entry List'!$A$1:$F$61,D$5,FALSE)),\"\",VLOOKUP($A134,'Entry List'!$A$1:$F$61,D$5,FALSE))","v":""},{"$f":"IF(ISNA(VLOOKUP($A134,'Entry List'!$A$1:$F$61,E$5,FALSE)),\"\",VLOOKUP($A134,'Entry List'!$A$1:$F$61,E$5,FALSE))","v":""},null,"DNS",0,"DNS",0,"DNS",0,"DNS",0,"DNS",0,"DNS",0,"DNS",0,"DNS",0,"DNS",0,"DNS",0,"DNS",0,"DNS",0,"DNS",0,"DNS",0,"DNS",0,"DNS",0,"DNS",0,"DNS",0,"DNS",0,"DNS",0,"DNS",0,"DNS",0,"DNS",0,"DNS",0,"DNS",0,{"$f":"IF('Last Race Results'!$B$5=0,0,IF(ISNA(VLOOKUP($A134,'Last Race Results'!$A$5:$J$44,2,FALSE)),\"DNS\",VLOOKUP($A134,'Last Race Results'!$A$5:$J$44,2,FALSE)))","v":"DNS"},{"$f":"IF('Last Race Results'!$B$5=0,0,IF(ISNA(VLOOKUP($A134,'Last Race Results'!$A$5:$K$44,11,FALSE)),0,VLOOKUP($A134,'Last Race Results'!$A$5:$K$44,11,FALSE)))","v":0},null,null,null,null,null,null,null,null,null,null,null,null,null,null,null,null,null,null,{"$f":"IF('Last Race Results'!$B$5=0,0,IF(ISNA(VLOOKUP($A134,'Last Race Results'!$A$5:$J$44,2,FALSE)),\"DNS\",VLOOKUP($A134,'Last Race Results'!$A$5:$J$44,2,FALSE)))","v":"DNS"},{"$f":"IF('Last Race Results'!$B$5=0,0,IF(ISNA(VLOOKUP($A134,'Last Race Results'!$A$5:$J$44,11,FALSE)),0,VLOOKUP($A134,'Last Race Results'!$A$5:$J$44,11,FALSE)))","v":0}]
[118,{"$f":"IF(ISNA(VLOOKUP($A135,'Entry List'!$A$1:$F$61,B$5,FALSE)),\"\",VLOOKUP($A135,'Entry List'!$A$1:$F$61,B$5,FALSE))","v":""},{"$f":"IF(ISNA(VLOOKUP($A135,'Entry List'!$A$1:$F$61,C$5,FALSE)),\"\",VLOOKUP($A135,'Entry List'!$A$1:$F$61,C$5,FALSE))","v":""},{"$f":"IF(ISNA(VLOOKUP($A135,'Entry List'!$A$1:$F$61,D$5,FALSE)),\"\",VLOOKUP($A135,'Entry List'!$A$1:$F$61,D$5,FALSE))","v":""},{"$f":"IF(ISNA(VLOOKUP($A135,'Entry List'!$A$1:$F$61,E$5,FALSE)),\"\",VLOOKUP($A135,'Entry List'!$A$1:$F$61,E$5,FALSE))","v":""},null,"DNS",0,"DNS",0,"DNS",0,"DNS",0,"DNS",0,"DNS",0,"DNS",0,"DNS",0,"DNS",0,"DNS",0,"DNS",0,"DNS",0,"DNS",0,"DNS",0,"DNS",0,"DNS",0,"DNS",0,"DNS",0,"DNS",0,"DNS",0,"DNS",0,"DNS",0,"DNS",0,"DNS",0,"DNS",0,{"$f":"IF('Last Race Results'!$B$5=0,0,IF(ISNA(VLOOKUP($A135,'Last Race Results'!$A$5:$J$44,2,FALSE)),\"DNS\",VLOOKUP($A135,'Last Race Results'!$A$5:$J$44,2,FALSE)))","v":"DNS"},{"$f":"IF('Last Race Results'!$B$5=0,0,IF(ISNA(VLOOKUP($A135,'Last Race Results'!$A$5:$K$44,11,FALSE)),0,VLOOKUP($A135,'Last Race Results'!$A$5:$K$44,11,FALSE)))","v":0},null,null,null,null,null,null,null,null,null,null,null,null,null,null,null,null,null,null,{"$f":"IF('Last Race Results'!$B$5=0,0,IF(ISNA(VLOOKUP($A135,'Last Race Results'!$A$5:$J$44,2,FALSE)),\"DNS\",VLOOKUP($A135,'Last Race Results'!$A$5:$J$44,2,FALSE)))","v":"DNS"},{"$f":"IF('Last Race Results'!$B$5=0,0,IF(ISNA(VLOOKUP($A135,'Last Race Results'!$A$5:$J$44,11,FALSE)),0,VLOOKUP($A135,'Last Race Results'!$A$5:$J$44,11,FALSE)))","v":0}]
[119,{"$f":"IF(ISNA(VLOOKUP($A136,'Entry List'!$A$1:$F$61,B$5,FALSE)),\"\",VLOOKUP($A136,'Entry List'!$A$1:$F$61,B$5,FALSE))","v":""},{"$f":"IF(ISNA(VLOOKUP($A136,'Entry List'!$A$1:$F$61,C$5,FALSE)),\"\",VLOOKUP($A136,'Entry List'!$A$1:$F$61,C$5,FALSE))","v":""},{"$f":"IF(ISNA(VLOOKUP($A136,'Entry List'!$A$1:$F$61,D$5,FALSE)),\"\",VLOOKUP($A136,'Entry List'!$A$1:$F$61,D$5,FALSE))","v":""},{"$f":"IF(ISNA(VLOOKUP($A136,'Entry List'!$A$1:$F$61,E$5,FALSE)),\"\",VLOOKUP($A136,'Entry List'!$A$1:$F$61,E$5,FALSE))","v":""},null,"DNS",0,"DNS",0,"DNS",0,"DNS",0,"DNS",0,"DNS",0,"DNS",0,"DNS",0,"DNS",0,"DNS",0,"DNS",0,"DNS",0,"DNS",0,"DNS",0,"DNS",0,"DNS",0,"DNS",0,"DNS",0,"DNS",0,"DNS",0,"DNS",0,"DNS",0,"DNS",0,"DNS",0,"DNS",0,{"$f":"IF('Last Race Results'!$B$5=0,0,IF(ISNA(VLOOKUP($A136,'Last Race Results'!$A$5:$J$44,2,FALSE)),\"DNS\",VLOOKUP($A136,'Last Race Results'!$A$5:$J$44,2,FALSE)))","v":"DNS"},{"$f":"IF('Last Race Results'!$B$5=0,0,IF(ISNA(VLOOKUP($A136,'Last Race Results'!$A$5:$K$44,11,FALSE)),0,VLOOKUP($A136,'Last Race Results'!$A$5:$K$44,11,FALSE)))","v":0},null,null,null,null,null,null,null,null,null,null,null,null,null,null,null,null,null,null,{"$f":"IF('Last Race Results'!$B$5=0,0,IF(ISNA(VLOOKUP($A136,'Last Race Results'!$A$5:$J$44,2,FALSE)),\"DNS\",VLOOKUP($A136,'Last Race Results'!$A$5:$J$44,2,FALSE)))","v":"DNS"},{"$f":"IF('Last Race Results'!$B$5=0,0,IF(ISNA(VLOOKUP($A136,'Last Race Results'!$A$5:$J$44,11,FALSE)),0,VLOOKUP($A136,'Last Race Results'!$A$5:$J$44,11,FALSE)))","v":0}]
[120,{"$f":"IF(ISNA(VLOOKUP($A137,'Entry List'!$A$1:$F$61,B$5,FALSE)),\"\",VLOOKUP($A137,'Entry List'!$A$1:$F$61,B$5,FALSE))","v":""},{"$f":"IF(ISNA(VLOOKUP($A137,'Entry List'!$A$1:$F$61,C$5,FALSE)),\"\",VLOOKUP($A137,'Entry List'!$A$1:$F$61,C$5,FALSE))","v":""},{"$f":"IF(ISNA(VLOOKUP($A137,'Entry List'!$A$1:$F$61,D$5,FALSE)),\"\",VLOOKUP($A137,'Entry List'!$A$1:$F$61,D$5,FALSE))","v":""},{"$f":"IF(ISNA(VLOOKUP($A137,'Entry List'!$A$1:$F$61,E$5,FALSE)),\"\",VLOOKUP($A137,'Entry List'!$A$1:$F$61,E$5,FALSE))","v":""},null,"DNS",0,"DNS",0,"DNS",0,"DNS",0,"DNS",0,"DNS",0,"DNS",0,"DNS",0,"DNS",0,"DNS",0,"DNS",0,"DNS",0,"DNS",0,"DNS",0,"DNS",0,"DNS",0,"DNS",0,"DNS",0,"DNS",0,"DNS",0,"DNS",0,"DNS",0,"DNS",0,"DNS",0,"DNS",0,{"$f":"IF('Last Race Results'!$B$5=0,0,IF(ISNA(VLOOKUP($A137,'Last Race Results'!$A$5:$J$44,2,FALSE)),\"DNS\",VLOOKUP($A137,'Last Race Results'!$A$5:$J$44,2,FALSE)))","v":"DNS"},{"$f":"IF('Last Race Results'!$B$5=0,0,IF(ISNA(VLOOKUP($A137,'Last Race Results'!$A$5:$K$44,11,FALSE)),0,VLOOKUP($A137,'Last Race Results'!$A$5:$K$44,11,FALSE)))","v":0},null,null,null,null,null,null,null,null,null,null,null,null,null,null,null,null,null,null,{"$f":"IF('Last Race Results'!$B$5=0,0,IF(ISNA(VLOOKUP($A137,'Last Race Results'!$A$5:$J$44,2,FALSE)),\"DNS\",VLOOKUP($A137,'Last Race Results'!$A$5:$J$44,2,FALSE)))","v":"DNS"},{"$f":"IF('Last Race Results'!$B$5=0,0,IF(ISNA(VLOOKUP($A137,'Last Race Results'!$A$5:$J$44,11,FALSE)),0,VLOOKUP($A137,'Last Race Results'!$A$5:$J$44,11,FALSE)))","v":0}]
[121,{"$f":"IF(ISNA(VLOOKUP($A138,'Entry List'!$A$1:$F$61,B$5,FALSE)),\"\",VLOOKUP($A138,'Entry List'!$A$1:$F$61,B$5,FALSE))","v":""},{"$f":"IF(ISNA(VLOOKUP($A138,'Entry List'!$A$1:$F$61,C$5,FALSE)),\"\",VLOOKUP($A138,'Entry List'!$A$1:$F$61,C$5,FALSE))","v":""},{"$f":"IF(ISNA(VLOOKUP($A138,'Entry List'!$A$1:$F$61,D$5,FALSE)),\"\",VLOOKUP($A138,'Entry List'!$A$1:$F$61,D$5,FALSE))","v":""},{"$f":"IF(ISNA(VLOOKUP($A138,'Entry List'!$A$1:$F$61,E$5,FALSE)),\"\",VLOOKUP($A138,'Entry List'!$A$1:$F$61,E$5,FALSE))","v":""},null,"DNS",0,"DNS",0,"DNS",0,"DNS",0,"DNS",0,"DNS",0,"DNS",0,"DNS",0,"DNS",0,"DNS",0,"DNS",0,"DNS",0,"DNS",0,"DNS",0,"DNS",0,"DNS",0,"DNS",0,"DNS",0,"DNS",0,"DNS",0,"DNS",0,"DNS",0,"DNS",0,"DNS",0,"DNS",0,{"$f":"IF('Last Race Results'!$B$5=0,0,IF(ISNA(VLOOKUP($A138,'Last Race Results'!$A$5:$J$44,2,FALSE)),\"DNS\",VLOOKUP($A138,'Last Race Results'!$A$5:$J$44,2,FALSE)))","v":"DNS"},{"$f":"IF('Last Race Results'!$B$5=0,0,IF(ISNA(VLOOKUP($A138,'Last Race Results'!$A$5:$K$44,11,FALSE)),0,VLOOKUP($A138,'Last Race Results'!$A$5:$K$44,11,FALSE)))","v":0},null,null,null,null,null,null,null,null,null,null,null,null,null,null,null,null,null,null,{"$f":"IF('Last Race Results'!$B$5=0,0,IF(ISNA(VLOOKUP($A138,'Last Race Results'!$A$5:$J$44,2,FALSE)),\"DNS\",VLOOKUP($A138,'Last Race Results'!$A$5:$J$44,2,FALSE)))","v":"DNS"},{"$f":"IF('Last Race Results'!$B$5=0,0,IF(ISNA(VLOOKUP($A138,'Last Race Results'!$A$5:$J$44,11,FALSE)),0,VLOOKUP($A138,'Last Race Results'!$A$5:$J$44,11,FALSE)))","v":0}]
[122,{"$f":"IF(ISNA(VLOOKUP($A139,'Entry List'!$A$1:$F$61,B$5,FALSE)),\"\",VLOOKUP($A139,'Entry List'!$A$1:$F$61,B$5,FALSE))","v":""},{"$f":"IF(ISNA(VLOOKUP($A139,'Entry List'!$A$1:$F$61,C$5,FALSE)),\"\",VLOOKUP($A139,'Entry List'!$A$1:$F$61,C$5,FALSE))","v":""},{"$f":"IF(ISNA(VLOOKUP($A139,'Entry List'!$A$1:$F$61,D$5,FALSE)),\"\",VLOOKUP($A139,'Entry List'!$A$1:$F$61,D$5,FALSE))","v":""},{"$f":"IF(ISNA(VLOOKUP($A139,'Entry List'!$A$1:$F$61,E$5,FALSE)),\"\",VLOOKUP($A139,'Entry List'!$A$1:$F$61,E$5,FALSE))","v":""},null,"DNS",0,"DNS",0,"DNS",0,"DNS",0,"DNS",0,"DNS",0,"DNS",0,"DNS",0,"DNS",0,"DNS",0,"DNS",0,"DNS",0,"DNS",0,"DNS",0,"DNS",0,"DNS",0,"DNS",0,"DNS",0,"DNS",0,"DNS",0,"DNS",0,"DNS",0,"DNS",0,"DNS",0,"DNS",0,{"$f":"IF('Last Race Results'!$B$5=0,0,IF(ISNA(VLOOKUP($A139,'Last Race Results'!$A$5:$J$44,2,FALSE)),\"DNS\",VLOOKUP($A139,'Last Race Results'!$A$5:$J$44,2,FALSE)))","v":"DNS"},{"$f":"IF('Last Race Results'!$B$5=0,0,IF(ISNA(VLOOKUP($A139,'Last Race Results'!$A$5:$K$44,11,FALSE)),0,VLOOKUP($A139,'Last Race Results'!$A$5:$K$44,11,FALSE)))","v":0},null,null,null,null,null,null,null,null,null,null,null,null,null,null,null,null,null,null,{"$f":"IF('Last Race Results'!$B$5=0,0,IF(ISNA(VLOOKUP($A139,'Last Race Results'!$A$5:$J$44,2,FALSE)),\"DNS\",VLOOKUP($A139,'Last Race Results'!$A$5:$J$44,2,FALSE)))","v":"DNS"},{"$f":"IF('Last Race Results'!$B$5=0,0,IF(ISNA(VLOOKUP($A139,'Last Race Results'!$A$5:$J$44,11,FALSE)),0,VLOOKUP($A139,'Last Race Results'!$A$5:$J$44,11,FALSE)))","v":0}]
[123,{"$f":"IF(ISNA(VLOOKUP($A140,'Entry List'!$A$1:$F$61,B$5,FALSE)),\"\",VLOOKUP($A140,'Entry List'!$A$1:$F$61,B$5,FALSE))","v":""},{"$f":"IF(ISNA(VLOOKUP($A140,'Entry List'!$A$1:$F$61,C$5,FALSE)),\"\",VLOOKUP($A140,'Entry List'!$A$1:$F$61,C$5,FALSE))","v":""},{"$f":"IF(ISNA(VLOOKUP($A140,'Entry List'!$A$1:$F$61,D$5,FALSE)),\"\",VLOOKUP($A140,'Entry List'!$A$1:$F$61,D$5,FALSE))","v":""},{"$f":"IF(ISNA(VLOOKUP($A140,'Entry List'!$A$1:$F$61,E$5,FALSE)),\"\",VLOOKUP($A140,'Entry List'!$A$1:$F$61,E$5,FALSE))","v":""},null,"DNS",0,"DNS",0,"DNS",0,"DNS",0,"DNS",0,"DNS",0,"DNS",0,"DNS",0,"DNS",0,"DNS",0,"DNS",0,"DNS",0,"DNS",0,"DNS",0,"DNS",0,"DNS",0,"DNS",0,"DNS",0,"DNS",0,"DNS",0,"DNS",0,"DNS",0,"DNS",0,"DNS",0,"DNS",0,{"$f":"IF('Last Race Results'!$B$5=0,0,IF(ISNA(VLOOKUP($A140,'Last Race Results'!$A$5:$J$44,2,FALSE)),\"DNS\",VLOOKUP($A140,'Last Race Results'!$A$5:$J$44,2,FALSE)))","v":"DNS"},{"$f":"IF('Last Race Results'!$B$5=0,0,IF(ISNA(VLOOKUP($A140,'Last Race Results'!$A$5:$K$44,11,FALSE)),0,VLOOKUP($A140,'Last Race Results'!$A$5:$K$44,11,FALSE)))","v":0},null,null,null,null,null,null,null,null,null,null,null,null,null,null,null,null,null,null,{"$f":"IF('Last Race Results'!$B$5=0,0,IF(ISNA(VLOOKUP($A140,'Last Race Results'!$A$5:$J$44,2,FALSE)),\"DNS\",VLOOKUP($A140,'Last Race Results'!$A$5:$J$44,2,FALSE)))","v":"DNS"},{"$f":"IF('Last Race Results'!$B$5=0,0,IF(ISNA(VLOOKUP($A140,'Last Race Results'!$A$5:$J$44,11,FALSE)),0,VLOOKUP($A140,'Last Race Results'!$A$5:$J$44,11,FALSE)))","v":0}]
[124,{"$f":"IF(ISNA(VLOOKUP($A141,'Entry List'!$A$1:$F$61,B$5,FALSE)),\"\",VLOOKUP($A141,'Entry List'!$A$1:$F$61,B$5,FALSE))","v":""},{"$f":"IF(ISNA(VLOOKUP($A141,'Entry List'!$A$1:$F$61,C$5,FALSE)),\"\",VLOOKUP($A141,'Entry List'!$A$1:$F$61,C$5,FALSE))","v":""},{"$f":"IF(ISNA(VLOOKUP($A141,'Entry List'!$A$1:$F$61,D$5,FALSE)),\"\",VLOOKUP($A141,'Entry List'!$A$1:$F$61,D$5,FALSE))","v":""},{"$f":"IF(ISNA(VLOOKUP($A141,'Entry List'!$A$1:$F$61,E$5,FALSE)),\"\",VLOOKUP($A141,'Entry List'!$A$1:$F$61,E$5,FALSE))","v":""},null,"DNS",0,"DNS",0,"DNS",0,"DNS",0,"DNS",0,"DNS",0,"DNS",0,"DNS",0,"DNS",0,"DNS",0,"DNS",0,"DNS",0,"DNS",0,"DNS",0,"DNS",0,"DNS",0,"DNS",0,"DNS",0,"DNS",0,"DNS",0,"DNS",0,"DNS",0,"DNS",0,"DNS",0,"DNS",0,{"$f":"IF('Last Race Results'!$B$5=0,0,IF(ISNA(VLOOKUP($A141,'Last Race Results'!$A$5:$J$44,2,FALSE)),\"DNS\",VLOOKUP($A141,'Last Race Results'!$A$5:$J$44,2,FALSE)))","v":"DNS"},{"$f":"IF('Last Race Results'!$B$5=0,0,IF(ISNA(VLOOKUP($A141,'Last Race Results'!$A$5:$K$44,11,FALSE)),0,VLOOKUP($A141,'Last Race Results'!$A$5:$K$44,11,FALSE)))","v":0},null,null,null,null,null,null,null,null,null,null,null,null,null,null,null,null,null,null,{"$f":"IF('Last Race Results'!$B$5=0,0,IF(ISNA(VLOOKUP($A141,'Last Race Results'!$A$5:$J$44,2,FALSE)),\"DNS\",VLOOKUP($A141,'Last Race Results'!$A$5:$J$44,2,FALSE)))","v":"DNS"},{"$f":"IF('Last Race Results'!$B$5=0,0,IF(ISNA(VLOOKUP($A141,'Last Race Results'!$A$5:$J$44,11,FALSE)),0,VLOOKUP($A141,'Last Race Results'!$A$5:$J$44,11,FALSE)))","v":0}]
[125,{"$f":"IF(ISNA(VLOOKUP($A142,'Entry List'!$A$1:$F$61,B$5,FALSE)),\"\",VLOOKUP($A142,'Entry List'!$A$1:$F$61,B$5,FALSE))","v":""},{"$f":"IF(ISNA(VLOOKUP($A142,'Entry List'!$A$1:$F$61,C$5,FALSE)),\"\",VLOOKUP($A142,'Entry List'!$A$1:$F$61,C$5,FALSE))","v":""},{"$f":"IF(ISNA(VLOOKUP($A142,'Entry List'!$A$1:$F$61,D$5,FALSE)),\"\",VLOOKUP($A142,'Entry List'!$A$1:$F$61,D$5,FALSE))","v":""},{"$f":"IF(ISNA(VLOOKUP($A142,'Entry List'!$A$1:$F$61,E$5,FALSE)),\"\",VLOOKUP($A142,'Entry List'!$A$1:$F$61,E$5,FALSE))","v":""},null,"DNS",0,"DNS",0,"DNS",0,"DNS",0,"DNS",0,"DNS",0,"DNS",0,"DNS",0,"DNS",0,"DNS",0,"DNS",0,"DNS",0,"DNS",0,"DNS",0,"DNS",0,"DNS",0,"DNS",0,"DNS",0,"DNS",0,"DNS",0,"DNS",0,"DNS",0,"DNS",0,"DNS",0,"DNS",0,{"$f":"IF('Last Race Results'!$B$5=0,0,IF(ISNA(VLOOKUP($A142,'Last Race Results'!$A$5:$J$44,2,FALSE)),\"DNS\",VLOOKUP($A142,'Last Race Results'!$A$5:$J$44,2,FALSE)))","v":"DNS"},{"$f":"IF('Last Race Results'!$B$5=0,0,IF(ISNA(VLOOKUP($A142,'Last Race Results'!$A$5:$K$44,11,FALSE)),0,VLOOKUP($A142,'Last Race Results'!$A$5:$K$44,11,FALSE)))","v":0},null,null,null,null,null,null,null,null,null,null,null,null,null,null,null,null,null,null,{"$f":"IF('Last Race Results'!$B$5=0,0,IF(ISNA(VLOOKUP($A142,'Last Race Results'!$A$5:$J$44,2,FALSE)),\"DNS\",VLOOKUP($A142,'Last Race Results'!$A$5:$J$44,2,FALSE)))","v":"DNS"},{"$f":"IF('Last Race Results'!$B$5=0,0,IF(ISNA(VLOOKUP($A142,'Last Race Results'!$A$5:$J$44,11,FALSE)),0,VLOOKUP($A142,'Last Race Results'!$A$5:$J$44,11,FALSE)))","v":0}]
[126,{"$f":"IF(ISNA(VLOOKUP($A143,'Entry List'!$A$1:$F$61,B$5,FALSE)),\"\",VLOOKUP($A143,'Entry List'!$A$1:$F$61,B$5,FALSE))","v":""},{"$f":"IF(ISNA(VLOOKUP($A143,'Entry List'!$A$1:$F$61,C$5,FALSE)),\"\",VLOOKUP($A143,'Entry List'!$A$1:$F$61,C$5,FALSE))","v":""},{"$f":"IF(ISNA(VLOOKUP($A143,'Entry List'!$A$1:$F$61,D$5,FALSE)),\"\",VLOOKUP($A143,'Entry List'!$A$1:$F$61,D$5,FALSE))","v":""},{"$f":"IF(ISNA(VLOOKUP($A143,'Entry List'!$A$1:$F$61,E$5,FALSE)),\"\",VLOOKUP($A143,'Entry List'!$A$1:$F$61,E$5,FALSE))","v":""},null,"DNS",0,"DNS",0,"DNS",0,"DNS",0,"DNS",0,"DNS",0,"DNS",0,"DNS",0,"DNS",0,"DNS",0,"DNS",0,"DNS",0,"DNS",0,"DNS",0,"DNS",0,"DNS",0,"DNS",0,"DNS",0,"DNS",0,"DNS",0,"DNS",0,"DNS",0,"DNS",0,"DNS",0,"DNS",0,{"$f":"IF('Last Race Results'!$B$5=0,0,IF(ISNA(VLOOKUP($A143,'Last Race Results'!$A$5:$J$44,2,FALSE)),\"DNS\",VLOOKUP($A143,'Last Race Results'!$A$5:$J$44,2,FALSE)))","v":"DNS"},{"$f":"IF('Last Race Results'!$B$5=0,0,IF(ISNA(VLOOKUP($A143,'Last Race Results'!$A$5:$K$44,11,FALSE)),0,VLOOKUP($A143,'Last Race Results'!$A$5:$K$44,11,FALSE)))","v":0},null,null,null,null,null,null,null,null,null,null,null,null,null,null,null,null,null,null,{"$f":"IF('Last Race Results'!$B$5=0,0,IF(ISNA(VLOOKUP($A143,'Last Race Results'!$A$5:$J$44,2,FALSE)),\"DNS\",VLOOKUP($A143,'Last Race Results'!$A$5:$J$44,2,FALSE)))","v":"DNS"},{"$f":"IF('Last Race Results'!$B$5=0,0,IF(ISNA(VLOOKUP($A143,'Last Race Results'!$A$5:$J$44,11,FALSE)),0,VLOOKUP($A143,'Last Race Results'!$A$5:$J$44,11,FALSE)))","v":0}]
[127,{"$f":"IF(ISNA(VLOOKUP($A144,'Entry List'!$A$1:$F$61,B$5,FALSE)),\"\",VLOOKUP($A144,'Entry List'!$A$1:$F$61,B$5,FALSE))","v":"J. J. Yeley (i)"},{"$f":"IF(ISNA(VLOOKUP($A144,'Entry List'!$A$1:$F$61,C$5,FALSE)),\"\",VLOOKUP($A144,'Entry List'!$A$1:$F$61,C$5,FALSE))","v":"Ford"},{"$f":"IF(ISNA(VLOOKUP($A144,'Entry List'!$A$1:$F$61,D$5,FALSE)),\"\",VLOOKUP($A144,'Entry List'!$A$1:$F$61,D$5,FALSE))","v":"Rick Ware Racing"},{"$f":"IF(ISNA(VLOOKUP($A144,'Entry List'!$A$1:$F$61,E$5,FALSE)),\"\",VLOOKUP($A144,'Entry List'!$A$1:$F$61,E$5,FALSE))","v":"Rick Ware Racing"},null,"DNS",0,"DNS",0,"DNS",0,"DNS",0,"DNS",0,"DNS",0,"DNS",0,"DNS",0,"DNS",0,"DNS",0,"DNS",0,38,1,"DNS",0,"DNS",0,"DNS",0,"DNS",0,"DNS",0,"DNS",0,"DNS",0,"DNS",0,"DNS",0,"DNS",0,"DNS",0,"DNS",0,"DNS",0,{"$f":"IF('Last Race Results'!$B$5=0,0,IF(ISNA(VLOOKUP($A144,'Last Race Results'!$A$5:$J$44,2,FALSE)),\"DNS\",VLOOKUP($A144,'Last Race Results'!$A$5:$J$44,2,FALSE)))","v":"DNS"},{"$f":"IF('Last Race Results'!$B$5=0,0,IF(ISNA(VLOOKUP($A144,'Last Race Results'!$A$5:$K$44,11,FALSE)),0,VLOOKUP($A144,'Last Race Results'!$A$5:$K$44,11,FALSE)))","v":0},null,null,null,null,null,null,null,null,null,null,null,null,null,null,null,null,null,null,{"$f":"IF('Last Race Results'!$B$5=0,0,IF(ISNA(VLOOKUP($A144,'Last Race Results'!$A$5:$J$44,2,FALSE)),\"DNS\",VLOOKUP($A144,'Last Race Results'!$A$5:$J$44,2,FALSE)))","v":"DNS"},{"$f":"IF('Last Race Results'!$B$5=0,0,IF(ISNA(VLOOKUP($A144,'Last Race Results'!$A$5:$J$44,11,FALSE)),0,VLOOKUP($A144,'Last Race Results'!$A$5:$J$44,11,FALSE)))","v":0}]
[128,{"$f":"IF(ISNA(VLOOKUP($A145,'Entry List'!$A$1:$F$61,B$5,FALSE)),\"\",VLOOKUP($A145,'Entry List'!$A$1:$F$61,B$5,FALSE))","v":""},{"$f":"IF(ISNA(VLOOKUP($A145,'Entry List'!$A$1:$F$61,C$5,FALSE)),\"\",VLOOKUP($A145,'Entry List'!$A$1:$F$61,C$5,FALSE))","v":""},{"$f":"IF(ISNA(VLOOKUP($A145,'Entry List'!$A$1:$F$61,D$5,FALSE)),\"\",VLOOKUP($A145,'Entry List'!$A$1:$F$61,D$5,FALSE))","v":""},{"$f":"IF(ISNA(VLOOKUP($A145,'Entry List'!$A$1:$F$61,E$5,FALSE)),\"\",VLOOKUP($A145,'Entry List'!$A$1:$F$61,E$5,FALSE))","v":""},null,"DNS",0,"DNS",0,"DNS",0,"DNS",0,"DNS",0,"DNS",0,"DNS",0,"DNS",0,"DNS",0,"DNS",0,"DNS",0,"DNS",0,"DNS",0,"DNS",0,"DNS",0,"DNS",0,"DNS",0,"DNS",0,"DNS",0,"DNS",0,"DNS",0,"DNS",0,"DNS",0,"DNS",0,"DNS",0,{"$f":"IF('Last Race Results'!$B$5=0,0,IF(ISNA(VLOOKUP($A145,'Last Race Results'!$A$5:$J$44,2,FALSE)),\"DNS\",VLOOKUP($A145,'Last Race Results'!$A$5:$J$44,2,FALSE)))","v":"DNS"},{"$f":"IF('Last Race Results'!$B$5=0,0,IF(ISNA(VLOOKUP($A145,'Last Race Results'!$A$5:$K$44,11,FALSE)),0,VLOOKUP($A145,'Last Race Results'!$A$5:$K$44,11,FALSE)))","v":0},null,null,null,null,null,null,null,null,null,null,null,null,null,null,null,null,null,null,{"$f":"IF('Last Race Results'!$B$5=0,0,IF(ISNA(VLOOKUP($A145,'Last Race Results'!$A$5:$J$44,2,FALSE)),\"DNS\",VLOOKUP($A145,'Last Race Results'!$A$5:$J$44,2,FALSE)))","v":"DNS"},{"$f":"IF('Last Race Results'!$B$5=0,0,IF(ISNA(VLOOKUP($A145,'Last Race Results'!$A$5:$J$44,11,FALSE)),0,VLOOKUP($A145,'Last Race Results'!$A$5:$J$44,11,FALSE)))","v":0}]
[129,{"$f":"IF(ISNA(VLOOKUP($A146,'Entry List'!$A$1:$F$61,B$5,FALSE)),\"\",VLOOKUP($A146,'Entry List'!$A$1:$F$61,B$5,FALSE))","v":""},{"$f":"IF(ISNA(VLOOKUP($A146,'Entry List'!$A$1:$F$61,C$5,FALSE)),\"\",VLOOKUP($A146,'Entry List'!$A$1:$F$61,C$5,FALSE))","v":""},{"$f":"IF(ISNA(VLOOKUP($A146,'Entry List'!$A$1:$F$61,D$5,FALSE)),\"\",VLOOKUP($A146,'Entry List'!$A$1:$F$61,D$5,FALSE))","v":""},{"$f":"IF(ISNA(VLOOKUP($A146,'Entry List'!$A$1:$F$61,E$5,FALSE)),\"\",VLOOKUP($A146,'Entry List'!$A$1:$F$61,E$5,FALSE))","v":""},null,"DNS",0,"DNS",0,"DNS",0,"DNS",0,"DNS",0,"DNS",0,"DNS",0,"DNS",0,"DNS",0,"DNS",0,"DNS",0,"DNS",0,"DNS",0,"DNS",0,"DNS",0,"DNS",0,"DNS",0,"DNS",0,"DNS",0,"DNS",0,"DNS",0,"DNS",0,"DNS",0,"DNS",0,"DNS",0,{"$f":"IF('Last Race Results'!$B$5=0,0,IF(ISNA(VLOOKUP($A146,'Last Race Results'!$A$5:$J$44,2,FALSE)),\"DNS\",VLOOKUP($A146,'Last Race Results'!$A$5:$J$44,2,FALSE)))","v":"DNS"},{"$f":"IF('Last Race Results'!$B$5=0,0,IF(ISNA(VLOOKUP($A146,'Last Race Results'!$A$5:$K$44,11,FALSE)),0,VLOOKUP($A146,'Last Race Results'!$A$5:$K$44,11,FALSE)))","v":0},null,null,null,null,null,null,null,null,null,null,null,null,null,null,null,null,null,null,{"$f":"IF('Last Race Results'!$B$5=0,0,IF(ISNA(VLOOKUP($A146,'Last Race Results'!$A$5:$J$44,2,FALSE)),\"DNS\",VLOOKUP($A146,'Last Race Results'!$A$5:$J$44,2,FALSE)))","v":"DNS"},{"$f":"IF('Last Race Results'!$B$5=0,0,IF(ISNA(VLOOKUP($A146,'Last Race Results'!$A$5:$J$44,11,FALSE)),0,VLOOKUP($A146,'Last Race Results'!$A$5:$J$44,11,FALSE)))","v":0}]
[130,{"$f":"IF(ISNA(VLOOKUP($A147,'Entry List'!$A$1:$F$61,B$5,FALSE)),\"\",VLOOKUP($A147,'Entry List'!$A$1:$F$61,B$5,FALSE))","v":""},{"$f":"IF(ISNA(VLOOKUP($A147,'Entry List'!$A$1:$F$61,C$5,FALSE)),\"\",VLOOKUP($A147,'Entry List'!$A$1:$F$61,C$5,FALSE))","v":""},{"$f":"IF(ISNA(VLOOKUP($A147,'Entry List'!$A$1:$F$61,D$5,FALSE)),\"\",VLOOKUP($A147,'Entry List'!$A$1:$F$61,D$5,FALSE))","v":""},{"$f":"IF(ISNA(VLOOKUP($A147,'Entry List'!$A$1:$F$61,E$5,FALSE)),\"\",VLOOKUP($A147,'Entry List'!$A$1:$F$61,E$5,FALSE))","v":""},null,"DNS",0,"DNS",0,"DNS",0,"DNS",0,"DNS",0,"DNS",0,"DNS",0,"DNS",0,"DNS",0,"DNS",0,"DNS",0,"DNS",0,"DNS",0,"DNS",0,"DNS",0,"DNS",0,"DNS",0,"DNS",0,"DNS",0,"DNS",0,"DNS",0,"DNS",0,"DNS",0,"DNS",0,"DNS",0,{"$f":"IF('Last Race Results'!$B$5=0,0,IF(ISNA(VLOOKUP($A147,'Last Race Results'!$A$5:$J$44,2,FALSE)),\"DNS\",VLOOKUP($A147,'Last Race Results'!$A$5:$J$44,2,FALSE)))","v":"DNS"},{"$f":"IF('Last Race Results'!$B$5=0,0,IF(ISNA(VLOOKUP($A147,'Last Race Results'!$A$5:$K$44,11,FALSE)),0,VLOOKUP($A147,'Last Race Results'!$A$5:$K$44,11,FALSE)))","v":0},null,null,null,null,null,null,null,null,null,null,null,null,null,null,null,null,null,null,{"$f":"IF('Last Race Results'!$B$5=0,0,IF(ISNA(VLOOKUP($A147,'Last Race Results'!$A$5:$J$44,2,FALSE)),\"DNS\",VLOOKUP($A147,'Last Race Results'!$A$5:$J$44,2,FALSE)))","v":"DNS"},{"$f":"IF('Last Race Results'!$B$5=0,0,IF(ISNA(VLOOKUP($A147,'Last Race Results'!$A$5:$J$44,11,FALSE)),0,VLOOKUP($A147,'Last Race Results'!$A$5:$J$44,11,FALSE)))","v":0}]
[131,{"$f":"IF(ISNA(VLOOKUP($A148,'Entry List'!$A$1:$F$61,B$5,FALSE)),\"\",VLOOKUP($A148,'Entry List'!$A$1:$F$61,B$5,FALSE))","v":""},{"$f":"IF(ISNA(VLOOKUP($A148,'Entry List'!$A$1:$F$61,C$5,FALSE)),\"\",VLOOKUP($A148,'Entry List'!$A$1:$F$61,C$5,FALSE))","v":""},{"$f":"IF(ISNA(VLOOKUP($A148,'Entry List'!$A$1:$F$61,D$5,FALSE)),\"\",VLOOKUP($A148,'Entry List'!$A$1:$F$61,D$5,FALSE))","v":""},{"$f":"IF(ISNA(VLOOKUP($A148,'Entry List'!$A$1:$F$61,E$5,FALSE)),\"\",VLOOKUP($A148,'Entry List'!$A$1:$F$61,E$5,FALSE))","v":""},null,"DNS",0,"DNS",0,"DNS",0,"DNS",0,"DNS",0,"DNS",0,"DNS",0,"DNS",0,"DNS",0,"DNS",0,"DNS",0,"DNS",0,"DNS",0,"DNS",0,"DNS",0,"DNS",0,"DNS",0,"DNS",0,"DNS",0,"DNS",0,"DNS",0,"DNS",0,"DNS",0,"DNS",0,"DNS",0,{"$f":"IF('Last Race Results'!$B$5=0,0,IF(ISNA(VLOOKUP($A148,'Last Race Results'!$A$5:$J$44,2,FALSE)),\"DNS\",VLOOKUP($A148,'Last Race Results'!$A$5:$J$44,2,FALSE)))","v":"DNS"},{"$f":"IF('Last Race Results'!$B$5=0,0,IF(ISNA(VLOOKUP($A148,'Last Race Results'!$A$5:$K$44,11,FALSE)),0,VLOOKUP($A148,'Last Race Results'!$A$5:$K$44,11,FALSE)))","v":0},null,null,null,null,null,null,null,null,null,null,null,null,null,null,null,null,null,null,{"$f":"IF('Last Race Results'!$B$5=0,0,IF(ISNA(VLOOKUP($A148,'Last Race Results'!$A$5:$J$44,2,FALSE)),\"DNS\",VLOOKUP($A148,'Last Race Results'!$A$5:$J$44,2,FALSE)))","v":"DNS"},{"$f":"IF('Last Race Results'!$B$5=0,0,IF(ISNA(VLOOKUP($A148,'Last Race Results'!$A$5:$J$44,11,FALSE)),0,VLOOKUP($A148,'Last Race Results'!$A$5:$J$44,11,FALSE)))","v":0}]
[132,{"$f":"IF(ISNA(VLOOKUP($A149,'Entry List'!$A$1:$F$61,B$5,FALSE)),\"\",VLOOKUP($A149,'Entry List'!$A$1:$F$61,B$5,FALSE))","v":""},{"$f":"IF(ISNA(VLOOKUP($A149,'Entry List'!$A$1:$F$61,C$5,FALSE)),\"\",VLOOKUP($A149,'Entry List'!$A$1:$F$61,C$5,FALSE))","v":""},{"$f":"IF(ISNA(VLOOKUP($A149,'Entry List'!$A$1:$F$61,D$5,FALSE)),\"\",VLOOKUP($A149,'Entry List'!$A$1:$F$61,D$5,FALSE))","v":""},{"$f":"IF(ISNA(VLOOKUP($A149,'Entry List'!$A$1:$F$61,E$5,FALSE)),\"\",VLOOKUP($A149,'Entry List'!$A$1:$F$61,E$5,FALSE))","v":""},null,"DNS",0,"DNS",0,"DNS",0,"DNS",0,"DNS",0,"DNS",0,"DNS",0,"DNS",0,"DNS",0,"DNS",0,"DNS",0,"DNS",0,"DNS",0,"DNS",0,"DNS",0,"DNS",0,"DNS",0,"DNS",0,"DNS",0,"DNS",0,"DNS",0,"DNS",0,"DNS",0,"DNS",0,"DNS",0,{"$f":"IF('Last Race Results'!$B$5=0,0,IF(ISNA(VLOOKUP($A149,'Last Race Results'!$A$5:$J$44,2,FALSE)),\"DNS\",VLOOKUP($A149,'Last Race Results'!$A$5:$J$44,2,FALSE)))","v":"DNS"},{"$f":"IF('Last Race Results'!$B$5=0,0,IF(ISNA(VLOOKUP($A149,'Last Race Results'!$A$5:$K$44,11,FALSE)),0,VLOOKUP($A149,'Last Race Results'!$A$5:$K$44,11,FALSE)))","v":0},null,null,null,null,null,null,null,null,null,null,null,null,null,null,null,null,null,null,{"$f":"IF('Last Race Results'!$B$5=0,0,IF(ISNA(VLOOKUP($A149,'Last Race Results'!$A$5:$J$44,2,FALSE)),\"DNS\",VLOOKUP($A149,'Last Race Results'!$A$5:$J$44,2,FALSE)))","v":"DNS"},{"$f":"IF('Last Race Results'!$B$5=0,0,IF(ISNA(VLOOKUP($A149,'Last Race Results'!$A$5:$J$44,11,FALSE)),0,VLOOKUP($A149,'Last Race Results'!$A$5:$J$44,11,FALSE)))","v":0}]
[133,{"$f":"IF(ISNA(VLOOKUP($A150,'Entry List'!$A$1:$F$61,B$5,FALSE)),\"\",VLOOKUP($A150,'Entry List'!$A$1:$F$61,B$5,FALSE))","v":""},{"$f":"IF(ISNA(VLOOKUP($A150,'Entry List'!$A$1:$F$61,C$5,FALSE)),\"\",VLOOKUP($A150,'Entry List'!$A$1:$F$61,C$5,FALSE))","v":""},{"$f":"IF(ISNA(VLOOKUP($A150,'Entry List'!$A$1:$F$61,D$5,FALSE)),\"\",VLOOKUP($A150,'Entry List'!$A$1:$F$61,D$5,FALSE))","v":""},{"$f":"IF(ISNA(VLOOKUP($A150,'Entry List'!$A$1:$F$61,E$5,FALSE)),\"\",VLOOKUP($A150,'Entry List'!$A$1:$F$61,E$5,FALSE))","v":""},null,"DNS",0,"DNS",0,"DNS",0,"DNS",0,"DNS",0,"DNS",0,"DNS",0,"DNS",0,"DNS",0,"DNS",0,"DNS",0,"DNS",0,"DNS",0,"DNS",0,"DNS",0,"DNS",0,"DNS",0,"DNS",0,"DNS",0,"DNS",0,"DNS",0,"DNS",0,"DNS",0,"DNS",0,"DNS",0,{"$f":"IF('Last Race Results'!$B$5=0,0,IF(ISNA(VLOOKUP($A150,'Last Race Results'!$A$5:$J$44,2,FALSE)),\"DNS\",VLOOKUP($A150,'Last Race Results'!$A$5:$J$44,2,FALSE)))","v":"DNS"},{"$f":"IF('Last Race Results'!$B$5=0,0,IF(ISNA(VLOOKUP($A150,'Last Race Results'!$A$5:$K$44,11,FALSE)),0,VLOOKUP($A150,'Last Race Results'!$A$5:$K$44,11,FALSE)))","v":0},null,null,null,null,null,null,null,null,null,null,null,null,null,null,null,null,null,null,{"$f":"IF('Last Race Results'!$B$5=0,0,IF(ISNA(VLOOKUP($A150,'Last Race Results'!$A$5:$J$44,2,FALSE)),\"DNS\",VLOOKUP($A150,'Last Race Results'!$A$5:$J$44,2,FALSE)))","v":"DNS"},{"$f":"IF('Last Race Results'!$B$5=0,0,IF(ISNA(VLOOKUP($A150,'Last Race Results'!$A$5:$J$44,11,FALSE)),0,VLOOKUP($A150,'Last Race Results'!$A$5:$J$44,11,FALSE)))","v":0}]
[134,{"$f":"IF(ISNA(VLOOKUP($A151,'Entry List'!$A$1:$F$61,B$5,FALSE)),\"\",VLOOKUP($A151,'Entry List'!$A$1:$F$61,B$5,FALSE))","v":""},{"$f":"IF(ISNA(VLOOKUP($A151,'Entry List'!$A$1:$F$61,C$5,FALSE)),\"\",VLOOKUP($A151,'Entry List'!$A$1:$F$61,C$5,FALSE))","v":""},{"$f":"IF(ISNA(VLOOKUP($A151,'Entry List'!$A$1:$F$61,D$5,FALSE)),\"\",VLOOKUP($A151,'Entry List'!$A$1:$F$61,D$5,FALSE))","v":""},{"$f":"IF(ISNA(VLOOKUP($A151,'Entry List'!$A$1:$F$61,E$5,FALSE)),\"\",VLOOKUP($A151,'Entry List'!$A$1:$F$61,E$5,FALSE))","v":""},null,"DNS",0,"DNS",0,"DNS",0,"DNS",0,"DNS",0,"DNS",0,"DNS",0,"DNS",0,"DNS",0,"DNS",0,"DNS",0,"DNS",0,"DNS",0,"DNS",0,"DNS",0,"DNS",0,"DNS",0,"DNS",0,"DNS",0,"DNS",0,"DNS",0,"DNS",0,"DNS",0,"DNS",0,"DNS",0,{"$f":"IF('Last Race Results'!$B$5=0,0,IF(ISNA(VLOOKUP($A151,'Last Race Results'!$A$5:$J$44,2,FALSE)),\"DNS\",VLOOKUP($A151,'Last Race Results'!$A$5:$J$44,2,FALSE)))","v":"DNS"},{"$f":"IF('Last Race Results'!$B$5=0,0,IF(ISNA(VLOOKUP($A151,'Last Race Results'!$A$5:$K$44,11,FALSE)),0,VLOOKUP($A151,'Last Race Results'!$A$5:$K$44,11,FALSE)))","v":0},null,null,null,null,null,null,null,null,null,null,null,null,null,null,null,null,null,null,{"$f":"IF('Last Race Results'!$B$5=0,0,IF(ISNA(VLOOKUP($A151,'Last Race Results'!$A$5:$J$44,2,FALSE)),\"DNS\",VLOOKUP($A151,'Last Race Results'!$A$5:$J$44,2,FALSE)))","v":"DNS"},{"$f":"IF('Last Race Results'!$B$5=0,0,IF(ISNA(VLOOKUP($A151,'Last Race Results'!$A$5:$J$44,11,FALSE)),0,VLOOKUP($A151,'Last Race Results'!$A$5:$J$44,11,FALSE)))","v":0}]
[135,{"$f":"IF(ISNA(VLOOKUP($A152,'Entry List'!$A$1:$F$61,B$5,FALSE)),\"\",VLOOKUP($A152,'Entry List'!$A$1:$F$61,B$5,FALSE))","v":""},{"$f":"IF(ISNA(VLOOKUP($A152,'Entry List'!$A$1:$F$61,C$5,FALSE)),\"\",VLOOKUP($A152,'Entry List'!$A$1:$F$61,C$5,FALSE))","v":""},{"$f":"IF(ISNA(VLOOKUP($A152,'Entry List'!$A$1:$F$61,D$5,FALSE)),\"\",VLOOKUP($A152,'Entry List'!$A$1:$F$61,D$5,FALSE))","v":""},{"$f":"IF(ISNA(VLOOKUP($A152,'Entry List'!$A$1:$F$61,E$5,FALSE)),\"\",VLOOKUP($A152,'Entry List'!$A$1:$F$61,E$5,FALSE))","v":""},null,"DNS",0,"DNS",0,"DNS",0,"DNS",0,"DNS",0,"DNS",0,"DNS",0,"DNS",0,"DNS",0,"DNS",0,"DNS",0,"DNS",0,"DNS",0,"DNS",0,"DNS",0,"DNS",0,"DNS",0,"DNS",0,"DNS",0,"DNS",0,"DNS",0,"DNS",0,"DNS",0,"DNS",0,"DNS",0,{"$f":"IF('Last Race Results'!$B$5=0,0,IF(ISNA(VLOOKUP($A152,'Last Race Results'!$A$5:$J$44,2,FALSE)),\"DNS\",VLOOKUP($A152,'Last Race Results'!$A$5:$J$44,2,FALSE)))","v":"DNS"},{"$f":"IF('Last Race Results'!$B$5=0,0,IF(ISNA(VLOOKUP($A152,'Last Race Results'!$A$5:$K$44,11,FALSE)),0,VLOOKUP($A152,'Last Race Results'!$A$5:$K$44,11,FALSE)))","v":0},null,null,null,null,null,null,null,null,null,null,null,null,null,null,null,null,null,null,{"$f":"IF('Last Race Results'!$B$5=0,0,IF(ISNA(VLOOKUP($A152,'Last Race Results'!$A$5:$J$44,2,FALSE)),\"DNS\",VLOOKUP($A152,'Last Race Results'!$A$5:$J$44,2,FALSE)))","v":"DNS"},{"$f":"IF('Last Race Results'!$B$5=0,0,IF(ISNA(VLOOKUP($A152,'Last Race Results'!$A$5:$J$44,11,FALSE)),0,VLOOKUP($A152,'Last Race Results'!$A$5:$J$44,11,FALSE)))","v":0}]
[136,{"$f":"IF(ISNA(VLOOKUP($A153,'Entry List'!$A$1:$F$61,B$5,FALSE)),\"\",VLOOKUP($A153,'Entry List'!$A$1:$F$61,B$5,FALSE))","v":""},{"$f":"IF(ISNA(VLOOKUP($A153,'Entry List'!$A$1:$F$61,C$5,FALSE)),\"\",VLOOKUP($A153,'Entry List'!$A$1:$F$61,C$5,FALSE))","v":""},{"$f":"IF(ISNA(VLOOKUP($A153,'Entry List'!$A$1:$F$61,D$5,FALSE)),\"\",VLOOKUP($A153,'Entry List'!$A$1:$F$61,D$5,FALSE))","v":""},{"$f":"IF(ISNA(VLOOKUP($A153,'Entry List'!$A$1:$F$61,E$5,FALSE)),\"\",VLOOKUP($A153,'Entry List'!$A$1:$F$61,E$5,FALSE))","v":""},null,"DNS",0,"DNS",0,"DNS",0,"DNS",0,"DNS",0,"DNS",0,"DNS",0,"DNS",0,"DNS",0,"DNS",0,"DNS",0,"DNS",0,"DNS",0,"DNS",0,"DNS",0,"DNS",0,"DNS",0,"DNS",0,"DNS",0,"DNS",0,"DNS",0,"DNS",0,"DNS",0,"DNS",0,"DNS",0,{"$f":"IF('Last Race Results'!$B$5=0,0,IF(ISNA(VLOOKUP($A153,'Last Race Results'!$A$5:$J$44,2,FALSE)),\"DNS\",VLOOKUP($A153,'Last Race Results'!$A$5:$J$44,2,FALSE)))","v":"DNS"},{"$f":"IF('Last Race Results'!$B$5=0,0,IF(ISNA(VLOOKUP($A153,'Last Race Results'!$A$5:$K$44,11,FALSE)),0,VLOOKUP($A153,'Last Race Results'!$A$5:$K$44,11,FALSE)))","v":0},null,null,null,null,null,null,null,null,null,null,null,null,null,null,null,null,null,null,{"$f":"IF('Last Race Results'!$B$5=0,0,IF(ISNA(VLOOKUP($A153,'Last Race Results'!$A$5:$J$44,2,FALSE)),\"DNS\",VLOOKUP($A153,'Last Race Results'!$A$5:$J$44,2,FALSE)))","v":"DNS"},{"$f":"IF('Last Race Results'!$B$5=0,0,IF(ISNA(VLOOKUP($A153,'Last Race Results'!$A$5:$J$44,11,FALSE)),0,VLOOKUP($A153,'Last Race Results'!$A$5:$J$44,11,FALSE)))","v":0}]
[137,{"$f":"IF(ISNA(VLOOKUP($A154,'Entry List'!$A$1:$F$61,B$5,FALSE)),\"\",VLOOKUP($A154,'Entry List'!$A$1:$F$61,B$5,FALSE))","v":""},{"$f":"IF(ISNA(VLOOKUP($A154,'Entry List'!$A$1:$F$61,C$5,FALSE)),\"\",VLOOKUP($A154,'Entry List'!$A$1:$F$61,C$5,FALSE))","v":""},{"$f":"IF(ISNA(VLOOKUP($A154,'Entry List'!$A$1:$F$61,D$5,FALSE)),\"\",VLOOKUP($A154,'Entry List'!$A$1:$F$61,D$5,FALSE))","v":""},{"$f":"IF(ISNA(VLOOKUP($A154,'Entry List'!$A$1:$F$61,E$5,FALSE)),\"\",VLOOKUP($A154,'Entry List'!$A$1:$F$61,E$5,FALSE))","v":""},null,"DNS",0,"DNS",0,"DNS",0,"DNS",0,"DNS",0,"DNS",0,"DNS",0,"DNS",0,"DNS",0,"DNS",0,"DNS",0,"DNS",0,"DNS",0,"DNS",0,"DNS",0,"DNS",0,"DNS",0,"DNS",0,"DNS",0,"DNS",0,"DNS",0,"DNS",0,"DNS",0,"DNS",0,"DNS",0,{"$f":"IF('Last Race Results'!$B$5=0,0,IF(ISNA(VLOOKUP($A154,'Last Race Results'!$A$5:$J$44,2,FALSE)),\"DNS\",VLOOKUP($A154,'Last Race Results'!$A$5:$J$44,2,FALSE)))","v":"DNS"},{"$f":"IF('Last Race Results'!$B$5=0,0,IF(ISNA(VLOOKUP($A154,'Last Race Results'!$A$5:$K$44,11,FALSE)),0,VLOOKUP($A154,'Last Race Results'!$A$5:$K$44,11,FALSE)))","v":0},null,null,null,null,null,null,null,null,null,null,null,null,null,null,null,null,null,null,{"$f":"IF('Last Race Results'!$B$5=0,0,IF(ISNA(VLOOKUP($A154,'Last Race Results'!$A$5:$J$44,2,FALSE)),\"DNS\",VLOOKUP($A154,'Last Race Results'!$A$5:$J$44,2,FALSE)))","v":"DNS"},{"$f":"IF('Last Race Results'!$B$5=0,0,IF(ISNA(VLOOKUP($A154,'Last Race Results'!$A$5:$J$44,11,FALSE)),0,VLOOKUP($A154,'Last Race Results'!$A$5:$J$44,11,FALSE)))","v":0}]
[138,{"$f":"IF(ISNA(VLOOKUP($A155,'Entry List'!$A$1:$F$61,B$5,FALSE)),\"\",VLOOKUP($A155,'Entry List'!$A$1:$F$61,B$5,FALSE))","v":""},{"$f":"IF(ISNA(VLOOKUP($A155,'Entry List'!$A$1:$F$61,C$5,FALSE)),\"\",VLOOKUP($A155,'Entry List'!$A$1:$F$61,C$5,FALSE))","v":""},{"$f":"IF(ISNA(VLOOKUP($A155,'Entry List'!$A$1:$F$61,D$5,FALSE)),\"\",VLOOKUP($A155,'Entry List'!$A$1:$F$61,D$5,FALSE))","v":""},{"$f":"IF(ISNA(VLOOKUP($A155,'Entry List'!$A$1:$F$61,E$5,FALSE)),\"\",VLOOKUP($A155,'Entry List'!$A$1:$F$61,E$5,FALSE))","v":""},null,"DNS",0,"DNS",0,"DNS",0,"DNS",0,"DNS",0,"DNS",0,"DNS",0,"DNS",0,"DNS",0,"DNS",0,"DNS",0,"DNS",0,"DNS",0,"DNS",0,"DNS",0,"DNS",0,"DNS",0,"DNS",0,"DNS",0,"DNS",0,"DNS",0,"DNS",0,"DNS",0,"DNS",0,"DNS",0,{"$f":"IF('Last Race Results'!$B$5=0,0,IF(ISNA(VLOOKUP($A155,'Last Race Results'!$A$5:$J$44,2,FALSE)),\"DNS\",VLOOKUP($A155,'Last Race Results'!$A$5:$J$44,2,FALSE)))","v":"DNS"},{"$f":"IF('Last Race Results'!$B$5=0,0,IF(ISNA(VLOOKUP($A155,'Last Race Results'!$A$5:$K$44,11,FALSE)),0,VLOOKUP($A155,'Last Race Results'!$A$5:$K$44,11,FALSE)))","v":0},null,null,null,null,null,null,null,null,null,null,null,null,null,null,null,null,null,null,{"$f":"IF('Last Race Results'!$B$5=0,0,IF(ISNA(VLOOKUP($A155,'Last Race Results'!$A$5:$J$44,2,FALSE)),\"DNS\",VLOOKUP($A155,'Last Race Results'!$A$5:$J$44,2,FALSE)))","v":"DNS"},{"$f":"IF('Last Race Results'!$B$5=0,0,IF(ISNA(VLOOKUP($A155,'Last Race Results'!$A$5:$J$44,11,FALSE)),0,VLOOKUP($A155,'Last Race Results'!$A$5:$J$44,11,FALSE)))","v":0}]
[139,{"$f":"IF(ISNA(VLOOKUP($A156,'Entry List'!$A$1:$F$61,B$5,FALSE)),\"\",VLOOKUP($A156,'Entry List'!$A$1:$F$61,B$5,FALSE))","v":""},{"$f":"IF(ISNA(VLOOKUP($A156,'Entry List'!$A$1:$F$61,C$5,FALSE)),\"\",VLOOKUP($A156,'Entry List'!$A$1:$F$61,C$5,FALSE))","v":""},{"$f":"IF(ISNA(VLOOKUP($A156,'Entry List'!$A$1:$F$61,D$5,FALSE)),\"\",VLOOKUP($A156,'Entry List'!$A$1:$F$61,D$5,FALSE))","v":""},{"$f":"IF(ISNA(VLOOKUP($A156,'Entry List'!$A$1:$F$61,E$5,FALSE)),\"\",VLOOKUP($A156,'Entry List'!$A$1:$F$61,E$5,FALSE))","v":""},null,"DNS",0,"DNS",0,"DNS",0,"DNS",0,"DNS",0,"DNS",0,"DNS",0,"DNS",0,"DNS",0,"DNS",0,"DNS",0,"DNS",0,"DNS",0,"DNS",0,"DNS",0,"DNS",0,"DNS",0,"DNS",0,"DNS",0,"DNS",0,"DNS",0,"DNS",0,"DNS",0,"DNS",0,"DNS",0,{"$f":"IF('Last Race Results'!$B$5=0,0,IF(ISNA(VLOOKUP($A156,'Last Race Results'!$A$5:$J$44,2,FALSE)),\"DNS\",VLOOKUP($A156,'Last Race Results'!$A$5:$J$44,2,FALSE)))","v":"DNS"},{"$f":"IF('Last Race Results'!$B$5=0,0,IF(ISNA(VLOOKUP($A156,'Last Race Results'!$A$5:$K$44,11,FALSE)),0,VLOOKUP($A156,'Last Race Results'!$A$5:$K$44,11,FALSE)))","v":0},null,null,null,null,null,null,null,null,null,null,null,null,null,null,null,null,null,null,{"$f":"IF('Last Race Results'!$B$5=0,0,IF(ISNA(VLOOKUP($A156,'Last Race Results'!$A$5:$J$44,2,FALSE)),\"DNS\",VLOOKUP($A156,'Last Race Results'!$A$5:$J$44,2,FALSE)))","v":"DNS"},{"$f":"IF('Last Race Results'!$B$5=0,0,IF(ISNA(VLOOKUP($A156,'Last Race Results'!$A$5:$J$44,11,FALSE)),0,VLOOKUP($A156,'Last Race Results'!$A$5:$J$44,11,FALSE)))","v":0}]
[140,{"$f":"IF(ISNA(VLOOKUP($A157,'Entry List'!$A$1:$F$61,B$5,FALSE)),\"\",VLOOKUP($A157,'Entry List'!$A$1:$F$61,B$5,FALSE))","v":""},{"$f":"IF(ISNA(VLOOKUP($A157,'Entry List'!$A$1:$F$61,C$5,FALSE)),\"\",VLOOKUP($A157,'Entry List'!$A$1:$F$61,C$5,FALSE))","v":""},{"$f":"IF(ISNA(VLOOKUP($A157,'Entry List'!$A$1:$F$61,D$5,FALSE)),\"\",VLOOKUP($A157,'Entry List'!$A$1:$F$61,D$5,FALSE))","v":""},{"$f":"IF(ISNA(VLOOKUP($A157,'Entry List'!$A$1:$F$61,E$5,FALSE)),\"\",VLOOKUP($A157,'Entry List'!$A$1:$F$61,E$5,FALSE))","v":""},null,"DNS",0,"DNS",0,"DNS",0,"DNS",0,"DNS",0,"DNS",0,"DNS",0,"DNS",0,"DNS",0,"DNS",0,"DNS",0,"DNS",0,"DNS",0,"DNS",0,"DNS",0,"DNS",0,"DNS",0,"DNS",0,"DNS",0,"DNS",0,"DNS",0,"DNS",0,"DNS",0,"DNS",0,"DNS",0,{"$f":"IF('Last Race Results'!$B$5=0,0,IF(ISNA(VLOOKUP($A157,'Last Race Results'!$A$5:$J$44,2,FALSE)),\"DNS\",VLOOKUP($A157,'Last Race Results'!$A$5:$J$44,2,FALSE)))","v":"DNS"},{"$f":"IF('Last Race Results'!$B$5=0,0,IF(ISNA(VLOOKUP($A157,'Last Race Results'!$A$5:$K$44,11,FALSE)),0,VLOOKUP($A157,'Last Race Results'!$A$5:$K$44,11,FALSE)))","v":0},null,null,null,null,null,null,null,null,null,null,null,null,null,null,null,null,null,null,{"$f":"IF('Last Race Results'!$B$5=0,0,IF(ISNA(VLOOKUP($A157,'Last Race Results'!$A$5:$J$44,2,FALSE)),\"DNS\",VLOOKUP($A157,'Last Race Results'!$A$5:$J$44,2,FALSE)))","v":"DNS"},{"$f":"IF('Last Race Results'!$B$5=0,0,IF(ISNA(VLOOKUP($A157,'Last Race Results'!$A$5:$J$44,11,FALSE)),0,VLOOKUP($A157,'Last Race Results'!$A$5:$J$44,11,FALSE)))","v":0}]
[141,{"$f":"IF(ISNA(VLOOKUP($A158,'Entry List'!$A$1:$F$61,B$5,FALSE)),\"\",VLOOKUP($A158,'Entry List'!$A$1:$F$61,B$5,FALSE))","v":""},{"$f":"IF(ISNA(VLOOKUP($A158,'Entry List'!$A$1:$F$61,C$5,FALSE)),\"\",VLOOKUP($A158,'Entry List'!$A$1:$F$61,C$5,FALSE))","v":""},{"$f":"IF(ISNA(VLOOKUP($A158,'Entry List'!$A$1:$F$61,D$5,FALSE)),\"\",VLOOKUP($A158,'Entry List'!$A$1:$F$61,D$5,FALSE))","v":""},{"$f":"IF(ISNA(VLOOKUP($A158,'Entry List'!$A$1:$F$61,E$5,FALSE)),\"\",VLOOKUP($A158,'Entry List'!$A$1:$F$61,E$5,FALSE))","v":""},null,"DNS",0,"DNS",0,"DNS",0,"DNS",0,"DNS",0,"DNS",0,"DNS",0,"DNS",0,"DNS",0,"DNS",0,"DNS",0,"DNS",0,"DNS",0,"DNS",0,"DNS",0,"DNS",0,"DNS",0,"DNS",0,"DNS",0,"DNS",0,"DNS",0,"DNS",0,"DNS",0,"DNS",0,"DNS",0,{"$f":"IF('Last Race Results'!$B$5=0,0,IF(ISNA(VLOOKUP($A158,'Last Race Results'!$A$5:$J$44,2,FALSE)),\"DNS\",VLOOKUP($A158,'Last Race Results'!$A$5:$J$44,2,FALSE)))","v":"DNS"},{"$f":"IF('Last Race Results'!$B$5=0,0,IF(ISNA(VLOOKUP($A158,'Last Race Results'!$A$5:$K$44,11,FALSE)),0,VLOOKUP($A158,'Last Race Results'!$A$5:$K$44,11,FALSE)))","v":0},null,null,null,null,null,null,null,null,null,null,null,null,null,null,null,null,null,null,{"$f":"IF('Last Race Results'!$B$5=0,0,IF(ISNA(VLOOKUP($A158,'Last Race Results'!$A$5:$J$44,2,FALSE)),\"DNS\",VLOOKUP($A158,'Last Race Results'!$A$5:$J$44,2,FALSE)))","v":"DNS"},{"$f":"IF('Last Race Results'!$B$5=0,0,IF(ISNA(VLOOKUP($A158,'Last Race Results'!$A$5:$J$44,11,FALSE)),0,VLOOKUP($A158,'Last Race Results'!$A$5:$J$44,11,FALSE)))","v":0}]
[142,{"$f":"IF(ISNA(VLOOKUP($A159,'Entry List'!$A$1:$F$61,B$5,FALSE)),\"\",VLOOKUP($A159,'Entry List'!$A$1:$F$61,B$5,FALSE))","v":""},{"$f":"IF(ISNA(VLOOKUP($A159,'Entry List'!$A$1:$F$61,C$5,FALSE)),\"\",VLOOKUP($A159,'Entry List'!$A$1:$F$61,C$5,FALSE))","v":""},{"$f":"IF(ISNA(VLOOKUP($A159,'Entry List'!$A$1:$F$61,D$5,FALSE)),\"\",VLOOKUP($A159,'Entry List'!$A$1:$F$61,D$5,FALSE))","v":""},{"$f":"IF(ISNA(VLOOKUP($A159,'Entry List'!$A$1:$F$61,E$5,FALSE)),\"\",VLOOKUP($A159,'Entry List'!$A$1:$F$61,E$5,FALSE))","v":""},null,"DNS",0,"DNS",0,"DNS",0,"DNS",0,"DNS",0,"DNS",0,"DNS",0,"DNS",0,"DNS",0,"DNS",0,"DNS",0,"DNS",0,"DNS",0,"DNS",0,"DNS",0,"DNS",0,"DNS",0,"DNS",0,"DNS",0,"DNS",0,"DNS",0,"DNS",0,"DNS",0,"DNS",0,"DNS",0,{"$f":"IF('Last Race Results'!$B$5=0,0,IF(ISNA(VLOOKUP($A159,'Last Race Results'!$A$5:$J$44,2,FALSE)),\"DNS\",VLOOKUP($A159,'Last Race Results'!$A$5:$J$44,2,FALSE)))","v":"DNS"},{"$f":"IF('Last Race Results'!$B$5=0,0,IF(ISNA(VLOOKUP($A159,'Last Race Results'!$A$5:$K$44,11,FALSE)),0,VLOOKUP($A159,'Last Race Results'!$A$5:$K$44,11,FALSE)))","v":0},null,null,null,null,null,null,null,null,null,null,null,null,null,null,null,null,null,null,{"$f":"IF('Last Race Results'!$B$5=0,0,IF(ISNA(VLOOKUP($A159,'Last Race Results'!$A$5:$J$44,2,FALSE)),\"DNS\",VLOOKUP($A159,'Last Race Results'!$A$5:$J$44,2,FALSE)))","v":"DNS"},{"$f":"IF('Last Race Results'!$B$5=0,0,IF(ISNA(VLOOKUP($A159,'Last Race Results'!$A$5:$J$44,11,FALSE)),0,VLOOKUP($A159,'Last Race Results'!$A$5:$J$44,11,FALSE)))","v":0}]
[143,{"$f":"IF(ISNA(VLOOKUP($A160,'Entry List'!$A$1:$F$61,B$5,FALSE)),\"\",VLOOKUP($A160,'Entry List'!$A$1:$F$61,B$5,FALSE))","v":""},{"$f":"IF(ISNA(VLOOKUP($A160,'Entry List'!$A$1:$F$61,C$5,FALSE)),\"\",VLOOKUP($A160,'Entry List'!$A$1:$F$61,C$5,FALSE))","v":""},{"$f":"IF(ISNA(VLOOKUP($A160,'Entry List'!$A$1:$F$61,D$5,FALSE)),\"\",VLOOKUP($A160,'Entry List'!$A$1:$F$61,D$5,FALSE))","v":""},{"$f":"IF(ISNA(VLOOKUP($A160,'Entry List'!$A$1:$F$61,E$5,FALSE)),\"\",VLOOKUP($A160,'Entry List'!$A$1:$F$61,E$5,FALSE))","v":""},null,"DNS",0,"DNS",0,"DNS",0,"DNS",0,"DNS",0,"DNS",0,"DNS",0,"DNS",0,"DNS",0,"DNS",0,"DNS",0,"DNS",0,"DNS",0,"DNS",0,"DNS",0,"DNS",0,"DNS",0,"DNS",0,"DNS",0,"DNS",0,"DNS",0,"DNS",0,"DNS",0,"DNS",0,"DNS",0,{"$f":"IF('Last Race Results'!$B$5=0,0,IF(ISNA(VLOOKUP($A160,'Last Race Results'!$A$5:$J$44,2,FALSE)),\"DNS\",VLOOKUP($A160,'Last Race Results'!$A$5:$J$44,2,FALSE)))","v":"DNS"},{"$f":"IF('Last Race Results'!$B$5=0,0,IF(ISNA(VLOOKUP($A160,'Last Race Results'!$A$5:$K$44,11,FALSE)),0,VLOOKUP($A160,'Last Race Results'!$A$5:$K$44,11,FALSE)))","v":0},null,null,null,null,null,null,null,null,null,null,null,null,null,null,null,null,null,null,{"$f":"IF('Last Race Results'!$B$5=0,0,IF(ISNA(VLOOKUP($A160,'Last Race Results'!$A$5:$J$44,2,FALSE)),\"DNS\",VLOOKUP($A160,'Last Race Results'!$A$5:$J$44,2,FALSE)))","v":"DNS"},{"$f":"IF('Last Race Results'!$B$5=0,0,IF(ISNA(VLOOKUP($A160,'Last Race Results'!$A$5:$J$44,11,FALSE)),0,VLOOKUP($A160,'Last Race Results'!$A$5:$J$44,11,FALSE)))","v":0}]
[144,{"$f":"IF(ISNA(VLOOKUP($A161,'Entry List'!$A$1:$F$61,B$5,FALSE)),\"\",VLOOKUP($A161,'Entry List'!$A$1:$F$61,B$5,FALSE))","v":""},{"$f":"IF(ISNA(VLOOKUP($A161,'Entry List'!$A$1:$F$61,C$5,FALSE)),\"\",VLOOKUP($A161,'Entry List'!$A$1:$F$61,C$5,FALSE))","v":""},{"$f":"IF(ISNA(VLOOKUP($A161,'Entry List'!$A$1:$F$61,D$5,FALSE)),\"\",VLOOKUP($A161,'Entry List'!$A$1:$F$61,D$5,FALSE))","v":""},{"$f":"IF(ISNA(VLOOKUP($A161,'Entry List'!$A$1:$F$61,E$5,FALSE)),\"\",VLOOKUP($A161,'Entry List'!$A$1:$F$61,E$5,FALSE))","v":""},null,"DNS",0,"DNS",0,"DNS",0,"DNS",0,"DNS",0,"DNS",0,"DNS",0,"DNS",0,"DNS",0,"DNS",0,"DNS",0,"DNS",0,"DNS",0,"DNS",0,"DNS",0,"DNS",0,"DNS",0,"DNS",0,"DNS",0,"DNS",0,"DNS",0,"DNS",0,"DNS",0,"DNS",0,"DNS",0,{"$f":"IF('Last Race Results'!$B$5=0,0,IF(ISNA(VLOOKUP($A161,'Last Race Results'!$A$5:$J$44,2,FALSE)),\"DNS\",VLOOKUP($A161,'Last Race Results'!$A$5:$J$44,2,FALSE)))","v":"DNS"},{"$f":"IF('Last Race Results'!$B$5=0,0,IF(ISNA(VLOOKUP($A161,'Last Race Results'!$A$5:$K$44,11,FALSE)),0,VLOOKUP($A161,'Last Race Results'!$A$5:$K$44,11,FALSE)))","v":0},null,null,null,null,null,null,null,null,null,null,null,null,null,null,null,null,null,null,{"$f":"IF('Last Race Results'!$B$5=0,0,IF(ISNA(VLOOKUP($A161,'Last Race Results'!$A$5:$J$44,2,FALSE)),\"DNS\",VLOOKUP($A161,'Last Race Results'!$A$5:$J$44,2,FALSE)))","v":"DNS"},{"$f":"IF('Last Race Results'!$B$5=0,0,IF(ISNA(VLOOKUP($A161,'Last Race Results'!$A$5:$J$44,11,FALSE)),0,VLOOKUP($A161,'Last Race Results'!$A$5:$J$44,11,FALSE)))","v":0}]
[145,{"$f":"IF(ISNA(VLOOKUP($A162,'Entry List'!$A$1:$F$61,B$5,FALSE)),\"\",VLOOKUP($A162,'Entry List'!$A$1:$F$61,B$5,FALSE))","v":""},{"$f":"IF(ISNA(VLOOKUP($A162,'Entry List'!$A$1:$F$61,C$5,FALSE)),\"\",VLOOKUP($A162,'Entry List'!$A$1:$F$61,C$5,FALSE))","v":""},{"$f":"IF(ISNA(VLOOKUP($A162,'Entry List'!$A$1:$F$61,D$5,FALSE)),\"\",VLOOKUP($A162,'Entry List'!$A$1:$F$61,D$5,FALSE))","v":""},{"$f":"IF(ISNA(VLOOKUP($A162,'Entry List'!$A$1:$F$61,E$5,FALSE)),\"\",VLOOKUP($A162,'Entry List'!$A$1:$F$61,E$5,FALSE))","v":""},null,"DNS",0,"DNS",0,"DNS",0,"DNS",0,"DNS",0,"DNS",0,"DNS",0,"DNS",0,"DNS",0,"DNS",0,"DNS",0,"DNS",0,"DNS",0,"DNS",0,"DNS",0,"DNS",0,"DNS",0,"DNS",0,"DNS",0,"DNS",0,"DNS",0,"DNS",0,"DNS",0,"DNS",0,"DNS",0,{"$f":"IF('Last Race Results'!$B$5=0,0,IF(ISNA(VLOOKUP($A162,'Last Race Results'!$A$5:$J$44,2,FALSE)),\"DNS\",VLOOKUP($A162,'Last Race Results'!$A$5:$J$44,2,FALSE)))","v":"DNS"},{"$f":"IF('Last Race Results'!$B$5=0,0,IF(ISNA(VLOOKUP($A162,'Last Race Results'!$A$5:$K$44,11,FALSE)),0,VLOOKUP($A162,'Last Race Results'!$A$5:$K$44,11,FALSE)))","v":0},null,null,null,null,null,null,null,null,null,null,null,null,null,null,null,null,null,null,{"$f":"IF('Last Race Results'!$B$5=0,0,IF(ISNA(VLOOKUP($A162,'Last Race Results'!$A$5:$J$44,2,FALSE)),\"DNS\",VLOOKUP($A162,'Last Race Results'!$A$5:$J$44,2,FALSE)))","v":"DNS"},{"$f":"IF('Last Race Results'!$B$5=0,0,IF(ISNA(VLOOKUP($A162,'Last Race Results'!$A$5:$J$44,11,FALSE)),0,VLOOKUP($A162,'Last Race Results'!$A$5:$J$44,11,FALSE)))","v":0}]
[146,{"$f":"IF(ISNA(VLOOKUP($A163,'Entry List'!$A$1:$F$61,B$5,FALSE)),\"\",VLOOKUP($A163,'Entry List'!$A$1:$F$61,B$5,FALSE))","v":""},{"$f":"IF(ISNA(VLOOKUP($A163,'Entry List'!$A$1:$F$61,C$5,FALSE)),\"\",VLOOKUP($A163,'Entry List'!$A$1:$F$61,C$5,FALSE))","v":""},{"$f":"IF(ISNA(VLOOKUP($A163,'Entry List'!$A$1:$F$61,D$5,FALSE)),\"\",VLOOKUP($A163,'Entry List'!$A$1:$F$61,D$5,FALSE))","v":""},{"$f":"IF(ISNA(VLOOKUP($A163,'Entry List'!$A$1:$F$61,E$5,FALSE)),\"\",VLOOKUP($A163,'Entry List'!$A$1:$F$61,E$5,FALSE))","v":""},null,"DNS",0,"DNS",0,"DNS",0,"DNS",0,"DNS",0,"DNS",0,"DNS",0,"DNS",0,"DNS",0,"DNS",0,"DNS",0,"DNS",0,"DNS",0,"DNS",0,"DNS",0,"DNS",0,"DNS",0,"DNS",0,"DNS",0,"DNS",0,"DNS",0,"DNS",0,"DNS",0,"DNS",0,"DNS",0,{"$f":"IF('Last Race Results'!$B$5=0,0,IF(ISNA(VLOOKUP($A163,'Last Race Results'!$A$5:$J$44,2,FALSE)),\"DNS\",VLOOKUP($A163,'Last Race Results'!$A$5:$J$44,2,FALSE)))","v":"DNS"},{"$f":"IF('Last Race Results'!$B$5=0,0,IF(ISNA(VLOOKUP($A163,'Last Race Results'!$A$5:$K$44,11,FALSE)),0,VLOOKUP($A163,'Last Race Results'!$A$5:$K$44,11,FALSE)))","v":0},null,null,null,null,null,null,null,null,null,null,null,null,null,null,null,null,null,null,{"$f":"IF('Last Race Results'!$B$5=0,0,IF(ISNA(VLOOKUP($A163,'Last Race Results'!$A$5:$J$44,2,FALSE)),\"DNS\",VLOOKUP($A163,'Last Race Results'!$A$5:$J$44,2,FALSE)))","v":"DNS"},{"$f":"IF('Last Race Results'!$B$5=0,0,IF(ISNA(VLOOKUP($A163,'Last Race Results'!$A$5:$J$44,11,FALSE)),0,VLOOKUP($A163,'Last Race Results'!$A$5:$J$44,11,FALSE)))","v":0}]
[147,{"$f":"IF(ISNA(VLOOKUP($A164,'Entry List'!$A$1:$F$61,B$5,FALSE)),\"\",VLOOKUP($A164,'Entry List'!$A$1:$F$61,B$5,FALSE))","v":""},{"$f":"IF(ISNA(VLOOKUP($A164,'Entry List'!$A$1:$F$61,C$5,FALSE)),\"\",VLOOKUP($A164,'Entry List'!$A$1:$F$61,C$5,FALSE))","v":""},{"$f":"IF(ISNA(VLOOKUP($A164,'Entry List'!$A$1:$F$61,D$5,FALSE)),\"\",VLOOKUP($A164,'Entry List'!$A$1:$F$61,D$5,FALSE))","v":""},{"$f":"IF(ISNA(VLOOKUP($A164,'Entry List'!$A$1:$F$61,E$5,FALSE)),\"\",VLOOKUP($A164,'Entry List'!$A$1:$F$61,E$5,FALSE))","v":""},null,"DNS",0,"DNS",0,"DNS",0,"DNS",0,"DNS",0,"DNS",0,"DNS",0,"DNS",0,"DNS",0,"DNS",0,"DNS",0,"DNS",0,"DNS",0,"DNS",0,"DNS",0,"DNS",0,"DNS",0,"DNS",0,"DNS",0,"DNS",0,"DNS",0,"DNS",0,"DNS",0,"DNS",0,"DNS",0,{"$f":"IF('Last Race Results'!$B$5=0,0,IF(ISNA(VLOOKUP($A164,'Last Race Results'!$A$5:$J$44,2,FALSE)),\"DNS\",VLOOKUP($A164,'Last Race Results'!$A$5:$J$44,2,FALSE)))","v":"DNS"},{"$f":"IF('Last Race Results'!$B$5=0,0,IF(ISNA(VLOOKUP($A164,'Last Race Results'!$A$5:$K$44,11,FALSE)),0,VLOOKUP($A164,'Last Race Results'!$A$5:$K$44,11,FALSE)))","v":0},null,null,null,null,null,null,null,null,null,null,null,null,null,null,null,null,null,null,{"$f":"IF('Last Race Results'!$B$5=0,0,IF(ISNA(VLOOKUP($A164,'Last Race Results'!$A$5:$J$44,2,FALSE)),\"DNS\",VLOOKUP($A164,'Last Race Results'!$A$5:$J$44,2,FALSE)))","v":"DNS"},{"$f":"IF('Last Race Results'!$B$5=0,0,IF(ISNA(VLOOKUP($A164,'Last Race Results'!$A$5:$J$44,11,FALSE)),0,VLOOKUP($A164,'Last Race Results'!$A$5:$J$44,11,FALSE)))","v":0}]
[148,{"$f":"IF(ISNA(VLOOKUP($A165,'Entry List'!$A$1:$F$61,B$5,FALSE)),\"\",VLOOKUP($A165,'Entry List'!$A$1:$F$61,B$5,FALSE))","v":""},{"$f":"IF(ISNA(VLOOKUP($A165,'Entry List'!$A$1:$F$61,C$5,FALSE)),\"\",VLOOKUP($A165,'Entry List'!$A$1:$F$61,C$5,FALSE))","v":""},{"$f":"IF(ISNA(VLOOKUP($A165,'Entry List'!$A$1:$F$61,D$5,FALSE)),\"\",VLOOKUP($A165,'Entry List'!$A$1:$F$61,D$5,FALSE))","v":""},{"$f":"IF(ISNA(VLOOKUP($A165,'Entry List'!$A$1:$F$61,E$5,FALSE)),\"\",VLOOKUP($A165,'Entry List'!$A$1:$F$61,E$5,FALSE))","v":""},null,"DNS",0,"DNS",0,"DNS",0,"DNS",0,"DNS",0,"DNS",0,"DNS",0,"DNS",0,"DNS",0,"DNS",0,"DNS",0,"DNS",0,"DNS",0,"DNS",0,"DNS",0,"DNS",0,"DNS",0,"DNS",0,"DNS",0,"DNS",0,"DNS",0,"DNS",0,"DNS",0,"DNS",0,"DNS",0,{"$f":"IF('Last Race Results'!$B$5=0,0,IF(ISNA(VLOOKUP($A165,'Last Race Results'!$A$5:$J$44,2,FALSE)),\"DNS\",VLOOKUP($A165,'Last Race Results'!$A$5:$J$44,2,FALSE)))","v":"DNS"},{"$f":"IF('Last Race Results'!$B$5=0,0,IF(ISNA(VLOOKUP($A165,'Last Race Results'!$A$5:$K$44,11,FALSE)),0,VLOOKUP($A165,'Last Race Results'!$A$5:$K$44,11,FALSE)))","v":0},null,null,null,null,null,null,null,null,null,null,null,null,null,null,null,null,null,null,{"$f":"IF('Last Race Results'!$B$5=0,0,IF(ISNA(VLOOKUP($A165,'Last Race Results'!$A$5:$J$44,2,FALSE)),\"DNS\",VLOOKUP($A165,'Last Race Results'!$A$5:$J$44,2,FALSE)))","v":"DNS"},{"$f":"IF('Last Race Results'!$B$5=0,0,IF(ISNA(VLOOKUP($A165,'Last Race Results'!$A$5:$J$44,11,FALSE)),0,VLOOKUP($A165,'Last Race Results'!$A$5:$J$44,11,FALSE)))","v":0}]
[149,{"$f":"IF(ISNA(VLOOKUP($A166,'Entry List'!$A$1:$F$61,B$5,FALSE)),\"\",VLOOKUP($A166,'Entry List'!$A$1:$F$61,B$5,FALSE))","v":""},{"$f":"IF(ISNA(VLOOKUP($A166,'Entry List'!$A$1:$F$61,C$5,FALSE)),\"\",VLOOKUP($A166,'Entry List'!$A$1:$F$61,C$5,FALSE))","v":""},{"$f":"IF(ISNA(VLOOKUP($A166,'Entry List'!$A$1:$F$61,D$5,FALSE)),\"\",VLOOKUP($A166,'Entry List'!$A$1:$F$61,D$5,FALSE))","v":""},{"$f":"IF(ISNA(VLOOKUP($A166,'Entry List'!$A$1:$F$61,E$5,FALSE)),\"\",VLOOKUP($A166,'Entry List'!$A$1:$F$61,E$5,FALSE))","v":""},null,"DNS",0,"DNS",0,"DNS",0,"DNS",0,"DNS",0,"DNS",0,"DNS",0,"DNS",0,"DNS",0,"DNS",0,"DNS",0,"DNS",0,"DNS",0,"DNS",0,"DNS",0,"DNS",0,"DNS",0,"DNS",0,"DNS",0,"DNS",0,"DNS",0,"DNS",0,"DNS",0,"DNS",0,"DNS",0,{"$f":"IF('Last Race Results'!$B$5=0,0,IF(ISNA(VLOOKUP($A166,'Last Race Results'!$A$5:$J$44,2,FALSE)),\"DNS\",VLOOKUP($A166,'Last Race Results'!$A$5:$J$44,2,FALSE)))","v":"DNS"},{"$f":"IF('Last Race Results'!$B$5=0,0,IF(ISNA(VLOOKUP($A166,'Last Race Results'!$A$5:$K$44,11,FALSE)),0,VLOOKUP($A166,'Last Race Results'!$A$5:$K$44,11,FALSE)))","v":0},null,null,null,null,null,null,null,null,null,null,null,null,null,null,null,null,null,null,{"$f":"IF('Last Race Results'!$B$5=0,0,IF(ISNA(VLOOKUP($A166,'Last Race Results'!$A$5:$J$44,2,FALSE)),\"DNS\",VLOOKUP($A166,'Last Race Results'!$A$5:$J$44,2,FALSE)))","v":"DNS"},{"$f":"IF('Last Race Results'!$B$5=0,0,IF(ISNA(VLOOKUP($A166,'Last Race Results'!$A$5:$J$44,11,FALSE)),0,VLOOKUP($A166,'Last Race Results'!$A$5:$J$44,11,FALSE)))","v":0}]
[150,{"$f":"IF(ISNA(VLOOKUP($A167,'Entry List'!$A$1:$F$61,B$5,FALSE)),\"\",VLOOKUP($A167,'Entry List'!$A$1:$F$61,B$5,FALSE))","v":""},{"$f":"IF(ISNA(VLOOKUP($A167,'Entry List'!$A$1:$F$61,C$5,FALSE)),\"\",VLOOKUP($A167,'Entry List'!$A$1:$F$61,C$5,FALSE))","v":""},{"$f":"IF(ISNA(VLOOKUP($A167,'Entry List'!$A$1:$F$61,D$5,FALSE)),\"\",VLOOKUP($A167,'Entry List'!$A$1:$F$61,D$5,FALSE))","v":""},{"$f":"IF(ISNA(VLOOKUP($A167,'Entry List'!$A$1:$F$61,E$5,FALSE)),\"\",VLOOKUP($A167,'Entry List'!$A$1:$F$61,E$5,FALSE))","v":""},null,"DNS",0,"DNS",0,"DNS",0,"DNS",0,"DNS",0,"DNS",0,"DNS",0,"DNS",0,"DNS",0,"DNS",0,"DNS",0,"DNS",0,"DNS",0,"DNS",0,"DNS",0,"DNS",0,"DNS",0,"DNS",0,"DNS",0,"DNS",0,"DNS",0,"DNS",0,"DNS",0,"DNS",0,"DNS",0,{"$f":"IF('Last Race Results'!$B$5=0,0,IF(ISNA(VLOOKUP($A167,'Last Race Results'!$A$5:$J$44,2,FALSE)),\"DNS\",VLOOKUP($A167,'Last Race Results'!$A$5:$J$44,2,FALSE)))","v":"DNS"},{"$f":"IF('Last Race Results'!$B$5=0,0,IF(ISNA(VLOOKUP($A167,'Last Race Results'!$A$5:$K$44,11,FALSE)),0,VLOOKUP($A167,'Last Race Results'!$A$5:$K$44,11,FALSE)))","v":0},null,null,null,null,null,null,null,null,null,null,null,null,null,null,null,null,null,null,{"$f":"IF('Last Race Results'!$B$5=0,0,IF(ISNA(VLOOKUP($A167,'Last Race Results'!$A$5:$J$44,2,FALSE)),\"DNS\",VLOOKUP($A167,'Last Race Results'!$A$5:$J$44,2,FALSE)))","v":"DNS"},{"$f":"IF('Last Race Results'!$B$5=0,0,IF(ISNA(VLOOKUP($A167,'Last Race Results'!$A$5:$J$44,11,FALSE)),0,VLOOKUP($A167,'Last Race Results'!$A$5:$J$44,11,FALSE)))","v":0}]
[151,{"$f":"IF(ISNA(VLOOKUP($A168,'Entry List'!$A$1:$F$61,B$5,FALSE)),\"\",VLOOKUP($A168,'Entry List'!$A$1:$F$61,B$5,FALSE))","v":""},{"$f":"IF(ISNA(VLOOKUP($A168,'Entry List'!$A$1:$F$61,C$5,FALSE)),\"\",VLOOKUP($A168,'Entry List'!$A$1:$F$61,C$5,FALSE))","v":""},{"$f":"IF(ISNA(VLOOKUP($A168,'Entry List'!$A$1:$F$61,D$5,FALSE)),\"\",VLOOKUP($A168,'Entry List'!$A$1:$F$61,D$5,FALSE))","v":""},{"$f":"IF(ISNA(VLOOKUP($A168,'Entry List'!$A$1:$F$61,E$5,FALSE)),\"\",VLOOKUP($A168,'Entry List'!$A$1:$F$61,E$5,FALSE))","v":""},null,"DNS",0,"DNS",0,"DNS",0,"DNS",0,"DNS",0,"DNS",0,"DNS",0,"DNS",0,"DNS",0,"DNS",0,"DNS",0,"DNS",0,"DNS",0,"DNS",0,"DNS",0,"DNS",0,"DNS",0,"DNS",0,"DNS",0,"DNS",0,"DNS",0,"DNS",0,"DNS",0,"DNS",0,"DNS",0,{"$f":"IF('Last Race Results'!$B$5=0,0,IF(ISNA(VLOOKUP($A168,'Last Race Results'!$A$5:$J$44,2,FALSE)),\"DNS\",VLOOKUP($A168,'Last Race Results'!$A$5:$J$44,2,FALSE)))","v":"DNS"},{"$f":"IF('Last Race Results'!$B$5=0,0,IF(ISNA(VLOOKUP($A168,'Last Race Results'!$A$5:$K$44,11,FALSE)),0,VLOOKUP($A168,'Last Race Results'!$A$5:$K$44,11,FALSE)))","v":0},null,null,null,null,null,null,null,null,null,null,null,null,null,null,null,null,null,null,{"$f":"IF('Last Race Results'!$B$5=0,0,IF(ISNA(VLOOKUP($A168,'Last Race Results'!$A$5:$J$44,2,FALSE)),\"DNS\",VLOOKUP($A168,'Last Race Results'!$A$5:$J$44,2,FALSE)))","v":"DNS"},{"$f":"IF('Last Race Results'!$B$5=0,0,IF(ISNA(VLOOKUP($A168,'Last Race Results'!$A$5:$J$44,11,FALSE)),0,VLOOKUP($A168,'Last Race Results'!$A$5:$J$44,11,FALSE)))","v":0}]
[152,{"$f":"IF(ISNA(VLOOKUP($A169,'Entry List'!$A$1:$F$61,B$5,FALSE)),\"\",VLOOKUP($A169,'Entry List'!$A$1:$F$61,B$5,FALSE))","v":""},{"$f":"IF(ISNA(VLOOKUP($A169,'Entry List'!$A$1:$F$61,C$5,FALSE)),\"\",VLOOKUP($A169,'Entry List'!$A$1:$F$61,C$5,FALSE))","v":""},{"$f":"IF(ISNA(VLOOKUP($A169,'Entry List'!$A$1:$F$61,D$5,FALSE)),\"\",VLOOKUP($A169,'Entry List'!$A$1:$F$61,D$5,FALSE))","v":""},{"$f":"IF(ISNA(VLOOKUP($A169,'Entry List'!$A$1:$F$61,E$5,FALSE)),\"\",VLOOKUP($A169,'Entry List'!$A$1:$F$61,E$5,FALSE))","v":""},null,"DNS",0,"DNS",0,"DNS",0,"DNS",0,"DNS",0,"DNS",0,"DNS",0,"DNS",0,"DNS",0,"DNS",0,"DNS",0,"DNS",0,"DNS",0,"DNS",0,"DNS",0,"DNS",0,"DNS",0,"DNS",0,"DNS",0,"DNS",0,"DNS",0,"DNS",0,"DNS",0,"DNS",0,"DNS",0,{"$f":"IF('Last Race Results'!$B$5=0,0,IF(ISNA(VLOOKUP($A169,'Last Race Results'!$A$5:$J$44,2,FALSE)),\"DNS\",VLOOKUP($A169,'Last Race Results'!$A$5:$J$44,2,FALSE)))","v":"DNS"},{"$f":"IF('Last Race Results'!$B$5=0,0,IF(ISNA(VLOOKUP($A169,'Last Race Results'!$A$5:$K$44,11,FALSE)),0,VLOOKUP($A169,'Last Race Results'!$A$5:$K$44,11,FALSE)))","v":0},null,null,null,null,null,null,null,null,null,null,null,null,null,null,null,null,null,null,{"$f":"IF('Last Race Results'!$B$5=0,0,IF(ISNA(VLOOKUP($A169,'Last Race Results'!$A$5:$J$44,2,FALSE)),\"DNS\",VLOOKUP($A169,'Last Race Results'!$A$5:$J$44,2,FALSE)))","v":"DNS"},{"$f":"IF('Last Race Results'!$B$5=0,0,IF(ISNA(VLOOKUP($A169,'Last Race Results'!$A$5:$J$44,11,FALSE)),0,VLOOKUP($A169,'Last Race Results'!$A$5:$J$44,11,FALSE)))","v":0}]
[153,{"$f":"IF(ISNA(VLOOKUP($A170,'Entry List'!$A$1:$F$61,B$5,FALSE)),\"\",VLOOKUP($A170,'Entry List'!$A$1:$F$61,B$5,FALSE))","v":""},{"$f":"IF(ISNA(VLOOKUP($A170,'Entry List'!$A$1:$F$61,C$5,FALSE)),\"\",VLOOKUP($A170,'Entry List'!$A$1:$F$61,C$5,FALSE))","v":""},{"$f":"IF(ISNA(VLOOKUP($A170,'Entry List'!$A$1:$F$61,D$5,FALSE)),\"\",VLOOKUP($A170,'Entry List'!$A$1:$F$61,D$5,FALSE))","v":""},{"$f":"IF(ISNA(VLOOKUP($A170,'Entry List'!$A$1:$F$61,E$5,FALSE)),\"\",VLOOKUP($A170,'Entry List'!$A$1:$F$61,E$5,FALSE))","v":""},null,"DNS",0,"DNS",0,"DNS",0,"DNS",0,"DNS",0,"DNS",0,"DNS",0,"DNS",0,"DNS",0,"DNS",0,"DNS",0,"DNS",0,"DNS",0,"DNS",0,"DNS",0,"DNS",0,"DNS",0,"DNS",0,"DNS",0,"DNS",0,"DNS",0,"DNS",0,"DNS",0,"DNS",0,"DNS",0,{"$f":"IF('Last Race Results'!$B$5=0,0,IF(ISNA(VLOOKUP($A170,'Last Race Results'!$A$5:$J$44,2,FALSE)),\"DNS\",VLOOKUP($A170,'Last Race Results'!$A$5:$J$44,2,FALSE)))","v":"DNS"},{"$f":"IF('Last Race Results'!$B$5=0,0,IF(ISNA(VLOOKUP($A170,'Last Race Results'!$A$5:$K$44,11,FALSE)),0,VLOOKUP($A170,'Last Race Results'!$A$5:$K$44,11,FALSE)))","v":0},null,null,null,null,null,null,null,null,null,null,null,null,null,null,null,null,null,null,{"$f":"IF('Last Race Results'!$B$5=0,0,IF(ISNA(VLOOKUP($A170,'Last Race Results'!$A$5:$J$44,2,FALSE)),\"DNS\",VLOOKUP($A170,'Last Race Results'!$A$5:$J$44,2,FALSE)))","v":"DNS"},{"$f":"IF('Last Race Results'!$B$5=0,0,IF(ISNA(VLOOKUP($A170,'Last Race Results'!$A$5:$J$44,11,FALSE)),0,VLOOKUP($A170,'Last Race Results'!$A$5:$J$44,11,FALSE)))","v":0}]
[154,{"$f":"IF(ISNA(VLOOKUP($A171,'Entry List'!$A$1:$F$61,B$5,FALSE)),\"\",VLOOKUP($A171,'Entry List'!$A$1:$F$61,B$5,FALSE))","v":""},{"$f":"IF(ISNA(VLOOKUP($A171,'Entry List'!$A$1:$F$61,C$5,FALSE)),\"\",VLOOKUP($A171,'Entry List'!$A$1:$F$61,C$5,FALSE))","v":""},{"$f":"IF(ISNA(VLOOKUP($A171,'Entry List'!$A$1:$F$61,D$5,FALSE)),\"\",VLOOKUP($A171,'Entry List'!$A$1:$F$61,D$5,FALSE))","v":""},{"$f":"IF(ISNA(VLOOKUP($A171,'Entry List'!$A$1:$F$61,E$5,FALSE)),\"\",VLOOKUP($A171,'Entry List'!$A$1:$F$61,E$5,FALSE))","v":""},null,"DNS",0,"DNS",0,"DNS",0,"DNS",0,"DNS",0,"DNS",0,"DNS",0,"DNS",0,"DNS",0,"DNS",0,"DNS",0,"DNS",0,"DNS",0,"DNS",0,"DNS",0,"DNS",0,"DNS",0,"DNS",0,"DNS",0,"DNS",0,"DNS",0,"DNS",0,"DNS",0,"DNS",0,"DNS",0,{"$f":"IF('Last Race Results'!$B$5=0,0,IF(ISNA(VLOOKUP($A171,'Last Race Results'!$A$5:$J$44,2,FALSE)),\"DNS\",VLOOKUP($A171,'Last Race Results'!$A$5:$J$44,2,FALSE)))","v":"DNS"},{"$f":"IF('Last Race Results'!$B$5=0,0,IF(ISNA(VLOOKUP($A171,'Last Race Results'!$A$5:$K$44,11,FALSE)),0,VLOOKUP($A171,'Last Race Results'!$A$5:$K$44,11,FALSE)))","v":0},null,null,null,null,null,null,null,null,null,null,null,null,null,null,null,null,null,null,{"$f":"IF('Last Race Results'!$B$5=0,0,IF(ISNA(VLOOKUP($A171,'Last Race Results'!$A$5:$J$44,2,FALSE)),\"DNS\",VLOOKUP($A171,'Last Race Results'!$A$5:$J$44,2,FALSE)))","v":"DNS"},{"$f":"IF('Last Race Results'!$B$5=0,0,IF(ISNA(VLOOKUP($A171,'Last Race Results'!$A$5:$J$44,11,FALSE)),0,VLOOKUP($A171,'Last Race Results'!$A$5:$J$44,11,FALSE)))","v":0}]
[155,{"$f":"IF(ISNA(VLOOKUP($A172,'Entry List'!$A$1:$F$61,B$5,FALSE)),\"\",VLOOKUP($A172,'Entry List'!$A$1:$F$61,B$5,FALSE))","v":""},{"$f":"IF(ISNA(VLOOKUP($A172,'Entry List'!$A$1:$F$61,C$5,FALSE)),\"\",VLOOKUP($A172,'Entry List'!$A$1:$F$61,C$5,FALSE))","v":""},{"$f":"IF(ISNA(VLOOKUP($A172,'Entry List'!$A$1:$F$61,D$5,FALSE)),\"\",VLOOKUP($A172,'Entry List'!$A$1:$F$61,D$5,FALSE))","v":""},{"$f":"IF(ISNA(VLOOKUP($A172,'Entry List'!$A$1:$F$61,E$5,FALSE)),\"\",VLOOKUP($A172,'Entry List'!$A$1:$F$61,E$5,FALSE))","v":""},null,"DNS",0,"DNS",0,"DNS",0,"DNS",0,"DNS",0,"DNS",0,"DNS",0,"DNS",0,"DNS",0,"DNS",0,"DNS",0,"DNS",0,"DNS",0,"DNS",0,"DNS",0,"DNS",0,"DNS",0,"DNS",0,"DNS",0,"DNS",0,"DNS",0,"DNS",0,"DNS",0,"DNS",0,"DNS",0,{"$f":"IF('Last Race Results'!$B$5=0,0,IF(ISNA(VLOOKUP($A172,'Last Race Results'!$A$5:$J$44,2,FALSE)),\"DNS\",VLOOKUP($A172,'Last Race Results'!$A$5:$J$44,2,FALSE)))","v":"DNS"},{"$f":"IF('Last Race Results'!$B$5=0,0,IF(ISNA(VLOOKUP($A172,'Last Race Results'!$A$5:$K$44,11,FALSE)),0,VLOOKUP($A172,'Last Race Results'!$A$5:$K$44,11,FALSE)))","v":0},null,null,null,null,null,null,null,null,null,null,null,null,null,null,null,null,null,null,{"$f":"IF('Last Race Results'!$B$5=0,0,IF(ISNA(VLOOKUP($A172,'Last Race Results'!$A$5:$J$44,2,FALSE)),\"DNS\",VLOOKUP($A172,'Last Race Results'!$A$5:$J$44,2,FALSE)))","v":"DNS"},{"$f":"IF('Last Race Results'!$B$5=0,0,IF(ISNA(VLOOKUP($A172,'Last Race Results'!$A$5:$J$44,11,FALSE)),0,VLOOKUP($A172,'Last Race Results'!$A$5:$J$44,11,FALSE)))","v":0}]
[156,{"$f":"IF(ISNA(VLOOKUP($A173,'Entry List'!$A$1:$F$61,B$5,FALSE)),\"\",VLOOKUP($A173,'Entry List'!$A$1:$F$61,B$5,FALSE))","v":""},{"$f":"IF(ISNA(VLOOKUP($A173,'Entry List'!$A$1:$F$61,C$5,FALSE)),\"\",VLOOKUP($A173,'Entry List'!$A$1:$F$61,C$5,FALSE))","v":""},{"$f":"IF(ISNA(VLOOKUP($A173,'Entry List'!$A$1:$F$61,D$5,FALSE)),\"\",VLOOKUP($A173,'Entry List'!$A$1:$F$61,D$5,FALSE))","v":""},{"$f":"IF(ISNA(VLOOKUP($A173,'Entry List'!$A$1:$F$61,E$5,FALSE)),\"\",VLOOKUP($A173,'Entry List'!$A$1:$F$61,E$5,FALSE))","v":""},null,"DNS",0,"DNS",0,"DNS",0,"DNS",0,"DNS",0,"DNS",0,"DNS",0,"DNS",0,"DNS",0,"DNS",0,"DNS",0,"DNS",0,"DNS",0,"DNS",0,"DNS",0,"DNS",0,"DNS",0,"DNS",0,"DNS",0,"DNS",0,"DNS",0,"DNS",0,"DNS",0,"DNS",0,"DNS",0,{"$f":"IF('Last Race Results'!$B$5=0,0,IF(ISNA(VLOOKUP($A173,'Last Race Results'!$A$5:$J$44,2,FALSE)),\"DNS\",VLOOKUP($A173,'Last Race Results'!$A$5:$J$44,2,FALSE)))","v":"DNS"},{"$f":"IF('Last Race Results'!$B$5=0,0,IF(ISNA(VLOOKUP($A173,'Last Race Results'!$A$5:$K$44,11,FALSE)),0,VLOOKUP($A173,'Last Race Results'!$A$5:$K$44,11,FALSE)))","v":0},null,null,null,null,null,null,null,null,null,null,null,null,null,null,null,null,null,null,{"$f":"IF('Last Race Results'!$B$5=0,0,IF(ISNA(VLOOKUP($A173,'Last Race Results'!$A$5:$J$44,2,FALSE)),\"DNS\",VLOOKUP($A173,'Last Race Results'!$A$5:$J$44,2,FALSE)))","v":"DNS"},{"$f":"IF('Last Race Results'!$B$5=0,0,IF(ISNA(VLOOKUP($A173,'Last Race Results'!$A$5:$J$44,11,FALSE)),0,VLOOKUP($A173,'Last Race Results'!$A$5:$J$44,11,FALSE)))","v":0}]
[157,{"$f":"IF(ISNA(VLOOKUP($A174,'Entry List'!$A$1:$F$61,B$5,FALSE)),\"\",VLOOKUP($A174,'Entry List'!$A$1:$F$61,B$5,FALSE))","v":""},{"$f":"IF(ISNA(VLOOKUP($A174,'Entry List'!$A$1:$F$61,C$5,FALSE)),\"\",VLOOKUP($A174,'Entry List'!$A$1:$F$61,C$5,FALSE))","v":""},{"$f":"IF(ISNA(VLOOKUP($A174,'Entry List'!$A$1:$F$61,D$5,FALSE)),\"\",VLOOKUP($A174,'Entry List'!$A$1:$F$61,D$5,FALSE))","v":""},{"$f":"IF(ISNA(VLOOKUP($A174,'Entry List'!$A$1:$F$61,E$5,FALSE)),\"\",VLOOKUP($A174,'Entry List'!$A$1:$F$61,E$5,FALSE))","v":""},null,"DNS",0,"DNS",0,"DNS",0,"DNS",0,"DNS",0,"DNS",0,"DNS",0,"DNS",0,"DNS",0,"DNS",0,"DNS",0,"DNS",0,"DNS",0,"DNS",0,"DNS",0,"DNS",0,"DNS",0,"DNS",0,"DNS",0,"DNS",0,"DNS",0,"DNS",0,"DNS",0,"DNS",0,"DNS",0,{"$f":"IF('Last Race Results'!$B$5=0,0,IF(ISNA(VLOOKUP($A174,'Last Race Results'!$A$5:$J$44,2,FALSE)),\"DNS\",VLOOKUP($A174,'Last Race Results'!$A$5:$J$44,2,FALSE)))","v":"DNS"},{"$f":"IF('Last Race Results'!$B$5=0,0,IF(ISNA(VLOOKUP($A174,'Last Race Results'!$A$5:$K$44,11,FALSE)),0,VLOOKUP($A174,'Last Race Results'!$A$5:$K$44,11,FALSE)))","v":0},null,null,null,null,null,null,null,null,null,null,null,null,null,null,null,null,null,null,{"$f":"IF('Last Race Results'!$B$5=0,0,IF(ISNA(VLOOKUP($A174,'Last Race Results'!$A$5:$J$44,2,FALSE)),\"DNS\",VLOOKUP($A174,'Last Race Results'!$A$5:$J$44,2,FALSE)))","v":"DNS"},{"$f":"IF('Last Race Results'!$B$5=0,0,IF(ISNA(VLOOKUP($A174,'Last Race Results'!$A$5:$J$44,11,FALSE)),0,VLOOKUP($A174,'Last Race Results'!$A$5:$J$44,11,FALSE)))","v":0}]
[158,{"$f":"IF(ISNA(VLOOKUP($A175,'Entry List'!$A$1:$F$61,B$5,FALSE)),\"\",VLOOKUP($A175,'Entry List'!$A$1:$F$61,B$5,FALSE))","v":""},{"$f":"IF(ISNA(VLOOKUP($A175,'Entry List'!$A$1:$F$61,C$5,FALSE)),\"\",VLOOKUP($A175,'Entry List'!$A$1:$F$61,C$5,FALSE))","v":""},{"$f":"IF(ISNA(VLOOKUP($A175,'Entry List'!$A$1:$F$61,D$5,FALSE)),\"\",VLOOKUP($A175,'Entry List'!$A$1:$F$61,D$5,FALSE))","v":""},{"$f":"IF(ISNA(VLOOKUP($A175,'Entry List'!$A$1:$F$61,E$5,FALSE)),\"\",VLOOKUP($A175,'Entry List'!$A$1:$F$61,E$5,FALSE))","v":""},null,"DNS",0,"DNS",0,"DNS",0,"DNS",0,"DNS",0,"DNS",0,"DNS",0,"DNS",0,"DNS",0,"DNS",0,"DNS",0,"DNS",0,"DNS",0,"DNS",0,"DNS",0,"DNS",0,"DNS",0,"DNS",0,"DNS",0,"DNS",0,"DNS",0,"DNS",0,"DNS",0,"DNS",0,"DNS",0,{"$f":"IF('Last Race Results'!$B$5=0,0,IF(ISNA(VLOOKUP($A175,'Last Race Results'!$A$5:$J$44,2,FALSE)),\"DNS\",VLOOKUP($A175,'Last Race Results'!$A$5:$J$44,2,FALSE)))","v":"DNS"},{"$f":"IF('Last Race Results'!$B$5=0,0,IF(ISNA(VLOOKUP($A175,'Last Race Results'!$A$5:$K$44,11,FALSE)),0,VLOOKUP($A175,'Last Race Results'!$A$5:$K$44,11,FALSE)))","v":0},null,null,null,null,null,null,null,null,null,null,null,null,null,null,null,null,null,null,{"$f":"IF('Last Race Results'!$B$5=0,0,IF(ISNA(VLOOKUP($A175,'Last Race Results'!$A$5:$J$44,2,FALSE)),\"DNS\",VLOOKUP($A175,'Last Race Results'!$A$5:$J$44,2,FALSE)))","v":"DNS"},{"$f":"IF('Last Race Results'!$B$5=0,0,IF(ISNA(VLOOKUP($A175,'Last Race Results'!$A$5:$J$44,11,FALSE)),0,VLOOKUP($A175,'Last Race Results'!$A$5:$J$44,11,FALSE)))","v":0}]
[159,{"$f":"IF(ISNA(VLOOKUP($A176,'Entry List'!$A$1:$F$61,B$5,FALSE)),\"\",VLOOKUP($A176,'Entry List'!$A$1:$F$61,B$5,FALSE))","v":""},{"$f":"IF(ISNA(VLOOKUP($A176,'Entry List'!$A$1:$F$61,C$5,FALSE)),\"\",VLOOKUP($A176,'Entry List'!$A$1:$F$61,C$5,FALSE))","v":""},{"$f":"IF(ISNA(VLOOKUP($A176,'Entry List'!$A$1:$F$61,D$5,FALSE)),\"\",VLOOKUP($A176,'Entry List'!$A$1:$F$61,D$5,FALSE))","v":""},{"$f":"IF(ISNA(VLOOKUP($A176,'Entry List'!$A$1:$F$61,E$5,FALSE)),\"\",VLOOKUP($A176,'Entry List'!$A$1:$F$61,E$5,FALSE))","v":""},null,"DNS",0,"DNS",0,"DNS",0,"DNS",0,"DNS",0,"DNS",0,"DNS",0,"DNS",0,"DNS",0,"DNS",0,"DNS",0,"DNS",0,"DNS",0,"DNS",0,"DNS",0,"DNS",0,"DNS",0,"DNS",0,"DNS",0,"DNS",0,"DNS",0,"DNS",0,"DNS",0,"DNS",0,"DNS",0,{"$f":"IF('Last Race Results'!$B$5=0,0,IF(ISNA(VLOOKUP($A176,'Last Race Results'!$A$5:$J$44,2,FALSE)),\"DNS\",VLOOKUP($A176,'Last Race Results'!$A$5:$J$44,2,FALSE)))","v":"DNS"},{"$f":"IF('Last Race Results'!$B$5=0,0,IF(ISNA(VLOOKUP($A176,'Last Race Results'!$A$5:$K$44,11,FALSE)),0,VLOOKUP($A176,'Last Race Results'!$A$5:$K$44,11,FALSE)))","v":0},null,null,null,null,null,null,null,null,null,null,null,null,null,null,null,null,null,null,{"$f":"IF('Last Race Results'!$B$5=0,0,IF(ISNA(VLOOKUP($A176,'Last Race Results'!$A$5:$J$44,2,FALSE)),\"DNS\",VLOOKUP($A176,'Last Race Results'!$A$5:$J$44,2,FALSE)))","v":"DNS"},{"$f":"IF('Last Race Results'!$B$5=0,0,IF(ISNA(VLOOKUP($A176,'Last Race Results'!$A$5:$J$44,11,FALSE)),0,VLOOKUP($A176,'Last Race Results'!$A$5:$J$44,11,FALSE)))","v":0}]
[160,{"$f":"IF(ISNA(VLOOKUP($A177,'Entry List'!$A$1:$F$61,B$5,FALSE)),\"\",VLOOKUP($A177,'Entry List'!$A$1:$F$61,B$5,FALSE))","v":""},{"$f":"IF(ISNA(VLOOKUP($A177,'Entry List'!$A$1:$F$61,C$5,FALSE)),\"\",VLOOKUP($A177,'Entry List'!$A$1:$F$61,C$5,FALSE))","v":""},{"$f":"IF(ISNA(VLOOKUP($A177,'Entry List'!$A$1:$F$61,D$5,FALSE)),\"\",VLOOKUP($A177,'Entry List'!$A$1:$F$61,D$5,FALSE))","v":""},{"$f":"IF(ISNA(VLOOKUP($A177,'Entry List'!$A$1:$F$61,E$5,FALSE)),\"\",VLOOKUP($A177,'Entry List'!$A$1:$F$61,E$5,FALSE))","v":""},null,"DNS",0,"DNS",0,"DNS",0,"DNS",0,"DNS",0,"DNS",0,"DNS",0,"DNS",0,"DNS",0,"DNS",0,"DNS",0,"DNS",0,"DNS",0,"DNS",0,"DNS",0,"DNS",0,"DNS",0,"DNS",0,"DNS",0,"DNS",0,"DNS",0,"DNS",0,"DNS",0,"DNS",0,"DNS",0,{"$f":"IF('Last Race Results'!$B$5=0,0,IF(ISNA(VLOOKUP($A177,'Last Race Results'!$A$5:$J$44,2,FALSE)),\"DNS\",VLOOKUP($A177,'Last Race Results'!$A$5:$J$44,2,FALSE)))","v":"DNS"},{"$f":"IF('Last Race Results'!$B$5=0,0,IF(ISNA(VLOOKUP($A177,'Last Race Results'!$A$5:$K$44,11,FALSE)),0,VLOOKUP($A177,'Last Race Results'!$A$5:$K$44,11,FALSE)))","v":0},null,null,null,null,null,null,null,null,null,null,null,null,null,null,null,null,null,null,{"$f":"IF('Last Race Results'!$B$5=0,0,IF(ISNA(VLOOKUP($A177,'Last Race Results'!$A$5:$J$44,2,FALSE)),\"DNS\",VLOOKUP($A177,'Last Race Results'!$A$5:$J$44,2,FALSE)))","v":"DNS"},{"$f":"IF('Last Race Results'!$B$5=0,0,IF(ISNA(VLOOKUP($A177,'Last Race Results'!$A$5:$J$44,11,FALSE)),0,VLOOKUP($A177,'Last Race Results'!$A$5:$J$44,11,FALSE)))","v":0}]
[161,{"$f":"IF(ISNA(VLOOKUP($A178,'Entry List'!$A$1:$F$61,B$5,FALSE)),\"\",VLOOKUP($A178,'Entry List'!$A$1:$F$61,B$5,FALSE))","v":""},{"$f":"IF(ISNA(VLOOKUP($A178,'Entry List'!$A$1:$F$61,C$5,FALSE)),\"\",VLOOKUP($A178,'Entry List'!$A$1:$F$61,C$5,FALSE))","v":""},{"$f":"IF(ISNA(VLOOKUP($A178,'Entry List'!$A$1:$F$61,D$5,FALSE)),\"\",VLOOKUP($A178,'Entry List'!$A$1:$F$61,D$5,FALSE))","v":""},{"$f":"IF(ISNA(VLOOKUP($A178,'Entry List'!$A$1:$F$61,E$5,FALSE)),\"\",VLOOKUP($A178,'Entry List'!$A$1:$F$61,E$5,FALSE))","v":""},null,"DNS",0,"DNS",0,"DNS",0,"DNS",0,"DNS",0,"DNS",0,"DNS",0,"DNS",0,"DNS",0,"DNS",0,"DNS",0,"DNS",0,"DNS",0,"DNS",0,"DNS",0,"DNS",0,"DNS",0,"DNS",0,"DNS",0,"DNS",0,"DNS",0,"DNS",0,"DNS",0,"DNS",0,"DNS",0,{"$f":"IF('Last Race Results'!$B$5=0,0,IF(ISNA(VLOOKUP($A178,'Last Race Results'!$A$5:$J$44,2,FALSE)),\"DNS\",VLOOKUP($A178,'Last Race Results'!$A$5:$J$44,2,FALSE)))","v":"DNS"},{"$f":"IF('Last Race Results'!$B$5=0,0,IF(ISNA(VLOOKUP($A178,'Last Race Results'!$A$5:$K$44,11,FALSE)),0,VLOOKUP($A178,'Last Race Results'!$A$5:$K$44,11,FALSE)))","v":0},null,null,null,null,null,null,null,null,null,null,null,null,null,null,null,null,null,null,{"$f":"IF('Last Race Results'!$B$5=0,0,IF(ISNA(VLOOKUP($A178,'Last Race Results'!$A$5:$J$44,2,FALSE)),\"DNS\",VLOOKUP($A178,'Last Race Results'!$A$5:$J$44,2,FALSE)))","v":"DNS"},{"$f":"IF('Last Race Results'!$B$5=0,0,IF(ISNA(VLOOKUP($A178,'Last Race Results'!$A$5:$J$44,11,FALSE)),0,VLOOKUP($A178,'Last Race Results'!$A$5:$J$44,11,FALSE)))","v":0}]
[162,{"$f":"IF(ISNA(VLOOKUP($A179,'Entry List'!$A$1:$F$61,B$5,FALSE)),\"\",VLOOKUP($A179,'Entry List'!$A$1:$F$61,B$5,FALSE))","v":""},{"$f":"IF(ISNA(VLOOKUP($A179,'Entry List'!$A$1:$F$61,C$5,FALSE)),\"\",VLOOKUP($A179,'Entry List'!$A$1:$F$61,C$5,FALSE))","v":""},{"$f":"IF(ISNA(VLOOKUP($A179,'Entry List'!$A$1:$F$61,D$5,FALSE)),\"\",VLOOKUP($A179,'Entry List'!$A$1:$F$61,D$5,FALSE))","v":""},{"$f":"IF(ISNA(VLOOKUP($A179,'Entry List'!$A$1:$F$61,E$5,FALSE)),\"\",VLOOKUP($A179,'Entry List'!$A$1:$F$61,E$5,FALSE))","v":""},null,"DNS",0,"DNS",0,"DNS",0,"DNS",0,"DNS",0,"DNS",0,"DNS",0,"DNS",0,"DNS",0,"DNS",0,"DNS",0,"DNS",0,"DNS",0,"DNS",0,"DNS",0,"DNS",0,"DNS",0,"DNS",0,"DNS",0,"DNS",0,"DNS",0,"DNS",0,"DNS",0,"DNS",0,"DNS",0,{"$f":"IF('Last Race Results'!$B$5=0,0,IF(ISNA(VLOOKUP($A179,'Last Race Results'!$A$5:$J$44,2,FALSE)),\"DNS\",VLOOKUP($A179,'Last Race Results'!$A$5:$J$44,2,FALSE)))","v":"DNS"},{"$f":"IF('Last Race Results'!$B$5=0,0,IF(ISNA(VLOOKUP($A179,'Last Race Results'!$A$5:$K$44,11,FALSE)),0,VLOOKUP($A179,'Last Race Results'!$A$5:$K$44,11,FALSE)))","v":0},null,null,null,null,null,null,null,null,null,null,null,null,null,null,null,null,null,null,{"$f":"IF('Last Race Results'!$B$5=0,0,IF(ISNA(VLOOKUP($A179,'Last Race Results'!$A$5:$J$44,2,FALSE)),\"DNS\",VLOOKUP($A179,'Last Race Results'!$A$5:$J$44,2,FALSE)))","v":"DNS"},{"$f":"IF('Last Race Results'!$B$5=0,0,IF(ISNA(VLOOKUP($A179,'Last Race Results'!$A$5:$J$44,11,FALSE)),0,VLOOKUP($A179,'Last Race Results'!$A$5:$J$44,11,FALSE)))","v":0}]
[163,{"$f":"IF(ISNA(VLOOKUP($A180,'Entry List'!$A$1:$F$61,B$5,FALSE)),\"\",VLOOKUP($A180,'Entry List'!$A$1:$F$61,B$5,FALSE))","v":""},{"$f":"IF(ISNA(VLOOKUP($A180,'Entry List'!$A$1:$F$61,C$5,FALSE)),\"\",VLOOKUP($A180,'Entry List'!$A$1:$F$61,C$5,FALSE))","v":""},{"$f":"IF(ISNA(VLOOKUP($A180,'Entry List'!$A$1:$F$61,D$5,FALSE)),\"\",VLOOKUP($A180,'Entry List'!$A$1:$F$61,D$5,FALSE))","v":""},{"$f":"IF(ISNA(VLOOKUP($A180,'Entry List'!$A$1:$F$61,E$5,FALSE)),\"\",VLOOKUP($A180,'Entry List'!$A$1:$F$61,E$5,FALSE))","v":""},null,"DNS",0,"DNS",0,"DNS",0,"DNS",0,"DNS",0,"DNS",0,"DNS",0,"DNS",0,"DNS",0,"DNS",0,"DNS",0,"DNS",0,"DNS",0,"DNS",0,"DNS",0,"DNS",0,"DNS",0,"DNS",0,"DNS",0,"DNS",0,"DNS",0,"DNS",0,"DNS",0,"DNS",0,"DNS",0,{"$f":"IF('Last Race Results'!$B$5=0,0,IF(ISNA(VLOOKUP($A180,'Last Race Results'!$A$5:$J$44,2,FALSE)),\"DNS\",VLOOKUP($A180,'Last Race Results'!$A$5:$J$44,2,FALSE)))","v":"DNS"},{"$f":"IF('Last Race Results'!$B$5=0,0,IF(ISNA(VLOOKUP($A180,'Last Race Results'!$A$5:$K$44,11,FALSE)),0,VLOOKUP($A180,'Last Race Results'!$A$5:$K$44,11,FALSE)))","v":0},null,null,null,null,null,null,null,null,null,null,null,null,null,null,null,null,null,null,{"$f":"IF('Last Race Results'!$B$5=0,0,IF(ISNA(VLOOKUP($A180,'Last Race Results'!$A$5:$J$44,2,FALSE)),\"DNS\",VLOOKUP($A180,'Last Race Results'!$A$5:$J$44,2,FALSE)))","v":"DNS"},{"$f":"IF('Last Race Results'!$B$5=0,0,IF(ISNA(VLOOKUP($A180,'Last Race Results'!$A$5:$J$44,11,FALSE)),0,VLOOKUP($A180,'Last Race Results'!$A$5:$J$44,11,FALSE)))","v":0}]
[164,{"$f":"IF(ISNA(VLOOKUP($A181,'Entry List'!$A$1:$F$61,B$5,FALSE)),\"\",VLOOKUP($A181,'Entry List'!$A$1:$F$61,B$5,FALSE))","v":""},{"$f":"IF(ISNA(VLOOKUP($A181,'Entry List'!$A$1:$F$61,C$5,FALSE)),\"\",VLOOKUP($A181,'Entry List'!$A$1:$F$61,C$5,FALSE))","v":""},{"$f":"IF(ISNA(VLOOKUP($A181,'Entry List'!$A$1:$F$61,D$5,FALSE)),\"\",VLOOKUP($A181,'Entry List'!$A$1:$F$61,D$5,FALSE))","v":""},{"$f":"IF(ISNA(VLOOKUP($A181,'Entry List'!$A$1:$F$61,E$5,FALSE)),\"\",VLOOKUP($A181,'Entry List'!$A$1:$F$61,E$5,FALSE))","v":""},null,"DNS",0,"DNS",0,"DNS",0,"DNS",0,"DNS",0,"DNS",0,"DNS",0,"DNS",0,"DNS",0,"DNS",0,"DNS",0,"DNS",0,"DNS",0,"DNS",0,"DNS",0,"DNS",0,"DNS",0,"DNS",0,"DNS",0,"DNS",0,"DNS",0,"DNS",0,"DNS",0,"DNS",0,"DNS",0,{"$f":"IF('Last Race Results'!$B$5=0,0,IF(ISNA(VLOOKUP($A181,'Last Race Results'!$A$5:$J$44,2,FALSE)),\"DNS\",VLOOKUP($A181,'Last Race Results'!$A$5:$J$44,2,FALSE)))","v":"DNS"},{"$f":"IF('Last Race Results'!$B$5=0,0,IF(ISNA(VLOOKUP($A181,'Last Race Results'!$A$5:$K$44,11,FALSE)),0,VLOOKUP($A181,'Last Race Results'!$A$5:$K$44,11,FALSE)))","v":0},null,null,null,null,null,null,null,null,null,null,null,null,null,null,null,null,null,null,{"$f":"IF('Last Race Results'!$B$5=0,0,IF(ISNA(VLOOKUP($A181,'Last Race Results'!$A$5:$J$44,2,FALSE)),\"DNS\",VLOOKUP($A181,'Last Race Results'!$A$5:$J$44,2,FALSE)))","v":"DNS"},{"$f":"IF('Last Race Results'!$B$5=0,0,IF(ISNA(VLOOKUP($A181,'Last Race Results'!$A$5:$J$44,11,FALSE)),0,VLOOKUP($A181,'Last Race Results'!$A$5:$J$44,11,FALSE)))","v":0}]
[165,{"$f":"IF(ISNA(VLOOKUP($A182,'Entry List'!$A$1:$F$61,B$5,FALSE)),\"\",VLOOKUP($A182,'Entry List'!$A$1:$F$61,B$5,FALSE))","v":""},{"$f":"IF(ISNA(VLOOKUP($A182,'Entry List'!$A$1:$F$61,C$5,FALSE)),\"\",VLOOKUP($A182,'Entry List'!$A$1:$F$61,C$5,FALSE))","v":""},{"$f":"IF(ISNA(VLOOKUP($A182,'Entry List'!$A$1:$F$61,D$5,FALSE)),\"\",VLOOKUP($A182,'Entry List'!$A$1:$F$61,D$5,FALSE))","v":""},{"$f":"IF(ISNA(VLOOKUP($A182,'Entry List'!$A$1:$F$61,E$5,FALSE)),\"\",VLOOKUP($A182,'Entry List'!$A$1:$F$61,E$5,FALSE))","v":""},null,"DNS",0,"DNS",0,"DNS",0,"DNS",0,"DNS",0,"DNS",0,"DNS",0,"DNS",0,"DNS",0,"DNS",0,"DNS",0,"DNS",0,"DNS",0,"DNS",0,"DNS",0,"DNS",0,"DNS",0,"DNS",0,"DNS",0,"DNS",0,"DNS",0,"DNS",0,"DNS",0,"DNS",0,"DNS",0,{"$f":"IF('Last Race Results'!$B$5=0,0,IF(ISNA(VLOOKUP($A182,'Last Race Results'!$A$5:$J$44,2,FALSE)),\"DNS\",VLOOKUP($A182,'Last Race Results'!$A$5:$J$44,2,FALSE)))","v":"DNS"},{"$f":"IF('Last Race Results'!$B$5=0,0,IF(ISNA(VLOOKUP($A182,'Last Race Results'!$A$5:$K$44,11,FALSE)),0,VLOOKUP($A182,'Last Race Results'!$A$5:$K$44,11,FALSE)))","v":0},null,null,null,null,null,null,null,null,null,null,null,null,null,null,null,null,null,null,{"$f":"IF('Last Race Results'!$B$5=0,0,IF(ISNA(VLOOKUP($A182,'Last Race Results'!$A$5:$J$44,2,FALSE)),\"DNS\",VLOOKUP($A182,'Last Race Results'!$A$5:$J$44,2,FALSE)))","v":"DNS"},{"$f":"IF('Last Race Results'!$B$5=0,0,IF(ISNA(VLOOKUP($A182,'Last Race Results'!$A$5:$J$44,11,FALSE)),0,VLOOKUP($A182,'Last Race Results'!$A$5:$J$44,11,FALSE)))","v":0}]
[166,{"$f":"IF(ISNA(VLOOKUP($A183,'Entry List'!$A$1:$F$61,B$5,FALSE)),\"\",VLOOKUP($A183,'Entry List'!$A$1:$F$61,B$5,FALSE))","v":""},{"$f":"IF(ISNA(VLOOKUP($A183,'Entry List'!$A$1:$F$61,C$5,FALSE)),\"\",VLOOKUP($A183,'Entry List'!$A$1:$F$61,C$5,FALSE))","v":""},{"$f":"IF(ISNA(VLOOKUP($A183,'Entry List'!$A$1:$F$61,D$5,FALSE)),\"\",VLOOKUP($A183,'Entry List'!$A$1:$F$61,D$5,FALSE))","v":""},{"$f":"IF(ISNA(VLOOKUP($A183,'Entry List'!$A$1:$F$61,E$5,FALSE)),\"\",VLOOKUP($A183,'Entry List'!$A$1:$F$61,E$5,FALSE))","v":""},null,"DNS",0,"DNS",0,"DNS",0,"DNS",0,"DNS",0,"DNS",0,"DNS",0,"DNS",0,"DNS",0,"DNS",0,"DNS",0,"DNS",0,"DNS",0,"DNS",0,"DNS",0,"DNS",0,"DNS",0,"DNS",0,"DNS",0,"DNS",0,"DNS",0,"DNS",0,"DNS",0,"DNS",0,"DNS",0,{"$f":"IF('Last Race Results'!$B$5=0,0,IF(ISNA(VLOOKUP($A183,'Last Race Results'!$A$5:$J$44,2,FALSE)),\"DNS\",VLOOKUP($A183,'Last Race Results'!$A$5:$J$44,2,FALSE)))","v":"DNS"},{"$f":"IF('Last Race Results'!$B$5=0,0,IF(ISNA(VLOOKUP($A183,'Last Race Results'!$A$5:$K$44,11,FALSE)),0,VLOOKUP($A183,'Last Race Results'!$A$5:$K$44,11,FALSE)))","v":0},null,null,null,null,null,null,null,null,null,null,null,null,null,null,null,null,null,null,{"$f":"IF('Last Race Results'!$B$5=0,0,IF(ISNA(VLOOKUP($A183,'Last Race Results'!$A$5:$J$44,2,FALSE)),\"DNS\",VLOOKUP($A183,'Last Race Results'!$A$5:$J$44,2,FALSE)))","v":"DNS"},{"$f":"IF('Last Race Results'!$B$5=0,0,IF(ISNA(VLOOKUP($A183,'Last Race Results'!$A$5:$J$44,11,FALSE)),0,VLOOKUP($A183,'Last Race Results'!$A$5:$J$44,11,FALSE)))","v":0}]
[167,{"$f":"IF(ISNA(VLOOKUP($A184,'Entry List'!$A$1:$F$61,B$5,FALSE)),\"\",VLOOKUP($A184,'Entry List'!$A$1:$F$61,B$5,FALSE))","v":""},{"$f":"IF(ISNA(VLOOKUP($A184,'Entry List'!$A$1:$F$61,C$5,FALSE)),\"\",VLOOKUP($A184,'Entry List'!$A$1:$F$61,C$5,FALSE))","v":""},{"$f":"IF(ISNA(VLOOKUP($A184,'Entry List'!$A$1:$F$61,D$5,FALSE)),\"\",VLOOKUP($A184,'Entry List'!$A$1:$F$61,D$5,FALSE))","v":""},{"$f":"IF(ISNA(VLOOKUP($A184,'Entry List'!$A$1:$F$61,E$5,FALSE)),\"\",VLOOKUP($A184,'Entry List'!$A$1:$F$61,E$5,FALSE))","v":""},null,"DNS",0,"DNS",0,"DNS",0,"DNS",0,"DNS",0,"DNS",0,"DNS",0,"DNS",0,"DNS",0,"DNS",0,"DNS",0,"DNS",0,"DNS",0,"DNS",0,"DNS",0,"DNS",0,"DNS",0,"DNS",0,"DNS",0,"DNS",0,"DNS",0,"DNS",0,"DNS",0,"DNS",0,"DNS",0,{"$f":"IF('Last Race Results'!$B$5=0,0,IF(ISNA(VLOOKUP($A184,'Last Race Results'!$A$5:$J$44,2,FALSE)),\"DNS\",VLOOKUP($A184,'Last Race Results'!$A$5:$J$44,2,FALSE)))","v":"DNS"},{"$f":"IF('Last Race Results'!$B$5=0,0,IF(ISNA(VLOOKUP($A184,'Last Race Results'!$A$5:$K$44,11,FALSE)),0,VLOOKUP($A184,'Last Race Results'!$A$5:$K$44,11,FALSE)))","v":0},null,null,null,null,null,null,null,null,null,null,null,null,null,null,null,null,null,null,{"$f":"IF('Last Race Results'!$B$5=0,0,IF(ISNA(VLOOKUP($A184,'Last Race Results'!$A$5:$J$44,2,FALSE)),\"DNS\",VLOOKUP($A184,'Last Race Results'!$A$5:$J$44,2,FALSE)))","v":"DNS"},{"$f":"IF('Last Race Results'!$B$5=0,0,IF(ISNA(VLOOKUP($A184,'Last Race Results'!$A$5:$J$44,11,FALSE)),0,VLOOKUP($A184,'Last Race Results'!$A$5:$J$44,11,FALSE)))","v":0}]
[168,{"$f":"IF(ISNA(VLOOKUP($A185,'Entry List'!$A$1:$F$61,B$5,FALSE)),\"\",VLOOKUP($A185,'Entry List'!$A$1:$F$61,B$5,FALSE))","v":""},{"$f":"IF(ISNA(VLOOKUP($A185,'Entry List'!$A$1:$F$61,C$5,FALSE)),\"\",VLOOKUP($A185,'Entry List'!$A$1:$F$61,C$5,FALSE))","v":""},{"$f":"IF(ISNA(VLOOKUP($A185,'Entry List'!$A$1:$F$61,D$5,FALSE)),\"\",VLOOKUP($A185,'Entry List'!$A$1:$F$61,D$5,FALSE))","v":""},{"$f":"IF(ISNA(VLOOKUP($A185,'Entry List'!$A$1:$F$61,E$5,FALSE)),\"\",VLOOKUP($A185,'Entry List'!$A$1:$F$61,E$5,FALSE))","v":""},null,"DNS",0,"DNS",0,"DNS",0,"DNS",0,"DNS",0,"DNS",0,"DNS",0,"DNS",0,"DNS",0,"DNS",0,"DNS",0,"DNS",0,"DNS",0,"DNS",0,"DNS",0,"DNS",0,"DNS",0,"DNS",0,"DNS",0,"DNS",0,"DNS",0,"DNS",0,"DNS",0,"DNS",0,"DNS",0,{"$f":"IF('Last Race Results'!$B$5=0,0,IF(ISNA(VLOOKUP($A185,'Last Race Results'!$A$5:$J$44,2,FALSE)),\"DNS\",VLOOKUP($A185,'Last Race Results'!$A$5:$J$44,2,FALSE)))","v":"DNS"},{"$f":"IF('Last Race Results'!$B$5=0,0,IF(ISNA(VLOOKUP($A185,'Last Race Results'!$A$5:$K$44,11,FALSE)),0,VLOOKUP($A185,'Last Race Results'!$A$5:$K$44,11,FALSE)))","v":0},null,null,null,null,null,null,null,null,null,null,null,null,null,null,null,null,null,null,{"$f":"IF('Last Race Results'!$B$5=0,0,IF(ISNA(VLOOKUP($A185,'Last Race Results'!$A$5:$J$44,2,FALSE)),\"DNS\",VLOOKUP($A185,'Last Race Results'!$A$5:$J$44,2,FALSE)))","v":"DNS"},{"$f":"IF('Last Race Results'!$B$5=0,0,IF(ISNA(VLOOKUP($A185,'Last Race Results'!$A$5:$J$44,11,FALSE)),0,VLOOKUP($A185,'Last Race Results'!$A$5:$J$44,11,FALSE)))","v":0}]
[169,{"$f":"IF(ISNA(VLOOKUP($A186,'Entry List'!$A$1:$F$61,B$5,FALSE)),\"\",VLOOKUP($A186,'Entry List'!$A$1:$F$61,B$5,FALSE))","v":""},{"$f":"IF(ISNA(VLOOKUP($A186,'Entry List'!$A$1:$F$61,C$5,FALSE)),\"\",VLOOKUP($A186,'Entry List'!$A$1:$F$61,C$5,FALSE))","v":""},{"$f":"IF(ISNA(VLOOKUP($A186,'Entry List'!$A$1:$F$61,D$5,FALSE)),\"\",VLOOKUP($A186,'Entry List'!$A$1:$F$61,D$5,FALSE))","v":""},{"$f":"IF(ISNA(VLOOKUP($A186,'Entry List'!$A$1:$F$61,E$5,FALSE)),\"\",VLOOKUP($A186,'Entry List'!$A$1:$F$61,E$5,FALSE))","v":""},null,"DNS",0,"DNS",0,"DNS",0,"DNS",0,"DNS",0,"DNS",0,"DNS",0,"DNS",0,"DNS",0,"DNS",0,"DNS",0,"DNS",0,"DNS",0,"DNS",0,"DNS",0,"DNS",0,"DNS",0,"DNS",0,"DNS",0,"DNS",0,"DNS",0,"DNS",0,"DNS",0,"DNS",0,"DNS",0,{"$f":"IF('Last Race Results'!$B$5=0,0,IF(ISNA(VLOOKUP($A186,'Last Race Results'!$A$5:$J$44,2,FALSE)),\"DNS\",VLOOKUP($A186,'Last Race Results'!$A$5:$J$44,2,FALSE)))","v":"DNS"},{"$f":"IF('Last Race Results'!$B$5=0,0,IF(ISNA(VLOOKUP($A186,'Last Race Results'!$A$5:$K$44,11,FALSE)),0,VLOOKUP($A186,'Last Race Results'!$A$5:$K$44,11,FALSE)))","v":0},null,null,null,null,null,null,null,null,null,null,null,null,null,null,null,null,null,null,{"$f":"IF('Last Race Results'!$B$5=0,0,IF(ISNA(VLOOKUP($A186,'Last Race Results'!$A$5:$J$44,2,FALSE)),\"DNS\",VLOOKUP($A186,'Last Race Results'!$A$5:$J$44,2,FALSE)))","v":"DNS"},{"$f":"IF('Last Race Results'!$B$5=0,0,IF(ISNA(VLOOKUP($A186,'Last Race Results'!$A$5:$J$44,11,FALSE)),0,VLOOKUP($A186,'Last Race Results'!$A$5:$J$44,11,FALSE)))","v":0}]
[170,{"$f":"IF(ISNA(VLOOKUP($A187,'Entry List'!$A$1:$F$61,B$5,FALSE)),\"\",VLOOKUP($A187,'Entry List'!$A$1:$F$61,B$5,FALSE))","v":""},{"$f":"IF(ISNA(VLOOKUP($A187,'Entry List'!$A$1:$F$61,C$5,FALSE)),\"\",VLOOKUP($A187,'Entry List'!$A$1:$F$61,C$5,FALSE))","v":""},{"$f":"IF(ISNA(VLOOKUP($A187,'Entry List'!$A$1:$F$61,D$5,FALSE)),\"\",VLOOKUP($A187,'Entry List'!$A$1:$F$61,D$5,FALSE))","v":""},{"$f":"IF(ISNA(VLOOKUP($A187,'Entry List'!$A$1:$F$61,E$5,FALSE)),\"\",VLOOKUP($A187,'Entry List'!$A$1:$F$61,E$5,FALSE))","v":""},null,"DNS",0,"DNS",0,"DNS",0,"DNS",0,"DNS",0,"DNS",0,"DNS",0,"DNS",0,"DNS",0,"DNS",0,"DNS",0,"DNS",0,"DNS",0,"DNS",0,"DNS",0,"DNS",0,"DNS",0,"DNS",0,"DNS",0,"DNS",0,"DNS",0,"DNS",0,"DNS",0,"DNS",0,"DNS",0,{"$f":"IF('Last Race Results'!$B$5=0,0,IF(ISNA(VLOOKUP($A187,'Last Race Results'!$A$5:$J$44,2,FALSE)),\"DNS\",VLOOKUP($A187,'Last Race Results'!$A$5:$J$44,2,FALSE)))","v":"DNS"},{"$f":"IF('Last Race Results'!$B$5=0,0,IF(ISNA(VLOOKUP($A187,'Last Race Results'!$A$5:$K$44,11,FALSE)),0,VLOOKUP($A187,'Last Race Results'!$A$5:$K$44,11,FALSE)))","v":0},null,null,null,null,null,null,null,null,null,null,null,null,null,null,null,null,null,null,{"$f":"IF('Last Race Results'!$B$5=0,0,IF(ISNA(VLOOKUP($A187,'Last Race Results'!$A$5:$J$44,2,FALSE)),\"DNS\",VLOOKUP($A187,'Last Race Results'!$A$5:$J$44,2,FALSE)))","v":"DNS"},{"$f":"IF('Last Race Results'!$B$5=0,0,IF(ISNA(VLOOKUP($A187,'Last Race Results'!$A$5:$J$44,11,FALSE)),0,VLOOKUP($A187,'Last Race Results'!$A$5:$J$44,11,FALSE)))","v":0}]
[171,{"$f":"IF(ISNA(VLOOKUP($A188,'Entry List'!$A$1:$F$61,B$5,FALSE)),\"\",VLOOKUP($A188,'Entry List'!$A$1:$F$61,B$5,FALSE))","v":""},{"$f":"IF(ISNA(VLOOKUP($A188,'Entry List'!$A$1:$F$61,C$5,FALSE)),\"\",VLOOKUP($A188,'Entry List'!$A$1:$F$61,C$5,FALSE))","v":""},{"$f":"IF(ISNA(VLOOKUP($A188,'Entry List'!$A$1:$F$61,D$5,FALSE)),\"\",VLOOKUP($A188,'Entry List'!$A$1:$F$61,D$5,FALSE))","v":""},{"$f":"IF(ISNA(VLOOKUP($A188,'Entry List'!$A$1:$F$61,E$5,FALSE)),\"\",VLOOKUP($A188,'Entry List'!$A$1:$F$61,E$5,FALSE))","v":""},null,"DNS",0,"DNS",0,"DNS",0,"DNS",0,"DNS",0,"DNS",0,"DNS",0,"DNS",0,"DNS",0,"DNS",0,"DNS",0,"DNS",0,"DNS",0,"DNS",0,"DNS",0,"DNS",0,"DNS",0,"DNS",0,"DNS",0,"DNS",0,"DNS",0,"DNS",0,"DNS",0,"DNS",0,"DNS",0,{"$f":"IF('Last Race Results'!$B$5=0,0,IF(ISNA(VLOOKUP($A188,'Last Race Results'!$A$5:$J$44,2,FALSE)),\"DNS\",VLOOKUP($A188,'Last Race Results'!$A$5:$J$44,2,FALSE)))","v":"DNS"},{"$f":"IF('Last Race Results'!$B$5=0,0,IF(ISNA(VLOOKUP($A188,'Last Race Results'!$A$5:$K$44,11,FALSE)),0,VLOOKUP($A188,'Last Race Results'!$A$5:$K$44,11,FALSE)))","v":0},null,null,null,null,null,null,null,null,null,null,null,null,null,null,null,null,null,null,{"$f":"IF('Last Race Results'!$B$5=0,0,IF(ISNA(VLOOKUP($A188,'Last Race Results'!$A$5:$J$44,2,FALSE)),\"DNS\",VLOOKUP($A188,'Last Race Results'!$A$5:$J$44,2,FALSE)))","v":"DNS"},{"$f":"IF('Last Race Results'!$B$5=0,0,IF(ISNA(VLOOKUP($A188,'Last Race Results'!$A$5:$J$44,11,FALSE)),0,VLOOKUP($A188,'Last Race Results'!$A$5:$J$44,11,FALSE)))","v":0}]
[172,{"$f":"IF(ISNA(VLOOKUP($A189,'Entry List'!$A$1:$F$61,B$5,FALSE)),\"\",VLOOKUP($A189,'Entry List'!$A$1:$F$61,B$5,FALSE))","v":""},{"$f":"IF(ISNA(VLOOKUP($A189,'Entry List'!$A$1:$F$61,C$5,FALSE)),\"\",VLOOKUP($A189,'Entry List'!$A$1:$F$61,C$5,FALSE))","v":""},{"$f":"IF(ISNA(VLOOKUP($A189,'Entry List'!$A$1:$F$61,D$5,FALSE)),\"\",VLOOKUP($A189,'Entry List'!$A$1:$F$61,D$5,FALSE))","v":""},{"$f":"IF(ISNA(VLOOKUP($A189,'Entry List'!$A$1:$F$61,E$5,FALSE)),\"\",VLOOKUP($A189,'Entry List'!$A$1:$F$61,E$5,FALSE))","v":""},null,"DNS",0,"DNS",0,"DNS",0,"DNS",0,"DNS",0,"DNS",0,"DNS",0,"DNS",0,"DNS",0,"DNS",0,"DNS",0,"DNS",0,"DNS",0,"DNS",0,"DNS",0,"DNS",0,"DNS",0,"DNS",0,"DNS",0,"DNS",0,"DNS",0,"DNS",0,"DNS",0,"DNS",0,"DNS",0,{"$f":"IF('Last Race Results'!$B$5=0,0,IF(ISNA(VLOOKUP($A189,'Last Race Results'!$A$5:$J$44,2,FALSE)),\"DNS\",VLOOKUP($A189,'Last Race Results'!$A$5:$J$44,2,FALSE)))","v":"DNS"},{"$f":"IF('Last Race Results'!$B$5=0,0,IF(ISNA(VLOOKUP($A189,'Last Race Results'!$A$5:$K$44,11,FALSE)),0,VLOOKUP($A189,'Last Race Results'!$A$5:$K$44,11,FALSE)))","v":0},null,null,null,null,null,null,null,null,null,null,null,null,null,null,null,null,null,null,{"$f":"IF('Last Race Results'!$B$5=0,0,IF(ISNA(VLOOKUP($A189,'Last Race Results'!$A$5:$J$44,2,FALSE)),\"DNS\",VLOOKUP($A189,'Last Race Results'!$A$5:$J$44,2,FALSE)))","v":"DNS"},{"$f":"IF('Last Race Results'!$B$5=0,0,IF(ISNA(VLOOKUP($A189,'Last Race Results'!$A$5:$J$44,11,FALSE)),0,VLOOKUP($A189,'Last Race Results'!$A$5:$J$44,11,FALSE)))","v":0}]
[173,{"$f":"IF(ISNA(VLOOKUP($A190,'Entry List'!$A$1:$F$61,B$5,FALSE)),\"\",VLOOKUP($A190,'Entry List'!$A$1:$F$61,B$5,FALSE))","v":""},{"$f":"IF(ISNA(VLOOKUP($A190,'Entry List'!$A$1:$F$61,C$5,FALSE)),\"\",VLOOKUP($A190,'Entry List'!$A$1:$F$61,C$5,FALSE))","v":""},{"$f":"IF(ISNA(VLOOKUP($A190,'Entry List'!$A$1:$F$61,D$5,FALSE)),\"\",VLOOKUP($A190,'Entry List'!$A$1:$F$61,D$5,FALSE))","v":""},{"$f":"IF(ISNA(VLOOKUP($A190,'Entry List'!$A$1:$F$61,E$5,FALSE)),\"\",VLOOKUP($A190,'Entry List'!$A$1:$F$61,E$5,FALSE))","v":""},null,"DNS",0,"DNS",0,"DNS",0,"DNS",0,"DNS",0,"DNS",0,"DNS",0,"DNS",0,"DNS",0,"DNS",0,"DNS",0,"DNS",0,"DNS",0,"DNS",0,"DNS",0,"DNS",0,"DNS",0,"DNS",0,"DNS",0,"DNS",0,"DNS",0,"DNS",0,"DNS",0,"DNS",0,"DNS",0,{"$f":"IF('Last Race Results'!$B$5=0,0,IF(ISNA(VLOOKUP($A190,'Last Race Results'!$A$5:$J$44,2,FALSE)),\"DNS\",VLOOKUP($A190,'Last Race Results'!$A$5:$J$44,2,FALSE)))","v":"DNS"},{"$f":"IF('Last Race Results'!$B$5=0,0,IF(ISNA(VLOOKUP($A190,'Last Race Results'!$A$5:$K$44,11,FALSE)),0,VLOOKUP($A190,'Last Race Results'!$A$5:$K$44,11,FALSE)))","v":0},null,null,null,null,null,null,null,null,null,null,null,null,null,null,null,null,null,null,{"$f":"IF('Last Race Results'!$B$5=0,0,IF(ISNA(VLOOKUP($A190,'Last Race Results'!$A$5:$J$44,2,FALSE)),\"DNS\",VLOOKUP($A190,'Last Race Results'!$A$5:$J$44,2,FALSE)))","v":"DNS"},{"$f":"IF('Last Race Results'!$B$5=0,0,IF(ISNA(VLOOKUP($A190,'Last Race Results'!$A$5:$J$44,11,FALSE)),0,VLOOKUP($A190,'Last Race Results'!$A$5:$J$44,11,FALSE)))","v":0}]
[174,{"$f":"IF(ISNA(VLOOKUP($A191,'Entry List'!$A$1:$F$61,B$5,FALSE)),\"\",VLOOKUP($A191,'Entry List'!$A$1:$F$61,B$5,FALSE))","v":""},{"$f":"IF(ISNA(VLOOKUP($A191,'Entry List'!$A$1:$F$61,C$5,FALSE)),\"\",VLOOKUP($A191,'Entry List'!$A$1:$F$61,C$5,FALSE))","v":""},{"$f":"IF(ISNA(VLOOKUP($A191,'Entry List'!$A$1:$F$61,D$5,FALSE)),\"\",VLOOKUP($A191,'Entry List'!$A$1:$F$61,D$5,FALSE))","v":""},{"$f":"IF(ISNA(VLOOKUP($A191,'Entry List'!$A$1:$F$61,E$5,FALSE)),\"\",VLOOKUP($A191,'Entry List'!$A$1:$F$61,E$5,FALSE))","v":""},null,"DNS",0,"DNS",0,"DNS",0,"DNS",0,"DNS",0,"DNS",0,"DNS",0,"DNS",0,"DNS",0,"DNS",0,"DNS",0,"DNS",0,"DNS",0,"DNS",0,"DNS",0,"DNS",0,"DNS",0,"DNS",0,"DNS",0,"DNS",0,"DNS",0,"DNS",0,"DNS",0,"DNS",0,"DNS",0,{"$f":"IF('Last Race Results'!$B$5=0,0,IF(ISNA(VLOOKUP($A191,'Last Race Results'!$A$5:$J$44,2,FALSE)),\"DNS\",VLOOKUP($A191,'Last Race Results'!$A$5:$J$44,2,FALSE)))","v":"DNS"},{"$f":"IF('Last Race Results'!$B$5=0,0,IF(ISNA(VLOOKUP($A191,'Last Race Results'!$A$5:$K$44,11,FALSE)),0,VLOOKUP($A191,'Last Race Results'!$A$5:$K$44,11,FALSE)))","v":0},null,null,null,null,null,null,null,null,null,null,null,null,null,null,null,null,null,null,{"$f":"IF('Last Race Results'!$B$5=0,0,IF(ISNA(VLOOKUP($A191,'Last Race Results'!$A$5:$J$44,2,FALSE)),\"DNS\",VLOOKUP($A191,'Last Race Results'!$A$5:$J$44,2,FALSE)))","v":"DNS"},{"$f":"IF('Last Race Results'!$B$5=0,0,IF(ISNA(VLOOKUP($A191,'Last Race Results'!$A$5:$J$44,11,FALSE)),0,VLOOKUP($A191,'Last Race Results'!$A$5:$J$44,11,FALSE)))","v":0}]
[175,{"$f":"IF(ISNA(VLOOKUP($A192,'Entry List'!$A$1:$F$61,B$5,FALSE)),\"\",VLOOKUP($A192,'Entry List'!$A$1:$F$61,B$5,FALSE))","v":""},{"$f":"IF(ISNA(VLOOKUP($A192,'Entry List'!$A$1:$F$61,C$5,FALSE)),\"\",VLOOKUP($A192,'Entry List'!$A$1:$F$61,C$5,FALSE))","v":""},{"$f":"IF(ISNA(VLOOKUP($A192,'Entry List'!$A$1:$F$61,D$5,FALSE)),\"\",VLOOKUP($A192,'Entry List'!$A$1:$F$61,D$5,FALSE))","v":""},{"$f":"IF(ISNA(VLOOKUP($A192,'Entry List'!$A$1:$F$61,E$5,FALSE)),\"\",VLOOKUP($A192,'Entry List'!$A$1:$F$61,E$5,FALSE))","v":""},null,"DNS",0,"DNS",0,"DNS",0,"DNS",0,"DNS",0,"DNS",0,"DNS",0,"DNS",0,"DNS",0,"DNS",0,"DNS",0,"DNS",0,"DNS",0,"DNS",0,"DNS",0,"DNS",0,"DNS",0,"DNS",0,"DNS",0,"DNS",0,"DNS",0,"DNS",0,"DNS",0,"DNS",0,"DNS",0,{"$f":"IF('Last Race Results'!$B$5=0,0,IF(ISNA(VLOOKUP($A192,'Last Race Results'!$A$5:$J$44,2,FALSE)),\"DNS\",VLOOKUP($A192,'Last Race Results'!$A$5:$J$44,2,FALSE)))","v":"DNS"},{"$f":"IF('Last Race Results'!$B$5=0,0,IF(ISNA(VLOOKUP($A192,'Last Race Results'!$A$5:$K$44,11,FALSE)),0,VLOOKUP($A192,'Last Race Results'!$A$5:$K$44,11,FALSE)))","v":0},null,null,null,null,null,null,null,null,null,null,null,null,null,null,null,null,null,null,{"$f":"IF('Last Race Results'!$B$5=0,0,IF(ISNA(VLOOKUP($A192,'Last Race Results'!$A$5:$J$44,2,FALSE)),\"DNS\",VLOOKUP($A192,'Last Race Results'!$A$5:$J$44,2,FALSE)))","v":"DNS"},{"$f":"IF('Last Race Results'!$B$5=0,0,IF(ISNA(VLOOKUP($A192,'Last Race Results'!$A$5:$J$44,11,FALSE)),0,VLOOKUP($A192,'Last Race Results'!$A$5:$J$44,11,FALSE)))","v":0}]
[176,{"$f":"IF(ISNA(VLOOKUP($A193,'Entry List'!$A$1:$F$61,B$5,FALSE)),\"\",VLOOKUP($A193,'Entry List'!$A$1:$F$61,B$5,FALSE))","v":""},{"$f":"IF(ISNA(VLOOKUP($A193,'Entry List'!$A$1:$F$61,C$5,FALSE)),\"\",VLOOKUP($A193,'Entry List'!$A$1:$F$61,C$5,FALSE))","v":""},{"$f":"IF(ISNA(VLOOKUP($A193,'Entry List'!$A$1:$F$61,D$5,FALSE)),\"\",VLOOKUP($A193,'Entry List'!$A$1:$F$61,D$5,FALSE))","v":""},{"$f":"IF(ISNA(VLOOKUP($A193,'Entry List'!$A$1:$F$61,E$5,FALSE)),\"\",VLOOKUP($A193,'Entry List'!$A$1:$F$61,E$5,FALSE))","v":""},null,"DNS",0,"DNS",0,"DNS",0,"DNS",0,"DNS",0,"DNS",0,"DNS",0,"DNS",0,"DNS",0,"DNS",0,"DNS",0,"DNS",0,"DNS",0,"DNS",0,"DNS",0,"DNS",0,"DNS",0,"DNS",0,"DNS",0,"DNS",0,"DNS",0,"DNS",0,"DNS",0,"DNS",0,"DNS",0,{"$f":"IF('Last Race Results'!$B$5=0,0,IF(ISNA(VLOOKUP($A193,'Last Race Results'!$A$5:$J$44,2,FALSE)),\"DNS\",VLOOKUP($A193,'Last Race Results'!$A$5:$J$44,2,FALSE)))","v":"DNS"},{"$f":"IF('Last Race Results'!$B$5=0,0,IF(ISNA(VLOOKUP($A193,'Last Race Results'!$A$5:$K$44,11,FALSE)),0,VLOOKUP($A193,'Last Race Results'!$A$5:$K$44,11,FALSE)))","v":0},null,null,null,null,null,null,null,null,null,null,null,null,null,null,null,null,null,null,{"$f":"IF('Last Race Results'!$B$5=0,0,IF(ISNA(VLOOKUP($A193,'Last Race Results'!$A$5:$J$44,2,FALSE)),\"DNS\",VLOOKUP($A193,'Last Race Results'!$A$5:$J$44,2,FALSE)))","v":"DNS"},{"$f":"IF('Last Race Results'!$B$5=0,0,IF(ISNA(VLOOKUP($A193,'Last Race Results'!$A$5:$J$44,11,FALSE)),0,VLOOKUP($A193,'Last Race Results'!$A$5:$J$44,11,FALSE)))","v":0}]
[177,{"$f":"IF(ISNA(VLOOKUP($A194,'Entry List'!$A$1:$F$61,B$5,FALSE)),\"\",VLOOKUP($A194,'Entry List'!$A$1:$F$61,B$5,FALSE))","v":""},{"$f":"IF(ISNA(VLOOKUP($A194,'Entry List'!$A$1:$F$61,C$5,FALSE)),\"\",VLOOKUP($A194,'Entry List'!$A$1:$F$61,C$5,FALSE))","v":""},{"$f":"IF(ISNA(VLOOKUP($A194,'Entry List'!$A$1:$F$61,D$5,FALSE)),\"\",VLOOKUP($A194,'Entry List'!$A$1:$F$61,D$5,FALSE))","v":""},{"$f":"IF(ISNA(VLOOKUP($A194,'Entry List'!$A$1:$F$61,E$5,FALSE)),\"\",VLOOKUP($A194,'Entry List'!$A$1:$F$61,E$5,FALSE))","v":""},null,"DNS",0,"DNS",0,"DNS",0,"DNS",0,"DNS",0,"DNS",0,"DNS",0,"DNS",0,"DNS",0,"DNS",0,"DNS",0,"DNS",0,"DNS",0,"DNS",0,"DNS",0,"DNS",0,"DNS",0,"DNS",0,"DNS",0,"DNS",0,"DNS",0,"DNS",0,"DNS",0,"DNS",0,"DNS",0,{"$f":"IF('Last Race Results'!$B$5=0,0,IF(ISNA(VLOOKUP($A194,'Last Race Results'!$A$5:$J$44,2,FALSE)),\"DNS\",VLOOKUP($A194,'Last Race Results'!$A$5:$J$44,2,FALSE)))","v":"DNS"},{"$f":"IF('Last Race Results'!$B$5=0,0,IF(ISNA(VLOOKUP($A194,'Last Race Results'!$A$5:$K$44,11,FALSE)),0,VLOOKUP($A194,'Last Race Results'!$A$5:$K$44,11,FALSE)))","v":0},null,null,null,null,null,null,null,null,null,null,null,null,null,null,null,null,null,null,{"$f":"IF('Last Race Results'!$B$5=0,0,IF(ISNA(VLOOKUP($A194,'Last Race Results'!$A$5:$J$44,2,FALSE)),\"DNS\",VLOOKUP($A194,'Last Race Results'!$A$5:$J$44,2,FALSE)))","v":"DNS"},{"$f":"IF('Last Race Results'!$B$5=0,0,IF(ISNA(VLOOKUP($A194,'Last Race Results'!$A$5:$J$44,11,FALSE)),0,VLOOKUP($A194,'Last Race Results'!$A$5:$J$44,11,FALSE)))","v":0}]
[178,{"$f":"IF(ISNA(VLOOKUP($A195,'Entry List'!$A$1:$F$61,B$5,FALSE)),\"\",VLOOKUP($A195,'Entry List'!$A$1:$F$61,B$5,FALSE))","v":""},{"$f":"IF(ISNA(VLOOKUP($A195,'Entry List'!$A$1:$F$61,C$5,FALSE)),\"\",VLOOKUP($A195,'Entry List'!$A$1:$F$61,C$5,FALSE))","v":""},{"$f":"IF(ISNA(VLOOKUP($A195,'Entry List'!$A$1:$F$61,D$5,FALSE)),\"\",VLOOKUP($A195,'Entry List'!$A$1:$F$61,D$5,FALSE))","v":""},{"$f":"IF(ISNA(VLOOKUP($A195,'Entry List'!$A$1:$F$61,E$5,FALSE)),\"\",VLOOKUP($A195,'Entry List'!$A$1:$F$61,E$5,FALSE))","v":""},null,"DNS",0,"DNS",0,"DNS",0,"DNS",0,"DNS",0,"DNS",0,"DNS",0,"DNS",0,"DNS",0,"DNS",0,"DNS",0,"DNS",0,"DNS",0,"DNS",0,"DNS",0,"DNS",0,"DNS",0,"DNS",0,"DNS",0,"DNS",0,"DNS",0,"DNS",0,"DNS",0,"DNS",0,"DNS",0,{"$f":"IF('Last Race Results'!$B$5=0,0,IF(ISNA(VLOOKUP($A195,'Last Race Results'!$A$5:$J$44,2,FALSE)),\"DNS\",VLOOKUP($A195,'Last Race Results'!$A$5:$J$44,2,FALSE)))","v":"DNS"},{"$f":"IF('Last Race Results'!$B$5=0,0,IF(ISNA(VLOOKUP($A195,'Last Race Results'!$A$5:$K$44,11,FALSE)),0,VLOOKUP($A195,'Last Race Results'!$A$5:$K$44,11,FALSE)))","v":0},null,null,null,null,null,null,null,null,null,null,null,null,null,null,null,null,null,null,{"$f":"IF('Last Race Results'!$B$5=0,0,IF(ISNA(VLOOKUP($A195,'Last Race Results'!$A$5:$J$44,2,FALSE)),\"DNS\",VLOOKUP($A195,'Last Race Results'!$A$5:$J$44,2,FALSE)))","v":"DNS"},{"$f":"IF('Last Race Results'!$B$5=0,0,IF(ISNA(VLOOKUP($A195,'Last Race Results'!$A$5:$J$44,11,FALSE)),0,VLOOKUP($A195,'Last Race Results'!$A$5:$J$44,11,FALSE)))","v":0}]
[179,{"$f":"IF(ISNA(VLOOKUP($A196,'Entry List'!$A$1:$F$61,B$5,FALSE)),\"\",VLOOKUP($A196,'Entry List'!$A$1:$F$61,B$5,FALSE))","v":""},{"$f":"IF(ISNA(VLOOKUP($A196,'Entry List'!$A$1:$F$61,C$5,FALSE)),\"\",VLOOKUP($A196,'Entry List'!$A$1:$F$61,C$5,FALSE))","v":""},{"$f":"IF(ISNA(VLOOKUP($A196,'Entry List'!$A$1:$F$61,D$5,FALSE)),\"\",VLOOKUP($A196,'Entry List'!$A$1:$F$61,D$5,FALSE))","v":""},{"$f":"IF(ISNA(VLOOKUP($A196,'Entry List'!$A$1:$F$61,E$5,FALSE)),\"\",VLOOKUP($A196,'Entry List'!$A$1:$F$61,E$5,FALSE))","v":""},null,"DNS",0,"DNS",0,"DNS",0,"DNS",0,"DNS",0,"DNS",0,"DNS",0,"DNS",0,"DNS",0,"DNS",0,"DNS",0,"DNS",0,"DNS",0,"DNS",0,"DNS",0,"DNS",0,"DNS",0,"DNS",0,"DNS",0,"DNS",0,"DNS",0,"DNS",0,"DNS",0,"DNS",0,"DNS",0,{"$f":"IF('Last Race Results'!$B$5=0,0,IF(ISNA(VLOOKUP($A196,'Last Race Results'!$A$5:$J$44,2,FALSE)),\"DNS\",VLOOKUP($A196,'Last Race Results'!$A$5:$J$44,2,FALSE)))","v":"DNS"},{"$f":"IF('Last Race Results'!$B$5=0,0,IF(ISNA(VLOOKUP($A196,'Last Race Results'!$A$5:$K$44,11,FALSE)),0,VLOOKUP($A196,'Last Race Results'!$A$5:$K$44,11,FALSE)))","v":0},null,null,null,null,null,null,null,null,null,null,null,null,null,null,null,null,null,null,{"$f":"IF('Last Race Results'!$B$5=0,0,IF(ISNA(VLOOKUP($A196,'Last Race Results'!$A$5:$J$44,2,FALSE)),\"DNS\",VLOOKUP($A196,'Last Race Results'!$A$5:$J$44,2,FALSE)))","v":"DNS"},{"$f":"IF('Last Race Results'!$B$5=0,0,IF(ISNA(VLOOKUP($A196,'Last Race Results'!$A$5:$J$44,11,FALSE)),0,VLOOKUP($A196,'Last Race Results'!$A$5:$J$44,11,FALSE)))","v":0}]
[180,{"$f":"IF(ISNA(VLOOKUP($A197,'Entry List'!$A$1:$F$61,B$5,FALSE)),\"\",VLOOKUP($A197,'Entry List'!$A$1:$F$61,B$5,FALSE))","v":""},{"$f":"IF(ISNA(VLOOKUP($A197,'Entry List'!$A$1:$F$61,C$5,FALSE)),\"\",VLOOKUP($A197,'Entry List'!$A$1:$F$61,C$5,FALSE))","v":""},{"$f":"IF(ISNA(VLOOKUP($A197,'Entry List'!$A$1:$F$61,D$5,FALSE)),\"\",VLOOKUP($A197,'Entry List'!$A$1:$F$61,D$5,FALSE))","v":""},{"$f":"IF(ISNA(VLOOKUP($A197,'Entry List'!$A$1:$F$61,E$5,FALSE)),\"\",VLOOKUP($A197,'Entry List'!$A$1:$F$61,E$5,FALSE))","v":""},null,"DNS",0,"DNS",0,"DNS",0,"DNS",0,"DNS",0,"DNS",0,"DNS",0,"DNS",0,"DNS",0,"DNS",0,"DNS",0,"DNS",0,"DNS",0,"DNS",0,"DNS",0,"DNS",0,"DNS",0,"DNS",0,"DNS",0,"DNS",0,"DNS",0,"DNS",0,"DNS",0,"DNS",0,"DNS",0,{"$f":"IF('Last Race Results'!$B$5=0,0,IF(ISNA(VLOOKUP($A197,'Last Race Results'!$A$5:$J$44,2,FALSE)),\"DNS\",VLOOKUP($A197,'Last Race Results'!$A$5:$J$44,2,FALSE)))","v":"DNS"},{"$f":"IF('Last Race Results'!$B$5=0,0,IF(ISNA(VLOOKUP($A197,'Last Race Results'!$A$5:$K$44,11,FALSE)),0,VLOOKUP($A197,'Last Race Results'!$A$5:$K$44,11,FALSE)))","v":0},null,null,null,null,null,null,null,null,null,null,null,null,null,null,null,null,null,null,{"$f":"IF('Last Race Results'!$B$5=0,0,IF(ISNA(VLOOKUP($A197,'Last Race Results'!$A$5:$J$44,2,FALSE)),\"DNS\",VLOOKUP($A197,'Last Race Results'!$A$5:$J$44,2,FALSE)))","v":"DNS"},{"$f":"IF('Last Race Results'!$B$5=0,0,IF(ISNA(VLOOKUP($A197,'Last Race Results'!$A$5:$J$44,11,FALSE)),0,VLOOKUP($A197,'Last Race Results'!$A$5:$J$44,11,FALSE)))","v":0}]
[181,{"$f":"IF(ISNA(VLOOKUP($A198,'Entry List'!$A$1:$F$61,B$5,FALSE)),\"\",VLOOKUP($A198,'Entry List'!$A$1:$F$61,B$5,FALSE))","v":""},{"$f":"IF(ISNA(VLOOKUP($A198,'Entry List'!$A$1:$F$61,C$5,FALSE)),\"\",VLOOKUP($A198,'Entry List'!$A$1:$F$61,C$5,FALSE))","v":""},{"$f":"IF(ISNA(VLOOKUP($A198,'Entry List'!$A$1:$F$61,D$5,FALSE)),\"\",VLOOKUP($A198,'Entry List'!$A$1:$F$61,D$5,FALSE))","v":""},{"$f":"IF(ISNA(VLOOKUP($A198,'Entry List'!$A$1:$F$61,E$5,FALSE)),\"\",VLOOKUP($A198,'Entry List'!$A$1:$F$61,E$5,FALSE))","v":""},null,"DNS",0,"DNS",0,"DNS",0,"DNS",0,"DNS",0,"DNS",0,"DNS",0,"DNS",0,"DNS",0,"DNS",0,"DNS",0,"DNS",0,"DNS",0,"DNS",0,"DNS",0,"DNS",0,"DNS",0,"DNS",0,"DNS",0,"DNS",0,"DNS",0,"DNS",0,"DNS",0,"DNS",0,"DNS",0,{"$f":"IF('Last Race Results'!$B$5=0,0,IF(ISNA(VLOOKUP($A198,'Last Race Results'!$A$5:$J$44,2,FALSE)),\"DNS\",VLOOKUP($A198,'Last Race Results'!$A$5:$J$44,2,FALSE)))","v":"DNS"},{"$f":"IF('Last Race Results'!$B$5=0,0,IF(ISNA(VLOOKUP($A198,'Last Race Results'!$A$5:$K$44,11,FALSE)),0,VLOOKUP($A198,'Last Race Results'!$A$5:$K$44,11,FALSE)))","v":0},null,null,null,null,null,null,null,null,null,null,null,null,null,null,null,null,null,null,{"$f":"IF('Last Race Results'!$B$5=0,0,IF(ISNA(VLOOKUP($A198,'Last Race Results'!$A$5:$J$44,2,FALSE)),\"DNS\",VLOOKUP($A198,'Last Race Results'!$A$5:$J$44,2,FALSE)))","v":"DNS"},{"$f":"IF('Last Race Results'!$B$5=0,0,IF(ISNA(VLOOKUP($A198,'Last Race Results'!$A$5:$J$44,11,FALSE)),0,VLOOKUP($A198,'Last Race Results'!$A$5:$J$44,11,FALSE)))","v":0}]
[182,{"$f":"IF(ISNA(VLOOKUP($A199,'Entry List'!$A$1:$F$61,B$5,FALSE)),\"\",VLOOKUP($A199,'Entry List'!$A$1:$F$61,B$5,FALSE))","v":""},{"$f":"IF(ISNA(VLOOKUP($A199,'Entry List'!$A$1:$F$61,C$5,FALSE)),\"\",VLOOKUP($A199,'Entry List'!$A$1:$F$61,C$5,FALSE))","v":""},{"$f":"IF(ISNA(VLOOKUP($A199,'Entry List'!$A$1:$F$61,D$5,FALSE)),\"\",VLOOKUP($A199,'Entry List'!$A$1:$F$61,D$5,FALSE))","v":""},{"$f":"IF(ISNA(VLOOKUP($A199,'Entry List'!$A$1:$F$61,E$5,FALSE)),\"\",VLOOKUP($A199,'Entry List'!$A$1:$F$61,E$5,FALSE))","v":""},null,"DNS",0,"DNS",0,"DNS",0,"DNS",0,"DNS",0,"DNS",0,"DNS",0,"DNS",0,"DNS",0,"DNS",0,"DNS",0,"DNS",0,"DNS",0,"DNS",0,"DNS",0,"DNS",0,"DNS",0,"DNS",0,"DNS",0,"DNS",0,"DNS",0,"DNS",0,"DNS",0,"DNS",0,"DNS",0,{"$f":"IF('Last Race Results'!$B$5=0,0,IF(ISNA(VLOOKUP($A199,'Last Race Results'!$A$5:$J$44,2,FALSE)),\"DNS\",VLOOKUP($A199,'Last Race Results'!$A$5:$J$44,2,FALSE)))","v":"DNS"},{"$f":"IF('Last Race Results'!$B$5=0,0,IF(ISNA(VLOOKUP($A199,'Last Race Results'!$A$5:$K$44,11,FALSE)),0,VLOOKUP($A199,'Last Race Results'!$A$5:$K$44,11,FALSE)))","v":0},null,null,null,null,null,null,null,null,null,null,null,null,null,null,null,null,null,null,{"$f":"IF('Last Race Results'!$B$5=0,0,IF(ISNA(VLOOKUP($A199,'Last Race Results'!$A$5:$J$44,2,FALSE)),\"DNS\",VLOOKUP($A199,'Last Race Results'!$A$5:$J$44,2,FALSE)))","v":"DNS"},{"$f":"IF('Last Race Results'!$B$5=0,0,IF(ISNA(VLOOKUP($A199,'Last Race Results'!$A$5:$J$44,11,FALSE)),0,VLOOKUP($A199,'Last Race Results'!$A$5:$J$44,11,FALSE)))","v":0}]
[183,{"$f":"IF(ISNA(VLOOKUP($A200,'Entry List'!$A$1:$F$61,B$5,FALSE)),\"\",VLOOKUP($A200,'Entry List'!$A$1:$F$61,B$5,FALSE))","v":""},{"$f":"IF(ISNA(VLOOKUP($A200,'Entry List'!$A$1:$F$61,C$5,FALSE)),\"\",VLOOKUP($A200,'Entry List'!$A$1:$F$61,C$5,FALSE))","v":""},{"$f":"IF(ISNA(VLOOKUP($A200,'Entry List'!$A$1:$F$61,D$5,FALSE)),\"\",VLOOKUP($A200,'Entry List'!$A$1:$F$61,D$5,FALSE))","v":""},{"$f":"IF(ISNA(VLOOKUP($A200,'Entry List'!$A$1:$F$61,E$5,FALSE)),\"\",VLOOKUP($A200,'Entry List'!$A$1:$F$61,E$5,FALSE))","v":""},null,"DNS",0,"DNS",0,"DNS",0,"DNS",0,"DNS",0,"DNS",0,"DNS",0,"DNS",0,"DNS",0,"DNS",0,"DNS",0,"DNS",0,"DNS",0,"DNS",0,"DNS",0,"DNS",0,"DNS",0,"DNS",0,"DNS",0,"DNS",0,"DNS",0,"DNS",0,"DNS",0,"DNS",0,"DNS",0,{"$f":"IF('Last Race Results'!$B$5=0,0,IF(ISNA(VLOOKUP($A200,'Last Race Results'!$A$5:$J$44,2,FALSE)),\"DNS\",VLOOKUP($A200,'Last Race Results'!$A$5:$J$44,2,FALSE)))","v":"DNS"},{"$f":"IF('Last Race Results'!$B$5=0,0,IF(ISNA(VLOOKUP($A200,'Last Race Results'!$A$5:$K$44,11,FALSE)),0,VLOOKUP($A200,'Last Race Results'!$A$5:$K$44,11,FALSE)))","v":0},null,null,null,null,null,null,null,null,null,null,null,null,null,null,null,null,null,null,{"$f":"IF('Last Race Results'!$B$5=0,0,IF(ISNA(VLOOKUP($A200,'Last Race Results'!$A$5:$J$44,2,FALSE)),\"DNS\",VLOOKUP($A200,'Last Race Results'!$A$5:$J$44,2,FALSE)))","v":"DNS"},{"$f":"IF('Last Race Results'!$B$5=0,0,IF(ISNA(VLOOKUP($A200,'Last Race Results'!$A$5:$J$44,11,FALSE)),0,VLOOKUP($A200,'Last Race Results'!$A$5:$J$44,11,FALSE)))","v":0}]
[184,{"$f":"IF(ISNA(VLOOKUP($A201,'Entry List'!$A$1:$F$61,B$5,FALSE)),\"\",VLOOKUP($A201,'Entry List'!$A$1:$F$61,B$5,FALSE))","v":""},{"$f":"IF(ISNA(VLOOKUP($A201,'Entry List'!$A$1:$F$61,C$5,FALSE)),\"\",VLOOKUP($A201,'Entry List'!$A$1:$F$61,C$5,FALSE))","v":""},{"$f":"IF(ISNA(VLOOKUP($A201,'Entry List'!$A$1:$F$61,D$5,FALSE)),\"\",VLOOKUP($A201,'Entry List'!$A$1:$F$61,D$5,FALSE))","v":""},{"$f":"IF(ISNA(VLOOKUP($A201,'Entry List'!$A$1:$F$61,E$5,FALSE)),\"\",VLOOKUP($A201,'Entry List'!$A$1:$F$61,E$5,FALSE))","v":""},null,"DNS",0,"DNS",0,"DNS",0,"DNS",0,"DNS",0,"DNS",0,"DNS",0,"DNS",0,"DNS",0,"DNS",0,"DNS",0,"DNS",0,"DNS",0,"DNS",0,"DNS",0,"DNS",0,"DNS",0,"DNS",0,"DNS",0,"DNS",0,"DNS",0,"DNS",0,"DNS",0,"DNS",0,"DNS",0,{"$f":"IF('Last Race Results'!$B$5=0,0,IF(ISNA(VLOOKUP($A201,'Last Race Results'!$A$5:$J$44,2,FALSE)),\"DNS\",VLOOKUP($A201,'Last Race Results'!$A$5:$J$44,2,FALSE)))","v":"DNS"},{"$f":"IF('Last Race Results'!$B$5=0,0,IF(ISNA(VLOOKUP($A201,'Last Race Results'!$A$5:$K$44,11,FALSE)),0,VLOOKUP($A201,'Last Race Results'!$A$5:$K$44,11,FALSE)))","v":0},null,null,null,null,null,null,null,null,null,null,null,null,null,null,null,null,null,null,{"$f":"IF('Last Race Results'!$B$5=0,0,IF(ISNA(VLOOKUP($A201,'Last Race Results'!$A$5:$J$44,2,FALSE)),\"DNS\",VLOOKUP($A201,'Last Race Results'!$A$5:$J$44,2,FALSE)))","v":"DNS"},{"$f":"IF('Last Race Results'!$B$5=0,0,IF(ISNA(VLOOKUP($A201,'Last Race Results'!$A$5:$J$44,11,FALSE)),0,VLOOKUP($A201,'Last Race Results'!$A$5:$J$44,11,FALSE)))","v":0}]
[185,{"$f":"IF(ISNA(VLOOKUP($A202,'Entry List'!$A$1:$F$61,B$5,FALSE)),\"\",VLOOKUP($A202,'Entry List'!$A$1:$F$61,B$5,FALSE))","v":""},{"$f":"IF(ISNA(VLOOKUP($A202,'Entry List'!$A$1:$F$61,C$5,FALSE)),\"\",VLOOKUP($A202,'Entry List'!$A$1:$F$61,C$5,FALSE))","v":""},{"$f":"IF(ISNA(VLOOKUP($A202,'Entry List'!$A$1:$F$61,D$5,FALSE)),\"\",VLOOKUP($A202,'Entry List'!$A$1:$F$61,D$5,FALSE))","v":""},{"$f":"IF(ISNA(VLOOKUP($A202,'Entry List'!$A$1:$F$61,E$5,FALSE)),\"\",VLOOKUP($A202,'Entry List'!$A$1:$F$61,E$5,FALSE))","v":""},null,"DNS",0,"DNS",0,"DNS",0,"DNS",0,"DNS",0,"DNS",0,"DNS",0,"DNS",0,"DNS",0,"DNS",0,"DNS",0,"DNS",0,"DNS",0,"DNS",0,"DNS",0,"DNS",0,"DNS",0,"DNS",0,"DNS",0,"DNS",0,"DNS",0,"DNS",0,"DNS",0,"DNS",0,"DNS",0,{"$f":"IF('Last Race Results'!$B$5=0,0,IF(ISNA(VLOOKUP($A202,'Last Race Results'!$A$5:$J$44,2,FALSE)),\"DNS\",VLOOKUP($A202,'Last Race Results'!$A$5:$J$44,2,FALSE)))","v":"DNS"},{"$f":"IF('Last Race Results'!$B$5=0,0,IF(ISNA(VLOOKUP($A202,'Last Race Results'!$A$5:$K$44,11,FALSE)),0,VLOOKUP($A202,'Last Race Results'!$A$5:$K$44,11,FALSE)))","v":0},null,null,null,null,null,null,null,null,null,null,null,null,null,null,null,null,null,null,{"$f":"IF('Last Race Results'!$B$5=0,0,IF(ISNA(VLOOKUP($A202,'Last Race Results'!$A$5:$J$44,2,FALSE)),\"DNS\",VLOOKUP($A202,'Last Race Results'!$A$5:$J$44,2,FALSE)))","v":"DNS"},{"$f":"IF('Last Race Results'!$B$5=0,0,IF(ISNA(VLOOKUP($A202,'Last Race Results'!$A$5:$J$44,11,FALSE)),0,VLOOKUP($A202,'Last Race Results'!$A$5:$J$44,11,FALSE)))","v":0}]
[186,{"$f":"IF(ISNA(VLOOKUP($A203,'Entry List'!$A$1:$F$61,B$5,FALSE)),\"\",VLOOKUP($A203,'Entry List'!$A$1:$F$61,B$5,FALSE))","v":""},{"$f":"IF(ISNA(VLOOKUP($A203,'Entry List'!$A$1:$F$61,C$5,FALSE)),\"\",VLOOKUP($A203,'Entry List'!$A$1:$F$61,C$5,FALSE))","v":""},{"$f":"IF(ISNA(VLOOKUP($A203,'Entry List'!$A$1:$F$61,D$5,FALSE)),\"\",VLOOKUP($A203,'Entry List'!$A$1:$F$61,D$5,FALSE))","v":""},{"$f":"IF(ISNA(VLOOKUP($A203,'Entry List'!$A$1:$F$61,E$5,FALSE)),\"\",VLOOKUP($A203,'Entry List'!$A$1:$F$61,E$5,FALSE))","v":""},null,"DNS",0,"DNS",0,"DNS",0,"DNS",0,"DNS",0,"DNS",0,"DNS",0,"DNS",0,"DNS",0,"DNS",0,"DNS",0,"DNS",0,"DNS",0,"DNS",0,"DNS",0,"DNS",0,"DNS",0,"DNS",0,"DNS",0,"DNS",0,"DNS",0,"DNS",0,"DNS",0,"DNS",0,"DNS",0,{"$f":"IF('Last Race Results'!$B$5=0,0,IF(ISNA(VLOOKUP($A203,'Last Race Results'!$A$5:$J$44,2,FALSE)),\"DNS\",VLOOKUP($A203,'Last Race Results'!$A$5:$J$44,2,FALSE)))","v":"DNS"},{"$f":"IF('Last Race Results'!$B$5=0,0,IF(ISNA(VLOOKUP($A203,'Last Race Results'!$A$5:$K$44,11,FALSE)),0,VLOOKUP($A203,'Last Race Results'!$A$5:$K$44,11,FALSE)))","v":0},null,null,null,null,null,null,null,null,null,null,null,null,null,null,null,null,null,null,{"$f":"IF('Last Race Results'!$B$5=0,0,IF(ISNA(VLOOKUP($A203,'Last Race Results'!$A$5:$J$44,2,FALSE)),\"DNS\",VLOOKUP($A203,'Last Race Results'!$A$5:$J$44,2,FALSE)))","v":"DNS"},{"$f":"IF('Last Race Results'!$B$5=0,0,IF(ISNA(VLOOKUP($A203,'Last Race Results'!$A$5:$J$44,11,FALSE)),0,VLOOKUP($A203,'Last Race Results'!$A$5:$J$44,11,FALSE)))","v":0}]
[187,{"$f":"IF(ISNA(VLOOKUP($A204,'Entry List'!$A$1:$F$61,B$5,FALSE)),\"\",VLOOKUP($A204,'Entry List'!$A$1:$F$61,B$5,FALSE))","v":""},{"$f":"IF(ISNA(VLOOKUP($A204,'Entry List'!$A$1:$F$61,C$5,FALSE)),\"\",VLOOKUP($A204,'Entry List'!$A$1:$F$61,C$5,FALSE))","v":""},{"$f":"IF(ISNA(VLOOKUP($A204,'Entry List'!$A$1:$F$61,D$5,FALSE)),\"\",VLOOKUP($A204,'Entry List'!$A$1:$F$61,D$5,FALSE))","v":""},{"$f":"IF(ISNA(VLOOKUP($A204,'Entry List'!$A$1:$F$61,E$5,FALSE)),\"\",VLOOKUP($A204,'Entry List'!$A$1:$F$61,E$5,FALSE))","v":""},null,"DNS",0,"DNS",0,"DNS",0,"DNS",0,"DNS",0,"DNS",0,"DNS",0,"DNS",0,"DNS",0,"DNS",0,"DNS",0,"DNS",0,"DNS",0,"DNS",0,"DNS",0,"DNS",0,"DNS",0,"DNS",0,"DNS",0,"DNS",0,"DNS",0,"DNS",0,"DNS",0,"DNS",0,"DNS",0,{"$f":"IF('Last Race Results'!$B$5=0,0,IF(ISNA(VLOOKUP($A204,'Last Race Results'!$A$5:$J$44,2,FALSE)),\"DNS\",VLOOKUP($A204,'Last Race Results'!$A$5:$J$44,2,FALSE)))","v":"DNS"},{"$f":"IF('Last Race Results'!$B$5=0,0,IF(ISNA(VLOOKUP($A204,'Last Race Results'!$A$5:$K$44,11,FALSE)),0,VLOOKUP($A204,'Last Race Results'!$A$5:$K$44,11,FALSE)))","v":0},null,null,null,null,null,null,null,null,null,null,null,null,null,null,null,null,null,null,{"$f":"IF('Last Race Results'!$B$5=0,0,IF(ISNA(VLOOKUP($A204,'Last Race Results'!$A$5:$J$44,2,FALSE)),\"DNS\",VLOOKUP($A204,'Last Race Results'!$A$5:$J$44,2,FALSE)))","v":"DNS"},{"$f":"IF('Last Race Results'!$B$5=0,0,IF(ISNA(VLOOKUP($A204,'Last Race Results'!$A$5:$J$44,11,FALSE)),0,VLOOKUP($A204,'Last Race Results'!$A$5:$J$44,11,FALSE)))","v":0}]
[188,{"$f":"IF(ISNA(VLOOKUP($A205,'Entry List'!$A$1:$F$61,B$5,FALSE)),\"\",VLOOKUP($A205,'Entry List'!$A$1:$F$61,B$5,FALSE))","v":""},{"$f":"IF(ISNA(VLOOKUP($A205,'Entry List'!$A$1:$F$61,C$5,FALSE)),\"\",VLOOKUP($A205,'Entry List'!$A$1:$F$61,C$5,FALSE))","v":""},{"$f":"IF(ISNA(VLOOKUP($A205,'Entry List'!$A$1:$F$61,D$5,FALSE)),\"\",VLOOKUP($A205,'Entry List'!$A$1:$F$61,D$5,FALSE))","v":""},{"$f":"IF(ISNA(VLOOKUP($A205,'Entry List'!$A$1:$F$61,E$5,FALSE)),\"\",VLOOKUP($A205,'Entry List'!$A$1:$F$61,E$5,FALSE))","v":""},null,"DNS",0,"DNS",0,"DNS",0,"DNS",0,"DNS",0,"DNS",0,"DNS",0,"DNS",0,"DNS",0,"DNS",0,"DNS",0,"DNS",0,"DNS",0,"DNS",0,"DNS",0,"DNS",0,"DNS",0,"DNS",0,"DNS",0,"DNS",0,"DNS",0,"DNS",0,"DNS",0,"DNS",0,"DNS",0,{"$f":"IF('Last Race Results'!$B$5=0,0,IF(ISNA(VLOOKUP($A205,'Last Race Results'!$A$5:$J$44,2,FALSE)),\"DNS\",VLOOKUP($A205,'Last Race Results'!$A$5:$J$44,2,FALSE)))","v":"DNS"},{"$f":"IF('Last Race Results'!$B$5=0,0,IF(ISNA(VLOOKUP($A205,'Last Race Results'!$A$5:$K$44,11,FALSE)),0,VLOOKUP($A205,'Last Race Results'!$A$5:$K$44,11,FALSE)))","v":0},null,null,null,null,null,null,null,null,null,null,null,null,null,null,null,null,null,null,{"$f":"IF('Last Race Results'!$B$5=0,0,IF(ISNA(VLOOKUP($A205,'Last Race Results'!$A$5:$J$44,2,FALSE)),\"DNS\",VLOOKUP($A205,'Last Race Results'!$A$5:$J$44,2,FALSE)))","v":"DNS"},{"$f":"IF('Last Race Results'!$B$5=0,0,IF(ISNA(VLOOKUP($A205,'Last Race Results'!$A$5:$J$44,11,FALSE)),0,VLOOKUP($A205,'Last Race Results'!$A$5:$J$44,11,FALSE)))","v":0}]
[189,{"$f":"IF(ISNA(VLOOKUP($A206,'Entry List'!$A$1:$F$61,B$5,FALSE)),\"\",VLOOKUP($A206,'Entry List'!$A$1:$F$61,B$5,FALSE))","v":""},{"$f":"IF(ISNA(VLOOKUP($A206,'Entry List'!$A$1:$F$61,C$5,FALSE)),\"\",VLOOKUP($A206,'Entry List'!$A$1:$F$61,C$5,FALSE))","v":""},{"$f":"IF(ISNA(VLOOKUP($A206,'Entry List'!$A$1:$F$61,D$5,FALSE)),\"\",VLOOKUP($A206,'Entry List'!$A$1:$F$61,D$5,FALSE))","v":""},{"$f":"IF(ISNA(VLOOKUP($A206,'Entry List'!$A$1:$F$61,E$5,FALSE)),\"\",VLOOKUP($A206,'Entry List'!$A$1:$F$61,E$5,FALSE))","v":""},null,"DNS",0,"DNS",0,"DNS",0,"DNS",0,"DNS",0,"DNS",0,"DNS",0,"DNS",0,"DNS",0,"DNS",0,"DNS",0,"DNS",0,"DNS",0,"DNS",0,"DNS",0,"DNS",0,"DNS",0,"DNS",0,"DNS",0,"DNS",0,"DNS",0,"DNS",0,"DNS",0,"DNS",0,"DNS",0,{"$f":"IF('Last Race Results'!$B$5=0,0,IF(ISNA(VLOOKUP($A206,'Last Race Results'!$A$5:$J$44,2,FALSE)),\"DNS\",VLOOKUP($A206,'Last Race Results'!$A$5:$J$44,2,FALSE)))","v":"DNS"},{"$f":"IF('Last Race Results'!$B$5=0,0,IF(ISNA(VLOOKUP($A206,'Last Race Results'!$A$5:$K$44,11,FALSE)),0,VLOOKUP($A206,'Last Race Results'!$A$5:$K$44,11,FALSE)))","v":0},null,null,null,null,null,null,null,null,null,null,null,null,null,null,null,null,null,null,{"$f":"IF('Last Race Results'!$B$5=0,0,IF(ISNA(VLOOKUP($A206,'Last Race Results'!$A$5:$J$44,2,FALSE)),\"DNS\",VLOOKUP($A206,'Last Race Results'!$A$5:$J$44,2,FALSE)))","v":"DNS"},{"$f":"IF('Last Race Results'!$B$5=0,0,IF(ISNA(VLOOKUP($A206,'Last Race Results'!$A$5:$J$44,11,FALSE)),0,VLOOKUP($A206,'Last Race Results'!$A$5:$J$44,11,FALSE)))","v":0}]
[190,{"$f":"IF(ISNA(VLOOKUP($A207,'Entry List'!$A$1:$F$61,B$5,FALSE)),\"\",VLOOKUP($A207,'Entry List'!$A$1:$F$61,B$5,FALSE))","v":""},{"$f":"IF(ISNA(VLOOKUP($A207,'Entry List'!$A$1:$F$61,C$5,FALSE)),\"\",VLOOKUP($A207,'Entry List'!$A$1:$F$61,C$5,FALSE))","v":""},{"$f":"IF(ISNA(VLOOKUP($A207,'Entry List'!$A$1:$F$61,D$5,FALSE)),\"\",VLOOKUP($A207,'Entry List'!$A$1:$F$61,D$5,FALSE))","v":""},{"$f":"IF(ISNA(VLOOKUP($A207,'Entry List'!$A$1:$F$61,E$5,FALSE)),\"\",VLOOKUP($A207,'Entry List'!$A$1:$F$61,E$5,FALSE))","v":""},null,"DNS",0,"DNS",0,"DNS",0,"DNS",0,"DNS",0,"DNS",0,"DNS",0,"DNS",0,"DNS",0,"DNS",0,"DNS",0,"DNS",0,"DNS",0,"DNS",0,"DNS",0,"DNS",0,"DNS",0,"DNS",0,"DNS",0,"DNS",0,"DNS",0,"DNS",0,"DNS",0,"DNS",0,"DNS",0,{"$f":"IF('Last Race Results'!$B$5=0,0,IF(ISNA(VLOOKUP($A207,'Last Race Results'!$A$5:$J$44,2,FALSE)),\"DNS\",VLOOKUP($A207,'Last Race Results'!$A$5:$J$44,2,FALSE)))","v":"DNS"},{"$f":"IF('Last Race Results'!$B$5=0,0,IF(ISNA(VLOOKUP($A207,'Last Race Results'!$A$5:$K$44,11,FALSE)),0,VLOOKUP($A207,'Last Race Results'!$A$5:$K$44,11,FALSE)))","v":0},null,null,null,null,null,null,null,null,null,null,null,null,null,null,null,null,null,null,{"$f":"IF('Last Race Results'!$B$5=0,0,IF(ISNA(VLOOKUP($A207,'Last Race Results'!$A$5:$J$44,2,FALSE)),\"DNS\",VLOOKUP($A207,'Last Race Results'!$A$5:$J$44,2,FALSE)))","v":"DNS"},{"$f":"IF('Last Race Results'!$B$5=0,0,IF(ISNA(VLOOKUP($A207,'Last Race Results'!$A$5:$J$44,11,FALSE)),0,VLOOKUP($A207,'Last Race Results'!$A$5:$J$44,11,FALSE)))","v":0}]
[191,{"$f":"IF(ISNA(VLOOKUP($A208,'Entry List'!$A$1:$F$61,B$5,FALSE)),\"\",VLOOKUP($A208,'Entry List'!$A$1:$F$61,B$5,FALSE))","v":""},{"$f":"IF(ISNA(VLOOKUP($A208,'Entry List'!$A$1:$F$61,C$5,FALSE)),\"\",VLOOKUP($A208,'Entry List'!$A$1:$F$61,C$5,FALSE))","v":""},{"$f":"IF(ISNA(VLOOKUP($A208,'Entry List'!$A$1:$F$61,D$5,FALSE)),\"\",VLOOKUP($A208,'Entry List'!$A$1:$F$61,D$5,FALSE))","v":""},{"$f":"IF(ISNA(VLOOKUP($A208,'Entry List'!$A$1:$F$61,E$5,FALSE)),\"\",VLOOKUP($A208,'Entry List'!$A$1:$F$61,E$5,FALSE))","v":""},null,"DNS",0,"DNS",0,"DNS",0,"DNS",0,"DNS",0,"DNS",0,"DNS",0,"DNS",0,"DNS",0,"DNS",0,"DNS",0,"DNS",0,"DNS",0,"DNS",0,"DNS",0,"DNS",0,"DNS",0,"DNS",0,"DNS",0,"DNS",0,"DNS",0,"DNS",0,"DNS",0,"DNS",0,"DNS",0,{"$f":"IF('Last Race Results'!$B$5=0,0,IF(ISNA(VLOOKUP($A208,'Last Race Results'!$A$5:$J$44,2,FALSE)),\"DNS\",VLOOKUP($A208,'Last Race Results'!$A$5:$J$44,2,FALSE)))","v":"DNS"},{"$f":"IF('Last Race Results'!$B$5=0,0,IF(ISNA(VLOOKUP($A208,'Last Race Results'!$A$5:$K$44,11,FALSE)),0,VLOOKUP($A208,'Last Race Results'!$A$5:$K$44,11,FALSE)))","v":0},null,null,null,null,null,null,null,null,null,null,null,null,null,null,null,null,null,null,{"$f":"IF('Last Race Results'!$B$5=0,0,IF(ISNA(VLOOKUP($A208,'Last Race Results'!$A$5:$J$44,2,FALSE)),\"DNS\",VLOOKUP($A208,'Last Race Results'!$A$5:$J$44,2,FALSE)))","v":"DNS"},{"$f":"IF('Last Race Results'!$B$5=0,0,IF(ISNA(VLOOKUP($A208,'Last Race Results'!$A$5:$J$44,11,FALSE)),0,VLOOKUP($A208,'Last Race Results'!$A$5:$J$44,11,FALSE)))","v":0}]
[192,{"$f":"IF(ISNA(VLOOKUP($A209,'Entry List'!$A$1:$F$61,B$5,FALSE)),\"\",VLOOKUP($A209,'Entry List'!$A$1:$F$61,B$5,FALSE))","v":""},{"$f":"IF(ISNA(VLOOKUP($A209,'Entry List'!$A$1:$F$61,C$5,FALSE)),\"\",VLOOKUP($A209,'Entry List'!$A$1:$F$61,C$5,FALSE))","v":""},{"$f":"IF(ISNA(VLOOKUP($A209,'Entry List'!$A$1:$F$61,D$5,FALSE)),\"\",VLOOKUP($A209,'Entry List'!$A$1:$F$61,D$5,FALSE))","v":""},{"$f":"IF(ISNA(VLOOKUP($A209,'Entry List'!$A$1:$F$61,E$5,FALSE)),\"\",VLOOKUP($A209,'Entry List'!$A$1:$F$61,E$5,FALSE))","v":""},null,"DNS",0,"DNS",0,"DNS",0,"DNS",0,"DNS",0,"DNS",0,"DNS",0,"DNS",0,"DNS",0,"DNS",0,"DNS",0,"DNS",0,"DNS",0,"DNS",0,"DNS",0,"DNS",0,"DNS",0,"DNS",0,"DNS",0,"DNS",0,"DNS",0,"DNS",0,"DNS",0,"DNS",0,"DNS",0,{"$f":"IF('Last Race Results'!$B$5=0,0,IF(ISNA(VLOOKUP($A209,'Last Race Results'!$A$5:$J$44,2,FALSE)),\"DNS\",VLOOKUP($A209,'Last Race Results'!$A$5:$J$44,2,FALSE)))","v":"DNS"},{"$f":"IF('Last Race Results'!$B$5=0,0,IF(ISNA(VLOOKUP($A209,'Last Race Results'!$A$5:$K$44,11,FALSE)),0,VLOOKUP($A209,'Last Race Results'!$A$5:$K$44,11,FALSE)))","v":0},null,null,null,null,null,null,null,null,null,null,null,null,null,null,null,null,null,null,{"$f":"IF('Last Race Results'!$B$5=0,0,IF(ISNA(VLOOKUP($A209,'Last Race Results'!$A$5:$J$44,2,FALSE)),\"DNS\",VLOOKUP($A209,'Last Race Results'!$A$5:$J$44,2,FALSE)))","v":"DNS"},{"$f":"IF('Last Race Results'!$B$5=0,0,IF(ISNA(VLOOKUP($A209,'Last Race Results'!$A$5:$J$44,11,FALSE)),0,VLOOKUP($A209,'Last Race Results'!$A$5:$J$44,11,FALSE)))","v":0}]
[193,{"$f":"IF(ISNA(VLOOKUP($A210,'Entry List'!$A$1:$F$61,B$5,FALSE)),\"\",VLOOKUP($A210,'Entry List'!$A$1:$F$61,B$5,FALSE))","v":""},{"$f":"IF(ISNA(VLOOKUP($A210,'Entry List'!$A$1:$F$61,C$5,FALSE)),\"\",VLOOKUP($A210,'Entry List'!$A$1:$F$61,C$5,FALSE))","v":""},{"$f":"IF(ISNA(VLOOKUP($A210,'Entry List'!$A$1:$F$61,D$5,FALSE)),\"\",VLOOKUP($A210,'Entry List'!$A$1:$F$61,D$5,FALSE))","v":""},{"$f":"IF(ISNA(VLOOKUP($A210,'Entry List'!$A$1:$F$61,E$5,FALSE)),\"\",VLOOKUP($A210,'Entry List'!$A$1:$F$61,E$5,FALSE))","v":""},null,"DNS",0,"DNS",0,"DNS",0,"DNS",0,"DNS",0,"DNS",0,"DNS",0,"DNS",0,"DNS",0,"DNS",0,"DNS",0,"DNS",0,"DNS",0,"DNS",0,"DNS",0,"DNS",0,"DNS",0,"DNS",0,"DNS",0,"DNS",0,"DNS",0,"DNS",0,"DNS",0,"DNS",0,"DNS",0,{"$f":"IF('Last Race Results'!$B$5=0,0,IF(ISNA(VLOOKUP($A210,'Last Race Results'!$A$5:$J$44,2,FALSE)),\"DNS\",VLOOKUP($A210,'Last Race Results'!$A$5:$J$44,2,FALSE)))","v":"DNS"},{"$f":"IF('Last Race Results'!$B$5=0,0,IF(ISNA(VLOOKUP($A210,'Last Race Results'!$A$5:$K$44,11,FALSE)),0,VLOOKUP($A210,'Last Race Results'!$A$5:$K$44,11,FALSE)))","v":0},null,null,null,null,null,null,null,null,null,null,null,null,null,null,null,null,null,null,{"$f":"IF('Last Race Results'!$B$5=0,0,IF(ISNA(VLOOKUP($A210,'Last Race Results'!$A$5:$J$44,2,FALSE)),\"DNS\",VLOOKUP($A210,'Last Race Results'!$A$5:$J$44,2,FALSE)))","v":"DNS"},{"$f":"IF('Last Race Results'!$B$5=0,0,IF(ISNA(VLOOKUP($A210,'Last Race Results'!$A$5:$J$44,11,FALSE)),0,VLOOKUP($A210,'Last Race Results'!$A$5:$J$44,11,FALSE)))","v":0}]
[194,{"$f":"IF(ISNA(VLOOKUP($A211,'Entry List'!$A$1:$F$61,B$5,FALSE)),\"\",VLOOKUP($A211,'Entry List'!$A$1:$F$61,B$5,FALSE))","v":""},{"$f":"IF(ISNA(VLOOKUP($A211,'Entry List'!$A$1:$F$61,C$5,FALSE)),\"\",VLOOKUP($A211,'Entry List'!$A$1:$F$61,C$5,FALSE))","v":""},{"$f":"IF(ISNA(VLOOKUP($A211,'Entry List'!$A$1:$F$61,D$5,FALSE)),\"\",VLOOKUP($A211,'Entry List'!$A$1:$F$61,D$5,FALSE))","v":""},{"$f":"IF(ISNA(VLOOKUP($A211,'Entry List'!$A$1:$F$61,E$5,FALSE)),\"\",VLOOKUP($A211,'Entry List'!$A$1:$F$61,E$5,FALSE))","v":""},null,"DNS",0,"DNS",0,"DNS",0,"DNS",0,"DNS",0,"DNS",0,"DNS",0,"DNS",0,"DNS",0,"DNS",0,"DNS",0,"DNS",0,"DNS",0,"DNS",0,"DNS",0,"DNS",0,"DNS",0,"DNS",0,"DNS",0,"DNS",0,"DNS",0,"DNS",0,"DNS",0,"DNS",0,"DNS",0,{"$f":"IF('Last Race Results'!$B$5=0,0,IF(ISNA(VLOOKUP($A211,'Last Race Results'!$A$5:$J$44,2,FALSE)),\"DNS\",VLOOKUP($A211,'Last Race Results'!$A$5:$J$44,2,FALSE)))","v":"DNS"},{"$f":"IF('Last Race Results'!$B$5=0,0,IF(ISNA(VLOOKUP($A211,'Last Race Results'!$A$5:$K$44,11,FALSE)),0,VLOOKUP($A211,'Last Race Results'!$A$5:$K$44,11,FALSE)))","v":0},null,null,null,null,null,null,null,null,null,null,null,null,null,null,null,null,null,null,{"$f":"IF('Last Race Results'!$B$5=0,0,IF(ISNA(VLOOKUP($A211,'Last Race Results'!$A$5:$J$44,2,FALSE)),\"DNS\",VLOOKUP($A211,'Last Race Results'!$A$5:$J$44,2,FALSE)))","v":"DNS"},{"$f":"IF('Last Race Results'!$B$5=0,0,IF(ISNA(VLOOKUP($A211,'Last Race Results'!$A$5:$J$44,11,FALSE)),0,VLOOKUP($A211,'Last Race Results'!$A$5:$J$44,11,FALSE)))","v":0}]
[195,{"$f":"IF(ISNA(VLOOKUP($A212,'Entry List'!$A$1:$F$61,B$5,FALSE)),\"\",VLOOKUP($A212,'Entry List'!$A$1:$F$61,B$5,FALSE))","v":""},{"$f":"IF(ISNA(VLOOKUP($A212,'Entry List'!$A$1:$F$61,C$5,FALSE)),\"\",VLOOKUP($A212,'Entry List'!$A$1:$F$61,C$5,FALSE))","v":""},{"$f":"IF(ISNA(VLOOKUP($A212,'Entry List'!$A$1:$F$61,D$5,FALSE)),\"\",VLOOKUP($A212,'Entry List'!$A$1:$F$61,D$5,FALSE))","v":""},{"$f":"IF(ISNA(VLOOKUP($A212,'Entry List'!$A$1:$F$61,E$5,FALSE)),\"\",VLOOKUP($A212,'Entry List'!$A$1:$F$61,E$5,FALSE))","v":""},null,"DNS",0,"DNS",0,"DNS",0,"DNS",0,"DNS",0,"DNS",0,"DNS",0,"DNS",0,"DNS",0,"DNS",0,"DNS",0,"DNS",0,"DNS",0,"DNS",0,"DNS",0,"DNS",0,"DNS",0,"DNS",0,"DNS",0,"DNS",0,"DNS",0,"DNS",0,"DNS",0,"DNS",0,"DNS",0,{"$f":"IF('Last Race Results'!$B$5=0,0,IF(ISNA(VLOOKUP($A212,'Last Race Results'!$A$5:$J$44,2,FALSE)),\"DNS\",VLOOKUP($A212,'Last Race Results'!$A$5:$J$44,2,FALSE)))","v":"DNS"},{"$f":"IF('Last Race Results'!$B$5=0,0,IF(ISNA(VLOOKUP($A212,'Last Race Results'!$A$5:$K$44,11,FALSE)),0,VLOOKUP($A212,'Last Race Results'!$A$5:$K$44,11,FALSE)))","v":0},null,null,null,null,null,null,null,null,null,null,null,null,null,null,null,null,null,null,{"$f":"IF('Last Race Results'!$B$5=0,0,IF(ISNA(VLOOKUP($A212,'Last Race Results'!$A$5:$J$44,2,FALSE)),\"DNS\",VLOOKUP($A212,'Last Race Results'!$A$5:$J$44,2,FALSE)))","v":"DNS"},{"$f":"IF('Last Race Results'!$B$5=0,0,IF(ISNA(VLOOKUP($A212,'Last Race Results'!$A$5:$J$44,11,FALSE)),0,VLOOKUP($A212,'Last Race Results'!$A$5:$J$44,11,FALSE)))","v":0}]
[196,{"$f":"IF(ISNA(VLOOKUP($A213,'Entry List'!$A$1:$F$61,B$5,FALSE)),\"\",VLOOKUP($A213,'Entry List'!$A$1:$F$61,B$5,FALSE))","v":""},{"$f":"IF(ISNA(VLOOKUP($A213,'Entry List'!$A$1:$F$61,C$5,FALSE)),\"\",VLOOKUP($A213,'Entry List'!$A$1:$F$61,C$5,FALSE))","v":""},{"$f":"IF(ISNA(VLOOKUP($A213,'Entry List'!$A$1:$F$61,D$5,FALSE)),\"\",VLOOKUP($A213,'Entry List'!$A$1:$F$61,D$5,FALSE))","v":""},{"$f":"IF(ISNA(VLOOKUP($A213,'Entry List'!$A$1:$F$61,E$5,FALSE)),\"\",VLOOKUP($A213,'Entry List'!$A$1:$F$61,E$5,FALSE))","v":""},null,"DNS",0,"DNS",0,"DNS",0,"DNS",0,"DNS",0,"DNS",0,"DNS",0,"DNS",0,"DNS",0,"DNS",0,"DNS",0,"DNS",0,"DNS",0,"DNS",0,"DNS",0,"DNS",0,"DNS",0,"DNS",0,"DNS",0,"DNS",0,"DNS",0,"DNS",0,"DNS",0,"DNS",0,"DNS",0,{"$f":"IF('Last Race Results'!$B$5=0,0,IF(ISNA(VLOOKUP($A213,'Last Race Results'!$A$5:$J$44,2,FALSE)),\"DNS\",VLOOKUP($A213,'Last Race Results'!$A$5:$J$44,2,FALSE)))","v":"DNS"},{"$f":"IF('Last Race Results'!$B$5=0,0,IF(ISNA(VLOOKUP($A213,'Last Race Results'!$A$5:$K$44,11,FALSE)),0,VLOOKUP($A213,'Last Race Results'!$A$5:$K$44,11,FALSE)))","v":0},null,null,null,null,null,null,null,null,null,null,null,null,null,null,null,null,null,null,{"$f":"IF('Last Race Results'!$B$5=0,0,IF(ISNA(VLOOKUP($A213,'Last Race Results'!$A$5:$J$44,2,FALSE)),\"DNS\",VLOOKUP($A213,'Last Race Results'!$A$5:$J$44,2,FALSE)))","v":"DNS"},{"$f":"IF('Last Race Results'!$B$5=0,0,IF(ISNA(VLOOKUP($A213,'Last Race Results'!$A$5:$J$44,11,FALSE)),0,VLOOKUP($A213,'Last Race Results'!$A$5:$J$44,11,FALSE)))","v":0}]
[197,{"$f":"IF(ISNA(VLOOKUP($A214,'Entry List'!$A$1:$F$61,B$5,FALSE)),\"\",VLOOKUP($A214,'Entry List'!$A$1:$F$61,B$5,FALSE))","v":""},{"$f":"IF(ISNA(VLOOKUP($A214,'Entry List'!$A$1:$F$61,C$5,FALSE)),\"\",VLOOKUP($A214,'Entry List'!$A$1:$F$61,C$5,FALSE))","v":""},{"$f":"IF(ISNA(VLOOKUP($A214,'Entry List'!$A$1:$F$61,D$5,FALSE)),\"\",VLOOKUP($A214,'Entry List'!$A$1:$F$61,D$5,FALSE))","v":""},{"$f":"IF(ISNA(VLOOKUP($A214,'Entry List'!$A$1:$F$61,E$5,FALSE)),\"\",VLOOKUP($A214,'Entry List'!$A$1:$F$61,E$5,FALSE))","v":""},null,"DNS",0,"DNS",0,"DNS",0,"DNS",0,"DNS",0,"DNS",0,"DNS",0,"DNS",0,"DNS",0,"DNS",0,"DNS",0,"DNS",0,"DNS",0,"DNS",0,"DNS",0,"DNS",0,"DNS",0,"DNS",0,"DNS",0,"DNS",0,"DNS",0,"DNS",0,"DNS",0,"DNS",0,"DNS",0,{"$f":"IF('Last Race Results'!$B$5=0,0,IF(ISNA(VLOOKUP($A214,'Last Race Results'!$A$5:$J$44,2,FALSE)),\"DNS\",VLOOKUP($A214,'Last Race Results'!$A$5:$J$44,2,FALSE)))","v":"DNS"},{"$f":"IF('Last Race Results'!$B$5=0,0,IF(ISNA(VLOOKUP($A214,'Last Race Results'!$A$5:$K$44,11,FALSE)),0,VLOOKUP($A214,'Last Race Results'!$A$5:$K$44,11,FALSE)))","v":0},null,null,null,null,null,null,null,null,null,null,null,null,null,null,null,null,null,null,{"$f":"IF('Last Race Results'!$B$5=0,0,IF(ISNA(VLOOKUP($A214,'Last Race Results'!$A$5:$J$44,2,FALSE)),\"DNS\",VLOOKUP($A214,'Last Race Results'!$A$5:$J$44,2,FALSE)))","v":"DNS"},{"$f":"IF('Last Race Results'!$B$5=0,0,IF(ISNA(VLOOKUP($A214,'Last Race Results'!$A$5:$J$44,11,FALSE)),0,VLOOKUP($A214,'Last Race Results'!$A$5:$J$44,11,FALSE)))","v":0}]
[198,{"$f":"IF(ISNA(VLOOKUP($A215,'Entry List'!$A$1:$F$61,B$5,FALSE)),\"\",VLOOKUP($A215,'Entry List'!$A$1:$F$61,B$5,FALSE))","v":""},{"$f":"IF(ISNA(VLOOKUP($A215,'Entry List'!$A$1:$F$61,C$5,FALSE)),\"\",VLOOKUP($A215,'Entry List'!$A$1:$F$61,C$5,FALSE))","v":""},{"$f":"IF(ISNA(VLOOKUP($A215,'Entry List'!$A$1:$F$61,D$5,FALSE)),\"\",VLOOKUP($A215,'Entry List'!$A$1:$F$61,D$5,FALSE))","v":""},{"$f":"IF(ISNA(VLOOKUP($A215,'Entry List'!$A$1:$F$61,E$5,FALSE)),\"\",VLOOKUP($A215,'Entry List'!$A$1:$F$61,E$5,FALSE))","v":""},null,"DNS",0,"DNS",0,"DNS",0,"DNS",0,"DNS",0,"DNS",0,"DNS",0,"DNS",0,"DNS",0,"DNS",0,"DNS",0,"DNS",0,"DNS",0,"DNS",0,"DNS",0,"DNS",0,"DNS",0,"DNS",0,"DNS",0,"DNS",0,"DNS",0,"DNS",0,"DNS",0,"DNS",0,"DNS",0,{"$f":"IF('Last Race Results'!$B$5=0,0,IF(ISNA(VLOOKUP($A215,'Last Race Results'!$A$5:$J$44,2,FALSE)),\"DNS\",VLOOKUP($A215,'Last Race Results'!$A$5:$J$44,2,FALSE)))","v":"DNS"},{"$f":"IF('Last Race Results'!$B$5=0,0,IF(ISNA(VLOOKUP($A215,'Last Race Results'!$A$5:$K$44,11,FALSE)),0,VLOOKUP($A215,'Last Race Results'!$A$5:$K$44,11,FALSE)))","v":0},null,null,null,null,null,null,null,null,null,null,null,null,null,null,null,null,null,null,{"$f":"IF('Last Race Results'!$B$5=0,0,IF(ISNA(VLOOKUP($A215,'Last Race Results'!$A$5:$J$44,2,FALSE)),\"DNS\",VLOOKUP($A215,'Last Race Results'!$A$5:$J$44,2,FALSE)))","v":"DNS"},{"$f":"IF('Last Race Results'!$B$5=0,0,IF(ISNA(VLOOKUP($A215,'Last Race Results'!$A$5:$J$44,11,FALSE)),0,VLOOKUP($A215,'Last Race Results'!$A$5:$J$44,11,FALSE)))","v":0}]
[199,{"$f":"IF(ISNA(VLOOKUP($A216,'Entry List'!$A$1:$F$61,B$5,FALSE)),\"\",VLOOKUP($A216,'Entry List'!$A$1:$F$61,B$5,FALSE))","v":""},{"$f":"IF(ISNA(VLOOKUP($A216,'Entry List'!$A$1:$F$61,C$5,FALSE)),\"\",VLOOKUP($A216,'Entry List'!$A$1:$F$61,C$5,FALSE))","v":""},{"$f":"IF(ISNA(VLOOKUP($A216,'Entry List'!$A$1:$F$61,D$5,FALSE)),\"\",VLOOKUP($A216,'Entry List'!$A$1:$F$61,D$5,FALSE))","v":""},{"$f":"IF(ISNA(VLOOKUP($A216,'Entry List'!$A$1:$F$61,E$5,FALSE)),\"\",VLOOKUP($A216,'Entry List'!$A$1:$F$61,E$5,FALSE))","v":""},null,"DNS",0,"DNS",0,"DNS",0,"DNS",0,"DNS",0,"DNS",0,"DNS",0,"DNS",0,"DNS",0,"DNS",0,"DNS",0,"DNS",0,"DNS",0,"DNS",0,"DNS",0,"DNS",0,"DNS",0,"DNS",0,"DNS",0,"DNS",0,"DNS",0,"DNS",0,"DNS",0,"DNS",0,"DNS",0,{"$f":"IF('Last Race Results'!$B$5=0,0,IF(ISNA(VLOOKUP($A216,'Last Race Results'!$A$5:$J$44,2,FALSE)),\"DNS\",VLOOKUP($A216,'Last Race Results'!$A$5:$J$44,2,FALSE)))","v":"DNS"},{"$f":"IF('Last Race Results'!$B$5=0,0,IF(ISNA(VLOOKUP($A216,'Last Race Results'!$A$5:$K$44,11,FALSE)),0,VLOOKUP($A216,'Last Race Results'!$A$5:$K$44,11,FALSE)))","v":0},null,null,null,null,null,null,null,null,null,null,null,null,null,null,null,null,null,null,{"$f":"IF('Last Race Results'!$B$5=0,0,IF(ISNA(VLOOKUP($A216,'Last Race Results'!$A$5:$J$44,2,FALSE)),\"DNS\",VLOOKUP($A216,'Last Race Results'!$A$5:$J$44,2,FALSE)))","v":"DNS"},{"$f":"IF('Last Race Results'!$B$5=0,0,IF(ISNA(VLOOKUP($A216,'Last Race Results'!$A$5:$J$44,11,FALSE)),0,VLOOKUP($A216,'Last Race Results'!$A$5:$J$44,11,FALSE)))","v":0}]
[200,{"$f":"IF(ISNA(VLOOKUP($A217,'Entry List'!$A$1:$F$61,B$5,FALSE)),\"\",VLOOKUP($A217,'Entry List'!$A$1:$F$61,B$5,FALSE))","v":""},{"$f":"IF(ISNA(VLOOKUP($A217,'Entry List'!$A$1:$F$61,C$5,FALSE)),\"\",VLOOKUP($A217,'Entry List'!$A$1:$F$61,C$5,FALSE))","v":""},{"$f":"IF(ISNA(VLOOKUP($A217,'Entry List'!$A$1:$F$61,D$5,FALSE)),\"\",VLOOKUP($A217,'Entry List'!$A$1:$F$61,D$5,FALSE))","v":""},{"$f":"IF(ISNA(VLOOKUP($A217,'Entry List'!$A$1:$F$61,E$5,FALSE)),\"\",VLOOKUP($A217,'Entry List'!$A$1:$F$61,E$5,FALSE))","v":""},null,"DNS",0,"DNS",0,"DNS",0,"DNS",0,"DNS",0,"DNS",0,"DNS",0,"DNS",0,"DNS",0,"DNS",0,"DNS",0,"DNS",0,"DNS",0,"DNS",0,"DNS",0,"DNS",0,"DNS",0,"DNS",0,"DNS",0,"DNS",0,"DNS",0,"DNS",0,"DNS",0,"DNS",0,"DNS",0,{"$f":"IF('Last Race Results'!$B$5=0,0,IF(ISNA(VLOOKUP($A217,'Last Race Results'!$A$5:$J$44,2,FALSE)),\"DNS\",VLOOKUP($A217,'Last Race Results'!$A$5:$J$44,2,FALSE)))","v":"DNS"},{"$f":"IF('Last Race Results'!$B$5=0,0,IF(ISNA(VLOOKUP($A217,'Last Race Results'!$A$5:$K$44,11,FALSE)),0,VLOOKUP($A217,'Last Race Results'!$A$5:$K$44,11,FALSE)))","v":0},null,null,null,null,null,null,null,null,null,null,null,null,null,null,null,null,null,null,{"$f":"IF('Last Race Results'!$B$5=0,0,IF(ISNA(VLOOKUP($A217,'Last Race Results'!$A$5:$J$44,2,FALSE)),\"DNS\",VLOOKUP($A217,'Last Race Results'!$A$5:$J$44,2,FALSE)))","v":"DNS"},{"$f":"IF('Last Race Results'!$B$5=0,0,IF(ISNA(VLOOKUP($A217,'Last Race Results'!$A$5:$J$44,11,FALSE)),0,VLOOKUP($A217,'Last Race Results'!$A$5:$J$44,11,FALSE)))","v":0}]
[201,{"$f":"IF(ISNA(VLOOKUP($A218,'Entry List'!$A$1:$F$61,B$5,FALSE)),\"\",VLOOKUP($A218,'Entry List'!$A$1:$F$61,B$5,FALSE))","v":""},{"$f":"IF(ISNA(VLOOKUP($A218,'Entry List'!$A$1:$F$61,C$5,FALSE)),\"\",VLOOKUP($A218,'Entry List'!$A$1:$F$61,C$5,FALSE))","v":""},{"$f":"IF(ISNA(VLOOKUP($A218,'Entry List'!$A$1:$F$61,D$5,FALSE)),\"\",VLOOKUP($A218,'Entry List'!$A$1:$F$61,D$5,FALSE))","v":""},{"$f":"IF(ISNA(VLOOKUP($A218,'Entry List'!$A$1:$F$61,E$5,FALSE)),\"\",VLOOKUP($A218,'Entry List'!$A$1:$F$61,E$5,FALSE))","v":""},null,"DNS",0,"DNS",0,"DNS",0,"DNS",0,"DNS",0,"DNS",0,"DNS",0,"DNS",0,"DNS",0,"DNS",0,"DNS",0,"DNS",0,"DNS",0,"DNS",0,"DNS",0,"DNS",0,"DNS",0,"DNS",0,"DNS",0,"DNS",0,"DNS",0,"DNS",0,"DNS",0,"DNS",0,"DNS",0,{"$f":"IF('Last Race Results'!$B$5=0,0,IF(ISNA(VLOOKUP($A218,'Last Race Results'!$A$5:$J$44,2,FALSE)),\"DNS\",VLOOKUP($A218,'Last Race Results'!$A$5:$J$44,2,FALSE)))","v":"DNS"},{"$f":"IF('Last Race Results'!$B$5=0,0,IF(ISNA(VLOOKUP($A218,'Last Race Results'!$A$5:$K$44,11,FALSE)),0,VLOOKUP($A218,'Last Race Results'!$A$5:$K$44,11,FALSE)))","v":0},null,null,null,null,null,null,null,null,null,null,null,null,null,null,null,null,null,null,{"$f":"IF('Last Race Results'!$B$5=0,0,IF(ISNA(VLOOKUP($A218,'Last Race Results'!$A$5:$J$44,2,FALSE)),\"DNS\",VLOOKUP($A218,'Last Race Results'!$A$5:$J$44,2,FALSE)))","v":"DNS"},{"$f":"IF('Last Race Results'!$B$5=0,0,IF(ISNA(VLOOKUP($A218,'Last Race Results'!$A$5:$J$44,11,FALSE)),0,VLOOKUP($A218,'Last Race Results'!$A$5:$J$44,11,FALSE)))","v":0}]
[202,{"$f":"IF(ISNA(VLOOKUP($A219,'Entry List'!$A$1:$F$61,B$5,FALSE)),\"\",VLOOKUP($A219,'Entry List'!$A$1:$F$61,B$5,FALSE))","v":""},{"$f":"IF(ISNA(VLOOKUP($A219,'Entry List'!$A$1:$F$61,C$5,FALSE)),\"\",VLOOKUP($A219,'Entry List'!$A$1:$F$61,C$5,FALSE))","v":""},{"$f":"IF(ISNA(VLOOKUP($A219,'Entry List'!$A$1:$F$61,D$5,FALSE)),\"\",VLOOKUP($A219,'Entry List'!$A$1:$F$61,D$5,FALSE))","v":""},{"$f":"IF(ISNA(VLOOKUP($A219,'Entry List'!$A$1:$F$61,E$5,FALSE)),\"\",VLOOKUP($A219,'Entry List'!$A$1:$F$61,E$5,FALSE))","v":""},null,"DNS",0,"DNS",0,"DNS",0,"DNS",0,"DNS",0,"DNS",0,"DNS",0,"DNS",0,"DNS",0,"DNS",0,"DNS",0,"DNS",0,"DNS",0,"DNS",0,"DNS",0,"DNS",0,"DNS",0,"DNS",0,"DNS",0,"DNS",0,"DNS",0,"DNS",0,"DNS",0,"DNS",0,"DNS",0,{"$f":"IF('Last Race Results'!$B$5=0,0,IF(ISNA(VLOOKUP($A219,'Last Race Results'!$A$5:$J$44,2,FALSE)),\"DNS\",VLOOKUP($A219,'Last Race Results'!$A$5:$J$44,2,FALSE)))","v":"DNS"},{"$f":"IF('Last Race Results'!$B$5=0,0,IF(ISNA(VLOOKUP($A219,'Last Race Results'!$A$5:$K$44,11,FALSE)),0,VLOOKUP($A219,'Last Race Results'!$A$5:$K$44,11,FALSE)))","v":0},null,null,null,null,null,null,null,null,null,null,null,null,null,null,null,null,null,null,{"$f":"IF('Last Race Results'!$B$5=0,0,IF(ISNA(VLOOKUP($A219,'Last Race Results'!$A$5:$J$44,2,FALSE)),\"DNS\",VLOOKUP($A219,'Last Race Results'!$A$5:$J$44,2,FALSE)))","v":"DNS"},{"$f":"IF('Last Race Results'!$B$5=0,0,IF(ISNA(VLOOKUP($A219,'Last Race Results'!$A$5:$J$44,11,FALSE)),0,VLOOKUP($A219,'Last Race Results'!$A$5:$J$44,11,FALSE)))","v":0}]
[203,{"$f":"IF(ISNA(VLOOKUP($A220,'Entry List'!$A$1:$F$61,B$5,FALSE)),\"\",VLOOKUP($A220,'Entry List'!$A$1:$F$61,B$5,FALSE))","v":""},{"$f":"IF(ISNA(VLOOKUP($A220,'Entry List'!$A$1:$F$61,C$5,FALSE)),\"\",VLOOKUP($A220,'Entry List'!$A$1:$F$61,C$5,FALSE))","v":""},{"$f":"IF(ISNA(VLOOKUP($A220,'Entry List'!$A$1:$F$61,D$5,FALSE)),\"\",VLOOKUP($A220,'Entry List'!$A$1:$F$61,D$5,FALSE))","v":""},{"$f":"IF(ISNA(VLOOKUP($A220,'Entry List'!$A$1:$F$61,E$5,FALSE)),\"\",VLOOKUP($A220,'Entry List'!$A$1:$F$61,E$5,FALSE))","v":""},null,"DNS",0,"DNS",0,"DNS",0,"DNS",0,"DNS",0,"DNS",0,"DNS",0,"DNS",0,"DNS",0,"DNS",0,"DNS",0,"DNS",0,"DNS",0,"DNS",0,"DNS",0,"DNS",0,"DNS",0,"DNS",0,"DNS",0,"DNS",0,"DNS",0,"DNS",0,"DNS",0,"DNS",0,"DNS",0,{"$f":"IF('Last Race Results'!$B$5=0,0,IF(ISNA(VLOOKUP($A220,'Last Race Results'!$A$5:$J$44,2,FALSE)),\"DNS\",VLOOKUP($A220,'Last Race Results'!$A$5:$J$44,2,FALSE)))","v":"DNS"},{"$f":"IF('Last Race Results'!$B$5=0,0,IF(ISNA(VLOOKUP($A220,'Last Race Results'!$A$5:$K$44,11,FALSE)),0,VLOOKUP($A220,'Last Race Results'!$A$5:$K$44,11,FALSE)))","v":0},null,null,null,null,null,null,null,null,null,null,null,null,null,null,null,null,null,null,{"$f":"IF('Last Race Results'!$B$5=0,0,IF(ISNA(VLOOKUP($A220,'Last Race Results'!$A$5:$J$44,2,FALSE)),\"DNS\",VLOOKUP($A220,'Last Race Results'!$A$5:$J$44,2,FALSE)))","v":"DNS"},{"$f":"IF('Last Race Results'!$B$5=0,0,IF(ISNA(VLOOKUP($A220,'Last Race Results'!$A$5:$J$44,11,FALSE)),0,VLOOKUP($A220,'Last Race Results'!$A$5:$J$44,11,FALSE)))","v":0}]
[204,{"$f":"IF(ISNA(VLOOKUP($A221,'Entry List'!$A$1:$F$61,B$5,FALSE)),\"\",VLOOKUP($A221,'Entry List'!$A$1:$F$61,B$5,FALSE))","v":""},{"$f":"IF(ISNA(VLOOKUP($A221,'Entry List'!$A$1:$F$61,C$5,FALSE)),\"\",VLOOKUP($A221,'Entry List'!$A$1:$F$61,C$5,FALSE))","v":""},{"$f":"IF(ISNA(VLOOKUP($A221,'Entry List'!$A$1:$F$61,D$5,FALSE)),\"\",VLOOKUP($A221,'Entry List'!$A$1:$F$61,D$5,FALSE))","v":""},{"$f":"IF(ISNA(VLOOKUP($A221,'Entry List'!$A$1:$F$61,E$5,FALSE)),\"\",VLOOKUP($A221,'Entry List'!$A$1:$F$61,E$5,FALSE))","v":""},null,"DNS",0,"DNS",0,"DNS",0,"DNS",0,"DNS",0,"DNS",0,"DNS",0,"DNS",0,"DNS",0,"DNS",0,"DNS",0,"DNS",0,"DNS",0,"DNS",0,"DNS",0,"DNS",0,"DNS",0,"DNS",0,"DNS",0,"DNS",0,"DNS",0,"DNS",0,"DNS",0,"DNS",0,"DNS",0,{"$f":"IF('Last Race Results'!$B$5=0,0,IF(ISNA(VLOOKUP($A221,'Last Race Results'!$A$5:$J$44,2,FALSE)),\"DNS\",VLOOKUP($A221,'Last Race Results'!$A$5:$J$44,2,FALSE)))","v":"DNS"},{"$f":"IF('Last Race Results'!$B$5=0,0,IF(ISNA(VLOOKUP($A221,'Last Race Results'!$A$5:$K$44,11,FALSE)),0,VLOOKUP($A221,'Last Race Results'!$A$5:$K$44,11,FALSE)))","v":0},null,null,null,null,null,null,null,null,null,null,null,null,null,null,null,null,null,null,{"$f":"IF('Last Race Results'!$B$5=0,0,IF(ISNA(VLOOKUP($A221,'Last Race Results'!$A$5:$J$44,2,FALSE)),\"DNS\",VLOOKUP($A221,'Last Race Results'!$A$5:$J$44,2,FALSE)))","v":"DNS"},{"$f":"IF('Last Race Results'!$B$5=0,0,IF(ISNA(VLOOKUP($A221,'Last Race Results'!$A$5:$J$44,11,FALSE)),0,VLOOKUP($A221,'Last Race Results'!$A$5:$J$44,11,FALSE)))","v":0}]
[205,{"$f":"IF(ISNA(VLOOKUP($A222,'Entry List'!$A$1:$F$61,B$5,FALSE)),\"\",VLOOKUP($A222,'Entry List'!$A$1:$F$61,B$5,FALSE))","v":""},{"$f":"IF(ISNA(VLOOKUP($A222,'Entry List'!$A$1:$F$61,C$5,FALSE)),\"\",VLOOKUP($A222,'Entry List'!$A$1:$F$61,C$5,FALSE))","v":""},{"$f":"IF(ISNA(VLOOKUP($A222,'Entry List'!$A$1:$F$61,D$5,FALSE)),\"\",VLOOKUP($A222,'Entry List'!$A$1:$F$61,D$5,FALSE))","v":""},{"$f":"IF(ISNA(VLOOKUP($A222,'Entry List'!$A$1:$F$61,E$5,FALSE)),\"\",VLOOKUP($A222,'Entry List'!$A$1:$F$61,E$5,FALSE))","v":""},null,"DNS",0,"DNS",0,"DNS",0,"DNS",0,"DNS",0,"DNS",0,"DNS",0,"DNS",0,"DNS",0,"DNS",0,"DNS",0,"DNS",0,"DNS",0,"DNS",0,"DNS",0,"DNS",0,"DNS",0,"DNS",0,"DNS",0,"DNS",0,"DNS",0,"DNS",0,"DNS",0,"DNS",0,"DNS",0,{"$f":"IF('Last Race Results'!$B$5=0,0,IF(ISNA(VLOOKUP($A222,'Last Race Results'!$A$5:$J$44,2,FALSE)),\"DNS\",VLOOKUP($A222,'Last Race Results'!$A$5:$J$44,2,FALSE)))","v":"DNS"},{"$f":"IF('Last Race Results'!$B$5=0,0,IF(ISNA(VLOOKUP($A222,'Last Race Results'!$A$5:$K$44,11,FALSE)),0,VLOOKUP($A222,'Last Race Results'!$A$5:$K$44,11,FALSE)))","v":0},null,null,null,null,null,null,null,null,null,null,null,null,null,null,null,null,null,null,{"$f":"IF('Last Race Results'!$B$5=0,0,IF(ISNA(VLOOKUP($A222,'Last Race Results'!$A$5:$J$44,2,FALSE)),\"DNS\",VLOOKUP($A222,'Last Race Results'!$A$5:$J$44,2,FALSE)))","v":"DNS"},{"$f":"IF('Last Race Results'!$B$5=0,0,IF(ISNA(VLOOKUP($A222,'Last Race Results'!$A$5:$J$44,11,FALSE)),0,VLOOKUP($A222,'Last Race Results'!$A$5:$J$44,11,FALSE)))","v":0}]
[206,{"$f":"IF(ISNA(VLOOKUP($A223,'Entry List'!$A$1:$F$61,B$5,FALSE)),\"\",VLOOKUP($A223,'Entry List'!$A$1:$F$61,B$5,FALSE))","v":""},{"$f":"IF(ISNA(VLOOKUP($A223,'Entry List'!$A$1:$F$61,C$5,FALSE)),\"\",VLOOKUP($A223,'Entry List'!$A$1:$F$61,C$5,FALSE))","v":""},{"$f":"IF(ISNA(VLOOKUP($A223,'Entry List'!$A$1:$F$61,D$5,FALSE)),\"\",VLOOKUP($A223,'Entry List'!$A$1:$F$61,D$5,FALSE))","v":""},{"$f":"IF(ISNA(VLOOKUP($A223,'Entry List'!$A$1:$F$61,E$5,FALSE)),\"\",VLOOKUP($A223,'Entry List'!$A$1:$F$61,E$5,FALSE))","v":""},null,"DNS",0,"DNS",0,"DNS",0,"DNS",0,"DNS",0,"DNS",0,"DNS",0,"DNS",0,"DNS",0,"DNS",0,"DNS",0,"DNS",0,"DNS",0,"DNS",0,"DNS",0,"DNS",0,"DNS",0,"DNS",0,"DNS",0,"DNS",0,"DNS",0,"DNS",0,"DNS",0,"DNS",0,"DNS",0,{"$f":"IF('Last Race Results'!$B$5=0,0,IF(ISNA(VLOOKUP($A223,'Last Race Results'!$A$5:$J$44,2,FALSE)),\"DNS\",VLOOKUP($A223,'Last Race Results'!$A$5:$J$44,2,FALSE)))","v":"DNS"},{"$f":"IF('Last Race Results'!$B$5=0,0,IF(ISNA(VLOOKUP($A223,'Last Race Results'!$A$5:$K$44,11,FALSE)),0,VLOOKUP($A223,'Last Race Results'!$A$5:$K$44,11,FALSE)))","v":0},null,null,null,null,null,null,null,null,null,null,null,null,null,null,null,null,null,null,{"$f":"IF('Last Race Results'!$B$5=0,0,IF(ISNA(VLOOKUP($A223,'Last Race Results'!$A$5:$J$44,2,FALSE)),\"DNS\",VLOOKUP($A223,'Last Race Results'!$A$5:$J$44,2,FALSE)))","v":"DNS"},{"$f":"IF('Last Race Results'!$B$5=0,0,IF(ISNA(VLOOKUP($A223,'Last Race Results'!$A$5:$J$44,11,FALSE)),0,VLOOKUP($A223,'Last Race Results'!$A$5:$J$44,11,FALSE)))","v":0}]
[207,{"$f":"IF(ISNA(VLOOKUP($A224,'Entry List'!$A$1:$F$61,B$5,FALSE)),\"\",VLOOKUP($A224,'Entry List'!$A$1:$F$61,B$5,FALSE))","v":""},{"$f":"IF(ISNA(VLOOKUP($A224,'Entry List'!$A$1:$F$61,C$5,FALSE)),\"\",VLOOKUP($A224,'Entry List'!$A$1:$F$61,C$5,FALSE))","v":""},{"$f":"IF(ISNA(VLOOKUP($A224,'Entry List'!$A$1:$F$61,D$5,FALSE)),\"\",VLOOKUP($A224,'Entry List'!$A$1:$F$61,D$5,FALSE))","v":""},{"$f":"IF(ISNA(VLOOKUP($A224,'Entry List'!$A$1:$F$61,E$5,FALSE)),\"\",VLOOKUP($A224,'Entry List'!$A$1:$F$61,E$5,FALSE))","v":""},null,"DNS",0,"DNS",0,"DNS",0,"DNS",0,"DNS",0,"DNS",0,"DNS",0,"DNS",0,"DNS",0,"DNS",0,"DNS",0,"DNS",0,"DNS",0,"DNS",0,"DNS",0,"DNS",0,"DNS",0,"DNS",0,"DNS",0,"DNS",0,"DNS",0,"DNS",0,"DNS",0,"DNS",0,"DNS",0,{"$f":"IF('Last Race Results'!$B$5=0,0,IF(ISNA(VLOOKUP($A224,'Last Race Results'!$A$5:$J$44,2,FALSE)),\"DNS\",VLOOKUP($A224,'Last Race Results'!$A$5:$J$44,2,FALSE)))","v":"DNS"},{"$f":"IF('Last Race Results'!$B$5=0,0,IF(ISNA(VLOOKUP($A224,'Last Race Results'!$A$5:$K$44,11,FALSE)),0,VLOOKUP($A224,'Last Race Results'!$A$5:$K$44,11,FALSE)))","v":0},null,null,null,null,null,null,null,null,null,null,null,null,null,null,null,null,null,null,{"$f":"IF('Last Race Results'!$B$5=0,0,IF(ISNA(VLOOKUP($A224,'Last Race Results'!$A$5:$J$44,2,FALSE)),\"DNS\",VLOOKUP($A224,'Last Race Results'!$A$5:$J$44,2,FALSE)))","v":"DNS"},{"$f":"IF('Last Race Results'!$B$5=0,0,IF(ISNA(VLOOKUP($A224,'Last Race Results'!$A$5:$J$44,11,FALSE)),0,VLOOKUP($A224,'Last Race Results'!$A$5:$J$44,11,FALSE)))","v":0}]
[208,{"$f":"IF(ISNA(VLOOKUP($A225,'Entry List'!$A$1:$F$61,B$5,FALSE)),\"\",VLOOKUP($A225,'Entry List'!$A$1:$F$61,B$5,FALSE))","v":""},{"$f":"IF(ISNA(VLOOKUP($A225,'Entry List'!$A$1:$F$61,C$5,FALSE)),\"\",VLOOKUP($A225,'Entry List'!$A$1:$F$61,C$5,FALSE))","v":""},{"$f":"IF(ISNA(VLOOKUP($A225,'Entry List'!$A$1:$F$61,D$5,FALSE)),\"\",VLOOKUP($A225,'Entry List'!$A$1:$F$61,D$5,FALSE))","v":""},{"$f":"IF(ISNA(VLOOKUP($A225,'Entry List'!$A$1:$F$61,E$5,FALSE)),\"\",VLOOKUP($A225,'Entry List'!$A$1:$F$61,E$5,FALSE))","v":""},null,"DNS",0,"DNS",0,"DNS",0,"DNS",0,"DNS",0,"DNS",0,"DNS",0,"DNS",0,"DNS",0,"DNS",0,"DNS",0,"DNS",0,"DNS",0,"DNS",0,"DNS",0,"DNS",0,"DNS",0,"DNS",0,"DNS",0,"DNS",0,"DNS",0,"DNS",0,"DNS",0,"DNS",0,"DNS",0,{"$f":"IF('Last Race Results'!$B$5=0,0,IF(ISNA(VLOOKUP($A225,'Last Race Results'!$A$5:$J$44,2,FALSE)),\"DNS\",VLOOKUP($A225,'Last Race Results'!$A$5:$J$44,2,FALSE)))","v":"DNS"},{"$f":"IF('Last Race Results'!$B$5=0,0,IF(ISNA(VLOOKUP($A225,'Last Race Results'!$A$5:$K$44,11,FALSE)),0,VLOOKUP($A225,'Last Race Results'!$A$5:$K$44,11,FALSE)))","v":0},null,null,null,null,null,null,null,null,null,null,null,null,null,null,null,null,null,null,{"$f":"IF('Last Race Results'!$B$5=0,0,IF(ISNA(VLOOKUP($A225,'Last Race Results'!$A$5:$J$44,2,FALSE)),\"DNS\",VLOOKUP($A225,'Last Race Results'!$A$5:$J$44,2,FALSE)))","v":"DNS"},{"$f":"IF('Last Race Results'!$B$5=0,0,IF(ISNA(VLOOKUP($A225,'Last Race Results'!$A$5:$J$44,11,FALSE)),0,VLOOKUP($A225,'Last Race Results'!$A$5:$J$44,11,FALSE)))","v":0}]
[209,{"$f":"IF(ISNA(VLOOKUP($A226,'Entry List'!$A$1:$F$61,B$5,FALSE)),\"\",VLOOKUP($A226,'Entry List'!$A$1:$F$61,B$5,FALSE))","v":""},{"$f":"IF(ISNA(VLOOKUP($A226,'Entry List'!$A$1:$F$61,C$5,FALSE)),\"\",VLOOKUP($A226,'Entry List'!$A$1:$F$61,C$5,FALSE))","v":""},{"$f":"IF(ISNA(VLOOKUP($A226,'Entry List'!$A$1:$F$61,D$5,FALSE)),\"\",VLOOKUP($A226,'Entry List'!$A$1:$F$61,D$5,FALSE))","v":""},{"$f":"IF(ISNA(VLOOKUP($A226,'Entry List'!$A$1:$F$61,E$5,FALSE)),\"\",VLOOKUP($A226,'Entry List'!$A$1:$F$61,E$5,FALSE))","v":""},null,"DNS",0,"DNS",0,"DNS",0,"DNS",0,"DNS",0,"DNS",0,"DNS",0,"DNS",0,"DNS",0,"DNS",0,"DNS",0,"DNS",0,"DNS",0,"DNS",0,"DNS",0,"DNS",0,"DNS",0,"DNS",0,"DNS",0,"DNS",0,"DNS",0,"DNS",0,"DNS",0,"DNS",0,"DNS",0,{"$f":"IF('Last Race Results'!$B$5=0,0,IF(ISNA(VLOOKUP($A226,'Last Race Results'!$A$5:$J$44,2,FALSE)),\"DNS\",VLOOKUP($A226,'Last Race Results'!$A$5:$J$44,2,FALSE)))","v":"DNS"},{"$f":"IF('Last Race Results'!$B$5=0,0,IF(ISNA(VLOOKUP($A226,'Last Race Results'!$A$5:$K$44,11,FALSE)),0,VLOOKUP($A226,'Last Race Results'!$A$5:$K$44,11,FALSE)))","v":0},null,null,null,null,null,null,null,null,null,null,null,null,null,null,null,null,null,null,{"$f":"IF('Last Race Results'!$B$5=0,0,IF(ISNA(VLOOKUP($A226,'Last Race Results'!$A$5:$J$44,2,FALSE)),\"DNS\",VLOOKUP($A226,'Last Race Results'!$A$5:$J$44,2,FALSE)))","v":"DNS"},{"$f":"IF('Last Race Results'!$B$5=0,0,IF(ISNA(VLOOKUP($A226,'Last Race Results'!$A$5:$J$44,11,FALSE)),0,VLOOKUP($A226,'Last Race Results'!$A$5:$J$44,11,FALSE)))","v":0}]
[210,{"$f":"IF(ISNA(VLOOKUP($A227,'Entry List'!$A$1:$F$61,B$5,FALSE)),\"\",VLOOKUP($A227,'Entry List'!$A$1:$F$61,B$5,FALSE))","v":""},{"$f":"IF(ISNA(VLOOKUP($A227,'Entry List'!$A$1:$F$61,C$5,FALSE)),\"\",VLOOKUP($A227,'Entry List'!$A$1:$F$61,C$5,FALSE))","v":""},{"$f":"IF(ISNA(VLOOKUP($A227,'Entry List'!$A$1:$F$61,D$5,FALSE)),\"\",VLOOKUP($A227,'Entry List'!$A$1:$F$61,D$5,FALSE))","v":""},{"$f":"IF(ISNA(VLOOKUP($A227,'Entry List'!$A$1:$F$61,E$5,FALSE)),\"\",VLOOKUP($A227,'Entry List'!$A$1:$F$61,E$5,FALSE))","v":""},null,"DNS",0,"DNS",0,"DNS",0,"DNS",0,"DNS",0,"DNS",0,"DNS",0,"DNS",0,"DNS",0,"DNS",0,"DNS",0,"DNS",0,"DNS",0,"DNS",0,"DNS",0,"DNS",0,"DNS",0,"DNS",0,"DNS",0,"DNS",0,"DNS",0,"DNS",0,"DNS",0,"DNS",0,"DNS",0,{"$f":"IF('Last Race Results'!$B$5=0,0,IF(ISNA(VLOOKUP($A227,'Last Race Results'!$A$5:$J$44,2,FALSE)),\"DNS\",VLOOKUP($A227,'Last Race Results'!$A$5:$J$44,2,FALSE)))","v":"DNS"},{"$f":"IF('Last Race Results'!$B$5=0,0,IF(ISNA(VLOOKUP($A227,'Last Race Results'!$A$5:$K$44,11,FALSE)),0,VLOOKUP($A227,'Last Race Results'!$A$5:$K$44,11,FALSE)))","v":0},null,null,null,null,null,null,null,null,null,null,null,null,null,null,null,null,null,null,{"$f":"IF('Last Race Results'!$B$5=0,0,IF(ISNA(VLOOKUP($A227,'Last Race Results'!$A$5:$J$44,2,FALSE)),\"DNS\",VLOOKUP($A227,'Last Race Results'!$A$5:$J$44,2,FALSE)))","v":"DNS"},{"$f":"IF('Last Race Results'!$B$5=0,0,IF(ISNA(VLOOKUP($A227,'Last Race Results'!$A$5:$J$44,11,FALSE)),0,VLOOKUP($A227,'Last Race Results'!$A$5:$J$44,11,FALSE)))","v":0}]
[211,{"$f":"IF(ISNA(VLOOKUP($A228,'Entry List'!$A$1:$F$61,B$5,FALSE)),\"\",VLOOKUP($A228,'Entry List'!$A$1:$F$61,B$5,FALSE))","v":""},{"$f":"IF(ISNA(VLOOKUP($A228,'Entry List'!$A$1:$F$61,C$5,FALSE)),\"\",VLOOKUP($A228,'Entry List'!$A$1:$F$61,C$5,FALSE))","v":""},{"$f":"IF(ISNA(VLOOKUP($A228,'Entry List'!$A$1:$F$61,D$5,FALSE)),\"\",VLOOKUP($A228,'Entry List'!$A$1:$F$61,D$5,FALSE))","v":""},{"$f":"IF(ISNA(VLOOKUP($A228,'Entry List'!$A$1:$F$61,E$5,FALSE)),\"\",VLOOKUP($A228,'Entry List'!$A$1:$F$61,E$5,FALSE))","v":""},null,"DNS",0,"DNS",0,"DNS",0,"DNS",0,"DNS",0,"DNS",0,"DNS",0,"DNS",0,"DNS",0,"DNS",0,"DNS",0,"DNS",0,"DNS",0,"DNS",0,"DNS",0,"DNS",0,"DNS",0,"DNS",0,"DNS",0,"DNS",0,"DNS",0,"DNS",0,"DNS",0,"DNS",0,"DNS",0,{"$f":"IF('Last Race Results'!$B$5=0,0,IF(ISNA(VLOOKUP($A228,'Last Race Results'!$A$5:$J$44,2,FALSE)),\"DNS\",VLOOKUP($A228,'Last Race Results'!$A$5:$J$44,2,FALSE)))","v":"DNS"},{"$f":"IF('Last Race Results'!$B$5=0,0,IF(ISNA(VLOOKUP($A228,'Last Race Results'!$A$5:$K$44,11,FALSE)),0,VLOOKUP($A228,'Last Race Results'!$A$5:$K$44,11,FALSE)))","v":0},null,null,null,null,null,null,null,null,null,null,null,null,null,null,null,null,null,null,{"$f":"IF('Last Race Results'!$B$5=0,0,IF(ISNA(VLOOKUP($A228,'Last Race Results'!$A$5:$J$44,2,FALSE)),\"DNS\",VLOOKUP($A228,'Last Race Results'!$A$5:$J$44,2,FALSE)))","v":"DNS"},{"$f":"IF('Last Race Results'!$B$5=0,0,IF(ISNA(VLOOKUP($A228,'Last Race Results'!$A$5:$J$44,11,FALSE)),0,VLOOKUP($A228,'Last Race Results'!$A$5:$J$44,11,FALSE)))","v":0}]
[212,{"$f":"IF(ISNA(VLOOKUP($A229,'Entry List'!$A$1:$F$61,B$5,FALSE)),\"\",VLOOKUP($A229,'Entry List'!$A$1:$F$61,B$5,FALSE))","v":""},{"$f":"IF(ISNA(VLOOKUP($A229,'Entry List'!$A$1:$F$61,C$5,FALSE)),\"\",VLOOKUP($A229,'Entry List'!$A$1:$F$61,C$5,FALSE))","v":""},{"$f":"IF(ISNA(VLOOKUP($A229,'Entry List'!$A$1:$F$61,D$5,FALSE)),\"\",VLOOKUP($A229,'Entry List'!$A$1:$F$61,D$5,FALSE))","v":""},{"$f":"IF(ISNA(VLOOKUP($A229,'Entry List'!$A$1:$F$61,E$5,FALSE)),\"\",VLOOKUP($A229,'Entry List'!$A$1:$F$61,E$5,FALSE))","v":""},null,"DNS",0,"DNS",0,"DNS",0,"DNS",0,"DNS",0,"DNS",0,"DNS",0,"DNS",0,"DNS",0,"DNS",0,"DNS",0,"DNS",0,"DNS",0,"DNS",0,"DNS",0,"DNS",0,"DNS",0,"DNS",0,"DNS",0,"DNS",0,"DNS",0,"DNS",0,"DNS",0,"DNS",0,"DNS",0,{"$f":"IF('Last Race Results'!$B$5=0,0,IF(ISNA(VLOOKUP($A229,'Last Race Results'!$A$5:$J$44,2,FALSE)),\"DNS\",VLOOKUP($A229,'Last Race Results'!$A$5:$J$44,2,FALSE)))","v":"DNS"},{"$f":"IF('Last Race Results'!$B$5=0,0,IF(ISNA(VLOOKUP($A229,'Last Race Results'!$A$5:$K$44,11,FALSE)),0,VLOOKUP($A229,'Last Race Results'!$A$5:$K$44,11,FALSE)))","v":0},null,null,null,null,null,null,null,null,null,null,null,null,null,null,null,null,null,null,{"$f":"IF('Last Race Results'!$B$5=0,0,IF(ISNA(VLOOKUP($A229,'Last Race Results'!$A$5:$J$44,2,FALSE)),\"DNS\",VLOOKUP($A229,'Last Race Results'!$A$5:$J$44,2,FALSE)))","v":"DNS"},{"$f":"IF('Last Race Results'!$B$5=0,0,IF(ISNA(VLOOKUP($A229,'Last Race Results'!$A$5:$J$44,11,FALSE)),0,VLOOKUP($A229,'Last Race Results'!$A$5:$J$44,11,FALSE)))","v":0}]
[213,{"$f":"IF(ISNA(VLOOKUP($A230,'Entry List'!$A$1:$F$61,B$5,FALSE)),\"\",VLOOKUP($A230,'Entry List'!$A$1:$F$61,B$5,FALSE))","v":""},{"$f":"IF(ISNA(VLOOKUP($A230,'Entry List'!$A$1:$F$61,C$5,FALSE)),\"\",VLOOKUP($A230,'Entry List'!$A$1:$F$61,C$5,FALSE))","v":""},{"$f":"IF(ISNA(VLOOKUP($A230,'Entry List'!$A$1:$F$61,D$5,FALSE)),\"\",VLOOKUP($A230,'Entry List'!$A$1:$F$61,D$5,FALSE))","v":""},{"$f":"IF(ISNA(VLOOKUP($A230,'Entry List'!$A$1:$F$61,E$5,FALSE)),\"\",VLOOKUP($A230,'Entry List'!$A$1:$F$61,E$5,FALSE))","v":""},null,"DNS",0,"DNS",0,"DNS",0,"DNS",0,"DNS",0,"DNS",0,"DNS",0,"DNS",0,"DNS",0,"DNS",0,"DNS",0,"DNS",0,"DNS",0,"DNS",0,"DNS",0,"DNS",0,"DNS",0,"DNS",0,"DNS",0,"DNS",0,"DNS",0,"DNS",0,"DNS",0,"DNS",0,"DNS",0,{"$f":"IF('Last Race Results'!$B$5=0,0,IF(ISNA(VLOOKUP($A230,'Last Race Results'!$A$5:$J$44,2,FALSE)),\"DNS\",VLOOKUP($A230,'Last Race Results'!$A$5:$J$44,2,FALSE)))","v":"DNS"},{"$f":"IF('Last Race Results'!$B$5=0,0,IF(ISNA(VLOOKUP($A230,'Last Race Results'!$A$5:$K$44,11,FALSE)),0,VLOOKUP($A230,'Last Race Results'!$A$5:$K$44,11,FALSE)))","v":0},null,null,null,null,null,null,null,null,null,null,null,null,null,null,null,null,null,null,{"$f":"IF('Last Race Results'!$B$5=0,0,IF(ISNA(VLOOKUP($A230,'Last Race Results'!$A$5:$J$44,2,FALSE)),\"DNS\",VLOOKUP($A230,'Last Race Results'!$A$5:$J$44,2,FALSE)))","v":"DNS"},{"$f":"IF('Last Race Results'!$B$5=0,0,IF(ISNA(VLOOKUP($A230,'Last Race Results'!$A$5:$J$44,11,FALSE)),0,VLOOKUP($A230,'Last Race Results'!$A$5:$J$44,11,FALSE)))","v":0}]
[214,{"$f":"IF(ISNA(VLOOKUP($A231,'Entry List'!$A$1:$F$61,B$5,FALSE)),\"\",VLOOKUP($A231,'Entry List'!$A$1:$F$61,B$5,FALSE))","v":""},{"$f":"IF(ISNA(VLOOKUP($A231,'Entry List'!$A$1:$F$61,C$5,FALSE)),\"\",VLOOKUP($A231,'Entry List'!$A$1:$F$61,C$5,FALSE))","v":""},{"$f":"IF(ISNA(VLOOKUP($A231,'Entry List'!$A$1:$F$61,D$5,FALSE)),\"\",VLOOKUP($A231,'Entry List'!$A$1:$F$61,D$5,FALSE))","v":""},{"$f":"IF(ISNA(VLOOKUP($A231,'Entry List'!$A$1:$F$61,E$5,FALSE)),\"\",VLOOKUP($A231,'Entry List'!$A$1:$F$61,E$5,FALSE))","v":""},null,"DNS",0,"DNS",0,"DNS",0,"DNS",0,"DNS",0,"DNS",0,"DNS",0,"DNS",0,"DNS",0,"DNS",0,"DNS",0,"DNS",0,"DNS",0,"DNS",0,"DNS",0,"DNS",0,"DNS",0,"DNS",0,"DNS",0,"DNS",0,"DNS",0,"DNS",0,"DNS",0,"DNS",0,"DNS",0,{"$f":"IF('Last Race Results'!$B$5=0,0,IF(ISNA(VLOOKUP($A231,'Last Race Results'!$A$5:$J$44,2,FALSE)),\"DNS\",VLOOKUP($A231,'Last Race Results'!$A$5:$J$44,2,FALSE)))","v":"DNS"},{"$f":"IF('Last Race Results'!$B$5=0,0,IF(ISNA(VLOOKUP($A231,'Last Race Results'!$A$5:$K$44,11,FALSE)),0,VLOOKUP($A231,'Last Race Results'!$A$5:$K$44,11,FALSE)))","v":0},null,null,null,null,null,null,null,null,null,null,null,null,null,null,null,null,null,null,{"$f":"IF('Last Race Results'!$B$5=0,0,IF(ISNA(VLOOKUP($A231,'Last Race Results'!$A$5:$J$44,2,FALSE)),\"DNS\",VLOOKUP($A231,'Last Race Results'!$A$5:$J$44,2,FALSE)))","v":"DNS"},{"$f":"IF('Last Race Results'!$B$5=0,0,IF(ISNA(VLOOKUP($A231,'Last Race Results'!$A$5:$J$44,11,FALSE)),0,VLOOKUP($A231,'Last Race Results'!$A$5:$J$44,11,FALSE)))","v":0}]
[215,{"$f":"IF(ISNA(VLOOKUP($A232,'Entry List'!$A$1:$F$61,B$5,FALSE)),\"\",VLOOKUP($A232,'Entry List'!$A$1:$F$61,B$5,FALSE))","v":""},{"$f":"IF(ISNA(VLOOKUP($A232,'Entry List'!$A$1:$F$61,C$5,FALSE)),\"\",VLOOKUP($A232,'Entry List'!$A$1:$F$61,C$5,FALSE))","v":""},{"$f":"IF(ISNA(VLOOKUP($A232,'Entry List'!$A$1:$F$61,D$5,FALSE)),\"\",VLOOKUP($A232,'Entry List'!$A$1:$F$61,D$5,FALSE))","v":""},{"$f":"IF(ISNA(VLOOKUP($A232,'Entry List'!$A$1:$F$61,E$5,FALSE)),\"\",VLOOKUP($A232,'Entry List'!$A$1:$F$61,E$5,FALSE))","v":""},null,"DNS",0,"DNS",0,"DNS",0,"DNS",0,"DNS",0,"DNS",0,"DNS",0,"DNS",0,"DNS",0,"DNS",0,"DNS",0,"DNS",0,"DNS",0,"DNS",0,"DNS",0,"DNS",0,"DNS",0,"DNS",0,"DNS",0,"DNS",0,"DNS",0,"DNS",0,"DNS",0,"DNS",0,"DNS",0,{"$f":"IF('Last Race Results'!$B$5=0,0,IF(ISNA(VLOOKUP($A232,'Last Race Results'!$A$5:$J$44,2,FALSE)),\"DNS\",VLOOKUP($A232,'Last Race Results'!$A$5:$J$44,2,FALSE)))","v":"DNS"},{"$f":"IF('Last Race Results'!$B$5=0,0,IF(ISNA(VLOOKUP($A232,'Last Race Results'!$A$5:$K$44,11,FALSE)),0,VLOOKUP($A232,'Last Race Results'!$A$5:$K$44,11,FALSE)))","v":0},null,null,null,null,null,null,null,null,null,null,null,null,null,null,null,null,null,null,{"$f":"IF('Last Race Results'!$B$5=0,0,IF(ISNA(VLOOKUP($A232,'Last Race Results'!$A$5:$J$44,2,FALSE)),\"DNS\",VLOOKUP($A232,'Last Race Results'!$A$5:$J$44,2,FALSE)))","v":"DNS"},{"$f":"IF('Last Race Results'!$B$5=0,0,IF(ISNA(VLOOKUP($A232,'Last Race Results'!$A$5:$J$44,11,FALSE)),0,VLOOKUP($A232,'Last Race Results'!$A$5:$J$44,11,FALSE)))","v":0}]
[216,{"$f":"IF(ISNA(VLOOKUP($A233,'Entry List'!$A$1:$F$61,B$5,FALSE)),\"\",VLOOKUP($A233,'Entry List'!$A$1:$F$61,B$5,FALSE))","v":""},{"$f":"IF(ISNA(VLOOKUP($A233,'Entry List'!$A$1:$F$61,C$5,FALSE)),\"\",VLOOKUP($A233,'Entry List'!$A$1:$F$61,C$5,FALSE))","v":""},{"$f":"IF(ISNA(VLOOKUP($A233,'Entry List'!$A$1:$F$61,D$5,FALSE)),\"\",VLOOKUP($A233,'Entry List'!$A$1:$F$61,D$5,FALSE))","v":""},{"$f":"IF(ISNA(VLOOKUP($A233,'Entry List'!$A$1:$F$61,E$5,FALSE)),\"\",VLOOKUP($A233,'Entry List'!$A$1:$F$61,E$5,FALSE))","v":""},null,"DNS",0,"DNS",0,"DNS",0,"DNS",0,"DNS",0,"DNS",0,"DNS",0,"DNS",0,"DNS",0,"DNS",0,"DNS",0,"DNS",0,"DNS",0,"DNS",0,"DNS",0,"DNS",0,"DNS",0,"DNS",0,"DNS",0,"DNS",0,"DNS",0,"DNS",0,"DNS",0,"DNS",0,"DNS",0,{"$f":"IF('Last Race Results'!$B$5=0,0,IF(ISNA(VLOOKUP($A233,'Last Race Results'!$A$5:$J$44,2,FALSE)),\"DNS\",VLOOKUP($A233,'Last Race Results'!$A$5:$J$44,2,FALSE)))","v":"DNS"},{"$f":"IF('Last Race Results'!$B$5=0,0,IF(ISNA(VLOOKUP($A233,'Last Race Results'!$A$5:$K$44,11,FALSE)),0,VLOOKUP($A233,'Last Race Results'!$A$5:$K$44,11,FALSE)))","v":0},null,null,null,null,null,null,null,null,null,null,null,null,null,null,null,null,null,null,{"$f":"IF('Last Race Results'!$B$5=0,0,IF(ISNA(VLOOKUP($A233,'Last Race Results'!$A$5:$J$44,2,FALSE)),\"DNS\",VLOOKUP($A233,'Last Race Results'!$A$5:$J$44,2,FALSE)))","v":"DNS"},{"$f":"IF('Last Race Results'!$B$5=0,0,IF(ISNA(VLOOKUP($A233,'Last Race Results'!$A$5:$J$44,11,FALSE)),0,VLOOKUP($A233,'Last Race Results'!$A$5:$J$44,11,FALSE)))","v":0}]
[217,{"$f":"IF(ISNA(VLOOKUP($A234,'Entry List'!$A$1:$F$61,B$5,FALSE)),\"\",VLOOKUP($A234,'Entry List'!$A$1:$F$61,B$5,FALSE))","v":""},{"$f":"IF(ISNA(VLOOKUP($A234,'Entry List'!$A$1:$F$61,C$5,FALSE)),\"\",VLOOKUP($A234,'Entry List'!$A$1:$F$61,C$5,FALSE))","v":""},{"$f":"IF(ISNA(VLOOKUP($A234,'Entry List'!$A$1:$F$61,D$5,FALSE)),\"\",VLOOKUP($A234,'Entry List'!$A$1:$F$61,D$5,FALSE))","v":""},{"$f":"IF(ISNA(VLOOKUP($A234,'Entry List'!$A$1:$F$61,E$5,FALSE)),\"\",VLOOKUP($A234,'Entry List'!$A$1:$F$61,E$5,FALSE))","v":""},null,"DNS",0,"DNS",0,"DNS",0,"DNS",0,"DNS",0,"DNS",0,"DNS",0,"DNS",0,"DNS",0,"DNS",0,"DNS",0,"DNS",0,"DNS",0,"DNS",0,"DNS",0,"DNS",0,"DNS",0,"DNS",0,"DNS",0,"DNS",0,"DNS",0,"DNS",0,"DNS",0,"DNS",0,"DNS",0,{"$f":"IF('Last Race Results'!$B$5=0,0,IF(ISNA(VLOOKUP($A234,'Last Race Results'!$A$5:$J$44,2,FALSE)),\"DNS\",VLOOKUP($A234,'Last Race Results'!$A$5:$J$44,2,FALSE)))","v":"DNS"},{"$f":"IF('Last Race Results'!$B$5=0,0,IF(ISNA(VLOOKUP($A234,'Last Race Results'!$A$5:$K$44,11,FALSE)),0,VLOOKUP($A234,'Last Race Results'!$A$5:$K$44,11,FALSE)))","v":0},null,null,null,null,null,null,null,null,null,null,null,null,null,null,null,null,null,null,{"$f":"IF('Last Race Results'!$B$5=0,0,IF(ISNA(VLOOKUP($A234,'Last Race Results'!$A$5:$J$44,2,FALSE)),\"DNS\",VLOOKUP($A234,'Last Race Results'!$A$5:$J$44,2,FALSE)))","v":"DNS"},{"$f":"IF('Last Race Results'!$B$5=0,0,IF(ISNA(VLOOKUP($A234,'Last Race Results'!$A$5:$J$44,11,FALSE)),0,VLOOKUP($A234,'Last Race Results'!$A$5:$J$44,11,FALSE)))","v":0}]
[218,{"$f":"IF(ISNA(VLOOKUP($A235,'Entry List'!$A$1:$F$61,B$5,FALSE)),\"\",VLOOKUP($A235,'Entry List'!$A$1:$F$61,B$5,FALSE))","v":""},{"$f":"IF(ISNA(VLOOKUP($A235,'Entry List'!$A$1:$F$61,C$5,FALSE)),\"\",VLOOKUP($A235,'Entry List'!$A$1:$F$61,C$5,FALSE))","v":""},{"$f":"IF(ISNA(VLOOKUP($A235,'Entry List'!$A$1:$F$61,D$5,FALSE)),\"\",VLOOKUP($A235,'Entry List'!$A$1:$F$61,D$5,FALSE))","v":""},{"$f":"IF(ISNA(VLOOKUP($A235,'Entry List'!$A$1:$F$61,E$5,FALSE)),\"\",VLOOKUP($A235,'Entry List'!$A$1:$F$61,E$5,FALSE))","v":""},null,"DNS",0,"DNS",0,"DNS",0,"DNS",0,"DNS",0,"DNS",0,"DNS",0,"DNS",0,"DNS",0,"DNS",0,"DNS",0,"DNS",0,"DNS",0,"DNS",0,"DNS",0,"DNS",0,"DNS",0,"DNS",0,"DNS",0,"DNS",0,"DNS",0,"DNS",0,"DNS",0,"DNS",0,"DNS",0,{"$f":"IF('Last Race Results'!$B$5=0,0,IF(ISNA(VLOOKUP($A235,'Last Race Results'!$A$5:$J$44,2,FALSE)),\"DNS\",VLOOKUP($A235,'Last Race Results'!$A$5:$J$44,2,FALSE)))","v":"DNS"},{"$f":"IF('Last Race Results'!$B$5=0,0,IF(ISNA(VLOOKUP($A235,'Last Race Results'!$A$5:$K$44,11,FALSE)),0,VLOOKUP($A235,'Last Race Results'!$A$5:$K$44,11,FALSE)))","v":0},null,null,null,null,null,null,null,null,null,null,null,null,null,null,null,null,null,null,{"$f":"IF('Last Race Results'!$B$5=0,0,IF(ISNA(VLOOKUP($A235,'Last Race Results'!$A$5:$J$44,2,FALSE)),\"DNS\",VLOOKUP($A235,'Last Race Results'!$A$5:$J$44,2,FALSE)))","v":"DNS"},{"$f":"IF('Last Race Results'!$B$5=0,0,IF(ISNA(VLOOKUP($A235,'Last Race Results'!$A$5:$J$44,11,FALSE)),0,VLOOKUP($A235,'Last Race Results'!$A$5:$J$44,11,FALSE)))","v":0}]
[219,{"$f":"IF(ISNA(VLOOKUP($A236,'Entry List'!$A$1:$F$61,B$5,FALSE)),\"\",VLOOKUP($A236,'Entry List'!$A$1:$F$61,B$5,FALSE))","v":""},{"$f":"IF(ISNA(VLOOKUP($A236,'Entry List'!$A$1:$F$61,C$5,FALSE)),\"\",VLOOKUP($A236,'Entry List'!$A$1:$F$61,C$5,FALSE))","v":""},{"$f":"IF(ISNA(VLOOKUP($A236,'Entry List'!$A$1:$F$61,D$5,FALSE)),\"\",VLOOKUP($A236,'Entry List'!$A$1:$F$61,D$5,FALSE))","v":""},{"$f":"IF(ISNA(VLOOKUP($A236,'Entry List'!$A$1:$F$61,E$5,FALSE)),\"\",VLOOKUP($A236,'Entry List'!$A$1:$F$61,E$5,FALSE))","v":""},null,"DNS",0,"DNS",0,"DNS",0,"DNS",0,"DNS",0,"DNS",0,"DNS",0,"DNS",0,"DNS",0,"DNS",0,"DNS",0,"DNS",0,"DNS",0,"DNS",0,"DNS",0,"DNS",0,"DNS",0,"DNS",0,"DNS",0,"DNS",0,"DNS",0,"DNS",0,"DNS",0,"DNS",0,"DNS",0,{"$f":"IF('Last Race Results'!$B$5=0,0,IF(ISNA(VLOOKUP($A236,'Last Race Results'!$A$5:$J$44,2,FALSE)),\"DNS\",VLOOKUP($A236,'Last Race Results'!$A$5:$J$44,2,FALSE)))","v":"DNS"},{"$f":"IF('Last Race Results'!$B$5=0,0,IF(ISNA(VLOOKUP($A236,'Last Race Results'!$A$5:$K$44,11,FALSE)),0,VLOOKUP($A236,'Last Race Results'!$A$5:$K$44,11,FALSE)))","v":0},null,null,null,null,null,null,null,null,null,null,null,null,null,null,null,null,null,null,{"$f":"IF('Last Race Results'!$B$5=0,0,IF(ISNA(VLOOKUP($A236,'Last Race Results'!$A$5:$J$44,2,FALSE)),\"DNS\",VLOOKUP($A236,'Last Race Results'!$A$5:$J$44,2,FALSE)))","v":"DNS"},{"$f":"IF('Last Race Results'!$B$5=0,0,IF(ISNA(VLOOKUP($A236,'Last Race Results'!$A$5:$J$44,11,FALSE)),0,VLOOKUP($A236,'Last Race Results'!$A$5:$J$44,11,FALSE)))","v":0}]
[220,{"$f":"IF(ISNA(VLOOKUP($A237,'Entry List'!$A$1:$F$61,B$5,FALSE)),\"\",VLOOKUP($A237,'Entry List'!$A$1:$F$61,B$5,FALSE))","v":""},{"$f":"IF(ISNA(VLOOKUP($A237,'Entry List'!$A$1:$F$61,C$5,FALSE)),\"\",VLOOKUP($A237,'Entry List'!$A$1:$F$61,C$5,FALSE))","v":""},{"$f":"IF(ISNA(VLOOKUP($A237,'Entry List'!$A$1:$F$61,D$5,FALSE)),\"\",VLOOKUP($A237,'Entry List'!$A$1:$F$61,D$5,FALSE))","v":""},{"$f":"IF(ISNA(VLOOKUP($A237,'Entry List'!$A$1:$F$61,E$5,FALSE)),\"\",VLOOKUP($A237,'Entry List'!$A$1:$F$61,E$5,FALSE))","v":""},null,"DNS",0,"DNS",0,"DNS",0,"DNS",0,"DNS",0,"DNS",0,"DNS",0,"DNS",0,"DNS",0,"DNS",0,"DNS",0,"DNS",0,"DNS",0,"DNS",0,"DNS",0,"DNS",0,"DNS",0,"DNS",0,"DNS",0,"DNS",0,"DNS",0,"DNS",0,"DNS",0,"DNS",0,"DNS",0,{"$f":"IF('Last Race Results'!$B$5=0,0,IF(ISNA(VLOOKUP($A237,'Last Race Results'!$A$5:$J$44,2,FALSE)),\"DNS\",VLOOKUP($A237,'Last Race Results'!$A$5:$J$44,2,FALSE)))","v":"DNS"},{"$f":"IF('Last Race Results'!$B$5=0,0,IF(ISNA(VLOOKUP($A237,'Last Race Results'!$A$5:$K$44,11,FALSE)),0,VLOOKUP($A237,'Last Race Results'!$A$5:$K$44,11,FALSE)))","v":0},null,null,null,null,null,null,null,null,null,null,null,null,null,null,null,null,null,null,{"$f":"IF('Last Race Results'!$B$5=0,0,IF(ISNA(VLOOKUP($A237,'Last Race Results'!$A$5:$J$44,2,FALSE)),\"DNS\",VLOOKUP($A237,'Last Race Results'!$A$5:$J$44,2,FALSE)))","v":"DNS"},{"$f":"IF('Last Race Results'!$B$5=0,0,IF(ISNA(VLOOKUP($A237,'Last Race Results'!$A$5:$J$44,11,FALSE)),0,VLOOKUP($A237,'Last Race Results'!$A$5:$J$44,11,FALSE)))","v":0}]
[221,{"$f":"IF(ISNA(VLOOKUP($A238,'Entry List'!$A$1:$F$61,B$5,FALSE)),\"\",VLOOKUP($A238,'Entry List'!$A$1:$F$61,B$5,FALSE))","v":""},{"$f":"IF(ISNA(VLOOKUP($A238,'Entry List'!$A$1:$F$61,C$5,FALSE)),\"\",VLOOKUP($A238,'Entry List'!$A$1:$F$61,C$5,FALSE))","v":""},{"$f":"IF(ISNA(VLOOKUP($A238,'Entry List'!$A$1:$F$61,D$5,FALSE)),\"\",VLOOKUP($A238,'Entry List'!$A$1:$F$61,D$5,FALSE))","v":""},{"$f":"IF(ISNA(VLOOKUP($A238,'Entry List'!$A$1:$F$61,E$5,FALSE)),\"\",VLOOKUP($A238,'Entry List'!$A$1:$F$61,E$5,FALSE))","v":""},null,"DNS",0,"DNS",0,"DNS",0,"DNS",0,"DNS",0,"DNS",0,"DNS",0,"DNS",0,"DNS",0,"DNS",0,"DNS",0,"DNS",0,"DNS",0,"DNS",0,"DNS",0,"DNS",0,"DNS",0,"DNS",0,"DNS",0,"DNS",0,"DNS",0,"DNS",0,"DNS",0,"DNS",0,"DNS",0,{"$f":"IF('Last Race Results'!$B$5=0,0,IF(ISNA(VLOOKUP($A238,'Last Race Results'!$A$5:$J$44,2,FALSE)),\"DNS\",VLOOKUP($A238,'Last Race Results'!$A$5:$J$44,2,FALSE)))","v":"DNS"},{"$f":"IF('Last Race Results'!$B$5=0,0,IF(ISNA(VLOOKUP($A238,'Last Race Results'!$A$5:$K$44,11,FALSE)),0,VLOOKUP($A238,'Last Race Results'!$A$5:$K$44,11,FALSE)))","v":0},null,null,null,null,null,null,null,null,null,null,null,null,null,null,null,null,null,null,{"$f":"IF('Last Race Results'!$B$5=0,0,IF(ISNA(VLOOKUP($A238,'Last Race Results'!$A$5:$J$44,2,FALSE)),\"DNS\",VLOOKUP($A238,'Last Race Results'!$A$5:$J$44,2,FALSE)))","v":"DNS"},{"$f":"IF('Last Race Results'!$B$5=0,0,IF(ISNA(VLOOKUP($A238,'Last Race Results'!$A$5:$J$44,11,FALSE)),0,VLOOKUP($A238,'Last Race Results'!$A$5:$J$44,11,FALSE)))","v":0}]
[222,{"$f":"IF(ISNA(VLOOKUP($A239,'Entry List'!$A$1:$F$61,B$5,FALSE)),\"\",VLOOKUP($A239,'Entry List'!$A$1:$F$61,B$5,FALSE))","v":""},{"$f":"IF(ISNA(VLOOKUP($A239,'Entry List'!$A$1:$F$61,C$5,FALSE)),\"\",VLOOKUP($A239,'Entry List'!$A$1:$F$61,C$5,FALSE))","v":""},{"$f":"IF(ISNA(VLOOKUP($A239,'Entry List'!$A$1:$F$61,D$5,FALSE)),\"\",VLOOKUP($A239,'Entry List'!$A$1:$F$61,D$5,FALSE))","v":""},{"$f":"IF(ISNA(VLOOKUP($A239,'Entry List'!$A$1:$F$61,E$5,FALSE)),\"\",VLOOKUP($A239,'Entry List'!$A$1:$F$61,E$5,FALSE))","v":""},null,"DNS",0,"DNS",0,"DNS",0,"DNS",0,"DNS",0,"DNS",0,"DNS",0,"DNS",0,"DNS",0,"DNS",0,"DNS",0,"DNS",0,"DNS",0,"DNS",0,"DNS",0,"DNS",0,"DNS",0,"DNS",0,"DNS",0,"DNS",0,"DNS",0,"DNS",0,"DNS",0,"DNS",0,"DNS",0,{"$f":"IF('Last Race Results'!$B$5=0,0,IF(ISNA(VLOOKUP($A239,'Last Race Results'!$A$5:$J$44,2,FALSE)),\"DNS\",VLOOKUP($A239,'Last Race Results'!$A$5:$J$44,2,FALSE)))","v":"DNS"},{"$f":"IF('Last Race Results'!$B$5=0,0,IF(ISNA(VLOOKUP($A239,'Last Race Results'!$A$5:$K$44,11,FALSE)),0,VLOOKUP($A239,'Last Race Results'!$A$5:$K$44,11,FALSE)))","v":0},null,null,null,null,null,null,null,null,null,null,null,null,null,null,null,null,null,null,{"$f":"IF('Last Race Results'!$B$5=0,0,IF(ISNA(VLOOKUP($A239,'Last Race Results'!$A$5:$J$44,2,FALSE)),\"DNS\",VLOOKUP($A239,'Last Race Results'!$A$5:$J$44,2,FALSE)))","v":"DNS"},{"$f":"IF('Last Race Results'!$B$5=0,0,IF(ISNA(VLOOKUP($A239,'Last Race Results'!$A$5:$J$44,11,FALSE)),0,VLOOKUP($A239,'Last Race Results'!$A$5:$J$44,11,FALSE)))","v":0}]
[223,{"$f":"IF(ISNA(VLOOKUP($A240,'Entry List'!$A$1:$F$61,B$5,FALSE)),\"\",VLOOKUP($A240,'Entry List'!$A$1:$F$61,B$5,FALSE))","v":""},{"$f":"IF(ISNA(VLOOKUP($A240,'Entry List'!$A$1:$F$61,C$5,FALSE)),\"\",VLOOKUP($A240,'Entry List'!$A$1:$F$61,C$5,FALSE))","v":""},{"$f":"IF(ISNA(VLOOKUP($A240,'Entry List'!$A$1:$F$61,D$5,FALSE)),\"\",VLOOKUP($A240,'Entry List'!$A$1:$F$61,D$5,FALSE))","v":""},{"$f":"IF(ISNA(VLOOKUP($A240,'Entry List'!$A$1:$F$61,E$5,FALSE)),\"\",VLOOKUP($A240,'Entry List'!$A$1:$F$61,E$5,FALSE))","v":""},null,"DNS",0,"DNS",0,"DNS",0,"DNS",0,"DNS",0,"DNS",0,"DNS",0,"DNS",0,"DNS",0,"DNS",0,"DNS",0,"DNS",0,"DNS",0,"DNS",0,"DNS",0,"DNS",0,"DNS",0,"DNS",0,"DNS",0,"DNS",0,"DNS",0,"DNS",0,"DNS",0,"DNS",0,"DNS",0,{"$f":"IF('Last Race Results'!$B$5=0,0,IF(ISNA(VLOOKUP($A240,'Last Race Results'!$A$5:$J$44,2,FALSE)),\"DNS\",VLOOKUP($A240,'Last Race Results'!$A$5:$J$44,2,FALSE)))","v":"DNS"},{"$f":"IF('Last Race Results'!$B$5=0,0,IF(ISNA(VLOOKUP($A240,'Last Race Results'!$A$5:$K$44,11,FALSE)),0,VLOOKUP($A240,'Last Race Results'!$A$5:$K$44,11,FALSE)))","v":0},null,null,null,null,null,null,null,null,null,null,null,null,null,null,null,null,null,null,{"$f":"IF('Last Race Results'!$B$5=0,0,IF(ISNA(VLOOKUP($A240,'Last Race Results'!$A$5:$J$44,2,FALSE)),\"DNS\",VLOOKUP($A240,'Last Race Results'!$A$5:$J$44,2,FALSE)))","v":"DNS"},{"$f":"IF('Last Race Results'!$B$5=0,0,IF(ISNA(VLOOKUP($A240,'Last Race Results'!$A$5:$J$44,11,FALSE)),0,VLOOKUP($A240,'Last Race Results'!$A$5:$J$44,11,FALSE)))","v":0}]
[224,{"$f":"IF(ISNA(VLOOKUP($A241,'Entry List'!$A$1:$F$61,B$5,FALSE)),\"\",VLOOKUP($A241,'Entry List'!$A$1:$F$61,B$5,FALSE))","v":""},{"$f":"IF(ISNA(VLOOKUP($A241,'Entry List'!$A$1:$F$61,C$5,FALSE)),\"\",VLOOKUP($A241,'Entry List'!$A$1:$F$61,C$5,FALSE))","v":""},{"$f":"IF(ISNA(VLOOKUP($A241,'Entry List'!$A$1:$F$61,D$5,FALSE)),\"\",VLOOKUP($A241,'Entry List'!$A$1:$F$61,D$5,FALSE))","v":""},{"$f":"IF(ISNA(VLOOKUP($A241,'Entry List'!$A$1:$F$61,E$5,FALSE)),\"\",VLOOKUP($A241,'Entry List'!$A$1:$F$61,E$5,FALSE))","v":""},null,"DNS",0,"DNS",0,"DNS",0,"DNS",0,"DNS",0,"DNS",0,"DNS",0,"DNS",0,"DNS",0,"DNS",0,"DNS",0,"DNS",0,"DNS",0,"DNS",0,"DNS",0,"DNS",0,"DNS",0,"DNS",0,"DNS",0,"DNS",0,"DNS",0,"DNS",0,"DNS",0,"DNS",0,"DNS",0,{"$f":"IF('Last Race Results'!$B$5=0,0,IF(ISNA(VLOOKUP($A241,'Last Race Results'!$A$5:$J$44,2,FALSE)),\"DNS\",VLOOKUP($A241,'Last Race Results'!$A$5:$J$44,2,FALSE)))","v":"DNS"},{"$f":"IF('Last Race Results'!$B$5=0,0,IF(ISNA(VLOOKUP($A241,'Last Race Results'!$A$5:$K$44,11,FALSE)),0,VLOOKUP($A241,'Last Race Results'!$A$5:$K$44,11,FALSE)))","v":0},null,null,null,null,null,null,null,null,null,null,null,null,null,null,null,null,null,null,{"$f":"IF('Last Race Results'!$B$5=0,0,IF(ISNA(VLOOKUP($A241,'Last Race Results'!$A$5:$J$44,2,FALSE)),\"DNS\",VLOOKUP($A241,'Last Race Results'!$A$5:$J$44,2,FALSE)))","v":"DNS"},{"$f":"IF('Last Race Results'!$B$5=0,0,IF(ISNA(VLOOKUP($A241,'Last Race Results'!$A$5:$J$44,11,FALSE)),0,VLOOKUP($A241,'Last Race Results'!$A$5:$J$44,11,FALSE)))","v":0}]
[225,{"$f":"IF(ISNA(VLOOKUP($A242,'Entry List'!$A$1:$F$61,B$5,FALSE)),\"\",VLOOKUP($A242,'Entry List'!$A$1:$F$61,B$5,FALSE))","v":""},{"$f":"IF(ISNA(VLOOKUP($A242,'Entry List'!$A$1:$F$61,C$5,FALSE)),\"\",VLOOKUP($A242,'Entry List'!$A$1:$F$61,C$5,FALSE))","v":""},{"$f":"IF(ISNA(VLOOKUP($A242,'Entry List'!$A$1:$F$61,D$5,FALSE)),\"\",VLOOKUP($A242,'Entry List'!$A$1:$F$61,D$5,FALSE))","v":""},{"$f":"IF(ISNA(VLOOKUP($A242,'Entry List'!$A$1:$F$61,E$5,FALSE)),\"\",VLOOKUP($A242,'Entry List'!$A$1:$F$61,E$5,FALSE))","v":""},null,"DNS",0,"DNS",0,"DNS",0,"DNS",0,"DNS",0,"DNS",0,"DNS",0,"DNS",0,"DNS",0,"DNS",0,"DNS",0,"DNS",0,"DNS",0,"DNS",0,"DNS",0,"DNS",0,"DNS",0,"DNS",0,"DNS",0,"DNS",0,"DNS",0,"DNS",0,"DNS",0,"DNS",0,"DNS",0,{"$f":"IF('Last Race Results'!$B$5=0,0,IF(ISNA(VLOOKUP($A242,'Last Race Results'!$A$5:$J$44,2,FALSE)),\"DNS\",VLOOKUP($A242,'Last Race Results'!$A$5:$J$44,2,FALSE)))","v":"DNS"},{"$f":"IF('Last Race Results'!$B$5=0,0,IF(ISNA(VLOOKUP($A242,'Last Race Results'!$A$5:$K$44,11,FALSE)),0,VLOOKUP($A242,'Last Race Results'!$A$5:$K$44,11,FALSE)))","v":0},null,null,null,null,null,null,null,null,null,null,null,null,null,null,null,null,null,null,{"$f":"IF('Last Race Results'!$B$5=0,0,IF(ISNA(VLOOKUP($A242,'Last Race Results'!$A$5:$J$44,2,FALSE)),\"DNS\",VLOOKUP($A242,'Last Race Results'!$A$5:$J$44,2,FALSE)))","v":"DNS"},{"$f":"IF('Last Race Results'!$B$5=0,0,IF(ISNA(VLOOKUP($A242,'Last Race Results'!$A$5:$J$44,11,FALSE)),0,VLOOKUP($A242,'Last Race Results'!$A$5:$J$44,11,FALSE)))","v":0}]
[226,{"$f":"IF(ISNA(VLOOKUP($A243,'Entry List'!$A$1:$F$61,B$5,FALSE)),\"\",VLOOKUP($A243,'Entry List'!$A$1:$F$61,B$5,FALSE))","v":""},{"$f":"IF(ISNA(VLOOKUP($A243,'Entry List'!$A$1:$F$61,C$5,FALSE)),\"\",VLOOKUP($A243,'Entry List'!$A$1:$F$61,C$5,FALSE))","v":""},{"$f":"IF(ISNA(VLOOKUP($A243,'Entry List'!$A$1:$F$61,D$5,FALSE)),\"\",VLOOKUP($A243,'Entry List'!$A$1:$F$61,D$5,FALSE))","v":""},{"$f":"IF(ISNA(VLOOKUP($A243,'Entry List'!$A$1:$F$61,E$5,FALSE)),\"\",VLOOKUP($A243,'Entry List'!$A$1:$F$61,E$5,FALSE))","v":""},null,"DNS",0,"DNS",0,"DNS",0,"DNS",0,"DNS",0,"DNS",0,"DNS",0,"DNS",0,"DNS",0,"DNS",0,"DNS",0,"DNS",0,"DNS",0,"DNS",0,"DNS",0,"DNS",0,"DNS",0,"DNS",0,"DNS",0,"DNS",0,"DNS",0,"DNS",0,"DNS",0,"DNS",0,"DNS",0,{"$f":"IF('Last Race Results'!$B$5=0,0,IF(ISNA(VLOOKUP($A243,'Last Race Results'!$A$5:$J$44,2,FALSE)),\"DNS\",VLOOKUP($A243,'Last Race Results'!$A$5:$J$44,2,FALSE)))","v":"DNS"},{"$f":"IF('Last Race Results'!$B$5=0,0,IF(ISNA(VLOOKUP($A243,'Last Race Results'!$A$5:$K$44,11,FALSE)),0,VLOOKUP($A243,'Last Race Results'!$A$5:$K$44,11,FALSE)))","v":0},null,null,null,null,null,null,null,null,null,null,null,null,null,null,null,null,null,null,{"$f":"IF('Last Race Results'!$B$5=0,0,IF(ISNA(VLOOKUP($A243,'Last Race Results'!$A$5:$J$44,2,FALSE)),\"DNS\",VLOOKUP($A243,'Last Race Results'!$A$5:$J$44,2,FALSE)))","v":"DNS"},{"$f":"IF('Last Race Results'!$B$5=0,0,IF(ISNA(VLOOKUP($A243,'Last Race Results'!$A$5:$J$44,11,FALSE)),0,VLOOKUP($A243,'Last Race Results'!$A$5:$J$44,11,FALSE)))","v":0}]
[227,{"$f":"IF(ISNA(VLOOKUP($A244,'Entry List'!$A$1:$F$61,B$5,FALSE)),\"\",VLOOKUP($A244,'Entry List'!$A$1:$F$61,B$5,FALSE))","v":""},{"$f":"IF(ISNA(VLOOKUP($A244,'Entry List'!$A$1:$F$61,C$5,FALSE)),\"\",VLOOKUP($A244,'Entry List'!$A$1:$F$61,C$5,FALSE))","v":""},{"$f":"IF(ISNA(VLOOKUP($A244,'Entry List'!$A$1:$F$61,D$5,FALSE)),\"\",VLOOKUP($A244,'Entry List'!$A$1:$F$61,D$5,FALSE))","v":""},{"$f":"IF(ISNA(VLOOKUP($A244,'Entry List'!$A$1:$F$61,E$5,FALSE)),\"\",VLOOKUP($A244,'Entry List'!$A$1:$F$61,E$5,FALSE))","v":""},null,"DNS",0,"DNS",0,"DNS",0,"DNS",0,"DNS",0,"DNS",0,"DNS",0,"DNS",0,"DNS",0,"DNS",0,"DNS",0,"DNS",0,"DNS",0,"DNS",0,"DNS",0,"DNS",0,"DNS",0,"DNS",0,"DNS",0,"DNS",0,"DNS",0,"DNS",0,"DNS",0,"DNS",0,"DNS",0,{"$f":"IF('Last Race Results'!$B$5=0,0,IF(ISNA(VLOOKUP($A244,'Last Race Results'!$A$5:$J$44,2,FALSE)),\"DNS\",VLOOKUP($A244,'Last Race Results'!$A$5:$J$44,2,FALSE)))","v":"DNS"},{"$f":"IF('Last Race Results'!$B$5=0,0,IF(ISNA(VLOOKUP($A244,'Last Race Results'!$A$5:$K$44,11,FALSE)),0,VLOOKUP($A244,'Last Race Results'!$A$5:$K$44,11,FALSE)))","v":0},null,null,null,null,null,null,null,null,null,null,null,null,null,null,null,null,null,null,{"$f":"IF('Last Race Results'!$B$5=0,0,IF(ISNA(VLOOKUP($A244,'Last Race Results'!$A$5:$J$44,2,FALSE)),\"DNS\",VLOOKUP($A244,'Last Race Results'!$A$5:$J$44,2,FALSE)))","v":"DNS"},{"$f":"IF('Last Race Results'!$B$5=0,0,IF(ISNA(VLOOKUP($A244,'Last Race Results'!$A$5:$J$44,11,FALSE)),0,VLOOKUP($A244,'Last Race Results'!$A$5:$J$44,11,FALSE)))","v":0}]
[228,{"$f":"IF(ISNA(VLOOKUP($A245,'Entry List'!$A$1:$F$61,B$5,FALSE)),\"\",VLOOKUP($A245,'Entry List'!$A$1:$F$61,B$5,FALSE))","v":""},{"$f":"IF(ISNA(VLOOKUP($A245,'Entry List'!$A$1:$F$61,C$5,FALSE)),\"\",VLOOKUP($A245,'Entry List'!$A$1:$F$61,C$5,FALSE))","v":""},{"$f":"IF(ISNA(VLOOKUP($A245,'Entry List'!$A$1:$F$61,D$5,FALSE)),\"\",VLOOKUP($A245,'Entry List'!$A$1:$F$61,D$5,FALSE))","v":""},{"$f":"IF(ISNA(VLOOKUP($A245,'Entry List'!$A$1:$F$61,E$5,FALSE)),\"\",VLOOKUP($A245,'Entry List'!$A$1:$F$61,E$5,FALSE))","v":""},null,"DNS",0,"DNS",0,"DNS",0,"DNS",0,"DNS",0,"DNS",0,"DNS",0,"DNS",0,"DNS",0,"DNS",0,"DNS",0,"DNS",0,"DNS",0,"DNS",0,"DNS",0,"DNS",0,"DNS",0,"DNS",0,"DNS",0,"DNS",0,"DNS",0,"DNS",0,"DNS",0,"DNS",0,"DNS",0,{"$f":"IF('Last Race Results'!$B$5=0,0,IF(ISNA(VLOOKUP($A245,'Last Race Results'!$A$5:$J$44,2,FALSE)),\"DNS\",VLOOKUP($A245,'Last Race Results'!$A$5:$J$44,2,FALSE)))","v":"DNS"},{"$f":"IF('Last Race Results'!$B$5=0,0,IF(ISNA(VLOOKUP($A245,'Last Race Results'!$A$5:$K$44,11,FALSE)),0,VLOOKUP($A245,'Last Race Results'!$A$5:$K$44,11,FALSE)))","v":0},null,null,null,null,null,null,null,null,null,null,null,null,null,null,null,null,null,null,{"$f":"IF('Last Race Results'!$B$5=0,0,IF(ISNA(VLOOKUP($A245,'Last Race Results'!$A$5:$J$44,2,FALSE)),\"DNS\",VLOOKUP($A245,'Last Race Results'!$A$5:$J$44,2,FALSE)))","v":"DNS"},{"$f":"IF('Last Race Results'!$B$5=0,0,IF(ISNA(VLOOKUP($A245,'Last Race Results'!$A$5:$J$44,11,FALSE)),0,VLOOKUP($A245,'Last Race Results'!$A$5:$J$44,11,FALSE)))","v":0}]
[229,{"$f":"IF(ISNA(VLOOKUP($A246,'Entry List'!$A$1:$F$61,B$5,FALSE)),\"\",VLOOKUP($A246,'Entry List'!$A$1:$F$61,B$5,FALSE))","v":""},{"$f":"IF(ISNA(VLOOKUP($A246,'Entry List'!$A$1:$F$61,C$5,FALSE)),\"\",VLOOKUP($A246,'Entry List'!$A$1:$F$61,C$5,FALSE))","v":""},{"$f":"IF(ISNA(VLOOKUP($A246,'Entry List'!$A$1:$F$61,D$5,FALSE)),\"\",VLOOKUP($A246,'Entry List'!$A$1:$F$61,D$5,FALSE))","v":""},{"$f":"IF(ISNA(VLOOKUP($A246,'Entry List'!$A$1:$F$61,E$5,FALSE)),\"\",VLOOKUP($A246,'Entry List'!$A$1:$F$61,E$5,FALSE))","v":""},null,"DNS",0,"DNS",0,"DNS",0,"DNS",0,"DNS",0,"DNS",0,"DNS",0,"DNS",0,"DNS",0,"DNS",0,"DNS",0,"DNS",0,"DNS",0,"DNS",0,"DNS",0,"DNS",0,"DNS",0,"DNS",0,"DNS",0,"DNS",0,"DNS",0,"DNS",0,"DNS",0,"DNS",0,"DNS",0,{"$f":"IF('Last Race Results'!$B$5=0,0,IF(ISNA(VLOOKUP($A246,'Last Race Results'!$A$5:$J$44,2,FALSE)),\"DNS\",VLOOKUP($A246,'Last Race Results'!$A$5:$J$44,2,FALSE)))","v":"DNS"},{"$f":"IF('Last Race Results'!$B$5=0,0,IF(ISNA(VLOOKUP($A246,'Last Race Results'!$A$5:$K$44,11,FALSE)),0,VLOOKUP($A246,'Last Race Results'!$A$5:$K$44,11,FALSE)))","v":0},null,null,null,null,null,null,null,null,null,null,null,null,null,null,null,null,null,null,{"$f":"IF('Last Race Results'!$B$5=0,0,IF(ISNA(VLOOKUP($A246,'Last Race Results'!$A$5:$J$44,2,FALSE)),\"DNS\",VLOOKUP($A246,'Last Race Results'!$A$5:$J$44,2,FALSE)))","v":"DNS"},{"$f":"IF('Last Race Results'!$B$5=0,0,IF(ISNA(VLOOKUP($A246,'Last Race Results'!$A$5:$J$44,11,FALSE)),0,VLOOKUP($A246,'Last Race Results'!$A$5:$J$44,11,FALSE)))","v":0}]
[230,{"$f":"IF(ISNA(VLOOKUP($A247,'Entry List'!$A$1:$F$61,B$5,FALSE)),\"\",VLOOKUP($A247,'Entry List'!$A$1:$F$61,B$5,FALSE))","v":""},{"$f":"IF(ISNA(VLOOKUP($A247,'Entry List'!$A$1:$F$61,C$5,FALSE)),\"\",VLOOKUP($A247,'Entry List'!$A$1:$F$61,C$5,FALSE))","v":""},{"$f":"IF(ISNA(VLOOKUP($A247,'Entry List'!$A$1:$F$61,D$5,FALSE)),\"\",VLOOKUP($A247,'Entry List'!$A$1:$F$61,D$5,FALSE))","v":""},{"$f":"IF(ISNA(VLOOKUP($A247,'Entry List'!$A$1:$F$61,E$5,FALSE)),\"\",VLOOKUP($A247,'Entry List'!$A$1:$F$61,E$5,FALSE))","v":""},null,"DNS",0,"DNS",0,"DNS",0,"DNS",0,"DNS",0,"DNS",0,"DNS",0,"DNS",0,"DNS",0,"DNS",0,"DNS",0,"DNS",0,"DNS",0,"DNS",0,"DNS",0,"DNS",0,"DNS",0,"DNS",0,"DNS",0,"DNS",0,"DNS",0,"DNS",0,"DNS",0,"DNS",0,"DNS",0,{"$f":"IF('Last Race Results'!$B$5=0,0,IF(ISNA(VLOOKUP($A247,'Last Race Results'!$A$5:$J$44,2,FALSE)),\"DNS\",VLOOKUP($A247,'Last Race Results'!$A$5:$J$44,2,FALSE)))","v":"DNS"},{"$f":"IF('Last Race Results'!$B$5=0,0,IF(ISNA(VLOOKUP($A247,'Last Race Results'!$A$5:$K$44,11,FALSE)),0,VLOOKUP($A247,'Last Race Results'!$A$5:$K$44,11,FALSE)))","v":0},null,null,null,null,null,null,null,null,null,null,null,null,null,null,null,null,null,null,{"$f":"IF('Last Race Results'!$B$5=0,0,IF(ISNA(VLOOKUP($A247,'Last Race Results'!$A$5:$J$44,2,FALSE)),\"DNS\",VLOOKUP($A247,'Last Race Results'!$A$5:$J$44,2,FALSE)))","v":"DNS"},{"$f":"IF('Last Race Results'!$B$5=0,0,IF(ISNA(VLOOKUP($A247,'Last Race Results'!$A$5:$J$44,11,FALSE)),0,VLOOKUP($A247,'Last Race Results'!$A$5:$J$44,11,FALSE)))","v":0}]
[231,{"$f":"IF(ISNA(VLOOKUP($A248,'Entry List'!$A$1:$F$61,B$5,FALSE)),\"\",VLOOKUP($A248,'Entry List'!$A$1:$F$61,B$5,FALSE))","v":""},{"$f":"IF(ISNA(VLOOKUP($A248,'Entry List'!$A$1:$F$61,C$5,FALSE)),\"\",VLOOKUP($A248,'Entry List'!$A$1:$F$61,C$5,FALSE))","v":""},{"$f":"IF(ISNA(VLOOKUP($A248,'Entry List'!$A$1:$F$61,D$5,FALSE)),\"\",VLOOKUP($A248,'Entry List'!$A$1:$F$61,D$5,FALSE))","v":""},{"$f":"IF(ISNA(VLOOKUP($A248,'Entry List'!$A$1:$F$61,E$5,FALSE)),\"\",VLOOKUP($A248,'Entry List'!$A$1:$F$61,E$5,FALSE))","v":""},null,"DNS",0,"DNS",0,"DNS",0,"DNS",0,"DNS",0,"DNS",0,"DNS",0,"DNS",0,"DNS",0,"DNS",0,"DNS",0,"DNS",0,"DNS",0,"DNS",0,"DNS",0,"DNS",0,"DNS",0,"DNS",0,"DNS",0,"DNS",0,"DNS",0,"DNS",0,"DNS",0,"DNS",0,"DNS",0,{"$f":"IF('Last Race Results'!$B$5=0,0,IF(ISNA(VLOOKUP($A248,'Last Race Results'!$A$5:$J$44,2,FALSE)),\"DNS\",VLOOKUP($A248,'Last Race Results'!$A$5:$J$44,2,FALSE)))","v":"DNS"},{"$f":"IF('Last Race Results'!$B$5=0,0,IF(ISNA(VLOOKUP($A248,'Last Race Results'!$A$5:$K$44,11,FALSE)),0,VLOOKUP($A248,'Last Race Results'!$A$5:$K$44,11,FALSE)))","v":0},null,null,null,null,null,null,null,null,null,null,null,null,null,null,null,null,null,null,{"$f":"IF('Last Race Results'!$B$5=0,0,IF(ISNA(VLOOKUP($A248,'Last Race Results'!$A$5:$J$44,2,FALSE)),\"DNS\",VLOOKUP($A248,'Last Race Results'!$A$5:$J$44,2,FALSE)))","v":"DNS"},{"$f":"IF('Last Race Results'!$B$5=0,0,IF(ISNA(VLOOKUP($A248,'Last Race Results'!$A$5:$J$44,11,FALSE)),0,VLOOKUP($A248,'Last Race Results'!$A$5:$J$44,11,FALSE)))","v":0}]
[232,{"$f":"IF(ISNA(VLOOKUP($A249,'Entry List'!$A$1:$F$61,B$5,FALSE)),\"\",VLOOKUP($A249,'Entry List'!$A$1:$F$61,B$5,FALSE))","v":""},{"$f":"IF(ISNA(VLOOKUP($A249,'Entry List'!$A$1:$F$61,C$5,FALSE)),\"\",VLOOKUP($A249,'Entry List'!$A$1:$F$61,C$5,FALSE))","v":""},{"$f":"IF(ISNA(VLOOKUP($A249,'Entry List'!$A$1:$F$61,D$5,FALSE)),\"\",VLOOKUP($A249,'Entry List'!$A$1:$F$61,D$5,FALSE))","v":""},{"$f":"IF(ISNA(VLOOKUP($A249,'Entry List'!$A$1:$F$61,E$5,FALSE)),\"\",VLOOKUP($A249,'Entry List'!$A$1:$F$61,E$5,FALSE))","v":""},null,"DNS",0,"DNS",0,"DNS",0,"DNS",0,"DNS",0,"DNS",0,"DNS",0,"DNS",0,"DNS",0,"DNS",0,"DNS",0,"DNS",0,"DNS",0,"DNS",0,"DNS",0,"DNS",0,"DNS",0,"DNS",0,"DNS",0,"DNS",0,"DNS",0,"DNS",0,"DNS",0,"DNS",0,"DNS",0,{"$f":"IF('Last Race Results'!$B$5=0,0,IF(ISNA(VLOOKUP($A249,'Last Race Results'!$A$5:$J$44,2,FALSE)),\"DNS\",VLOOKUP($A249,'Last Race Results'!$A$5:$J$44,2,FALSE)))","v":"DNS"},{"$f":"IF('Last Race Results'!$B$5=0,0,IF(ISNA(VLOOKUP($A249,'Last Race Results'!$A$5:$K$44,11,FALSE)),0,VLOOKUP($A249,'Last Race Results'!$A$5:$K$44,11,FALSE)))","v":0},null,null,null,null,null,null,null,null,null,null,null,null,null,null,null,null,null,null,{"$f":"IF('Last Race Results'!$B$5=0,0,IF(ISNA(VLOOKUP($A249,'Last Race Results'!$A$5:$J$44,2,FALSE)),\"DNS\",VLOOKUP($A249,'Last Race Results'!$A$5:$J$44,2,FALSE)))","v":"DNS"},{"$f":"IF('Last Race Results'!$B$5=0,0,IF(ISNA(VLOOKUP($A249,'Last Race Results'!$A$5:$J$44,11,FALSE)),0,VLOOKUP($A249,'Last Race Results'!$A$5:$J$44,11,FALSE)))","v":0}]
[233,{"$f":"IF(ISNA(VLOOKUP($A250,'Entry List'!$A$1:$F$61,B$5,FALSE)),\"\",VLOOKUP($A250,'Entry List'!$A$1:$F$61,B$5,FALSE))","v":""},{"$f":"IF(ISNA(VLOOKUP($A250,'Entry List'!$A$1:$F$61,C$5,FALSE)),\"\",VLOOKUP($A250,'Entry List'!$A$1:$F$61,C$5,FALSE))","v":""},{"$f":"IF(ISNA(VLOOKUP($A250,'Entry List'!$A$1:$F$61,D$5,FALSE)),\"\",VLOOKUP($A250,'Entry List'!$A$1:$F$61,D$5,FALSE))","v":""},{"$f":"IF(ISNA(VLOOKUP($A250,'Entry List'!$A$1:$F$61,E$5,FALSE)),\"\",VLOOKUP($A250,'Entry List'!$A$1:$F$61,E$5,FALSE))","v":""},null,"DNS",0,"DNS",0,"DNS",0,"DNS",0,"DNS",0,"DNS",0,"DNS",0,"DNS",0,"DNS",0,"DNS",0,"DNS",0,"DNS",0,"DNS",0,"DNS",0,"DNS",0,"DNS",0,"DNS",0,"DNS",0,"DNS",0,"DNS",0,"DNS",0,"DNS",0,"DNS",0,"DNS",0,"DNS",0,{"$f":"IF('Last Race Results'!$B$5=0,0,IF(ISNA(VLOOKUP($A250,'Last Race Results'!$A$5:$J$44,2,FALSE)),\"DNS\",VLOOKUP($A250,'Last Race Results'!$A$5:$J$44,2,FALSE)))","v":"DNS"},{"$f":"IF('Last Race Results'!$B$5=0,0,IF(ISNA(VLOOKUP($A250,'Last Race Results'!$A$5:$K$44,11,FALSE)),0,VLOOKUP($A250,'Last Race Results'!$A$5:$K$44,11,FALSE)))","v":0},null,null,null,null,null,null,null,null,null,null,null,null,null,null,null,null,null,null,{"$f":"IF('Last Race Results'!$B$5=0,0,IF(ISNA(VLOOKUP($A250,'Last Race Results'!$A$5:$J$44,2,FALSE)),\"DNS\",VLOOKUP($A250,'Last Race Results'!$A$5:$J$44,2,FALSE)))","v":"DNS"},{"$f":"IF('Last Race Results'!$B$5=0,0,IF(ISNA(VLOOKUP($A250,'Last Race Results'!$A$5:$J$44,11,FALSE)),0,VLOOKUP($A250,'Last Race Results'!$A$5:$J$44,11,FALSE)))","v":0}]
[234,{"$f":"IF(ISNA(VLOOKUP($A251,'Entry List'!$A$1:$F$61,B$5,FALSE)),\"\",VLOOKUP($A251,'Entry List'!$A$1:$F$61,B$5,FALSE))","v":""},{"$f":"IF(ISNA(VLOOKUP($A251,'Entry List'!$A$1:$F$61,C$5,FALSE)),\"\",VLOOKUP($A251,'Entry List'!$A$1:$F$61,C$5,FALSE))","v":""},{"$f":"IF(ISNA(VLOOKUP($A251,'Entry List'!$A$1:$F$61,D$5,FALSE)),\"\",VLOOKUP($A251,'Entry List'!$A$1:$F$61,D$5,FALSE))","v":""},{"$f":"IF(ISNA(VLOOKUP($A251,'Entry List'!$A$1:$F$61,E$5,FALSE)),\"\",VLOOKUP($A251,'Entry List'!$A$1:$F$61,E$5,FALSE))","v":""},null,"DNS",0,"DNS",0,"DNS",0,"DNS",0,"DNS",0,"DNS",0,"DNS",0,"DNS",0,"DNS",0,"DNS",0,"DNS",0,"DNS",0,"DNS",0,"DNS",0,"DNS",0,"DNS",0,"DNS",0,"DNS",0,"DNS",0,"DNS",0,"DNS",0,"DNS",0,"DNS",0,"DNS",0,"DNS",0,{"$f":"IF('Last Race Results'!$B$5=0,0,IF(ISNA(VLOOKUP($A251,'Last Race Results'!$A$5:$J$44,2,FALSE)),\"DNS\",VLOOKUP($A251,'Last Race Results'!$A$5:$J$44,2,FALSE)))","v":"DNS"},{"$f":"IF('Last Race Results'!$B$5=0,0,IF(ISNA(VLOOKUP($A251,'Last Race Results'!$A$5:$K$44,11,FALSE)),0,VLOOKUP($A251,'Last Race Results'!$A$5:$K$44,11,FALSE)))","v":0},null,null,null,null,null,null,null,null,null,null,null,null,null,null,null,null,null,null,{"$f":"IF('Last Race Results'!$B$5=0,0,IF(ISNA(VLOOKUP($A251,'Last Race Results'!$A$5:$J$44,2,FALSE)),\"DNS\",VLOOKUP($A251,'Last Race Results'!$A$5:$J$44,2,FALSE)))","v":"DNS"},{"$f":"IF('Last Race Results'!$B$5=0,0,IF(ISNA(VLOOKUP($A251,'Last Race Results'!$A$5:$J$44,11,FALSE)),0,VLOOKUP($A251,'Last Race Results'!$A$5:$J$44,11,FALSE)))","v":0}]
[235,{"$f":"IF(ISNA(VLOOKUP($A252,'Entry List'!$A$1:$F$61,B$5,FALSE)),\"\",VLOOKUP($A252,'Entry List'!$A$1:$F$61,B$5,FALSE))","v":""},{"$f":"IF(ISNA(VLOOKUP($A252,'Entry List'!$A$1:$F$61,C$5,FALSE)),\"\",VLOOKUP($A252,'Entry List'!$A$1:$F$61,C$5,FALSE))","v":""},{"$f":"IF(ISNA(VLOOKUP($A252,'Entry List'!$A$1:$F$61,D$5,FALSE)),\"\",VLOOKUP($A252,'Entry List'!$A$1:$F$61,D$5,FALSE))","v":""},{"$f":"IF(ISNA(VLOOKUP($A252,'Entry List'!$A$1:$F$61,E$5,FALSE)),\"\",VLOOKUP($A252,'Entry List'!$A$1:$F$61,E$5,FALSE))","v":""},null,"DNS",0,"DNS",0,"DNS",0,"DNS",0,"DNS",0,"DNS",0,"DNS",0,"DNS",0,"DNS",0,"DNS",0,"DNS",0,"DNS",0,"DNS",0,"DNS",0,"DNS",0,"DNS",0,"DNS",0,"DNS",0,"DNS",0,"DNS",0,"DNS",0,"DNS",0,"DNS",0,"DNS",0,"DNS",0,{"$f":"IF('Last Race Results'!$B$5=0,0,IF(ISNA(VLOOKUP($A252,'Last Race Results'!$A$5:$J$44,2,FALSE)),\"DNS\",VLOOKUP($A252,'Last Race Results'!$A$5:$J$44,2,FALSE)))","v":"DNS"},{"$f":"IF('Last Race Results'!$B$5=0,0,IF(ISNA(VLOOKUP($A252,'Last Race Results'!$A$5:$K$44,11,FALSE)),0,VLOOKUP($A252,'Last Race Results'!$A$5:$K$44,11,FALSE)))","v":0},null,null,null,null,null,null,null,null,null,null,null,null,null,null,null,null,null,null,{"$f":"IF('Last Race Results'!$B$5=0,0,IF(ISNA(VLOOKUP($A252,'Last Race Results'!$A$5:$J$44,2,FALSE)),\"DNS\",VLOOKUP($A252,'Last Race Results'!$A$5:$J$44,2,FALSE)))","v":"DNS"},{"$f":"IF('Last Race Results'!$B$5=0,0,IF(ISNA(VLOOKUP($A252,'Last Race Results'!$A$5:$J$44,11,FALSE)),0,VLOOKUP($A252,'Last Race Results'!$A$5:$J$44,11,FALSE)))","v":0}]
[236,{"$f":"IF(ISNA(VLOOKUP($A253,'Entry List'!$A$1:$F$61,B$5,FALSE)),\"\",VLOOKUP($A253,'Entry List'!$A$1:$F$61,B$5,FALSE))","v":""},{"$f":"IF(ISNA(VLOOKUP($A253,'Entry List'!$A$1:$F$61,C$5,FALSE)),\"\",VLOOKUP($A253,'Entry List'!$A$1:$F$61,C$5,FALSE))","v":""},{"$f":"IF(ISNA(VLOOKUP($A253,'Entry List'!$A$1:$F$61,D$5,FALSE)),\"\",VLOOKUP($A253,'Entry List'!$A$1:$F$61,D$5,FALSE))","v":""},{"$f":"IF(ISNA(VLOOKUP($A253,'Entry List'!$A$1:$F$61,E$5,FALSE)),\"\",VLOOKUP($A253,'Entry List'!$A$1:$F$61,E$5,FALSE))","v":""},null,"DNS",0,"DNS",0,"DNS",0,"DNS",0,"DNS",0,"DNS",0,"DNS",0,"DNS",0,"DNS",0,"DNS",0,"DNS",0,"DNS",0,"DNS",0,"DNS",0,"DNS",0,"DNS",0,"DNS",0,"DNS",0,"DNS",0,"DNS",0,"DNS",0,"DNS",0,"DNS",0,"DNS",0,"DNS",0,{"$f":"IF('Last Race Results'!$B$5=0,0,IF(ISNA(VLOOKUP($A253,'Last Race Results'!$A$5:$J$44,2,FALSE)),\"DNS\",VLOOKUP($A253,'Last Race Results'!$A$5:$J$44,2,FALSE)))","v":"DNS"},{"$f":"IF('Last Race Results'!$B$5=0,0,IF(ISNA(VLOOKUP($A253,'Last Race Results'!$A$5:$K$44,11,FALSE)),0,VLOOKUP($A253,'Last Race Results'!$A$5:$K$44,11,FALSE)))","v":0},null,null,null,null,null,null,null,null,null,null,null,null,null,null,null,null,null,null,{"$f":"IF('Last Race Results'!$B$5=0,0,IF(ISNA(VLOOKUP($A253,'Last Race Results'!$A$5:$J$44,2,FALSE)),\"DNS\",VLOOKUP($A253,'Last Race Results'!$A$5:$J$44,2,FALSE)))","v":"DNS"},{"$f":"IF('Last Race Results'!$B$5=0,0,IF(ISNA(VLOOKUP($A253,'Last Race Results'!$A$5:$J$44,11,FALSE)),0,VLOOKUP($A253,'Last Race Results'!$A$5:$J$44,11,FALSE)))","v":0}]
[237,{"$f":"IF(ISNA(VLOOKUP($A254,'Entry List'!$A$1:$F$61,B$5,FALSE)),\"\",VLOOKUP($A254,'Entry List'!$A$1:$F$61,B$5,FALSE))","v":""},{"$f":"IF(ISNA(VLOOKUP($A254,'Entry List'!$A$1:$F$61,C$5,FALSE)),\"\",VLOOKUP($A254,'Entry List'!$A$1:$F$61,C$5,FALSE))","v":""},{"$f":"IF(ISNA(VLOOKUP($A254,'Entry List'!$A$1:$F$61,D$5,FALSE)),\"\",VLOOKUP($A254,'Entry List'!$A$1:$F$61,D$5,FALSE))","v":""},{"$f":"IF(ISNA(VLOOKUP($A254,'Entry List'!$A$1:$F$61,E$5,FALSE)),\"\",VLOOKUP($A254,'Entry List'!$A$1:$F$61,E$5,FALSE))","v":""},null,"DNS",0,"DNS",0,"DNS",0,"DNS",0,"DNS",0,"DNS",0,"DNS",0,"DNS",0,"DNS",0,"DNS",0,"DNS",0,"DNS",0,"DNS",0,"DNS",0,"DNS",0,"DNS",0,"DNS",0,"DNS",0,"DNS",0,"DNS",0,"DNS",0,"DNS",0,"DNS",0,"DNS",0,"DNS",0,{"$f":"IF('Last Race Results'!$B$5=0,0,IF(ISNA(VLOOKUP($A254,'Last Race Results'!$A$5:$J$44,2,FALSE)),\"DNS\",VLOOKUP($A254,'Last Race Results'!$A$5:$J$44,2,FALSE)))","v":"DNS"},{"$f":"IF('Last Race Results'!$B$5=0,0,IF(ISNA(VLOOKUP($A254,'Last Race Results'!$A$5:$K$44,11,FALSE)),0,VLOOKUP($A254,'Last Race Results'!$A$5:$K$44,11,FALSE)))","v":0},null,null,null,null,null,null,null,null,null,null,null,null,null,null,null,null,null,null,{"$f":"IF('Last Race Results'!$B$5=0,0,IF(ISNA(VLOOKUP($A254,'Last Race Results'!$A$5:$J$44,2,FALSE)),\"DNS\",VLOOKUP($A254,'Last Race Results'!$A$5:$J$44,2,FALSE)))","v":"DNS"},{"$f":"IF('Last Race Results'!$B$5=0,0,IF(ISNA(VLOOKUP($A254,'Last Race Results'!$A$5:$J$44,11,FALSE)),0,VLOOKUP($A254,'Last Race Results'!$A$5:$J$44,11,FALSE)))","v":0}]
[238,{"$f":"IF(ISNA(VLOOKUP($A255,'Entry List'!$A$1:$F$61,B$5,FALSE)),\"\",VLOOKUP($A255,'Entry List'!$A$1:$F$61,B$5,FALSE))","v":""},{"$f":"IF(ISNA(VLOOKUP($A255,'Entry List'!$A$1:$F$61,C$5,FALSE)),\"\",VLOOKUP($A255,'Entry List'!$A$1:$F$61,C$5,FALSE))","v":""},{"$f":"IF(ISNA(VLOOKUP($A255,'Entry List'!$A$1:$F$61,D$5,FALSE)),\"\",VLOOKUP($A255,'Entry List'!$A$1:$F$61,D$5,FALSE))","v":""},{"$f":"IF(ISNA(VLOOKUP($A255,'Entry List'!$A$1:$F$61,E$5,FALSE)),\"\",VLOOKUP($A255,'Entry List'!$A$1:$F$61,E$5,FALSE))","v":""},null,"DNS",0,"DNS",0,"DNS",0,"DNS",0,"DNS",0,"DNS",0,"DNS",0,"DNS",0,"DNS",0,"DNS",0,"DNS",0,"DNS",0,"DNS",0,"DNS",0,"DNS",0,"DNS",0,"DNS",0,"DNS",0,"DNS",0,"DNS",0,"DNS",0,"DNS",0,"DNS",0,"DNS",0,"DNS",0,{"$f":"IF('Last Race Results'!$B$5=0,0,IF(ISNA(VLOOKUP($A255,'Last Race Results'!$A$5:$J$44,2,FALSE)),\"DNS\",VLOOKUP($A255,'Last Race Results'!$A$5:$J$44,2,FALSE)))","v":"DNS"},{"$f":"IF('Last Race Results'!$B$5=0,0,IF(ISNA(VLOOKUP($A255,'Last Race Results'!$A$5:$K$44,11,FALSE)),0,VLOOKUP($A255,'Last Race Results'!$A$5:$K$44,11,FALSE)))","v":0},null,null,null,null,null,null,null,null,null,null,null,null,null,null,null,null,null,null,{"$f":"IF('Last Race Results'!$B$5=0,0,IF(ISNA(VLOOKUP($A255,'Last Race Results'!$A$5:$J$44,2,FALSE)),\"DNS\",VLOOKUP($A255,'Last Race Results'!$A$5:$J$44,2,FALSE)))","v":"DNS"},{"$f":"IF('Last Race Results'!$B$5=0,0,IF(ISNA(VLOOKUP($A255,'Last Race Results'!$A$5:$J$44,11,FALSE)),0,VLOOKUP($A255,'Last Race Results'!$A$5:$J$44,11,FALSE)))","v":0}]
[239,{"$f":"IF(ISNA(VLOOKUP($A256,'Entry List'!$A$1:$F$61,B$5,FALSE)),\"\",VLOOKUP($A256,'Entry List'!$A$1:$F$61,B$5,FALSE))","v":""},{"$f":"IF(ISNA(VLOOKUP($A256,'Entry List'!$A$1:$F$61,C$5,FALSE)),\"\",VLOOKUP($A256,'Entry List'!$A$1:$F$61,C$5,FALSE))","v":""},{"$f":"IF(ISNA(VLOOKUP($A256,'Entry List'!$A$1:$F$61,D$5,FALSE)),\"\",VLOOKUP($A256,'Entry List'!$A$1:$F$61,D$5,FALSE))","v":""},{"$f":"IF(ISNA(VLOOKUP($A256,'Entry List'!$A$1:$F$61,E$5,FALSE)),\"\",VLOOKUP($A256,'Entry List'!$A$1:$F$61,E$5,FALSE))","v":""},null,"DNS",0,"DNS",0,"DNS",0,"DNS",0,"DNS",0,"DNS",0,"DNS",0,"DNS",0,"DNS",0,"DNS",0,"DNS",0,"DNS",0,"DNS",0,"DNS",0,"DNS",0,"DNS",0,"DNS",0,"DNS",0,"DNS",0,"DNS",0,"DNS",0,"DNS",0,"DNS",0,"DNS",0,"DNS",0,{"$f":"IF('Last Race Results'!$B$5=0,0,IF(ISNA(VLOOKUP($A256,'Last Race Results'!$A$5:$J$44,2,FALSE)),\"DNS\",VLOOKUP($A256,'Last Race Results'!$A$5:$J$44,2,FALSE)))","v":"DNS"},{"$f":"IF('Last Race Results'!$B$5=0,0,IF(ISNA(VLOOKUP($A256,'Last Race Results'!$A$5:$K$44,11,FALSE)),0,VLOOKUP($A256,'Last Race Results'!$A$5:$K$44,11,FALSE)))","v":0},null,null,null,null,null,null,null,null,null,null,null,null,null,null,null,null,null,null,{"$f":"IF('Last Race Results'!$B$5=0,0,IF(ISNA(VLOOKUP($A256,'Last Race Results'!$A$5:$J$44,2,FALSE)),\"DNS\",VLOOKUP($A256,'Last Race Results'!$A$5:$J$44,2,FALSE)))","v":"DNS"},{"$f":"IF('Last Race Results'!$B$5=0,0,IF(ISNA(VLOOKUP($A256,'Last Race Results'!$A$5:$J$44,11,FALSE)),0,VLOOKUP($A256,'Last Race Results'!$A$5:$J$44,11,FALSE)))","v":0}]
[240,{"$f":"IF(ISNA(VLOOKUP($A257,'Entry List'!$A$1:$F$61,B$5,FALSE)),\"\",VLOOKUP($A257,'Entry List'!$A$1:$F$61,B$5,FALSE))","v":""},{"$f":"IF(ISNA(VLOOKUP($A257,'Entry List'!$A$1:$F$61,C$5,FALSE)),\"\",VLOOKUP($A257,'Entry List'!$A$1:$F$61,C$5,FALSE))","v":""},{"$f":"IF(ISNA(VLOOKUP($A257,'Entry List'!$A$1:$F$61,D$5,FALSE)),\"\",VLOOKUP($A257,'Entry List'!$A$1:$F$61,D$5,FALSE))","v":""},{"$f":"IF(ISNA(VLOOKUP($A257,'Entry List'!$A$1:$F$61,E$5,FALSE)),\"\",VLOOKUP($A257,'Entry List'!$A$1:$F$61,E$5,FALSE))","v":""},null,"DNS",0,"DNS",0,"DNS",0,"DNS",0,"DNS",0,"DNS",0,"DNS",0,"DNS",0,"DNS",0,"DNS",0,"DNS",0,"DNS",0,"DNS",0,"DNS",0,"DNS",0,"DNS",0,"DNS",0,"DNS",0,"DNS",0,"DNS",0,"DNS",0,"DNS",0,"DNS",0,"DNS",0,"DNS",0,{"$f":"IF('Last Race Results'!$B$5=0,0,IF(ISNA(VLOOKUP($A257,'Last Race Results'!$A$5:$J$44,2,FALSE)),\"DNS\",VLOOKUP($A257,'Last Race Results'!$A$5:$J$44,2,FALSE)))","v":"DNS"},{"$f":"IF('Last Race Results'!$B$5=0,0,IF(ISNA(VLOOKUP($A257,'Last Race Results'!$A$5:$K$44,11,FALSE)),0,VLOOKUP($A257,'Last Race Results'!$A$5:$K$44,11,FALSE)))","v":0},null,null,null,null,null,null,null,null,null,null,null,null,null,null,null,null,null,null,{"$f":"IF('Last Race Results'!$B$5=0,0,IF(ISNA(VLOOKUP($A257,'Last Race Results'!$A$5:$J$44,2,FALSE)),\"DNS\",VLOOKUP($A257,'Last Race Results'!$A$5:$J$44,2,FALSE)))","v":"DNS"},{"$f":"IF('Last Race Results'!$B$5=0,0,IF(ISNA(VLOOKUP($A257,'Last Race Results'!$A$5:$J$44,11,FALSE)),0,VLOOKUP($A257,'Last Race Results'!$A$5:$J$44,11,FALSE)))","v":0}]
[241,{"$f":"IF(ISNA(VLOOKUP($A258,'Entry List'!$A$1:$F$61,B$5,FALSE)),\"\",VLOOKUP($A258,'Entry List'!$A$1:$F$61,B$5,FALSE))","v":""},{"$f":"IF(ISNA(VLOOKUP($A258,'Entry List'!$A$1:$F$61,C$5,FALSE)),\"\",VLOOKUP($A258,'Entry List'!$A$1:$F$61,C$5,FALSE))","v":""},{"$f":"IF(ISNA(VLOOKUP($A258,'Entry List'!$A$1:$F$61,D$5,FALSE)),\"\",VLOOKUP($A258,'Entry List'!$A$1:$F$61,D$5,FALSE))","v":""},{"$f":"IF(ISNA(VLOOKUP($A258,'Entry List'!$A$1:$F$61,E$5,FALSE)),\"\",VLOOKUP($A258,'Entry List'!$A$1:$F$61,E$5,FALSE))","v":""},null,"DNS",0,"DNS",0,"DNS",0,"DNS",0,"DNS",0,"DNS",0,"DNS",0,"DNS",0,"DNS",0,"DNS",0,"DNS",0,"DNS",0,"DNS",0,"DNS",0,"DNS",0,"DNS",0,"DNS",0,"DNS",0,"DNS",0,"DNS",0,"DNS",0,"DNS",0,"DNS",0,"DNS",0,"DNS",0,{"$f":"IF('Last Race Results'!$B$5=0,0,IF(ISNA(VLOOKUP($A258,'Last Race Results'!$A$5:$J$44,2,FALSE)),\"DNS\",VLOOKUP($A258,'Last Race Results'!$A$5:$J$44,2,FALSE)))","v":"DNS"},{"$f":"IF('Last Race Results'!$B$5=0,0,IF(ISNA(VLOOKUP($A258,'Last Race Results'!$A$5:$K$44,11,FALSE)),0,VLOOKUP($A258,'Last Race Results'!$A$5:$K$44,11,FALSE)))","v":0},null,null,null,null,null,null,null,null,null,null,null,null,null,null,null,null,null,null,{"$f":"IF('Last Race Results'!$B$5=0,0,IF(ISNA(VLOOKUP($A258,'Last Race Results'!$A$5:$J$44,2,FALSE)),\"DNS\",VLOOKUP($A258,'Last Race Results'!$A$5:$J$44,2,FALSE)))","v":"DNS"},{"$f":"IF('Last Race Results'!$B$5=0,0,IF(ISNA(VLOOKUP($A258,'Last Race Results'!$A$5:$J$44,11,FALSE)),0,VLOOKUP($A258,'Last Race Results'!$A$5:$J$44,11,FALSE)))","v":0}]
[242,{"$f":"IF(ISNA(VLOOKUP($A259,'Entry List'!$A$1:$F$61,B$5,FALSE)),\"\",VLOOKUP($A259,'Entry List'!$A$1:$F$61,B$5,FALSE))","v":""},{"$f":"IF(ISNA(VLOOKUP($A259,'Entry List'!$A$1:$F$61,C$5,FALSE)),\"\",VLOOKUP($A259,'Entry List'!$A$1:$F$61,C$5,FALSE))","v":""},{"$f":"IF(ISNA(VLOOKUP($A259,'Entry List'!$A$1:$F$61,D$5,FALSE)),\"\",VLOOKUP($A259,'Entry List'!$A$1:$F$61,D$5,FALSE))","v":""},{"$f":"IF(ISNA(VLOOKUP($A259,'Entry List'!$A$1:$F$61,E$5,FALSE)),\"\",VLOOKUP($A259,'Entry List'!$A$1:$F$61,E$5,FALSE))","v":""},null,"DNS",0,"DNS",0,"DNS",0,"DNS",0,"DNS",0,"DNS",0,"DNS",0,"DNS",0,"DNS",0,"DNS",0,"DNS",0,"DNS",0,"DNS",0,"DNS",0,"DNS",0,"DNS",0,"DNS",0,"DNS",0,"DNS",0,"DNS",0,"DNS",0,"DNS",0,"DNS",0,"DNS",0,"DNS",0,{"$f":"IF('Last Race Results'!$B$5=0,0,IF(ISNA(VLOOKUP($A259,'Last Race Results'!$A$5:$J$44,2,FALSE)),\"DNS\",VLOOKUP($A259,'Last Race Results'!$A$5:$J$44,2,FALSE)))","v":"DNS"},{"$f":"IF('Last Race Results'!$B$5=0,0,IF(ISNA(VLOOKUP($A259,'Last Race Results'!$A$5:$K$44,11,FALSE)),0,VLOOKUP($A259,'Last Race Results'!$A$5:$K$44,11,FALSE)))","v":0},null,null,null,null,null,null,null,null,null,null,null,null,null,null,null,null,null,null,{"$f":"IF('Last Race Results'!$B$5=0,0,IF(ISNA(VLOOKUP($A259,'Last Race Results'!$A$5:$J$44,2,FALSE)),\"DNS\",VLOOKUP($A259,'Last Race Results'!$A$5:$J$44,2,FALSE)))","v":"DNS"},{"$f":"IF('Last Race Results'!$B$5=0,0,IF(ISNA(VLOOKUP($A259,'Last Race Results'!$A$5:$J$44,11,FALSE)),0,VLOOKUP($A259,'Last Race Results'!$A$5:$J$44,11,FALSE)))","v":0}]
[243,{"$f":"IF(ISNA(VLOOKUP($A260,'Entry List'!$A$1:$F$61,B$5,FALSE)),\"\",VLOOKUP($A260,'Entry List'!$A$1:$F$61,B$5,FALSE))","v":""},{"$f":"IF(ISNA(VLOOKUP($A260,'Entry List'!$A$1:$F$61,C$5,FALSE)),\"\",VLOOKUP($A260,'Entry List'!$A$1:$F$61,C$5,FALSE))","v":""},{"$f":"IF(ISNA(VLOOKUP($A260,'Entry List'!$A$1:$F$61,D$5,FALSE)),\"\",VLOOKUP($A260,'Entry List'!$A$1:$F$61,D$5,FALSE))","v":""},{"$f":"IF(ISNA(VLOOKUP($A260,'Entry List'!$A$1:$F$61,E$5,FALSE)),\"\",VLOOKUP($A260,'Entry List'!$A$1:$F$61,E$5,FALSE))","v":""},null,"DNS",0,"DNS",0,"DNS",0,"DNS",0,"DNS",0,"DNS",0,"DNS",0,"DNS",0,"DNS",0,"DNS",0,"DNS",0,"DNS",0,"DNS",0,"DNS",0,"DNS",0,"DNS",0,"DNS",0,"DNS",0,"DNS",0,"DNS",0,"DNS",0,"DNS",0,"DNS",0,"DNS",0,"DNS",0,{"$f":"IF('Last Race Results'!$B$5=0,0,IF(ISNA(VLOOKUP($A260,'Last Race Results'!$A$5:$J$44,2,FALSE)),\"DNS\",VLOOKUP($A260,'Last Race Results'!$A$5:$J$44,2,FALSE)))","v":"DNS"},{"$f":"IF('Last Race Results'!$B$5=0,0,IF(ISNA(VLOOKUP($A260,'Last Race Results'!$A$5:$K$44,11,FALSE)),0,VLOOKUP($A260,'Last Race Results'!$A$5:$K$44,11,FALSE)))","v":0},null,null,null,null,null,null,null,null,null,null,null,null,null,null,null,null,null,null,{"$f":"IF('Last Race Results'!$B$5=0,0,IF(ISNA(VLOOKUP($A260,'Last Race Results'!$A$5:$J$44,2,FALSE)),\"DNS\",VLOOKUP($A260,'Last Race Results'!$A$5:$J$44,2,FALSE)))","v":"DNS"},{"$f":"IF('Last Race Results'!$B$5=0,0,IF(ISNA(VLOOKUP($A260,'Last Race Results'!$A$5:$J$44,11,FALSE)),0,VLOOKUP($A260,'Last Race Results'!$A$5:$J$44,11,FALSE)))","v":0}]
[244,{"$f":"IF(ISNA(VLOOKUP($A261,'Entry List'!$A$1:$F$61,B$5,FALSE)),\"\",VLOOKUP($A261,'Entry List'!$A$1:$F$61,B$5,FALSE))","v":""},{"$f":"IF(ISNA(VLOOKUP($A261,'Entry List'!$A$1:$F$61,C$5,FALSE)),\"\",VLOOKUP($A261,'Entry List'!$A$1:$F$61,C$5,FALSE))","v":""},{"$f":"IF(ISNA(VLOOKUP($A261,'Entry List'!$A$1:$F$61,D$5,FALSE)),\"\",VLOOKUP($A261,'Entry List'!$A$1:$F$61,D$5,FALSE))","v":""},{"$f":"IF(ISNA(VLOOKUP($A261,'Entry List'!$A$1:$F$61,E$5,FALSE)),\"\",VLOOKUP($A261,'Entry List'!$A$1:$F$61,E$5,FALSE))","v":""},null,"DNS",0,"DNS",0,"DNS",0,"DNS",0,"DNS",0,"DNS",0,"DNS",0,"DNS",0,"DNS",0,"DNS",0,"DNS",0,"DNS",0,"DNS",0,"DNS",0,"DNS",0,"DNS",0,"DNS",0,"DNS",0,"DNS",0,"DNS",0,"DNS",0,"DNS",0,"DNS",0,"DNS",0,"DNS",0,{"$f":"IF('Last Race Results'!$B$5=0,0,IF(ISNA(VLOOKUP($A261,'Last Race Results'!$A$5:$J$44,2,FALSE)),\"DNS\",VLOOKUP($A261,'Last Race Results'!$A$5:$J$44,2,FALSE)))","v":"DNS"},{"$f":"IF('Last Race Results'!$B$5=0,0,IF(ISNA(VLOOKUP($A261,'Last Race Results'!$A$5:$K$44,11,FALSE)),0,VLOOKUP($A261,'Last Race Results'!$A$5:$K$44,11,FALSE)))","v":0},null,null,null,null,null,null,null,null,null,null,null,null,null,null,null,null,null,null,{"$f":"IF('Last Race Results'!$B$5=0,0,IF(ISNA(VLOOKUP($A261,'Last Race Results'!$A$5:$J$44,2,FALSE)),\"DNS\",VLOOKUP($A261,'Last Race Results'!$A$5:$J$44,2,FALSE)))","v":"DNS"},{"$f":"IF('Last Race Results'!$B$5=0,0,IF(ISNA(VLOOKUP($A261,'Last Race Results'!$A$5:$J$44,11,FALSE)),0,VLOOKUP($A261,'Last Race Results'!$A$5:$J$44,11,FALSE)))","v":0}]
[245,{"$f":"IF(ISNA(VLOOKUP($A262,'Entry List'!$A$1:$F$61,B$5,FALSE)),\"\",VLOOKUP($A262,'Entry List'!$A$1:$F$61,B$5,FALSE))","v":""},{"$f":"IF(ISNA(VLOOKUP($A262,'Entry List'!$A$1:$F$61,C$5,FALSE)),\"\",VLOOKUP($A262,'Entry List'!$A$1:$F$61,C$5,FALSE))","v":""},{"$f":"IF(ISNA(VLOOKUP($A262,'Entry List'!$A$1:$F$61,D$5,FALSE)),\"\",VLOOKUP($A262,'Entry List'!$A$1:$F$61,D$5,FALSE))","v":""},{"$f":"IF(ISNA(VLOOKUP($A262,'Entry List'!$A$1:$F$61,E$5,FALSE)),\"\",VLOOKUP($A262,'Entry List'!$A$1:$F$61,E$5,FALSE))","v":""},null,"DNS",0,"DNS",0,"DNS",0,"DNS",0,"DNS",0,"DNS",0,"DNS",0,"DNS",0,"DNS",0,"DNS",0,"DNS",0,"DNS",0,"DNS",0,"DNS",0,"DNS",0,"DNS",0,"DNS",0,"DNS",0,"DNS",0,"DNS",0,"DNS",0,"DNS",0,"DNS",0,"DNS",0,"DNS",0,{"$f":"IF('Last Race Results'!$B$5=0,0,IF(ISNA(VLOOKUP($A262,'Last Race Results'!$A$5:$J$44,2,FALSE)),\"DNS\",VLOOKUP($A262,'Last Race Results'!$A$5:$J$44,2,FALSE)))","v":"DNS"},{"$f":"IF('Last Race Results'!$B$5=0,0,IF(ISNA(VLOOKUP($A262,'Last Race Results'!$A$5:$K$44,11,FALSE)),0,VLOOKUP($A262,'Last Race Results'!$A$5:$K$44,11,FALSE)))","v":0},null,null,null,null,null,null,null,null,null,null,null,null,null,null,null,null,null,null,{"$f":"IF('Last Race Results'!$B$5=0,0,IF(ISNA(VLOOKUP($A262,'Last Race Results'!$A$5:$J$44,2,FALSE)),\"DNS\",VLOOKUP($A262,'Last Race Results'!$A$5:$J$44,2,FALSE)))","v":"DNS"},{"$f":"IF('Last Race Results'!$B$5=0,0,IF(ISNA(VLOOKUP($A262,'Last Race Results'!$A$5:$J$44,11,FALSE)),0,VLOOKUP($A262,'Last Race Results'!$A$5:$J$44,11,FALSE)))","v":0}]
[246,{"$f":"IF(ISNA(VLOOKUP($A263,'Entry List'!$A$1:$F$61,B$5,FALSE)),\"\",VLOOKUP($A263,'Entry List'!$A$1:$F$61,B$5,FALSE))","v":""},{"$f":"IF(ISNA(VLOOKUP($A263,'Entry List'!$A$1:$F$61,C$5,FALSE)),\"\",VLOOKUP($A263,'Entry List'!$A$1:$F$61,C$5,FALSE))","v":""},{"$f":"IF(ISNA(VLOOKUP($A263,'Entry List'!$A$1:$F$61,D$5,FALSE)),\"\",VLOOKUP($A263,'Entry List'!$A$1:$F$61,D$5,FALSE))","v":""},{"$f":"IF(ISNA(VLOOKUP($A263,'Entry List'!$A$1:$F$61,E$5,FALSE)),\"\",VLOOKUP($A263,'Entry List'!$A$1:$F$61,E$5,FALSE))","v":""},null,"DNS",0,"DNS",0,"DNS",0,"DNS",0,"DNS",0,"DNS",0,"DNS",0,"DNS",0,"DNS",0,"DNS",0,"DNS",0,"DNS",0,"DNS",0,"DNS",0,"DNS",0,"DNS",0,"DNS",0,"DNS",0,"DNS",0,"DNS",0,"DNS",0,"DNS",0,"DNS",0,"DNS",0,"DNS",0,{"$f":"IF('Last Race Results'!$B$5=0,0,IF(ISNA(VLOOKUP($A263,'Last Race Results'!$A$5:$J$44,2,FALSE)),\"DNS\",VLOOKUP($A263,'Last Race Results'!$A$5:$J$44,2,FALSE)))","v":"DNS"},{"$f":"IF('Last Race Results'!$B$5=0,0,IF(ISNA(VLOOKUP($A263,'Last Race Results'!$A$5:$K$44,11,FALSE)),0,VLOOKUP($A263,'Last Race Results'!$A$5:$K$44,11,FALSE)))","v":0},null,null,null,null,null,null,null,null,null,null,null,null,null,null,null,null,null,null,{"$f":"IF('Last Race Results'!$B$5=0,0,IF(ISNA(VLOOKUP($A263,'Last Race Results'!$A$5:$J$44,2,FALSE)),\"DNS\",VLOOKUP($A263,'Last Race Results'!$A$5:$J$44,2,FALSE)))","v":"DNS"},{"$f":"IF('Last Race Results'!$B$5=0,0,IF(ISNA(VLOOKUP($A263,'Last Race Results'!$A$5:$J$44,11,FALSE)),0,VLOOKUP($A263,'Last Race Results'!$A$5:$J$44,11,FALSE)))","v":0}]
[247,{"$f":"IF(ISNA(VLOOKUP($A264,'Entry List'!$A$1:$F$61,B$5,FALSE)),\"\",VLOOKUP($A264,'Entry List'!$A$1:$F$61,B$5,FALSE))","v":""},{"$f":"IF(ISNA(VLOOKUP($A264,'Entry List'!$A$1:$F$61,C$5,FALSE)),\"\",VLOOKUP($A264,'Entry List'!$A$1:$F$61,C$5,FALSE))","v":""},{"$f":"IF(ISNA(VLOOKUP($A264,'Entry List'!$A$1:$F$61,D$5,FALSE)),\"\",VLOOKUP($A264,'Entry List'!$A$1:$F$61,D$5,FALSE))","v":""},{"$f":"IF(ISNA(VLOOKUP($A264,'Entry List'!$A$1:$F$61,E$5,FALSE)),\"\",VLOOKUP($A264,'Entry List'!$A$1:$F$61,E$5,FALSE))","v":""},null,"DNS",0,"DNS",0,"DNS",0,"DNS",0,"DNS",0,"DNS",0,"DNS",0,"DNS",0,"DNS",0,"DNS",0,"DNS",0,"DNS",0,"DNS",0,"DNS",0,"DNS",0,"DNS",0,"DNS",0,"DNS",0,"DNS",0,"DNS",0,"DNS",0,"DNS",0,"DNS",0,"DNS",0,"DNS",0,{"$f":"IF('Last Race Results'!$B$5=0,0,IF(ISNA(VLOOKUP($A264,'Last Race Results'!$A$5:$J$44,2,FALSE)),\"DNS\",VLOOKUP($A264,'Last Race Results'!$A$5:$J$44,2,FALSE)))","v":"DNS"},{"$f":"IF('Last Race Results'!$B$5=0,0,IF(ISNA(VLOOKUP($A264,'Last Race Results'!$A$5:$K$44,11,FALSE)),0,VLOOKUP($A264,'Last Race Results'!$A$5:$K$44,11,FALSE)))","v":0},null,null,null,null,null,null,null,null,null,null,null,null,null,null,null,null,null,null,{"$f":"IF('Last Race Results'!$B$5=0,0,IF(ISNA(VLOOKUP($A264,'Last Race Results'!$A$5:$J$44,2,FALSE)),\"DNS\",VLOOKUP($A264,'Last Race Results'!$A$5:$J$44,2,FALSE)))","v":"DNS"},{"$f":"IF('Last Race Results'!$B$5=0,0,IF(ISNA(VLOOKUP($A264,'Last Race Results'!$A$5:$J$44,11,FALSE)),0,VLOOKUP($A264,'Last Race Results'!$A$5:$J$44,11,FALSE)))","v":0}]
[248,{"$f":"IF(ISNA(VLOOKUP($A265,'Entry List'!$A$1:$F$61,B$5,FALSE)),\"\",VLOOKUP($A265,'Entry List'!$A$1:$F$61,B$5,FALSE))","v":""},{"$f":"IF(ISNA(VLOOKUP($A265,'Entry List'!$A$1:$F$61,C$5,FALSE)),\"\",VLOOKUP($A265,'Entry List'!$A$1:$F$61,C$5,FALSE))","v":""},{"$f":"IF(ISNA(VLOOKUP($A265,'Entry List'!$A$1:$F$61,D$5,FALSE)),\"\",VLOOKUP($A265,'Entry List'!$A$1:$F$61,D$5,FALSE))","v":""},{"$f":"IF(ISNA(VLOOKUP($A265,'Entry List'!$A$1:$F$61,E$5,FALSE)),\"\",VLOOKUP($A265,'Entry List'!$A$1:$F$61,E$5,FALSE))","v":""},null,"DNS",0,"DNS",0,"DNS",0,"DNS",0,"DNS",0,"DNS",0,"DNS",0,"DNS",0,"DNS",0,"DNS",0,"DNS",0,"DNS",0,"DNS",0,"DNS",0,"DNS",0,"DNS",0,"DNS",0,"DNS",0,"DNS",0,"DNS",0,"DNS",0,"DNS",0,"DNS",0,"DNS",0,"DNS",0,{"$f":"IF('Last Race Results'!$B$5=0,0,IF(ISNA(VLOOKUP($A265,'Last Race Results'!$A$5:$J$44,2,FALSE)),\"DNS\",VLOOKUP($A265,'Last Race Results'!$A$5:$J$44,2,FALSE)))","v":"DNS"},{"$f":"IF('Last Race Results'!$B$5=0,0,IF(ISNA(VLOOKUP($A265,'Last Race Results'!$A$5:$K$44,11,FALSE)),0,VLOOKUP($A265,'Last Race Results'!$A$5:$K$44,11,FALSE)))","v":0},null,null,null,null,null,null,null,null,null,null,null,null,null,null,null,null,null,null,{"$f":"IF('Last Race Results'!$B$5=0,0,IF(ISNA(VLOOKUP($A265,'Last Race Results'!$A$5:$J$44,2,FALSE)),\"DNS\",VLOOKUP($A265,'Last Race Results'!$A$5:$J$44,2,FALSE)))","v":"DNS"},{"$f":"IF('Last Race Results'!$B$5=0,0,IF(ISNA(VLOOKUP($A265,'Last Race Results'!$A$5:$J$44,11,FALSE)),0,VLOOKUP($A265,'Last Race Results'!$A$5:$J$44,11,FALSE)))","v":0}]
[249,{"$f":"IF(ISNA(VLOOKUP($A266,'Entry List'!$A$1:$F$61,B$5,FALSE)),\"\",VLOOKUP($A266,'Entry List'!$A$1:$F$61,B$5,FALSE))","v":""},{"$f":"IF(ISNA(VLOOKUP($A266,'Entry List'!$A$1:$F$61,C$5,FALSE)),\"\",VLOOKUP($A266,'Entry List'!$A$1:$F$61,C$5,FALSE))","v":""},{"$f":"IF(ISNA(VLOOKUP($A266,'Entry List'!$A$1:$F$61,D$5,FALSE)),\"\",VLOOKUP($A266,'Entry List'!$A$1:$F$61,D$5,FALSE))","v":""},{"$f":"IF(ISNA(VLOOKUP($A266,'Entry List'!$A$1:$F$61,E$5,FALSE)),\"\",VLOOKUP($A266,'Entry List'!$A$1:$F$61,E$5,FALSE))","v":""},null,"DNS",0,"DNS",0,"DNS",0,"DNS",0,"DNS",0,"DNS",0,"DNS",0,"DNS",0,"DNS",0,"DNS",0,"DNS",0,"DNS",0,"DNS",0,"DNS",0,"DNS",0,"DNS",0,"DNS",0,"DNS",0,"DNS",0,"DNS",0,"DNS",0,"DNS",0,"DNS",0,"DNS",0,"DNS",0,{"$f":"IF('Last Race Results'!$B$5=0,0,IF(ISNA(VLOOKUP($A266,'Last Race Results'!$A$5:$J$44,2,FALSE)),\"DNS\",VLOOKUP($A266,'Last Race Results'!$A$5:$J$44,2,FALSE)))","v":"DNS"},{"$f":"IF('Last Race Results'!$B$5=0,0,IF(ISNA(VLOOKUP($A266,'Last Race Results'!$A$5:$K$44,11,FALSE)),0,VLOOKUP($A266,'Last Race Results'!$A$5:$K$44,11,FALSE)))","v":0},null,null,null,null,null,null,null,null,null,null,null,null,null,null,null,null,null,null,{"$f":"IF('Last Race Results'!$B$5=0,0,IF(ISNA(VLOOKUP($A266,'Last Race Results'!$A$5:$J$44,2,FALSE)),\"DNS\",VLOOKUP($A266,'Last Race Results'!$A$5:$J$44,2,FALSE)))","v":"DNS"},{"$f":"IF('Last Race Results'!$B$5=0,0,IF(ISNA(VLOOKUP($A266,'Last Race Results'!$A$5:$J$44,11,FALSE)),0,VLOOKUP($A266,'Last Race Results'!$A$5:$J$44,11,FALSE)))","v":0}]
[250,{"$f":"IF(ISNA(VLOOKUP($A267,'Entry List'!$A$1:$F$61,B$5,FALSE)),\"\",VLOOKUP($A267,'Entry List'!$A$1:$F$61,B$5,FALSE))","v":""},{"$f":"IF(ISNA(VLOOKUP($A267,'Entry List'!$A$1:$F$61,C$5,FALSE)),\"\",VLOOKUP($A267,'Entry List'!$A$1:$F$61,C$5,FALSE))","v":""},{"$f":"IF(ISNA(VLOOKUP($A267,'Entry List'!$A$1:$F$61,D$5,FALSE)),\"\",VLOOKUP($A267,'Entry List'!$A$1:$F$61,D$5,FALSE))","v":""},{"$f":"IF(ISNA(VLOOKUP($A267,'Entry List'!$A$1:$F$61,E$5,FALSE)),\"\",VLOOKUP($A267,'Entry List'!$A$1:$F$61,E$5,FALSE))","v":""},null,"DNS",0,"DNS",0,"DNS",0,"DNS",0,"DNS",0,"DNS",0,"DNS",0,"DNS",0,"DNS",0,"DNS",0,"DNS",0,"DNS",0,"DNS",0,"DNS",0,"DNS",0,"DNS",0,"DNS",0,"DNS",0,"DNS",0,"DNS",0,"DNS",0,"DNS",0,"DNS",0,"DNS",0,"DNS",0,{"$f":"IF('Last Race Results'!$B$5=0,0,IF(ISNA(VLOOKUP($A267,'Last Race Results'!$A$5:$J$44,2,FALSE)),\"DNS\",VLOOKUP($A267,'Last Race Results'!$A$5:$J$44,2,FALSE)))","v":"DNS"},{"$f":"IF('Last Race Results'!$B$5=0,0,IF(ISNA(VLOOKUP($A267,'Last Race Results'!$A$5:$K$44,11,FALSE)),0,VLOOKUP($A267,'Last Race Results'!$A$5:$K$44,11,FALSE)))","v":0},null,null,null,null,null,null,null,null,null,null,null,null,null,null,null,null,null,null,{"$f":"IF('Last Race Results'!$B$5=0,0,IF(ISNA(VLOOKUP($A267,'Last Race Results'!$A$5:$J$44,2,FALSE)),\"DNS\",VLOOKUP($A267,'Last Race Results'!$A$5:$J$44,2,FALSE)))","v":"DNS"},{"$f":"IF('Last Race Results'!$B$5=0,0,IF(ISNA(VLOOKUP($A267,'Last Race Results'!$A$5:$J$44,11,FALSE)),0,VLOOKUP($A267,'Last Race Results'!$A$5:$J$44,11,FALSE)))","v":0}]
[251,{"$f":"IF(ISNA(VLOOKUP($A268,'Entry List'!$A$1:$F$61,B$5,FALSE)),\"\",VLOOKUP($A268,'Entry List'!$A$1:$F$61,B$5,FALSE))","v":""},{"$f":"IF(ISNA(VLOOKUP($A268,'Entry List'!$A$1:$F$61,C$5,FALSE)),\"\",VLOOKUP($A268,'Entry List'!$A$1:$F$61,C$5,FALSE))","v":""},{"$f":"IF(ISNA(VLOOKUP($A268,'Entry List'!$A$1:$F$61,D$5,FALSE)),\"\",VLOOKUP($A268,'Entry List'!$A$1:$F$61,D$5,FALSE))","v":""},{"$f":"IF(ISNA(VLOOKUP($A268,'Entry List'!$A$1:$F$61,E$5,FALSE)),\"\",VLOOKUP($A268,'Entry List'!$A$1:$F$61,E$5,FALSE))","v":""},null,"DNS",0,"DNS",0,"DNS",0,"DNS",0,"DNS",0,"DNS",0,"DNS",0,"DNS",0,"DNS",0,"DNS",0,"DNS",0,"DNS",0,"DNS",0,"DNS",0,"DNS",0,"DNS",0,"DNS",0,"DNS",0,"DNS",0,"DNS",0,"DNS",0,"DNS",0,"DNS",0,"DNS",0,"DNS",0,{"$f":"IF('Last Race Results'!$B$5=0,0,IF(ISNA(VLOOKUP($A268,'Last Race Results'!$A$5:$J$44,2,FALSE)),\"DNS\",VLOOKUP($A268,'Last Race Results'!$A$5:$J$44,2,FALSE)))","v":"DNS"},{"$f":"IF('Last Race Results'!$B$5=0,0,IF(ISNA(VLOOKUP($A268,'Last Race Results'!$A$5:$K$44,11,FALSE)),0,VLOOKUP($A268,'Last Race Results'!$A$5:$K$44,11,FALSE)))","v":0},null,null,null,null,null,null,null,null,null,null,null,null,null,null,null,null,null,null,{"$f":"IF('Last Race Results'!$B$5=0,0,IF(ISNA(VLOOKUP($A268,'Last Race Results'!$A$5:$J$44,2,FALSE)),\"DNS\",VLOOKUP($A268,'Last Race Results'!$A$5:$J$44,2,FALSE)))","v":"DNS"},{"$f":"IF('Last Race Results'!$B$5=0,0,IF(ISNA(VLOOKUP($A268,'Last Race Results'!$A$5:$J$44,11,FALSE)),0,VLOOKUP($A268,'Last Race Results'!$A$5:$J$44,11,FALSE)))","v":0}]
[252,{"$f":"IF(ISNA(VLOOKUP($A269,'Entry List'!$A$1:$F$61,B$5,FALSE)),\"\",VLOOKUP($A269,'Entry List'!$A$1:$F$61,B$5,FALSE))","v":""},{"$f":"IF(ISNA(VLOOKUP($A269,'Entry List'!$A$1:$F$61,C$5,FALSE)),\"\",VLOOKUP($A269,'Entry List'!$A$1:$F$61,C$5,FALSE))","v":""},{"$f":"IF(ISNA(VLOOKUP($A269,'Entry List'!$A$1:$F$61,D$5,FALSE)),\"\",VLOOKUP($A269,'Entry List'!$A$1:$F$61,D$5,FALSE))","v":""},{"$f":"IF(ISNA(VLOOKUP($A269,'Entry List'!$A$1:$F$61,E$5,FALSE)),\"\",VLOOKUP($A269,'Entry List'!$A$1:$F$61,E$5,FALSE))","v":""},null,"DNS",0,"DNS",0,"DNS",0,"DNS",0,"DNS",0,"DNS",0,"DNS",0,"DNS",0,"DNS",0,"DNS",0,"DNS",0,"DNS",0,"DNS",0,"DNS",0,"DNS",0,"DNS",0,"DNS",0,"DNS",0,"DNS",0,"DNS",0,"DNS",0,"DNS",0,"DNS",0,"DNS",0,"DNS",0,{"$f":"IF('Last Race Results'!$B$5=0,0,IF(ISNA(VLOOKUP($A269,'Last Race Results'!$A$5:$J$44,2,FALSE)),\"DNS\",VLOOKUP($A269,'Last Race Results'!$A$5:$J$44,2,FALSE)))","v":"DNS"},{"$f":"IF('Last Race Results'!$B$5=0,0,IF(ISNA(VLOOKUP($A269,'Last Race Results'!$A$5:$K$44,11,FALSE)),0,VLOOKUP($A269,'Last Race Results'!$A$5:$K$44,11,FALSE)))","v":0},null,null,null,null,null,null,null,null,null,null,null,null,null,null,null,null,null,null,{"$f":"IF('Last Race Results'!$B$5=0,0,IF(ISNA(VLOOKUP($A269,'Last Race Results'!$A$5:$J$44,2,FALSE)),\"DNS\",VLOOKUP($A269,'Last Race Results'!$A$5:$J$44,2,FALSE)))","v":"DNS"},{"$f":"IF('Last Race Results'!$B$5=0,0,IF(ISNA(VLOOKUP($A269,'Last Race Results'!$A$5:$J$44,11,FALSE)),0,VLOOKUP($A269,'Last Race Results'!$A$5:$J$44,11,FALSE)))","v":0}]
[253,{"$f":"IF(ISNA(VLOOKUP($A270,'Entry List'!$A$1:$F$61,B$5,FALSE)),\"\",VLOOKUP($A270,'Entry List'!$A$1:$F$61,B$5,FALSE))","v":""},{"$f":"IF(ISNA(VLOOKUP($A270,'Entry List'!$A$1:$F$61,C$5,FALSE)),\"\",VLOOKUP($A270,'Entry List'!$A$1:$F$61,C$5,FALSE))","v":""},{"$f":"IF(ISNA(VLOOKUP($A270,'Entry List'!$A$1:$F$61,D$5,FALSE)),\"\",VLOOKUP($A270,'Entry List'!$A$1:$F$61,D$5,FALSE))","v":""},{"$f":"IF(ISNA(VLOOKUP($A270,'Entry List'!$A$1:$F$61,E$5,FALSE)),\"\",VLOOKUP($A270,'Entry List'!$A$1:$F$61,E$5,FALSE))","v":""},null,"DNS",0,"DNS",0,"DNS",0,"DNS",0,"DNS",0,"DNS",0,"DNS",0,"DNS",0,"DNS",0,"DNS",0,"DNS",0,"DNS",0,"DNS",0,"DNS",0,"DNS",0,"DNS",0,"DNS",0,"DNS",0,"DNS",0,"DNS",0,"DNS",0,"DNS",0,"DNS",0,"DNS",0,"DNS",0,{"$f":"IF('Last Race Results'!$B$5=0,0,IF(ISNA(VLOOKUP($A270,'Last Race Results'!$A$5:$J$44,2,FALSE)),\"DNS\",VLOOKUP($A270,'Last Race Results'!$A$5:$J$44,2,FALSE)))","v":"DNS"},{"$f":"IF('Last Race Results'!$B$5=0,0,IF(ISNA(VLOOKUP($A270,'Last Race Results'!$A$5:$K$44,11,FALSE)),0,VLOOKUP($A270,'Last Race Results'!$A$5:$K$44,11,FALSE)))","v":0},null,null,null,null,null,null,null,null,null,null,null,null,null,null,null,null,null,null,{"$f":"IF('Last Race Results'!$B$5=0,0,IF(ISNA(VLOOKUP($A270,'Last Race Results'!$A$5:$J$44,2,FALSE)),\"DNS\",VLOOKUP($A270,'Last Race Results'!$A$5:$J$44,2,FALSE)))","v":"DNS"},{"$f":"IF('Last Race Results'!$B$5=0,0,IF(ISNA(VLOOKUP($A270,'Last Race Results'!$A$5:$J$44,11,FALSE)),0,VLOOKUP($A270,'Last Race Results'!$A$5:$J$44,11,FALSE)))","v":0}]
[254,{"$f":"IF(ISNA(VLOOKUP($A271,'Entry List'!$A$1:$F$61,B$5,FALSE)),\"\",VLOOKUP($A271,'Entry List'!$A$1:$F$61,B$5,FALSE))","v":""},{"$f":"IF(ISNA(VLOOKUP($A271,'Entry List'!$A$1:$F$61,C$5,FALSE)),\"\",VLOOKUP($A271,'Entry List'!$A$1:$F$61,C$5,FALSE))","v":""},{"$f":"IF(ISNA(VLOOKUP($A271,'Entry List'!$A$1:$F$61,D$5,FALSE)),\"\",VLOOKUP($A271,'Entry List'!$A$1:$F$61,D$5,FALSE))","v":""},{"$f":"IF(ISNA(VLOOKUP($A271,'Entry List'!$A$1:$F$61,E$5,FALSE)),\"\",VLOOKUP($A271,'Entry List'!$A$1:$F$61,E$5,FALSE))","v":""},null,"DNS",0,"DNS",0,"DNS",0,"DNS",0,"DNS",0,"DNS",0,"DNS",0,"DNS",0,"DNS",0,"DNS",0,"DNS",0,"DNS",0,"DNS",0,"DNS",0,"DNS",0,"DNS",0,"DNS",0,"DNS",0,"DNS",0,"DNS",0,"DNS",0,"DNS",0,"DNS",0,"DNS",0,"DNS",0,{"$f":"IF('Last Race Results'!$B$5=0,0,IF(ISNA(VLOOKUP($A271,'Last Race Results'!$A$5:$J$44,2,FALSE)),\"DNS\",VLOOKUP($A271,'Last Race Results'!$A$5:$J$44,2,FALSE)))","v":"DNS"},{"$f":"IF('Last Race Results'!$B$5=0,0,IF(ISNA(VLOOKUP($A271,'Last Race Results'!$A$5:$K$44,11,FALSE)),0,VLOOKUP($A271,'Last Race Results'!$A$5:$K$44,11,FALSE)))","v":0},null,null,null,null,null,null,null,null,null,null,null,null,null,null,null,null,null,null,{"$f":"IF('Last Race Results'!$B$5=0,0,IF(ISNA(VLOOKUP($A271,'Last Race Results'!$A$5:$J$44,2,FALSE)),\"DNS\",VLOOKUP($A271,'Last Race Results'!$A$5:$J$44,2,FALSE)))","v":"DNS"},{"$f":"IF('Last Race Results'!$B$5=0,0,IF(ISNA(VLOOKUP($A271,'Last Race Results'!$A$5:$J$44,11,FALSE)),0,VLOOKUP($A271,'Last Race Results'!$A$5:$J$44,11,FALSE)))","v":0}]
[255,{"$f":"IF(ISNA(VLOOKUP($A272,'Entry List'!$A$1:$F$61,B$5,FALSE)),\"\",VLOOKUP($A272,'Entry List'!$A$1:$F$61,B$5,FALSE))","v":""},{"$f":"IF(ISNA(VLOOKUP($A272,'Entry List'!$A$1:$F$61,C$5,FALSE)),\"\",VLOOKUP($A272,'Entry List'!$A$1:$F$61,C$5,FALSE))","v":""},{"$f":"IF(ISNA(VLOOKUP($A272,'Entry List'!$A$1:$F$61,D$5,FALSE)),\"\",VLOOKUP($A272,'Entry List'!$A$1:$F$61,D$5,FALSE))","v":""},{"$f":"IF(ISNA(VLOOKUP($A272,'Entry List'!$A$1:$F$61,E$5,FALSE)),\"\",VLOOKUP($A272,'Entry List'!$A$1:$F$61,E$5,FALSE))","v":""},null,"DNS",0,"DNS",0,"DNS",0,"DNS",0,"DNS",0,"DNS",0,"DNS",0,"DNS",0,"DNS",0,"DNS",0,"DNS",0,"DNS",0,"DNS",0,"DNS",0,"DNS",0,"DNS",0,"DNS",0,"DNS",0,"DNS",0,"DNS",0,"DNS",0,"DNS",0,"DNS",0,"DNS",0,"DNS",0,{"$f":"IF('Last Race Results'!$B$5=0,0,IF(ISNA(VLOOKUP($A272,'Last Race Results'!$A$5:$J$44,2,FALSE)),\"DNS\",VLOOKUP($A272,'Last Race Results'!$A$5:$J$44,2,FALSE)))","v":"DNS"},{"$f":"IF('Last Race Results'!$B$5=0,0,IF(ISNA(VLOOKUP($A272,'Last Race Results'!$A$5:$K$44,11,FALSE)),0,VLOOKUP($A272,'Last Race Results'!$A$5:$K$44,11,FALSE)))","v":0},null,null,null,null,null,null,null,null,null,null,null,null,null,null,null,null,null,null,{"$f":"IF('Last Race Results'!$B$5=0,0,IF(ISNA(VLOOKUP($A272,'Last Race Results'!$A$5:$J$44,2,FALSE)),\"DNS\",VLOOKUP($A272,'Last Race Results'!$A$5:$J$44,2,FALSE)))","v":"DNS"},{"$f":"IF('Last Race Results'!$B$5=0,0,IF(ISNA(VLOOKUP($A272,'Last Race Results'!$A$5:$J$44,11,FALSE)),0,VLOOKUP($A272,'Last Race Results'!$A$5:$J$44,11,FALSE)))","v":0}]
[256,{"$f":"IF(ISNA(VLOOKUP($A273,'Entry List'!$A$1:$F$61,B$5,FALSE)),\"\",VLOOKUP($A273,'Entry List'!$A$1:$F$61,B$5,FALSE))","v":""},{"$f":"IF(ISNA(VLOOKUP($A273,'Entry List'!$A$1:$F$61,C$5,FALSE)),\"\",VLOOKUP($A273,'Entry List'!$A$1:$F$61,C$5,FALSE))","v":""},{"$f":"IF(ISNA(VLOOKUP($A273,'Entry List'!$A$1:$F$61,D$5,FALSE)),\"\",VLOOKUP($A273,'Entry List'!$A$1:$F$61,D$5,FALSE))","v":""},{"$f":"IF(ISNA(VLOOKUP($A273,'Entry List'!$A$1:$F$61,E$5,FALSE)),\"\",VLOOKUP($A273,'Entry List'!$A$1:$F$61,E$5,FALSE))","v":""},null,"DNS",0,"DNS",0,"DNS",0,"DNS",0,"DNS",0,"DNS",0,"DNS",0,"DNS",0,"DNS",0,"DNS",0,"DNS",0,"DNS",0,"DNS",0,"DNS",0,"DNS",0,"DNS",0,"DNS",0,"DNS",0,"DNS",0,"DNS",0,"DNS",0,"DNS",0,"DNS",0,"DNS",0,"DNS",0,{"$f":"IF('Last Race Results'!$B$5=0,0,IF(ISNA(VLOOKUP($A273,'Last Race Results'!$A$5:$J$44,2,FALSE)),\"DNS\",VLOOKUP($A273,'Last Race Results'!$A$5:$J$44,2,FALSE)))","v":"DNS"},{"$f":"IF('Last Race Results'!$B$5=0,0,IF(ISNA(VLOOKUP($A273,'Last Race Results'!$A$5:$K$44,11,FALSE)),0,VLOOKUP($A273,'Last Race Results'!$A$5:$K$44,11,FALSE)))","v":0},null,null,null,null,null,null,null,null,null,null,null,null,null,null,null,null,null,null,{"$f":"IF('Last Race Results'!$B$5=0,0,IF(ISNA(VLOOKUP($A273,'Last Race Results'!$A$5:$J$44,2,FALSE)),\"DNS\",VLOOKUP($A273,'Last Race Results'!$A$5:$J$44,2,FALSE)))","v":"DNS"},{"$f":"IF('Last Race Results'!$B$5=0,0,IF(ISNA(VLOOKUP($A273,'Last Race Results'!$A$5:$J$44,11,FALSE)),0,VLOOKUP($A273,'Last Race Results'!$A$5:$J$44,11,FALSE)))","v":0}]
[257,{"$f":"IF(ISNA(VLOOKUP($A274,'Entry List'!$A$1:$F$61,B$5,FALSE)),\"\",VLOOKUP($A274,'Entry List'!$A$1:$F$61,B$5,FALSE))","v":""},{"$f":"IF(ISNA(VLOOKUP($A274,'Entry List'!$A$1:$F$61,C$5,FALSE)),\"\",VLOOKUP($A274,'Entry List'!$A$1:$F$61,C$5,FALSE))","v":""},{"$f":"IF(ISNA(VLOOKUP($A274,'Entry List'!$A$1:$F$61,D$5,FALSE)),\"\",VLOOKUP($A274,'Entry List'!$A$1:$F$61,D$5,FALSE))","v":""},{"$f":"IF(ISNA(VLOOKUP($A274,'Entry List'!$A$1:$F$61,E$5,FALSE)),\"\",VLOOKUP($A274,'Entry List'!$A$1:$F$61,E$5,FALSE))","v":""},null,"DNS",0,"DNS",0,"DNS",0,"DNS",0,"DNS",0,"DNS",0,"DNS",0,"DNS",0,"DNS",0,"DNS",0,"DNS",0,"DNS",0,"DNS",0,"DNS",0,"DNS",0,"DNS",0,"DNS",0,"DNS",0,"DNS",0,"DNS",0,"DNS",0,"DNS",0,"DNS",0,"DNS",0,"DNS",0,{"$f":"IF('Last Race Results'!$B$5=0,0,IF(ISNA(VLOOKUP($A274,'Last Race Results'!$A$5:$J$44,2,FALSE)),\"DNS\",VLOOKUP($A274,'Last Race Results'!$A$5:$J$44,2,FALSE)))","v":"DNS"},{"$f":"IF('Last Race Results'!$B$5=0,0,IF(ISNA(VLOOKUP($A274,'Last Race Results'!$A$5:$K$44,11,FALSE)),0,VLOOKUP($A274,'Last Race Results'!$A$5:$K$44,11,FALSE)))","v":0},null,null,null,null,null,null,null,null,null,null,null,null,null,null,null,null,null,null,{"$f":"IF('Last Race Results'!$B$5=0,0,IF(ISNA(VLOOKUP($A274,'Last Race Results'!$A$5:$J$44,2,FALSE)),\"DNS\",VLOOKUP($A274,'Last Race Results'!$A$5:$J$44,2,FALSE)))","v":"DNS"},{"$f":"IF('Last Race Results'!$B$5=0,0,IF(ISNA(VLOOKUP($A274,'Last Race Results'!$A$5:$J$44,11,FALSE)),0,VLOOKUP($A274,'Last Race Results'!$A$5:$J$44,11,FALSE)))","v":0}]
[258,{"$f":"IF(ISNA(VLOOKUP($A275,'Entry List'!$A$1:$F$61,B$5,FALSE)),\"\",VLOOKUP($A275,'Entry List'!$A$1:$F$61,B$5,FALSE))","v":""},{"$f":"IF(ISNA(VLOOKUP($A275,'Entry List'!$A$1:$F$61,C$5,FALSE)),\"\",VLOOKUP($A275,'Entry List'!$A$1:$F$61,C$5,FALSE))","v":""},{"$f":"IF(ISNA(VLOOKUP($A275,'Entry List'!$A$1:$F$61,D$5,FALSE)),\"\",VLOOKUP($A275,'Entry List'!$A$1:$F$61,D$5,FALSE))","v":""},{"$f":"IF(ISNA(VLOOKUP($A275,'Entry List'!$A$1:$F$61,E$5,FALSE)),\"\",VLOOKUP($A275,'Entry List'!$A$1:$F$61,E$5,FALSE))","v":""},null,"DNS",0,"DNS",0,"DNS",0,"DNS",0,"DNS",0,"DNS",0,"DNS",0,"DNS",0,"DNS",0,"DNS",0,"DNS",0,"DNS",0,"DNS",0,"DNS",0,"DNS",0,"DNS",0,"DNS",0,"DNS",0,"DNS",0,"DNS",0,"DNS",0,"DNS",0,"DNS",0,"DNS",0,"DNS",0,{"$f":"IF('Last Race Results'!$B$5=0,0,IF(ISNA(VLOOKUP($A275,'Last Race Results'!$A$5:$J$44,2,FALSE)),\"DNS\",VLOOKUP($A275,'Last Race Results'!$A$5:$J$44,2,FALSE)))","v":"DNS"},{"$f":"IF('Last Race Results'!$B$5=0,0,IF(ISNA(VLOOKUP($A275,'Last Race Results'!$A$5:$K$44,11,FALSE)),0,VLOOKUP($A275,'Last Race Results'!$A$5:$K$44,11,FALSE)))","v":0},null,null,null,null,null,null,null,null,null,null,null,null,null,null,null,null,null,null,{"$f":"IF('Last Race Results'!$B$5=0,0,IF(ISNA(VLOOKUP($A275,'Last Race Results'!$A$5:$J$44,2,FALSE)),\"DNS\",VLOOKUP($A275,'Last Race Results'!$A$5:$J$44,2,FALSE)))","v":"DNS"},{"$f":"IF('Last Race Results'!$B$5=0,0,IF(ISNA(VLOOKUP($A275,'Last Race Results'!$A$5:$J$44,11,FALSE)),0,VLOOKUP($A275,'Last Race Results'!$A$5:$J$44,11,FALSE)))","v":0}]
[259,{"$f":"IF(ISNA(VLOOKUP($A276,'Entry List'!$A$1:$F$61,B$5,FALSE)),\"\",VLOOKUP($A276,'Entry List'!$A$1:$F$61,B$5,FALSE))","v":""},{"$f":"IF(ISNA(VLOOKUP($A276,'Entry List'!$A$1:$F$61,C$5,FALSE)),\"\",VLOOKUP($A276,'Entry List'!$A$1:$F$61,C$5,FALSE))","v":""},{"$f":"IF(ISNA(VLOOKUP($A276,'Entry List'!$A$1:$F$61,D$5,FALSE)),\"\",VLOOKUP($A276,'Entry List'!$A$1:$F$61,D$5,FALSE))","v":""},{"$f":"IF(ISNA(VLOOKUP($A276,'Entry List'!$A$1:$F$61,E$5,FALSE)),\"\",VLOOKUP($A276,'Entry List'!$A$1:$F$61,E$5,FALSE))","v":""},null,"DNS",0,"DNS",0,"DNS",0,"DNS",0,"DNS",0,"DNS",0,"DNS",0,"DNS",0,"DNS",0,"DNS",0,"DNS",0,"DNS",0,"DNS",0,"DNS",0,"DNS",0,"DNS",0,"DNS",0,"DNS",0,"DNS",0,"DNS",0,"DNS",0,"DNS",0,"DNS",0,"DNS",0,"DNS",0,{"$f":"IF('Last Race Results'!$B$5=0,0,IF(ISNA(VLOOKUP($A276,'Last Race Results'!$A$5:$J$44,2,FALSE)),\"DNS\",VLOOKUP($A276,'Last Race Results'!$A$5:$J$44,2,FALSE)))","v":"DNS"},{"$f":"IF('Last Race Results'!$B$5=0,0,IF(ISNA(VLOOKUP($A276,'Last Race Results'!$A$5:$K$44,11,FALSE)),0,VLOOKUP($A276,'Last Race Results'!$A$5:$K$44,11,FALSE)))","v":0},null,null,null,null,null,null,null,null,null,null,null,null,null,null,null,null,null,null,{"$f":"IF('Last Race Results'!$B$5=0,0,IF(ISNA(VLOOKUP($A276,'Last Race Results'!$A$5:$J$44,2,FALSE)),\"DNS\",VLOOKUP($A276,'Last Race Results'!$A$5:$J$44,2,FALSE)))","v":"DNS"},{"$f":"IF('Last Race Results'!$B$5=0,0,IF(ISNA(VLOOKUP($A276,'Last Race Results'!$A$5:$J$44,11,FALSE)),0,VLOOKUP($A276,'Last Race Results'!$A$5:$J$44,11,FALSE)))","v":0}]
[260,{"$f":"IF(ISNA(VLOOKUP($A277,'Entry List'!$A$1:$F$61,B$5,FALSE)),\"\",VLOOKUP($A277,'Entry List'!$A$1:$F$61,B$5,FALSE))","v":""},{"$f":"IF(ISNA(VLOOKUP($A277,'Entry List'!$A$1:$F$61,C$5,FALSE)),\"\",VLOOKUP($A277,'Entry List'!$A$1:$F$61,C$5,FALSE))","v":""},{"$f":"IF(ISNA(VLOOKUP($A277,'Entry List'!$A$1:$F$61,D$5,FALSE)),\"\",VLOOKUP($A277,'Entry List'!$A$1:$F$61,D$5,FALSE))","v":""},{"$f":"IF(ISNA(VLOOKUP($A277,'Entry List'!$A$1:$F$61,E$5,FALSE)),\"\",VLOOKUP($A277,'Entry List'!$A$1:$F$61,E$5,FALSE))","v":""},null,"DNS",0,"DNS",0,"DNS",0,"DNS",0,"DNS",0,"DNS",0,"DNS",0,"DNS",0,"DNS",0,"DNS",0,"DNS",0,"DNS",0,"DNS",0,"DNS",0,"DNS",0,"DNS",0,"DNS",0,"DNS",0,"DNS",0,"DNS",0,"DNS",0,"DNS",0,"DNS",0,"DNS",0,"DNS",0,{"$f":"IF('Last Race Results'!$B$5=0,0,IF(ISNA(VLOOKUP($A277,'Last Race Results'!$A$5:$J$44,2,FALSE)),\"DNS\",VLOOKUP($A277,'Last Race Results'!$A$5:$J$44,2,FALSE)))","v":"DNS"},{"$f":"IF('Last Race Results'!$B$5=0,0,IF(ISNA(VLOOKUP($A277,'Last Race Results'!$A$5:$K$44,11,FALSE)),0,VLOOKUP($A277,'Last Race Results'!$A$5:$K$44,11,FALSE)))","v":0},null,null,null,null,null,null,null,null,null,null,null,null,null,null,null,null,null,null,{"$f":"IF('Last Race Results'!$B$5=0,0,IF(ISNA(VLOOKUP($A277,'Last Race Results'!$A$5:$J$44,2,FALSE)),\"DNS\",VLOOKUP($A277,'Last Race Results'!$A$5:$J$44,2,FALSE)))","v":"DNS"},{"$f":"IF('Last Race Results'!$B$5=0,0,IF(ISNA(VLOOKUP($A277,'Last Race Results'!$A$5:$J$44,11,FALSE)),0,VLOOKUP($A277,'Last Race Results'!$A$5:$J$44,11,FALSE)))","v":0}]
[261,{"$f":"IF(ISNA(VLOOKUP($A278,'Entry List'!$A$1:$F$61,B$5,FALSE)),\"\",VLOOKUP($A278,'Entry List'!$A$1:$F$61,B$5,FALSE))","v":""},{"$f":"IF(ISNA(VLOOKUP($A278,'Entry List'!$A$1:$F$61,C$5,FALSE)),\"\",VLOOKUP($A278,'Entry List'!$A$1:$F$61,C$5,FALSE))","v":""},{"$f":"IF(ISNA(VLOOKUP($A278,'Entry List'!$A$1:$F$61,D$5,FALSE)),\"\",VLOOKUP($A278,'Entry List'!$A$1:$F$61,D$5,FALSE))","v":""},{"$f":"IF(ISNA(VLOOKUP($A278,'Entry List'!$A$1:$F$61,E$5,FALSE)),\"\",VLOOKUP($A278,'Entry List'!$A$1:$F$61,E$5,FALSE))","v":""},null,"DNS",0,"DNS",0,"DNS",0,"DNS",0,"DNS",0,"DNS",0,"DNS",0,"DNS",0,"DNS",0,"DNS",0,"DNS",0,"DNS",0,"DNS",0,"DNS",0,"DNS",0,"DNS",0,"DNS",0,"DNS",0,"DNS",0,"DNS",0,"DNS",0,"DNS",0,"DNS",0,"DNS",0,"DNS",0,{"$f":"IF('Last Race Results'!$B$5=0,0,IF(ISNA(VLOOKUP($A278,'Last Race Results'!$A$5:$J$44,2,FALSE)),\"DNS\",VLOOKUP($A278,'Last Race Results'!$A$5:$J$44,2,FALSE)))","v":"DNS"},{"$f":"IF('Last Race Results'!$B$5=0,0,IF(ISNA(VLOOKUP($A278,'Last Race Results'!$A$5:$K$44,11,FALSE)),0,VLOOKUP($A278,'Last Race Results'!$A$5:$K$44,11,FALSE)))","v":0},null,null,null,null,null,null,null,null,null,null,null,null,null,null,null,null,null,null,{"$f":"IF('Last Race Results'!$B$5=0,0,IF(ISNA(VLOOKUP($A278,'Last Race Results'!$A$5:$J$44,2,FALSE)),\"DNS\",VLOOKUP($A278,'Last Race Results'!$A$5:$J$44,2,FALSE)))","v":"DNS"},{"$f":"IF('Last Race Results'!$B$5=0,0,IF(ISNA(VLOOKUP($A278,'Last Race Results'!$A$5:$J$44,11,FALSE)),0,VLOOKUP($A278,'Last Race Results'!$A$5:$J$44,11,FALSE)))","v":0}]
[262,{"$f":"IF(ISNA(VLOOKUP($A279,'Entry List'!$A$1:$F$61,B$5,FALSE)),\"\",VLOOKUP($A279,'Entry List'!$A$1:$F$61,B$5,FALSE))","v":""},{"$f":"IF(ISNA(VLOOKUP($A279,'Entry List'!$A$1:$F$61,C$5,FALSE)),\"\",VLOOKUP($A279,'Entry List'!$A$1:$F$61,C$5,FALSE))","v":""},{"$f":"IF(ISNA(VLOOKUP($A279,'Entry List'!$A$1:$F$61,D$5,FALSE)),\"\",VLOOKUP($A279,'Entry List'!$A$1:$F$61,D$5,FALSE))","v":""},{"$f":"IF(ISNA(VLOOKUP($A279,'Entry List'!$A$1:$F$61,E$5,FALSE)),\"\",VLOOKUP($A279,'Entry List'!$A$1:$F$61,E$5,FALSE))","v":""},null,"DNS",0,"DNS",0,"DNS",0,"DNS",0,"DNS",0,"DNS",0,"DNS",0,"DNS",0,"DNS",0,"DNS",0,"DNS",0,"DNS",0,"DNS",0,"DNS",0,"DNS",0,"DNS",0,"DNS",0,"DNS",0,"DNS",0,"DNS",0,"DNS",0,"DNS",0,"DNS",0,"DNS",0,"DNS",0,{"$f":"IF('Last Race Results'!$B$5=0,0,IF(ISNA(VLOOKUP($A279,'Last Race Results'!$A$5:$J$44,2,FALSE)),\"DNS\",VLOOKUP($A279,'Last Race Results'!$A$5:$J$44,2,FALSE)))","v":"DNS"},{"$f":"IF('Last Race Results'!$B$5=0,0,IF(ISNA(VLOOKUP($A279,'Last Race Results'!$A$5:$K$44,11,FALSE)),0,VLOOKUP($A279,'Last Race Results'!$A$5:$K$44,11,FALSE)))","v":0},null,null,null,null,null,null,null,null,null,null,null,null,null,null,null,null,null,null,{"$f":"IF('Last Race Results'!$B$5=0,0,IF(ISNA(VLOOKUP($A279,'Last Race Results'!$A$5:$J$44,2,FALSE)),\"DNS\",VLOOKUP($A279,'Last Race Results'!$A$5:$J$44,2,FALSE)))","v":"DNS"},{"$f":"IF('Last Race Results'!$B$5=0,0,IF(ISNA(VLOOKUP($A279,'Last Race Results'!$A$5:$J$44,11,FALSE)),0,VLOOKUP($A279,'Last Race Results'!$A$5:$J$44,11,FALSE)))","v":0}]
[263,{"$f":"IF(ISNA(VLOOKUP($A280,'Entry List'!$A$1:$F$61,B$5,FALSE)),\"\",VLOOKUP($A280,'Entry List'!$A$1:$F$61,B$5,FALSE))","v":""},{"$f":"IF(ISNA(VLOOKUP($A280,'Entry List'!$A$1:$F$61,C$5,FALSE)),\"\",VLOOKUP($A280,'Entry List'!$A$1:$F$61,C$5,FALSE))","v":""},{"$f":"IF(ISNA(VLOOKUP($A280,'Entry List'!$A$1:$F$61,D$5,FALSE)),\"\",VLOOKUP($A280,'Entry List'!$A$1:$F$61,D$5,FALSE))","v":""},{"$f":"IF(ISNA(VLOOKUP($A280,'Entry List'!$A$1:$F$61,E$5,FALSE)),\"\",VLOOKUP($A280,'Entry List'!$A$1:$F$61,E$5,FALSE))","v":""},null,"DNS",0,"DNS",0,"DNS",0,"DNS",0,"DNS",0,"DNS",0,"DNS",0,"DNS",0,"DNS",0,"DNS",0,"DNS",0,"DNS",0,"DNS",0,"DNS",0,"DNS",0,"DNS",0,"DNS",0,"DNS",0,"DNS",0,"DNS",0,"DNS",0,"DNS",0,"DNS",0,"DNS",0,"DNS",0,{"$f":"IF('Last Race Results'!$B$5=0,0,IF(ISNA(VLOOKUP($A280,'Last Race Results'!$A$5:$J$44,2,FALSE)),\"DNS\",VLOOKUP($A280,'Last Race Results'!$A$5:$J$44,2,FALSE)))","v":"DNS"},{"$f":"IF('Last Race Results'!$B$5=0,0,IF(ISNA(VLOOKUP($A280,'Last Race Results'!$A$5:$K$44,11,FALSE)),0,VLOOKUP($A280,'Last Race Results'!$A$5:$K$44,11,FALSE)))","v":0},null,null,null,null,null,null,null,null,null,null,null,null,null,null,null,null,null,null,{"$f":"IF('Last Race Results'!$B$5=0,0,IF(ISNA(VLOOKUP($A280,'Last Race Results'!$A$5:$J$44,2,FALSE)),\"DNS\",VLOOKUP($A280,'Last Race Results'!$A$5:$J$44,2,FALSE)))","v":"DNS"},{"$f":"IF('Last Race Results'!$B$5=0,0,IF(ISNA(VLOOKUP($A280,'Last Race Results'!$A$5:$J$44,11,FALSE)),0,VLOOKUP($A280,'Last Race Results'!$A$5:$J$44,11,FALSE)))","v":0}]
[264,{"$f":"IF(ISNA(VLOOKUP($A281,'Entry List'!$A$1:$F$61,B$5,FALSE)),\"\",VLOOKUP($A281,'Entry List'!$A$1:$F$61,B$5,FALSE))","v":""},{"$f":"IF(ISNA(VLOOKUP($A281,'Entry List'!$A$1:$F$61,C$5,FALSE)),\"\",VLOOKUP($A281,'Entry List'!$A$1:$F$61,C$5,FALSE))","v":""},{"$f":"IF(ISNA(VLOOKUP($A281,'Entry List'!$A$1:$F$61,D$5,FALSE)),\"\",VLOOKUP($A281,'Entry List'!$A$1:$F$61,D$5,FALSE))","v":""},{"$f":"IF(ISNA(VLOOKUP($A281,'Entry List'!$A$1:$F$61,E$5,FALSE)),\"\",VLOOKUP($A281,'Entry List'!$A$1:$F$61,E$5,FALSE))","v":""},null,"DNS",0,"DNS",0,"DNS",0,"DNS",0,"DNS",0,"DNS",0,"DNS",0,"DNS",0,"DNS",0,"DNS",0,"DNS",0,"DNS",0,"DNS",0,"DNS",0,"DNS",0,"DNS",0,"DNS",0,"DNS",0,"DNS",0,"DNS",0,"DNS",0,"DNS",0,"DNS",0,"DNS",0,"DNS",0,{"$f":"IF('Last Race Results'!$B$5=0,0,IF(ISNA(VLOOKUP($A281,'Last Race Results'!$A$5:$J$44,2,FALSE)),\"DNS\",VLOOKUP($A281,'Last Race Results'!$A$5:$J$44,2,FALSE)))","v":"DNS"},{"$f":"IF('Last Race Results'!$B$5=0,0,IF(ISNA(VLOOKUP($A281,'Last Race Results'!$A$5:$K$44,11,FALSE)),0,VLOOKUP($A281,'Last Race Results'!$A$5:$K$44,11,FALSE)))","v":0},null,null,null,null,null,null,null,null,null,null,null,null,null,null,null,null,null,null,{"$f":"IF('Last Race Results'!$B$5=0,0,IF(ISNA(VLOOKUP($A281,'Last Race Results'!$A$5:$J$44,2,FALSE)),\"DNS\",VLOOKUP($A281,'Last Race Results'!$A$5:$J$44,2,FALSE)))","v":"DNS"},{"$f":"IF('Last Race Results'!$B$5=0,0,IF(ISNA(VLOOKUP($A281,'Last Race Results'!$A$5:$J$44,11,FALSE)),0,VLOOKUP($A281,'Last Race Results'!$A$5:$J$44,11,FALSE)))","v":0}]
[265,{"$f":"IF(ISNA(VLOOKUP($A282,'Entry List'!$A$1:$F$61,B$5,FALSE)),\"\",VLOOKUP($A282,'Entry List'!$A$1:$F$61,B$5,FALSE))","v":""},{"$f":"IF(ISNA(VLOOKUP($A282,'Entry List'!$A$1:$F$61,C$5,FALSE)),\"\",VLOOKUP($A282,'Entry List'!$A$1:$F$61,C$5,FALSE))","v":""},{"$f":"IF(ISNA(VLOOKUP($A282,'Entry List'!$A$1:$F$61,D$5,FALSE)),\"\",VLOOKUP($A282,'Entry List'!$A$1:$F$61,D$5,FALSE))","v":""},{"$f":"IF(ISNA(VLOOKUP($A282,'Entry List'!$A$1:$F$61,E$5,FALSE)),\"\",VLOOKUP($A282,'Entry List'!$A$1:$F$61,E$5,FALSE))","v":""},null,"DNS",0,"DNS",0,"DNS",0,"DNS",0,"DNS",0,"DNS",0,"DNS",0,"DNS",0,"DNS",0,"DNS",0,"DNS",0,"DNS",0,"DNS",0,"DNS",0,"DNS",0,"DNS",0,"DNS",0,"DNS",0,"DNS",0,"DNS",0,"DNS",0,"DNS",0,"DNS",0,"DNS",0,"DNS",0,{"$f":"IF('Last Race Results'!$B$5=0,0,IF(ISNA(VLOOKUP($A282,'Last Race Results'!$A$5:$J$44,2,FALSE)),\"DNS\",VLOOKUP($A282,'Last Race Results'!$A$5:$J$44,2,FALSE)))","v":"DNS"},{"$f":"IF('Last Race Results'!$B$5=0,0,IF(ISNA(VLOOKUP($A282,'Last Race Results'!$A$5:$K$44,11,FALSE)),0,VLOOKUP($A282,'Last Race Results'!$A$5:$K$44,11,FALSE)))","v":0},null,null,null,null,null,null,null,null,null,null,null,null,null,null,null,null,null,null,{"$f":"IF('Last Race Results'!$B$5=0,0,IF(ISNA(VLOOKUP($A282,'Last Race Results'!$A$5:$J$44,2,FALSE)),\"DNS\",VLOOKUP($A282,'Last Race Results'!$A$5:$J$44,2,FALSE)))","v":"DNS"},{"$f":"IF('Last Race Results'!$B$5=0,0,IF(ISNA(VLOOKUP($A282,'Last Race Results'!$A$5:$J$44,11,FALSE)),0,VLOOKUP($A282,'Last Race Results'!$A$5:$J$44,11,FALSE)))","v":0}]
[266,{"$f":"IF(ISNA(VLOOKUP($A283,'Entry List'!$A$1:$F$61,B$5,FALSE)),\"\",VLOOKUP($A283,'Entry List'!$A$1:$F$61,B$5,FALSE))","v":""},{"$f":"IF(ISNA(VLOOKUP($A283,'Entry List'!$A$1:$F$61,C$5,FALSE)),\"\",VLOOKUP($A283,'Entry List'!$A$1:$F$61,C$5,FALSE))","v":""},{"$f":"IF(ISNA(VLOOKUP($A283,'Entry List'!$A$1:$F$61,D$5,FALSE)),\"\",VLOOKUP($A283,'Entry List'!$A$1:$F$61,D$5,FALSE))","v":""},{"$f":"IF(ISNA(VLOOKUP($A283,'Entry List'!$A$1:$F$61,E$5,FALSE)),\"\",VLOOKUP($A283,'Entry List'!$A$1:$F$61,E$5,FALSE))","v":""},null,"DNS",0,"DNS",0,"DNS",0,"DNS",0,"DNS",0,"DNS",0,"DNS",0,"DNS",0,"DNS",0,"DNS",0,"DNS",0,"DNS",0,"DNS",0,"DNS",0,"DNS",0,"DNS",0,"DNS",0,"DNS",0,"DNS",0,"DNS",0,"DNS",0,"DNS",0,"DNS",0,"DNS",0,"DNS",0,{"$f":"IF('Last Race Results'!$B$5=0,0,IF(ISNA(VLOOKUP($A283,'Last Race Results'!$A$5:$J$44,2,FALSE)),\"DNS\",VLOOKUP($A283,'Last Race Results'!$A$5:$J$44,2,FALSE)))","v":"DNS"},{"$f":"IF('Last Race Results'!$B$5=0,0,IF(ISNA(VLOOKUP($A283,'Last Race Results'!$A$5:$K$44,11,FALSE)),0,VLOOKUP($A283,'Last Race Results'!$A$5:$K$44,11,FALSE)))","v":0},null,null,null,null,null,null,null,null,null,null,null,null,null,null,null,null,null,null,{"$f":"IF('Last Race Results'!$B$5=0,0,IF(ISNA(VLOOKUP($A283,'Last Race Results'!$A$5:$J$44,2,FALSE)),\"DNS\",VLOOKUP($A283,'Last Race Results'!$A$5:$J$44,2,FALSE)))","v":"DNS"},{"$f":"IF('Last Race Results'!$B$5=0,0,IF(ISNA(VLOOKUP($A283,'Last Race Results'!$A$5:$J$44,11,FALSE)),0,VLOOKUP($A283,'Last Race Results'!$A$5:$J$44,11,FALSE)))","v":0}]
[267,{"$f":"IF(ISNA(VLOOKUP($A284,'Entry List'!$A$1:$F$61,B$5,FALSE)),\"\",VLOOKUP($A284,'Entry List'!$A$1:$F$61,B$5,FALSE))","v":""},{"$f":"IF(ISNA(VLOOKUP($A284,'Entry List'!$A$1:$F$61,C$5,FALSE)),\"\",VLOOKUP($A284,'Entry List'!$A$1:$F$61,C$5,FALSE))","v":""},{"$f":"IF(ISNA(VLOOKUP($A284,'Entry List'!$A$1:$F$61,D$5,FALSE)),\"\",VLOOKUP($A284,'Entry List'!$A$1:$F$61,D$5,FALSE))","v":""},{"$f":"IF(ISNA(VLOOKUP($A284,'Entry List'!$A$1:$F$61,E$5,FALSE)),\"\",VLOOKUP($A284,'Entry List'!$A$1:$F$61,E$5,FALSE))","v":""},null,"DNS",0,"DNS",0,"DNS",0,"DNS",0,"DNS",0,"DNS",0,"DNS",0,"DNS",0,"DNS",0,"DNS",0,"DNS",0,"DNS",0,"DNS",0,"DNS",0,"DNS",0,"DNS",0,"DNS",0,"DNS",0,"DNS",0,"DNS",0,"DNS",0,"DNS",0,"DNS",0,"DNS",0,"DNS",0,{"$f":"IF('Last Race Results'!$B$5=0,0,IF(ISNA(VLOOKUP($A284,'Last Race Results'!$A$5:$J$44,2,FALSE)),\"DNS\",VLOOKUP($A284,'Last Race Results'!$A$5:$J$44,2,FALSE)))","v":"DNS"},{"$f":"IF('Last Race Results'!$B$5=0,0,IF(ISNA(VLOOKUP($A284,'Last Race Results'!$A$5:$K$44,11,FALSE)),0,VLOOKUP($A284,'Last Race Results'!$A$5:$K$44,11,FALSE)))","v":0},null,null,null,null,null,null,null,null,null,null,null,null,null,null,null,null,null,null,{"$f":"IF('Last Race Results'!$B$5=0,0,IF(ISNA(VLOOKUP($A284,'Last Race Results'!$A$5:$J$44,2,FALSE)),\"DNS\",VLOOKUP($A284,'Last Race Results'!$A$5:$J$44,2,FALSE)))","v":"DNS"},{"$f":"IF('Last Race Results'!$B$5=0,0,IF(ISNA(VLOOKUP($A284,'Last Race Results'!$A$5:$J$44,11,FALSE)),0,VLOOKUP($A284,'Last Race Results'!$A$5:$J$44,11,FALSE)))","v":0}]
[268,{"$f":"IF(ISNA(VLOOKUP($A285,'Entry List'!$A$1:$F$61,B$5,FALSE)),\"\",VLOOKUP($A285,'Entry List'!$A$1:$F$61,B$5,FALSE))","v":""},{"$f":"IF(ISNA(VLOOKUP($A285,'Entry List'!$A$1:$F$61,C$5,FALSE)),\"\",VLOOKUP($A285,'Entry List'!$A$1:$F$61,C$5,FALSE))","v":""},{"$f":"IF(ISNA(VLOOKUP($A285,'Entry List'!$A$1:$F$61,D$5,FALSE)),\"\",VLOOKUP($A285,'Entry List'!$A$1:$F$61,D$5,FALSE))","v":""},{"$f":"IF(ISNA(VLOOKUP($A285,'Entry List'!$A$1:$F$61,E$5,FALSE)),\"\",VLOOKUP($A285,'Entry List'!$A$1:$F$61,E$5,FALSE))","v":""},null,"DNS",0,"DNS",0,"DNS",0,"DNS",0,"DNS",0,"DNS",0,"DNS",0,"DNS",0,"DNS",0,"DNS",0,"DNS",0,"DNS",0,"DNS",0,"DNS",0,"DNS",0,"DNS",0,"DNS",0,"DNS",0,"DNS",0,"DNS",0,"DNS",0,"DNS",0,"DNS",0,"DNS",0,"DNS",0,{"$f":"IF('Last Race Results'!$B$5=0,0,IF(ISNA(VLOOKUP($A285,'Last Race Results'!$A$5:$J$44,2,FALSE)),\"DNS\",VLOOKUP($A285,'Last Race Results'!$A$5:$J$44,2,FALSE)))","v":"DNS"},{"$f":"IF('Last Race Results'!$B$5=0,0,IF(ISNA(VLOOKUP($A285,'Last Race Results'!$A$5:$K$44,11,FALSE)),0,VLOOKUP($A285,'Last Race Results'!$A$5:$K$44,11,FALSE)))","v":0},null,null,null,null,null,null,null,null,null,null,null,null,null,null,null,null,null,null,{"$f":"IF('Last Race Results'!$B$5=0,0,IF(ISNA(VLOOKUP($A285,'Last Race Results'!$A$5:$J$44,2,FALSE)),\"DNS\",VLOOKUP($A285,'Last Race Results'!$A$5:$J$44,2,FALSE)))","v":"DNS"},{"$f":"IF('Last Race Results'!$B$5=0,0,IF(ISNA(VLOOKUP($A285,'Last Race Results'!$A$5:$J$44,11,FALSE)),0,VLOOKUP($A285,'Last Race Results'!$A$5:$J$44,11,FALSE)))","v":0}]
[269,{"$f":"IF(ISNA(VLOOKUP($A286,'Entry List'!$A$1:$F$61,B$5,FALSE)),\"\",VLOOKUP($A286,'Entry List'!$A$1:$F$61,B$5,FALSE))","v":""},{"$f":"IF(ISNA(VLOOKUP($A286,'Entry List'!$A$1:$F$61,C$5,FALSE)),\"\",VLOOKUP($A286,'Entry List'!$A$1:$F$61,C$5,FALSE))","v":""},{"$f":"IF(ISNA(VLOOKUP($A286,'Entry List'!$A$1:$F$61,D$5,FALSE)),\"\",VLOOKUP($A286,'Entry List'!$A$1:$F$61,D$5,FALSE))","v":""},{"$f":"IF(ISNA(VLOOKUP($A286,'Entry List'!$A$1:$F$61,E$5,FALSE)),\"\",VLOOKUP($A286,'Entry List'!$A$1:$F$61,E$5,FALSE))","v":""},null,"DNS",0,"DNS",0,"DNS",0,"DNS",0,"DNS",0,"DNS",0,"DNS",0,"DNS",0,"DNS",0,"DNS",0,"DNS",0,"DNS",0,"DNS",0,"DNS",0,"DNS",0,"DNS",0,"DNS",0,"DNS",0,"DNS",0,"DNS",0,"DNS",0,"DNS",0,"DNS",0,"DNS",0,"DNS",0,{"$f":"IF('Last Race Results'!$B$5=0,0,IF(ISNA(VLOOKUP($A286,'Last Race Results'!$A$5:$J$44,2,FALSE)),\"DNS\",VLOOKUP($A286,'Last Race Results'!$A$5:$J$44,2,FALSE)))","v":"DNS"},{"$f":"IF('Last Race Results'!$B$5=0,0,IF(ISNA(VLOOKUP($A286,'Last Race Results'!$A$5:$K$44,11,FALSE)),0,VLOOKUP($A286,'Last Race Results'!$A$5:$K$44,11,FALSE)))","v":0},null,null,null,null,null,null,null,null,null,null,null,null,null,null,null,null,null,null,{"$f":"IF('Last Race Results'!$B$5=0,0,IF(ISNA(VLOOKUP($A286,'Last Race Results'!$A$5:$J$44,2,FALSE)),\"DNS\",VLOOKUP($A286,'Last Race Results'!$A$5:$J$44,2,FALSE)))","v":"DNS"},{"$f":"IF('Last Race Results'!$B$5=0,0,IF(ISNA(VLOOKUP($A286,'Last Race Results'!$A$5:$J$44,11,FALSE)),0,VLOOKUP($A286,'Last Race Results'!$A$5:$J$44,11,FALSE)))","v":0}]
[270,{"$f":"IF(ISNA(VLOOKUP($A287,'Entry List'!$A$1:$F$61,B$5,FALSE)),\"\",VLOOKUP($A287,'Entry List'!$A$1:$F$61,B$5,FALSE))","v":""},{"$f":"IF(ISNA(VLOOKUP($A287,'Entry List'!$A$1:$F$61,C$5,FALSE)),\"\",VLOOKUP($A287,'Entry List'!$A$1:$F$61,C$5,FALSE))","v":""},{"$f":"IF(ISNA(VLOOKUP($A287,'Entry List'!$A$1:$F$61,D$5,FALSE)),\"\",VLOOKUP($A287,'Entry List'!$A$1:$F$61,D$5,FALSE))","v":""},{"$f":"IF(ISNA(VLOOKUP($A287,'Entry List'!$A$1:$F$61,E$5,FALSE)),\"\",VLOOKUP($A287,'Entry List'!$A$1:$F$61,E$5,FALSE))","v":""},null,"DNS",0,"DNS",0,"DNS",0,"DNS",0,"DNS",0,"DNS",0,"DNS",0,"DNS",0,"DNS",0,"DNS",0,"DNS",0,"DNS",0,"DNS",0,"DNS",0,"DNS",0,"DNS",0,"DNS",0,"DNS",0,"DNS",0,"DNS",0,"DNS",0,"DNS",0,"DNS",0,"DNS",0,"DNS",0,{"$f":"IF('Last Race Results'!$B$5=0,0,IF(ISNA(VLOOKUP($A287,'Last Race Results'!$A$5:$J$44,2,FALSE)),\"DNS\",VLOOKUP($A287,'Last Race Results'!$A$5:$J$44,2,FALSE)))","v":"DNS"},{"$f":"IF('Last Race Results'!$B$5=0,0,IF(ISNA(VLOOKUP($A287,'Last Race Results'!$A$5:$K$44,11,FALSE)),0,VLOOKUP($A287,'Last Race Results'!$A$5:$K$44,11,FALSE)))","v":0},null,null,null,null,null,null,null,null,null,null,null,null,null,null,null,null,null,null,{"$f":"IF('Last Race Results'!$B$5=0,0,IF(ISNA(VLOOKUP($A287,'Last Race Results'!$A$5:$J$44,2,FALSE)),\"DNS\",VLOOKUP($A287,'Last Race Results'!$A$5:$J$44,2,FALSE)))","v":"DNS"},{"$f":"IF('Last Race Results'!$B$5=0,0,IF(ISNA(VLOOKUP($A287,'Last Race Results'!$A$5:$J$44,11,FALSE)),0,VLOOKUP($A287,'Last Race Results'!$A$5:$J$44,11,FALSE)))","v":0}]
[271,{"$f":"IF(ISNA(VLOOKUP($A288,'Entry List'!$A$1:$F$61,B$5,FALSE)),\"\",VLOOKUP($A288,'Entry List'!$A$1:$F$61,B$5,FALSE))","v":""},{"$f":"IF(ISNA(VLOOKUP($A288,'Entry List'!$A$1:$F$61,C$5,FALSE)),\"\",VLOOKUP($A288,'Entry List'!$A$1:$F$61,C$5,FALSE))","v":""},{"$f":"IF(ISNA(VLOOKUP($A288,'Entry List'!$A$1:$F$61,D$5,FALSE)),\"\",VLOOKUP($A288,'Entry List'!$A$1:$F$61,D$5,FALSE))","v":""},{"$f":"IF(ISNA(VLOOKUP($A288,'Entry List'!$A$1:$F$61,E$5,FALSE)),\"\",VLOOKUP($A288,'Entry List'!$A$1:$F$61,E$5,FALSE))","v":""},null,"DNS",0,"DNS",0,"DNS",0,"DNS",0,"DNS",0,"DNS",0,"DNS",0,"DNS",0,"DNS",0,"DNS",0,"DNS",0,"DNS",0,"DNS",0,"DNS",0,"DNS",0,"DNS",0,"DNS",0,"DNS",0,"DNS",0,"DNS",0,"DNS",0,"DNS",0,"DNS",0,"DNS",0,"DNS",0,{"$f":"IF('Last Race Results'!$B$5=0,0,IF(ISNA(VLOOKUP($A288,'Last Race Results'!$A$5:$J$44,2,FALSE)),\"DNS\",VLOOKUP($A288,'Last Race Results'!$A$5:$J$44,2,FALSE)))","v":"DNS"},{"$f":"IF('Last Race Results'!$B$5=0,0,IF(ISNA(VLOOKUP($A288,'Last Race Results'!$A$5:$K$44,11,FALSE)),0,VLOOKUP($A288,'Last Race Results'!$A$5:$K$44,11,FALSE)))","v":0},null,null,null,null,null,null,null,null,null,null,null,null,null,null,null,null,null,null,{"$f":"IF('Last Race Results'!$B$5=0,0,IF(ISNA(VLOOKUP($A288,'Last Race Results'!$A$5:$J$44,2,FALSE)),\"DNS\",VLOOKUP($A288,'Last Race Results'!$A$5:$J$44,2,FALSE)))","v":"DNS"},{"$f":"IF('Last Race Results'!$B$5=0,0,IF(ISNA(VLOOKUP($A288,'Last Race Results'!$A$5:$J$44,11,FALSE)),0,VLOOKUP($A288,'Last Race Results'!$A$5:$J$44,11,FALSE)))","v":0}]
[272,{"$f":"IF(ISNA(VLOOKUP($A289,'Entry List'!$A$1:$F$61,B$5,FALSE)),\"\",VLOOKUP($A289,'Entry List'!$A$1:$F$61,B$5,FALSE))","v":""},{"$f":"IF(ISNA(VLOOKUP($A289,'Entry List'!$A$1:$F$61,C$5,FALSE)),\"\",VLOOKUP($A289,'Entry List'!$A$1:$F$61,C$5,FALSE))","v":""},{"$f":"IF(ISNA(VLOOKUP($A289,'Entry List'!$A$1:$F$61,D$5,FALSE)),\"\",VLOOKUP($A289,'Entry List'!$A$1:$F$61,D$5,FALSE))","v":""},{"$f":"IF(ISNA(VLOOKUP($A289,'Entry List'!$A$1:$F$61,E$5,FALSE)),\"\",VLOOKUP($A289,'Entry List'!$A$1:$F$61,E$5,FALSE))","v":""},null,"DNS",0,"DNS",0,"DNS",0,"DNS",0,"DNS",0,"DNS",0,"DNS",0,"DNS",0,"DNS",0,"DNS",0,"DNS",0,"DNS",0,"DNS",0,"DNS",0,"DNS",0,"DNS",0,"DNS",0,"DNS",0,"DNS",0,"DNS",0,"DNS",0,"DNS",0,"DNS",0,"DNS",0,"DNS",0,{"$f":"IF('Last Race Results'!$B$5=0,0,IF(ISNA(VLOOKUP($A289,'Last Race Results'!$A$5:$J$44,2,FALSE)),\"DNS\",VLOOKUP($A289,'Last Race Results'!$A$5:$J$44,2,FALSE)))","v":"DNS"},{"$f":"IF('Last Race Results'!$B$5=0,0,IF(ISNA(VLOOKUP($A289,'Last Race Results'!$A$5:$K$44,11,FALSE)),0,VLOOKUP($A289,'Last Race Results'!$A$5:$K$44,11,FALSE)))","v":0},null,null,null,null,null,null,null,null,null,null,null,null,null,null,null,null,null,null,{"$f":"IF('Last Race Results'!$B$5=0,0,IF(ISNA(VLOOKUP($A289,'Last Race Results'!$A$5:$J$44,2,FALSE)),\"DNS\",VLOOKUP($A289,'Last Race Results'!$A$5:$J$44,2,FALSE)))","v":"DNS"},{"$f":"IF('Last Race Results'!$B$5=0,0,IF(ISNA(VLOOKUP($A289,'Last Race Results'!$A$5:$J$44,11,FALSE)),0,VLOOKUP($A289,'Last Race Results'!$A$5:$J$44,11,FALSE)))","v":0}]
[273,{"$f":"IF(ISNA(VLOOKUP($A290,'Entry List'!$A$1:$F$61,B$5,FALSE)),\"\",VLOOKUP($A290,'Entry List'!$A$1:$F$61,B$5,FALSE))","v":""},{"$f":"IF(ISNA(VLOOKUP($A290,'Entry List'!$A$1:$F$61,C$5,FALSE)),\"\",VLOOKUP($A290,'Entry List'!$A$1:$F$61,C$5,FALSE))","v":""},{"$f":"IF(ISNA(VLOOKUP($A290,'Entry List'!$A$1:$F$61,D$5,FALSE)),\"\",VLOOKUP($A290,'Entry List'!$A$1:$F$61,D$5,FALSE))","v":""},{"$f":"IF(ISNA(VLOOKUP($A290,'Entry List'!$A$1:$F$61,E$5,FALSE)),\"\",VLOOKUP($A290,'Entry List'!$A$1:$F$61,E$5,FALSE))","v":""},null,"DNS",0,"DNS",0,"DNS",0,"DNS",0,"DNS",0,"DNS",0,"DNS",0,"DNS",0,"DNS",0,"DNS",0,"DNS",0,"DNS",0,"DNS",0,"DNS",0,"DNS",0,"DNS",0,"DNS",0,"DNS",0,"DNS",0,"DNS",0,"DNS",0,"DNS",0,"DNS",0,"DNS",0,"DNS",0,{"$f":"IF('Last Race Results'!$B$5=0,0,IF(ISNA(VLOOKUP($A290,'Last Race Results'!$A$5:$J$44,2,FALSE)),\"DNS\",VLOOKUP($A290,'Last Race Results'!$A$5:$J$44,2,FALSE)))","v":"DNS"},{"$f":"IF('Last Race Results'!$B$5=0,0,IF(ISNA(VLOOKUP($A290,'Last Race Results'!$A$5:$K$44,11,FALSE)),0,VLOOKUP($A290,'Last Race Results'!$A$5:$K$44,11,FALSE)))","v":0},null,null,null,null,null,null,null,null,null,null,null,null,null,null,null,null,null,null,{"$f":"IF('Last Race Results'!$B$5=0,0,IF(ISNA(VLOOKUP($A290,'Last Race Results'!$A$5:$J$44,2,FALSE)),\"DNS\",VLOOKUP($A290,'Last Race Results'!$A$5:$J$44,2,FALSE)))","v":"DNS"},{"$f":"IF('Last Race Results'!$B$5=0,0,IF(ISNA(VLOOKUP($A290,'Last Race Results'!$A$5:$J$44,11,FALSE)),0,VLOOKUP($A290,'Last Race Results'!$A$5:$J$44,11,FALSE)))","v":0}]
[274,{"$f":"IF(ISNA(VLOOKUP($A291,'Entry List'!$A$1:$F$61,B$5,FALSE)),\"\",VLOOKUP($A291,'Entry List'!$A$1:$F$61,B$5,FALSE))","v":""},{"$f":"IF(ISNA(VLOOKUP($A291,'Entry List'!$A$1:$F$61,C$5,FALSE)),\"\",VLOOKUP($A291,'Entry List'!$A$1:$F$61,C$5,FALSE))","v":""},{"$f":"IF(ISNA(VLOOKUP($A291,'Entry List'!$A$1:$F$61,D$5,FALSE)),\"\",VLOOKUP($A291,'Entry List'!$A$1:$F$61,D$5,FALSE))","v":""},{"$f":"IF(ISNA(VLOOKUP($A291,'Entry List'!$A$1:$F$61,E$5,FALSE)),\"\",VLOOKUP($A291,'Entry List'!$A$1:$F$61,E$5,FALSE))","v":""},null,"DNS",0,"DNS",0,"DNS",0,"DNS",0,"DNS",0,"DNS",0,"DNS",0,"DNS",0,"DNS",0,"DNS",0,"DNS",0,"DNS",0,"DNS",0,"DNS",0,"DNS",0,"DNS",0,"DNS",0,"DNS",0,"DNS",0,"DNS",0,"DNS",0,"DNS",0,"DNS",0,"DNS",0,"DNS",0,{"$f":"IF('Last Race Results'!$B$5=0,0,IF(ISNA(VLOOKUP($A291,'Last Race Results'!$A$5:$J$44,2,FALSE)),\"DNS\",VLOOKUP($A291,'Last Race Results'!$A$5:$J$44,2,FALSE)))","v":"DNS"},{"$f":"IF('Last Race Results'!$B$5=0,0,IF(ISNA(VLOOKUP($A291,'Last Race Results'!$A$5:$K$44,11,FALSE)),0,VLOOKUP($A291,'Last Race Results'!$A$5:$K$44,11,FALSE)))","v":0},null,null,null,null,null,null,null,null,null,null,null,null,null,null,null,null,null,null,{"$f":"IF('Last Race Results'!$B$5=0,0,IF(ISNA(VLOOKUP($A291,'Last Race Results'!$A$5:$J$44,2,FALSE)),\"DNS\",VLOOKUP($A291,'Last Race Results'!$A$5:$J$44,2,FALSE)))","v":"DNS"},{"$f":"IF('Last Race Results'!$B$5=0,0,IF(ISNA(VLOOKUP($A291,'Last Race Results'!$A$5:$J$44,11,FALSE)),0,VLOOKUP($A291,'Last Race Results'!$A$5:$J$44,11,FALSE)))","v":0}]
[275,{"$f":"IF(ISNA(VLOOKUP($A292,'Entry List'!$A$1:$F$61,B$5,FALSE)),\"\",VLOOKUP($A292,'Entry List'!$A$1:$F$61,B$5,FALSE))","v":""},{"$f":"IF(ISNA(VLOOKUP($A292,'Entry List'!$A$1:$F$61,C$5,FALSE)),\"\",VLOOKUP($A292,'Entry List'!$A$1:$F$61,C$5,FALSE))","v":""},{"$f":"IF(ISNA(VLOOKUP($A292,'Entry List'!$A$1:$F$61,D$5,FALSE)),\"\",VLOOKUP($A292,'Entry List'!$A$1:$F$61,D$5,FALSE))","v":""},{"$f":"IF(ISNA(VLOOKUP($A292,'Entry List'!$A$1:$F$61,E$5,FALSE)),\"\",VLOOKUP($A292,'Entry List'!$A$1:$F$61,E$5,FALSE))","v":""},null,"DNS",0,"DNS",0,"DNS",0,"DNS",0,"DNS",0,"DNS",0,"DNS",0,"DNS",0,"DNS",0,"DNS",0,"DNS",0,"DNS",0,"DNS",0,"DNS",0,"DNS",0,"DNS",0,"DNS",0,"DNS",0,"DNS",0,"DNS",0,"DNS",0,"DNS",0,"DNS",0,"DNS",0,"DNS",0,{"$f":"IF('Last Race Results'!$B$5=0,0,IF(ISNA(VLOOKUP($A292,'Last Race Results'!$A$5:$J$44,2,FALSE)),\"DNS\",VLOOKUP($A292,'Last Race Results'!$A$5:$J$44,2,FALSE)))","v":"DNS"},{"$f":"IF('Last Race Results'!$B$5=0,0,IF(ISNA(VLOOKUP($A292,'Last Race Results'!$A$5:$K$44,11,FALSE)),0,VLOOKUP($A292,'Last Race Results'!$A$5:$K$44,11,FALSE)))","v":0},null,null,null,null,null,null,null,null,null,null,null,null,null,null,null,null,null,null,{"$f":"IF('Last Race Results'!$B$5=0,0,IF(ISNA(VLOOKUP($A292,'Last Race Results'!$A$5:$J$44,2,FALSE)),\"DNS\",VLOOKUP($A292,'Last Race Results'!$A$5:$J$44,2,FALSE)))","v":"DNS"},{"$f":"IF('Last Race Results'!$B$5=0,0,IF(ISNA(VLOOKUP($A292,'Last Race Results'!$A$5:$J$44,11,FALSE)),0,VLOOKUP($A292,'Last Race Results'!$A$5:$J$44,11,FALSE)))","v":0}]
[276,{"$f":"IF(ISNA(VLOOKUP($A293,'Entry List'!$A$1:$F$61,B$5,FALSE)),\"\",VLOOKUP($A293,'Entry List'!$A$1:$F$61,B$5,FALSE))","v":""},{"$f":"IF(ISNA(VLOOKUP($A293,'Entry List'!$A$1:$F$61,C$5,FALSE)),\"\",VLOOKUP($A293,'Entry List'!$A$1:$F$61,C$5,FALSE))","v":""},{"$f":"IF(ISNA(VLOOKUP($A293,'Entry List'!$A$1:$F$61,D$5,FALSE)),\"\",VLOOKUP($A293,'Entry List'!$A$1:$F$61,D$5,FALSE))","v":""},{"$f":"IF(ISNA(VLOOKUP($A293,'Entry List'!$A$1:$F$61,E$5,FALSE)),\"\",VLOOKUP($A293,'Entry List'!$A$1:$F$61,E$5,FALSE))","v":""},null,"DNS",0,"DNS",0,"DNS",0,"DNS",0,"DNS",0,"DNS",0,"DNS",0,"DNS",0,"DNS",0,"DNS",0,"DNS",0,"DNS",0,"DNS",0,"DNS",0,"DNS",0,"DNS",0,"DNS",0,"DNS",0,"DNS",0,"DNS",0,"DNS",0,"DNS",0,"DNS",0,"DNS",0,"DNS",0,{"$f":"IF('Last Race Results'!$B$5=0,0,IF(ISNA(VLOOKUP($A293,'Last Race Results'!$A$5:$J$44,2,FALSE)),\"DNS\",VLOOKUP($A293,'Last Race Results'!$A$5:$J$44,2,FALSE)))","v":"DNS"},{"$f":"IF('Last Race Results'!$B$5=0,0,IF(ISNA(VLOOKUP($A293,'Last Race Results'!$A$5:$K$44,11,FALSE)),0,VLOOKUP($A293,'Last Race Results'!$A$5:$K$44,11,FALSE)))","v":0},null,null,null,null,null,null,null,null,null,null,null,null,null,null,null,null,null,null,{"$f":"IF('Last Race Results'!$B$5=0,0,IF(ISNA(VLOOKUP($A293,'Last Race Results'!$A$5:$J$44,2,FALSE)),\"DNS\",VLOOKUP($A293,'Last Race Results'!$A$5:$J$44,2,FALSE)))","v":"DNS"},{"$f":"IF('Last Race Results'!$B$5=0,0,IF(ISNA(VLOOKUP($A293,'Last Race Results'!$A$5:$J$44,11,FALSE)),0,VLOOKUP($A293,'Last Race Results'!$A$5:$J$44,11,FALSE)))","v":0}]
[277,{"$f":"IF(ISNA(VLOOKUP($A294,'Entry List'!$A$1:$F$61,B$5,FALSE)),\"\",VLOOKUP($A294,'Entry List'!$A$1:$F$61,B$5,FALSE))","v":""},{"$f":"IF(ISNA(VLOOKUP($A294,'Entry List'!$A$1:$F$61,C$5,FALSE)),\"\",VLOOKUP($A294,'Entry List'!$A$1:$F$61,C$5,FALSE))","v":""},{"$f":"IF(ISNA(VLOOKUP($A294,'Entry List'!$A$1:$F$61,D$5,FALSE)),\"\",VLOOKUP($A294,'Entry List'!$A$1:$F$61,D$5,FALSE))","v":""},{"$f":"IF(ISNA(VLOOKUP($A294,'Entry List'!$A$1:$F$61,E$5,FALSE)),\"\",VLOOKUP($A294,'Entry List'!$A$1:$F$61,E$5,FALSE))","v":""},null,"DNS",0,"DNS",0,"DNS",0,"DNS",0,"DNS",0,"DNS",0,"DNS",0,"DNS",0,"DNS",0,"DNS",0,"DNS",0,"DNS",0,"DNS",0,"DNS",0,"DNS",0,"DNS",0,"DNS",0,"DNS",0,"DNS",0,"DNS",0,"DNS",0,"DNS",0,"DNS",0,"DNS",0,"DNS",0,{"$f":"IF('Last Race Results'!$B$5=0,0,IF(ISNA(VLOOKUP($A294,'Last Race Results'!$A$5:$J$44,2,FALSE)),\"DNS\",VLOOKUP($A294,'Last Race Results'!$A$5:$J$44,2,FALSE)))","v":"DNS"},{"$f":"IF('Last Race Results'!$B$5=0,0,IF(ISNA(VLOOKUP($A294,'Last Race Results'!$A$5:$K$44,11,FALSE)),0,VLOOKUP($A294,'Last Race Results'!$A$5:$K$44,11,FALSE)))","v":0},null,null,null,null,null,null,null,null,null,null,null,null,null,null,null,null,null,null,{"$f":"IF('Last Race Results'!$B$5=0,0,IF(ISNA(VLOOKUP($A294,'Last Race Results'!$A$5:$J$44,2,FALSE)),\"DNS\",VLOOKUP($A294,'Last Race Results'!$A$5:$J$44,2,FALSE)))","v":"DNS"},{"$f":"IF('Last Race Results'!$B$5=0,0,IF(ISNA(VLOOKUP($A294,'Last Race Results'!$A$5:$J$44,11,FALSE)),0,VLOOKUP($A294,'Last Race Results'!$A$5:$J$44,11,FALSE)))","v":0}]
[278,{"$f":"IF(ISNA(VLOOKUP($A295,'Entry List'!$A$1:$F$61,B$5,FALSE)),\"\",VLOOKUP($A295,'Entry List'!$A$1:$F$61,B$5,FALSE))","v":""},{"$f":"IF(ISNA(VLOOKUP($A295,'Entry List'!$A$1:$F$61,C$5,FALSE)),\"\",VLOOKUP($A295,'Entry List'!$A$1:$F$61,C$5,FALSE))","v":""},{"$f":"IF(ISNA(VLOOKUP($A295,'Entry List'!$A$1:$F$61,D$5,FALSE)),\"\",VLOOKUP($A295,'Entry List'!$A$1:$F$61,D$5,FALSE))","v":""},{"$f":"IF(ISNA(VLOOKUP($A295,'Entry List'!$A$1:$F$61,E$5,FALSE)),\"\",VLOOKUP($A295,'Entry List'!$A$1:$F$61,E$5,FALSE))","v":""},null,"DNS",0,"DNS",0,"DNS",0,"DNS",0,"DNS",0,"DNS",0,"DNS",0,"DNS",0,"DNS",0,"DNS",0,"DNS",0,"DNS",0,"DNS",0,"DNS",0,"DNS",0,"DNS",0,"DNS",0,"DNS",0,"DNS",0,"DNS",0,"DNS",0,"DNS",0,"DNS",0,"DNS",0,"DNS",0,{"$f":"IF('Last Race Results'!$B$5=0,0,IF(ISNA(VLOOKUP($A295,'Last Race Results'!$A$5:$J$44,2,FALSE)),\"DNS\",VLOOKUP($A295,'Last Race Results'!$A$5:$J$44,2,FALSE)))","v":"DNS"},{"$f":"IF('Last Race Results'!$B$5=0,0,IF(ISNA(VLOOKUP($A295,'Last Race Results'!$A$5:$K$44,11,FALSE)),0,VLOOKUP($A295,'Last Race Results'!$A$5:$K$44,11,FALSE)))","v":0},null,null,null,null,null,null,null,null,null,null,null,null,null,null,null,null,null,null,{"$f":"IF('Last Race Results'!$B$5=0,0,IF(ISNA(VLOOKUP($A295,'Last Race Results'!$A$5:$J$44,2,FALSE)),\"DNS\",VLOOKUP($A295,'Last Race Results'!$A$5:$J$44,2,FALSE)))","v":"DNS"},{"$f":"IF('Last Race Results'!$B$5=0,0,IF(ISNA(VLOOKUP($A295,'Last Race Results'!$A$5:$J$44,11,FALSE)),0,VLOOKUP($A295,'Last Race Results'!$A$5:$J$44,11,FALSE)))","v":0}]
[279,{"$f":"IF(ISNA(VLOOKUP($A296,'Entry List'!$A$1:$F$61,B$5,FALSE)),\"\",VLOOKUP($A296,'Entry List'!$A$1:$F$61,B$5,FALSE))","v":""},{"$f":"IF(ISNA(VLOOKUP($A296,'Entry List'!$A$1:$F$61,C$5,FALSE)),\"\",VLOOKUP($A296,'Entry List'!$A$1:$F$61,C$5,FALSE))","v":""},{"$f":"IF(ISNA(VLOOKUP($A296,'Entry List'!$A$1:$F$61,D$5,FALSE)),\"\",VLOOKUP($A296,'Entry List'!$A$1:$F$61,D$5,FALSE))","v":""},{"$f":"IF(ISNA(VLOOKUP($A296,'Entry List'!$A$1:$F$61,E$5,FALSE)),\"\",VLOOKUP($A296,'Entry List'!$A$1:$F$61,E$5,FALSE))","v":""},null,"DNS",0,"DNS",0,"DNS",0,"DNS",0,"DNS",0,"DNS",0,"DNS",0,"DNS",0,"DNS",0,"DNS",0,"DNS",0,"DNS",0,"DNS",0,"DNS",0,"DNS",0,"DNS",0,"DNS",0,"DNS",0,"DNS",0,"DNS",0,"DNS",0,"DNS",0,"DNS",0,"DNS",0,"DNS",0,{"$f":"IF('Last Race Results'!$B$5=0,0,IF(ISNA(VLOOKUP($A296,'Last Race Results'!$A$5:$J$44,2,FALSE)),\"DNS\",VLOOKUP($A296,'Last Race Results'!$A$5:$J$44,2,FALSE)))","v":"DNS"},{"$f":"IF('Last Race Results'!$B$5=0,0,IF(ISNA(VLOOKUP($A296,'Last Race Results'!$A$5:$K$44,11,FALSE)),0,VLOOKUP($A296,'Last Race Results'!$A$5:$K$44,11,FALSE)))","v":0},null,null,null,null,null,null,null,null,null,null,null,null,null,null,null,null,null,null,{"$f":"IF('Last Race Results'!$B$5=0,0,IF(ISNA(VLOOKUP($A296,'Last Race Results'!$A$5:$J$44,2,FALSE)),\"DNS\",VLOOKUP($A296,'Last Race Results'!$A$5:$J$44,2,FALSE)))","v":"DNS"},{"$f":"IF('Last Race Results'!$B$5=0,0,IF(ISNA(VLOOKUP($A296,'Last Race Results'!$A$5:$J$44,11,FALSE)),0,VLOOKUP($A296,'Last Race Results'!$A$5:$J$44,11,FALSE)))","v":0}]
[280,{"$f":"IF(ISNA(VLOOKUP($A297,'Entry List'!$A$1:$F$61,B$5,FALSE)),\"\",VLOOKUP($A297,'Entry List'!$A$1:$F$61,B$5,FALSE))","v":""},{"$f":"IF(ISNA(VLOOKUP($A297,'Entry List'!$A$1:$F$61,C$5,FALSE)),\"\",VLOOKUP($A297,'Entry List'!$A$1:$F$61,C$5,FALSE))","v":""},{"$f":"IF(ISNA(VLOOKUP($A297,'Entry List'!$A$1:$F$61,D$5,FALSE)),\"\",VLOOKUP($A297,'Entry List'!$A$1:$F$61,D$5,FALSE))","v":""},{"$f":"IF(ISNA(VLOOKUP($A297,'Entry List'!$A$1:$F$61,E$5,FALSE)),\"\",VLOOKUP($A297,'Entry List'!$A$1:$F$61,E$5,FALSE))","v":""},null,"DNS",0,"DNS",0,"DNS",0,"DNS",0,"DNS",0,"DNS",0,"DNS",0,"DNS",0,"DNS",0,"DNS",0,"DNS",0,"DNS",0,"DNS",0,"DNS",0,"DNS",0,"DNS",0,"DNS",0,"DNS",0,"DNS",0,"DNS",0,"DNS",0,"DNS",0,"DNS",0,"DNS",0,"DNS",0,{"$f":"IF('Last Race Results'!$B$5=0,0,IF(ISNA(VLOOKUP($A297,'Last Race Results'!$A$5:$J$44,2,FALSE)),\"DNS\",VLOOKUP($A297,'Last Race Results'!$A$5:$J$44,2,FALSE)))","v":"DNS"},{"$f":"IF('Last Race Results'!$B$5=0,0,IF(ISNA(VLOOKUP($A297,'Last Race Results'!$A$5:$K$44,11,FALSE)),0,VLOOKUP($A297,'Last Race Results'!$A$5:$K$44,11,FALSE)))","v":0},null,null,null,null,null,null,null,null,null,null,null,null,null,null,null,null,null,null,{"$f":"IF('Last Race Results'!$B$5=0,0,IF(ISNA(VLOOKUP($A297,'Last Race Results'!$A$5:$J$44,2,FALSE)),\"DNS\",VLOOKUP($A297,'Last Race Results'!$A$5:$J$44,2,FALSE)))","v":"DNS"},{"$f":"IF('Last Race Results'!$B$5=0,0,IF(ISNA(VLOOKUP($A297,'Last Race Results'!$A$5:$J$44,11,FALSE)),0,VLOOKUP($A297,'Last Race Results'!$A$5:$J$44,11,FALSE)))","v":0}]
[281,{"$f":"IF(ISNA(VLOOKUP($A298,'Entry List'!$A$1:$F$61,B$5,FALSE)),\"\",VLOOKUP($A298,'Entry List'!$A$1:$F$61,B$5,FALSE))","v":""},{"$f":"IF(ISNA(VLOOKUP($A298,'Entry List'!$A$1:$F$61,C$5,FALSE)),\"\",VLOOKUP($A298,'Entry List'!$A$1:$F$61,C$5,FALSE))","v":""},{"$f":"IF(ISNA(VLOOKUP($A298,'Entry List'!$A$1:$F$61,D$5,FALSE)),\"\",VLOOKUP($A298,'Entry List'!$A$1:$F$61,D$5,FALSE))","v":""},{"$f":"IF(ISNA(VLOOKUP($A298,'Entry List'!$A$1:$F$61,E$5,FALSE)),\"\",VLOOKUP($A298,'Entry List'!$A$1:$F$61,E$5,FALSE))","v":""},null,"DNS",0,"DNS",0,"DNS",0,"DNS",0,"DNS",0,"DNS",0,"DNS",0,"DNS",0,"DNS",0,"DNS",0,"DNS",0,"DNS",0,"DNS",0,"DNS",0,"DNS",0,"DNS",0,"DNS",0,"DNS",0,"DNS",0,"DNS",0,"DNS",0,"DNS",0,"DNS",0,"DNS",0,"DNS",0,{"$f":"IF('Last Race Results'!$B$5=0,0,IF(ISNA(VLOOKUP($A298,'Last Race Results'!$A$5:$J$44,2,FALSE)),\"DNS\",VLOOKUP($A298,'Last Race Results'!$A$5:$J$44,2,FALSE)))","v":"DNS"},{"$f":"IF('Last Race Results'!$B$5=0,0,IF(ISNA(VLOOKUP($A298,'Last Race Results'!$A$5:$K$44,11,FALSE)),0,VLOOKUP($A298,'Last Race Results'!$A$5:$K$44,11,FALSE)))","v":0},null,null,null,null,null,null,null,null,null,null,null,null,null,null,null,null,null,null,{"$f":"IF('Last Race Results'!$B$5=0,0,IF(ISNA(VLOOKUP($A298,'Last Race Results'!$A$5:$J$44,2,FALSE)),\"DNS\",VLOOKUP($A298,'Last Race Results'!$A$5:$J$44,2,FALSE)))","v":"DNS"},{"$f":"IF('Last Race Results'!$B$5=0,0,IF(ISNA(VLOOKUP($A298,'Last Race Results'!$A$5:$J$44,11,FALSE)),0,VLOOKUP($A298,'Last Race Results'!$A$5:$J$44,11,FALSE)))","v":0}]
[282,{"$f":"IF(ISNA(VLOOKUP($A299,'Entry List'!$A$1:$F$61,B$5,FALSE)),\"\",VLOOKUP($A299,'Entry List'!$A$1:$F$61,B$5,FALSE))","v":""},{"$f":"IF(ISNA(VLOOKUP($A299,'Entry List'!$A$1:$F$61,C$5,FALSE)),\"\",VLOOKUP($A299,'Entry List'!$A$1:$F$61,C$5,FALSE))","v":""},{"$f":"IF(ISNA(VLOOKUP($A299,'Entry List'!$A$1:$F$61,D$5,FALSE)),\"\",VLOOKUP($A299,'Entry List'!$A$1:$F$61,D$5,FALSE))","v":""},{"$f":"IF(ISNA(VLOOKUP($A299,'Entry List'!$A$1:$F$61,E$5,FALSE)),\"\",VLOOKUP($A299,'Entry List'!$A$1:$F$61,E$5,FALSE))","v":""},null,"DNS",0,"DNS",0,"DNS",0,"DNS",0,"DNS",0,"DNS",0,"DNS",0,"DNS",0,"DNS",0,"DNS",0,"DNS",0,"DNS",0,"DNS",0,"DNS",0,"DNS",0,"DNS",0,"DNS",0,"DNS",0,"DNS",0,"DNS",0,"DNS",0,"DNS",0,"DNS",0,"DNS",0,"DNS",0,{"$f":"IF('Last Race Results'!$B$5=0,0,IF(ISNA(VLOOKUP($A299,'Last Race Results'!$A$5:$J$44,2,FALSE)),\"DNS\",VLOOKUP($A299,'Last Race Results'!$A$5:$J$44,2,FALSE)))","v":"DNS"},{"$f":"IF('Last Race Results'!$B$5=0,0,IF(ISNA(VLOOKUP($A299,'Last Race Results'!$A$5:$K$44,11,FALSE)),0,VLOOKUP($A299,'Last Race Results'!$A$5:$K$44,11,FALSE)))","v":0},null,null,null,null,null,null,null,null,null,null,null,null,null,null,null,null,null,null,{"$f":"IF('Last Race Results'!$B$5=0,0,IF(ISNA(VLOOKUP($A299,'Last Race Results'!$A$5:$J$44,2,FALSE)),\"DNS\",VLOOKUP($A299,'Last Race Results'!$A$5:$J$44,2,FALSE)))","v":"DNS"},{"$f":"IF('Last Race Results'!$B$5=0,0,IF(ISNA(VLOOKUP($A299,'Last Race Results'!$A$5:$J$44,11,FALSE)),0,VLOOKUP($A299,'Last Race Results'!$A$5:$J$44,11,FALSE)))","v":0}]
[283,{"$f":"IF(ISNA(VLOOKUP($A300,'Entry List'!$A$1:$F$61,B$5,FALSE)),\"\",VLOOKUP($A300,'Entry List'!$A$1:$F$61,B$5,FALSE))","v":""},{"$f":"IF(ISNA(VLOOKUP($A300,'Entry List'!$A$1:$F$61,C$5,FALSE)),\"\",VLOOKUP($A300,'Entry List'!$A$1:$F$61,C$5,FALSE))","v":""},{"$f":"IF(ISNA(VLOOKUP($A300,'Entry List'!$A$1:$F$61,D$5,FALSE)),\"\",VLOOKUP($A300,'Entry List'!$A$1:$F$61,D$5,FALSE))","v":""},{"$f":"IF(ISNA(VLOOKUP($A300,'Entry List'!$A$1:$F$61,E$5,FALSE)),\"\",VLOOKUP($A300,'Entry List'!$A$1:$F$61,E$5,FALSE))","v":""},null,"DNS",0,"DNS",0,"DNS",0,"DNS",0,"DNS",0,"DNS",0,"DNS",0,"DNS",0,"DNS",0,"DNS",0,"DNS",0,"DNS",0,"DNS",0,"DNS",0,"DNS",0,"DNS",0,"DNS",0,"DNS",0,"DNS",0,"DNS",0,"DNS",0,"DNS",0,"DNS",0,"DNS",0,"DNS",0,{"$f":"IF('Last Race Results'!$B$5=0,0,IF(ISNA(VLOOKUP($A300,'Last Race Results'!$A$5:$J$44,2,FALSE)),\"DNS\",VLOOKUP($A300,'Last Race Results'!$A$5:$J$44,2,FALSE)))","v":"DNS"},{"$f":"IF('Last Race Results'!$B$5=0,0,IF(ISNA(VLOOKUP($A300,'Last Race Results'!$A$5:$K$44,11,FALSE)),0,VLOOKUP($A300,'Last Race Results'!$A$5:$K$44,11,FALSE)))","v":0},null,null,null,null,null,null,null,null,null,null,null,null,null,null,null,null,null,null,{"$f":"IF('Last Race Results'!$B$5=0,0,IF(ISNA(VLOOKUP($A300,'Last Race Results'!$A$5:$J$44,2,FALSE)),\"DNS\",VLOOKUP($A300,'Last Race Results'!$A$5:$J$44,2,FALSE)))","v":"DNS"},{"$f":"IF('Last Race Results'!$B$5=0,0,IF(ISNA(VLOOKUP($A300,'Last Race Results'!$A$5:$J$44,11,FALSE)),0,VLOOKUP($A300,'Last Race Results'!$A$5:$J$44,11,FALSE)))","v":0}]
[284,{"$f":"IF(ISNA(VLOOKUP($A301,'Entry List'!$A$1:$F$61,B$5,FALSE)),\"\",VLOOKUP($A301,'Entry List'!$A$1:$F$61,B$5,FALSE))","v":""},{"$f":"IF(ISNA(VLOOKUP($A301,'Entry List'!$A$1:$F$61,C$5,FALSE)),\"\",VLOOKUP($A301,'Entry List'!$A$1:$F$61,C$5,FALSE))","v":""},{"$f":"IF(ISNA(VLOOKUP($A301,'Entry List'!$A$1:$F$61,D$5,FALSE)),\"\",VLOOKUP($A301,'Entry List'!$A$1:$F$61,D$5,FALSE))","v":""},{"$f":"IF(ISNA(VLOOKUP($A301,'Entry List'!$A$1:$F$61,E$5,FALSE)),\"\",VLOOKUP($A301,'Entry List'!$A$1:$F$61,E$5,FALSE))","v":""},null,"DNS",0,"DNS",0,"DNS",0,"DNS",0,"DNS",0,"DNS",0,"DNS",0,"DNS",0,"DNS",0,"DNS",0,"DNS",0,"DNS",0,"DNS",0,"DNS",0,"DNS",0,"DNS",0,"DNS",0,"DNS",0,"DNS",0,"DNS",0,"DNS",0,"DNS",0,"DNS",0,"DNS",0,"DNS",0,{"$f":"IF('Last Race Results'!$B$5=0,0,IF(ISNA(VLOOKUP($A301,'Last Race Results'!$A$5:$J$44,2,FALSE)),\"DNS\",VLOOKUP($A301,'Last Race Results'!$A$5:$J$44,2,FALSE)))","v":"DNS"},{"$f":"IF('Last Race Results'!$B$5=0,0,IF(ISNA(VLOOKUP($A301,'Last Race Results'!$A$5:$K$44,11,FALSE)),0,VLOOKUP($A301,'Last Race Results'!$A$5:$K$44,11,FALSE)))","v":0},null,null,null,null,null,null,null,null,null,null,null,null,null,null,null,null,null,null,{"$f":"IF('Last Race Results'!$B$5=0,0,IF(ISNA(VLOOKUP($A301,'Last Race Results'!$A$5:$J$44,2,FALSE)),\"DNS\",VLOOKUP($A301,'Last Race Results'!$A$5:$J$44,2,FALSE)))","v":"DNS"},{"$f":"IF('Last Race Results'!$B$5=0,0,IF(ISNA(VLOOKUP($A301,'Last Race Results'!$A$5:$J$44,11,FALSE)),0,VLOOKUP($A301,'Last Race Results'!$A$5:$J$44,11,FALSE)))","v":0}]
[285,{"$f":"IF(ISNA(VLOOKUP($A302,'Entry List'!$A$1:$F$61,B$5,FALSE)),\"\",VLOOKUP($A302,'Entry List'!$A$1:$F$61,B$5,FALSE))","v":""},{"$f":"IF(ISNA(VLOOKUP($A302,'Entry List'!$A$1:$F$61,C$5,FALSE)),\"\",VLOOKUP($A302,'Entry List'!$A$1:$F$61,C$5,FALSE))","v":""},{"$f":"IF(ISNA(VLOOKUP($A302,'Entry List'!$A$1:$F$61,D$5,FALSE)),\"\",VLOOKUP($A302,'Entry List'!$A$1:$F$61,D$5,FALSE))","v":""},{"$f":"IF(ISNA(VLOOKUP($A302,'Entry List'!$A$1:$F$61,E$5,FALSE)),\"\",VLOOKUP($A302,'Entry List'!$A$1:$F$61,E$5,FALSE))","v":""},null,"DNS",0,"DNS",0,"DNS",0,"DNS",0,"DNS",0,"DNS",0,"DNS",0,"DNS",0,"DNS",0,"DNS",0,"DNS",0,"DNS",0,"DNS",0,"DNS",0,"DNS",0,"DNS",0,"DNS",0,"DNS",0,"DNS",0,"DNS",0,"DNS",0,"DNS",0,"DNS",0,"DNS",0,"DNS",0,{"$f":"IF('Last Race Results'!$B$5=0,0,IF(ISNA(VLOOKUP($A302,'Last Race Results'!$A$5:$J$44,2,FALSE)),\"DNS\",VLOOKUP($A302,'Last Race Results'!$A$5:$J$44,2,FALSE)))","v":"DNS"},{"$f":"IF('Last Race Results'!$B$5=0,0,IF(ISNA(VLOOKUP($A302,'Last Race Results'!$A$5:$K$44,11,FALSE)),0,VLOOKUP($A302,'Last Race Results'!$A$5:$K$44,11,FALSE)))","v":0},null,null,null,null,null,null,null,null,null,null,null,null,null,null,null,null,null,null,{"$f":"IF('Last Race Results'!$B$5=0,0,IF(ISNA(VLOOKUP($A302,'Last Race Results'!$A$5:$J$44,2,FALSE)),\"DNS\",VLOOKUP($A302,'Last Race Results'!$A$5:$J$44,2,FALSE)))","v":"DNS"},{"$f":"IF('Last Race Results'!$B$5=0,0,IF(ISNA(VLOOKUP($A302,'Last Race Results'!$A$5:$J$44,11,FALSE)),0,VLOOKUP($A302,'Last Race Results'!$A$5:$J$44,11,FALSE)))","v":0}]
[286,{"$f":"IF(ISNA(VLOOKUP($A303,'Entry List'!$A$1:$F$61,B$5,FALSE)),\"\",VLOOKUP($A303,'Entry List'!$A$1:$F$61,B$5,FALSE))","v":""},{"$f":"IF(ISNA(VLOOKUP($A303,'Entry List'!$A$1:$F$61,C$5,FALSE)),\"\",VLOOKUP($A303,'Entry List'!$A$1:$F$61,C$5,FALSE))","v":""},{"$f":"IF(ISNA(VLOOKUP($A303,'Entry List'!$A$1:$F$61,D$5,FALSE)),\"\",VLOOKUP($A303,'Entry List'!$A$1:$F$61,D$5,FALSE))","v":""},{"$f":"IF(ISNA(VLOOKUP($A303,'Entry List'!$A$1:$F$61,E$5,FALSE)),\"\",VLOOKUP($A303,'Entry List'!$A$1:$F$61,E$5,FALSE))","v":""},null,"DNS",0,"DNS",0,"DNS",0,"DNS",0,"DNS",0,"DNS",0,"DNS",0,"DNS",0,"DNS",0,"DNS",0,"DNS",0,"DNS",0,"DNS",0,"DNS",0,"DNS",0,"DNS",0,"DNS",0,"DNS",0,"DNS",0,"DNS",0,"DNS",0,"DNS",0,"DNS",0,"DNS",0,"DNS",0,{"$f":"IF('Last Race Results'!$B$5=0,0,IF(ISNA(VLOOKUP($A303,'Last Race Results'!$A$5:$J$44,2,FALSE)),\"DNS\",VLOOKUP($A303,'Last Race Results'!$A$5:$J$44,2,FALSE)))","v":"DNS"},{"$f":"IF('Last Race Results'!$B$5=0,0,IF(ISNA(VLOOKUP($A303,'Last Race Results'!$A$5:$K$44,11,FALSE)),0,VLOOKUP($A303,'Last Race Results'!$A$5:$K$44,11,FALSE)))","v":0},null,null,null,null,null,null,null,null,null,null,null,null,null,null,null,null,null,null,{"$f":"IF('Last Race Results'!$B$5=0,0,IF(ISNA(VLOOKUP($A303,'Last Race Results'!$A$5:$J$44,2,FALSE)),\"DNS\",VLOOKUP($A303,'Last Race Results'!$A$5:$J$44,2,FALSE)))","v":"DNS"},{"$f":"IF('Last Race Results'!$B$5=0,0,IF(ISNA(VLOOKUP($A303,'Last Race Results'!$A$5:$J$44,11,FALSE)),0,VLOOKUP($A303,'Last Race Results'!$A$5:$J$44,11,FALSE)))","v":0}]
[287,{"$f":"IF(ISNA(VLOOKUP($A304,'Entry List'!$A$1:$F$61,B$5,FALSE)),\"\",VLOOKUP($A304,'Entry List'!$A$1:$F$61,B$5,FALSE))","v":""},{"$f":"IF(ISNA(VLOOKUP($A304,'Entry List'!$A$1:$F$61,C$5,FALSE)),\"\",VLOOKUP($A304,'Entry List'!$A$1:$F$61,C$5,FALSE))","v":""},{"$f":"IF(ISNA(VLOOKUP($A304,'Entry List'!$A$1:$F$61,D$5,FALSE)),\"\",VLOOKUP($A304,'Entry List'!$A$1:$F$61,D$5,FALSE))","v":""},{"$f":"IF(ISNA(VLOOKUP($A304,'Entry List'!$A$1:$F$61,E$5,FALSE)),\"\",VLOOKUP($A304,'Entry List'!$A$1:$F$61,E$5,FALSE))","v":""},null,"DNS",0,"DNS",0,"DNS",0,"DNS",0,"DNS",0,"DNS",0,"DNS",0,"DNS",0,"DNS",0,"DNS",0,"DNS",0,"DNS",0,"DNS",0,"DNS",0,"DNS",0,"DNS",0,"DNS",0,"DNS",0,"DNS",0,"DNS",0,"DNS",0,"DNS",0,"DNS",0,"DNS",0,"DNS",0,{"$f":"IF('Last Race Results'!$B$5=0,0,IF(ISNA(VLOOKUP($A304,'Last Race Results'!$A$5:$J$44,2,FALSE)),\"DNS\",VLOOKUP($A304,'Last Race Results'!$A$5:$J$44,2,FALSE)))","v":"DNS"},{"$f":"IF('Last Race Results'!$B$5=0,0,IF(ISNA(VLOOKUP($A304,'Last Race Results'!$A$5:$K$44,11,FALSE)),0,VLOOKUP($A304,'Last Race Results'!$A$5:$K$44,11,FALSE)))","v":0},null,null,null,null,null,null,null,null,null,null,null,null,null,null,null,null,null,null,{"$f":"IF('Last Race Results'!$B$5=0,0,IF(ISNA(VLOOKUP($A304,'Last Race Results'!$A$5:$J$44,2,FALSE)),\"DNS\",VLOOKUP($A304,'Last Race Results'!$A$5:$J$44,2,FALSE)))","v":"DNS"},{"$f":"IF('Last Race Results'!$B$5=0,0,IF(ISNA(VLOOKUP($A304,'Last Race Results'!$A$5:$J$44,11,FALSE)),0,VLOOKUP($A304,'Last Race Results'!$A$5:$J$44,11,FALSE)))","v":0}]
[288,{"$f":"IF(ISNA(VLOOKUP($A305,'Entry List'!$A$1:$F$61,B$5,FALSE)),\"\",VLOOKUP($A305,'Entry List'!$A$1:$F$61,B$5,FALSE))","v":""},{"$f":"IF(ISNA(VLOOKUP($A305,'Entry List'!$A$1:$F$61,C$5,FALSE)),\"\",VLOOKUP($A305,'Entry List'!$A$1:$F$61,C$5,FALSE))","v":""},{"$f":"IF(ISNA(VLOOKUP($A305,'Entry List'!$A$1:$F$61,D$5,FALSE)),\"\",VLOOKUP($A305,'Entry List'!$A$1:$F$61,D$5,FALSE))","v":""},{"$f":"IF(ISNA(VLOOKUP($A305,'Entry List'!$A$1:$F$61,E$5,FALSE)),\"\",VLOOKUP($A305,'Entry List'!$A$1:$F$61,E$5,FALSE))","v":""},null,"DNS",0,"DNS",0,"DNS",0,"DNS",0,"DNS",0,"DNS",0,"DNS",0,"DNS",0,"DNS",0,"DNS",0,"DNS",0,"DNS",0,"DNS",0,"DNS",0,"DNS",0,"DNS",0,"DNS",0,"DNS",0,"DNS",0,"DNS",0,"DNS",0,"DNS",0,"DNS",0,"DNS",0,"DNS",0,{"$f":"IF('Last Race Results'!$B$5=0,0,IF(ISNA(VLOOKUP($A305,'Last Race Results'!$A$5:$J$44,2,FALSE)),\"DNS\",VLOOKUP($A305,'Last Race Results'!$A$5:$J$44,2,FALSE)))","v":"DNS"},{"$f":"IF('Last Race Results'!$B$5=0,0,IF(ISNA(VLOOKUP($A305,'Last Race Results'!$A$5:$K$44,11,FALSE)),0,VLOOKUP($A305,'Last Race Results'!$A$5:$K$44,11,FALSE)))","v":0},null,null,null,null,null,null,null,null,null,null,null,null,null,null,null,null,null,null,{"$f":"IF('Last Race Results'!$B$5=0,0,IF(ISNA(VLOOKUP($A305,'Last Race Results'!$A$5:$J$44,2,FALSE)),\"DNS\",VLOOKUP($A305,'Last Race Results'!$A$5:$J$44,2,FALSE)))","v":"DNS"},{"$f":"IF('Last Race Results'!$B$5=0,0,IF(ISNA(VLOOKUP($A305,'Last Race Results'!$A$5:$J$44,11,FALSE)),0,VLOOKUP($A305,'Last Race Results'!$A$5:$J$44,11,FALSE)))","v":0}]
[289,{"$f":"IF(ISNA(VLOOKUP($A306,'Entry List'!$A$1:$F$61,B$5,FALSE)),\"\",VLOOKUP($A306,'Entry List'!$A$1:$F$61,B$5,FALSE))","v":""},{"$f":"IF(ISNA(VLOOKUP($A306,'Entry List'!$A$1:$F$61,C$5,FALSE)),\"\",VLOOKUP($A306,'Entry List'!$A$1:$F$61,C$5,FALSE))","v":""},{"$f":"IF(ISNA(VLOOKUP($A306,'Entry List'!$A$1:$F$61,D$5,FALSE)),\"\",VLOOKUP($A306,'Entry List'!$A$1:$F$61,D$5,FALSE))","v":""},{"$f":"IF(ISNA(VLOOKUP($A306,'Entry List'!$A$1:$F$61,E$5,FALSE)),\"\",VLOOKUP($A306,'Entry List'!$A$1:$F$61,E$5,FALSE))","v":""},null,"DNS",0,"DNS",0,"DNS",0,"DNS",0,"DNS",0,"DNS",0,"DNS",0,"DNS",0,"DNS",0,"DNS",0,"DNS",0,"DNS",0,"DNS",0,"DNS",0,"DNS",0,"DNS",0,"DNS",0,"DNS",0,"DNS",0,"DNS",0,"DNS",0,"DNS",0,"DNS",0,"DNS",0,"DNS",0,{"$f":"IF('Last Race Results'!$B$5=0,0,IF(ISNA(VLOOKUP($A306,'Last Race Results'!$A$5:$J$44,2,FALSE)),\"DNS\",VLOOKUP($A306,'Last Race Results'!$A$5:$J$44,2,FALSE)))","v":"DNS"},{"$f":"IF('Last Race Results'!$B$5=0,0,IF(ISNA(VLOOKUP($A306,'Last Race Results'!$A$5:$K$44,11,FALSE)),0,VLOOKUP($A306,'Last Race Results'!$A$5:$K$44,11,FALSE)))","v":0},null,null,null,null,null,null,null,null,null,null,null,null,null,null,null,null,null,null,{"$f":"IF('Last Race Results'!$B$5=0,0,IF(ISNA(VLOOKUP($A306,'Last Race Results'!$A$5:$J$44,2,FALSE)),\"DNS\",VLOOKUP($A306,'Last Race Results'!$A$5:$J$44,2,FALSE)))","v":"DNS"},{"$f":"IF('Last Race Results'!$B$5=0,0,IF(ISNA(VLOOKUP($A306,'Last Race Results'!$A$5:$J$44,11,FALSE)),0,VLOOKUP($A306,'Last Race Results'!$A$5:$J$44,11,FALSE)))","v":0}]
[290,{"$f":"IF(ISNA(VLOOKUP($A307,'Entry List'!$A$1:$F$61,B$5,FALSE)),\"\",VLOOKUP($A307,'Entry List'!$A$1:$F$61,B$5,FALSE))","v":""},{"$f":"IF(ISNA(VLOOKUP($A307,'Entry List'!$A$1:$F$61,C$5,FALSE)),\"\",VLOOKUP($A307,'Entry List'!$A$1:$F$61,C$5,FALSE))","v":""},{"$f":"IF(ISNA(VLOOKUP($A307,'Entry List'!$A$1:$F$61,D$5,FALSE)),\"\",VLOOKUP($A307,'Entry List'!$A$1:$F$61,D$5,FALSE))","v":""},{"$f":"IF(ISNA(VLOOKUP($A307,'Entry List'!$A$1:$F$61,E$5,FALSE)),\"\",VLOOKUP($A307,'Entry List'!$A$1:$F$61,E$5,FALSE))","v":""},null,"DNS",0,"DNS",0,"DNS",0,"DNS",0,"DNS",0,"DNS",0,"DNS",0,"DNS",0,"DNS",0,"DNS",0,"DNS",0,"DNS",0,"DNS",0,"DNS",0,"DNS",0,"DNS",0,"DNS",0,"DNS",0,"DNS",0,"DNS",0,"DNS",0,"DNS",0,"DNS",0,"DNS",0,"DNS",0,{"$f":"IF('Last Race Results'!$B$5=0,0,IF(ISNA(VLOOKUP($A307,'Last Race Results'!$A$5:$J$44,2,FALSE)),\"DNS\",VLOOKUP($A307,'Last Race Results'!$A$5:$J$44,2,FALSE)))","v":"DNS"},{"$f":"IF('Last Race Results'!$B$5=0,0,IF(ISNA(VLOOKUP($A307,'Last Race Results'!$A$5:$K$44,11,FALSE)),0,VLOOKUP($A307,'Last Race Results'!$A$5:$K$44,11,FALSE)))","v":0},null,null,null,null,null,null,null,null,null,null,null,null,null,null,null,null,null,null,{"$f":"IF('Last Race Results'!$B$5=0,0,IF(ISNA(VLOOKUP($A307,'Last Race Results'!$A$5:$J$44,2,FALSE)),\"DNS\",VLOOKUP($A307,'Last Race Results'!$A$5:$J$44,2,FALSE)))","v":"DNS"},{"$f":"IF('Last Race Results'!$B$5=0,0,IF(ISNA(VLOOKUP($A307,'Last Race Results'!$A$5:$J$44,11,FALSE)),0,VLOOKUP($A307,'Last Race Results'!$A$5:$J$44,11,FALSE)))","v":0}]
[291,{"$f":"IF(ISNA(VLOOKUP($A308,'Entry List'!$A$1:$F$61,B$5,FALSE)),\"\",VLOOKUP($A308,'Entry List'!$A$1:$F$61,B$5,FALSE))","v":""},{"$f":"IF(ISNA(VLOOKUP($A308,'Entry List'!$A$1:$F$61,C$5,FALSE)),\"\",VLOOKUP($A308,'Entry List'!$A$1:$F$61,C$5,FALSE))","v":""},{"$f":"IF(ISNA(VLOOKUP($A308,'Entry List'!$A$1:$F$61,D$5,FALSE)),\"\",VLOOKUP($A308,'Entry List'!$A$1:$F$61,D$5,FALSE))","v":""},{"$f":"IF(ISNA(VLOOKUP($A308,'Entry List'!$A$1:$F$61,E$5,FALSE)),\"\",VLOOKUP($A308,'Entry List'!$A$1:$F$61,E$5,FALSE))","v":""},null,"DNS",0,"DNS",0,"DNS",0,"DNS",0,"DNS",0,"DNS",0,"DNS",0,"DNS",0,"DNS",0,"DNS",0,"DNS",0,"DNS",0,"DNS",0,"DNS",0,"DNS",0,"DNS",0,"DNS",0,"DNS",0,"DNS",0,"DNS",0,"DNS",0,"DNS",0,"DNS",0,"DNS",0,"DNS",0,{"$f":"IF('Last Race Results'!$B$5=0,0,IF(ISNA(VLOOKUP($A308,'Last Race Results'!$A$5:$J$44,2,FALSE)),\"DNS\",VLOOKUP($A308,'Last Race Results'!$A$5:$J$44,2,FALSE)))","v":"DNS"},{"$f":"IF('Last Race Results'!$B$5=0,0,IF(ISNA(VLOOKUP($A308,'Last Race Results'!$A$5:$K$44,11,FALSE)),0,VLOOKUP($A308,'Last Race Results'!$A$5:$K$44,11,FALSE)))","v":0},null,null,null,null,null,null,null,null,null,null,null,null,null,null,null,null,null,null,{"$f":"IF('Last Race Results'!$B$5=0,0,IF(ISNA(VLOOKUP($A308,'Last Race Results'!$A$5:$J$44,2,FALSE)),\"DNS\",VLOOKUP($A308,'Last Race Results'!$A$5:$J$44,2,FALSE)))","v":"DNS"},{"$f":"IF('Last Race Results'!$B$5=0,0,IF(ISNA(VLOOKUP($A308,'Last Race Results'!$A$5:$J$44,11,FALSE)),0,VLOOKUP($A308,'Last Race Results'!$A$5:$J$44,11,FALSE)))","v":0}]
[292,{"$f":"IF(ISNA(VLOOKUP($A309,'Entry List'!$A$1:$F$61,B$5,FALSE)),\"\",VLOOKUP($A309,'Entry List'!$A$1:$F$61,B$5,FALSE))","v":""},{"$f":"IF(ISNA(VLOOKUP($A309,'Entry List'!$A$1:$F$61,C$5,FALSE)),\"\",VLOOKUP($A309,'Entry List'!$A$1:$F$61,C$5,FALSE))","v":""},{"$f":"IF(ISNA(VLOOKUP($A309,'Entry List'!$A$1:$F$61,D$5,FALSE)),\"\",VLOOKUP($A309,'Entry List'!$A$1:$F$61,D$5,FALSE))","v":""},{"$f":"IF(ISNA(VLOOKUP($A309,'Entry List'!$A$1:$F$61,E$5,FALSE)),\"\",VLOOKUP($A309,'Entry List'!$A$1:$F$61,E$5,FALSE))","v":""},null,"DNS",0,"DNS",0,"DNS",0,"DNS",0,"DNS",0,"DNS",0,"DNS",0,"DNS",0,"DNS",0,"DNS",0,"DNS",0,"DNS",0,"DNS",0,"DNS",0,"DNS",0,"DNS",0,"DNS",0,"DNS",0,"DNS",0,"DNS",0,"DNS",0,"DNS",0,"DNS",0,"DNS",0,"DNS",0,{"$f":"IF('Last Race Results'!$B$5=0,0,IF(ISNA(VLOOKUP($A309,'Last Race Results'!$A$5:$J$44,2,FALSE)),\"DNS\",VLOOKUP($A309,'Last Race Results'!$A$5:$J$44,2,FALSE)))","v":"DNS"},{"$f":"IF('Last Race Results'!$B$5=0,0,IF(ISNA(VLOOKUP($A309,'Last Race Results'!$A$5:$K$44,11,FALSE)),0,VLOOKUP($A309,'Last Race Results'!$A$5:$K$44,11,FALSE)))","v":0},null,null,null,null,null,null,null,null,null,null,null,null,null,null,null,null,null,null,{"$f":"IF('Last Race Results'!$B$5=0,0,IF(ISNA(VLOOKUP($A309,'Last Race Results'!$A$5:$J$44,2,FALSE)),\"DNS\",VLOOKUP($A309,'Last Race Results'!$A$5:$J$44,2,FALSE)))","v":"DNS"},{"$f":"IF('Last Race Results'!$B$5=0,0,IF(ISNA(VLOOKUP($A309,'Last Race Results'!$A$5:$J$44,11,FALSE)),0,VLOOKUP($A309,'Last Race Results'!$A$5:$J$44,11,FALSE)))","v":0}]
[293,{"$f":"IF(ISNA(VLOOKUP($A310,'Entry List'!$A$1:$F$61,B$5,FALSE)),\"\",VLOOKUP($A310,'Entry List'!$A$1:$F$61,B$5,FALSE))","v":""},{"$f":"IF(ISNA(VLOOKUP($A310,'Entry List'!$A$1:$F$61,C$5,FALSE)),\"\",VLOOKUP($A310,'Entry List'!$A$1:$F$61,C$5,FALSE))","v":""},{"$f":"IF(ISNA(VLOOKUP($A310,'Entry List'!$A$1:$F$61,D$5,FALSE)),\"\",VLOOKUP($A310,'Entry List'!$A$1:$F$61,D$5,FALSE))","v":""},{"$f":"IF(ISNA(VLOOKUP($A310,'Entry List'!$A$1:$F$61,E$5,FALSE)),\"\",VLOOKUP($A310,'Entry List'!$A$1:$F$61,E$5,FALSE))","v":""},null,"DNS",0,"DNS",0,"DNS",0,"DNS",0,"DNS",0,"DNS",0,"DNS",0,"DNS",0,"DNS",0,"DNS",0,"DNS",0,"DNS",0,"DNS",0,"DNS",0,"DNS",0,"DNS",0,"DNS",0,"DNS",0,"DNS",0,"DNS",0,"DNS",0,"DNS",0,"DNS",0,"DNS",0,"DNS",0,{"$f":"IF('Last Race Results'!$B$5=0,0,IF(ISNA(VLOOKUP($A310,'Last Race Results'!$A$5:$J$44,2,FALSE)),\"DNS\",VLOOKUP($A310,'Last Race Results'!$A$5:$J$44,2,FALSE)))","v":"DNS"},{"$f":"IF('Last Race Results'!$B$5=0,0,IF(ISNA(VLOOKUP($A310,'Last Race Results'!$A$5:$K$44,11,FALSE)),0,VLOOKUP($A310,'Last Race Results'!$A$5:$K$44,11,FALSE)))","v":0},null,null,null,null,null,null,null,null,null,null,null,null,null,null,null,null,null,null,{"$f":"IF('Last Race Results'!$B$5=0,0,IF(ISNA(VLOOKUP($A310,'Last Race Results'!$A$5:$J$44,2,FALSE)),\"DNS\",VLOOKUP($A310,'Last Race Results'!$A$5:$J$44,2,FALSE)))","v":"DNS"},{"$f":"IF('Last Race Results'!$B$5=0,0,IF(ISNA(VLOOKUP($A310,'Last Race Results'!$A$5:$J$44,11,FALSE)),0,VLOOKUP($A310,'Last Race Results'!$A$5:$J$44,11,FALSE)))","v":0}]
[294,{"$f":"IF(ISNA(VLOOKUP($A311,'Entry List'!$A$1:$F$61,B$5,FALSE)),\"\",VLOOKUP($A311,'Entry List'!$A$1:$F$61,B$5,FALSE))","v":""},{"$f":"IF(ISNA(VLOOKUP($A311,'Entry List'!$A$1:$F$61,C$5,FALSE)),\"\",VLOOKUP($A311,'Entry List'!$A$1:$F$61,C$5,FALSE))","v":""},{"$f":"IF(ISNA(VLOOKUP($A311,'Entry List'!$A$1:$F$61,D$5,FALSE)),\"\",VLOOKUP($A311,'Entry List'!$A$1:$F$61,D$5,FALSE))","v":""},{"$f":"IF(ISNA(VLOOKUP($A311,'Entry List'!$A$1:$F$61,E$5,FALSE)),\"\",VLOOKUP($A311,'Entry List'!$A$1:$F$61,E$5,FALSE))","v":""},null,"DNS",0,"DNS",0,"DNS",0,"DNS",0,"DNS",0,"DNS",0,"DNS",0,"DNS",0,"DNS",0,"DNS",0,"DNS",0,"DNS",0,"DNS",0,"DNS",0,"DNS",0,"DNS",0,"DNS",0,"DNS",0,"DNS",0,"DNS",0,"DNS",0,"DNS",0,"DNS",0,"DNS",0,"DNS",0,{"$f":"IF('Last Race Results'!$B$5=0,0,IF(ISNA(VLOOKUP($A311,'Last Race Results'!$A$5:$J$44,2,FALSE)),\"DNS\",VLOOKUP($A311,'Last Race Results'!$A$5:$J$44,2,FALSE)))","v":"DNS"},{"$f":"IF('Last Race Results'!$B$5=0,0,IF(ISNA(VLOOKUP($A311,'Last Race Results'!$A$5:$K$44,11,FALSE)),0,VLOOKUP($A311,'Last Race Results'!$A$5:$K$44,11,FALSE)))","v":0},null,null,null,null,null,null,null,null,null,null,null,null,null,null,null,null,null,null,{"$f":"IF('Last Race Results'!$B$5=0,0,IF(ISNA(VLOOKUP($A311,'Last Race Results'!$A$5:$J$44,2,FALSE)),\"DNS\",VLOOKUP($A311,'Last Race Results'!$A$5:$J$44,2,FALSE)))","v":"DNS"},{"$f":"IF('Last Race Results'!$B$5=0,0,IF(ISNA(VLOOKUP($A311,'Last Race Results'!$A$5:$J$44,11,FALSE)),0,VLOOKUP($A311,'Last Race Results'!$A$5:$J$44,11,FALSE)))","v":0}]
[295,{"$f":"IF(ISNA(VLOOKUP($A312,'Entry List'!$A$1:$F$61,B$5,FALSE)),\"\",VLOOKUP($A312,'Entry List'!$A$1:$F$61,B$5,FALSE))","v":""},{"$f":"IF(ISNA(VLOOKUP($A312,'Entry List'!$A$1:$F$61,C$5,FALSE)),\"\",VLOOKUP($A312,'Entry List'!$A$1:$F$61,C$5,FALSE))","v":""},{"$f":"IF(ISNA(VLOOKUP($A312,'Entry List'!$A$1:$F$61,D$5,FALSE)),\"\",VLOOKUP($A312,'Entry List'!$A$1:$F$61,D$5,FALSE))","v":""},{"$f":"IF(ISNA(VLOOKUP($A312,'Entry List'!$A$1:$F$61,E$5,FALSE)),\"\",VLOOKUP($A312,'Entry List'!$A$1:$F$61,E$5,FALSE))","v":""},null,"DNS",0,"DNS",0,"DNS",0,"DNS",0,"DNS",0,"DNS",0,"DNS",0,"DNS",0,"DNS",0,"DNS",0,"DNS",0,"DNS",0,"DNS",0,"DNS",0,"DNS",0,"DNS",0,"DNS",0,"DNS",0,"DNS",0,"DNS",0,"DNS",0,"DNS",0,"DNS",0,"DNS",0,"DNS",0,{"$f":"IF('Last Race Results'!$B$5=0,0,IF(ISNA(VLOOKUP($A312,'Last Race Results'!$A$5:$J$44,2,FALSE)),\"DNS\",VLOOKUP($A312,'Last Race Results'!$A$5:$J$44,2,FALSE)))","v":"DNS"},{"$f":"IF('Last Race Results'!$B$5=0,0,IF(ISNA(VLOOKUP($A312,'Last Race Results'!$A$5:$K$44,11,FALSE)),0,VLOOKUP($A312,'Last Race Results'!$A$5:$K$44,11,FALSE)))","v":0},null,null,null,null,null,null,null,null,null,null,null,null,null,null,null,null,null,null,{"$f":"IF('Last Race Results'!$B$5=0,0,IF(ISNA(VLOOKUP($A312,'Last Race Results'!$A$5:$J$44,2,FALSE)),\"DNS\",VLOOKUP($A312,'Last Race Results'!$A$5:$J$44,2,FALSE)))","v":"DNS"},{"$f":"IF('Last Race Results'!$B$5=0,0,IF(ISNA(VLOOKUP($A312,'Last Race Results'!$A$5:$J$44,11,FALSE)),0,VLOOKUP($A312,'Last Race Results'!$A$5:$J$44,11,FALSE)))","v":0}]
[296,{"$f":"IF(ISNA(VLOOKUP($A313,'Entry List'!$A$1:$F$61,B$5,FALSE)),\"\",VLOOKUP($A313,'Entry List'!$A$1:$F$61,B$5,FALSE))","v":""},{"$f":"IF(ISNA(VLOOKUP($A313,'Entry List'!$A$1:$F$61,C$5,FALSE)),\"\",VLOOKUP($A313,'Entry List'!$A$1:$F$61,C$5,FALSE))","v":""},{"$f":"IF(ISNA(VLOOKUP($A313,'Entry List'!$A$1:$F$61,D$5,FALSE)),\"\",VLOOKUP($A313,'Entry List'!$A$1:$F$61,D$5,FALSE))","v":""},{"$f":"IF(ISNA(VLOOKUP($A313,'Entry List'!$A$1:$F$61,E$5,FALSE)),\"\",VLOOKUP($A313,'Entry List'!$A$1:$F$61,E$5,FALSE))","v":""},null,"DNS",0,"DNS",0,"DNS",0,"DNS",0,"DNS",0,"DNS",0,"DNS",0,"DNS",0,"DNS",0,"DNS",0,"DNS",0,"DNS",0,"DNS",0,"DNS",0,"DNS",0,"DNS",0,"DNS",0,"DNS",0,"DNS",0,"DNS",0,"DNS",0,"DNS",0,"DNS",0,"DNS",0,"DNS",0,{"$f":"IF('Last Race Results'!$B$5=0,0,IF(ISNA(VLOOKUP($A313,'Last Race Results'!$A$5:$J$44,2,FALSE)),\"DNS\",VLOOKUP($A313,'Last Race Results'!$A$5:$J$44,2,FALSE)))","v":"DNS"},{"$f":"IF('Last Race Results'!$B$5=0,0,IF(ISNA(VLOOKUP($A313,'Last Race Results'!$A$5:$K$44,11,FALSE)),0,VLOOKUP($A313,'Last Race Results'!$A$5:$K$44,11,FALSE)))","v":0},null,null,null,null,null,null,null,null,null,null,null,null,null,null,null,null,null,null,{"$f":"IF('Last Race Results'!$B$5=0,0,IF(ISNA(VLOOKUP($A313,'Last Race Results'!$A$5:$J$44,2,FALSE)),\"DNS\",VLOOKUP($A313,'Last Race Results'!$A$5:$J$44,2,FALSE)))","v":"DNS"},{"$f":"IF('Last Race Results'!$B$5=0,0,IF(ISNA(VLOOKUP($A313,'Last Race Results'!$A$5:$J$44,11,FALSE)),0,VLOOKUP($A313,'Last Race Results'!$A$5:$J$44,11,FALSE)))","v":0}]
[297,{"$f":"IF(ISNA(VLOOKUP($A314,'Entry List'!$A$1:$F$61,B$5,FALSE)),\"\",VLOOKUP($A314,'Entry List'!$A$1:$F$61,B$5,FALSE))","v":""},{"$f":"IF(ISNA(VLOOKUP($A314,'Entry List'!$A$1:$F$61,C$5,FALSE)),\"\",VLOOKUP($A314,'Entry List'!$A$1:$F$61,C$5,FALSE))","v":""},{"$f":"IF(ISNA(VLOOKUP($A314,'Entry List'!$A$1:$F$61,D$5,FALSE)),\"\",VLOOKUP($A314,'Entry List'!$A$1:$F$61,D$5,FALSE))","v":""},{"$f":"IF(ISNA(VLOOKUP($A314,'Entry List'!$A$1:$F$61,E$5,FALSE)),\"\",VLOOKUP($A314,'Entry List'!$A$1:$F$61,E$5,FALSE))","v":""},null,"DNS",0,"DNS",0,"DNS",0,"DNS",0,"DNS",0,"DNS",0,"DNS",0,"DNS",0,"DNS",0,"DNS",0,"DNS",0,"DNS",0,"DNS",0,"DNS",0,"DNS",0,"DNS",0,"DNS",0,"DNS",0,"DNS",0,"DNS",0,"DNS",0,"DNS",0,"DNS",0,"DNS",0,"DNS",0,{"$f":"IF('Last Race Results'!$B$5=0,0,IF(ISNA(VLOOKUP($A314,'Last Race Results'!$A$5:$J$44,2,FALSE)),\"DNS\",VLOOKUP($A314,'Last Race Results'!$A$5:$J$44,2,FALSE)))","v":"DNS"},{"$f":"IF('Last Race Results'!$B$5=0,0,IF(ISNA(VLOOKUP($A314,'Last Race Results'!$A$5:$K$44,11,FALSE)),0,VLOOKUP($A314,'Last Race Results'!$A$5:$K$44,11,FALSE)))","v":0},null,null,null,null,null,null,null,null,null,null,null,null,null,null,null,null,null,null,{"$f":"IF('Last Race Results'!$B$5=0,0,IF(ISNA(VLOOKUP($A314,'Last Race Results'!$A$5:$J$44,2,FALSE)),\"DNS\",VLOOKUP($A314,'Last Race Results'!$A$5:$J$44,2,FALSE)))","v":"DNS"},{"$f":"IF('Last Race Results'!$B$5=0,0,IF(ISNA(VLOOKUP($A314,'Last Race Results'!$A$5:$J$44,11,FALSE)),0,VLOOKUP($A314,'Last Race Results'!$A$5:$J$44,11,FALSE)))","v":0}]
[298,{"$f":"IF(ISNA(VLOOKUP($A315,'Entry List'!$A$1:$F$61,B$5,FALSE)),\"\",VLOOKUP($A315,'Entry List'!$A$1:$F$61,B$5,FALSE))","v":""},{"$f":"IF(ISNA(VLOOKUP($A315,'Entry List'!$A$1:$F$61,C$5,FALSE)),\"\",VLOOKUP($A315,'Entry List'!$A$1:$F$61,C$5,FALSE))","v":""},{"$f":"IF(ISNA(VLOOKUP($A315,'Entry List'!$A$1:$F$61,D$5,FALSE)),\"\",VLOOKUP($A315,'Entry List'!$A$1:$F$61,D$5,FALSE))","v":""},{"$f":"IF(ISNA(VLOOKUP($A315,'Entry List'!$A$1:$F$61,E$5,FALSE)),\"\",VLOOKUP($A315,'Entry List'!$A$1:$F$61,E$5,FALSE))","v":""},null,"DNS",0,"DNS",0,"DNS",0,"DNS",0,"DNS",0,"DNS",0,"DNS",0,"DNS",0,"DNS",0,"DNS",0,"DNS",0,"DNS",0,"DNS",0,"DNS",0,"DNS",0,"DNS",0,"DNS",0,"DNS",0,"DNS",0,"DNS",0,"DNS",0,"DNS",0,"DNS",0,"DNS",0,"DNS",0,{"$f":"IF('Last Race Results'!$B$5=0,0,IF(ISNA(VLOOKUP($A315,'Last Race Results'!$A$5:$J$44,2,FALSE)),\"DNS\",VLOOKUP($A315,'Last Race Results'!$A$5:$J$44,2,FALSE)))","v":"DNS"},{"$f":"IF('Last Race Results'!$B$5=0,0,IF(ISNA(VLOOKUP($A315,'Last Race Results'!$A$5:$K$44,11,FALSE)),0,VLOOKUP($A315,'Last Race Results'!$A$5:$K$44,11,FALSE)))","v":0},null,null,null,null,null,null,null,null,null,null,null,null,null,null,null,null,null,null,{"$f":"IF('Last Race Results'!$B$5=0,0,IF(ISNA(VLOOKUP($A315,'Last Race Results'!$A$5:$J$44,2,FALSE)),\"DNS\",VLOOKUP($A315,'Last Race Results'!$A$5:$J$44,2,FALSE)))","v":"DNS"},{"$f":"IF('Last Race Results'!$B$5=0,0,IF(ISNA(VLOOKUP($A315,'Last Race Results'!$A$5:$J$44,11,FALSE)),0,VLOOKUP($A315,'Last Race Results'!$A$5:$J$44,11,FALSE)))","v":0}]
[299,{"$f":"IF(ISNA(VLOOKUP($A316,'Entry List'!$A$1:$F$61,B$5,FALSE)),\"\",VLOOKUP($A316,'Entry List'!$A$1:$F$61,B$5,FALSE))","v":""},{"$f":"IF(ISNA(VLOOKUP($A316,'Entry List'!$A$1:$F$61,C$5,FALSE)),\"\",VLOOKUP($A316,'Entry List'!$A$1:$F$61,C$5,FALSE))","v":""},{"$f":"IF(ISNA(VLOOKUP($A316,'Entry List'!$A$1:$F$61,D$5,FALSE)),\"\",VLOOKUP($A316,'Entry List'!$A$1:$F$61,D$5,FALSE))","v":""},{"$f":"IF(ISNA(VLOOKUP($A316,'Entry List'!$A$1:$F$61,E$5,FALSE)),\"\",VLOOKUP($A316,'Entry List'!$A$1:$F$61,E$5,FALSE))","v":""},null,"DNS",0,"DNS",0,"DNS",0,"DNS",0,"DNS",0,"DNS",0,"DNS",0,"DNS",0,"DNS",0,"DNS",0,"DNS",0,"DNS",0,"DNS",0,"DNS",0,"DNS",0,"DNS",0,"DNS",0,"DNS",0,"DNS",0,"DNS",0,"DNS",0,"DNS",0,"DNS",0,"DNS",0,"DNS",0,{"$f":"IF('Last Race Results'!$B$5=0,0,IF(ISNA(VLOOKUP($A316,'Last Race Results'!$A$5:$J$44,2,FALSE)),\"DNS\",VLOOKUP($A316,'Last Race Results'!$A$5:$J$44,2,FALSE)))","v":"DNS"},{"$f":"IF('Last Race Results'!$B$5=0,0,IF(ISNA(VLOOKUP($A316,'Last Race Results'!$A$5:$K$44,11,FALSE)),0,VLOOKUP($A316,'Last Race Results'!$A$5:$K$44,11,FALSE)))","v":0},null,null,null,null,null,null,null,null,null,null,null,null,null,null,null,null,null,null,{"$f":"IF('Last Race Results'!$B$5=0,0,IF(ISNA(VLOOKUP($A316,'Last Race Results'!$A$5:$J$44,2,FALSE)),\"DNS\",VLOOKUP($A316,'Last Race Results'!$A$5:$J$44,2,FALSE)))","v":"DNS"},{"$f":"IF('Last Race Results'!$B$5=0,0,IF(ISNA(VLOOKUP($A316,'Last Race Results'!$A$5:$J$44,11,FALSE)),0,VLOOKUP($A316,'Last Race Results'!$A$5:$J$44,11,FALSE)))","v":0}]
[300,{"$f":"IF(ISNA(VLOOKUP($A317,'Entry List'!$A$1:$F$61,B$5,FALSE)),\"\",VLOOKUP($A317,'Entry List'!$A$1:$F$61,B$5,FALSE))","v":""},{"$f":"IF(ISNA(VLOOKUP($A317,'Entry List'!$A$1:$F$61,C$5,FALSE)),\"\",VLOOKUP($A317,'Entry List'!$A$1:$F$61,C$5,FALSE))","v":""},{"$f":"IF(ISNA(VLOOKUP($A317,'Entry List'!$A$1:$F$61,D$5,FALSE)),\"\",VLOOKUP($A317,'Entry List'!$A$1:$F$61,D$5,FALSE))","v":""},{"$f":"IF(ISNA(VLOOKUP($A317,'Entry List'!$A$1:$F$61,E$5,FALSE)),\"\",VLOOKUP($A317,'Entry List'!$A$1:$F$61,E$5,FALSE))","v":""},null,"DNS",0,"DNS",0,"DNS",0,"DNS",0,"DNS",0,"DNS",0,"DNS",0,"DNS",0,"DNS",0,"DNS",0,"DNS",0,"DNS",0,"DNS",0,"DNS",0,"DNS",0,"DNS",0,"DNS",0,"DNS",0,"DNS",0,"DNS",0,"DNS",0,"DNS",0,"DNS",0,"DNS",0,"DNS",0,{"$f":"IF('Last Race Results'!$B$5=0,0,IF(ISNA(VLOOKUP($A317,'Last Race Results'!$A$5:$J$44,2,FALSE)),\"DNS\",VLOOKUP($A317,'Last Race Results'!$A$5:$J$44,2,FALSE)))","v":"DNS"},{"$f":"IF('Last Race Results'!$B$5=0,0,IF(ISNA(VLOOKUP($A317,'Last Race Results'!$A$5:$K$44,11,FALSE)),0,VLOOKUP($A317,'Last Race Results'!$A$5:$K$44,11,FALSE)))","v":0},null,null,null,null,null,null,null,null,null,null,null,null,null,null,null,null,null,null,{"$f":"IF('Last Race Results'!$B$5=0,0,IF(ISNA(VLOOKUP($A317,'Last Race Results'!$A$5:$J$44,2,FALSE)),\"DNS\",VLOOKUP($A317,'Last Race Results'!$A$5:$J$44,2,FALSE)))","v":"DNS"},{"$f":"IF('Last Race Results'!$B$5=0,0,IF(ISNA(VLOOKUP($A317,'Last Race Results'!$A$5:$J$44,11,FALSE)),0,VLOOKUP($A317,'Last Race Results'!$A$5:$J$44,11,FALSE)))","v":0}]
[null,"Segment 1 Winner",null,null,null,null,9,null,9,null,88,null,4,null,24,null,14,null,12,null,22,null,9,null,19,null,22,null,11,null,8,null,22,null,1,null,24,null,10,null,22,null,18,null,11,null,4,null,14,null,9,null,11,null,4,null,{"$f":"VALUE(RIGHT(INDIRECT(ADDRESS(MATCH(10,'Last Race Results'!$I$5:$I$44,0)+4,1,1,1,\"last race results\")),LEN(INDIRECT(ADDRESS(MATCH(10,'Last Race Results'!$I$5:$I$44,0)+4,1,1,1,\"last race results\")))))","v":22},null,null,null,null,null,null,null,null,null,null,null,null,null,null,null,null,null,null,null,{"$f":"VALUE(RIGHT(INDIRECT(ADDRESS(MATCH(10,'Last Race Results'!$I$5:$I$44,0)+4,1,1,1,\"last race results\")),LEN(INDIRECT(ADDRESS(MATCH(10,'Last Race Results'!$I$5:$I$44,0)+4,1,1,1,\"last race results\")))))","v":22}]
[null,"Segment 2 Winner",null,null,null,null,11,null,9,null,12,null,2,null,2,null,14,null,15,null,88,null,9,null,19,null,48,null,11,null,47,null,10,null,2,null,4,null,2,null,4,null,2,null,2,null,4,null,4,null,11,null,11,null,4,null,{"$f":"VALUE(RIGHT(INDIRECT(ADDRESS(MATCH(10,'Last Race Results'!$J$5:$J$44,0)+4,1,1,1,\"last race results\")),LEN(INDIRECT(ADDRESS(MATCH(10,'Last Race Results'!$J$5:$J$44,0)+4,1,1,1,\"last race results\")))))","v":22},null,null,null,null,null,null,null,null,null,null,null,null,null,null,null,null,null,null,null,{"$f":"VALUE(RIGHT(INDIRECT(ADDRESS(MATCH(10,'Last Race Results'!$J$5:$J$44,0)+4,1,1,1,\"last race results\")),LEN(INDIRECT(ADDRESS(MATCH(10,'Last Race Results'!$J$5:$J$44,0)+4,1,1,1,\"last race results\")))))","v":22}]
[null,"Segment 3 Winner",null,null,null,null,11,null,22,null,88,null,22,null,4,null,11,null,22,null,22,null,2,null,4,null,19,null,11,null,12,null,4,null,11,null,4,null,41,null,4,null,11,null,2,null,4,null,4,null,9,null,11,null,4,null,{"$f":"VALUE(RIGHT(INDIRECT(ADDRESS(MATCH(1,'Last Race Results'!$B$5:$B$44,0)+4,1,1,1,\"last race results\")),LEN(INDIRECT(ADDRESS(MATCH(1,'Last Race Results'!$B$5:$B$44,0)+4,1,1,1,\"last race results\")))))","v":24},null,null,null,null,null,null,null,null,null,null,null,null,null,null,null,null,null,null,null,{"$f":"VALUE(RIGHT(INDIRECT(ADDRESS(MATCH(1,'Last Race Results'!$B$5:$B$44,0)+4,1,1,1,\"last race results\")),LEN(INDIRECT(ADDRESS(MATCH(1,'Last Race Results'!$B$5:$B$44,0)+4,1,1,1,\"last race results\")))))","v":24}]
[null,null,null,null,null,null,"Y",null,"Y",null,"Y",null,"Y",null,"Y",null,"Y",null,"Y",null,"Y",null,"Y",null,"Y",null,"Y",null,"Y",null,"Y",null,"Y",null,"Y",null,"Y",null,"Y",null,"Y",null,"Y",null,"Y",null,"Y",null,"Y",null,"Y",null,"Y",null,"Y",null,"Y",null,"N",null,"N",null,"N",null,"N",null,"N",null,"N",null,"N",null,"N",null,"N",null,"N"]

{"sheet":"Jeff Buehrle","index":8,"n_rows":28,"n_cols":29,"rows_kept":28,"cut":false,"hidden":false,"merged":[[4,26,4,27],[20,26,20,27],[4,24,4,25],[4,20,4,21],[4,22,4,23],[20,22,20,23],[20,24,20,25],[20,20,20,21],[1,26,1,27],[2,26,2,27],[0,26,0,27],[3,26,3,27],[3,20,3,21],[0,20,0,21],[0,22,0,23],[0,24,0,25],[1,22,1,23],[1,24,1,25],[2,20,2,21],[2,22,2,23],[2,24,2,25],[3,22,3,23],[3,24,3,25],[1,20,1,21],[20,12,20,13],[20,14,20,15],[20,16,20,17],[20,18,20,19],[4,14,4,15],[4,16,4,17],[4,18,4,19],[4,12,4,13],[0,12,0,13],[0,14,0,15],[0,16,0,17],[0,18,0,19],[2,12,2,13],[2,14,2,15],[1,12,1,13],[1,14,1,15],[1,16,1,17],[1,18,1,19],[3,12,3,13],[3,14,3,15],[2,16,2,17],[3,16,3,17],[2,18,2,19],[3,18,3,19]]}
[null,null,null,null,null,null,null,null,null,null,null,null,{"$f":"VLOOKUP(M$5,Schedule!$A$8:$G$43,2,FALSE)","v":"2020-07-23"},null,{"$f":"VLOOKUP(O$5,Schedule!$A$8:$G$43,2,FALSE)","v":"2020-08-02"},null,{"$f":"VLOOKUP(Q$5,Schedule!$A$8:$G$43,2,FALSE)","v":"2020-08-08"},null,{"$f":"VLOOKUP(S$5,Schedule!$A$8:$G$43,2,FALSE)","v":"2020-08-09"},null,{"$f":"VLOOKUP(U$5,Schedule!$A$8:$G$43,2,FALSE)","v":"2020-08-16"},null,{"$f":"VLOOKUP(W$5,Schedule!$A$8:$G$43,2,FALSE)","v":"2020-08-22"},null,{"$f":"VLOOKUP(Y$5,Schedule!$A$8:$G$43,2,FALSE)","v":"2020-08-23"},null,{"$f":"VLOOKUP(AA$5,Schedule!$A$8:$G$43,2,FALSE)","v":"2020-08-29"}]
[null,null,null,null,null,null,null,null,null,null,null,null,{"$f":"VLOOKUP(M$5,Schedule!$A$8:$G$43,3,FALSE)","v":"Super Start Batteries 400"},null,{"$f":"VLOOKUP(O$5,Schedule!$A$8:$G$43,3,FALSE)","v":"Foxwoods Resort Casino 301"},null,{"$f":"VLOOKUP(Q$5,Schedule!$A$8:$G$43,3,FALSE)","v":"FireKeepers Casino 500"},null,{"$f":"VLOOKUP(S$5,Schedule!$A$8:$G$43,3,FALSE)","v":"Consumers Energy 500"},null,{"$f":"VLOOKUP(U$5,Schedule!$A$8:$G$43,3,FALSE)","v":"Go Bowling at The Glen"},null,{"$f":"VLOOKUP(W$5,Schedule!$A$8:$G$43,3,FALSE)","v":"Drydene 311 (Sat)"},null,{"$f":"VLOOKUP(Y$5,Schedule!$A$8:$G$43,3,FALSE)","v":"Drydene 311 (Sun)"},null,{"$f":"VLOOKUP(AA$5,Schedule!$A$8:$G$43,3,FALSE)","v":"Coke Zero Sugar 400"}]
[null,null,null,null,null,null,null,null,null,null,null,null,{"$f":"VLOOKUP(M$5,Schedule!$A$8:$G$43,2,FALSE)","v":"2020-07-23"},null,{"$f":"VLOOKUP(O$5,Schedule!$A$8:$G$43,2,FALSE)","v":"2020-08-02"},null,{"$f":"VLOOKUP(Q$5,Schedule!$A$8:$G$43,2,FALSE)","v":"2020-08-08"},null,{"$f":"VLOOKUP(S$5,Schedule!$A$8:$G$43,2,FALSE)","v":"2020-08-09"},null,{"$f":"VLOOKUP(U$5,Schedule!$A$8:$G$43,2,FALSE)","v":"2020-08-16"},null,{"$f":"VLOOKUP(W$5,Schedule!$A$8:$G$43,2,FALSE)","v":"2020-08-22"},null,{"$f":"VLOOKUP(Y$5,Schedule!$A$8:$G$43,2,FALSE)","v":"2020-08-23"},null,{"$f":"VLOOKUP(AA$5,Schedule!$A$8:$G$43,2,FALSE)","v":"2020-08-29"}]
[null,null,null,null,null,null,null,null,null,null,null,null,{"$f":"VLOOKUP(M$5,Schedule!$A$4:$G$43,5,FALSE)","v":"Kansas "},null,{"$f":"VLOOKUP(O$5,Schedule!$A$4:$G$43,5,FALSE)","v":"New Hamp"},null,{"$f":"VLOOKUP(Q$5,Schedule!$A$4:$G$43,5,FALSE)","v":"Michigan (Sat)"},null,{"$f":"VLOOKUP(S$5,Schedule!$A$4:$G$43,5,FALSE)","v":"Michigan (Sun)"},null,{"$f":"VLOOKUP(U$5,Schedule!$A$4:$G$43,5,FALSE)","v":"Daytona (Road)"},null,{"$f":"VLOOKUP(W$5,Schedule!$A$4:$G$43,5,FALSE)","v":"Dover (Sat)"},null,{"$f":"VLOOKUP(Y$5,Schedule!$A$4:$G$43,5,FALSE)","v":"Dover (Sun)"},null,{"$f":"VLOOKUP(AA$5,Schedule!$A$4:$G$43,5,FALSE)","v":"Daytona "}]
["Owner","Week","Week","Week","Week","Week","Week","Week","Week",2,3,4,19,null,20,null,21,null,22,null,23,null,24,null,25,null,26,null,"Total"]
["Points",19,20,21,22,23,24,25,26,"Driver","Make","Sponsor","Points","Bonus","Points","Bonus","Points","Bonus","Points","Bonus","Points","Bonus","Points","Bonus","Points","Bonus","Points","Bonus","Points"]
[{"$f":"VLOOKUP(HLOOKUP('Pick Distribution'!$P$2,$B$6:$I$15,$J$5),'Current Owner Standings'!$A$71:$B$480,2,FALSE)","v":2},19,19,4,4,4,4,11,11,{"$f":"IF(ISNA(VLOOKUP($I7,'Cars & Results'!$A$6:$I$317,J$5,FALSE)),\"Invalid Number\",VLOOKUP($I7,'Cars & Results'!$A$6:$K$317,J$5,FALSE))","v":"Denny Hamlin"},{"$f":"IF(ISNA(VLOOKUP($I7,'Cars & Results'!$A$6:$I$317,K$5,FALSE)),\"Invalid Number\",VLOOKUP($I7,'Cars & Results'!$A$6:$K$317,K$5,FALSE))","v":"Toyota"},{"$f":"IF(ISNA(VLOOKUP($I7,'Cars & Results'!$A$6:$I$317,L$5,FALSE)),\"Invalid Number\",VLOOKUP($I7,'Cars & Results'!$A$6:$K$317,L$5,FALSE))","v":"Joe Gibbs Racing"},{"$f":"IF(HLOOKUP(M$5,$B$6:$I$15,Points!$A3+1,FALSE)=\"TBD\",\"\",VLOOKUP(HLOOKUP(M$5,$B$6:$I$15,Points!$A3+1,FALSE),'Cars & Results'!$A$7:$BZ$317,2*M$5+6,FALSE))","v":45},{"$f":"IF(HLOOKUP(M$5,$B$6:$I$15,Points!$A3+1,FALSE)=\"TBD\",\"\",0)","v":0},{"$f":"IF(HLOOKUP(O$5,$B$6:$I$15,Points!$A3+1,FALSE)=\"TBD\",\"\",VLOOKUP(HLOOKUP(O$5,$B$6:$I$15,Points!$A3+1,FALSE),'Cars & Results'!$A$7:$BZ$317,2*O$5+6,FALSE))","v":46},{"$f":"IF(HLOOKUP(O$5,$B$6:$I$15,Points!$A3+1,FALSE)=\"TBD\",\"\",0)","v":0},{"$f":"IF(HLOOKUP(Q$5,$B$6:$I$15,Points!$A3+1,FALSE)=\"TBD\",\"\",VLOOKUP(HLOOKUP(Q$5,$B$6:$I$15,Points!$A3+1,FALSE),'Cars & Results'!$A$7:$BZ$317,2*Q$5+6,FALSE))","v":60},{"$f":"IF(HLOOKUP(Q$5,$B$6:$I$15,Points!$A3+1,FALSE)=\"TBD\",\"\",0)","v":0},{"$f":"IF(HLOOKUP(S$5,$B$6:$I$15,Points!$A3+1,FALSE)=\"TBD\",\"\",VLOOKUP(HLOOKUP(S$5,$B$6:$I$15,Points!$A3+1,FALSE),'Cars & Results'!$A$7:$BZ$317,2*S$5+6,FALSE))","v":53},{"$f":"IF(HLOOKUP(S$5,$B$6:$I$15,Points!$A3+1,FALSE)=\"TBD\",\"\",0)","v":0},{"$f":"IF(HLOOKUP(U$5,$B$6:$I$15,Points!$A3+1,FALSE)=\"TBD\",\"\",VLOOKUP(HLOOKUP(U$5,$B$6:$I$15,Points!$A3+1,FALSE),'Cars & Results'!$A$7:$BZ$317,2*U$5+6,FALSE))","v":23},{"$f":"IF(HLOOKUP(U$5,$B$6:$I$15,Points!$A3+1,FALSE)=\"TBD\",\"\",0)","v":0},{"$f":"IF(HLOOKUP(W$5,$B$6:$I$15,Points!$A3+1,FALSE)=\"TBD\",\"\",VLOOKUP(HLOOKUP(W$5,$B$6:$I$15,Points!$A3+1,FALSE),'Cars & Results'!$A$7:$BZ$317,2*W$5+6,FALSE))","v":42},{"$f":"IF(HLOOKUP(W$5,$B$6:$I$15,Points!$A3+1,FALSE)=\"TBD\",\"\",0)","v":0},{"$f":"IF(HLOOKUP(Y$5,$B$6:$I$15,Points!$A3+1,FALSE)=\"TBD\",\"\",VLOOKUP(HLOOKUP(Y$5,$B$6:$I$15,Points!$A3+1,FALSE),'Cars & Results'!$A$7:$BZ$317,2*Y$5+6,FALSE))","v":26},{"$f":"IF(HLOOKUP(Y$5,$B$6:$I$15,Points!$A3+1,FALSE)=\"TBD\",\"\",0)","v":0},{"$f":"IF(HLOOKUP(AA$5,$B$6:$I$15,Points!$A3+1,FALSE)=\"TBD\",\"\",VLOOKUP(HLOOKUP(AA$5,$B$6:$I$15,Points!$A3+1,FALSE),'Cars & Results'!$A$7:$BZ$317,2*AA$5+6,FALSE))","v":36},{"$f":"IF(HLOOKUP(AA$5,$B$6:$I$15,Points!$A3+1,FALSE)=\"TBD\",\"\",0)","v":0}]
[{"$f":"VLOOKUP(HLOOKUP('Pick Distribution'!$P$2,$B$6:$I$15,3),'Current Owner Standings'!$A$71:$B$480,2,FALSE)","v":9},18,18,18,18,18,18,18,18,{"$f":"IF(ISNA(VLOOKUP($I8,'Cars & Results'!$A$6:$I$317,J$5,FALSE)),\"Invalid Number\",VLOOKUP($I8,'Cars & Results'!$A$6:$K$317,J$5,FALSE))","v":"Kyle Busch"},{"$f":"IF(ISNA(VLOOKUP($I8,'Cars & Results'!$A$6:$I$317,K$5,FALSE)),\"Invalid Number\",VLOOKUP($I8,'Cars & Results'!$A$6:$K$317,K$5,FALSE))","v":"Toyota"},{"$f":"IF(ISNA(VLOOKUP($I8,'Cars & Results'!$A$6:$I$317,L$5,FALSE)),\"Invalid Number\",VLOOKUP($I8,'Cars & Results'!$A$6:$K$317,L$5,FALSE))","v":"Joe Gibbs Racing"},{"$f":"IF(HLOOKUP(M$5,$B$6:$I$15,Points!$A4+1,FALSE)=\"TBD\",\"\",VLOOKUP(HLOOKUP(M$5,$B$6:$I$15,Points!$A4+1,FALSE),'Cars & Results'!$A$7:$BZ$317,2*M$5+6,FALSE))","v":42},{"$f":"IF(HLOOKUP(M$5,$B$6:$I$15,Points!$A4+1,FALSE)=\"TBD\",\"\",IF(VLOOKUP(HLOOKUP(M$5,$B$6:$I$15,Points!$A4+1,FALSE),'Cars & Results'!$A$7:$BZ$317,2*M$5+5)=1,M8*0.25,0))","v":0},{"$f":"IF(HLOOKUP(O$5,$B$6:$I$15,Points!$A4+1,FALSE)=\"TBD\",\"\",VLOOKUP(HLOOKUP(O$5,$B$6:$I$15,Points!$A4+1,FALSE),'Cars & Results'!$A$7:$BZ$317,2*O$5+6,FALSE))","v":1},{"$f":"IF(HLOOKUP(O$5,$B$6:$I$15,Points!$A4+1,FALSE)=\"TBD\",\"\",IF(VLOOKUP(HLOOKUP(O$5,$B$6:$I$15,Points!$A4+1,FALSE),'Cars & Results'!$A$7:$BZ$317,2*O$5+5)=1,O8*0.25,0))","v":0},{"$f":"IF(HLOOKUP(Q$5,$B$6:$I$15,Points!$A4+1,FALSE)=\"TBD\",\"\",VLOOKUP(HLOOKUP(Q$5,$B$6:$I$15,Points!$A4+1,FALSE),'Cars & Results'!$A$7:$BZ$317,2*Q$5+6,FALSE))","v":39},{"$f":"IF(HLOOKUP(Q$5,$B$6:$I$15,Points!$A4+1,FALSE)=\"TBD\",\"\",IF(VLOOKUP(HLOOKUP(Q$5,$B$6:$I$15,Points!$A4+1,FALSE),'Cars & Results'!$A$7:$BZ$317,2*Q$5+5)=1,Q8*0.25,0))","v":0},{"$f":"IF(HLOOKUP(S$5,$B$6:$I$15,Points!$A4+1,FALSE)=\"TBD\",\"\",VLOOKUP(HLOOKUP(S$5,$B$6:$I$15,Points!$A4+1,FALSE),'Cars & Results'!$A$7:$BZ$317,2*S$5+6,FALSE))","v":49},{"$f":"IF(HLOOKUP(S$5,$B$6:$I$15,Points!$A4+1,FALSE)=\"TBD\",\"\",IF(VLOOKUP(HLOOKUP(S$5,$B$6:$I$15,Points!$A4+1,FALSE),'Cars & Results'!$A$7:$BZ$317,2*S$5+5)=1,S8*0.25,0))","v":0},{"$f":"IF(HLOOKUP(U$5,$B$6:$I$15,Points!$A4+1,FALSE)=\"TBD\",\"\",VLOOKUP(HLOOKUP(U$5,$B$6:$I$15,Points!$A4+1,FALSE),'Cars & Results'!$A$7:$BZ$317,2*U$5+6,FALSE))","v":1},{"$f":"IF(HLOOKUP(U$5,$B$6:$I$15,Points!$A4+1,FALSE)=\"TBD\",\"\",IF(VLOOKUP(HLOOKUP(U$5,$B$6:$I$15,Points!$A4+1,FALSE),'Cars & Results'!$A$7:$BZ$317,2*U$5+5)=1,U8*0.25,0))","v":0},{"$f":"IF(HLOOKUP(W$5,$B$6:$I$15,Points!$A4+1,FALSE)=\"TBD\",\"\",VLOOKUP(HLOOKUP(W$5,$B$6:$I$15,Points!$A4+1,FALSE),'Cars & Results'!$A$7:$BZ$317,2*W$5+6,FALSE))","v":41},{"$f":"IF(HLOOKUP(W$5,$B$6:$I$15,Points!$A4+1,FALSE)=\"TBD\",\"\",IF(VLOOKUP(HLOOKUP(W$5,$B$6:$I$15,Points!$A4+1,FALSE),'Cars & Results'!$A$7:$BZ$317,2*W$5+5)=1,W8*0.25,0))","v":0},{"$f":"IF(HLOOKUP(Y$5,$B$6:$I$15,Points!$A4+1,FALSE)=\"TBD\",\"\",VLOOKUP(HLOOKUP(Y$5,$B$6:$I$15,Points!$A4+1,FALSE),'Cars & Results'!$A$7:$BZ$317,2*Y$5+6,FALSE))","v":26},{"$f":"IF(HLOOKUP(Y$5,$B$6:$I$15,Points!$A4+1,FALSE)=\"TBD\",\"\",IF(VLOOKUP(HLOOKUP(Y$5,$B$6:$I$15,Points!$A4+1,FALSE),'Cars & Results'!$A$7:$BZ$317,2*Y$5+5)=1,Y8*0.25,0))","v":0},{"$f":"IF(HLOOKUP(AA$5,$B$6:$I$15,Points!$A4+1,FALSE)=\"TBD\",\"\",VLOOKUP(HLOOKUP(AA$5,$B$6:$I$15,Points!$A4+1,FALSE),'Cars & Results'!$A$7:$BZ$317,2*AA$5+6,FALSE))","v":5},{"$f":"IF(HLOOKUP(AA$5,$B$6:$I$15,Points!$A4+1,FALSE)=\"TBD\",\"\",IF(VLOOKUP(HLOOKUP(AA$5,$B$6:$I$15,Points!$A4+1,FALSE),'Cars & Results'!$A$7:$BZ$317,2*AA$5+5)=1,AA8*0.25,0))","v":0}]
[{"$f":"VLOOKUP(HLOOKUP('Pick Distribution'!$P$2,$B$6:$I$15,4),'Current Owner Standings'!$A$71:$B$480,2,FALSE)","v":18},8,42,42,42,8,42,8,8,{"$f":"IF(ISNA(VLOOKUP($I9,'Cars & Results'!$A$6:$I$317,J$5,FALSE)),\"Invalid Number\",VLOOKUP($I9,'Cars & Results'!$A$6:$K$317,J$5,FALSE))","v":"Tyler Reddick (R)"},{"$f":"IF(ISNA(VLOOKUP($I9,'Cars & Results'!$A$6:$I$317,K$5,FALSE)),\"Invalid Number\",VLOOKUP($I9,'Cars & Results'!$A$6:$K$317,K$5,FALSE))","v":"Chevrolet"},{"$f":"IF(ISNA(VLOOKUP($I9,'Cars & Results'!$A$6:$I$317,L$5,FALSE)),\"Invalid Number\",VLOOKUP($I9,'Cars & Results'!$A$6:$K$317,L$5,FALSE))","v":"Richard Childress Racing"},{"$f":"IF(HLOOKUP(M$5,$B$6:$I$15,Points!$A5+1,FALSE)=\"TBD\",\"\",VLOOKUP(HLOOKUP(M$5,$B$6:$I$15,Points!$A5+1,FALSE),'Cars & Results'!$A$7:$BZ$317,2*M$5+6,FALSE))","v":29},{"$f":"IF(HLOOKUP(M$5,$B$6:$I$15,Points!$A5+1,FALSE)=\"TBD\",\"\",IF(VLOOKUP(HLOOKUP(M$5,$B$6:$I$15,Points!$A5+1,FALSE),'Cars & Results'!$A$7:$BZ$317,2*M$5+5)<=5,M9*0.5,0))","v":0},{"$f":"IF(HLOOKUP(O$5,$B$6:$I$15,Points!$A5+1,FALSE)=\"TBD\",\"\",VLOOKUP(HLOOKUP(O$5,$B$6:$I$15,Points!$A5+1,FALSE),'Cars & Results'!$A$7:$BZ$317,2*O$5+6,FALSE))","v":1},{"$f":"IF(HLOOKUP(O$5,$B$6:$I$15,Points!$A5+1,FALSE)=\"TBD\",\"\",IF(VLOOKUP(HLOOKUP(O$5,$B$6:$I$15,Points!$A5+1,FALSE),'Cars & Results'!$A$7:$BZ$317,2*O$5+5)<=5,O9*0.5,0))","v":0},{"$f":"IF(HLOOKUP(Q$5,$B$6:$I$15,Points!$A5+1,FALSE)=\"TBD\",\"\",VLOOKUP(HLOOKUP(Q$5,$B$6:$I$15,Points!$A5+1,FALSE),'Cars & Results'!$A$7:$BZ$317,2*Q$5+6,FALSE))","v":20},{"$f":"IF(HLOOKUP(Q$5,$B$6:$I$15,Points!$A5+1,FALSE)=\"TBD\",\"\",IF(VLOOKUP(HLOOKUP(Q$5,$B$6:$I$15,Points!$A5+1,FALSE),'Cars & Results'!$A$7:$BZ$317,2*Q$5+5)<=5,Q9*0.5,0))","v":0},{"$f":"IF(HLOOKUP(S$5,$B$6:$I$15,Points!$A5+1,FALSE)=\"TBD\",\"\",VLOOKUP(HLOOKUP(S$5,$B$6:$I$15,Points!$A5+1,FALSE),'Cars & Results'!$A$7:$BZ$317,2*S$5+6,FALSE))","v":22},{"$f":"IF(HLOOKUP(S$5,$B$6:$I$15,Points!$A5+1,FALSE)=\"TBD\",\"\",IF(VLOOKUP(HLOOKUP(S$5,$B$6:$I$15,Points!$A5+1,FALSE),'Cars & Results'!$A$7:$BZ$317,2*S$5+5)<=5,S9*0.5,0))","v":0},{"$f":"IF(HLOOKUP(U$5,$B$6:$I$15,Points!$A5+1,FALSE)=\"TBD\",\"\",VLOOKUP(HLOOKUP(U$5,$B$6:$I$15,Points!$A5+1,FALSE),'Cars & Results'!$A$7:$BZ$317,2*U$5+6,FALSE))","v":19},{"$f":"IF(HLOOKUP(U$5,$B$6:$I$15,Points!$A5+1,FALSE)=\"TBD\",\"\",IF(VLOOKUP(HLOOKUP(U$5,$B$6:$I$15,Points!$A5+1,FALSE),'Cars & Results'!$A$7:$BZ$317,2*U$5+5)<=5,U9*0.5,0))","v":0},{"$f":"IF(HLOOKUP(W$5,$B$6:$I$15,Points!$A5+1,FALSE)=\"TBD\",\"\",VLOOKUP(HLOOKUP(W$5,$B$6:$I$15,Points!$A5+1,FALSE),'Cars & Results'!$A$7:$BZ$317,2*W$5+6,FALSE))","v":14},{"$f":"IF(HLOOKUP(W$5,$B$6:$I$15,Points!$A5+1,FALSE)=\"TBD\",\"\",IF(VLOOKUP(HLOOKUP(W$5,$B$6:$I$15,Points!$A5+1,FALSE),'Cars & Results'!$A$7:$BZ$317,2*W$5+5)<=5,W9*0.5,0))","v":0},{"$f":"IF(HLOOKUP(Y$5,$B$6:$I$15,Points!$A5+1,FALSE)=\"TBD\",\"\",VLOOKUP(HLOOKUP(Y$5,$B$6:$I$15,Points!$A5+1,FALSE),'Cars & Results'!$A$7:$BZ$317,2*Y$5+6,FALSE))","v":19},{"$f":"IF(HLOOKUP(Y$5,$B$6:$I$15,Points!$A5+1,FALSE)=\"TBD\",\"\",IF(VLOOKUP(HLOOKUP(Y$5,$B$6:$I$15,Points!$A5+1,FALSE),'Cars & Results'!$A$7:$BZ$317,2*Y$5+5)<=5,Y9*0.5,0))","v":0},{"$f":"IF(HLOOKUP(AA$5,$B$6:$I$15,Points!$A5+1,FALSE)=\"TBD\",\"\",VLOOKUP(HLOOKUP(AA$5,$B$6:$I$15,Points!$A5+1,FALSE),'Cars & Results'!$A$7:$BZ$317,2*AA$5+6,FALSE))","v":16},{"$f":"IF(HLOOKUP(AA$5,$B$6:$I$15,Points!$A5+1,FALSE)=\"TBD\",\"\",IF(VLOOKUP(HLOOKUP(AA$5,$B$6:$I$15,Points!$A5+1,FALSE),'Cars & Results'!$A$7:$BZ$317,2*AA$5+5)<=5,AA9*0.5,0))","v":0}]
[{"$f":"VLOOKUP(HLOOKUP('Pick Distribution'!$P$2,$B$6:$I$15,5),'Current Owner Standings'!$A$71:$B$480,2,FALSE)","v":20},20,6,6,48,41,41,41,41,{"$f":"IF(ISNA(VLOOKUP($I10,'Cars & Results'!$A$6:$I$317,J$5,FALSE)),\"Invalid Number\",VLOOKUP($I10,'Cars & Results'!$A$6:$K$317,J$5,FALSE))","v":"Cole Custer (R)"},{"$f":"IF(ISNA(VLOOKUP($I10,'Cars & Results'!$A$6:$I$317,K$5,FALSE)),\"Invalid Number\",VLOOKUP($I10,'Cars & Results'!$A$6:$K$317,K$5,FALSE))","v":"Ford"},{"$f":"IF(ISNA(VLOOKUP($I10,'Cars & Results'!$A$6:$I$317,L$5,FALSE)),\"Invalid Number\",VLOOKUP($I10,'Cars & Results'!$A$6:$K$317,L$5,FALSE))","v":"Stewart-Haas Racing"},{"$f":"IF(HLOOKUP(M$5,$B$6:$I$15,Points!$A6+1,FALSE)=\"TBD\",\"\",VLOOKUP(HLOOKUP(M$5,$B$6:$I$15,Points!$A6+1,FALSE),'Cars & Results'!$A$7:$BZ$317,2*M$5+6,FALSE))","v":37},{"$f":"IF(HLOOKUP(M$5,$B$6:$I$15,Points!$A6+1,FALSE)=\"TBD\",\"\",IF(VLOOKUP(HLOOKUP(M$5,$B$6:$I$15,Points!$A6+1,FALSE),'Cars & Results'!$A$7:$BZ$317,2*M$5+5)<=5,M10*0.5,0))","v":18.5},{"$f":"IF(HLOOKUP(O$5,$B$6:$I$15,Points!$A6+1,FALSE)=\"TBD\",\"\",VLOOKUP(HLOOKUP(O$5,$B$6:$I$15,Points!$A6+1,FALSE),'Cars & Results'!$A$7:$BZ$317,2*O$5+6,FALSE))","v":16},{"$f":"IF(HLOOKUP(O$5,$B$6:$I$15,Points!$A6+1,FALSE)=\"TBD\",\"\",IF(VLOOKUP(HLOOKUP(O$5,$B$6:$I$15,Points!$A6+1,FALSE),'Cars & Results'!$A$7:$BZ$317,2*O$5+5)<=5,O10*0.5,0))","v":0},{"$f":"IF(HLOOKUP(Q$5,$B$6:$I$15,Points!$A6+1,FALSE)=\"TBD\",\"\",VLOOKUP(HLOOKUP(Q$5,$B$6:$I$15,Points!$A6+1,FALSE),'Cars & Results'!$A$7:$BZ$317,2*Q$5+6,FALSE))","v":9},{"$f":"IF(HLOOKUP(Q$5,$B$6:$I$15,Points!$A6+1,FALSE)=\"TBD\",\"\",IF(VLOOKUP(HLOOKUP(Q$5,$B$6:$I$15,Points!$A6+1,FALSE),'Cars & Results'!$A$7:$BZ$317,2*Q$5+5)<=5,Q10*0.5,0))","v":0},{"$f":"IF(HLOOKUP(S$5,$B$6:$I$15,Points!$A6+1,FALSE)=\"TBD\",\"\",VLOOKUP(HLOOKUP(S$5,$B$6:$I$15,Points!$A6+1,FALSE),'Cars & Results'!$A$7:$BZ$317,2*S$5+6,FALSE))","v":26},{"$f":"IF(HLOOKUP(S$5,$B$6:$I$15,Points!$A6+1,FALSE)=\"TBD\",\"\",IF(VLOOKUP(HLOOKUP(S$5,$B$6:$I$15,Points!$A6+1,FALSE),'Cars & Results'!$A$7:$BZ$317,2*S$5+5)<=5,S10*0.5,0))","v":0},{"$f":"IF(HLOOKUP(U$5,$B$6:$I$15,Points!$A6+1,FALSE)=\"TBD\",\"\",VLOOKUP(HLOOKUP(U$5,$B$6:$I$15,Points!$A6+1,FALSE),'Cars & Results'!$A$7:$BZ$317,2*U$5+6,FALSE))","v":17},{"$f":"IF(HLOOKUP(U$5,$B$6:$I$15,Points!$A6+1,FALSE)=\"TBD\",\"\",IF(VLOOKUP(HLOOKUP(U$5,$B$6:$I$15,Points!$A6+1,FALSE),'Cars & Results'!$A$7:$BZ$317,2*U$5+5)<=5,U10*0.5,0))","v":0},{"$f":"IF(HLOOKUP(W$5,$B$6:$I$15,Points!$A6+1,FALSE)=\"TBD\",\"\",VLOOKUP(HLOOKUP(W$5,$B$6:$I$15,Points!$A6+1,FALSE),'Cars & Results'!$A$7:$BZ$317,2*W$5+6,FALSE))","v":26},{"$f":"IF(HLOOKUP(W$5,$B$6:$I$15,Points!$A6+1,FALSE)=\"TBD\",\"\",IF(VLOOKUP(HLOOKUP(W$5,$B$6:$I$15,Points!$A6+1,FALSE),'Cars & Results'!$A$7:$BZ$317,2*W$5+5)<=5,W10*0.5,0))","v":0},{"$f":"IF(HLOOKUP(Y$5,$B$6:$I$15,Points!$A6+1,FALSE)=\"TBD\",\"\",VLOOKUP(HLOOKUP(Y$5,$B$6:$I$15,Points!$A6+1,FALSE),'Cars & Results'!$A$7:$BZ$317,2*Y$5+6,FALSE))","v":30},{"$f":"IF(HLOOKUP(Y$5,$B$6:$I$15,Points!$A6+1,FALSE)=\"TBD\",\"\",IF(VLOOKUP(HLOOKUP(Y$5,$B$6:$I$15,Points!$A6+1,FALSE),'Cars & Results'!$A$7:$BZ$317,2*Y$5+5)<=5,Y10*0.5,0))","v":0},{"$f":"IF(HLOOKUP(AA$5,$B$6:$I$15,Points!$A6+1,FALSE)=\"TBD\",\"\",VLOOKUP(HLOOKUP(AA$5,$B$6:$I$15,Points!$A6+1,FALSE),'Cars & Results'!$A$7:$BZ$317,2*AA$5+6,FALSE))","v":7},{"$f":"IF(HLOOKUP(AA$5,$B$6:$I$15,Points!$A6+1,FALSE)=\"TBD\",\"\",IF(VLOOKUP(HLOOKUP(AA$5,$B$6:$I$15,Points!$A6+1,FALSE),'Cars & Results'!$A$7:$BZ$317,2*AA$5+5)<=5,AA10*0.5,0))","v":0}]
[{"$f":"VLOOKUP(HLOOKUP('Pick Distribution'!$P$2,$B$6:$I$15,6),'Current Owner Standings'!$A$71:$B$480,2,FALSE)","v":24},41,95,47,47,38,6,6,6,{"$f":"IF(ISNA(VLOOKUP($I11,'Cars & Results'!$A$6:$I$317,J$5,FALSE)),\"Invalid Number\",VLOOKUP($I11,'Cars & Results'!$A$6:$K$317,J$5,FALSE))","v":"Ryan Newman"},{"$f":"IF(ISNA(VLOOKUP($I11,'Cars & Results'!$A$6:$I$317,K$5,FALSE)),\"Invalid Number\",VLOOKUP($I11,'Cars & Results'!$A$6:$K$317,K$5,FALSE))","v":"Ford"},{"$f":"IF(ISNA(VLOOKUP($I11,'Cars & Results'!$A$6:$I$317,L$5,FALSE)),\"Invalid Number\",VLOOKUP($I11,'Cars & Results'!$A$6:$K$317,L$5,FALSE))","v":"Roush Fenway Racing"},{"$f":"IF(HLOOKUP(M$5,$B$6:$I$15,Points!$A7+1,FALSE)=\"TBD\",\"\",VLOOKUP(HLOOKUP(M$5,$B$6:$I$15,Points!$A7+1,FALSE),'Cars & Results'!$A$7:$BZ$317,2*M$5+6,FALSE))","v":30},{"$f":"IF(HLOOKUP(M$5,$B$6:$I$15,Points!$A7+1,FALSE)=\"TBD\",\"\",IF(VLOOKUP(HLOOKUP(M$5,$B$6:$I$15,Points!$A7+1,FALSE),'Cars & Results'!$A$7:$BZ$317,2*M$5+5)<=10,M11*1.5,0))","v":45},{"$f":"IF(HLOOKUP(O$5,$B$6:$I$15,Points!$A7+1,FALSE)=\"TBD\",\"\",VLOOKUP(HLOOKUP(O$5,$B$6:$I$15,Points!$A7+1,FALSE),'Cars & Results'!$A$7:$BZ$317,2*O$5+6,FALSE))","v":16},{"$f":"IF(HLOOKUP(O$5,$B$6:$I$15,Points!$A7+1,FALSE)=\"TBD\",\"\",IF(VLOOKUP(HLOOKUP(O$5,$B$6:$I$15,Points!$A7+1,FALSE),'Cars & Results'!$A$7:$BZ$317,2*O$5+5)<=10,O11*1.5,0))","v":0},{"$f":"IF(HLOOKUP(Q$5,$B$6:$I$15,Points!$A7+1,FALSE)=\"TBD\",\"\",VLOOKUP(HLOOKUP(Q$5,$B$6:$I$15,Points!$A7+1,FALSE),'Cars & Results'!$A$7:$BZ$317,2*Q$5+6,FALSE))","v":6},{"$f":"IF(HLOOKUP(Q$5,$B$6:$I$15,Points!$A7+1,FALSE)=\"TBD\",\"\",IF(VLOOKUP(HLOOKUP(Q$5,$B$6:$I$15,Points!$A7+1,FALSE),'Cars & Results'!$A$7:$BZ$317,2*Q$5+5)<=10,Q11*1.5,0))","v":0},{"$f":"IF(HLOOKUP(S$5,$B$6:$I$15,Points!$A7+1,FALSE)=\"TBD\",\"\",VLOOKUP(HLOOKUP(S$5,$B$6:$I$15,Points!$A7+1,FALSE),'Cars & Results'!$A$7:$BZ$317,2*S$5+6,FALSE))","v":18},{"$f":"IF(HLOOKUP(S$5,$B$6:$I$15,Points!$A7+1,FALSE)=\"TBD\",\"\",IF(VLOOKUP(HLOOKUP(S$5,$B$6:$I$15,Points!$A7+1,FALSE),'Cars & Results'!$A$7:$BZ$317,2*S$5+5)<=10,S11*1.5,0))","v":0},{"$f":"IF(HLOOKUP(U$5,$B$6:$I$15,Points!$A7+1,FALSE)=\"TBD\",\"\",VLOOKUP(HLOOKUP(U$5,$B$6:$I$15,Points!$A7+1,FALSE),'Cars & Results'!$A$7:$BZ$317,2*U$5+6,FALSE))","v":2},{"$f":"IF(HLOOKUP(U$5,$B$6:$I$15,Points!$A7+1,FALSE)=\"TBD\",\"\",IF(VLOOKUP(HLOOKUP(U$5,$B$6:$I$15,Points!$A7+1,FALSE),'Cars & Results'!$A$7:$BZ$317,2*U$5+5)<=10,U11*1.5,0))","v":0},{"$f":"IF(HLOOKUP(W$5,$B$6:$I$15,Points!$A7+1,FALSE)=\"TBD\",\"\",VLOOKUP(HLOOKUP(W$5,$B$6:$I$15,Points!$A7+1,FALSE),'Cars & Results'!$A$7:$BZ$317,2*W$5+6,FALSE))","v":18},{"$f":"IF(HLOOKUP(W$5,$B$6:$I$15,Points!$A7+1,FALSE)=\"TBD\",\"\",IF(VLOOKUP(HLOOKUP(W$5,$B$6:$I$15,Points!$A7+1,FALSE),'Cars & Results'!$A$7:$BZ$317,2*W$5+5)<=10,W11*1.5,0))","v":0},{"$f":"IF(HLOOKUP(Y$5,$B$6:$I$15,Points!$A7+1,FALSE)=\"TBD\",\"\",VLOOKUP(HLOOKUP(Y$5,$B$6:$I$15,Points!$A7+1,FALSE),'Cars & Results'!$A$7:$BZ$317,2*Y$5+6,FALSE))","v":13},{"$f":"IF(HLOOKUP(Y$5,$B$6:$I$15,Points!$A7+1,FALSE)=\"TBD\",\"\",IF(VLOOKUP(HLOOKUP(Y$5,$B$6:$I$15,Points!$A7+1,FALSE),'Cars & Results'!$A$7:$BZ$317,2*Y$5+5)<=10,Y11*1.5,0))","v":0},{"$f":"IF(HLOOKUP(AA$5,$B$6:$I$15,Points!$A7+1,FALSE)=\"TBD\",\"\",VLOOKUP(HLOOKUP(AA$5,$B$6:$I$15,Points!$A7+1,FALSE),'Cars & Results'!$A$7:$BZ$317,2*AA$5+6,FALSE))","v":1},{"$f":"IF(HLOOKUP(AA$5,$B$6:$I$15,Points!$A7+1,FALSE)=\"TBD\",\"\",IF(VLOOKUP(HLOOKUP(AA$5,$B$6:$I$15,Points!$A7+1,FALSE),'Cars & Results'!$A$7:$BZ$317,2*AA$5+5)<=10,AA11*1.5,0))","v":0}]
[{"$f":"VLOOKUP(HLOOKUP('Pick Distribution'!$P$2,$B$6:$I$15,7),'Current Owner Standings'!$A$71:$B$480,2,FALSE)","v":26},47,38,38,17,17,34,34,34,{"$f":"IF(ISNA(VLOOKUP($I12,'Cars & Results'!$A$6:$I$317,J$5,FALSE)),\"Invalid Number\",VLOOKUP($I12,'Cars & Results'!$A$6:$K$317,J$5,FALSE))","v":"Michael McDowell"},{"$f":"IF(ISNA(VLOOKUP($I12,'Cars & Results'!$A$6:$I$317,K$5,FALSE)),\"Invalid Number\",VLOOKUP($I12,'Cars & Results'!$A$6:$K$317,K$5,FALSE))","v":"Ford"},{"$f":"IF(ISNA(VLOOKUP($I12,'Cars & Results'!$A$6:$I$317,L$5,FALSE)),\"Invalid Number\",VLOOKUP($I12,'Cars & Results'!$A$6:$K$317,L$5,FALSE))","v":"Front Row Motorsports"},{"$f":"IF(HLOOKUP(M$5,$B$6:$I$15,Points!$A8+1,FALSE)=\"TBD\",\"\",VLOOKUP(HLOOKUP(M$5,$B$6:$I$15,Points!$A8+1,FALSE),'Cars & Results'!$A$7:$BZ$317,2*M$5+6,FALSE))","v":1},{"$f":"IF(HLOOKUP(M$5,$B$6:$I$15,Points!$A8+1,FALSE)=\"TBD\",\"\",IF(VLOOKUP(HLOOKUP(M$5,$B$6:$I$15,Points!$A8+1,FALSE),'Cars & Results'!$A$7:$BZ$317,2*M$5+5)<=10,M12*1.5,0))","v":0},{"$f":"IF(HLOOKUP(O$5,$B$6:$I$15,Points!$A8+1,FALSE)=\"TBD\",\"\",VLOOKUP(HLOOKUP(O$5,$B$6:$I$15,Points!$A8+1,FALSE),'Cars & Results'!$A$7:$BZ$317,2*O$5+6,FALSE))","v":1},{"$f":"IF(HLOOKUP(O$5,$B$6:$I$15,Points!$A8+1,FALSE)=\"TBD\",\"\",IF(VLOOKUP(HLOOKUP(O$5,$B$6:$I$15,Points!$A8+1,FALSE),'Cars & Results'!$A$7:$BZ$317,2*O$5+5)<=10,O12*1.5,0))","v":0},{"$f":"IF(HLOOKUP(Q$5,$B$6:$I$15,Points!$A8+1,FALSE)=\"TBD\",\"\",VLOOKUP(HLOOKUP(Q$5,$B$6:$I$15,Points!$A8+1,FALSE),'Cars & Results'!$A$7:$BZ$317,2*Q$5+6,FALSE))","v":1},{"$f":"IF(HLOOKUP(Q$5,$B$6:$I$15,Points!$A8+1,FALSE)=\"TBD\",\"\",IF(VLOOKUP(HLOOKUP(Q$5,$B$6:$I$15,Points!$A8+1,FALSE),'Cars & Results'!$A$7:$BZ$317,2*Q$5+5)<=10,Q12*1.5,0))","v":0},{"$f":"IF(HLOOKUP(S$5,$B$6:$I$15,Points!$A8+1,FALSE)=\"TBD\",\"\",VLOOKUP(HLOOKUP(S$5,$B$6:$I$15,Points!$A8+1,FALSE),'Cars & Results'!$A$7:$BZ$317,2*S$5+6,FALSE))","v":17},{"$f":"IF(HLOOKUP(S$5,$B$6:$I$15,Points!$A8+1,FALSE)=\"TBD\",\"\",IF(VLOOKUP(HLOOKUP(S$5,$B$6:$I$15,Points!$A8+1,FALSE),'Cars & Results'!$A$7:$BZ$317,2*S$5+5)<=10,S12*1.5,0))","v":0},{"$f":"IF(HLOOKUP(U$5,$B$6:$I$15,Points!$A8+1,FALSE)=\"TBD\",\"\",VLOOKUP(HLOOKUP(U$5,$B$6:$I$15,Points!$A8+1,FALSE),'Cars & Results'!$A$7:$BZ$317,2*U$5+6,FALSE))","v":32},{"$f":"IF(HLOOKUP(U$5,$B$6:$I$15,Points!$A8+1,FALSE)=\"TBD\",\"\",IF(VLOOKUP(HLOOKUP(U$5,$B$6:$I$15,Points!$A8+1,FALSE),'Cars & Results'!$A$7:$BZ$317,2*U$5+5)<=10,U12*1.5,0))","v":48},{"$f":"IF(HLOOKUP(W$5,$B$6:$I$15,Points!$A8+1,FALSE)=\"TBD\",\"\",VLOOKUP(HLOOKUP(W$5,$B$6:$I$15,Points!$A8+1,FALSE),'Cars & Results'!$A$7:$BZ$317,2*W$5+6,FALSE))","v":11},{"$f":"IF(HLOOKUP(W$5,$B$6:$I$15,Points!$A8+1,FALSE)=\"TBD\",\"\",IF(VLOOKUP(HLOOKUP(W$5,$B$6:$I$15,Points!$A8+1,FALSE),'Cars & Results'!$A$7:$BZ$317,2*W$5+5)<=10,W12*1.5,0))","v":0},{"$f":"IF(HLOOKUP(Y$5,$B$6:$I$15,Points!$A8+1,FALSE)=\"TBD\",\"\",VLOOKUP(HLOOKUP(Y$5,$B$6:$I$15,Points!$A8+1,FALSE),'Cars & Results'!$A$7:$BZ$317,2*Y$5+6,FALSE))","v":12},{"$f":"IF(HLOOKUP(Y$5,$B$6:$I$15,Points!$A8+1,FALSE)=\"TBD\",\"\",IF(VLOOKUP(HLOOKUP(Y$5,$B$6:$I$15,Points!$A8+1,FALSE),'Cars & Results'!$A$7:$BZ$317,2*Y$5+5)<=10,Y12*1.5,0))","v":0},{"$f":"IF(HLOOKUP(AA$5,$B$6:$I$15,Points!$A8+1,FALSE)=\"TBD\",\"\",VLOOKUP(HLOOKUP(AA$5,$B$6:$I$15,Points!$A8+1,FALSE),'Cars & Results'!$A$7:$BZ$317,2*AA$5+6,FALSE))","v":26},{"$f":"IF(HLOOKUP(AA$5,$B$6:$I$15,Points!$A8+1,FALSE)=\"TBD\",\"\",IF(VLOOKUP(HLOOKUP(AA$5,$B$6:$I$15,Points!$A8+1,FALSE),'Cars & Results'!$A$7:$BZ$317,2*AA$5+5)<=10,AA12*1.5,0))","v":0}]
[{"$f":"VLOOKUP(HLOOKUP('Pick Distribution'!$P$2,$B$6:$I$15,8),'Current Owner Standings'!$A$71:$B$480,2,FALSE)","v":31},96,37,96,96,96,96,96,96,{"$f":"IF(ISNA(VLOOKUP($I13,'Cars & Results'!$A$6:$I$317,J$5,FALSE)),\"Invalid Number\",VLOOKUP($I13,'Cars & Results'!$A$6:$K$317,J$5,FALSE))","v":"Daniel Suárez"},{"$f":"IF(ISNA(VLOOKUP($I13,'Cars & Results'!$A$6:$I$317,K$5,FALSE)),\"Invalid Number\",VLOOKUP($I13,'Cars & Results'!$A$6:$K$317,K$5,FALSE))","v":"Toyota"},{"$f":"IF(ISNA(VLOOKUP($I13,'Cars & Results'!$A$6:$I$317,L$5,FALSE)),\"Invalid Number\",VLOOKUP($I13,'Cars & Results'!$A$6:$K$317,L$5,FALSE))","v":"Gaunt Brothers Racing"},{"$f":"IF(HLOOKUP(M$5,$B$6:$I$15,Points!$A9+1,FALSE)=\"TBD\",\"\",VLOOKUP(HLOOKUP(M$5,$B$6:$I$15,Points!$A9+1,FALSE),'Cars & Results'!$A$7:$BZ$317,2*M$5+6,FALSE))","v":19},{"$f":"IF(HLOOKUP(M$5,$B$6:$I$15,Points!$A9+1,FALSE)=\"TBD\",\"\",IF(VLOOKUP(HLOOKUP(M$5,$B$6:$I$15,Points!$A9+1,FALSE),'Cars & Results'!$A$7:$BZ$317,2*M$5+5)<=10,M13*2,0))","v":0},{"$f":"IF(HLOOKUP(O$5,$B$6:$I$15,Points!$A9+1,FALSE)=\"TBD\",\"\",VLOOKUP(HLOOKUP(O$5,$B$6:$I$15,Points!$A9+1,FALSE),'Cars & Results'!$A$7:$BZ$317,2*O$5+6,FALSE))","v":23},{"$f":"IF(HLOOKUP(O$5,$B$6:$I$15,Points!$A9+1,FALSE)=\"TBD\",\"\",IF(VLOOKUP(HLOOKUP(O$5,$B$6:$I$15,Points!$A9+1,FALSE),'Cars & Results'!$A$7:$BZ$317,2*O$5+5)<=10,O13*2,0))","v":0},{"$f":"IF(HLOOKUP(Q$5,$B$6:$I$15,Points!$A9+1,FALSE)=\"TBD\",\"\",VLOOKUP(HLOOKUP(Q$5,$B$6:$I$15,Points!$A9+1,FALSE),'Cars & Results'!$A$7:$BZ$317,2*Q$5+6,FALSE))","v":13},{"$f":"IF(HLOOKUP(Q$5,$B$6:$I$15,Points!$A9+1,FALSE)=\"TBD\",\"\",IF(VLOOKUP(HLOOKUP(Q$5,$B$6:$I$15,Points!$A9+1,FALSE),'Cars & Results'!$A$7:$BZ$317,2*Q$5+5)<=10,Q13*2,0))","v":0},{"$f":"IF(HLOOKUP(S$5,$B$6:$I$15,Points!$A9+1,FALSE)=\"TBD\",\"\",VLOOKUP(HLOOKUP(S$5,$B$6:$I$15,Points!$A9+1,FALSE),'Cars & Results'!$A$7:$BZ$317,2*S$5+6,FALSE))","v":11},{"$f":"IF(HLOOKUP(S$5,$B$6:$I$15,Points!$A9+1,FALSE)=\"TBD\",\"\",IF(VLOOKUP(HLOOKUP(S$5,$B$6:$I$15,Points!$A9+1,FALSE),'Cars & Results'!$A$7:$BZ$317,2*S$5+5)<=10,S13*2,0))","v":0},{"$f":"IF(HLOOKUP(U$5,$B$6:$I$15,Points!$A9+1,FALSE)=\"TBD\",\"\",VLOOKUP(HLOOKUP(U$5,$B$6:$I$15,Points!$A9+1,FALSE),'Cars & Results'!$A$7:$BZ$317,2*U$5+6,FALSE))","v":10},{"$f":"IF(HLOOKUP(U$5,$B$6:$I$15,Points!$A9+1,FALSE)=\"TBD\",\"\",IF(VLOOKUP(HLOOKUP(U$5,$B$6:$I$15,Points!$A9+1,FALSE),'Cars & Results'!$A$7:$BZ$317,2*U$5+5)<=10,U13*2,0))","v":0},{"$f":"IF(HLOOKUP(W$5,$B$6:$I$15,Points!$A9+1,FALSE)=\"TBD\",\"\",VLOOKUP(HLOOKUP(W$5,$B$6:$I$15,Points!$A9+1,FALSE),'Cars & Results'!$A$7:$BZ$317,2*W$5+6,FALSE))","v":7},{"$f":"IF(HLOOKUP(W$5,$B$6:$I$15,Points!$A9+1,FALSE)=\"TBD\",\"\",IF(VLOOKUP(HLOOKUP(W$5,$B$6:$I$15,Points!$A9+1,FALSE),'Cars & Results'!$A$7:$BZ$317,2*W$5+5)<=10,W13*2,0))","v":0},{"$f":"IF(HLOOKUP(Y$5,$B$6:$I$15,Points!$A9+1,FALSE)=\"TBD\",\"\",VLOOKUP(HLOOKUP(Y$5,$B$6:$I$15,Points!$A9+1,FALSE),'Cars & Results'!$A$7:$BZ$317,2*Y$5+6,FALSE))","v":9},{"$f":"IF(HLOOKUP(Y$5,$B$6:$I$15,Points!$A9+1,FALSE)=\"TBD\",\"\",IF(VLOOKUP(HLOOKUP(Y$5,$B$6:$I$15,Points!$A9+1,FALSE),'Cars & Results'!$A$7:$BZ$317,2*Y$5+5)<=10,Y13*2,0))","v":0},{"$f":"IF(HLOOKUP(AA$5,$B$6:$I$15,Points!$A9+1,FALSE)=\"TBD\",\"\",VLOOKUP(HLOOKUP(AA$5,$B$6:$I$15,Points!$A9+1,FALSE),'Cars & Results'!$A$7:$BZ$317,2*AA$5+6,FALSE))","v":11},{"$f":"IF(HLOOKUP(AA$5,$B$6:$I$15,Points!$A9+1,FALSE)=\"TBD\",\"\",IF(VLOOKUP(HLOOKUP(AA$5,$B$6:$I$15,Points!$A9+1,FALSE),'Cars & Results'!$A$7:$BZ$317,2*AA$5+5)<=10,AA13*2,0))","v":0}]
[{"$f":"VLOOKUP(HLOOKUP('Pick Distribution'!$P$2,$B$6:$I$15,9),'Current Owner Standings'!$A$71:$B$480,2,FALSE)","v":37},66,66,66,66,66,66,66,66,{"$f":"IF(ISNA(VLOOKUP($I14,'Cars & Results'!$A$6:$I$317,J$5,FALSE)),\"Invalid Number\",VLOOKUP($I14,'Cars & Results'!$A$6:$K$317,J$5,FALSE))","v":"Timmy Hill (i)"},{"$f":"IF(ISNA(VLOOKUP($I14,'Cars & Results'!$A$6:$I$317,K$5,FALSE)),\"Invalid Number\",VLOOKUP($I14,'Cars & Results'!$A$6:$K$317,K$5,FALSE))","v":"Toyota"},{"$f":"IF(ISNA(VLOOKUP($I14,'Cars & Results'!$A$6:$I$317,L$5,FALSE)),\"Invalid Number\",VLOOKUP($I14,'Cars & Results'!$A$6:$K$317,L$5,FALSE))","v":"MBM Motorsports"},{"$f":"IF(HLOOKUP(M$5,$B$6:$I$15,Points!$A10+1,FALSE)=\"TBD\",\"\",VLOOKUP(HLOOKUP(M$5,$B$6:$I$15,Points!$A10+1,FALSE),'Cars & Results'!$A$7:$BZ$317,2*M$5+6,FALSE))","v":0},{"$f":"IF(HLOOKUP(M$5,$B$6:$I$15,Points!$A10+1,FALSE)=\"TBD\",\"\",IF(VLOOKUP(HLOOKUP(M$5,$B$6:$I$15,Points!$A10+1,FALSE),'Cars & Results'!$A$7:$BZ$317,2*M$5+5)<=10,M14*3,0))","v":0},{"$f":"IF(HLOOKUP(O$5,$B$6:$I$15,Points!$A10+1,FALSE)=\"TBD\",\"\",VLOOKUP(HLOOKUP(O$5,$B$6:$I$15,Points!$A10+1,FALSE),'Cars & Results'!$A$7:$BZ$317,2*O$5+6,FALSE))","v":4},{"$f":"IF(HLOOKUP(O$5,$B$6:$I$15,Points!$A10+1,FALSE)=\"TBD\",\"\",IF(VLOOKUP(HLOOKUP(O$5,$B$6:$I$15,Points!$A10+1,FALSE),'Cars & Results'!$A$7:$BZ$317,2*O$5+5)<=10,O14*3,0))","v":0},{"$f":"IF(HLOOKUP(Q$5,$B$6:$I$15,Points!$A10+1,FALSE)=\"TBD\",\"\",VLOOKUP(HLOOKUP(Q$5,$B$6:$I$15,Points!$A10+1,FALSE),'Cars & Results'!$A$7:$BZ$317,2*Q$5+6,FALSE))","v":4},{"$f":"IF(HLOOKUP(Q$5,$B$6:$I$15,Points!$A10+1,FALSE)=\"TBD\",\"\",IF(VLOOKUP(HLOOKUP(Q$5,$B$6:$I$15,Points!$A10+1,FALSE),'Cars & Results'!$A$7:$BZ$317,2*Q$5+5)<=10,Q14*3,0))","v":0},{"$f":"IF(HLOOKUP(S$5,$B$6:$I$15,Points!$A10+1,FALSE)=\"TBD\",\"\",VLOOKUP(HLOOKUP(S$5,$B$6:$I$15,Points!$A10+1,FALSE),'Cars & Results'!$A$7:$BZ$317,2*S$5+6,FALSE))","v":2},{"$f":"IF(HLOOKUP(S$5,$B$6:$I$15,Points!$A10+1,FALSE)=\"TBD\",\"\",IF(VLOOKUP(HLOOKUP(S$5,$B$6:$I$15,Points!$A10+1,FALSE),'Cars & Results'!$A$7:$BZ$317,2*S$5+5)<=10,S14*3,0))","v":0},{"$f":"IF(HLOOKUP(U$5,$B$6:$I$15,Points!$A10+1,FALSE)=\"TBD\",\"\",VLOOKUP(HLOOKUP(U$5,$B$6:$I$15,Points!$A10+1,FALSE),'Cars & Results'!$A$7:$BZ$317,2*U$5+6,FALSE))","v":8},{"$f":"IF(HLOOKUP(U$5,$B$6:$I$15,Points!$A10+1,FALSE)=\"TBD\",\"\",IF(VLOOKUP(HLOOKUP(U$5,$B$6:$I$15,Points!$A10+1,FALSE),'Cars & Results'!$A$7:$BZ$317,2*U$5+5)<=10,U14*3,0))","v":0},{"$f":"IF(HLOOKUP(W$5,$B$6:$I$15,Points!$A10+1,FALSE)=\"TBD\",\"\",VLOOKUP(HLOOKUP(W$5,$B$6:$I$15,Points!$A10+1,FALSE),'Cars & Results'!$A$7:$BZ$317,2*W$5+6,FALSE))","v":3},{"$f":"IF(HLOOKUP(W$5,$B$6:$I$15,Points!$A10+1,FALSE)=\"TBD\",\"\",IF(VLOOKUP(HLOOKUP(W$5,$B$6:$I$15,Points!$A10+1,FALSE),'Cars & Results'!$A$7:$BZ$317,2*W$5+5)<=10,W14*3,0))","v":0},{"$f":"IF(HLOOKUP(Y$5,$B$6:$I$15,Points!$A10+1,FALSE)=\"TBD\",\"\",VLOOKUP(HLOOKUP(Y$5,$B$6:$I$15,Points!$A10+1,FALSE),'Cars & Results'!$A$7:$BZ$317,2*Y$5+6,FALSE))","v":1},{"$f":"IF(HLOOKUP(Y$5,$B$6:$I$15,Points!$A10+1,FALSE)=\"TBD\",\"\",IF(VLOOKUP(HLOOKUP(Y$5,$B$6:$I$15,Points!$A10+1,FALSE),'Cars & Results'!$A$7:$BZ$317,2*Y$5+5)<=10,Y14*3,0))","v":0},{"$f":"IF(HLOOKUP(AA$5,$B$6:$I$15,Points!$A10+1,FALSE)=\"TBD\",\"\",VLOOKUP(HLOOKUP(AA$5,$B$6:$I$15,Points!$A10+1,FALSE),'Cars & Results'!$A$7:$BZ$317,2*AA$5+6,FALSE))","v":13},{"$f":"IF(HLOOKUP(AA$5,$B$6:$I$15,Points!$A10+1,FALSE)=\"TBD\",\"\",IF(VLOOKUP(HLOOKUP(AA$5,$B$6:$I$15,Points!$A10+1,FALSE),'Cars & Results'!$A$7:$BZ$317,2*AA$5+5)<=10,AA14*3,0))","v":0}]
[{"$f":"VLOOKUP(HLOOKUP('Pick Distribution'!$P$2,$B$6:$I$15,10),'Current Owner Standings'!$A$71:$B$480,2,FALSE)","v":5},4,11,9,2,14,19,47,22,{"$f":"IF(ISNA(VLOOKUP($I15,'Cars & Results'!$A$6:$I$317,J$5,FALSE)),\"Invalid Number\",VLOOKUP($I15,'Cars & Results'!$A$6:$K$317,J$5,FALSE))","v":"Joey Logano"},{"$f":"IF(ISNA(VLOOKUP($I15,'Cars & Results'!$A$6:$I$317,K$5,FALSE)),\"Invalid Number\",VLOOKUP($I15,'Cars & Results'!$A$6:$K$317,K$5,FALSE))","v":"Ford"},{"$f":"IF(ISNA(VLOOKUP($I15,'Cars & Results'!$A$6:$I$317,L$5,FALSE)),\"Invalid Number\",VLOOKUP($I15,'Cars & Results'!$A$6:$K$317,L$5,FALSE))","v":"Team Penske"},{"$f":"IF(HLOOKUP(M$5,$B$6:$I$15,Points!$A11+1,FALSE)=\"TBD\",\"\",VLOOKUP(HLOOKUP(M$5,$B$6:$I$15,Points!$A11+1,FALSE),'Cars & Results'!$A$7:$BZ$317,2*M$5+6,FALSE))","v":42},0,{"$f":"IF(HLOOKUP(O$5,$B$6:$I$15,Points!$A11+1,FALSE)=\"TBD\",\"\",VLOOKUP(HLOOKUP(O$5,$B$6:$I$15,Points!$A11+1,FALSE),'Cars & Results'!$A$7:$BZ$317,2*O$5+6,FALSE))","v":54},54,{"$f":"IF(HLOOKUP(Q$5,$B$6:$I$15,Points!$A11+1,FALSE)=\"TBD\",\"\",VLOOKUP(HLOOKUP(Q$5,$B$6:$I$15,Points!$A11+1,FALSE),'Cars & Results'!$A$7:$BZ$317,2*Q$5+6,FALSE))","v":33},0,{"$f":"IF(HLOOKUP(S$5,$B$6:$I$15,Points!$A11+1,FALSE)=\"TBD\",\"\",VLOOKUP(HLOOKUP(S$5,$B$6:$I$15,Points!$A11+1,FALSE),'Cars & Results'!$A$7:$BZ$317,2*S$5+6,FALSE))","v":10},0,{"$f":"IF(HLOOKUP(U$5,$B$6:$I$15,Points!$A11+1,FALSE)=\"TBD\",\"\",VLOOKUP(HLOOKUP(U$5,$B$6:$I$15,Points!$A11+1,FALSE),'Cars & Results'!$A$7:$BZ$317,2*U$5+6,FALSE))","v":47},0,{"$f":"IF(HLOOKUP(W$5,$B$6:$I$15,Points!$A11+1,FALSE)=\"TBD\",\"\",VLOOKUP(HLOOKUP(W$5,$B$6:$I$15,Points!$A11+1,FALSE),'Cars & Results'!$A$7:$BZ$317,2*W$5+6,FALSE))","v":50},50,{"$f":"IF(HLOOKUP(Y$5,$B$6:$I$15,Points!$A11+1,FALSE)=\"TBD\",\"\",VLOOKUP(HLOOKUP(Y$5,$B$6:$I$15,Points!$A11+1,FALSE),'Cars & Results'!$A$7:$BZ$317,2*Y$5+6,FALSE))","v":1},0,{"$f":"IF(HLOOKUP(AA$5,$B$6:$I$15,Points!$A11+1,FALSE)=\"TBD\",\"\",VLOOKUP(HLOOKUP(AA$5,$B$6:$I$15,Points!$A11+1,FALSE),'Cars & Results'!$A$7:$BZ$317,2*AA$5+6,FALSE))","v":30},{"$f":"IF(HLOOKUP(AA$5,$B$6:$I$15,Points!$A11+1,FALSE)=\"TBD\",\"\",IF(AND(VLOOKUP(HLOOKUP(AA$5,$B$6:$I$15,Points!$A11+1,FALSE),'Cars & Results'!$A$7:$BZ$317,2*AA$5+5)<=3,$A$15<=25),AA15*1,IF(AND(VLOOKUP(HLOOKUP(AA$5,$B$6:$I$15,Points!$A11+1,FALSE),'Cars & Results'!$A$7:$BZ$317,2*AA$5+5)<=10,$A$15>25),AA15*3,0)))","v":0}]
[null,null,null,null,null,null,null,null,null,null,null,"Segment 1",null,{"$f":"IF(INDIRECT(ADDRESS(321,5+(M5*2),1,1,\"Cars & Results\"),TRUE)=\"Y\",IF(ISERROR(MATCH(INDIRECT(ADDRESS(318,5+(M5*2),1,1,\"Cars & Results\"),TRUE),B7:B15,0))=TRUE,0,10),\"\")","v":10},null,{"$f":"IF(INDIRECT(ADDRESS(321,5+(O5*2),1,1,\"Cars & Results\"),TRUE)=\"Y\",IF(ISERROR(MATCH(INDIRECT(ADDRESS(318,5+(O5*2),1,1,\"Cars & Results\"),TRUE),C7:C15,0))=TRUE,0,10),\"\")","v":10},null,{"$f":"IF(INDIRECT(ADDRESS(321,5+(Q5*2),1,1,\"Cars & Results\"),TRUE)=\"Y\",IF(ISERROR(MATCH(INDIRECT(ADDRESS(318,5+(Q5*2),1,1,\"Cars & Results\"),TRUE),D7:D15,0))=TRUE,0,10),\"\")","v":10},null,{"$f":"IF(INDIRECT(ADDRESS(321,5+(S5*2),1,1,\"Cars & Results\"),TRUE)=\"Y\",IF(ISERROR(MATCH(INDIRECT(ADDRESS(318,5+(S5*2),1,1,\"Cars & Results\"),TRUE),E7:E15,0))=TRUE,0,10),\"\")","v":0},null,{"$f":"IF(INDIRECT(ADDRESS(321,5+(U5*2),1,1,\"Cars & Results\"),TRUE)=\"Y\",IF(ISERROR(MATCH(INDIRECT(ADDRESS(318,5+(U5*2),1,1,\"Cars & Results\"),TRUE),F7:F15,0))=TRUE,0,10),\"\")","v":0},null,{"$f":"IF(INDIRECT(ADDRESS(321,5+(W5*2),1,1,\"Cars & Results\"),TRUE)=\"Y\",IF(ISERROR(MATCH(INDIRECT(ADDRESS(318,5+(W5*2),1,1,\"Cars & Results\"),TRUE),G7:G15,0))=TRUE,0,10),\"\")","v":0},null,{"$f":"IF(INDIRECT(ADDRESS(321,5+(Y5*2),1,1,\"Cars & Results\"),TRUE)=\"Y\",IF(ISERROR(MATCH(INDIRECT(ADDRESS(318,5+(Y5*2),1,1,\"Cars & Results\"),TRUE),H7:H15,0))=TRUE,0,10),\"\")","v":0},null,{"$f":"IF(INDIRECT(ADDRESS(321,5+(AA5*2),1,1,\"Cars & Results\"),TRUE)=\"Y\",IF(ISERROR(MATCH(INDIRECT(ADDRESS(318,5+(AA5*2),1,1,\"Cars & Results\"),TRUE),I7:I15,0))=TRUE,0,10),\"\")","v":10}]
[null,null,null,null,null,null,null,null,null,null,null,"Segment 2",null,{"$f":"IF(INDIRECT(ADDRESS(321,5+(M5*2),1,1,\"Cars & Results\"),TRUE)=\"Y\",IF(ISERROR(MATCH(INDIRECT(ADDRESS(319,5+(M5*2),1,1,\"Cars & Results\"),TRUE),B7:B15,0))=TRUE,0,10),\"\")","v":0},null,{"$f":"IF(INDIRECT(ADDRESS(321,5+(O5*2),1,1,\"Cars & Results\"),TRUE)=\"Y\",IF(ISERROR(MATCH(INDIRECT(ADDRESS(319,5+(O5*2),1,1,\"Cars & Results\"),TRUE),C7:C15,0))=TRUE,0,10),\"\")","v":0},null,{"$f":"IF(INDIRECT(ADDRESS(321,5+(Q5*2),1,1,\"Cars & Results\"),TRUE)=\"Y\",IF(ISERROR(MATCH(INDIRECT(ADDRESS(319,5+(Q5*2),1,1,\"Cars & Results\"),TRUE),D7:D15,0))=TRUE,0,10),\"\")","v":10},null,{"$f":"IF(INDIRECT(ADDRESS(321,5+(S5*2),1,1,\"Cars & Results\"),TRUE)=\"Y\",IF(ISERROR(MATCH(INDIRECT(ADDRESS(319,5+(S5*2),1,1,\"Cars & Results\"),TRUE),E7:E15,0))=TRUE,0,10),\"\")","v":10},null,{"$f":"IF(INDIRECT(ADDRESS(321,5+(U5*2),1,1,\"Cars & Results\"),TRUE)=\"Y\",IF(ISERROR(MATCH(INDIRECT(ADDRESS(319,5+(U5*2),1,1,\"Cars & Results\"),TRUE),F7:F15,0))=TRUE,0,10),\"\")","v":0},null,{"$f":"IF(INDIRECT(ADDRESS(321,5+(W5*2),1,1,\"Cars & Results\"),TRUE)=\"Y\",IF(ISERROR(MATCH(INDIRECT(ADDRESS(319,5+(W5*2),1,1,\"Cars & Results\"),TRUE),G7:G15,0))=TRUE,0,10),\"\")","v":0},null,{"$f":"IF(INDIRECT(ADDRESS(321,5+(Y5*2),1,1,\"Cars & Results\"),TRUE)=\"Y\",IF(ISERROR(MATCH(INDIRECT(ADDRESS(319,5+(Y5*2),1,1,\"Cars & Results\"),TRUE),H7:H15,0))=TRUE,0,10),\"\")","v":0},null,{"$f":"IF(INDIRECT(ADDRESS(321,5+(AA5*2),1,1,\"Cars & Results\"),TRUE)=\"Y\",IF(ISERROR(MATCH(INDIRECT(ADDRESS(319,5+(AA5*2),1,1,\"Cars & Results\"),TRUE),I7:I15,0))=TRUE,0,10),\"\")","v":10}]
[null,null,null,null,null,null,null,null,null,null,null,"Segment 3",null,{"$f":"IF(INDIRECT(ADDRESS(321,5+(M5*2),1,1,\"Cars & Results\"),TRUE)=\"Y\",IF(ISERROR(MATCH(INDIRECT(ADDRESS(320,5+(M5*2),1,1,\"Cars & Results\"),TRUE),B7:B15,0))=TRUE,0,15),\"\")","v":0},null,{"$f":"IF(INDIRECT(ADDRESS(321,5+(O5*2),1,1,\"Cars & Results\"),TRUE)=\"Y\",IF(ISERROR(MATCH(INDIRECT(ADDRESS(320,5+(O5*2),1,1,\"Cars & Results\"),TRUE),C7:C15,0))=TRUE,0,15),\"\")","v":0},null,{"$f":"IF(INDIRECT(ADDRESS(321,5+(Q5*2),1,1,\"Cars & Results\"),TRUE)=\"Y\",IF(ISERROR(MATCH(INDIRECT(ADDRESS(320,5+(Q5*2),1,1,\"Cars & Results\"),TRUE),D7:D15,0))=TRUE,0,15),\"\")","v":15},null,{"$f":"IF(INDIRECT(ADDRESS(321,5+(S5*2),1,1,\"Cars & Results\"),TRUE)=\"Y\",IF(ISERROR(MATCH(INDIRECT(ADDRESS(320,5+(S5*2),1,1,\"Cars & Results\"),TRUE),E7:E15,0))=TRUE,0,15),\"\")","v":15},null,{"$f":"IF(INDIRECT(ADDRESS(321,5+(U5*2),1,1,\"Cars & Results\"),TRUE)=\"Y\",IF(ISERROR(MATCH(INDIRECT(ADDRESS(320,5+(U5*2),1,1,\"Cars & Results\"),TRUE),F7:F15,0))=TRUE,0,15),\"\")","v":0},null,{"$f":"IF(INDIRECT(ADDRESS(321,5+(W5*2),1,1,\"Cars & Results\"),TRUE)=\"Y\",IF(ISERROR(MATCH(INDIRECT(ADDRESS(320,5+(W5*2),1,1,\"Cars & Results\"),TRUE),G7:G15,0))=TRUE,0,15),\"\")","v":0},null,{"$f":"IF(INDIRECT(ADDRESS(321,5+(Y5*2),1,1,\"Cars & Results\"),TRUE)=\"Y\",IF(ISERROR(MATCH(INDIRECT(ADDRESS(320,5+(Y5*2),1,1,\"Cars & Results\"),TRUE),H7:H15,0))=TRUE,0,15),\"\")","v":0},null,{"$f":"IF(INDIRECT(ADDRESS(321,5+(AA5*2),1,1,\"Cars & Results\"),TRUE)=\"Y\",IF(ISERROR(MATCH(INDIRECT(ADDRESS(320,5+(AA5*2),1,1,\"Cars & Results\"),TRUE),I7:I15,0))=TRUE,0,15),\"\")","v":0}]
[null,{"$f":"SUM(B7:B15)","v":319},332,326,340,302,326,327,302,null,null,null,{"$f":"SUM(M7:M15)","v":245},null,{"$f":"SUM(O7:O15)","v":162},null,{"$f":"SUM(Q7:Q15)","v":185},null,{"$f":"SUM(S7:S15)","v":208},null,{"$f":"SUM(U7:U15)","v":159},null,{"$f":"SUM(W7:W15)","v":212},null,{"$f":"SUM(Y7:Y15)","v":137},null,{"$f":"SUM(AA7:AA15)","v":145}]
[null,null,null,null,null,null,null,null,null,null,null,null,null,{"$f":"SUM(N7:N19)","v":73.5},null,{"$f":"SUM(P7:P19)","v":64},null,{"$f":"SUM(R7:R19)","v":35},null,{"$f":"SUM(T7:T19)","v":25},null,{"$f":"SUM(V7:V19)","v":48},null,{"$f":"SUM(X7:X19)","v":50},null,{"$f":"SUM(Z7:Z19)","v":0},null,{"$f":"SUM(AB7:AB19)","v":20}]
[null,null,null,null,null,null,null,null,null,null,null,"Race Total",{"$f":"M19+N20","v":318.5},null,{"$f":"O19+P20","v":226},null,{"$f":"Q19+R20","v":220},null,{"$f":"S19+T20","v":233},null,{"$f":"U19+V20","v":207},null,{"$f":"W19+X20","v":262},null,{"$f":"Y19+Z20","v":137},null,{"$f":"AA19+AB20","v":165},null,{"$f":"SUM(M21:AB21)","v":1768.5}]
[null,null,null,null,null,null,null,null,"1-8"]
[null,null,null,null,null,null,null,null,"9-16"]
[null,null,null,null,null,null,null,null,"17-23"]
[null,null,null,null,null,null,null,null,"24-30"]
[null,null,null,null,null,null,null,null,"31-35"]
[null,null,null,null,null,null,null,null,">35"]
[null,null,null,null,null,null,null,null,"Provisional"]

{"sheet":"Doug Gebauer","index":9,"n_rows":28,"n_cols":29,"rows_kept":28,"cut":false,"hidden":false,"merged":[[1,26,1,27],[2,26,2,27],[0,26,0,27],[4,26,4,27],[20,26,20,27],[3,26,3,27],[2,24,2,25],[3,12,3,13],[3,14,3,15],[3,16,3,17],[3,18,3,19],[3,20,3,21],[3,22,3,23],[3,24,3,25],[0,24,0,25],[1,12,1,13],[1,14,1,15],[1,16,1,17],[1,18,1,19],[1,20,1,21],[1,22,1,23],[1,24,1,25],[0,12,0,13],[0,14,0,15],[0,16,0,17],[0,18,0,19],[20,16,20,17],[20,18,20,19],[0,20,0,21],[0,22,0,23],[2,22,2,23],[4,22,4,23],[4,24,4,25],[20,22,20,23],[20,24,20,25],[2,12,2,13],[2,14,2,15],[2,16,2,17],[2,18,2,19],[2,20,2,21],[20,20,20,21],[4,12,4,13],[4,14,4,15],[4,16,4,17],[4,18,4,19],[4,20,4,21],[20,12,20,13],[20,14,20,15]]}
[null,null,null,null,null,null,null,null,null,null,null,null,{"$f":"VLOOKUP(M$5,Schedule!$A$8:$G$43,2,FALSE)","v":"2020-07-23"},null,{"$f":"VLOOKUP(O$5,Schedule!$A$8:$G$43,2,FALSE)","v":"2020-08-02"},null,{"$f":"VLOOKUP(Q$5,Schedule!$A$8:$G$43,2,FALSE)","v":"2020-08-08"},null,{"$f":"VLOOKUP(S$5,Schedule!$A$8:$G$43,2,FALSE)","v":"2020-08-09"},null,{"$f":"VLOOKUP(U$5,Schedule!$A$8:$G$43,2,FALSE)","v":"2020-08-16"},null,{"$f":"VLOOKUP(W$5,Schedule!$A$8:$G$43,2,FALSE)","v":"2020-08-22"},null,{"$f":"VLOOKUP(Y$5,Schedule!$A$8:$G$43,2,FALSE)","v":"2020-08-23"},null,{"$f":"VLOOKUP(AA$5,Schedule!$A$8:$G$43,2,FALSE)","v":"2020-08-29"}]
[null,null,null,null,null,null,null,null,null,null,null,null,{"$f":"VLOOKUP(M$5,Schedule!$A$8:$G$43,3,FALSE)","v":"Super Start Batteries 400"},null,{"$f":"VLOOKUP(O$5,Schedule!$A$8:$G$43,3,FALSE)","v":"Foxwoods Resort Casino 301"},null,{"$f":"VLOOKUP(Q$5,Schedule!$A$8:$G$43,3,FALSE)","v":"FireKeepers Casino 500"},null,{"$f":"VLOOKUP(S$5,Schedule!$A$8:$G$43,3,FALSE)","v":"Consumers Energy 500"},null,{"$f":"VLOOKUP(U$5,Schedule!$A$8:$G$43,3,FALSE)","v":"Go Bowling at The Glen"},null,{"$f":"VLOOKUP(W$5,Schedule!$A$8:$G$43,3,FALSE)","v":"Drydene 311 (Sat)"},null,{"$f":"VLOOKUP(Y$5,Schedule!$A$8:$G$43,3,FALSE)","v":"Drydene 311 (Sun)"},null,{"$f":"VLOOKUP(AA$5,Schedule!$A$8:$G$43,3,FALSE)","v":"Coke Zero Sugar 400"}]
[null,null,null,null,null,null,null,null,null,null,null,null,{"$f":"VLOOKUP(M$5,Schedule!$A$8:$G$43,2,FALSE)","v":"2020-07-23"},null,{"$f":"VLOOKUP(O$5,Schedule!$A$8:$G$43,2,FALSE)","v":"2020-08-02"},null,{"$f":"VLOOKUP(Q$5,Schedule!$A$8:$G$43,2,FALSE)","v":"2020-08-08"},null,{"$f":"VLOOKUP(S$5,Schedule!$A$8:$G$43,2,FALSE)","v":"2020-08-09"},null,{"$f":"VLOOKUP(U$5,Schedule!$A$8:$G$43,2,FALSE)","v":"2020-08-16"},null,{"$f":"VLOOKUP(W$5,Schedule!$A$8:$G$43,2,FALSE)","v":"2020-08-22"},null,{"$f":"VLOOKUP(Y$5,Schedule!$A$8:$G$43,2,FALSE)","v":"2020-08-23"},null,{"$f":"VLOOKUP(AA$5,Schedule!$A$8:$G$43,2,FALSE)","v":"2020-08-29"}]
[null,null,null,null,null,null,null,null,null,null,null,null,{"$f":"VLOOKUP(M$5,Schedule!$A$4:$G$43,5,FALSE)","v":"Kansas "},null,{"$f":"VLOOKUP(O$5,Schedule!$A$4:$G$43,5,FALSE)","v":"New Hamp"},null,{"$f":"VLOOKUP(Q$5,Schedule!$A$4:$G$43,5,FALSE)","v":"Michigan (Sat)"},null,{"$f":"VLOOKUP(S$5,Schedule!$A$4:$G$43,5,FALSE)","v":"Michigan (Sun)"},null,{"$f":"VLOOKUP(U$5,Schedule!$A$4:$G$43,5,FALSE)","v":"Daytona (Road)"},null,{"$f":"VLOOKUP(W$5,Schedule!$A$4:$G$43,5,FALSE)","v":"Dover (Sat)"},null,{"$f":"VLOOKUP(Y$5,Schedule!$A$4:$G$43,5,FALSE)","v":"Dover (Sun)"},null,{"$f":"VLOOKUP(AA$5,Schedule!$A$4:$G$43,5,FALSE)","v":"Daytona "}]
["Owner","Week","Week","Week","Week","Week","Week","Week","Week",2,3,4,19,null,20,null,21,null,22,null,23,null,24,null,25,null,26,null,"Total"]
["Points",19,20,21,22,23,24,25,26,"Driver","Make","Sponsor","Points","Bonus","Points","Bonus","Points","Bonus","Points","Bonus","Points","Bonus","Points","Bonus","Points","Bonus","Points","Bonus","Points"]
[{"$f":"VLOOKUP(HLOOKUP('Pick Distribution'!$P$2,$B$6:$I$15,$J$5),'Current Owner Standings'!$A$71:$B$480,2,FALSE)","v":2},4,4,4,4,9,4,4,11,{"$f":"IF(ISNA(VLOOKUP($I7,'Cars & Results'!$A$6:$I$317,J$5,FALSE)),\"Invalid Number\",VLOOKUP($I7,'Cars & Results'!$A$6:$K$317,J$5,FALSE))","v":"Denny Hamlin"},{"$f":"IF(ISNA(VLOOKUP($I7,'Cars & Results'!$A$6:$I$317,K$5,FALSE)),\"Invalid Number\",VLOOKUP($I7,'Cars & Results'!$A$6:$K$317,K$5,FALSE))","v":"Toyota"},{"$f":"IF(ISNA(VLOOKUP($I7,'Cars & Results'!$A$6:$I$317,L$5,FALSE)),\"Invalid Number\",VLOOKUP($I7,'Cars & Results'!$A$6:$K$317,L$5,FALSE))","v":"Joe Gibbs Racing"},{"$f":"IF(HLOOKUP(M$5,$B$6:$I$15,Points!$A3+1,FALSE)=\"TBD\",\"\",VLOOKUP(HLOOKUP(M$5,$B$6:$I$15,Points!$A3+1,FALSE),'Cars & Results'!$A$7:$BZ$317,2*M$5+6,FALSE))","v":42},{"$f":"IF(HLOOKUP(M$5,$B$6:$I$15,Points!$A3+1,FALSE)=\"TBD\",\"\",0)","v":0},{"$f":"IF(HLOOKUP(O$5,$B$6:$I$15,Points!$A3+1,FALSE)=\"TBD\",\"\",VLOOKUP(HLOOKUP(O$5,$B$6:$I$15,Points!$A3+1,FALSE),'Cars & Results'!$A$7:$BZ$317,2*O$5+6,FALSE))","v":40},{"$f":"IF(HLOOKUP(O$5,$B$6:$I$15,Points!$A3+1,FALSE)=\"TBD\",\"\",0)","v":0},{"$f":"IF(HLOOKUP(Q$5,$B$6:$I$15,Points!$A3+1,FALSE)=\"TBD\",\"\",VLOOKUP(HLOOKUP(Q$5,$B$6:$I$15,Points!$A3+1,FALSE),'Cars & Results'!$A$7:$BZ$317,2*Q$5+6,FALSE))","v":60},{"$f":"IF(HLOOKUP(Q$5,$B$6:$I$15,Points!$A3+1,FALSE)=\"TBD\",\"\",0)","v":0},{"$f":"IF(HLOOKUP(S$5,$B$6:$I$15,Points!$A3+1,FALSE)=\"TBD\",\"\",VLOOKUP(HLOOKUP(S$5,$B$6:$I$15,Points!$A3+1,FALSE),'Cars & Results'!$A$7:$BZ$317,2*S$5+6,FALSE))","v":53},{"$f":"IF(HLOOKUP(S$5,$B$6:$I$15,Points!$A3+1,FALSE)=\"TBD\",\"\",0)","v":0},{"$f":"IF(HLOOKUP(U$5,$B$6:$I$15,Points!$A3+1,FALSE)=\"TBD\",\"\",VLOOKUP(HLOOKUP(U$5,$B$6:$I$15,Points!$A3+1,FALSE),'Cars & Results'!$A$7:$BZ$317,2*U$5+6,FALSE))","v":54},{"$f":"IF(HLOOKUP(U$5,$B$6:$I$15,Points!$A3+1,FALSE)=\"TBD\",\"\",0)","v":0},{"$f":"IF(HLOOKUP(W$5,$B$6:$I$15,Points!$A3+1,FALSE)=\"TBD\",\"\",VLOOKUP(HLOOKUP(W$5,$B$6:$I$15,Points!$A3+1,FALSE),'Cars & Results'!$A$7:$BZ$317,2*W$5+6,FALSE))","v":42},{"$f":"IF(HLOOKUP(W$5,$B$6:$I$15,Points!$A3+1,FALSE)=\"TBD\",\"\",0)","v":0},{"$f":"IF(HLOOKUP(Y$5,$B$6:$I$15,Points!$A3+1,FALSE)=\"TBD\",\"\",VLOOKUP(HLOOKUP(Y$5,$B$6:$I$15,Points!$A3+1,FALSE),'Cars & Results'!$A$7:$BZ$317,2*Y$5+6,FALSE))","v":60},{"$f":"IF(HLOOKUP(Y$5,$B$6:$I$15,Points!$A3+1,FALSE)=\"TBD\",\"\",0)","v":0},{"$f":"IF(HLOOKUP(AA$5,$B$6:$I$15,Points!$A3+1,FALSE)=\"TBD\",\"\",VLOOKUP(HLOOKUP(AA$5,$B$6:$I$15,Points!$A3+1,FALSE),'Cars & Results'!$A$7:$BZ$317,2*AA$5+6,FALSE))","v":36},{"$f":"IF(HLOOKUP(AA$5,$B$6:$I$15,Points!$A3+1,FALSE)=\"TBD\",\"\",0)","v":0}]
[{"$f":"VLOOKUP(HLOOKUP('Pick Distribution'!$P$2,$B$6:$I$15,3),'Current Owner Standings'!$A$71:$B$480,2,FALSE)","v":9},18,18,18,18,18,18,18,18,{"$f":"IF(ISNA(VLOOKUP($I8,'Cars & Results'!$A$6:$I$317,J$5,FALSE)),\"Invalid Number\",VLOOKUP($I8,'Cars & Results'!$A$6:$K$317,J$5,FALSE))","v":"Kyle Busch"},{"$f":"IF(ISNA(VLOOKUP($I8,'Cars & Results'!$A$6:$I$317,K$5,FALSE)),\"Invalid Number\",VLOOKUP($I8,'Cars & Results'!$A$6:$K$317,K$5,FALSE))","v":"Toyota"},{"$f":"IF(ISNA(VLOOKUP($I8,'Cars & Results'!$A$6:$I$317,L$5,FALSE)),\"Invalid Number\",VLOOKUP($I8,'Cars & Results'!$A$6:$K$317,L$5,FALSE))","v":"Joe Gibbs Racing"},{"$f":"IF(HLOOKUP(M$5,$B$6:$I$15,Points!$A4+1,FALSE)=\"TBD\",\"\",VLOOKUP(HLOOKUP(M$5,$B$6:$I$15,Points!$A4+1,FALSE),'Cars & Results'!$A$7:$BZ$317,2*M$5+6,FALSE))","v":42},{"$f":"IF(HLOOKUP(M$5,$B$6:$I$15,Points!$A4+1,FALSE)=\"TBD\",\"\",IF(VLOOKUP(HLOOKUP(M$5,$B$6:$I$15,Points!$A4+1,FALSE),'Cars & Results'!$A$7:$BZ$317,2*M$5+5)=1,M8*0.25,0))","v":0},{"$f":"IF(HLOOKUP(O$5,$B$6:$I$15,Points!$A4+1,FALSE)=\"TBD\",\"\",VLOOKUP(HLOOKUP(O$5,$B$6:$I$15,Points!$A4+1,FALSE),'Cars & Results'!$A$7:$BZ$317,2*O$5+6,FALSE))","v":1},{"$f":"IF(HLOOKUP(O$5,$B$6:$I$15,Points!$A4+1,FALSE)=\"TBD\",\"\",IF(VLOOKUP(HLOOKUP(O$5,$B$6:$I$15,Points!$A4+1,FALSE),'Cars & Results'!$A$7:$BZ$317,2*O$5+5)=1,O8*0.25,0))","v":0},{"$f":"IF(HLOOKUP(Q$5,$B$6:$I$15,Points!$A4+1,FALSE)=\"TBD\",\"\",VLOOKUP(HLOOKUP(Q$5,$B$6:$I$15,Points!$A4+1,FALSE),'Cars & Results'!$A$7:$BZ$317,2*Q$5+6,FALSE))","v":39},{"$f":"IF(HLOOKUP(Q$5,$B$6:$I$15,Points!$A4+1,FALSE)=\"TBD\",\"\",IF(VLOOKUP(HLOOKUP(Q$5,$B$6:$I$15,Points!$A4+1,FALSE),'Cars & Results'!$A$7:$BZ$317,2*Q$5+5)=1,Q8*0.25,0))","v":0},{"$f":"IF(HLOOKUP(S$5,$B$6:$I$15,Points!$A4+1,FALSE)=\"TBD\",\"\",VLOOKUP(HLOOKUP(S$5,$B$6:$I$15,Points!$A4+1,FALSE),'Cars & Results'!$A$7:$BZ$317,2*S$5+6,FALSE))","v":49},{"$f":"IF(HLOOKUP(S$5,$B$6:$I$15,Points!$A4+1,FALSE)=\"TBD\",\"\",IF(VLOOKUP(HLOOKUP(S$5,$B$6:$I$15,Points!$A4+1,FALSE),'Cars & Results'!$A$7:$BZ$317,2*S$5+5)=1,S8*0.25,0))","v":0},{"$f":"IF(HLOOKUP(U$5,$B$6:$I$15,Points!$A4+1,FALSE)=\"TBD\",\"\",VLOOKUP(HLOOKUP(U$5,$B$6:$I$15,Points!$A4+1,FALSE),'Cars & Results'!$A$7:$BZ$317,2*U$5+6,FALSE))","v":1},{"$f":"IF(HLOOKUP(U$5,$B$6:$I$15,Points!$A4+1,FALSE)=\"TBD\",\"\",IF(VLOOKUP(HLOOKUP(U$5,$B$6:$I$15,Points!$A4+1,FALSE),'Cars & Results'!$A$7:$BZ$317,2*U$5+5)=1,U8*0.25,0))","v":0},{"$f":"IF(HLOOKUP(W$5,$B$6:$I$15,Points!$A4+1,FALSE)=\"TBD\",\"\",VLOOKUP(HLOOKUP(W$5,$B$6:$I$15,Points!$A4+1,FALSE),'Cars & Results'!$A$7:$BZ$317,2*W$5+6,FALSE))","v":41},{"$f":"IF(HLOOKUP(W$5,$B$6:$I$15,Points!$A4+1,FALSE)=\"TBD\",\"\",IF(VLOOKUP(HLOOKUP(W$5,$B$6:$I$15,Points!$A4+1,FALSE),'Cars & Results'!$A$7:$BZ$317,2*W$5+5)=1,W8*0.25,0))","v":0},{"$f":"IF(HLOOKUP(Y$5,$B$6:$I$15,Points!$A4+1,FALSE)=\"TBD\",\"\",VLOOKUP(HLOOKUP(Y$5,$B$6:$I$15,Points!$A4+1,FALSE),'Cars & Results'!$A$7:$BZ$317,2*Y$5+6,FALSE))","v":26},{"$f":"IF(HLOOKUP(Y$5,$B$6:$I$15,Points!$A4+1,FALSE)=\"TBD\",\"\",IF(VLOOKUP(HLOOKUP(Y$5,$B$6:$I$15,Points!$A4+1,FALSE),'Cars & Results'!$A$7:$BZ$317,2*Y$5+5)=1,Y8*0.25,0))","v":0},{"$f":"IF(HLOOKUP(AA$5,$B$6:$I$15,Points!$A4+1,FALSE)=\"TBD\",\"\",VLOOKUP(HLOOKUP(AA$5,$B$6:$I$15,Points!$A4+1,FALSE),'Cars & Results'!$A$7:$BZ$317,2*AA$5+6,FALSE))","v":5},{"$f":"IF(HLOOKUP(AA$5,$B$6:$I$15,Points!$A4+1,FALSE)=\"TBD\",\"\",IF(VLOOKUP(HLOOKUP(AA$5,$B$6:$I$15,Points!$A4+1,FALSE),'Cars & Results'!$A$7:$BZ$317,2*AA$5+5)=1,AA8*0.25,0))","v":0}]
[{"$f":"VLOOKUP(HLOOKUP('Pick Distribution'!$P$2,$B$6:$I$15,4),'Current Owner Standings'!$A$71:$B$480,2,FALSE)","v":18},8,42,20,41,41,8,8,8,{"$f":"IF(ISNA(VLOOKUP($I9,'Cars & Results'!$A$6:$I$317,J$5,FALSE)),\"Invalid Number\",VLOOKUP($I9,'Cars & Results'!$A$6:$K$317,J$5,FALSE))","v":"Tyler Reddick (R)"},{"$f":"IF(ISNA(VLOOKUP($I9,'Cars & Results'!$A$6:$I$317,K$5,FALSE)),\"Invalid Number\",VLOOKUP($I9,'Cars & Results'!$A$6:$K$317,K$5,FALSE))","v":"Chevrolet"},{"$f":"IF(ISNA(VLOOKUP($I9,'Cars & Results'!$A$6:$I$317,L$5,FALSE)),\"Invalid Number\",VLOOKUP($I9,'Cars & Results'!$A$6:$K$317,L$5,FALSE))","v":"Richard Childress Racing"},{"$f":"IF(HLOOKUP(M$5,$B$6:$I$15,Points!$A5+1,FALSE)=\"TBD\",\"\",VLOOKUP(HLOOKUP(M$5,$B$6:$I$15,Points!$A5+1,FALSE),'Cars & Results'!$A$7:$BZ$317,2*M$5+6,FALSE))","v":29},{"$f":"IF(HLOOKUP(M$5,$B$6:$I$15,Points!$A5+1,FALSE)=\"TBD\",\"\",IF(VLOOKUP(HLOOKUP(M$5,$B$6:$I$15,Points!$A5+1,FALSE),'Cars & Results'!$A$7:$BZ$317,2*M$5+5)<=5,M9*0.5,0))","v":0},{"$f":"IF(HLOOKUP(O$5,$B$6:$I$15,Points!$A5+1,FALSE)=\"TBD\",\"\",VLOOKUP(HLOOKUP(O$5,$B$6:$I$15,Points!$A5+1,FALSE),'Cars & Results'!$A$7:$BZ$317,2*O$5+6,FALSE))","v":1},{"$f":"IF(HLOOKUP(O$5,$B$6:$I$15,Points!$A5+1,FALSE)=\"TBD\",\"\",IF(VLOOKUP(HLOOKUP(O$5,$B$6:$I$15,Points!$A5+1,FALSE),'Cars & Results'!$A$7:$BZ$317,2*O$5+5)<=5,O9*0.5,0))","v":0},{"$f":"IF(HLOOKUP(Q$5,$B$6:$I$15,Points!$A5+1,FALSE)=\"TBD\",\"\",VLOOKUP(HLOOKUP(Q$5,$B$6:$I$15,Points!$A5+1,FALSE),'Cars & Results'!$A$7:$BZ$317,2*Q$5+6,FALSE))","v":38},{"$f":"IF(HLOOKUP(Q$5,$B$6:$I$15,Points!$A5+1,FALSE)=\"TBD\",\"\",IF(VLOOKUP(HLOOKUP(Q$5,$B$6:$I$15,Points!$A5+1,FALSE),'Cars & Results'!$A$7:$BZ$317,2*Q$5+5)<=5,Q9*0.5,0))","v":0},{"$f":"IF(HLOOKUP(S$5,$B$6:$I$15,Points!$A5+1,FALSE)=\"TBD\",\"\",VLOOKUP(HLOOKUP(S$5,$B$6:$I$15,Points!$A5+1,FALSE),'Cars & Results'!$A$7:$BZ$317,2*S$5+6,FALSE))","v":12},{"$f":"IF(HLOOKUP(S$5,$B$6:$I$15,Points!$A5+1,FALSE)=\"TBD\",\"\",IF(VLOOKUP(HLOOKUP(S$5,$B$6:$I$15,Points!$A5+1,FALSE),'Cars & Results'!$A$7:$BZ$317,2*S$5+5)<=5,S9*0.5,0))","v":0},{"$f":"IF(HLOOKUP(U$5,$B$6:$I$15,Points!$A5+1,FALSE)=\"TBD\",\"\",VLOOKUP(HLOOKUP(U$5,$B$6:$I$15,Points!$A5+1,FALSE),'Cars & Results'!$A$7:$BZ$317,2*U$5+6,FALSE))","v":17},{"$f":"IF(HLOOKUP(U$5,$B$6:$I$15,Points!$A5+1,FALSE)=\"TBD\",\"\",IF(VLOOKUP(HLOOKUP(U$5,$B$6:$I$15,Points!$A5+1,FALSE),'Cars & Results'!$A$7:$BZ$317,2*U$5+5)<=5,U9*0.5,0))","v":0},{"$f":"IF(HLOOKUP(W$5,$B$6:$I$15,Points!$A5+1,FALSE)=\"TBD\",\"\",VLOOKUP(HLOOKUP(W$5,$B$6:$I$15,Points!$A5+1,FALSE),'Cars & Results'!$A$7:$BZ$317,2*W$5+6,FALSE))","v":24},{"$f":"IF(HLOOKUP(W$5,$B$6:$I$15,Points!$A5+1,FALSE)=\"TBD\",\"\",IF(VLOOKUP(HLOOKUP(W$5,$B$6:$I$15,Points!$A5+1,FALSE),'Cars & Results'!$A$7:$BZ$317,2*W$5+5)<=5,W9*0.5,0))","v":0},{"$f":"IF(HLOOKUP(Y$5,$B$6:$I$15,Points!$A5+1,FALSE)=\"TBD\",\"\",VLOOKUP(HLOOKUP(Y$5,$B$6:$I$15,Points!$A5+1,FALSE),'Cars & Results'!$A$7:$BZ$317,2*Y$5+6,FALSE))","v":19},{"$f":"IF(HLOOKUP(Y$5,$B$6:$I$15,Points!$A5+1,FALSE)=\"TBD\",\"\",IF(VLOOKUP(HLOOKUP(Y$5,$B$6:$I$15,Points!$A5+1,FALSE),'Cars & Results'!$A$7:$BZ$317,2*Y$5+5)<=5,Y9*0.5,0))","v":0},{"$f":"IF(HLOOKUP(AA$5,$B$6:$I$15,Points!$A5+1,FALSE)=\"TBD\",\"\",VLOOKUP(HLOOKUP(AA$5,$B$6:$I$15,Points!$A5+1,FALSE),'Cars & Results'!$A$7:$BZ$317,2*AA$5+6,FALSE))","v":16},{"$f":"IF(HLOOKUP(AA$5,$B$6:$I$15,Points!$A5+1,FALSE)=\"TBD\",\"\",IF(VLOOKUP(HLOOKUP(AA$5,$B$6:$I$15,Points!$A5+1,FALSE),'Cars & Results'!$A$7:$BZ$317,2*AA$5+5)<=5,AA9*0.5,0))","v":0}]
[{"$f":"VLOOKUP(HLOOKUP('Pick Distribution'!$P$2,$B$6:$I$15,5),'Current Owner Standings'!$A$71:$B$480,2,FALSE)","v":22},20,48,48,48,42,95,95,17,{"$f":"IF(ISNA(VLOOKUP($I10,'Cars & Results'!$A$6:$I$317,J$5,FALSE)),\"Invalid Number\",VLOOKUP($I10,'Cars & Results'!$A$6:$K$317,J$5,FALSE))","v":"Chris Buescher"},{"$f":"IF(ISNA(VLOOKUP($I10,'Cars & Results'!$A$6:$I$317,K$5,FALSE)),\"Invalid Number\",VLOOKUP($I10,'Cars & Results'!$A$6:$K$317,K$5,FALSE))","v":"Ford"},{"$f":"IF(ISNA(VLOOKUP($I10,'Cars & Results'!$A$6:$I$317,L$5,FALSE)),\"Invalid Number\",VLOOKUP($I10,'Cars & Results'!$A$6:$K$317,L$5,FALSE))","v":"Roush Fenway Racing"},{"$f":"IF(HLOOKUP(M$5,$B$6:$I$15,Points!$A6+1,FALSE)=\"TBD\",\"\",VLOOKUP(HLOOKUP(M$5,$B$6:$I$15,Points!$A6+1,FALSE),'Cars & Results'!$A$7:$BZ$317,2*M$5+6,FALSE))","v":37},{"$f":"IF(HLOOKUP(M$5,$B$6:$I$15,Points!$A6+1,FALSE)=\"TBD\",\"\",IF(VLOOKUP(HLOOKUP(M$5,$B$6:$I$15,Points!$A6+1,FALSE),'Cars & Results'!$A$7:$BZ$317,2*M$5+5)<=5,M10*0.5,0))","v":18.5},{"$f":"IF(HLOOKUP(O$5,$B$6:$I$15,Points!$A6+1,FALSE)=\"TBD\",\"\",VLOOKUP(HLOOKUP(O$5,$B$6:$I$15,Points!$A6+1,FALSE),'Cars & Results'!$A$7:$BZ$317,2*O$5+6,FALSE))","v":25},{"$f":"IF(HLOOKUP(O$5,$B$6:$I$15,Points!$A6+1,FALSE)=\"TBD\",\"\",IF(VLOOKUP(HLOOKUP(O$5,$B$6:$I$15,Points!$A6+1,FALSE),'Cars & Results'!$A$7:$BZ$317,2*O$5+5)<=5,O10*0.5,0))","v":0},{"$f":"IF(HLOOKUP(Q$5,$B$6:$I$15,Points!$A6+1,FALSE)=\"TBD\",\"\",VLOOKUP(HLOOKUP(Q$5,$B$6:$I$15,Points!$A6+1,FALSE),'Cars & Results'!$A$7:$BZ$317,2*Q$5+6,FALSE))","v":26},{"$f":"IF(HLOOKUP(Q$5,$B$6:$I$15,Points!$A6+1,FALSE)=\"TBD\",\"\",IF(VLOOKUP(HLOOKUP(Q$5,$B$6:$I$15,Points!$A6+1,FALSE),'Cars & Results'!$A$7:$BZ$317,2*Q$5+5)<=5,Q10*0.5,0))","v":0},{"$f":"IF(HLOOKUP(S$5,$B$6:$I$15,Points!$A6+1,FALSE)=\"TBD\",\"\",VLOOKUP(HLOOKUP(S$5,$B$6:$I$15,Points!$A6+1,FALSE),'Cars & Results'!$A$7:$BZ$317,2*S$5+6,FALSE))","v":26},{"$f":"IF(HLOOKUP(S$5,$B$6:$I$15,Points!$A6+1,FALSE)=\"TBD\",\"\",IF(VLOOKUP(HLOOKUP(S$5,$B$6:$I$15,Points!$A6+1,FALSE),'Cars & Results'!$A$7:$BZ$317,2*S$5+5)<=5,S10*0.5,0))","v":0},{"$f":"IF(HLOOKUP(U$5,$B$6:$I$15,Points!$A6+1,FALSE)=\"TBD\",\"\",VLOOKUP(HLOOKUP(U$5,$B$6:$I$15,Points!$A6+1,FALSE),'Cars & Results'!$A$7:$BZ$317,2*U$5+6,FALSE))","v":11},{"$f":"IF(HLOOKUP(U$5,$B$6:$I$15,Points!$A6+1,FALSE)=\"TBD\",\"\",IF(VLOOKUP(HLOOKUP(U$5,$B$6:$I$15,Points!$A6+1,FALSE),'Cars & Results'!$A$7:$BZ$317,2*U$5+5)<=5,U10*0.5,0))","v":0},{"$f":"IF(HLOOKUP(W$5,$B$6:$I$15,Points!$A6+1,FALSE)=\"TBD\",\"\",VLOOKUP(HLOOKUP(W$5,$B$6:$I$15,Points!$A6+1,FALSE),'Cars & Results'!$A$7:$BZ$317,2*W$5+6,FALSE))","v":15},{"$f":"IF(HLOOKUP(W$5,$B$6:$I$15,Points!$A6+1,FALSE)=\"TBD\",\"\",IF(VLOOKUP(HLOOKUP(W$5,$B$6:$I$15,Points!$A6+1,FALSE),'Cars & Results'!$A$7:$BZ$317,2*W$5+5)<=5,W10*0.5,0))","v":0},{"$f":"IF(HLOOKUP(Y$5,$B$6:$I$15,Points!$A6+1,FALSE)=\"TBD\",\"\",VLOOKUP(HLOOKUP(Y$5,$B$6:$I$15,Points!$A6+1,FALSE),'Cars & Results'!$A$7:$BZ$317,2*Y$5+6,FALSE))","v":10},{"$f":"IF(HLOOKUP(Y$5,$B$6:$I$15,Points!$A6+1,FALSE)=\"TBD\",\"\",IF(VLOOKUP(HLOOKUP(Y$5,$B$6:$I$15,Points!$A6+1,FALSE),'Cars & Results'!$A$7:$BZ$317,2*Y$5+5)<=5,Y10*0.5,0))","v":0},{"$f":"IF(HLOOKUP(AA$5,$B$6:$I$15,Points!$A6+1,FALSE)=\"TBD\",\"\",VLOOKUP(HLOOKUP(AA$5,$B$6:$I$15,Points!$A6+1,FALSE),'Cars & Results'!$A$7:$BZ$317,2*AA$5+6,FALSE))","v":28},{"$f":"IF(HLOOKUP(AA$5,$B$6:$I$15,Points!$A6+1,FALSE)=\"TBD\",\"\",IF(VLOOKUP(HLOOKUP(AA$5,$B$6:$I$15,Points!$A6+1,FALSE),'Cars & Results'!$A$7:$BZ$317,2*AA$5+5)<=5,AA10*0.5,0))","v":0}]
[{"$f":"VLOOKUP(HLOOKUP('Pick Distribution'!$P$2,$B$6:$I$15,6),'Current Owner Standings'!$A$71:$B$480,2,FALSE)","v":25},47,47,47,47,17,47,43,47,{"$f":"IF(ISNA(VLOOKUP($I11,'Cars & Results'!$A$6:$I$317,J$5,FALSE)),\"Invalid Number\",VLOOKUP($I11,'Cars & Results'!$A$6:$K$317,J$5,FALSE))","v":"Ricky Stenhouse Jr."},{"$f":"IF(ISNA(VLOOKUP($I11,'Cars & Results'!$A$6:$I$317,K$5,FALSE)),\"Invalid Number\",VLOOKUP($I11,'Cars & Results'!$A$6:$K$317,K$5,FALSE))","v":"Chevrolet"},{"$f":"IF(ISNA(VLOOKUP($I11,'Cars & Results'!$A$6:$I$317,L$5,FALSE)),\"Invalid Number\",VLOOKUP($I11,'Cars & Results'!$A$6:$K$317,L$5,FALSE))","v":"JTG Daugherty Racing"},{"$f":"IF(HLOOKUP(M$5,$B$6:$I$15,Points!$A7+1,FALSE)=\"TBD\",\"\",VLOOKUP(HLOOKUP(M$5,$B$6:$I$15,Points!$A7+1,FALSE),'Cars & Results'!$A$7:$BZ$317,2*M$5+6,FALSE))","v":1},{"$f":"IF(HLOOKUP(M$5,$B$6:$I$15,Points!$A7+1,FALSE)=\"TBD\",\"\",IF(VLOOKUP(HLOOKUP(M$5,$B$6:$I$15,Points!$A7+1,FALSE),'Cars & Results'!$A$7:$BZ$317,2*M$5+5)<=10,M11*1.5,0))","v":0},{"$f":"IF(HLOOKUP(O$5,$B$6:$I$15,Points!$A7+1,FALSE)=\"TBD\",\"\",VLOOKUP(HLOOKUP(O$5,$B$6:$I$15,Points!$A7+1,FALSE),'Cars & Results'!$A$7:$BZ$317,2*O$5+6,FALSE))","v":23},{"$f":"IF(HLOOKUP(O$5,$B$6:$I$15,Points!$A7+1,FALSE)=\"TBD\",\"\",IF(VLOOKUP(HLOOKUP(O$5,$B$6:$I$15,Points!$A7+1,FALSE),'Cars & Results'!$A$7:$BZ$317,2*O$5+5)<=10,O11*1.5,0))","v":0},{"$f":"IF(HLOOKUP(Q$5,$B$6:$I$15,Points!$A7+1,FALSE)=\"TBD\",\"\",VLOOKUP(HLOOKUP(Q$5,$B$6:$I$15,Points!$A7+1,FALSE),'Cars & Results'!$A$7:$BZ$317,2*Q$5+6,FALSE))","v":6},{"$f":"IF(HLOOKUP(Q$5,$B$6:$I$15,Points!$A7+1,FALSE)=\"TBD\",\"\",IF(VLOOKUP(HLOOKUP(Q$5,$B$6:$I$15,Points!$A7+1,FALSE),'Cars & Results'!$A$7:$BZ$317,2*Q$5+5)<=10,Q11*1.5,0))","v":0},{"$f":"IF(HLOOKUP(S$5,$B$6:$I$15,Points!$A7+1,FALSE)=\"TBD\",\"\",VLOOKUP(HLOOKUP(S$5,$B$6:$I$15,Points!$A7+1,FALSE),'Cars & Results'!$A$7:$BZ$317,2*S$5+6,FALSE))","v":18},{"$f":"IF(HLOOKUP(S$5,$B$6:$I$15,Points!$A7+1,FALSE)=\"TBD\",\"\",IF(VLOOKUP(HLOOKUP(S$5,$B$6:$I$15,Points!$A7+1,FALSE),'Cars & Results'!$A$7:$BZ$317,2*S$5+5)<=10,S11*1.5,0))","v":0},{"$f":"IF(HLOOKUP(U$5,$B$6:$I$15,Points!$A7+1,FALSE)=\"TBD\",\"\",VLOOKUP(HLOOKUP(U$5,$B$6:$I$15,Points!$A7+1,FALSE),'Cars & Results'!$A$7:$BZ$317,2*U$5+6,FALSE))","v":32},{"$f":"IF(HLOOKUP(U$5,$B$6:$I$15,Points!$A7+1,FALSE)=\"TBD\",\"\",IF(VLOOKUP(HLOOKUP(U$5,$B$6:$I$15,Points!$A7+1,FALSE),'Cars & Results'!$A$7:$BZ$317,2*U$5+5)<=10,U11*1.5,0))","v":48},{"$f":"IF(HLOOKUP(W$5,$B$6:$I$15,Points!$A7+1,FALSE)=\"TBD\",\"\",VLOOKUP(HLOOKUP(W$5,$B$6:$I$15,Points!$A7+1,FALSE),'Cars & Results'!$A$7:$BZ$317,2*W$5+6,FALSE))","v":29},{"$f":"IF(HLOOKUP(W$5,$B$6:$I$15,Points!$A7+1,FALSE)=\"TBD\",\"\",IF(VLOOKUP(HLOOKUP(W$5,$B$6:$I$15,Points!$A7+1,FALSE),'Cars & Results'!$A$7:$BZ$317,2*W$5+5)<=10,W11*1.5,0))","v":43.5},{"$f":"IF(HLOOKUP(Y$5,$B$6:$I$15,Points!$A7+1,FALSE)=\"TBD\",\"\",VLOOKUP(HLOOKUP(Y$5,$B$6:$I$15,Points!$A7+1,FALSE),'Cars & Results'!$A$7:$BZ$317,2*Y$5+6,FALSE))","v":16},{"$f":"IF(HLOOKUP(Y$5,$B$6:$I$15,Points!$A7+1,FALSE)=\"TBD\",\"\",IF(VLOOKUP(HLOOKUP(Y$5,$B$6:$I$15,Points!$A7+1,FALSE),'Cars & Results'!$A$7:$BZ$317,2*Y$5+5)<=10,Y11*1.5,0))","v":0},{"$f":"IF(HLOOKUP(AA$5,$B$6:$I$15,Points!$A7+1,FALSE)=\"TBD\",\"\",VLOOKUP(HLOOKUP(AA$5,$B$6:$I$15,Points!$A7+1,FALSE),'Cars & Results'!$A$7:$BZ$317,2*AA$5+6,FALSE))","v":8},{"$f":"IF(HLOOKUP(AA$5,$B$6:$I$15,Points!$A7+1,FALSE)=\"TBD\",\"\",IF(VLOOKUP(HLOOKUP(AA$5,$B$6:$I$15,Points!$A7+1,FALSE),'Cars & Results'!$A$7:$BZ$317,2*AA$5+5)<=10,AA11*1.5,0))","v":0}]
[{"$f":"VLOOKUP(HLOOKUP('Pick Distribution'!$P$2,$B$6:$I$15,7),'Current Owner Standings'!$A$71:$B$480,2,FALSE)","v":24},37,95,95,6,34,6,6,6,{"$f":"IF(ISNA(VLOOKUP($I12,'Cars & Results'!$A$6:$I$317,J$5,FALSE)),\"Invalid Number\",VLOOKUP($I12,'Cars & Results'!$A$6:$K$317,J$5,FALSE))","v":"Ryan Newman"},{"$f":"IF(ISNA(VLOOKUP($I12,'Cars & Results'!$A$6:$I$317,K$5,FALSE)),\"Invalid Number\",VLOOKUP($I12,'Cars & Results'!$A$6:$K$317,K$5,FALSE))","v":"Ford"},{"$f":"IF(ISNA(VLOOKUP($I12,'Cars & Results'!$A$6:$I$317,L$5,FALSE)),\"Invalid Number\",VLOOKUP($I12,'Cars & Results'!$A$6:$K$317,L$5,FALSE))","v":"Roush Fenway Racing"},{"$f":"IF(HLOOKUP(M$5,$B$6:$I$15,Points!$A8+1,FALSE)=\"TBD\",\"\",VLOOKUP(HLOOKUP(M$5,$B$6:$I$15,Points!$A8+1,FALSE),'Cars & Results'!$A$7:$BZ$317,2*M$5+6,FALSE))","v":3},{"$f":"IF(HLOOKUP(M$5,$B$6:$I$15,Points!$A8+1,FALSE)=\"TBD\",\"\",IF(VLOOKUP(HLOOKUP(M$5,$B$6:$I$15,Points!$A8+1,FALSE),'Cars & Results'!$A$7:$BZ$317,2*M$5+5)<=10,M12*1.5,0))","v":0},{"$f":"IF(HLOOKUP(O$5,$B$6:$I$15,Points!$A8+1,FALSE)=\"TBD\",\"\",VLOOKUP(HLOOKUP(O$5,$B$6:$I$15,Points!$A8+1,FALSE),'Cars & Results'!$A$7:$BZ$317,2*O$5+6,FALSE))","v":16},{"$f":"IF(HLOOKUP(O$5,$B$6:$I$15,Points!$A8+1,FALSE)=\"TBD\",\"\",IF(VLOOKUP(HLOOKUP(O$5,$B$6:$I$15,Points!$A8+1,FALSE),'Cars & Results'!$A$7:$BZ$317,2*O$5+5)<=10,O12*1.5,0))","v":0},{"$f":"IF(HLOOKUP(Q$5,$B$6:$I$15,Points!$A8+1,FALSE)=\"TBD\",\"\",VLOOKUP(HLOOKUP(Q$5,$B$6:$I$15,Points!$A8+1,FALSE),'Cars & Results'!$A$7:$BZ$317,2*Q$5+6,FALSE))","v":24},{"$f":"IF(HLOOKUP(Q$5,$B$6:$I$15,Points!$A8+1,FALSE)=\"TBD\",\"\",IF(VLOOKUP(HLOOKUP(Q$5,$B$6:$I$15,Points!$A8+1,FALSE),'Cars & Results'!$A$7:$BZ$317,2*Q$5+5)<=10,Q12*1.5,0))","v":0},{"$f":"IF(HLOOKUP(S$5,$B$6:$I$15,Points!$A8+1,FALSE)=\"TBD\",\"\",VLOOKUP(HLOOKUP(S$5,$B$6:$I$15,Points!$A8+1,FALSE),'Cars & Results'!$A$7:$BZ$317,2*S$5+6,FALSE))","v":24},{"$f":"IF(HLOOKUP(S$5,$B$6:$I$15,Points!$A8+1,FALSE)=\"TBD\",\"\",IF(VLOOKUP(HLOOKUP(S$5,$B$6:$I$15,Points!$A8+1,FALSE),'Cars & Results'!$A$7:$BZ$317,2*S$5+5)<=10,S12*1.5,0))","v":0},{"$f":"IF(HLOOKUP(U$5,$B$6:$I$15,Points!$A8+1,FALSE)=\"TBD\",\"\",VLOOKUP(HLOOKUP(U$5,$B$6:$I$15,Points!$A8+1,FALSE),'Cars & Results'!$A$7:$BZ$317,2*U$5+6,FALSE))","v":27},{"$f":"IF(HLOOKUP(U$5,$B$6:$I$15,Points!$A8+1,FALSE)=\"TBD\",\"\",IF(VLOOKUP(HLOOKUP(U$5,$B$6:$I$15,Points!$A8+1,FALSE),'Cars & Results'!$A$7:$BZ$317,2*U$5+5)<=10,U12*1.5,0))","v":40.5},{"$f":"IF(HLOOKUP(W$5,$B$6:$I$15,Points!$A8+1,FALSE)=\"TBD\",\"\",VLOOKUP(HLOOKUP(W$5,$B$6:$I$15,Points!$A8+1,FALSE),'Cars & Results'!$A$7:$BZ$317,2*W$5+6,FALSE))","v":18},{"$f":"IF(HLOOKUP(W$5,$B$6:$I$15,Points!$A8+1,FALSE)=\"TBD\",\"\",IF(VLOOKUP(HLOOKUP(W$5,$B$6:$I$15,Points!$A8+1,FALSE),'Cars & Results'!$A$7:$BZ$317,2*W$5+5)<=10,W12*1.5,0))","v":0},{"$f":"IF(HLOOKUP(Y$5,$B$6:$I$15,Points!$A8+1,FALSE)=\"TBD\",\"\",VLOOKUP(HLOOKUP(Y$5,$B$6:$I$15,Points!$A8+1,FALSE),'Cars & Results'!$A$7:$BZ$317,2*Y$5+6,FALSE))","v":13},{"$f":"IF(HLOOKUP(Y$5,$B$6:$I$15,Points!$A8+1,FALSE)=\"TBD\",\"\",IF(VLOOKUP(HLOOKUP(Y$5,$B$6:$I$15,Points!$A8+1,FALSE),'Cars & Results'!$A$7:$BZ$317,2*Y$5+5)<=10,Y12*1.5,0))","v":0},{"$f":"IF(HLOOKUP(AA$5,$B$6:$I$15,Points!$A8+1,FALSE)=\"TBD\",\"\",VLOOKUP(HLOOKUP(AA$5,$B$6:$I$15,Points!$A8+1,FALSE),'Cars & Results'!$A$7:$BZ$317,2*AA$5+6,FALSE))","v":1},{"$f":"IF(HLOOKUP(AA$5,$B$6:$I$15,Points!$A8+1,FALSE)=\"TBD\",\"\",IF(VLOOKUP(HLOOKUP(AA$5,$B$6:$I$15,Points!$A8+1,FALSE),'Cars & Results'!$A$7:$BZ$317,2*AA$5+5)<=10,AA12*1.5,0))","v":0}]
[{"$f":"VLOOKUP(HLOOKUP('Pick Distribution'!$P$2,$B$6:$I$15,8),'Current Owner Standings'!$A$71:$B$480,2,FALSE)","v":33},96,77,96,96,96,96,96,77,{"$f":"IF(ISNA(VLOOKUP($I13,'Cars & Results'!$A$6:$I$317,J$5,FALSE)),\"Invalid Number\",VLOOKUP($I13,'Cars & Results'!$A$6:$K$317,J$5,FALSE))","v":"Ross Chastain (i)"},{"$f":"IF(ISNA(VLOOKUP($I13,'Cars & Results'!$A$6:$I$317,K$5,FALSE)),\"Invalid Number\",VLOOKUP($I13,'Cars & Results'!$A$6:$K$317,K$5,FALSE))","v":"Chevrolet"},{"$f":"IF(ISNA(VLOOKUP($I13,'Cars & Results'!$A$6:$I$317,L$5,FALSE)),\"Invalid Number\",VLOOKUP($I13,'Cars & Results'!$A$6:$K$317,L$5,FALSE))","v":"Spire Motorsports"},{"$f":"IF(HLOOKUP(M$5,$B$6:$I$15,Points!$A9+1,FALSE)=\"TBD\",\"\",VLOOKUP(HLOOKUP(M$5,$B$6:$I$15,Points!$A9+1,FALSE),'Cars & Results'!$A$7:$BZ$317,2*M$5+6,FALSE))","v":19},{"$f":"IF(HLOOKUP(M$5,$B$6:$I$15,Points!$A9+1,FALSE)=\"TBD\",\"\",IF(VLOOKUP(HLOOKUP(M$5,$B$6:$I$15,Points!$A9+1,FALSE),'Cars & Results'!$A$7:$BZ$317,2*M$5+5)<=10,M13*2,0))","v":0},{"$f":"IF(HLOOKUP(O$5,$B$6:$I$15,Points!$A9+1,FALSE)=\"TBD\",\"\",VLOOKUP(HLOOKUP(O$5,$B$6:$I$15,Points!$A9+1,FALSE),'Cars & Results'!$A$7:$BZ$317,2*O$5+6,FALSE))","v":6},{"$f":"IF(HLOOKUP(O$5,$B$6:$I$15,Points!$A9+1,FALSE)=\"TBD\",\"\",IF(VLOOKUP(HLOOKUP(O$5,$B$6:$I$15,Points!$A9+1,FALSE),'Cars & Results'!$A$7:$BZ$317,2*O$5+5)<=10,O13*2,0))","v":0},{"$f":"IF(HLOOKUP(Q$5,$B$6:$I$15,Points!$A9+1,FALSE)=\"TBD\",\"\",VLOOKUP(HLOOKUP(Q$5,$B$6:$I$15,Points!$A9+1,FALSE),'Cars & Results'!$A$7:$BZ$317,2*Q$5+6,FALSE))","v":13},{"$f":"IF(HLOOKUP(Q$5,$B$6:$I$15,Points!$A9+1,FALSE)=\"TBD\",\"\",IF(VLOOKUP(HLOOKUP(Q$5,$B$6:$I$15,Points!$A9+1,FALSE),'Cars & Results'!$A$7:$BZ$317,2*Q$5+5)<=10,Q13*2,0))","v":0},{"$f":"IF(HLOOKUP(S$5,$B$6:$I$15,Points!$A9+1,FALSE)=\"TBD\",\"\",VLOOKUP(HLOOKUP(S$5,$B$6:$I$15,Points!$A9+1,FALSE),'Cars & Results'!$A$7:$BZ$317,2*S$5+6,FALSE))","v":11},{"$f":"IF(HLOOKUP(S$5,$B$6:$I$15,Points!$A9+1,FALSE)=\"TBD\",\"\",IF(VLOOKUP(HLOOKUP(S$5,$B$6:$I$15,Points!$A9+1,FALSE),'Cars & Results'!$A$7:$BZ$317,2*S$5+5)<=10,S13*2,0))","v":0},{"$f":"IF(HLOOKUP(U$5,$B$6:$I$15,Points!$A9+1,FALSE)=\"TBD\",\"\",VLOOKUP(HLOOKUP(U$5,$B$6:$I$15,Points!$A9+1,FALSE),'Cars & Results'!$A$7:$BZ$317,2*U$5+6,FALSE))","v":10},{"$f":"IF(HLOOKUP(U$5,$B$6:$I$15,Points!$A9+1,FALSE)=\"TBD\",\"\",IF(VLOOKUP(HLOOKUP(U$5,$B$6:$I$15,Points!$A9+1,FALSE),'Cars & Results'!$A$7:$BZ$317,2*U$5+5)<=10,U13*2,0))","v":0},{"$f":"IF(HLOOKUP(W$5,$B$6:$I$15,Points!$A9+1,FALSE)=\"TBD\",\"\",VLOOKUP(HLOOKUP(W$5,$B$6:$I$15,Points!$A9+1,FALSE),'Cars & Results'!$A$7:$BZ$317,2*W$5+6,FALSE))","v":7},{"$f":"IF(HLOOKUP(W$5,$B$6:$I$15,Points!$A9+1,FALSE)=\"TBD\",\"\",IF(VLOOKUP(HLOOKUP(W$5,$B$6:$I$15,Points!$A9+1,FALSE),'Cars & Results'!$A$7:$BZ$317,2*W$5+5)<=10,W13*2,0))","v":0},{"$f":"IF(HLOOKUP(Y$5,$B$6:$I$15,Points!$A9+1,FALSE)=\"TBD\",\"\",VLOOKUP(HLOOKUP(Y$5,$B$6:$I$15,Points!$A9+1,FALSE),'Cars & Results'!$A$7:$BZ$317,2*Y$5+6,FALSE))","v":9},{"$f":"IF(HLOOKUP(Y$5,$B$6:$I$15,Points!$A9+1,FALSE)=\"TBD\",\"\",IF(VLOOKUP(HLOOKUP(Y$5,$B$6:$I$15,Points!$A9+1,FALSE),'Cars & Results'!$A$7:$BZ$317,2*Y$5+5)<=10,Y13*2,0))","v":0},{"$f":"IF(HLOOKUP(AA$5,$B$6:$I$15,Points!$A9+1,FALSE)=\"TBD\",\"\",VLOOKUP(HLOOKUP(AA$5,$B$6:$I$15,Points!$A9+1,FALSE),'Cars & Results'!$A$7:$BZ$317,2*AA$5+6,FALSE))","v":21},{"$f":"IF(HLOOKUP(AA$5,$B$6:$I$15,Points!$A9+1,FALSE)=\"TBD\",\"\",IF(VLOOKUP(HLOOKUP(AA$5,$B$6:$I$15,Points!$A9+1,FALSE),'Cars & Results'!$A$7:$BZ$317,2*AA$5+5)<=10,AA13*2,0))","v":0}]
[{"$f":"VLOOKUP(HLOOKUP('Pick Distribution'!$P$2,$B$6:$I$15,9),'Current Owner Standings'!$A$71:$B$480,2,FALSE)","v":41},51,"00","00","00","00","00","00",62,{"$f":"IF(ISNA(VLOOKUP($I14,'Cars & Results'!$A$6:$I$317,J$5,FALSE)),\"Invalid Number\",VLOOKUP($I14,'Cars & Results'!$A$6:$K$317,J$5,FALSE))","v":"Brendan Gaughan"},{"$f":"IF(ISNA(VLOOKUP($I14,'Cars & Results'!$A$6:$I$317,K$5,FALSE)),\"Invalid Number\",VLOOKUP($I14,'Cars & Results'!$A$6:$K$317,K$5,FALSE))","v":"Chevrolet"},{"$f":"IF(ISNA(VLOOKUP($I14,'Cars & Results'!$A$6:$I$317,L$5,FALSE)),\"Invalid Number\",VLOOKUP($I14,'Cars & Results'!$A$6:$K$317,L$5,FALSE))","v":"Beard Motorsports"},{"$f":"IF(HLOOKUP(M$5,$B$6:$I$15,Points!$A10+1,FALSE)=\"TBD\",\"\",VLOOKUP(HLOOKUP(M$5,$B$6:$I$15,Points!$A10+1,FALSE),'Cars & Results'!$A$7:$BZ$317,2*M$5+6,FALSE))","v":0},{"$f":"IF(HLOOKUP(M$5,$B$6:$I$15,Points!$A10+1,FALSE)=\"TBD\",\"\",IF(VLOOKUP(HLOOKUP(M$5,$B$6:$I$15,Points!$A10+1,FALSE),'Cars & Results'!$A$7:$BZ$317,2*M$5+5)<=10,M14*3,0))","v":0},{"$f":"IF(HLOOKUP(O$5,$B$6:$I$15,Points!$A10+1,FALSE)=\"TBD\",\"\",VLOOKUP(HLOOKUP(O$5,$B$6:$I$15,Points!$A10+1,FALSE),'Cars & Results'!$A$7:$BZ$317,2*O$5+6,FALSE))","v":5},{"$f":"IF(HLOOKUP(O$5,$B$6:$I$15,Points!$A10+1,FALSE)=\"TBD\",\"\",IF(VLOOKUP(HLOOKUP(O$5,$B$6:$I$15,Points!$A10+1,FALSE),'Cars & Results'!$A$7:$BZ$317,2*O$5+5)<=10,O14*3,0))","v":0},{"$f":"IF(HLOOKUP(Q$5,$B$6:$I$15,Points!$A10+1,FALSE)=\"TBD\",\"\",VLOOKUP(HLOOKUP(Q$5,$B$6:$I$15,Points!$A10+1,FALSE),'Cars & Results'!$A$7:$BZ$317,2*Q$5+6,FALSE))","v":10},{"$f":"IF(HLOOKUP(Q$5,$B$6:$I$15,Points!$A10+1,FALSE)=\"TBD\",\"\",IF(VLOOKUP(HLOOKUP(Q$5,$B$6:$I$15,Points!$A10+1,FALSE),'Cars & Results'!$A$7:$BZ$317,2*Q$5+5)<=10,Q14*3,0))","v":0},{"$f":"IF(HLOOKUP(S$5,$B$6:$I$15,Points!$A10+1,FALSE)=\"TBD\",\"\",VLOOKUP(HLOOKUP(S$5,$B$6:$I$15,Points!$A10+1,FALSE),'Cars & Results'!$A$7:$BZ$317,2*S$5+6,FALSE))","v":5},{"$f":"IF(HLOOKUP(S$5,$B$6:$I$15,Points!$A10+1,FALSE)=\"TBD\",\"\",IF(VLOOKUP(HLOOKUP(S$5,$B$6:$I$15,Points!$A10+1,FALSE),'Cars & Results'!$A$7:$BZ$317,2*S$5+5)<=10,S14*3,0))","v":0},{"$f":"IF(HLOOKUP(U$5,$B$6:$I$15,Points!$A10+1,FALSE)=\"TBD\",\"\",VLOOKUP(HLOOKUP(U$5,$B$6:$I$15,Points!$A10+1,FALSE),'Cars & Results'!$A$7:$BZ$317,2*U$5+6,FALSE))","v":4},{"$f":"IF(HLOOKUP(U$5,$B$6:$I$15,Points!$A10+1,FALSE)=\"TBD\",\"\",IF(VLOOKUP(HLOOKUP(U$5,$B$6:$I$15,Points!$A10+1,FALSE),'Cars & Results'!$A$7:$BZ$317,2*U$5+5)<=10,U14*3,0))","v":0},{"$f":"IF(HLOOKUP(W$5,$B$6:$I$15,Points!$A10+1,FALSE)=\"TBD\",\"\",VLOOKUP(HLOOKUP(W$5,$B$6:$I$15,Points!$A10+1,FALSE),'Cars & Results'!$A$7:$BZ$317,2*W$5+6,FALSE))","v":4},{"$f":"IF(HLOOKUP(W$5,$B$6:$I$15,Points!$A10+1,FALSE)=\"TBD\",\"\",IF(VLOOKUP(HLOOKUP(W$5,$B$6:$I$15,Points!$A10+1,FALSE),'Cars & Results'!$A$7:$BZ$317,2*W$5+5)<=10,W14*3,0))","v":0},{"$f":"IF(HLOOKUP(Y$5,$B$6:$I$15,Points!$A10+1,FALSE)=\"TBD\",\"\",VLOOKUP(HLOOKUP(Y$5,$B$6:$I$15,Points!$A10+1,FALSE),'Cars & Results'!$A$7:$BZ$317,2*Y$5+6,FALSE))","v":3},{"$f":"IF(HLOOKUP(Y$5,$B$6:$I$15,Points!$A10+1,FALSE)=\"TBD\",\"\",IF(VLOOKUP(HLOOKUP(Y$5,$B$6:$I$15,Points!$A10+1,FALSE),'Cars & Results'!$A$7:$BZ$317,2*Y$5+5)<=10,Y14*3,0))","v":0},{"$f":"IF(HLOOKUP(AA$5,$B$6:$I$15,Points!$A10+1,FALSE)=\"TBD\",\"\",VLOOKUP(HLOOKUP(AA$5,$B$6:$I$15,Points!$A10+1,FALSE),'Cars & Results'!$A$7:$BZ$317,2*AA$5+6,FALSE))","v":29},{"$f":"IF(HLOOKUP(AA$5,$B$6:$I$15,Points!$A10+1,FALSE)=\"TBD\",\"\",IF(VLOOKUP(HLOOKUP(AA$5,$B$6:$I$15,Points!$A10+1,FALSE),'Cars & Results'!$A$7:$BZ$317,2*AA$5+5)<=10,AA14*3,0))","v":87}]
[{"$f":"VLOOKUP(HLOOKUP('Pick Distribution'!$P$2,$B$6:$I$15,10),'Current Owner Standings'!$A$71:$B$480,2,FALSE)","v":26},10,11,12,2,19,22,9,34,{"$f":"IF(ISNA(VLOOKUP($I15,'Cars & Results'!$A$6:$I$317,J$5,FALSE)),\"Invalid Number\",VLOOKUP($I15,'Cars & Results'!$A$6:$K$317,J$5,FALSE))","v":"Michael McDowell"},{"$f":"IF(ISNA(VLOOKUP($I15,'Cars & Results'!$A$6:$I$317,K$5,FALSE)),\"Invalid Number\",VLOOKUP($I15,'Cars & Results'!$A$6:$K$317,K$5,FALSE))","v":"Ford"},{"$f":"IF(ISNA(VLOOKUP($I15,'Cars & Results'!$A$6:$I$317,L$5,FALSE)),\"Invalid Number\",VLOOKUP($I15,'Cars & Results'!$A$6:$K$317,L$5,FALSE))","v":"Front Row Motorsports"},{"$f":"IF(HLOOKUP(M$5,$B$6:$I$15,Points!$A11+1,FALSE)=\"TBD\",\"\",VLOOKUP(HLOOKUP(M$5,$B$6:$I$15,Points!$A11+1,FALSE),'Cars & Results'!$A$7:$BZ$317,2*M$5+6,FALSE))","v":42},0,{"$f":"IF(HLOOKUP(O$5,$B$6:$I$15,Points!$A11+1,FALSE)=\"TBD\",\"\",VLOOKUP(HLOOKUP(O$5,$B$6:$I$15,Points!$A11+1,FALSE),'Cars & Results'!$A$7:$BZ$317,2*O$5+6,FALSE))","v":54},54,{"$f":"IF(HLOOKUP(Q$5,$B$6:$I$15,Points!$A11+1,FALSE)=\"TBD\",\"\",VLOOKUP(HLOOKUP(Q$5,$B$6:$I$15,Points!$A11+1,FALSE),'Cars & Results'!$A$7:$BZ$317,2*Q$5+6,FALSE))","v":50},0,{"$f":"IF(HLOOKUP(S$5,$B$6:$I$15,Points!$A11+1,FALSE)=\"TBD\",\"\",VLOOKUP(HLOOKUP(S$5,$B$6:$I$15,Points!$A11+1,FALSE),'Cars & Results'!$A$7:$BZ$317,2*S$5+6,FALSE))","v":10},0,{"$f":"IF(HLOOKUP(U$5,$B$6:$I$15,Points!$A11+1,FALSE)=\"TBD\",\"\",VLOOKUP(HLOOKUP(U$5,$B$6:$I$15,Points!$A11+1,FALSE),'Cars & Results'!$A$7:$BZ$317,2*U$5+6,FALSE))","v":37},37,{"$f":"IF(HLOOKUP(W$5,$B$6:$I$15,Points!$A11+1,FALSE)=\"TBD\",\"\",VLOOKUP(HLOOKUP(W$5,$B$6:$I$15,Points!$A11+1,FALSE),'Cars & Results'!$A$7:$BZ$317,2*W$5+6,FALSE))","v":37},0,{"$f":"IF(HLOOKUP(Y$5,$B$6:$I$15,Points!$A11+1,FALSE)=\"TBD\",\"\",VLOOKUP(HLOOKUP(Y$5,$B$6:$I$15,Points!$A11+1,FALSE),'Cars & Results'!$A$7:$BZ$317,2*Y$5+6,FALSE))","v":1},0,{"$f":"IF(HLOOKUP(AA$5,$B$6:$I$15,Points!$A11+1,FALSE)=\"TBD\",\"\",VLOOKUP(HLOOKUP(AA$5,$B$6:$I$15,Points!$A11+1,FALSE),'Cars & Results'!$A$7:$BZ$317,2*AA$5+6,FALSE))","v":26},{"$f":"IF(HLOOKUP(AA$5,$B$6:$I$15,Points!$A11+1,FALSE)=\"TBD\",\"\",IF(AND(VLOOKUP(HLOOKUP(AA$5,$B$6:$I$15,Points!$A11+1,FALSE),'Cars & Results'!$A$7:$BZ$317,2*AA$5+5)<=3,$A$15<=25),AA15*1,IF(AND(VLOOKUP(HLOOKUP(AA$5,$B$6:$I$15,Points!$A11+1,FALSE),'Cars & Results'!$A$7:$BZ$317,2*AA$5+5)<=10,$A$15>25),AA15*3,0)))","v":0}]
[null,null,null,null,null,null,null,null,null,null,null,"Segment 1",null,{"$f":"IF(INDIRECT(ADDRESS(321,5+(M5*2),1,1,\"Cars & Results\"),TRUE)=\"Y\",IF(ISERROR(MATCH(INDIRECT(ADDRESS(318,5+(M5*2),1,1,\"Cars & Results\"),TRUE),B7:B15,0))=TRUE,0,10),\"\")","v":10},null,{"$f":"IF(INDIRECT(ADDRESS(321,5+(O5*2),1,1,\"Cars & Results\"),TRUE)=\"Y\",IF(ISERROR(MATCH(INDIRECT(ADDRESS(318,5+(O5*2),1,1,\"Cars & Results\"),TRUE),C7:C15,0))=TRUE,0,10),\"\")","v":10},null,{"$f":"IF(INDIRECT(ADDRESS(321,5+(Q5*2),1,1,\"Cars & Results\"),TRUE)=\"Y\",IF(ISERROR(MATCH(INDIRECT(ADDRESS(318,5+(Q5*2),1,1,\"Cars & Results\"),TRUE),D7:D15,0))=TRUE,0,10),\"\")","v":10},null,{"$f":"IF(INDIRECT(ADDRESS(321,5+(S5*2),1,1,\"Cars & Results\"),TRUE)=\"Y\",IF(ISERROR(MATCH(INDIRECT(ADDRESS(318,5+(S5*2),1,1,\"Cars & Results\"),TRUE),E7:E15,0))=TRUE,0,10),\"\")","v":0},null,{"$f":"IF(INDIRECT(ADDRESS(321,5+(U5*2),1,1,\"Cars & Results\"),TRUE)=\"Y\",IF(ISERROR(MATCH(INDIRECT(ADDRESS(318,5+(U5*2),1,1,\"Cars & Results\"),TRUE),F7:F15,0))=TRUE,0,10),\"\")","v":10},null,{"$f":"IF(INDIRECT(ADDRESS(321,5+(W5*2),1,1,\"Cars & Results\"),TRUE)=\"Y\",IF(ISERROR(MATCH(INDIRECT(ADDRESS(318,5+(W5*2),1,1,\"Cars & Results\"),TRUE),G7:G15,0))=TRUE,0,10),\"\")","v":0},null,{"$f":"IF(INDIRECT(ADDRESS(321,5+(Y5*2),1,1,\"Cars & Results\"),TRUE)=\"Y\",IF(ISERROR(MATCH(INDIRECT(ADDRESS(318,5+(Y5*2),1,1,\"Cars & Results\"),TRUE),H7:H15,0))=TRUE,0,10),\"\")","v":10},null,{"$f":"IF(INDIRECT(ADDRESS(321,5+(AA5*2),1,1,\"Cars & Results\"),TRUE)=\"Y\",IF(ISERROR(MATCH(INDIRECT(ADDRESS(318,5+(AA5*2),1,1,\"Cars & Results\"),TRUE),I7:I15,0))=TRUE,0,10),\"\")","v":0}]
[null,null,null,null,null,null,null,null,null,null,null,"Segment 2",null,{"$f":"IF(INDIRECT(ADDRESS(321,5+(M5*2),1,1,\"Cars & Results\"),TRUE)=\"Y\",IF(ISERROR(MATCH(INDIRECT(ADDRESS(319,5+(M5*2),1,1,\"Cars & Results\"),TRUE),B7:B15,0))=TRUE,0,10),\"\")","v":0},null,{"$f":"IF(INDIRECT(ADDRESS(321,5+(O5*2),1,1,\"Cars & Results\"),TRUE)=\"Y\",IF(ISERROR(MATCH(INDIRECT(ADDRESS(319,5+(O5*2),1,1,\"Cars & Results\"),TRUE),C7:C15,0))=TRUE,0,10),\"\")","v":0},null,{"$f":"IF(INDIRECT(ADDRESS(321,5+(Q5*2),1,1,\"Cars & Results\"),TRUE)=\"Y\",IF(ISERROR(MATCH(INDIRECT(ADDRESS(319,5+(Q5*2),1,1,\"Cars & Results\"),TRUE),D7:D15,0))=TRUE,0,10),\"\")","v":10},null,{"$f":"IF(INDIRECT(ADDRESS(321,5+(S5*2),1,1,\"Cars & Results\"),TRUE)=\"Y\",IF(ISERROR(MATCH(INDIRECT(ADDRESS(319,5+(S5*2),1,1,\"Cars & Results\"),TRUE),E7:E15,0))=TRUE,0,10),\"\")","v":10},null,{"$f":"IF(INDIRECT(ADDRESS(321,5+(U5*2),1,1,\"Cars & Results\"),TRUE)=\"Y\",IF(ISERROR(MATCH(INDIRECT(ADDRESS(319,5+(U5*2),1,1,\"Cars & Results\"),TRUE),F7:F15,0))=TRUE,0,10),\"\")","v":0},null,{"$f":"IF(INDIRECT(ADDRESS(321,5+(W5*2),1,1,\"Cars & Results\"),TRUE)=\"Y\",IF(ISERROR(MATCH(INDIRECT(ADDRESS(319,5+(W5*2),1,1,\"Cars & Results\"),TRUE),G7:G15,0))=TRUE,0,10),\"\")","v":0},null,{"$f":"IF(INDIRECT(ADDRESS(321,5+(Y5*2),1,1,\"Cars & Results\"),TRUE)=\"Y\",IF(ISERROR(MATCH(INDIRECT(ADDRESS(319,5+(Y5*2),1,1,\"Cars & Results\"),TRUE),H7:H15,0))=TRUE,0,10),\"\")","v":10},null,{"$f":"IF(INDIRECT(ADDRESS(321,5+(AA5*2),1,1,\"Cars & Results\"),TRUE)=\"Y\",IF(ISERROR(MATCH(INDIRECT(ADDRESS(319,5+(AA5*2),1,1,\"Cars & Results\"),TRUE),I7:I15,0))=TRUE,0,10),\"\")","v":0}]
[null,null,null,null,null,null,null,null,null,null,null,"Segment 3",null,{"$f":"IF(INDIRECT(ADDRESS(321,5+(M5*2),1,1,\"Cars & Results\"),TRUE)=\"Y\",IF(ISERROR(MATCH(INDIRECT(ADDRESS(320,5+(M5*2),1,1,\"Cars & Results\"),TRUE),B7:B15,0))=TRUE,0,15),\"\")","v":0},null,{"$f":"IF(INDIRECT(ADDRESS(321,5+(O5*2),1,1,\"Cars & Results\"),TRUE)=\"Y\",IF(ISERROR(MATCH(INDIRECT(ADDRESS(320,5+(O5*2),1,1,\"Cars & Results\"),TRUE),C7:C15,0))=TRUE,0,15),\"\")","v":0},null,{"$f":"IF(INDIRECT(ADDRESS(321,5+(Q5*2),1,1,\"Cars & Results\"),TRUE)=\"Y\",IF(ISERROR(MATCH(INDIRECT(ADDRESS(320,5+(Q5*2),1,1,\"Cars & Results\"),TRUE),D7:D15,0))=TRUE,0,15),\"\")","v":15},null,{"$f":"IF(INDIRECT(ADDRESS(321,5+(S5*2),1,1,\"Cars & Results\"),TRUE)=\"Y\",IF(ISERROR(MATCH(INDIRECT(ADDRESS(320,5+(S5*2),1,1,\"Cars & Results\"),TRUE),E7:E15,0))=TRUE,0,15),\"\")","v":15},null,{"$f":"IF(INDIRECT(ADDRESS(321,5+(U5*2),1,1,\"Cars & Results\"),TRUE)=\"Y\",IF(ISERROR(MATCH(INDIRECT(ADDRESS(320,5+(U5*2),1,1,\"Cars & Results\"),TRUE),F7:F15,0))=TRUE,0,15),\"\")","v":15},null,{"$f":"IF(INDIRECT(ADDRESS(321,5+(W5*2),1,1,\"Cars & Results\"),TRUE)=\"Y\",IF(ISERROR(MATCH(INDIRECT(ADDRESS(320,5+(W5*2),1,1,\"Cars & Results\"),TRUE),G7:G15,0))=TRUE,0,15),\"\")","v":0},null,{"$f":"IF(INDIRECT(ADDRESS(321,5+(Y5*2),1,1,\"Cars & Results\"),TRUE)=\"Y\",IF(ISERROR(MATCH(INDIRECT(ADDRESS(320,5+(Y5*2),1,1,\"Cars & Results\"),TRUE),H7:H15,0))=TRUE,0,15),\"\")","v":15},null,{"$f":"IF(INDIRECT(ADDRESS(321,5+(AA5*2),1,1,\"Cars & Results\"),TRUE)=\"Y\",IF(ISERROR(MATCH(INDIRECT(ADDRESS(320,5+(AA5*2),1,1,\"Cars & Results\"),TRUE),I7:I15,0))=TRUE,0,15),\"\")","v":0}]
[null,{"$f":"SUM(B7:B15)","v":291},342,340,262,276,296,279,280,null,null,null,{"$f":"SUM(M7:M15)","v":215},null,{"$f":"SUM(O7:O15)","v":171},null,{"$f":"SUM(Q7:Q15)","v":266},null,{"$f":"SUM(S7:S15)","v":208},null,{"$f":"SUM(U7:U15)","v":193},null,{"$f":"SUM(W7:W15)","v":217},null,{"$f":"SUM(Y7:Y15)","v":157},null,{"$f":"SUM(AA7:AA15)","v":170}]
[null,null,null,null,null,null,null,null,null,null,null,null,null,{"$f":"SUM(N7:N19)","v":28.5},null,{"$f":"SUM(P7:P19)","v":64},null,{"$f":"SUM(R7:R19)","v":35},null,{"$f":"SUM(T7:T19)","v":25},null,{"$f":"SUM(V7:V19)","v":150.5},null,{"$f":"SUM(X7:X19)","v":43.5},null,{"$f":"SUM(Z7:Z19)","v":35},null,{"$f":"SUM(AB7:AB19)","v":87}]
[null,null,null,null,null,null,null,null,null,null,null,"Race Total",{"$f":"M19+N20","v":243.5},null,{"$f":"O19+P20","v":235},null,{"$f":"Q19+R20","v":301},null,{"$f":"S19+T20","v":233},null,{"$f":"U19+V20","v":343.5},null,{"$f":"W19+X20","v":260.5},null,{"$f":"Y19+Z20","v":192},null,{"$f":"AA19+AB20","v":257},null,{"$f":"SUM(M21:AB21)","v":2065.5}]
[null,null,null,null,null,null,null,null,"1-8"]
[null,null,null,null,null,null,null,null,"9-16"]
[null,null,null,null,null,null,null,null,"17-23"]
[null,null,null,null,null,null,null,null,"24-30"]
[null,null,null,null,null,null,null,null,"31-35"]
[null,null,null,null,null,null,null,null,">35"]
[null,null,null,null,null,null,null,null,"Provisional"]

{"sheet":"Trey George","index":10,"n_rows":28,"n_cols":29,"rows_kept":28,"cut":false,"hidden":false,"merged":[[20,20,20,21],[4,26,4,27],[20,26,20,27],[4,22,4,23],[4,24,4,25],[4,20,4,21],[20,22,20,23],[20,24,20,25],[1,26,1,27],[2,26,2,27],[0,26,0,27],[3,26,3,27],[2,20,2,21],[0,20,0,21],[0,22,0,23],[0,24,0,25],[2,24,2,25],[3,24,3,25],[3,22,3,23],[20,12,20,13],[20,14,20,15],[20,16,20,17],[20,18,20,19],[4,12,4,13],[4,14,4,15],[4,16,4,17],[4,18,4,19],[0,12,0,13],[0,14,0,15],[0,16,0,17],[0,18,0,19],[1,24,1,25],[1,22,1,23],[1,12,1,13],[1,14,1,15],[1,16,1,17],[1,18,1,19],[1,20,1,21],[2,12,2,13],[2,14,2,15],[2,16,2,17],[2,18,2,19],[2,22,2,23],[3,12,3,13],[3,14,3,15],[3,16,3,17],[3,18,3,19],[3,20,3,21]]}
[null,null,null,null,null,null,null,null,null,null,null,null,{"$f":"VLOOKUP(M$5,Schedule!$A$8:$G$43,2,FALSE)","v":"2020-07-23"},null,{"$f":"VLOOKUP(O$5,Schedule!$A$8:$G$43,2,FALSE)","v":"2020-08-02"},null,{"$f":"VLOOKUP(Q$5,Schedule!$A$8:$G$43,2,FALSE)","v":"2020-08-08"},null,{"$f":"VLOOKUP(S$5,Schedule!$A$8:$G$43,2,FALSE)","v":"2020-08-09"},null,{"$f":"VLOOKUP(U$5,Schedule!$A$8:$G$43,2,FALSE)","v":"2020-08-16"},null,{"$f":"VLOOKUP(W$5,Schedule!$A$8:$G$43,2,FALSE)","v":"2020-08-22"},null,{"$f":"VLOOKUP(Y$5,Schedule!$A$8:$G$43,2,FALSE)","v":"2020-08-23"},null,{"$f":"VLOOKUP(AA$5,Schedule!$A$8:$G$43,2,FALSE)","v":"2020-08-29"}]
[null,null,null,null,null,null,null,null,null,null,null,null,{"$f":"VLOOKUP(M$5,Schedule!$A$8:$G$43,3,FALSE)","v":"Super Start Batteries 400"},null,{"$f":"VLOOKUP(O$5,Schedule!$A$8:$G$43,3,FALSE)","v":"Foxwoods Resort Casino 301"},null,{"$f":"VLOOKUP(Q$5,Schedule!$A$8:$G$43,3,FALSE)","v":"FireKeepers Casino 500"},null,{"$f":"VLOOKUP(S$5,Schedule!$A$8:$G$43,3,FALSE)","v":"Consumers Energy 500"},null,{"$f":"VLOOKUP(U$5,Schedule!$A$8:$G$43,3,FALSE)","v":"Go Bowling at The Glen"},null,{"$f":"VLOOKUP(W$5,Schedule!$A$8:$G$43,3,FALSE)","v":"Drydene 311 (Sat)"},null,{"$f":"VLOOKUP(Y$5,Schedule!$A$8:$G$43,3,FALSE)","v":"Drydene 311 (Sun)"},null,{"$f":"VLOOKUP(AA$5,Schedule!$A$8:$G$43,3,FALSE)","v":"Coke Zero Sugar 400"}]
[null,null,null,null,null,null,null,null,null,null,null,null,{"$f":"VLOOKUP(M$5,Schedule!$A$8:$G$43,2,FALSE)","v":"2020-07-23"},null,{"$f":"VLOOKUP(O$5,Schedule!$A$8:$G$43,2,FALSE)","v":"2020-08-02"},null,{"$f":"VLOOKUP(Q$5,Schedule!$A$8:$G$43,2,FALSE)","v":"2020-08-08"},null,{"$f":"VLOOKUP(S$5,Schedule!$A$8:$G$43,2,FALSE)","v":"2020-08-09"},null,{"$f":"VLOOKUP(U$5,Schedule!$A$8:$G$43,2,FALSE)","v":"2020-08-16"},null,{"$f":"VLOOKUP(W$5,Schedule!$A$8:$G$43,2,FALSE)","v":"2020-08-22"},null,{"$f":"VLOOKUP(Y$5,Schedule!$A$8:$G$43,2,FALSE)","v":"2020-08-23"},null,{"$f":"VLOOKUP(AA$5,Schedule!$A$8:$G$43,2,FALSE)","v":"2020-08-29"}]
[null,null,null,null,null,null,null,null,null,null,null,null,{"$f":"VLOOKUP(M$5,Schedule!$A$4:$G$43,5,FALSE)","v":"Kansas "},null,{"$f":"VLOOKUP(O$5,Schedule!$A$4:$G$43,5,FALSE)","v":"New Hamp"},null,{"$f":"VLOOKUP(Q$5,Schedule!$A$4:$G$43,5,FALSE)","v":"Michigan (Sat)"},null,{"$f":"VLOOKUP(S$5,Schedule!$A$4:$G$43,5,FALSE)","v":"Michigan (Sun)"},null,{"$f":"VLOOKUP(U$5,Schedule!$A$4:$G$43,5,FALSE)","v":"Daytona (Road)"},null,{"$f":"VLOOKUP(W$5,Schedule!$A$4:$G$43,5,FALSE)","v":"Dover (Sat)"},null,{"$f":"VLOOKUP(Y$5,Schedule!$A$4:$G$43,5,FALSE)","v":"Dover (Sun)"},null,{"$f":"VLOOKUP(AA$5,Schedule!$A$4:$G$43,5,FALSE)","v":"Daytona "}]
["Owner","Week","Week","Week","Week","Week","Week","Week","Week",2,3,4,19,null,20,null,21,null,22,null,23,null,24,null,25,null,26,null,"Total"]
["Points",19,20,21,22,23,24,25,26,"Driver","Make","Sponsor","Points","Bonus","Points","Bonus","Points","Bonus","Points","Bonus","Points","Bonus","Points","Bonus","Points","Bonus","Points","Bonus","Points"]
[{"$f":"VLOOKUP(HLOOKUP('Pick Distribution'!$P$2,$B$6:$I$15,$J$5),'Current Owner Standings'!$A$71:$B$480,2,FALSE)","v":6},12,12,12,12,12,12,12,12,{"$f":"IF(ISNA(VLOOKUP($I7,'Cars & Results'!$A$6:$I$317,J$5,FALSE)),\"Invalid Number\",VLOOKUP($I7,'Cars & Results'!$A$6:$K$317,J$5,FALSE))","v":"Ryan Blaney"},{"$f":"IF(ISNA(VLOOKUP($I7,'Cars & Results'!$A$6:$I$317,K$5,FALSE)),\"Invalid Number\",VLOOKUP($I7,'Cars & Results'!$A$6:$K$317,K$5,FALSE))","v":"Ford"},{"$f":"IF(ISNA(VLOOKUP($I7,'Cars & Results'!$A$6:$I$317,L$5,FALSE)),\"Invalid Number\",VLOOKUP($I7,'Cars & Results'!$A$6:$K$317,L$5,FALSE))","v":"Team Penske"},{"$f":"IF(HLOOKUP(M$5,$B$6:$I$15,Points!$A3+1,FALSE)=\"TBD\",\"\",VLOOKUP(HLOOKUP(M$5,$B$6:$I$15,Points!$A3+1,FALSE),'Cars & Results'!$A$7:$BZ$317,2*M$5+6,FALSE))","v":33},{"$f":"IF(HLOOKUP(M$5,$B$6:$I$15,Points!$A3+1,FALSE)=\"TBD\",\"\",0)","v":0},{"$f":"IF(HLOOKUP(O$5,$B$6:$I$15,Points!$A3+1,FALSE)=\"TBD\",\"\",VLOOKUP(HLOOKUP(O$5,$B$6:$I$15,Points!$A3+1,FALSE),'Cars & Results'!$A$7:$BZ$317,2*O$5+6,FALSE))","v":22},{"$f":"IF(HLOOKUP(O$5,$B$6:$I$15,Points!$A3+1,FALSE)=\"TBD\",\"\",0)","v":0},{"$f":"IF(HLOOKUP(Q$5,$B$6:$I$15,Points!$A3+1,FALSE)=\"TBD\",\"\",VLOOKUP(HLOOKUP(Q$5,$B$6:$I$15,Points!$A3+1,FALSE),'Cars & Results'!$A$7:$BZ$317,2*Q$5+6,FALSE))","v":50},{"$f":"IF(HLOOKUP(Q$5,$B$6:$I$15,Points!$A3+1,FALSE)=\"TBD\",\"\",0)","v":0},{"$f":"IF(HLOOKUP(S$5,$B$6:$I$15,Points!$A3+1,FALSE)=\"TBD\",\"\",VLOOKUP(HLOOKUP(S$5,$B$6:$I$15,Points!$A3+1,FALSE),'Cars & Results'!$A$7:$BZ$317,2*S$5+6,FALSE))","v":6},{"$f":"IF(HLOOKUP(S$5,$B$6:$I$15,Points!$A3+1,FALSE)=\"TBD\",\"\",0)","v":0},{"$f":"IF(HLOOKUP(U$5,$B$6:$I$15,Points!$A3+1,FALSE)=\"TBD\",\"\",VLOOKUP(HLOOKUP(U$5,$B$6:$I$15,Points!$A3+1,FALSE),'Cars & Results'!$A$7:$BZ$317,2*U$5+6,FALSE))","v":14},{"$f":"IF(HLOOKUP(U$5,$B$6:$I$15,Points!$A3+1,FALSE)=\"TBD\",\"\",0)","v":0},{"$f":"IF(HLOOKUP(W$5,$B$6:$I$15,Points!$A3+1,FALSE)=\"TBD\",\"\",VLOOKUP(HLOOKUP(W$5,$B$6:$I$15,Points!$A3+1,FALSE),'Cars & Results'!$A$7:$BZ$317,2*W$5+6,FALSE))","v":23},{"$f":"IF(HLOOKUP(W$5,$B$6:$I$15,Points!$A3+1,FALSE)=\"TBD\",\"\",0)","v":0},{"$f":"IF(HLOOKUP(Y$5,$B$6:$I$15,Points!$A3+1,FALSE)=\"TBD\",\"\",VLOOKUP(HLOOKUP(Y$5,$B$6:$I$15,Points!$A3+1,FALSE),'Cars & Results'!$A$7:$BZ$317,2*Y$5+6,FALSE))","v":40},{"$f":"IF(HLOOKUP(Y$5,$B$6:$I$15,Points!$A3+1,FALSE)=\"TBD\",\"\",0)","v":0},{"$f":"IF(HLOOKUP(AA$5,$B$6:$I$15,Points!$A3+1,FALSE)=\"TBD\",\"\",VLOOKUP(HLOOKUP(AA$5,$B$6:$I$15,Points!$A3+1,FALSE),'Cars & Results'!$A$7:$BZ$317,2*AA$5+6,FALSE))","v":40},{"$f":"IF(HLOOKUP(AA$5,$B$6:$I$15,Points!$A3+1,FALSE)=\"TBD\",\"\",0)","v":0}]
[{"$f":"VLOOKUP(HLOOKUP('Pick Distribution'!$P$2,$B$6:$I$15,3),'Current Owner Standings'!$A$71:$B$480,2,FALSE)","v":10},1,1,1,1,1,1,1,1,{"$f":"IF(ISNA(VLOOKUP($I8,'Cars & Results'!$A$6:$I$317,J$5,FALSE)),\"Invalid Number\",VLOOKUP($I8,'Cars & Results'!$A$6:$K$317,J$5,FALSE))","v":"Kurt Busch"},{"$f":"IF(ISNA(VLOOKUP($I8,'Cars & Results'!$A$6:$I$317,K$5,FALSE)),\"Invalid Number\",VLOOKUP($I8,'Cars & Results'!$A$6:$K$317,K$5,FALSE))","v":"Chevrolet"},{"$f":"IF(ISNA(VLOOKUP($I8,'Cars & Results'!$A$6:$I$317,L$5,FALSE)),\"Invalid Number\",VLOOKUP($I8,'Cars & Results'!$A$6:$K$317,L$5,FALSE))","v":"Chip Ganassi Racing"},{"$f":"IF(HLOOKUP(M$5,$B$6:$I$15,Points!$A4+1,FALSE)=\"TBD\",\"\",VLOOKUP(HLOOKUP(M$5,$B$6:$I$15,Points!$A4+1,FALSE),'Cars & Results'!$A$7:$BZ$317,2*M$5+6,FALSE))","v":28},{"$f":"IF(HLOOKUP(M$5,$B$6:$I$15,Points!$A4+1,FALSE)=\"TBD\",\"\",IF(VLOOKUP(HLOOKUP(M$5,$B$6:$I$15,Points!$A4+1,FALSE),'Cars & Results'!$A$7:$BZ$317,2*M$5+5)=1,M8*0.25,0))","v":0},{"$f":"IF(HLOOKUP(O$5,$B$6:$I$15,Points!$A4+1,FALSE)=\"TBD\",\"\",VLOOKUP(HLOOKUP(O$5,$B$6:$I$15,Points!$A4+1,FALSE),'Cars & Results'!$A$7:$BZ$317,2*O$5+6,FALSE))","v":20},{"$f":"IF(HLOOKUP(O$5,$B$6:$I$15,Points!$A4+1,FALSE)=\"TBD\",\"\",IF(VLOOKUP(HLOOKUP(O$5,$B$6:$I$15,Points!$A4+1,FALSE),'Cars & Results'!$A$7:$BZ$317,2*O$5+5)=1,O8*0.25,0))","v":0},{"$f":"IF(HLOOKUP(Q$5,$B$6:$I$15,Points!$A4+1,FALSE)=\"TBD\",\"\",VLOOKUP(HLOOKUP(Q$5,$B$6:$I$15,Points!$A4+1,FALSE),'Cars & Results'!$A$7:$BZ$317,2*Q$5+6,FALSE))","v":38},{"$f":"IF(HLOOKUP(Q$5,$B$6:$I$15,Points!$A4+1,FALSE)=\"TBD\",\"\",IF(VLOOKUP(HLOOKUP(Q$5,$B$6:$I$15,Points!$A4+1,FALSE),'Cars & Results'!$A$7:$BZ$317,2*Q$5+5)=1,Q8*0.25,0))","v":0},{"$f":"IF(HLOOKUP(S$5,$B$6:$I$15,Points!$A4+1,FALSE)=\"TBD\",\"\",VLOOKUP(HLOOKUP(S$5,$B$6:$I$15,Points!$A4+1,FALSE),'Cars & Results'!$A$7:$BZ$317,2*S$5+6,FALSE))","v":29},{"$f":"IF(HLOOKUP(S$5,$B$6:$I$15,Points!$A4+1,FALSE)=\"TBD\",\"\",IF(VLOOKUP(HLOOKUP(S$5,$B$6:$I$15,Points!$A4+1,FALSE),'Cars & Results'!$A$7:$BZ$317,2*S$5+5)=1,S8*0.25,0))","v":0},{"$f":"IF(HLOOKUP(U$5,$B$6:$I$15,Points!$A4+1,FALSE)=\"TBD\",\"\",VLOOKUP(HLOOKUP(U$5,$B$6:$I$15,Points!$A4+1,FALSE),'Cars & Results'!$A$7:$BZ$317,2*U$5+6,FALSE))","v":25},{"$f":"IF(HLOOKUP(U$5,$B$6:$I$15,Points!$A4+1,FALSE)=\"TBD\",\"\",IF(VLOOKUP(HLOOKUP(U$5,$B$6:$I$15,Points!$A4+1,FALSE),'Cars & Results'!$A$7:$BZ$317,2*U$5+5)=1,U8*0.25,0))","v":0},{"$f":"IF(HLOOKUP(W$5,$B$6:$I$15,Points!$A4+1,FALSE)=\"TBD\",\"\",VLOOKUP(HLOOKUP(W$5,$B$6:$I$15,Points!$A4+1,FALSE),'Cars & Results'!$A$7:$BZ$317,2*W$5+6,FALSE))","v":1},{"$f":"IF(HLOOKUP(W$5,$B$6:$I$15,Points!$A4+1,FALSE)=\"TBD\",\"\",IF(VLOOKUP(HLOOKUP(W$5,$B$6:$I$15,Points!$A4+1,FALSE),'Cars & Results'!$A$7:$BZ$317,2*W$5+5)=1,W8*0.25,0))","v":0},{"$f":"IF(HLOOKUP(Y$5,$B$6:$I$15,Points!$A4+1,FALSE)=\"TBD\",\"\",VLOOKUP(HLOOKUP(Y$5,$B$6:$I$15,Points!$A4+1,FALSE),'Cars & Results'!$A$7:$BZ$317,2*Y$5+6,FALSE))","v":26},{"$f":"IF(HLOOKUP(Y$5,$B$6:$I$15,Points!$A4+1,FALSE)=\"TBD\",\"\",IF(VLOOKUP(HLOOKUP(Y$5,$B$6:$I$15,Points!$A4+1,FALSE),'Cars & Results'!$A$7:$BZ$317,2*Y$5+5)=1,Y8*0.25,0))","v":0},{"$f":"IF(HLOOKUP(AA$5,$B$6:$I$15,Points!$A4+1,FALSE)=\"TBD\",\"\",VLOOKUP(HLOOKUP(AA$5,$B$6:$I$15,Points!$A4+1,FALSE),'Cars & Results'!$A$7:$BZ$317,2*AA$5+6,FALSE))","v":10},{"$f":"IF(HLOOKUP(AA$5,$B$6:$I$15,Points!$A4+1,FALSE)=\"TBD\",\"\",IF(VLOOKUP(HLOOKUP(AA$5,$B$6:$I$15,Points!$A4+1,FALSE),'Cars & Results'!$A$7:$BZ$317,2*AA$5+5)=1,AA8*0.25,0))","v":0}]
[{"$f":"VLOOKUP(HLOOKUP('Pick Distribution'!$P$2,$B$6:$I$15,4),'Current Owner Standings'!$A$71:$B$480,2,FALSE)","v":21},8,17,17,95,95,95,95,95,{"$f":"IF(ISNA(VLOOKUP($I9,'Cars & Results'!$A$6:$I$317,J$5,FALSE)),\"Invalid Number\",VLOOKUP($I9,'Cars & Results'!$A$6:$K$317,J$5,FALSE))","v":"Christopher Bell (R)"},{"$f":"IF(ISNA(VLOOKUP($I9,'Cars & Results'!$A$6:$I$317,K$5,FALSE)),\"Invalid Number\",VLOOKUP($I9,'Cars & Results'!$A$6:$K$317,K$5,FALSE))","v":"Toyota"},{"$f":"IF(ISNA(VLOOKUP($I9,'Cars & Results'!$A$6:$I$317,L$5,FALSE)),\"Invalid Number\",VLOOKUP($I9,'Cars & Results'!$A$6:$K$317,L$5,FALSE))","v":"Leavine Family Racing"},{"$f":"IF(HLOOKUP(M$5,$B$6:$I$15,Points!$A5+1,FALSE)=\"TBD\",\"\",VLOOKUP(HLOOKUP(M$5,$B$6:$I$15,Points!$A5+1,FALSE),'Cars & Results'!$A$7:$BZ$317,2*M$5+6,FALSE))","v":29},{"$f":"IF(HLOOKUP(M$5,$B$6:$I$15,Points!$A5+1,FALSE)=\"TBD\",\"\",IF(VLOOKUP(HLOOKUP(M$5,$B$6:$I$15,Points!$A5+1,FALSE),'Cars & Results'!$A$7:$BZ$317,2*M$5+5)<=5,M9*0.5,0))","v":0},{"$f":"IF(HLOOKUP(O$5,$B$6:$I$15,Points!$A5+1,FALSE)=\"TBD\",\"\",VLOOKUP(HLOOKUP(O$5,$B$6:$I$15,Points!$A5+1,FALSE),'Cars & Results'!$A$7:$BZ$317,2*O$5+6,FALSE))","v":12},{"$f":"IF(HLOOKUP(O$5,$B$6:$I$15,Points!$A5+1,FALSE)=\"TBD\",\"\",IF(VLOOKUP(HLOOKUP(O$5,$B$6:$I$15,Points!$A5+1,FALSE),'Cars & Results'!$A$7:$BZ$317,2*O$5+5)<=5,O9*0.5,0))","v":0},{"$f":"IF(HLOOKUP(Q$5,$B$6:$I$15,Points!$A5+1,FALSE)=\"TBD\",\"\",VLOOKUP(HLOOKUP(Q$5,$B$6:$I$15,Points!$A5+1,FALSE),'Cars & Results'!$A$7:$BZ$317,2*Q$5+6,FALSE))","v":17},{"$f":"IF(HLOOKUP(Q$5,$B$6:$I$15,Points!$A5+1,FALSE)=\"TBD\",\"\",IF(VLOOKUP(HLOOKUP(Q$5,$B$6:$I$15,Points!$A5+1,FALSE),'Cars & Results'!$A$7:$BZ$317,2*Q$5+5)<=5,Q9*0.5,0))","v":0},{"$f":"IF(HLOOKUP(S$5,$B$6:$I$15,Points!$A5+1,FALSE)=\"TBD\",\"\",VLOOKUP(HLOOKUP(S$5,$B$6:$I$15,Points!$A5+1,FALSE),'Cars & Results'!$A$7:$BZ$317,2*S$5+6,FALSE))","v":36},{"$f":"IF(HLOOKUP(S$5,$B$6:$I$15,Points!$A5+1,FALSE)=\"TBD\",\"\",IF(VLOOKUP(HLOOKUP(S$5,$B$6:$I$15,Points!$A5+1,FALSE),'Cars & Results'!$A$7:$BZ$317,2*S$5+5)<=5,S9*0.5,0))","v":0},{"$f":"IF(HLOOKUP(U$5,$B$6:$I$15,Points!$A5+1,FALSE)=\"TBD\",\"\",VLOOKUP(HLOOKUP(U$5,$B$6:$I$15,Points!$A5+1,FALSE),'Cars & Results'!$A$7:$BZ$317,2*U$5+6,FALSE))","v":16},{"$f":"IF(HLOOKUP(U$5,$B$6:$I$15,Points!$A5+1,FALSE)=\"TBD\",\"\",IF(VLOOKUP(HLOOKUP(U$5,$B$6:$I$15,Points!$A5+1,FALSE),'Cars & Results'!$A$7:$BZ$317,2*U$5+5)<=5,U9*0.5,0))","v":0},{"$f":"IF(HLOOKUP(W$5,$B$6:$I$15,Points!$A5+1,FALSE)=\"TBD\",\"\",VLOOKUP(HLOOKUP(W$5,$B$6:$I$15,Points!$A5+1,FALSE),'Cars & Results'!$A$7:$BZ$317,2*W$5+6,FALSE))","v":15},{"$f":"IF(HLOOKUP(W$5,$B$6:$I$15,Points!$A5+1,FALSE)=\"TBD\",\"\",IF(VLOOKUP(HLOOKUP(W$5,$B$6:$I$15,Points!$A5+1,FALSE),'Cars & Results'!$A$7:$BZ$317,2*W$5+5)<=5,W9*0.5,0))","v":0},{"$f":"IF(HLOOKUP(Y$5,$B$6:$I$15,Points!$A5+1,FALSE)=\"TBD\",\"\",VLOOKUP(HLOOKUP(Y$5,$B$6:$I$15,Points!$A5+1,FALSE),'Cars & Results'!$A$7:$BZ$317,2*Y$5+6,FALSE))","v":10},{"$f":"IF(HLOOKUP(Y$5,$B$6:$I$15,Points!$A5+1,FALSE)=\"TBD\",\"\",IF(VLOOKUP(HLOOKUP(Y$5,$B$6:$I$15,Points!$A5+1,FALSE),'Cars & Results'!$A$7:$BZ$317,2*Y$5+5)<=5,Y9*0.5,0))","v":0},{"$f":"IF(HLOOKUP(AA$5,$B$6:$I$15,Points!$A5+1,FALSE)=\"TBD\",\"\",VLOOKUP(HLOOKUP(AA$5,$B$6:$I$15,Points!$A5+1,FALSE),'Cars & Results'!$A$7:$BZ$317,2*AA$5+6,FALSE))","v":30},{"$f":"IF(HLOOKUP(AA$5,$B$6:$I$15,Points!$A5+1,FALSE)=\"TBD\",\"\",IF(VLOOKUP(HLOOKUP(AA$5,$B$6:$I$15,Points!$A5+1,FALSE),'Cars & Results'!$A$7:$BZ$317,2*AA$5+5)<=5,AA9*0.5,0))","v":0}]
[{"$f":"VLOOKUP(HLOOKUP('Pick Distribution'!$P$2,$B$6:$I$15,5),'Current Owner Standings'!$A$71:$B$480,2,FALSE)","v":22},20,43,34,34,6,17,17,17,{"$f":"IF(ISNA(VLOOKUP($I10,'Cars & Results'!$A$6:$I$317,J$5,FALSE)),\"Invalid Number\",VLOOKUP($I10,'Cars & Results'!$A$6:$K$317,J$5,FALSE))","v":"Chris Buescher"},{"$f":"IF(ISNA(VLOOKUP($I10,'Cars & Results'!$A$6:$I$317,K$5,FALSE)),\"Invalid Number\",VLOOKUP($I10,'Cars & Results'!$A$6:$K$317,K$5,FALSE))","v":"Ford"},{"$f":"IF(ISNA(VLOOKUP($I10,'Cars & Results'!$A$6:$I$317,L$5,FALSE)),\"Invalid Number\",VLOOKUP($I10,'Cars & Results'!$A$6:$K$317,L$5,FALSE))","v":"Roush Fenway Racing"},{"$f":"IF(HLOOKUP(M$5,$B$6:$I$15,Points!$A6+1,FALSE)=\"TBD\",\"\",VLOOKUP(HLOOKUP(M$5,$B$6:$I$15,Points!$A6+1,FALSE),'Cars & Results'!$A$7:$BZ$317,2*M$5+6,FALSE))","v":37},{"$f":"IF(HLOOKUP(M$5,$B$6:$I$15,Points!$A6+1,FALSE)=\"TBD\",\"\",IF(VLOOKUP(HLOOKUP(M$5,$B$6:$I$15,Points!$A6+1,FALSE),'Cars & Results'!$A$7:$BZ$317,2*M$5+5)<=5,M10*0.5,0))","v":18.5},{"$f":"IF(HLOOKUP(O$5,$B$6:$I$15,Points!$A6+1,FALSE)=\"TBD\",\"\",VLOOKUP(HLOOKUP(O$5,$B$6:$I$15,Points!$A6+1,FALSE),'Cars & Results'!$A$7:$BZ$317,2*O$5+6,FALSE))","v":14},{"$f":"IF(HLOOKUP(O$5,$B$6:$I$15,Points!$A6+1,FALSE)=\"TBD\",\"\",IF(VLOOKUP(HLOOKUP(O$5,$B$6:$I$15,Points!$A6+1,FALSE),'Cars & Results'!$A$7:$BZ$317,2*O$5+5)<=5,O10*0.5,0))","v":0},{"$f":"IF(HLOOKUP(Q$5,$B$6:$I$15,Points!$A6+1,FALSE)=\"TBD\",\"\",VLOOKUP(HLOOKUP(Q$5,$B$6:$I$15,Points!$A6+1,FALSE),'Cars & Results'!$A$7:$BZ$317,2*Q$5+6,FALSE))","v":8},{"$f":"IF(HLOOKUP(Q$5,$B$6:$I$15,Points!$A6+1,FALSE)=\"TBD\",\"\",IF(VLOOKUP(HLOOKUP(Q$5,$B$6:$I$15,Points!$A6+1,FALSE),'Cars & Results'!$A$7:$BZ$317,2*Q$5+5)<=5,Q10*0.5,0))","v":0},{"$f":"IF(HLOOKUP(S$5,$B$6:$I$15,Points!$A6+1,FALSE)=\"TBD\",\"\",VLOOKUP(HLOOKUP(S$5,$B$6:$I$15,Points!$A6+1,FALSE),'Cars & Results'!$A$7:$BZ$317,2*S$5+6,FALSE))","v":9},{"$f":"IF(HLOOKUP(S$5,$B$6:$I$15,Points!$A6+1,FALSE)=\"TBD\",\"\",IF(VLOOKUP(HLOOKUP(S$5,$B$6:$I$15,Points!$A6+1,FALSE),'Cars & Results'!$A$7:$BZ$317,2*S$5+5)<=5,S10*0.5,0))","v":0},{"$f":"IF(HLOOKUP(U$5,$B$6:$I$15,Points!$A6+1,FALSE)=\"TBD\",\"\",VLOOKUP(HLOOKUP(U$5,$B$6:$I$15,Points!$A6+1,FALSE),'Cars & Results'!$A$7:$BZ$317,2*U$5+6,FALSE))","v":18},{"$f":"IF(HLOOKUP(U$5,$B$6:$I$15,Points!$A6+1,FALSE)=\"TBD\",\"\",IF(VLOOKUP(HLOOKUP(U$5,$B$6:$I$15,Points!$A6+1,FALSE),'Cars & Results'!$A$7:$BZ$317,2*U$5+5)<=5,U10*0.5,0))","v":0},{"$f":"IF(HLOOKUP(W$5,$B$6:$I$15,Points!$A6+1,FALSE)=\"TBD\",\"\",VLOOKUP(HLOOKUP(W$5,$B$6:$I$15,Points!$A6+1,FALSE),'Cars & Results'!$A$7:$BZ$317,2*W$5+6,FALSE))","v":23},{"$f":"IF(HLOOKUP(W$5,$B$6:$I$15,Points!$A6+1,FALSE)=\"TBD\",\"\",IF(VLOOKUP(HLOOKUP(W$5,$B$6:$I$15,Points!$A6+1,FALSE),'Cars & Results'!$A$7:$BZ$317,2*W$5+5)<=5,W10*0.5,0))","v":0},{"$f":"IF(HLOOKUP(Y$5,$B$6:$I$15,Points!$A6+1,FALSE)=\"TBD\",\"\",VLOOKUP(HLOOKUP(Y$5,$B$6:$I$15,Points!$A6+1,FALSE),'Cars & Results'!$A$7:$BZ$317,2*Y$5+6,FALSE))","v":23},{"$f":"IF(HLOOKUP(Y$5,$B$6:$I$15,Points!$A6+1,FALSE)=\"TBD\",\"\",IF(VLOOKUP(HLOOKUP(Y$5,$B$6:$I$15,Points!$A6+1,FALSE),'Cars & Results'!$A$7:$BZ$317,2*Y$5+5)<=5,Y10*0.5,0))","v":0},{"$f":"IF(HLOOKUP(AA$5,$B$6:$I$15,Points!$A6+1,FALSE)=\"TBD\",\"\",VLOOKUP(HLOOKUP(AA$5,$B$6:$I$15,Points!$A6+1,FALSE),'Cars & Results'!$A$7:$BZ$317,2*AA$5+6,FALSE))","v":28},{"$f":"IF(HLOOKUP(AA$5,$B$6:$I$15,Points!$A6+1,FALSE)=\"TBD\",\"\",IF(VLOOKUP(HLOOKUP(AA$5,$B$6:$I$15,Points!$A6+1,FALSE),'Cars & Results'!$A$7:$BZ$317,2*AA$5+5)<=5,AA10*0.5,0))","v":0}]
[{"$f":"VLOOKUP(HLOOKUP('Pick Distribution'!$P$2,$B$6:$I$15,6),'Current Owner Standings'!$A$71:$B$480,2,FALSE)","v":29},41,32,32,32,32,32,32,32,{"$f":"IF(ISNA(VLOOKUP($I11,'Cars & Results'!$A$6:$I$317,J$5,FALSE)),\"Invalid Number\",VLOOKUP($I11,'Cars & Results'!$A$6:$K$317,J$5,FALSE))","v":"Corey LaJoie"},{"$f":"IF(ISNA(VLOOKUP($I11,'Cars & Results'!$A$6:$I$317,K$5,FALSE)),\"Invalid Number\",VLOOKUP($I11,'Cars & Results'!$A$6:$K$317,K$5,FALSE))","v":"Ford"},{"$f":"IF(ISNA(VLOOKUP($I11,'Cars & Results'!$A$6:$I$317,L$5,FALSE)),\"Invalid Number\",VLOOKUP($I11,'Cars & Results'!$A$6:$K$317,L$5,FALSE))","v":"Go Fas Racing"},{"$f":"IF(HLOOKUP(M$5,$B$6:$I$15,Points!$A7+1,FALSE)=\"TBD\",\"\",VLOOKUP(HLOOKUP(M$5,$B$6:$I$15,Points!$A7+1,FALSE),'Cars & Results'!$A$7:$BZ$317,2*M$5+6,FALSE))","v":30},{"$f":"IF(HLOOKUP(M$5,$B$6:$I$15,Points!$A7+1,FALSE)=\"TBD\",\"\",IF(VLOOKUP(HLOOKUP(M$5,$B$6:$I$15,Points!$A7+1,FALSE),'Cars & Results'!$A$7:$BZ$317,2*M$5+5)<=10,M11*1.5,0))","v":45},{"$f":"IF(HLOOKUP(O$5,$B$6:$I$15,Points!$A7+1,FALSE)=\"TBD\",\"\",VLOOKUP(HLOOKUP(O$5,$B$6:$I$15,Points!$A7+1,FALSE),'Cars & Results'!$A$7:$BZ$317,2*O$5+6,FALSE))","v":2},{"$f":"IF(HLOOKUP(O$5,$B$6:$I$15,Points!$A7+1,FALSE)=\"TBD\",\"\",IF(VLOOKUP(HLOOKUP(O$5,$B$6:$I$15,Points!$A7+1,FALSE),'Cars & Results'!$A$7:$BZ$317,2*O$5+5)<=10,O11*1.5,0))","v":0},{"$f":"IF(HLOOKUP(Q$5,$B$6:$I$15,Points!$A7+1,FALSE)=\"TBD\",\"\",VLOOKUP(HLOOKUP(Q$5,$B$6:$I$15,Points!$A7+1,FALSE),'Cars & Results'!$A$7:$BZ$317,2*Q$5+6,FALSE))","v":15},{"$f":"IF(HLOOKUP(Q$5,$B$6:$I$15,Points!$A7+1,FALSE)=\"TBD\",\"\",IF(VLOOKUP(HLOOKUP(Q$5,$B$6:$I$15,Points!$A7+1,FALSE),'Cars & Results'!$A$7:$BZ$317,2*Q$5+5)<=10,Q11*1.5,0))","v":0},{"$f":"IF(HLOOKUP(S$5,$B$6:$I$15,Points!$A7+1,FALSE)=\"TBD\",\"\",VLOOKUP(HLOOKUP(S$5,$B$6:$I$15,Points!$A7+1,FALSE),'Cars & Results'!$A$7:$BZ$317,2*S$5+6,FALSE))","v":15},{"$f":"IF(HLOOKUP(S$5,$B$6:$I$15,Points!$A7+1,FALSE)=\"TBD\",\"\",IF(VLOOKUP(HLOOKUP(S$5,$B$6:$I$15,Points!$A7+1,FALSE),'Cars & Results'!$A$7:$BZ$317,2*S$5+5)<=10,S11*1.5,0))","v":0},{"$f":"IF(HLOOKUP(U$5,$B$6:$I$15,Points!$A7+1,FALSE)=\"TBD\",\"\",VLOOKUP(HLOOKUP(U$5,$B$6:$I$15,Points!$A7+1,FALSE),'Cars & Results'!$A$7:$BZ$317,2*U$5+6,FALSE))","v":6},{"$f":"IF(HLOOKUP(U$5,$B$6:$I$15,Points!$A7+1,FALSE)=\"TBD\",\"\",IF(VLOOKUP(HLOOKUP(U$5,$B$6:$I$15,Points!$A7+1,FALSE),'Cars & Results'!$A$7:$BZ$317,2*U$5+5)<=10,U11*1.5,0))","v":0},{"$f":"IF(HLOOKUP(W$5,$B$6:$I$15,Points!$A7+1,FALSE)=\"TBD\",\"\",VLOOKUP(HLOOKUP(W$5,$B$6:$I$15,Points!$A7+1,FALSE),'Cars & Results'!$A$7:$BZ$317,2*W$5+6,FALSE))","v":8},{"$f":"IF(HLOOKUP(W$5,$B$6:$I$15,Points!$A7+1,FALSE)=\"TBD\",\"\",IF(VLOOKUP(HLOOKUP(W$5,$B$6:$I$15,Points!$A7+1,FALSE),'Cars & Results'!$A$7:$BZ$317,2*W$5+5)<=10,W11*1.5,0))","v":0},{"$f":"IF(HLOOKUP(Y$5,$B$6:$I$15,Points!$A7+1,FALSE)=\"TBD\",\"\",VLOOKUP(HLOOKUP(Y$5,$B$6:$I$15,Points!$A7+1,FALSE),'Cars & Results'!$A$7:$BZ$317,2*Y$5+6,FALSE))","v":14},{"$f":"IF(HLOOKUP(Y$5,$B$6:$I$15,Points!$A7+1,FALSE)=\"TBD\",\"\",IF(VLOOKUP(HLOOKUP(Y$5,$B$6:$I$15,Points!$A7+1,FALSE),'Cars & Results'!$A$7:$BZ$317,2*Y$5+5)<=10,Y11*1.5,0))","v":0},{"$f":"IF(HLOOKUP(AA$5,$B$6:$I$15,Points!$A7+1,FALSE)=\"TBD\",\"\",VLOOKUP(HLOOKUP(AA$5,$B$6:$I$15,Points!$A7+1,FALSE),'Cars & Results'!$A$7:$BZ$317,2*AA$5+6,FALSE))","v":16},{"$f":"IF(HLOOKUP(AA$5,$B$6:$I$15,Points!$A7+1,FALSE)=\"TBD\",\"\",IF(VLOOKUP(HLOOKUP(AA$5,$B$6:$I$15,Points!$A7+1,FALSE),'Cars & Results'!$A$7:$BZ$317,2*AA$5+5)<=10,AA11*1.5,0))","v":0}]
[{"$f":"VLOOKUP(HLOOKUP('Pick Distribution'!$P$2,$B$6:$I$15,7),'Current Owner Standings'!$A$71:$B$480,2,FALSE)","v":30},47,47,47,47,47,47,37,37,{"$f":"IF(ISNA(VLOOKUP($I12,'Cars & Results'!$A$6:$I$317,J$5,FALSE)),\"Invalid Number\",VLOOKUP($I12,'Cars & Results'!$A$6:$K$317,J$5,FALSE))","v":"Ryan Preece"},{"$f":"IF(ISNA(VLOOKUP($I12,'Cars & Results'!$A$6:$I$317,K$5,FALSE)),\"Invalid Number\",VLOOKUP($I12,'Cars & Results'!$A$6:$K$317,K$5,FALSE))","v":"Chevrolet"},{"$f":"IF(ISNA(VLOOKUP($I12,'Cars & Results'!$A$6:$I$317,L$5,FALSE)),\"Invalid Number\",VLOOKUP($I12,'Cars & Results'!$A$6:$K$317,L$5,FALSE))","v":"JTG Daugherty Racing"},{"$f":"IF(HLOOKUP(M$5,$B$6:$I$15,Points!$A8+1,FALSE)=\"TBD\",\"\",VLOOKUP(HLOOKUP(M$5,$B$6:$I$15,Points!$A8+1,FALSE),'Cars & Results'!$A$7:$BZ$317,2*M$5+6,FALSE))","v":1},{"$f":"IF(HLOOKUP(M$5,$B$6:$I$15,Points!$A8+1,FALSE)=\"TBD\",\"\",IF(VLOOKUP(HLOOKUP(M$5,$B$6:$I$15,Points!$A8+1,FALSE),'Cars & Results'!$A$7:$BZ$317,2*M$5+5)<=10,M12*1.5,0))","v":0},{"$f":"IF(HLOOKUP(O$5,$B$6:$I$15,Points!$A8+1,FALSE)=\"TBD\",\"\",VLOOKUP(HLOOKUP(O$5,$B$6:$I$15,Points!$A8+1,FALSE),'Cars & Results'!$A$7:$BZ$317,2*O$5+6,FALSE))","v":23},{"$f":"IF(HLOOKUP(O$5,$B$6:$I$15,Points!$A8+1,FALSE)=\"TBD\",\"\",IF(VLOOKUP(HLOOKUP(O$5,$B$6:$I$15,Points!$A8+1,FALSE),'Cars & Results'!$A$7:$BZ$317,2*O$5+5)<=10,O12*1.5,0))","v":0},{"$f":"IF(HLOOKUP(Q$5,$B$6:$I$15,Points!$A8+1,FALSE)=\"TBD\",\"\",VLOOKUP(HLOOKUP(Q$5,$B$6:$I$15,Points!$A8+1,FALSE),'Cars & Results'!$A$7:$BZ$317,2*Q$5+6,FALSE))","v":6},{"$f":"IF(HLOOKUP(Q$5,$B$6:$I$15,Points!$A8+1,FALSE)=\"TBD\",\"\",IF(VLOOKUP(HLOOKUP(Q$5,$B$6:$I$15,Points!$A8+1,FALSE),'Cars & Results'!$A$7:$BZ$317,2*Q$5+5)<=10,Q12*1.5,0))","v":0},{"$f":"IF(HLOOKUP(S$5,$B$6:$I$15,Points!$A8+1,FALSE)=\"TBD\",\"\",VLOOKUP(HLOOKUP(S$5,$B$6:$I$15,Points!$A8+1,FALSE),'Cars & Results'!$A$7:$BZ$317,2*S$5+6,FALSE))","v":18},{"$f":"IF(HLOOKUP(S$5,$B$6:$I$15,Points!$A8+1,FALSE)=\"TBD\",\"\",IF(VLOOKUP(HLOOKUP(S$5,$B$6:$I$15,Points!$A8+1,FALSE),'Cars & Results'!$A$7:$BZ$317,2*S$5+5)<=10,S12*1.5,0))","v":0},{"$f":"IF(HLOOKUP(U$5,$B$6:$I$15,Points!$A8+1,FALSE)=\"TBD\",\"\",VLOOKUP(HLOOKUP(U$5,$B$6:$I$15,Points!$A8+1,FALSE),'Cars & Results'!$A$7:$BZ$317,2*U$5+6,FALSE))","v":27},{"$f":"IF(HLOOKUP(U$5,$B$6:$I$15,Points!$A8+1,FALSE)=\"TBD\",\"\",IF(VLOOKUP(HLOOKUP(U$5,$B$6:$I$15,Points!$A8+1,FALSE),'Cars & Results'!$A$7:$BZ$317,2*U$5+5)<=10,U12*1.5,0))","v":0},{"$f":"IF(HLOOKUP(W$5,$B$6:$I$15,Points!$A8+1,FALSE)=\"TBD\",\"\",VLOOKUP(HLOOKUP(W$5,$B$6:$I$15,Points!$A8+1,FALSE),'Cars & Results'!$A$7:$BZ$317,2*W$5+6,FALSE))","v":29},{"$f":"IF(HLOOKUP(W$5,$B$6:$I$15,Points!$A8+1,FALSE)=\"TBD\",\"\",IF(VLOOKUP(HLOOKUP(W$5,$B$6:$I$15,Points!$A8+1,FALSE),'Cars & Results'!$A$7:$BZ$317,2*W$5+5)<=10,W12*1.5,0))","v":43.5},{"$f":"IF(HLOOKUP(Y$5,$B$6:$I$15,Points!$A8+1,FALSE)=\"TBD\",\"\",VLOOKUP(HLOOKUP(Y$5,$B$6:$I$15,Points!$A8+1,FALSE),'Cars & Results'!$A$7:$BZ$317,2*Y$5+6,FALSE))","v":11},{"$f":"IF(HLOOKUP(Y$5,$B$6:$I$15,Points!$A8+1,FALSE)=\"TBD\",\"\",IF(VLOOKUP(HLOOKUP(Y$5,$B$6:$I$15,Points!$A8+1,FALSE),'Cars & Results'!$A$7:$BZ$317,2*Y$5+5)<=10,Y12*1.5,0))","v":0},{"$f":"IF(HLOOKUP(AA$5,$B$6:$I$15,Points!$A8+1,FALSE)=\"TBD\",\"\",VLOOKUP(HLOOKUP(AA$5,$B$6:$I$15,Points!$A8+1,FALSE),'Cars & Results'!$A$7:$BZ$317,2*AA$5+6,FALSE))","v":1},{"$f":"IF(HLOOKUP(AA$5,$B$6:$I$15,Points!$A8+1,FALSE)=\"TBD\",\"\",IF(VLOOKUP(HLOOKUP(AA$5,$B$6:$I$15,Points!$A8+1,FALSE),'Cars & Results'!$A$7:$BZ$317,2*AA$5+5)<=10,AA12*1.5,0))","v":0}]
[{"$f":"VLOOKUP(HLOOKUP('Pick Distribution'!$P$2,$B$6:$I$15,8),'Current Owner Standings'!$A$71:$B$480,2,FALSE)","v":35},96,53,53,53,53,53,53,53,{"$f":"IF(ISNA(VLOOKUP($I13,'Cars & Results'!$A$6:$I$317,J$5,FALSE)),\"Invalid Number\",VLOOKUP($I13,'Cars & Results'!$A$6:$K$317,J$5,FALSE))","v":"Joey Gase (i)"},{"$f":"IF(ISNA(VLOOKUP($I13,'Cars & Results'!$A$6:$I$317,K$5,FALSE)),\"Invalid Number\",VLOOKUP($I13,'Cars & Results'!$A$6:$K$317,K$5,FALSE))","v":"Ford"},{"$f":"IF(ISNA(VLOOKUP($I13,'Cars & Results'!$A$6:$I$317,L$5,FALSE)),\"Invalid Number\",VLOOKUP($I13,'Cars & Results'!$A$6:$K$317,L$5,FALSE))","v":"Rick Ware Racing"},{"$f":"IF(HLOOKUP(M$5,$B$6:$I$15,Points!$A9+1,FALSE)=\"TBD\",\"\",VLOOKUP(HLOOKUP(M$5,$B$6:$I$15,Points!$A9+1,FALSE),'Cars & Results'!$A$7:$BZ$317,2*M$5+6,FALSE))","v":19},{"$f":"IF(HLOOKUP(M$5,$B$6:$I$15,Points!$A9+1,FALSE)=\"TBD\",\"\",IF(VLOOKUP(HLOOKUP(M$5,$B$6:$I$15,Points!$A9+1,FALSE),'Cars & Results'!$A$7:$BZ$317,2*M$5+5)<=10,M13*2,0))","v":0},{"$f":"IF(HLOOKUP(O$5,$B$6:$I$15,Points!$A9+1,FALSE)=\"TBD\",\"\",VLOOKUP(HLOOKUP(O$5,$B$6:$I$15,Points!$A9+1,FALSE),'Cars & Results'!$A$7:$BZ$317,2*O$5+6,FALSE))","v":7},{"$f":"IF(HLOOKUP(O$5,$B$6:$I$15,Points!$A9+1,FALSE)=\"TBD\",\"\",IF(VLOOKUP(HLOOKUP(O$5,$B$6:$I$15,Points!$A9+1,FALSE),'Cars & Results'!$A$7:$BZ$317,2*O$5+5)<=10,O13*2,0))","v":0},{"$f":"IF(HLOOKUP(Q$5,$B$6:$I$15,Points!$A9+1,FALSE)=\"TBD\",\"\",VLOOKUP(HLOOKUP(Q$5,$B$6:$I$15,Points!$A9+1,FALSE),'Cars & Results'!$A$7:$BZ$317,2*Q$5+6,FALSE))","v":2},{"$f":"IF(HLOOKUP(Q$5,$B$6:$I$15,Points!$A9+1,FALSE)=\"TBD\",\"\",IF(VLOOKUP(HLOOKUP(Q$5,$B$6:$I$15,Points!$A9+1,FALSE),'Cars & Results'!$A$7:$BZ$317,2*Q$5+5)<=10,Q13*2,0))","v":0},{"$f":"IF(HLOOKUP(S$5,$B$6:$I$15,Points!$A9+1,FALSE)=\"TBD\",\"\",VLOOKUP(HLOOKUP(S$5,$B$6:$I$15,Points!$A9+1,FALSE),'Cars & Results'!$A$7:$BZ$317,2*S$5+6,FALSE))","v":3},{"$f":"IF(HLOOKUP(S$5,$B$6:$I$15,Points!$A9+1,FALSE)=\"TBD\",\"\",IF(VLOOKUP(HLOOKUP(S$5,$B$6:$I$15,Points!$A9+1,FALSE),'Cars & Results'!$A$7:$BZ$317,2*S$5+5)<=10,S13*2,0))","v":0},{"$f":"IF(HLOOKUP(U$5,$B$6:$I$15,Points!$A9+1,FALSE)=\"TBD\",\"\",VLOOKUP(HLOOKUP(U$5,$B$6:$I$15,Points!$A9+1,FALSE),'Cars & Results'!$A$7:$BZ$317,2*U$5+6,FALSE))","v":1},{"$f":"IF(HLOOKUP(U$5,$B$6:$I$15,Points!$A9+1,FALSE)=\"TBD\",\"\",IF(VLOOKUP(HLOOKUP(U$5,$B$6:$I$15,Points!$A9+1,FALSE),'Cars & Results'!$A$7:$BZ$317,2*U$5+5)<=10,U13*2,0))","v":0},{"$f":"IF(HLOOKUP(W$5,$B$6:$I$15,Points!$A9+1,FALSE)=\"TBD\",\"\",VLOOKUP(HLOOKUP(W$5,$B$6:$I$15,Points!$A9+1,FALSE),'Cars & Results'!$A$7:$BZ$317,2*W$5+6,FALSE))","v":5},{"$f":"IF(HLOOKUP(W$5,$B$6:$I$15,Points!$A9+1,FALSE)=\"TBD\",\"\",IF(VLOOKUP(HLOOKUP(W$5,$B$6:$I$15,Points!$A9+1,FALSE),'Cars & Results'!$A$7:$BZ$317,2*W$5+5)<=10,W13*2,0))","v":0},{"$f":"IF(HLOOKUP(Y$5,$B$6:$I$15,Points!$A9+1,FALSE)=\"TBD\",\"\",VLOOKUP(HLOOKUP(Y$5,$B$6:$I$15,Points!$A9+1,FALSE),'Cars & Results'!$A$7:$BZ$317,2*Y$5+6,FALSE))","v":5},{"$f":"IF(HLOOKUP(Y$5,$B$6:$I$15,Points!$A9+1,FALSE)=\"TBD\",\"\",IF(VLOOKUP(HLOOKUP(Y$5,$B$6:$I$15,Points!$A9+1,FALSE),'Cars & Results'!$A$7:$BZ$317,2*Y$5+5)<=10,Y13*2,0))","v":0},{"$f":"IF(HLOOKUP(AA$5,$B$6:$I$15,Points!$A9+1,FALSE)=\"TBD\",\"\",VLOOKUP(HLOOKUP(AA$5,$B$6:$I$15,Points!$A9+1,FALSE),'Cars & Results'!$A$7:$BZ$317,2*AA$5+6,FALSE))","v":6},{"$f":"IF(HLOOKUP(AA$5,$B$6:$I$15,Points!$A9+1,FALSE)=\"TBD\",\"\",IF(VLOOKUP(HLOOKUP(AA$5,$B$6:$I$15,Points!$A9+1,FALSE),'Cars & Results'!$A$7:$BZ$317,2*AA$5+5)<=10,AA13*2,0))","v":0}]
[{"$f":"VLOOKUP(HLOOKUP('Pick Distribution'!$P$2,$B$6:$I$15,9),'Current Owner Standings'!$A$71:$B$480,2,FALSE)","v":37},66,66,66,66,66,66,66,66,{"$f":"IF(ISNA(VLOOKUP($I14,'Cars & Results'!$A$6:$I$317,J$5,FALSE)),\"Invalid Number\",VLOOKUP($I14,'Cars & Results'!$A$6:$K$317,J$5,FALSE))","v":"Timmy Hill (i)"},{"$f":"IF(ISNA(VLOOKUP($I14,'Cars & Results'!$A$6:$I$317,K$5,FALSE)),\"Invalid Number\",VLOOKUP($I14,'Cars & Results'!$A$6:$K$317,K$5,FALSE))","v":"Toyota"},{"$f":"IF(ISNA(VLOOKUP($I14,'Cars & Results'!$A$6:$I$317,L$5,FALSE)),\"Invalid Number\",VLOOKUP($I14,'Cars & Results'!$A$6:$K$317,L$5,FALSE))","v":"MBM Motorsports"},{"$f":"IF(HLOOKUP(M$5,$B$6:$I$15,Points!$A10+1,FALSE)=\"TBD\",\"\",VLOOKUP(HLOOKUP(M$5,$B$6:$I$15,Points!$A10+1,FALSE),'Cars & Results'!$A$7:$BZ$317,2*M$5+6,FALSE))","v":0},{"$f":"IF(HLOOKUP(M$5,$B$6:$I$15,Points!$A10+1,FALSE)=\"TBD\",\"\",IF(VLOOKUP(HLOOKUP(M$5,$B$6:$I$15,Points!$A10+1,FALSE),'Cars & Results'!$A$7:$BZ$317,2*M$5+5)<=10,M14*3,0))","v":0},{"$f":"IF(HLOOKUP(O$5,$B$6:$I$15,Points!$A10+1,FALSE)=\"TBD\",\"\",VLOOKUP(HLOOKUP(O$5,$B$6:$I$15,Points!$A10+1,FALSE),'Cars & Results'!$A$7:$BZ$317,2*O$5+6,FALSE))","v":4},{"$f":"IF(HLOOKUP(O$5,$B$6:$I$15,Points!$A10+1,FALSE)=\"TBD\",\"\",IF(VLOOKUP(HLOOKUP(O$5,$B$6:$I$15,Points!$A10+1,FALSE),'Cars & Results'!$A$7:$BZ$317,2*O$5+5)<=10,O14*3,0))","v":0},{"$f":"IF(HLOOKUP(Q$5,$B$6:$I$15,Points!$A10+1,FALSE)=\"TBD\",\"\",VLOOKUP(HLOOKUP(Q$5,$B$6:$I$15,Points!$A10+1,FALSE),'Cars & Results'!$A$7:$BZ$317,2*Q$5+6,FALSE))","v":4},{"$f":"IF(HLOOKUP(Q$5,$B$6:$I$15,Points!$A10+1,FALSE)=\"TBD\",\"\",IF(VLOOKUP(HLOOKUP(Q$5,$B$6:$I$15,Points!$A10+1,FALSE),'Cars & Results'!$A$7:$BZ$317,2*Q$5+5)<=10,Q14*3,0))","v":0},{"$f":"IF(HLOOKUP(S$5,$B$6:$I$15,Points!$A10+1,FALSE)=\"TBD\",\"\",VLOOKUP(HLOOKUP(S$5,$B$6:$I$15,Points!$A10+1,FALSE),'Cars & Results'!$A$7:$BZ$317,2*S$5+6,FALSE))","v":2},{"$f":"IF(HLOOKUP(S$5,$B$6:$I$15,Points!$A10+1,FALSE)=\"TBD\",\"\",IF(VLOOKUP(HLOOKUP(S$5,$B$6:$I$15,Points!$A10+1,FALSE),'Cars & Results'!$A$7:$BZ$317,2*S$5+5)<=10,S14*3,0))","v":0},{"$f":"IF(HLOOKUP(U$5,$B$6:$I$15,Points!$A10+1,FALSE)=\"TBD\",\"\",VLOOKUP(HLOOKUP(U$5,$B$6:$I$15,Points!$A10+1,FALSE),'Cars & Results'!$A$7:$BZ$317,2*U$5+6,FALSE))","v":8},{"$f":"IF(HLOOKUP(U$5,$B$6:$I$15,Points!$A10+1,FALSE)=\"TBD\",\"\",IF(VLOOKUP(HLOOKUP(U$5,$B$6:$I$15,Points!$A10+1,FALSE),'Cars & Results'!$A$7:$BZ$317,2*U$5+5)<=10,U14*3,0))","v":0},{"$f":"IF(HLOOKUP(W$5,$B$6:$I$15,Points!$A10+1,FALSE)=\"TBD\",\"\",VLOOKUP(HLOOKUP(W$5,$B$6:$I$15,Points!$A10+1,FALSE),'Cars & Results'!$A$7:$BZ$317,2*W$5+6,FALSE))","v":3},{"$f":"IF(HLOOKUP(W$5,$B$6:$I$15,Points!$A10+1,FALSE)=\"TBD\",\"\",IF(VLOOKUP(HLOOKUP(W$5,$B$6:$I$15,Points!$A10+1,FALSE),'Cars & Results'!$A$7:$BZ$317,2*W$5+5)<=10,W14*3,0))","v":0},{"$f":"IF(HLOOKUP(Y$5,$B$6:$I$15,Points!$A10+1,FALSE)=\"TBD\",\"\",VLOOKUP(HLOOKUP(Y$5,$B$6:$I$15,Points!$A10+1,FALSE),'Cars & Results'!$A$7:$BZ$317,2*Y$5+6,FALSE))","v":1},{"$f":"IF(HLOOKUP(Y$5,$B$6:$I$15,Points!$A10+1,FALSE)=\"TBD\",\"\",IF(VLOOKUP(HLOOKUP(Y$5,$B$6:$I$15,Points!$A10+1,FALSE),'Cars & Results'!$A$7:$BZ$317,2*Y$5+5)<=10,Y14*3,0))","v":0},{"$f":"IF(HLOOKUP(AA$5,$B$6:$I$15,Points!$A10+1,FALSE)=\"TBD\",\"\",VLOOKUP(HLOOKUP(AA$5,$B$6:$I$15,Points!$A10+1,FALSE),'Cars & Results'!$A$7:$BZ$317,2*AA$5+6,FALSE))","v":13},{"$f":"IF(HLOOKUP(AA$5,$B$6:$I$15,Points!$A10+1,FALSE)=\"TBD\",\"\",IF(VLOOKUP(HLOOKUP(AA$5,$B$6:$I$15,Points!$A10+1,FALSE),'Cars & Results'!$A$7:$BZ$317,2*AA$5+5)<=10,AA14*3,0))","v":0}]
[{"$f":"VLOOKUP(HLOOKUP('Pick Distribution'!$P$2,$B$6:$I$15,10),'Current Owner Standings'!$A$71:$B$480,2,FALSE)","v":32},4,51,"00",107,62,15,77,127,{"$f":"IF(ISNA(VLOOKUP($I15,'Cars & Results'!$A$6:$I$317,J$5,FALSE)),\"Invalid Number\",VLOOKUP($I15,'Cars & Results'!$A$6:$K$317,J$5,FALSE))","v":"J. J. Yeley (i)"},{"$f":"IF(ISNA(VLOOKUP($I15,'Cars & Results'!$A$6:$I$317,K$5,FALSE)),\"Invalid Number\",VLOOKUP($I15,'Cars & Results'!$A$6:$K$317,K$5,FALSE))","v":"Ford"},{"$f":"IF(ISNA(VLOOKUP($I15,'Cars & Results'!$A$6:$I$317,L$5,FALSE)),\"Invalid Number\",VLOOKUP($I15,'Cars & Results'!$A$6:$K$317,L$5,FALSE))","v":"Rick Ware Racing"},{"$f":"IF(HLOOKUP(M$5,$B$6:$I$15,Points!$A11+1,FALSE)=\"TBD\",\"\",VLOOKUP(HLOOKUP(M$5,$B$6:$I$15,Points!$A11+1,FALSE),'Cars & Results'!$A$7:$BZ$317,2*M$5+6,FALSE))","v":42},0,{"$f":"IF(HLOOKUP(O$5,$B$6:$I$15,Points!$A11+1,FALSE)=\"TBD\",\"\",VLOOKUP(HLOOKUP(O$5,$B$6:$I$15,Points!$A11+1,FALSE),'Cars & Results'!$A$7:$BZ$317,2*O$5+6,FALSE))","v":3},0,{"$f":"IF(HLOOKUP(Q$5,$B$6:$I$15,Points!$A11+1,FALSE)=\"TBD\",\"\",VLOOKUP(HLOOKUP(Q$5,$B$6:$I$15,Points!$A11+1,FALSE),'Cars & Results'!$A$7:$BZ$317,2*Q$5+6,FALSE))","v":10},0,{"$f":"IF(HLOOKUP(S$5,$B$6:$I$15,Points!$A11+1,FALSE)=\"TBD\",\"\",VLOOKUP(HLOOKUP(S$5,$B$6:$I$15,Points!$A11+1,FALSE),'Cars & Results'!$A$7:$BZ$317,2*S$5+6,FALSE))","v":0},0,{"$f":"IF(HLOOKUP(U$5,$B$6:$I$15,Points!$A11+1,FALSE)=\"TBD\",\"\",VLOOKUP(HLOOKUP(U$5,$B$6:$I$15,Points!$A11+1,FALSE),'Cars & Results'!$A$7:$BZ$317,2*U$5+6,FALSE))","v":1},0,{"$f":"IF(HLOOKUP(W$5,$B$6:$I$15,Points!$A11+1,FALSE)=\"TBD\",\"\",VLOOKUP(HLOOKUP(W$5,$B$6:$I$15,Points!$A11+1,FALSE),'Cars & Results'!$A$7:$BZ$317,2*W$5+6,FALSE))","v":1},0,{"$f":"IF(HLOOKUP(Y$5,$B$6:$I$15,Points!$A11+1,FALSE)=\"TBD\",\"\",VLOOKUP(HLOOKUP(Y$5,$B$6:$I$15,Points!$A11+1,FALSE),'Cars & Results'!$A$7:$BZ$317,2*Y$5+6,FALSE))","v":4},0,{"$f":"IF(HLOOKUP(AA$5,$B$6:$I$15,Points!$A11+1,FALSE)=\"TBD\",\"\",VLOOKUP(HLOOKUP(AA$5,$B$6:$I$15,Points!$A11+1,FALSE),'Cars & Results'!$A$7:$BZ$317,2*AA$5+6,FALSE))","v":0},{"$f":"IF(HLOOKUP(AA$5,$B$6:$I$15,Points!$A11+1,FALSE)=\"TBD\",\"\",IF(AND(VLOOKUP(HLOOKUP(AA$5,$B$6:$I$15,Points!$A11+1,FALSE),'Cars & Results'!$A$7:$BZ$317,2*AA$5+5)<=3,$A$15<=25),AA15*1,IF(AND(VLOOKUP(HLOOKUP(AA$5,$B$6:$I$15,Points!$A11+1,FALSE),'Cars & Results'!$A$7:$BZ$317,2*AA$5+5)<=10,$A$15>25),AA15*3,0)))","v":0}]
[null,null,null,null,null,null,null,null,null,null,null,"Segment 1",null,{"$f":"IF(INDIRECT(ADDRESS(321,5+(M5*2),1,1,\"Cars & Results\"),TRUE)=\"Y\",IF(ISERROR(MATCH(INDIRECT(ADDRESS(318,5+(M5*2),1,1,\"Cars & Results\"),TRUE),B7:B15,0))=TRUE,0,10),\"\")","v":0},null,{"$f":"IF(INDIRECT(ADDRESS(321,5+(O5*2),1,1,\"Cars & Results\"),TRUE)=\"Y\",IF(ISERROR(MATCH(INDIRECT(ADDRESS(318,5+(O5*2),1,1,\"Cars & Results\"),TRUE),C7:C15,0))=TRUE,0,10),\"\")","v":0},null,{"$f":"IF(INDIRECT(ADDRESS(321,5+(Q5*2),1,1,\"Cars & Results\"),TRUE)=\"Y\",IF(ISERROR(MATCH(INDIRECT(ADDRESS(318,5+(Q5*2),1,1,\"Cars & Results\"),TRUE),D7:D15,0))=TRUE,0,10),\"\")","v":0},null,{"$f":"IF(INDIRECT(ADDRESS(321,5+(S5*2),1,1,\"Cars & Results\"),TRUE)=\"Y\",IF(ISERROR(MATCH(INDIRECT(ADDRESS(318,5+(S5*2),1,1,\"Cars & Results\"),TRUE),E7:E15,0))=TRUE,0,10),\"\")","v":0},null,{"$f":"IF(INDIRECT(ADDRESS(321,5+(U5*2),1,1,\"Cars & Results\"),TRUE)=\"Y\",IF(ISERROR(MATCH(INDIRECT(ADDRESS(318,5+(U5*2),1,1,\"Cars & Results\"),TRUE),F7:F15,0))=TRUE,0,10),\"\")","v":0},null,{"$f":"IF(INDIRECT(ADDRESS(321,5+(W5*2),1,1,\"Cars & Results\"),TRUE)=\"Y\",IF(ISERROR(MATCH(INDIRECT(ADDRESS(318,5+(W5*2),1,1,\"Cars & Results\"),TRUE),G7:G15,0))=TRUE,0,10),\"\")","v":0},null,{"$f":"IF(INDIRECT(ADDRESS(321,5+(Y5*2),1,1,\"Cars & Results\"),TRUE)=\"Y\",IF(ISERROR(MATCH(INDIRECT(ADDRESS(318,5+(Y5*2),1,1,\"Cars & Results\"),TRUE),H7:H15,0))=TRUE,0,10),\"\")","v":0},null,{"$f":"IF(INDIRECT(ADDRESS(321,5+(AA5*2),1,1,\"Cars & Results\"),TRUE)=\"Y\",IF(ISERROR(MATCH(INDIRECT(ADDRESS(318,5+(AA5*2),1,1,\"Cars & Results\"),TRUE),I7:I15,0))=TRUE,0,10),\"\")","v":0}]
[null,null,null,null,null,null,null,null,null,null,null,"Segment 2",null,{"$f":"IF(INDIRECT(ADDRESS(321,5+(M5*2),1,1,\"Cars & Results\"),TRUE)=\"Y\",IF(ISERROR(MATCH(INDIRECT(ADDRESS(319,5+(M5*2),1,1,\"Cars & Results\"),TRUE),B7:B15,0))=TRUE,0,10),\"\")","v":0},null,{"$f":"IF(INDIRECT(ADDRESS(321,5+(O5*2),1,1,\"Cars & Results\"),TRUE)=\"Y\",IF(ISERROR(MATCH(INDIRECT(ADDRESS(319,5+(O5*2),1,1,\"Cars & Results\"),TRUE),C7:C15,0))=TRUE,0,10),\"\")","v":0},null,{"$f":"IF(INDIRECT(ADDRESS(321,5+(Q5*2),1,1,\"Cars & Results\"),TRUE)=\"Y\",IF(ISERROR(MATCH(INDIRECT(ADDRESS(319,5+(Q5*2),1,1,\"Cars & Results\"),TRUE),D7:D15,0))=TRUE,0,10),\"\")","v":0},null,{"$f":"IF(INDIRECT(ADDRESS(321,5+(S5*2),1,1,\"Cars & Results\"),TRUE)=\"Y\",IF(ISERROR(MATCH(INDIRECT(ADDRESS(319,5+(S5*2),1,1,\"Cars & Results\"),TRUE),E7:E15,0))=TRUE,0,10),\"\")","v":0},null,{"$f":"IF(INDIRECT(ADDRESS(321,5+(U5*2),1,1,\"Cars & Results\"),TRUE)=\"Y\",IF(ISERROR(MATCH(INDIRECT(ADDRESS(319,5+(U5*2),1,1,\"Cars & Results\"),TRUE),F7:F15,0))=TRUE,0,10),\"\")","v":0},null,{"$f":"IF(INDIRECT(ADDRESS(321,5+(W5*2),1,1,\"Cars & Results\"),TRUE)=\"Y\",IF(ISERROR(MATCH(INDIRECT(ADDRESS(319,5+(W5*2),1,1,\"Cars & Results\"),TRUE),G7:G15,0))=TRUE,0,10),\"\")","v":0},null,{"$f":"IF(INDIRECT(ADDRESS(321,5+(Y5*2),1,1,\"Cars & Results\"),TRUE)=\"Y\",IF(ISERROR(MATCH(INDIRECT(ADDRESS(319,5+(Y5*2),1,1,\"Cars & Results\"),TRUE),H7:H15,0))=TRUE,0,10),\"\")","v":0},null,{"$f":"IF(INDIRECT(ADDRESS(321,5+(AA5*2),1,1,\"Cars & Results\"),TRUE)=\"Y\",IF(ISERROR(MATCH(INDIRECT(ADDRESS(319,5+(AA5*2),1,1,\"Cars & Results\"),TRUE),I7:I15,0))=TRUE,0,10),\"\")","v":0}]
[null,null,null,null,null,null,null,null,null,null,null,"Segment 3",null,{"$f":"IF(INDIRECT(ADDRESS(321,5+(M5*2),1,1,\"Cars & Results\"),TRUE)=\"Y\",IF(ISERROR(MATCH(INDIRECT(ADDRESS(320,5+(M5*2),1,1,\"Cars & Results\"),TRUE),B7:B15,0))=TRUE,0,15),\"\")","v":0},null,{"$f":"IF(INDIRECT(ADDRESS(321,5+(O5*2),1,1,\"Cars & Results\"),TRUE)=\"Y\",IF(ISERROR(MATCH(INDIRECT(ADDRESS(320,5+(O5*2),1,1,\"Cars & Results\"),TRUE),C7:C15,0))=TRUE,0,15),\"\")","v":0},null,{"$f":"IF(INDIRECT(ADDRESS(321,5+(Q5*2),1,1,\"Cars & Results\"),TRUE)=\"Y\",IF(ISERROR(MATCH(INDIRECT(ADDRESS(320,5+(Q5*2),1,1,\"Cars & Results\"),TRUE),D7:D15,0))=TRUE,0,15),\"\")","v":0},null,{"$f":"IF(INDIRECT(ADDRESS(321,5+(S5*2),1,1,\"Cars & Results\"),TRUE)=\"Y\",IF(ISERROR(MATCH(INDIRECT(ADDRESS(320,5+(S5*2),1,1,\"Cars & Results\"),TRUE),E7:E15,0))=TRUE,0,15),\"\")","v":0},null,{"$f":"IF(INDIRECT(ADDRESS(321,5+(U5*2),1,1,\"Cars & Results\"),TRUE)=\"Y\",IF(ISERROR(MATCH(INDIRECT(ADDRESS(320,5+(U5*2),1,1,\"Cars & Results\"),TRUE),F7:F15,0))=TRUE,0,15),\"\")","v":0},null,{"$f":"IF(INDIRECT(ADDRESS(321,5+(W5*2),1,1,\"Cars & Results\"),TRUE)=\"Y\",IF(ISERROR(MATCH(INDIRECT(ADDRESS(320,5+(W5*2),1,1,\"Cars & Results\"),TRUE),G7:G15,0))=TRUE,0,15),\"\")","v":0},null,{"$f":"IF(INDIRECT(ADDRESS(321,5+(Y5*2),1,1,\"Cars & Results\"),TRUE)=\"Y\",IF(ISERROR(MATCH(INDIRECT(ADDRESS(320,5+(Y5*2),1,1,\"Cars & Results\"),TRUE),H7:H15,0))=TRUE,0,15),\"\")","v":0},null,{"$f":"IF(INDIRECT(ADDRESS(321,5+(AA5*2),1,1,\"Cars & Results\"),TRUE)=\"Y\",IF(ISERROR(MATCH(INDIRECT(ADDRESS(320,5+(AA5*2),1,1,\"Cars & Results\"),TRUE),I7:I15,0))=TRUE,0,15),\"\")","v":0}]
[null,{"$f":"SUM(B7:B15)","v":295},322,262,447,374,338,390,440,null,null,null,{"$f":"SUM(M7:M15)","v":219},null,{"$f":"SUM(O7:O15)","v":107},null,{"$f":"SUM(Q7:Q15)","v":150},null,{"$f":"SUM(S7:S15)","v":118},null,{"$f":"SUM(U7:U15)","v":116},null,{"$f":"SUM(W7:W15)","v":108},null,{"$f":"SUM(Y7:Y15)","v":134},null,{"$f":"SUM(AA7:AA15)","v":144}]
[null,null,null,null,null,null,null,null,null,null,null,null,null,{"$f":"SUM(N7:N19)","v":63.5},null,{"$f":"SUM(P7:P19)","v":0},null,{"$f":"SUM(R7:R19)","v":0},null,{"$f":"SUM(T7:T19)","v":0},null,{"$f":"SUM(V7:V19)","v":0},null,{"$f":"SUM(X7:X19)","v":43.5},null,{"$f":"SUM(Z7:Z19)","v":0},null,{"$f":"SUM(AB7:AB19)","v":0}]
[null,null,null,null,null,null,null,null,null,null,null,"Race Total",{"$f":"M19+N20","v":282.5},null,{"$f":"O19+P20","v":107},null,{"$f":"Q19+R20","v":150},null,{"$f":"S19+T20","v":118},null,{"$f":"U19+V20","v":116},null,{"$f":"W19+X20","v":151.5},null,{"$f":"Y19+Z20","v":134},null,{"$f":"AA19+AB20","v":144},null,{"$f":"SUM(M21:AB21)","v":1203}]
[null,null,null,null,null,null,null,null,"1-8"]
[null,null,null,null,null,null,null,null,"9-16"]
[null,null,null,null,null,null,null,null,"17-23"]
[null,null,null,null,null,null,null,null,"24-30"]
[null,null,null,null,null,null,null,null,"31-35"]
[null,null,null,null,null,null,null,null,">35"]
[null,null,null,null,null,null,null,null,"Provisional"]

{"sheet":"R&R Kitchen","index":11,"n_rows":28,"n_cols":29,"rows_kept":28,"cut":false,"hidden":false,"merged":[[4,24,4,25],[4,26,4,27],[20,12,20,13],[20,14,20,15],[20,16,20,17],[20,18,20,19],[20,20,20,21],[20,22,20,23],[20,24,20,25],[20,26,20,27],[4,12,4,13],[4,14,4,15],[4,16,4,17],[4,18,4,19],[4,20,4,21],[4,22,4,23],[2,24,2,25],[2,26,2,27],[3,12,3,13],[3,14,3,15],[3,16,3,17],[3,18,3,19],[3,20,3,21],[3,22,3,23],[3,24,3,25],[3,26,3,27],[2,12,2,13],[2,14,2,15],[2,16,2,17],[2,18,2,19],[2,20,2,21],[2,22,2,23],[0,24,0,25],[0,26,0,27],[1,12,1,13],[1,14,1,15],[1,16,1,17],[1,18,1,19],[1,20,1,21],[1,22,1,23],[1,24,1,25],[1,26,1,27],[0,12,0,13],[0,14,0,15],[0,16,0,17],[0,18,0,19],[0,20,0,21],[0,22,0,23]]}
[null,null,null,null,null,null,null,null,null,null,null,null,{"$f":"VLOOKUP(M$5,Schedule!$A$8:$G$43,2,FALSE)","v":"2020-07-23"},null,{"$f":"VLOOKUP(O$5,Schedule!$A$8:$G$43,2,FALSE)","v":"2020-08-02"},null,{"$f":"VLOOKUP(Q$5,Schedule!$A$8:$G$43,2,FALSE)","v":"2020-08-08"},null,{"$f":"VLOOKUP(S$5,Schedule!$A$8:$G$43,2,FALSE)","v":"2020-08-09"},null,{"$f":"VLOOKUP(U$5,Schedule!$A$8:$G$43,2,FALSE)","v":"2020-08-16"},null,{"$f":"VLOOKUP(W$5,Schedule!$A$8:$G$43,2,FALSE)","v":"2020-08-22"},null,{"$f":"VLOOKUP(Y$5,Schedule!$A$8:$G$43,2,FALSE)","v":"2020-08-23"},null,{"$f":"VLOOKUP(AA$5,Schedule!$A$8:$G$43,2,FALSE)","v":"2020-08-29"}]
[null,null,null,null,null,null,null,null,null,null,null,null,{"$f":"VLOOKUP(M$5,Schedule!$A$8:$G$43,3,FALSE)","v":"Super Start Batteries 400"},null,{"$f":"VLOOKUP(O$5,Schedule!$A$8:$G$43,3,FALSE)","v":"Foxwoods Resort Casino 301"},null,{"$f":"VLOOKUP(Q$5,Schedule!$A$8:$G$43,3,FALSE)","v":"FireKeepers Casino 500"},null,{"$f":"VLOOKUP(S$5,Schedule!$A$8:$G$43,3,FALSE)","v":"Consumers Energy 500"},null,{"$f":"VLOOKUP(U$5,Schedule!$A$8:$G$43,3,FALSE)","v":"Go Bowling at The Glen"},null,{"$f":"VLOOKUP(W$5,Schedule!$A$8:$G$43,3,FALSE)","v":"Drydene 311 (Sat)"},null,{"$f":"VLOOKUP(Y$5,Schedule!$A$8:$G$43,3,FALSE)","v":"Drydene 311 (Sun)"},null,{"$f":"VLOOKUP(AA$5,Schedule!$A$8:$G$43,3,FALSE)","v":"Coke Zero Sugar 400"}]
[null,null,null,null,null,null,null,null,null,null,null,null,{"$f":"VLOOKUP(M$5,Schedule!$A$8:$G$43,2,FALSE)","v":"2020-07-23"},null,{"$f":"VLOOKUP(O$5,Schedule!$A$8:$G$43,2,FALSE)","v":"2020-08-02"},null,{"$f":"VLOOKUP(Q$5,Schedule!$A$8:$G$43,2,FALSE)","v":"2020-08-08"},null,{"$f":"VLOOKUP(S$5,Schedule!$A$8:$G$43,2,FALSE)","v":"2020-08-09"},null,{"$f":"VLOOKUP(U$5,Schedule!$A$8:$G$43,2,FALSE)","v":"2020-08-16"},null,{"$f":"VLOOKUP(W$5,Schedule!$A$8:$G$43,2,FALSE)","v":"2020-08-22"},null,{"$f":"VLOOKUP(Y$5,Schedule!$A$8:$G$43,2,FALSE)","v":"2020-08-23"},null,{"$f":"VLOOKUP(AA$5,Schedule!$A$8:$G$43,2,FALSE)","v":"2020-08-29"}]
[null,null,null,null,null,null,null,null,null,null,null,null,{"$f":"VLOOKUP(M$5,Schedule!$A$4:$G$43,5,FALSE)","v":"Kansas "},null,{"$f":"VLOOKUP(O$5,Schedule!$A$4:$G$43,5,FALSE)","v":"New Hamp"},null,{"$f":"VLOOKUP(Q$5,Schedule!$A$4:$G$43,5,FALSE)","v":"Michigan (Sat)"},null,{"$f":"VLOOKUP(S$5,Schedule!$A$4:$G$43,5,FALSE)","v":"Michigan (Sun)"},null,{"$f":"VLOOKUP(U$5,Schedule!$A$4:$G$43,5,FALSE)","v":"Daytona (Road)"},null,{"$f":"VLOOKUP(W$5,Schedule!$A$4:$G$43,5,FALSE)","v":"Dover (Sat)"},null,{"$f":"VLOOKUP(Y$5,Schedule!$A$4:$G$43,5,FALSE)","v":"Dover (Sun)"},null,{"$f":"VLOOKUP(AA$5,Schedule!$A$4:$G$43,5,FALSE)","v":"Daytona "}]
["Owner","Week","Week","Week","Week","Week","Week","Week","Week",2,3,4,19,null,20,null,21,null,22,null,23,null,24,null,25,null,26,null,"Total"]
["Points",19,20,21,22,23,24,25,26,"Driver","Make","Sponsor","Points","Bonus","Points","Bonus","Points","Bonus","Points","Bonus","Points","Bonus","Points","Bonus","Points","Bonus","Points","Bonus","Points"]
[{"$f":"VLOOKUP(HLOOKUP('Pick Distribution'!$P$2,$B$6:$I$15,$J$5),'Current Owner Standings'!$A$71:$B$480,2,FALSE)","v":5},22,19,2,4,11,4,4,22,{"$f":"IF(ISNA(VLOOKUP($I7,'Cars & Results'!$A$6:$I$317,J$5,FALSE)),\"Invalid Number\",VLOOKUP($I7,'Cars & Results'!$A$6:$K$317,J$5,FALSE))","v":"Joey Logano"},{"$f":"IF(ISNA(VLOOKUP($I7,'Cars & Results'!$A$6:$I$317,K$5,FALSE)),\"Invalid Number\",VLOOKUP($I7,'Cars & Results'!$A$6:$K$317,K$5,FALSE))","v":"Ford"},{"$f":"IF(ISNA(VLOOKUP($I7,'Cars & Results'!$A$6:$I$317,L$5,FALSE)),\"Invalid Number\",VLOOKUP($I7,'Cars & Results'!$A$6:$K$317,L$5,FALSE))","v":"Team Penske"},{"$f":"IF(HLOOKUP(M$5,$B$6:$I$15,Points!$A3+1,FALSE)=\"TBD\",\"\",VLOOKUP(HLOOKUP(M$5,$B$6:$I$15,Points!$A3+1,FALSE),'Cars & Results'!$A$7:$BZ$317,2*M$5+6,FALSE))","v":2},{"$f":"IF(HLOOKUP(M$5,$B$6:$I$15,Points!$A3+1,FALSE)=\"TBD\",\"\",0)","v":0},{"$f":"IF(HLOOKUP(O$5,$B$6:$I$15,Points!$A3+1,FALSE)=\"TBD\",\"\",VLOOKUP(HLOOKUP(O$5,$B$6:$I$15,Points!$A3+1,FALSE),'Cars & Results'!$A$7:$BZ$317,2*O$5+6,FALSE))","v":46},{"$f":"IF(HLOOKUP(O$5,$B$6:$I$15,Points!$A3+1,FALSE)=\"TBD\",\"\",0)","v":0},{"$f":"IF(HLOOKUP(Q$5,$B$6:$I$15,Points!$A3+1,FALSE)=\"TBD\",\"\",VLOOKUP(HLOOKUP(Q$5,$B$6:$I$15,Points!$A3+1,FALSE),'Cars & Results'!$A$7:$BZ$317,2*Q$5+6,FALSE))","v":47},{"$f":"IF(HLOOKUP(Q$5,$B$6:$I$15,Points!$A3+1,FALSE)=\"TBD\",\"\",0)","v":0},{"$f":"IF(HLOOKUP(S$5,$B$6:$I$15,Points!$A3+1,FALSE)=\"TBD\",\"\",VLOOKUP(HLOOKUP(S$5,$B$6:$I$15,Points!$A3+1,FALSE),'Cars & Results'!$A$7:$BZ$317,2*S$5+6,FALSE))","v":53},{"$f":"IF(HLOOKUP(S$5,$B$6:$I$15,Points!$A3+1,FALSE)=\"TBD\",\"\",0)","v":0},{"$f":"IF(HLOOKUP(U$5,$B$6:$I$15,Points!$A3+1,FALSE)=\"TBD\",\"\",VLOOKUP(HLOOKUP(U$5,$B$6:$I$15,Points!$A3+1,FALSE),'Cars & Results'!$A$7:$BZ$317,2*U$5+6,FALSE))","v":45},{"$f":"IF(HLOOKUP(U$5,$B$6:$I$15,Points!$A3+1,FALSE)=\"TBD\",\"\",0)","v":0},{"$f":"IF(HLOOKUP(W$5,$B$6:$I$15,Points!$A3+1,FALSE)=\"TBD\",\"\",VLOOKUP(HLOOKUP(W$5,$B$6:$I$15,Points!$A3+1,FALSE),'Cars & Results'!$A$7:$BZ$317,2*W$5+6,FALSE))","v":42},{"$f":"IF(HLOOKUP(W$5,$B$6:$I$15,Points!$A3+1,FALSE)=\"TBD\",\"\",0)","v":0},{"$f":"IF(HLOOKUP(Y$5,$B$6:$I$15,Points!$A3+1,FALSE)=\"TBD\",\"\",VLOOKUP(HLOOKUP(Y$5,$B$6:$I$15,Points!$A3+1,FALSE),'Cars & Results'!$A$7:$BZ$317,2*Y$5+6,FALSE))","v":60},{"$f":"IF(HLOOKUP(Y$5,$B$6:$I$15,Points!$A3+1,FALSE)=\"TBD\",\"\",0)","v":0},{"$f":"IF(HLOOKUP(AA$5,$B$6:$I$15,Points!$A3+1,FALSE)=\"TBD\",\"\",VLOOKUP(HLOOKUP(AA$5,$B$6:$I$15,Points!$A3+1,FALSE),'Cars & Results'!$A$7:$BZ$317,2*AA$5+6,FALSE))","v":30},{"$f":"IF(HLOOKUP(AA$5,$B$6:$I$15,Points!$A3+1,FALSE)=\"TBD\",\"\",0)","v":0}]
[{"$f":"VLOOKUP(HLOOKUP('Pick Distribution'!$P$2,$B$6:$I$15,3),'Current Owner Standings'!$A$71:$B$480,2,FALSE)","v":9},1,18,1,18,18,18,18,18,{"$f":"IF(ISNA(VLOOKUP($I8,'Cars & Results'!$A$6:$I$317,J$5,FALSE)),\"Invalid Number\",VLOOKUP($I8,'Cars & Results'!$A$6:$K$317,J$5,FALSE))","v":"Kyle Busch"},{"$f":"IF(ISNA(VLOOKUP($I8,'Cars & Results'!$A$6:$I$317,K$5,FALSE)),\"Invalid Number\",VLOOKUP($I8,'Cars & Results'!$A$6:$K$317,K$5,FALSE))","v":"Toyota"},{"$f":"IF(ISNA(VLOOKUP($I8,'Cars & Results'!$A$6:$I$317,L$5,FALSE)),\"Invalid Number\",VLOOKUP($I8,'Cars & Results'!$A$6:$K$317,L$5,FALSE))","v":"Joe Gibbs Racing"},{"$f":"IF(HLOOKUP(M$5,$B$6:$I$15,Points!$A4+1,FALSE)=\"TBD\",\"\",VLOOKUP(HLOOKUP(M$5,$B$6:$I$15,Points!$A4+1,FALSE),'Cars & Results'!$A$7:$BZ$317,2*M$5+6,FALSE))","v":28},{"$f":"IF(HLOOKUP(M$5,$B$6:$I$15,Points!$A4+1,FALSE)=\"TBD\",\"\",IF(VLOOKUP(HLOOKUP(M$5,$B$6:$I$15,Points!$A4+1,FALSE),'Cars & Results'!$A$7:$BZ$317,2*M$5+5)=1,M8*0.25,0))","v":0},{"$f":"IF(HLOOKUP(O$5,$B$6:$I$15,Points!$A4+1,FALSE)=\"TBD\",\"\",VLOOKUP(HLOOKUP(O$5,$B$6:$I$15,Points!$A4+1,FALSE),'Cars & Results'!$A$7:$BZ$317,2*O$5+6,FALSE))","v":1},{"$f":"IF(HLOOKUP(O$5,$B$6:$I$15,Points!$A4+1,FALSE)=\"TBD\",\"\",IF(VLOOKUP(HLOOKUP(O$5,$B$6:$I$15,Points!$A4+1,FALSE),'Cars & Results'!$A$7:$BZ$317,2*O$5+5)=1,O8*0.25,0))","v":0},{"$f":"IF(HLOOKUP(Q$5,$B$6:$I$15,Points!$A4+1,FALSE)=\"TBD\",\"\",VLOOKUP(HLOOKUP(Q$5,$B$6:$I$15,Points!$A4+1,FALSE),'Cars & Results'!$A$7:$BZ$317,2*Q$5+6,FALSE))","v":38},{"$f":"IF(HLOOKUP(Q$5,$B$6:$I$15,Points!$A4+1,FALSE)=\"TBD\",\"\",IF(VLOOKUP(HLOOKUP(Q$5,$B$6:$I$15,Points!$A4+1,FALSE),'Cars & Results'!$A$7:$BZ$317,2*Q$5+5)=1,Q8*0.25,0))","v":0},{"$f":"IF(HLOOKUP(S$5,$B$6:$I$15,Points!$A4+1,FALSE)=\"TBD\",\"\",VLOOKUP(HLOOKUP(S$5,$B$6:$I$15,Points!$A4+1,FALSE),'Cars & Results'!$A$7:$BZ$317,2*S$5+6,FALSE))","v":49},{"$f":"IF(HLOOKUP(S$5,$B$6:$I$15,Points!$A4+1,FALSE)=\"TBD\",\"\",IF(VLOOKUP(HLOOKUP(S$5,$B$6:$I$15,Points!$A4+1,FALSE),'Cars & Results'!$A$7:$BZ$317,2*S$5+5)=1,S8*0.25,0))","v":0},{"$f":"IF(HLOOKUP(U$5,$B$6:$I$15,Points!$A4+1,FALSE)=\"TBD\",\"\",VLOOKUP(HLOOKUP(U$5,$B$6:$I$15,Points!$A4+1,FALSE),'Cars & Results'!$A$7:$BZ$317,2*U$5+6,FALSE))","v":1},{"$f":"IF(HLOOKUP(U$5,$B$6:$I$15,Points!$A4+1,FALSE)=\"TBD\",\"\",IF(VLOOKUP(HLOOKUP(U$5,$B$6:$I$15,Points!$A4+1,FALSE),'Cars & Results'!$A$7:$BZ$317,2*U$5+5)=1,U8*0.25,0))","v":0},{"$f":"IF(HLOOKUP(W$5,$B$6:$I$15,Points!$A4+1,FALSE)=\"TBD\",\"\",VLOOKUP(HLOOKUP(W$5,$B$6:$I$15,Points!$A4+1,FALSE),'Cars & Results'!$A$7:$BZ$317,2*W$5+6,FALSE))","v":41},{"$f":"IF(HLOOKUP(W$5,$B$6:$I$15,Points!$A4+1,FALSE)=\"TBD\",\"\",IF(VLOOKUP(HLOOKUP(W$5,$B$6:$I$15,Points!$A4+1,FALSE),'Cars & Results'!$A$7:$BZ$317,2*W$5+5)=1,W8*0.25,0))","v":0},{"$f":"IF(HLOOKUP(Y$5,$B$6:$I$15,Points!$A4+1,FALSE)=\"TBD\",\"\",VLOOKUP(HLOOKUP(Y$5,$B$6:$I$15,Points!$A4+1,FALSE),'Cars & Results'!$A$7:$BZ$317,2*Y$5+6,FALSE))","v":26},{"$f":"IF(HLOOKUP(Y$5,$B$6:$I$15,Points!$A4+1,FALSE)=\"TBD\",\"\",IF(VLOOKUP(HLOOKUP(Y$5,$B$6:$I$15,Points!$A4+1,FALSE),'Cars & Results'!$A$7:$BZ$317,2*Y$5+5)=1,Y8*0.25,0))","v":0},{"$f":"IF(HLOOKUP(AA$5,$B$6:$I$15,Points!$A4+1,FALSE)=\"TBD\",\"\",VLOOKUP(HLOOKUP(AA$5,$B$6:$I$15,Points!$A4+1,FALSE),'Cars & Results'!$A$7:$BZ$317,2*AA$5+6,FALSE))","v":5},{"$f":"IF(HLOOKUP(AA$5,$B$6:$I$15,Points!$A4+1,FALSE)=\"TBD\",\"\",IF(VLOOKUP(HLOOKUP(AA$5,$B$6:$I$15,Points!$A4+1,FALSE),'Cars & Results'!$A$7:$BZ$317,2*AA$5+5)=1,AA8*0.25,0))","v":0}]
[{"$f":"VLOOKUP(HLOOKUP('Pick Distribution'!$P$2,$B$6:$I$15,4),'Current Owner Standings'!$A$71:$B$480,2,FALSE)","v":17},20,3,42,3,8,8,3,20,{"$f":"IF(ISNA(VLOOKUP($I9,'Cars & Results'!$A$6:$I$317,J$5,FALSE)),\"Invalid Number\",VLOOKUP($I9,'Cars & Results'!$A$6:$K$317,J$5,FALSE))","v":"Erik Jones"},{"$f":"IF(ISNA(VLOOKUP($I9,'Cars & Results'!$A$6:$I$317,K$5,FALSE)),\"Invalid Number\",VLOOKUP($I9,'Cars & Results'!$A$6:$K$317,K$5,FALSE))","v":"Toyota"},{"$f":"IF(ISNA(VLOOKUP($I9,'Cars & Results'!$A$6:$I$317,L$5,FALSE)),\"Invalid Number\",VLOOKUP($I9,'Cars & Results'!$A$6:$K$317,L$5,FALSE))","v":"Joe Gibbs Racing"},{"$f":"IF(HLOOKUP(M$5,$B$6:$I$15,Points!$A5+1,FALSE)=\"TBD\",\"\",VLOOKUP(HLOOKUP(M$5,$B$6:$I$15,Points!$A5+1,FALSE),'Cars & Results'!$A$7:$BZ$317,2*M$5+6,FALSE))","v":37},{"$f":"IF(HLOOKUP(M$5,$B$6:$I$15,Points!$A5+1,FALSE)=\"TBD\",\"\",IF(VLOOKUP(HLOOKUP(M$5,$B$6:$I$15,Points!$A5+1,FALSE),'Cars & Results'!$A$7:$BZ$317,2*M$5+5)<=5,M9*0.5,0))","v":18.5},{"$f":"IF(HLOOKUP(O$5,$B$6:$I$15,Points!$A5+1,FALSE)=\"TBD\",\"\",VLOOKUP(HLOOKUP(O$5,$B$6:$I$15,Points!$A5+1,FALSE),'Cars & Results'!$A$7:$BZ$317,2*O$5+6,FALSE))","v":28},{"$f":"IF(HLOOKUP(O$5,$B$6:$I$15,Points!$A5+1,FALSE)=\"TBD\",\"\",IF(VLOOKUP(HLOOKUP(O$5,$B$6:$I$15,Points!$A5+1,FALSE),'Cars & Results'!$A$7:$BZ$317,2*O$5+5)<=5,O9*0.5,0))","v":0},{"$f":"IF(HLOOKUP(Q$5,$B$6:$I$15,Points!$A5+1,FALSE)=\"TBD\",\"\",VLOOKUP(HLOOKUP(Q$5,$B$6:$I$15,Points!$A5+1,FALSE),'Cars & Results'!$A$7:$BZ$317,2*Q$5+6,FALSE))","v":20},{"$f":"IF(HLOOKUP(Q$5,$B$6:$I$15,Points!$A5+1,FALSE)=\"TBD\",\"\",IF(VLOOKUP(HLOOKUP(Q$5,$B$6:$I$15,Points!$A5+1,FALSE),'Cars & Results'!$A$7:$BZ$317,2*Q$5+5)<=5,Q9*0.5,0))","v":0},{"$f":"IF(HLOOKUP(S$5,$B$6:$I$15,Points!$A5+1,FALSE)=\"TBD\",\"\",VLOOKUP(HLOOKUP(S$5,$B$6:$I$15,Points!$A5+1,FALSE),'Cars & Results'!$A$7:$BZ$317,2*S$5+6,FALSE))","v":29},{"$f":"IF(HLOOKUP(S$5,$B$6:$I$15,Points!$A5+1,FALSE)=\"TBD\",\"\",IF(VLOOKUP(HLOOKUP(S$5,$B$6:$I$15,Points!$A5+1,FALSE),'Cars & Results'!$A$7:$BZ$317,2*S$5+5)<=5,S9*0.5,0))","v":0},{"$f":"IF(HLOOKUP(U$5,$B$6:$I$15,Points!$A5+1,FALSE)=\"TBD\",\"\",VLOOKUP(HLOOKUP(U$5,$B$6:$I$15,Points!$A5+1,FALSE),'Cars & Results'!$A$7:$BZ$317,2*U$5+6,FALSE))","v":19},{"$f":"IF(HLOOKUP(U$5,$B$6:$I$15,Points!$A5+1,FALSE)=\"TBD\",\"\",IF(VLOOKUP(HLOOKUP(U$5,$B$6:$I$15,Points!$A5+1,FALSE),'Cars & Results'!$A$7:$BZ$317,2*U$5+5)<=5,U9*0.5,0))","v":0},{"$f":"IF(HLOOKUP(W$5,$B$6:$I$15,Points!$A5+1,FALSE)=\"TBD\",\"\",VLOOKUP(HLOOKUP(W$5,$B$6:$I$15,Points!$A5+1,FALSE),'Cars & Results'!$A$7:$BZ$317,2*W$5+6,FALSE))","v":24},{"$f":"IF(HLOOKUP(W$5,$B$6:$I$15,Points!$A5+1,FALSE)=\"TBD\",\"\",IF(VLOOKUP(HLOOKUP(W$5,$B$6:$I$15,Points!$A5+1,FALSE),'Cars & Results'!$A$7:$BZ$317,2*W$5+5)<=5,W9*0.5,0))","v":0},{"$f":"IF(HLOOKUP(Y$5,$B$6:$I$15,Points!$A5+1,FALSE)=\"TBD\",\"\",VLOOKUP(HLOOKUP(Y$5,$B$6:$I$15,Points!$A5+1,FALSE),'Cars & Results'!$A$7:$BZ$317,2*Y$5+6,FALSE))","v":29},{"$f":"IF(HLOOKUP(Y$5,$B$6:$I$15,Points!$A5+1,FALSE)=\"TBD\",\"\",IF(VLOOKUP(HLOOKUP(Y$5,$B$6:$I$15,Points!$A5+1,FALSE),'Cars & Results'!$A$7:$BZ$317,2*Y$5+5)<=5,Y9*0.5,0))","v":0},{"$f":"IF(HLOOKUP(AA$5,$B$6:$I$15,Points!$A5+1,FALSE)=\"TBD\",\"\",VLOOKUP(HLOOKUP(AA$5,$B$6:$I$15,Points!$A5+1,FALSE),'Cars & Results'!$A$7:$BZ$317,2*AA$5+6,FALSE))","v":11},{"$f":"IF(HLOOKUP(AA$5,$B$6:$I$15,Points!$A5+1,FALSE)=\"TBD\",\"\",IF(VLOOKUP(HLOOKUP(AA$5,$B$6:$I$15,Points!$A5+1,FALSE),'Cars & Results'!$A$7:$BZ$317,2*AA$5+5)<=5,AA9*0.5,0))","v":0}]
[{"$f":"VLOOKUP(HLOOKUP('Pick Distribution'!$P$2,$B$6:$I$15,5),'Current Owner Standings'!$A$71:$B$480,2,FALSE)","v":20},8,48,48,48,42,95,42,41,{"$f":"IF(ISNA(VLOOKUP($I10,'Cars & Results'!$A$6:$I$317,J$5,FALSE)),\"Invalid Number\",VLOOKUP($I10,'Cars & Results'!$A$6:$K$317,J$5,FALSE))","v":"Cole Custer (R)"},{"$f":"IF(ISNA(VLOOKUP($I10,'Cars & Results'!$A$6:$I$317,K$5,FALSE)),\"Invalid Number\",VLOOKUP($I10,'Cars & Results'!$A$6:$K$317,K$5,FALSE))","v":"Ford"},{"$f":"IF(ISNA(VLOOKUP($I10,'Cars & Results'!$A$6:$I$317,L$5,FALSE)),\"Invalid Number\",VLOOKUP($I10,'Cars & Results'!$A$6:$K$317,L$5,FALSE))","v":"Stewart-Haas Racing"},{"$f":"IF(HLOOKUP(M$5,$B$6:$I$15,Points!$A6+1,FALSE)=\"TBD\",\"\",VLOOKUP(HLOOKUP(M$5,$B$6:$I$15,Points!$A6+1,FALSE),'Cars & Results'!$A$7:$BZ$317,2*M$5+6,FALSE))","v":29},{"$f":"IF(HLOOKUP(M$5,$B$6:$I$15,Points!$A6+1,FALSE)=\"TBD\",\"\",IF(VLOOKUP(HLOOKUP(M$5,$B$6:$I$15,Points!$A6+1,FALSE),'Cars & Results'!$A$7:$BZ$317,2*M$5+5)<=5,M10*0.5,0))","v":0},{"$f":"IF(HLOOKUP(O$5,$B$6:$I$15,Points!$A6+1,FALSE)=\"TBD\",\"\",VLOOKUP(HLOOKUP(O$5,$B$6:$I$15,Points!$A6+1,FALSE),'Cars & Results'!$A$7:$BZ$317,2*O$5+6,FALSE))","v":25},{"$f":"IF(HLOOKUP(O$5,$B$6:$I$15,Points!$A6+1,FALSE)=\"TBD\",\"\",IF(VLOOKUP(HLOOKUP(O$5,$B$6:$I$15,Points!$A6+1,FALSE),'Cars & Results'!$A$7:$BZ$317,2*O$5+5)<=5,O10*0.5,0))","v":0},{"$f":"IF(HLOOKUP(Q$5,$B$6:$I$15,Points!$A6+1,FALSE)=\"TBD\",\"\",VLOOKUP(HLOOKUP(Q$5,$B$6:$I$15,Points!$A6+1,FALSE),'Cars & Results'!$A$7:$BZ$317,2*Q$5+6,FALSE))","v":26},{"$f":"IF(HLOOKUP(Q$5,$B$6:$I$15,Points!$A6+1,FALSE)=\"TBD\",\"\",IF(VLOOKUP(HLOOKUP(Q$5,$B$6:$I$15,Points!$A6+1,FALSE),'Cars & Results'!$A$7:$BZ$317,2*Q$5+5)<=5,Q10*0.5,0))","v":0},{"$f":"IF(HLOOKUP(S$5,$B$6:$I$15,Points!$A6+1,FALSE)=\"TBD\",\"\",VLOOKUP(HLOOKUP(S$5,$B$6:$I$15,Points!$A6+1,FALSE),'Cars & Results'!$A$7:$BZ$317,2*S$5+6,FALSE))","v":26},{"$f":"IF(HLOOKUP(S$5,$B$6:$I$15,Points!$A6+1,FALSE)=\"TBD\",\"\",IF(VLOOKUP(HLOOKUP(S$5,$B$6:$I$15,Points!$A6+1,FALSE),'Cars & Results'!$A$7:$BZ$317,2*S$5+5)<=5,S10*0.5,0))","v":0},{"$f":"IF(HLOOKUP(U$5,$B$6:$I$15,Points!$A6+1,FALSE)=\"TBD\",\"\",VLOOKUP(HLOOKUP(U$5,$B$6:$I$15,Points!$A6+1,FALSE),'Cars & Results'!$A$7:$BZ$317,2*U$5+6,FALSE))","v":11},{"$f":"IF(HLOOKUP(U$5,$B$6:$I$15,Points!$A6+1,FALSE)=\"TBD\",\"\",IF(VLOOKUP(HLOOKUP(U$5,$B$6:$I$15,Points!$A6+1,FALSE),'Cars & Results'!$A$7:$BZ$317,2*U$5+5)<=5,U10*0.5,0))","v":0},{"$f":"IF(HLOOKUP(W$5,$B$6:$I$15,Points!$A6+1,FALSE)=\"TBD\",\"\",VLOOKUP(HLOOKUP(W$5,$B$6:$I$15,Points!$A6+1,FALSE),'Cars & Results'!$A$7:$BZ$317,2*W$5+6,FALSE))","v":15},{"$f":"IF(HLOOKUP(W$5,$B$6:$I$15,Points!$A6+1,FALSE)=\"TBD\",\"\",IF(VLOOKUP(HLOOKUP(W$5,$B$6:$I$15,Points!$A6+1,FALSE),'Cars & Results'!$A$7:$BZ$317,2*W$5+5)<=5,W10*0.5,0))","v":0},{"$f":"IF(HLOOKUP(Y$5,$B$6:$I$15,Points!$A6+1,FALSE)=\"TBD\",\"\",VLOOKUP(HLOOKUP(Y$5,$B$6:$I$15,Points!$A6+1,FALSE),'Cars & Results'!$A$7:$BZ$317,2*Y$5+6,FALSE))","v":22},{"$f":"IF(HLOOKUP(Y$5,$B$6:$I$15,Points!$A6+1,FALSE)=\"TBD\",\"\",IF(VLOOKUP(HLOOKUP(Y$5,$B$6:$I$15,Points!$A6+1,FALSE),'Cars & Results'!$A$7:$BZ$317,2*Y$5+5)<=5,Y10*0.5,0))","v":0},{"$f":"IF(HLOOKUP(AA$5,$B$6:$I$15,Points!$A6+1,FALSE)=\"TBD\",\"\",VLOOKUP(HLOOKUP(AA$5,$B$6:$I$15,Points!$A6+1,FALSE),'Cars & Results'!$A$7:$BZ$317,2*AA$5+6,FALSE))","v":7},{"$f":"IF(HLOOKUP(AA$5,$B$6:$I$15,Points!$A6+1,FALSE)=\"TBD\",\"\",IF(VLOOKUP(HLOOKUP(AA$5,$B$6:$I$15,Points!$A6+1,FALSE),'Cars & Results'!$A$7:$BZ$317,2*AA$5+5)<=5,AA10*0.5,0))","v":0}]
[{"$f":"VLOOKUP(HLOOKUP('Pick Distribution'!$P$2,$B$6:$I$15,6),'Current Owner Standings'!$A$71:$B$480,2,FALSE)","v":25},34,13,43,6,34,34,43,47,{"$f":"IF(ISNA(VLOOKUP($I11,'Cars & Results'!$A$6:$I$317,J$5,FALSE)),\"Invalid Number\",VLOOKUP($I11,'Cars & Results'!$A$6:$K$317,J$5,FALSE))","v":"Ricky Stenhouse Jr."},{"$f":"IF(ISNA(VLOOKUP($I11,'Cars & Results'!$A$6:$I$317,K$5,FALSE)),\"Invalid Number\",VLOOKUP($I11,'Cars & Results'!$A$6:$K$317,K$5,FALSE))","v":"Chevrolet"},{"$f":"IF(ISNA(VLOOKUP($I11,'Cars & Results'!$A$6:$I$317,L$5,FALSE)),\"Invalid Number\",VLOOKUP($I11,'Cars & Results'!$A$6:$K$317,L$5,FALSE))","v":"JTG Daugherty Racing"},{"$f":"IF(HLOOKUP(M$5,$B$6:$I$15,Points!$A7+1,FALSE)=\"TBD\",\"\",VLOOKUP(HLOOKUP(M$5,$B$6:$I$15,Points!$A7+1,FALSE),'Cars & Results'!$A$7:$BZ$317,2*M$5+6,FALSE))","v":21},{"$f":"IF(HLOOKUP(M$5,$B$6:$I$15,Points!$A7+1,FALSE)=\"TBD\",\"\",IF(VLOOKUP(HLOOKUP(M$5,$B$6:$I$15,Points!$A7+1,FALSE),'Cars & Results'!$A$7:$BZ$317,2*M$5+5)<=10,M11*1.5,0))","v":0},{"$f":"IF(HLOOKUP(O$5,$B$6:$I$15,Points!$A7+1,FALSE)=\"TBD\",\"\",VLOOKUP(HLOOKUP(O$5,$B$6:$I$15,Points!$A7+1,FALSE),'Cars & Results'!$A$7:$BZ$317,2*O$5+6,FALSE))","v":15},{"$f":"IF(HLOOKUP(O$5,$B$6:$I$15,Points!$A7+1,FALSE)=\"TBD\",\"\",IF(VLOOKUP(HLOOKUP(O$5,$B$6:$I$15,Points!$A7+1,FALSE),'Cars & Results'!$A$7:$BZ$317,2*O$5+5)<=10,O11*1.5,0))","v":0},{"$f":"IF(HLOOKUP(Q$5,$B$6:$I$15,Points!$A7+1,FALSE)=\"TBD\",\"\",VLOOKUP(HLOOKUP(Q$5,$B$6:$I$15,Points!$A7+1,FALSE),'Cars & Results'!$A$7:$BZ$317,2*Q$5+6,FALSE))","v":28},{"$f":"IF(HLOOKUP(Q$5,$B$6:$I$15,Points!$A7+1,FALSE)=\"TBD\",\"\",IF(VLOOKUP(HLOOKUP(Q$5,$B$6:$I$15,Points!$A7+1,FALSE),'Cars & Results'!$A$7:$BZ$317,2*Q$5+5)<=10,Q11*1.5,0))","v":42},{"$f":"IF(HLOOKUP(S$5,$B$6:$I$15,Points!$A7+1,FALSE)=\"TBD\",\"\",VLOOKUP(HLOOKUP(S$5,$B$6:$I$15,Points!$A7+1,FALSE),'Cars & Results'!$A$7:$BZ$317,2*S$5+6,FALSE))","v":24},{"$f":"IF(HLOOKUP(S$5,$B$6:$I$15,Points!$A7+1,FALSE)=\"TBD\",\"\",IF(VLOOKUP(HLOOKUP(S$5,$B$6:$I$15,Points!$A7+1,FALSE),'Cars & Results'!$A$7:$BZ$317,2*S$5+5)<=10,S11*1.5,0))","v":0},{"$f":"IF(HLOOKUP(U$5,$B$6:$I$15,Points!$A7+1,FALSE)=\"TBD\",\"\",VLOOKUP(HLOOKUP(U$5,$B$6:$I$15,Points!$A7+1,FALSE),'Cars & Results'!$A$7:$BZ$317,2*U$5+6,FALSE))","v":27},{"$f":"IF(HLOOKUP(U$5,$B$6:$I$15,Points!$A7+1,FALSE)=\"TBD\",\"\",IF(VLOOKUP(HLOOKUP(U$5,$B$6:$I$15,Points!$A7+1,FALSE),'Cars & Results'!$A$7:$BZ$317,2*U$5+5)<=10,U11*1.5,0))","v":40.5},{"$f":"IF(HLOOKUP(W$5,$B$6:$I$15,Points!$A7+1,FALSE)=\"TBD\",\"\",VLOOKUP(HLOOKUP(W$5,$B$6:$I$15,Points!$A7+1,FALSE),'Cars & Results'!$A$7:$BZ$317,2*W$5+6,FALSE))","v":11},{"$f":"IF(HLOOKUP(W$5,$B$6:$I$15,Points!$A7+1,FALSE)=\"TBD\",\"\",IF(VLOOKUP(HLOOKUP(W$5,$B$6:$I$15,Points!$A7+1,FALSE),'Cars & Results'!$A$7:$BZ$317,2*W$5+5)<=10,W11*1.5,0))","v":0},{"$f":"IF(HLOOKUP(Y$5,$B$6:$I$15,Points!$A7+1,FALSE)=\"TBD\",\"\",VLOOKUP(HLOOKUP(Y$5,$B$6:$I$15,Points!$A7+1,FALSE),'Cars & Results'!$A$7:$BZ$317,2*Y$5+6,FALSE))","v":16},{"$f":"IF(HLOOKUP(Y$5,$B$6:$I$15,Points!$A7+1,FALSE)=\"TBD\",\"\",IF(VLOOKUP(HLOOKUP(Y$5,$B$6:$I$15,Points!$A7+1,FALSE),'Cars & Results'!$A$7:$BZ$317,2*Y$5+5)<=10,Y11*1.5,0))","v":0},{"$f":"IF(HLOOKUP(AA$5,$B$6:$I$15,Points!$A7+1,FALSE)=\"TBD\",\"\",VLOOKUP(HLOOKUP(AA$5,$B$6:$I$15,Points!$A7+1,FALSE),'Cars & Results'!$A$7:$BZ$317,2*AA$5+6,FALSE))","v":8},{"$f":"IF(HLOOKUP(AA$5,$B$6:$I$15,Points!$A7+1,FALSE)=\"TBD\",\"\",IF(VLOOKUP(HLOOKUP(AA$5,$B$6:$I$15,Points!$A7+1,FALSE),'Cars & Results'!$A$7:$BZ$317,2*AA$5+5)<=10,AA11*1.5,0))","v":0}]
[{"$f":"VLOOKUP(HLOOKUP('Pick Distribution'!$P$2,$B$6:$I$15,7),'Current Owner Standings'!$A$71:$B$480,2,FALSE)","v":24},38,95,47,47,47,6,6,6,{"$f":"IF(ISNA(VLOOKUP($I12,'Cars & Results'!$A$6:$I$317,J$5,FALSE)),\"Invalid Number\",VLOOKUP($I12,'Cars & Results'!$A$6:$K$317,J$5,FALSE))","v":"Ryan Newman"},{"$f":"IF(ISNA(VLOOKUP($I12,'Cars & Results'!$A$6:$I$317,K$5,FALSE)),\"Invalid Number\",VLOOKUP($I12,'Cars & Results'!$A$6:$K$317,K$5,FALSE))","v":"Ford"},{"$f":"IF(ISNA(VLOOKUP($I12,'Cars & Results'!$A$6:$I$317,L$5,FALSE)),\"Invalid Number\",VLOOKUP($I12,'Cars & Results'!$A$6:$K$317,L$5,FALSE))","v":"Roush Fenway Racing"},{"$f":"IF(HLOOKUP(M$5,$B$6:$I$15,Points!$A8+1,FALSE)=\"TBD\",\"\",VLOOKUP(HLOOKUP(M$5,$B$6:$I$15,Points!$A8+1,FALSE),'Cars & Results'!$A$7:$BZ$317,2*M$5+6,FALSE))","v":18},{"$f":"IF(HLOOKUP(M$5,$B$6:$I$15,Points!$A8+1,FALSE)=\"TBD\",\"\",IF(VLOOKUP(HLOOKUP(M$5,$B$6:$I$15,Points!$A8+1,FALSE),'Cars & Results'!$A$7:$BZ$317,2*M$5+5)<=10,M12*1.5,0))","v":0},{"$f":"IF(HLOOKUP(O$5,$B$6:$I$15,Points!$A8+1,FALSE)=\"TBD\",\"\",VLOOKUP(HLOOKUP(O$5,$B$6:$I$15,Points!$A8+1,FALSE),'Cars & Results'!$A$7:$BZ$317,2*O$5+6,FALSE))","v":16},{"$f":"IF(HLOOKUP(O$5,$B$6:$I$15,Points!$A8+1,FALSE)=\"TBD\",\"\",IF(VLOOKUP(HLOOKUP(O$5,$B$6:$I$15,Points!$A8+1,FALSE),'Cars & Results'!$A$7:$BZ$317,2*O$5+5)<=10,O12*1.5,0))","v":0},{"$f":"IF(HLOOKUP(Q$5,$B$6:$I$15,Points!$A8+1,FALSE)=\"TBD\",\"\",VLOOKUP(HLOOKUP(Q$5,$B$6:$I$15,Points!$A8+1,FALSE),'Cars & Results'!$A$7:$BZ$317,2*Q$5+6,FALSE))","v":6},{"$f":"IF(HLOOKUP(Q$5,$B$6:$I$15,Points!$A8+1,FALSE)=\"TBD\",\"\",IF(VLOOKUP(HLOOKUP(Q$5,$B$6:$I$15,Points!$A8+1,FALSE),'Cars & Results'!$A$7:$BZ$317,2*Q$5+5)<=10,Q12*1.5,0))","v":0},{"$f":"IF(HLOOKUP(S$5,$B$6:$I$15,Points!$A8+1,FALSE)=\"TBD\",\"\",VLOOKUP(HLOOKUP(S$5,$B$6:$I$15,Points!$A8+1,FALSE),'Cars & Results'!$A$7:$BZ$317,2*S$5+6,FALSE))","v":18},{"$f":"IF(HLOOKUP(S$5,$B$6:$I$15,Points!$A8+1,FALSE)=\"TBD\",\"\",IF(VLOOKUP(HLOOKUP(S$5,$B$6:$I$15,Points!$A8+1,FALSE),'Cars & Results'!$A$7:$BZ$317,2*S$5+5)<=10,S12*1.5,0))","v":0},{"$f":"IF(HLOOKUP(U$5,$B$6:$I$15,Points!$A8+1,FALSE)=\"TBD\",\"\",VLOOKUP(HLOOKUP(U$5,$B$6:$I$15,Points!$A8+1,FALSE),'Cars & Results'!$A$7:$BZ$317,2*U$5+6,FALSE))","v":27},{"$f":"IF(HLOOKUP(U$5,$B$6:$I$15,Points!$A8+1,FALSE)=\"TBD\",\"\",IF(VLOOKUP(HLOOKUP(U$5,$B$6:$I$15,Points!$A8+1,FALSE),'Cars & Results'!$A$7:$BZ$317,2*U$5+5)<=10,U12*1.5,0))","v":0},{"$f":"IF(HLOOKUP(W$5,$B$6:$I$15,Points!$A8+1,FALSE)=\"TBD\",\"\",VLOOKUP(HLOOKUP(W$5,$B$6:$I$15,Points!$A8+1,FALSE),'Cars & Results'!$A$7:$BZ$317,2*W$5+6,FALSE))","v":18},{"$f":"IF(HLOOKUP(W$5,$B$6:$I$15,Points!$A8+1,FALSE)=\"TBD\",\"\",IF(VLOOKUP(HLOOKUP(W$5,$B$6:$I$15,Points!$A8+1,FALSE),'Cars & Results'!$A$7:$BZ$317,2*W$5+5)<=10,W12*1.5,0))","v":0},{"$f":"IF(HLOOKUP(Y$5,$B$6:$I$15,Points!$A8+1,FALSE)=\"TBD\",\"\",VLOOKUP(HLOOKUP(Y$5,$B$6:$I$15,Points!$A8+1,FALSE),'Cars & Results'!$A$7:$BZ$317,2*Y$5+6,FALSE))","v":13},{"$f":"IF(HLOOKUP(Y$5,$B$6:$I$15,Points!$A8+1,FALSE)=\"TBD\",\"\",IF(VLOOKUP(HLOOKUP(Y$5,$B$6:$I$15,Points!$A8+1,FALSE),'Cars & Results'!$A$7:$BZ$317,2*Y$5+5)<=10,Y12*1.5,0))","v":0},{"$f":"IF(HLOOKUP(AA$5,$B$6:$I$15,Points!$A8+1,FALSE)=\"TBD\",\"\",VLOOKUP(HLOOKUP(AA$5,$B$6:$I$15,Points!$A8+1,FALSE),'Cars & Results'!$A$7:$BZ$317,2*AA$5+6,FALSE))","v":1},{"$f":"IF(HLOOKUP(AA$5,$B$6:$I$15,Points!$A8+1,FALSE)=\"TBD\",\"\",IF(VLOOKUP(HLOOKUP(AA$5,$B$6:$I$15,Points!$A8+1,FALSE),'Cars & Results'!$A$7:$BZ$317,2*AA$5+5)<=10,AA12*1.5,0))","v":0}]
[{"$f":"VLOOKUP(HLOOKUP('Pick Distribution'!$P$2,$B$6:$I$15,8),'Current Owner Standings'!$A$71:$B$480,2,FALSE)","v":31},15,37,96,96,77,96,96,96,{"$f":"IF(ISNA(VLOOKUP($I13,'Cars & Results'!$A$6:$I$317,J$5,FALSE)),\"Invalid Number\",VLOOKUP($I13,'Cars & Results'!$A$6:$K$317,J$5,FALSE))","v":"Daniel Suárez"},{"$f":"IF(ISNA(VLOOKUP($I13,'Cars & Results'!$A$6:$I$317,K$5,FALSE)),\"Invalid Number\",VLOOKUP($I13,'Cars & Results'!$A$6:$K$317,K$5,FALSE))","v":"Toyota"},{"$f":"IF(ISNA(VLOOKUP($I13,'Cars & Results'!$A$6:$I$317,L$5,FALSE)),\"Invalid Number\",VLOOKUP($I13,'Cars & Results'!$A$6:$K$317,L$5,FALSE))","v":"Gaunt Brothers Racing"},{"$f":"IF(HLOOKUP(M$5,$B$6:$I$15,Points!$A9+1,FALSE)=\"TBD\",\"\",VLOOKUP(HLOOKUP(M$5,$B$6:$I$15,Points!$A9+1,FALSE),'Cars & Results'!$A$7:$BZ$317,2*M$5+6,FALSE))","v":7},{"$f":"IF(HLOOKUP(M$5,$B$6:$I$15,Points!$A9+1,FALSE)=\"TBD\",\"\",IF(VLOOKUP(HLOOKUP(M$5,$B$6:$I$15,Points!$A9+1,FALSE),'Cars & Results'!$A$7:$BZ$317,2*M$5+5)<=10,M13*2,0))","v":0},{"$f":"IF(HLOOKUP(O$5,$B$6:$I$15,Points!$A9+1,FALSE)=\"TBD\",\"\",VLOOKUP(HLOOKUP(O$5,$B$6:$I$15,Points!$A9+1,FALSE),'Cars & Results'!$A$7:$BZ$317,2*O$5+6,FALSE))","v":23},{"$f":"IF(HLOOKUP(O$5,$B$6:$I$15,Points!$A9+1,FALSE)=\"TBD\",\"\",IF(VLOOKUP(HLOOKUP(O$5,$B$6:$I$15,Points!$A9+1,FALSE),'Cars & Results'!$A$7:$BZ$317,2*O$5+5)<=10,O13*2,0))","v":0},{"$f":"IF(HLOOKUP(Q$5,$B$6:$I$15,Points!$A9+1,FALSE)=\"TBD\",\"\",VLOOKUP(HLOOKUP(Q$5,$B$6:$I$15,Points!$A9+1,FALSE),'Cars & Results'!$A$7:$BZ$317,2*Q$5+6,FALSE))","v":13},{"$f":"IF(HLOOKUP(Q$5,$B$6:$I$15,Points!$A9+1,FALSE)=\"TBD\",\"\",IF(VLOOKUP(HLOOKUP(Q$5,$B$6:$I$15,Points!$A9+1,FALSE),'Cars & Results'!$A$7:$BZ$317,2*Q$5+5)<=10,Q13*2,0))","v":0},{"$f":"IF(HLOOKUP(S$5,$B$6:$I$15,Points!$A9+1,FALSE)=\"TBD\",\"\",VLOOKUP(HLOOKUP(S$5,$B$6:$I$15,Points!$A9+1,FALSE),'Cars & Results'!$A$7:$BZ$317,2*S$5+6,FALSE))","v":11},{"$f":"IF(HLOOKUP(S$5,$B$6:$I$15,Points!$A9+1,FALSE)=\"TBD\",\"\",IF(VLOOKUP(HLOOKUP(S$5,$B$6:$I$15,Points!$A9+1,FALSE),'Cars & Results'!$A$7:$BZ$317,2*S$5+5)<=10,S13*2,0))","v":0},{"$f":"IF(HLOOKUP(U$5,$B$6:$I$15,Points!$A9+1,FALSE)=\"TBD\",\"\",VLOOKUP(HLOOKUP(U$5,$B$6:$I$15,Points!$A9+1,FALSE),'Cars & Results'!$A$7:$BZ$317,2*U$5+6,FALSE))","v":1},{"$f":"IF(HLOOKUP(U$5,$B$6:$I$15,Points!$A9+1,FALSE)=\"TBD\",\"\",IF(VLOOKUP(HLOOKUP(U$5,$B$6:$I$15,Points!$A9+1,FALSE),'Cars & Results'!$A$7:$BZ$317,2*U$5+5)<=10,U13*2,0))","v":0},{"$f":"IF(HLOOKUP(W$5,$B$6:$I$15,Points!$A9+1,FALSE)=\"TBD\",\"\",VLOOKUP(HLOOKUP(W$5,$B$6:$I$15,Points!$A9+1,FALSE),'Cars & Results'!$A$7:$BZ$317,2*W$5+6,FALSE))","v":7},{"$f":"IF(HLOOKUP(W$5,$B$6:$I$15,Points!$A9+1,FALSE)=\"TBD\",\"\",IF(VLOOKUP(HLOOKUP(W$5,$B$6:$I$15,Points!$A9+1,FALSE),'Cars & Results'!$A$7:$BZ$317,2*W$5+5)<=10,W13*2,0))","v":0},{"$f":"IF(HLOOKUP(Y$5,$B$6:$I$15,Points!$A9+1,FALSE)=\"TBD\",\"\",VLOOKUP(HLOOKUP(Y$5,$B$6:$I$15,Points!$A9+1,FALSE),'Cars & Results'!$A$7:$BZ$317,2*Y$5+6,FALSE))","v":9},{"$f":"IF(HLOOKUP(Y$5,$B$6:$I$15,Points!$A9+1,FALSE)=\"TBD\",\"\",IF(VLOOKUP(HLOOKUP(Y$5,$B$6:$I$15,Points!$A9+1,FALSE),'Cars & Results'!$A$7:$BZ$317,2*Y$5+5)<=10,Y13*2,0))","v":0},{"$f":"IF(HLOOKUP(AA$5,$B$6:$I$15,Points!$A9+1,FALSE)=\"TBD\",\"\",VLOOKUP(HLOOKUP(AA$5,$B$6:$I$15,Points!$A9+1,FALSE),'Cars & Results'!$A$7:$BZ$317,2*AA$5+6,FALSE))","v":11},{"$f":"IF(HLOOKUP(AA$5,$B$6:$I$15,Points!$A9+1,FALSE)=\"TBD\",\"\",IF(VLOOKUP(HLOOKUP(AA$5,$B$6:$I$15,Points!$A9+1,FALSE),'Cars & Results'!$A$7:$BZ$317,2*AA$5+5)<=10,AA13*2,0))","v":0}]
[{"$f":"VLOOKUP(HLOOKUP('Pick Distribution'!$P$2,$B$6:$I$15,9),'Current Owner Standings'!$A$71:$B$480,2,FALSE)","v":37},66,66,66,66,62,"00","00",66,{"$f":"IF(ISNA(VLOOKUP($I14,'Cars & Results'!$A$6:$I$317,J$5,FALSE)),\"Invalid Number\",VLOOKUP($I14,'Cars & Results'!$A$6:$K$317,J$5,FALSE))","v":"Timmy Hill (i)"},{"$f":"IF(ISNA(VLOOKUP($I14,'Cars & Results'!$A$6:$I$317,K$5,FALSE)),\"Invalid Number\",VLOOKUP($I14,'Cars & Results'!$A$6:$K$317,K$5,FALSE))","v":"Toyota"},{"$f":"IF(ISNA(VLOOKUP($I14,'Cars & Results'!$A$6:$I$317,L$5,FALSE)),\"Invalid Number\",VLOOKUP($I14,'Cars & Results'!$A$6:$K$317,L$5,FALSE))","v":"MBM Motorsports"},{"$f":"IF(HLOOKUP(M$5,$B$6:$I$15,Points!$A10+1,FALSE)=\"TBD\",\"\",VLOOKUP(HLOOKUP(M$5,$B$6:$I$15,Points!$A10+1,FALSE),'Cars & Results'!$A$7:$BZ$317,2*M$5+6,FALSE))","v":0},{"$f":"IF(HLOOKUP(M$5,$B$6:$I$15,Points!$A10+1,FALSE)=\"TBD\",\"\",IF(VLOOKUP(HLOOKUP(M$5,$B$6:$I$15,Points!$A10+1,FALSE),'Cars & Results'!$A$7:$BZ$317,2*M$5+5)<=10,M14*3,0))","v":0},{"$f":"IF(HLOOKUP(O$5,$B$6:$I$15,Points!$A10+1,FALSE)=\"TBD\",\"\",VLOOKUP(HLOOKUP(O$5,$B$6:$I$15,Points!$A10+1,FALSE),'Cars & Results'!$A$7:$BZ$317,2*O$5+6,FALSE))","v":4},{"$f":"IF(HLOOKUP(O$5,$B$6:$I$15,Points!$A10+1,FALSE)=\"TBD\",\"\",IF(VLOOKUP(HLOOKUP(O$5,$B$6:$I$15,Points!$A10+1,FALSE),'Cars & Results'!$A$7:$BZ$317,2*O$5+5)<=10,O14*3,0))","v":0},{"$f":"IF(HLOOKUP(Q$5,$B$6:$I$15,Points!$A10+1,FALSE)=\"TBD\",\"\",VLOOKUP(HLOOKUP(Q$5,$B$6:$I$15,Points!$A10+1,FALSE),'Cars & Results'!$A$7:$BZ$317,2*Q$5+6,FALSE))","v":4},{"$f":"IF(HLOOKUP(Q$5,$B$6:$I$15,Points!$A10+1,FALSE)=\"TBD\",\"\",IF(VLOOKUP(HLOOKUP(Q$5,$B$6:$I$15,Points!$A10+1,FALSE),'Cars & Results'!$A$7:$BZ$317,2*Q$5+5)<=10,Q14*3,0))","v":0},{"$f":"IF(HLOOKUP(S$5,$B$6:$I$15,Points!$A10+1,FALSE)=\"TBD\",\"\",VLOOKUP(HLOOKUP(S$5,$B$6:$I$15,Points!$A10+1,FALSE),'Cars & Results'!$A$7:$BZ$317,2*S$5+6,FALSE))","v":2},{"$f":"IF(HLOOKUP(S$5,$B$6:$I$15,Points!$A10+1,FALSE)=\"TBD\",\"\",IF(VLOOKUP(HLOOKUP(S$5,$B$6:$I$15,Points!$A10+1,FALSE),'Cars & Results'!$A$7:$BZ$317,2*S$5+5)<=10,S14*3,0))","v":0},{"$f":"IF(HLOOKUP(U$5,$B$6:$I$15,Points!$A10+1,FALSE)=\"TBD\",\"\",VLOOKUP(HLOOKUP(U$5,$B$6:$I$15,Points!$A10+1,FALSE),'Cars & Results'!$A$7:$BZ$317,2*U$5+6,FALSE))","v":1},{"$f":"IF(HLOOKUP(U$5,$B$6:$I$15,Points!$A10+1,FALSE)=\"TBD\",\"\",IF(VLOOKUP(HLOOKUP(U$5,$B$6:$I$15,Points!$A10+1,FALSE),'Cars & Results'!$A$7:$BZ$317,2*U$5+5)<=10,U14*3,0))","v":0},{"$f":"IF(HLOOKUP(W$5,$B$6:$I$15,Points!$A10+1,FALSE)=\"TBD\",\"\",VLOOKUP(HLOOKUP(W$5,$B$6:$I$15,Points!$A10+1,FALSE),'Cars & Results'!$A$7:$BZ$317,2*W$5+6,FALSE))","v":4},{"$f":"IF(HLOOKUP(W$5,$B$6:$I$15,Points!$A10+1,FALSE)=\"TBD\",\"\",IF(VLOOKUP(HLOOKUP(W$5,$B$6:$I$15,Points!$A10+1,FALSE),'Cars & Results'!$A$7:$BZ$317,2*W$5+5)<=10,W14*3,0))","v":0},{"$f":"IF(HLOOKUP(Y$5,$B$6:$I$15,Points!$A10+1,FALSE)=\"TBD\",\"\",VLOOKUP(HLOOKUP(Y$5,$B$6:$I$15,Points!$A10+1,FALSE),'Cars & Results'!$A$7:$BZ$317,2*Y$5+6,FALSE))","v":3},{"$f":"IF(HLOOKUP(Y$5,$B$6:$I$15,Points!$A10+1,FALSE)=\"TBD\",\"\",IF(VLOOKUP(HLOOKUP(Y$5,$B$6:$I$15,Points!$A10+1,FALSE),'Cars & Results'!$A$7:$BZ$317,2*Y$5+5)<=10,Y14*3,0))","v":0},{"$f":"IF(HLOOKUP(AA$5,$B$6:$I$15,Points!$A10+1,FALSE)=\"TBD\",\"\",VLOOKUP(HLOOKUP(AA$5,$B$6:$I$15,Points!$A10+1,FALSE),'Cars & Results'!$A$7:$BZ$317,2*AA$5+6,FALSE))","v":13},{"$f":"IF(HLOOKUP(AA$5,$B$6:$I$15,Points!$A10+1,FALSE)=\"TBD\",\"\",IF(VLOOKUP(HLOOKUP(AA$5,$B$6:$I$15,Points!$A10+1,FALSE),'Cars & Results'!$A$7:$BZ$317,2*AA$5+5)<=10,AA14*3,0))","v":0}]
[{"$f":"VLOOKUP(HLOOKUP('Pick Distribution'!$P$2,$B$6:$I$15,10),'Current Owner Standings'!$A$71:$B$480,2,FALSE)","v":6},10,4,11,9,19,22,14,12,{"$f":"IF(ISNA(VLOOKUP($I15,'Cars & Results'!$A$6:$I$317,J$5,FALSE)),\"Invalid Number\",VLOOKUP($I15,'Cars & Results'!$A$6:$K$317,J$5,FALSE))","v":"Ryan Blaney"},{"$f":"IF(ISNA(VLOOKUP($I15,'Cars & Results'!$A$6:$I$317,K$5,FALSE)),\"Invalid Number\",VLOOKUP($I15,'Cars & Results'!$A$6:$K$317,K$5,FALSE))","v":"Ford"},{"$f":"IF(ISNA(VLOOKUP($I15,'Cars & Results'!$A$6:$I$317,L$5,FALSE)),\"Invalid Number\",VLOOKUP($I15,'Cars & Results'!$A$6:$K$317,L$5,FALSE))","v":"Team Penske"},{"$f":"IF(HLOOKUP(M$5,$B$6:$I$15,Points!$A11+1,FALSE)=\"TBD\",\"\",VLOOKUP(HLOOKUP(M$5,$B$6:$I$15,Points!$A11+1,FALSE),'Cars & Results'!$A$7:$BZ$317,2*M$5+6,FALSE))","v":42},0,{"$f":"IF(HLOOKUP(O$5,$B$6:$I$15,Points!$A11+1,FALSE)=\"TBD\",\"\",VLOOKUP(HLOOKUP(O$5,$B$6:$I$15,Points!$A11+1,FALSE),'Cars & Results'!$A$7:$BZ$317,2*O$5+6,FALSE))","v":40},0,{"$f":"IF(HLOOKUP(Q$5,$B$6:$I$15,Points!$A11+1,FALSE)=\"TBD\",\"\",VLOOKUP(HLOOKUP(Q$5,$B$6:$I$15,Points!$A11+1,FALSE),'Cars & Results'!$A$7:$BZ$317,2*Q$5+6,FALSE))","v":48},0,{"$f":"IF(HLOOKUP(S$5,$B$6:$I$15,Points!$A11+1,FALSE)=\"TBD\",\"\",VLOOKUP(HLOOKUP(S$5,$B$6:$I$15,Points!$A11+1,FALSE),'Cars & Results'!$A$7:$BZ$317,2*S$5+6,FALSE))","v":28},0,{"$f":"IF(HLOOKUP(U$5,$B$6:$I$15,Points!$A11+1,FALSE)=\"TBD\",\"\",VLOOKUP(HLOOKUP(U$5,$B$6:$I$15,Points!$A11+1,FALSE),'Cars & Results'!$A$7:$BZ$317,2*U$5+6,FALSE))","v":37},37,{"$f":"IF(HLOOKUP(W$5,$B$6:$I$15,Points!$A11+1,FALSE)=\"TBD\",\"\",VLOOKUP(HLOOKUP(W$5,$B$6:$I$15,Points!$A11+1,FALSE),'Cars & Results'!$A$7:$BZ$317,2*W$5+6,FALSE))","v":37},0,{"$f":"IF(HLOOKUP(Y$5,$B$6:$I$15,Points!$A11+1,FALSE)=\"TBD\",\"\",VLOOKUP(HLOOKUP(Y$5,$B$6:$I$15,Points!$A11+1,FALSE),'Cars & Results'!$A$7:$BZ$317,2*Y$5+6,FALSE))","v":21},0,{"$f":"IF(HLOOKUP(AA$5,$B$6:$I$15,Points!$A11+1,FALSE)=\"TBD\",\"\",VLOOKUP(HLOOKUP(AA$5,$B$6:$I$15,Points!$A11+1,FALSE),'Cars & Results'!$A$7:$BZ$317,2*AA$5+6,FALSE))","v":40},{"$f":"IF(HLOOKUP(AA$5,$B$6:$I$15,Points!$A11+1,FALSE)=\"TBD\",\"\",IF(AND(VLOOKUP(HLOOKUP(AA$5,$B$6:$I$15,Points!$A11+1,FALSE),'Cars & Results'!$A$7:$BZ$317,2*AA$5+5)<=3,$A$15<=25),AA15*1,IF(AND(VLOOKUP(HLOOKUP(AA$5,$B$6:$I$15,Points!$A11+1,FALSE),'Cars & Results'!$A$7:$BZ$317,2*AA$5+5)<=10,$A$15>25),AA15*3,0)))","v":0}]
[null,null,null,null,null,null,null,null,null,null,null,"Segment 1",null,{"$f":"IF(INDIRECT(ADDRESS(321,5+(M5*2),1,1,\"Cars & Results\"),TRUE)=\"Y\",IF(ISERROR(MATCH(INDIRECT(ADDRESS(318,5+(M5*2),1,1,\"Cars & Results\"),TRUE),B7:B15,0))=TRUE,0,10),\"\")","v":0},null,{"$f":"IF(INDIRECT(ADDRESS(321,5+(O5*2),1,1,\"Cars & Results\"),TRUE)=\"Y\",IF(ISERROR(MATCH(INDIRECT(ADDRESS(318,5+(O5*2),1,1,\"Cars & Results\"),TRUE),C7:C15,0))=TRUE,0,10),\"\")","v":0},null,{"$f":"IF(INDIRECT(ADDRESS(321,5+(Q5*2),1,1,\"Cars & Results\"),TRUE)=\"Y\",IF(ISERROR(MATCH(INDIRECT(ADDRESS(318,5+(Q5*2),1,1,\"Cars & Results\"),TRUE),D7:D15,0))=TRUE,0,10),\"\")","v":0},null,{"$f":"IF(INDIRECT(ADDRESS(321,5+(S5*2),1,1,\"Cars & Results\"),TRUE)=\"Y\",IF(ISERROR(MATCH(INDIRECT(ADDRESS(318,5+(S5*2),1,1,\"Cars & Results\"),TRUE),E7:E15,0))=TRUE,0,10),\"\")","v":0},null,{"$f":"IF(INDIRECT(ADDRESS(321,5+(U5*2),1,1,\"Cars & Results\"),TRUE)=\"Y\",IF(ISERROR(MATCH(INDIRECT(ADDRESS(318,5+(U5*2),1,1,\"Cars & Results\"),TRUE),F7:F15,0))=TRUE,0,10),\"\")","v":0},null,{"$f":"IF(INDIRECT(ADDRESS(321,5+(W5*2),1,1,\"Cars & Results\"),TRUE)=\"Y\",IF(ISERROR(MATCH(INDIRECT(ADDRESS(318,5+(W5*2),1,1,\"Cars & Results\"),TRUE),G7:G15,0))=TRUE,0,10),\"\")","v":0},null,{"$f":"IF(INDIRECT(ADDRESS(321,5+(Y5*2),1,1,\"Cars & Results\"),TRUE)=\"Y\",IF(ISERROR(MATCH(INDIRECT(ADDRESS(318,5+(Y5*2),1,1,\"Cars & Results\"),TRUE),H7:H15,0))=TRUE,0,10),\"\")","v":10},null,{"$f":"IF(INDIRECT(ADDRESS(321,5+(AA5*2),1,1,\"Cars & Results\"),TRUE)=\"Y\",IF(ISERROR(MATCH(INDIRECT(ADDRESS(318,5+(AA5*2),1,1,\"Cars & Results\"),TRUE),I7:I15,0))=TRUE,0,10),\"\")","v":10}]
[null,null,null,null,null,null,null,null,null,null,null,"Segment 2",null,{"$f":"IF(INDIRECT(ADDRESS(321,5+(M5*2),1,1,\"Cars & Results\"),TRUE)=\"Y\",IF(ISERROR(MATCH(INDIRECT(ADDRESS(319,5+(M5*2),1,1,\"Cars & Results\"),TRUE),B7:B15,0))=TRUE,0,10),\"\")","v":0},null,{"$f":"IF(INDIRECT(ADDRESS(321,5+(O5*2),1,1,\"Cars & Results\"),TRUE)=\"Y\",IF(ISERROR(MATCH(INDIRECT(ADDRESS(319,5+(O5*2),1,1,\"Cars & Results\"),TRUE),C7:C15,0))=TRUE,0,10),\"\")","v":0},null,{"$f":"IF(INDIRECT(ADDRESS(321,5+(Q5*2),1,1,\"Cars & Results\"),TRUE)=\"Y\",IF(ISERROR(MATCH(INDIRECT(ADDRESS(319,5+(Q5*2),1,1,\"Cars & Results\"),TRUE),D7:D15,0))=TRUE,0,10),\"\")","v":0},null,{"$f":"IF(INDIRECT(ADDRESS(321,5+(S5*2),1,1,\"Cars & Results\"),TRUE)=\"Y\",IF(ISERROR(MATCH(INDIRECT(ADDRESS(319,5+(S5*2),1,1,\"Cars & Results\"),TRUE),E7:E15,0))=TRUE,0,10),\"\")","v":10},null,{"$f":"IF(INDIRECT(ADDRESS(321,5+(U5*2),1,1,\"Cars & Results\"),TRUE)=\"Y\",IF(ISERROR(MATCH(INDIRECT(ADDRESS(319,5+(U5*2),1,1,\"Cars & Results\"),TRUE),F7:F15,0))=TRUE,0,10),\"\")","v":10},null,{"$f":"IF(INDIRECT(ADDRESS(321,5+(W5*2),1,1,\"Cars & Results\"),TRUE)=\"Y\",IF(ISERROR(MATCH(INDIRECT(ADDRESS(319,5+(W5*2),1,1,\"Cars & Results\"),TRUE),G7:G15,0))=TRUE,0,10),\"\")","v":0},null,{"$f":"IF(INDIRECT(ADDRESS(321,5+(Y5*2),1,1,\"Cars & Results\"),TRUE)=\"Y\",IF(ISERROR(MATCH(INDIRECT(ADDRESS(319,5+(Y5*2),1,1,\"Cars & Results\"),TRUE),H7:H15,0))=TRUE,0,10),\"\")","v":10},null,{"$f":"IF(INDIRECT(ADDRESS(321,5+(AA5*2),1,1,\"Cars & Results\"),TRUE)=\"Y\",IF(ISERROR(MATCH(INDIRECT(ADDRESS(319,5+(AA5*2),1,1,\"Cars & Results\"),TRUE),I7:I15,0))=TRUE,0,10),\"\")","v":10}]
[null,null,null,null,null,null,null,null,null,null,null,"Segment 3",null,{"$f":"IF(INDIRECT(ADDRESS(321,5+(M5*2),1,1,\"Cars & Results\"),TRUE)=\"Y\",IF(ISERROR(MATCH(INDIRECT(ADDRESS(320,5+(M5*2),1,1,\"Cars & Results\"),TRUE),B7:B15,0))=TRUE,0,15),\"\")","v":0},null,{"$f":"IF(INDIRECT(ADDRESS(321,5+(O5*2),1,1,\"Cars & Results\"),TRUE)=\"Y\",IF(ISERROR(MATCH(INDIRECT(ADDRESS(320,5+(O5*2),1,1,\"Cars & Results\"),TRUE),C7:C15,0))=TRUE,0,15),\"\")","v":0},null,{"$f":"IF(INDIRECT(ADDRESS(321,5+(Q5*2),1,1,\"Cars & Results\"),TRUE)=\"Y\",IF(ISERROR(MATCH(INDIRECT(ADDRESS(320,5+(Q5*2),1,1,\"Cars & Results\"),TRUE),D7:D15,0))=TRUE,0,15),\"\")","v":0},null,{"$f":"IF(INDIRECT(ADDRESS(321,5+(S5*2),1,1,\"Cars & Results\"),TRUE)=\"Y\",IF(ISERROR(MATCH(INDIRECT(ADDRESS(320,5+(S5*2),1,1,\"Cars & Results\"),TRUE),E7:E15,0))=TRUE,0,15),\"\")","v":15},null,{"$f":"IF(INDIRECT(ADDRESS(321,5+(U5*2),1,1,\"Cars & Results\"),TRUE)=\"Y\",IF(ISERROR(MATCH(INDIRECT(ADDRESS(320,5+(U5*2),1,1,\"Cars & Results\"),TRUE),F7:F15,0))=TRUE,0,15),\"\")","v":0},null,{"$f":"IF(INDIRECT(ADDRESS(321,5+(W5*2),1,1,\"Cars & Results\"),TRUE)=\"Y\",IF(ISERROR(MATCH(INDIRECT(ADDRESS(320,5+(W5*2),1,1,\"Cars & Results\"),TRUE),G7:G15,0))=TRUE,0,15),\"\")","v":0},null,{"$f":"IF(INDIRECT(ADDRESS(321,5+(Y5*2),1,1,\"Cars & Results\"),TRUE)=\"Y\",IF(ISERROR(MATCH(INDIRECT(ADDRESS(320,5+(Y5*2),1,1,\"Cars & Results\"),TRUE),H7:H15,0))=TRUE,0,15),\"\")","v":15},null,{"$f":"IF(INDIRECT(ADDRESS(321,5+(AA5*2),1,1,\"Cars & Results\"),TRUE)=\"Y\",IF(ISERROR(MATCH(INDIRECT(ADDRESS(320,5+(AA5*2),1,1,\"Cars & Results\"),TRUE),I7:I15,0))=TRUE,0,15),\"\")","v":0}]
[null,{"$f":"SUM(B7:B15)","v":214},303,356,297,318,283,226,328,null,null,null,{"$f":"SUM(M7:M15)","v":184},null,{"$f":"SUM(O7:O15)","v":198},null,{"$f":"SUM(Q7:Q15)","v":230},null,{"$f":"SUM(S7:S15)","v":240},null,{"$f":"SUM(U7:U15)","v":169},null,{"$f":"SUM(W7:W15)","v":199},null,{"$f":"SUM(Y7:Y15)","v":199},null,{"$f":"SUM(AA7:AA15)","v":126}]
[null,null,null,null,null,null,null,null,null,null,null,null,null,{"$f":"SUM(N7:N19)","v":18.5},null,{"$f":"SUM(P7:P19)","v":0},null,{"$f":"SUM(R7:R19)","v":42},null,{"$f":"SUM(T7:T19)","v":25},null,{"$f":"SUM(V7:V19)","v":87.5},null,{"$f":"SUM(X7:X19)","v":0},null,{"$f":"SUM(Z7:Z19)","v":35},null,{"$f":"SUM(AB7:AB19)","v":20}]
[null,null,null,null,null,null,null,null,null,null,null,"Race Total",{"$f":"M19+N20","v":202.5},null,{"$f":"O19+P20","v":198},null,{"$f":"Q19+R20","v":272},null,{"$f":"S19+T20","v":265},null,{"$f":"U19+V20","v":256.5},null,{"$f":"W19+X20","v":199},null,{"$f":"Y19+Z20","v":234},null,{"$f":"AA19+AB20","v":146},null,{"$f":"SUM(M21:AB21)","v":1773}]
[null,null,null,null,null,null,null,null,"1-8"]
[null,null,null,null,null,null,null,null,"9-16"]
[null,null,null,null,null,null,null,null,"17-23"]
[null,null,null,null,null,null,null,null,"24-30"]
[null,null,null,null,null,null,null,null,"31-35"]
[null,null,null,null,null,null,null,null,">35"]
[null,null,null,null,null,null,null,null,"Provisional"]

{"sheet":"Ron Mason","index":12,"n_rows":28,"n_cols":29,"rows_kept":28,"cut":false,"hidden":false,"merged":[[4,26,4,27],[1,26,1,27],[0,26,0,27],[3,26,3,27],[2,26,2,27],[1,24,1,25],[2,20,2,21],[1,20,1,21],[3,24,3,25],[1,22,1,23],[2,24,2,25],[3,20,3,21],[3,22,3,23],[4,22,4,23],[0,18,0,19],[0,20,0,21],[0,22,0,23],[2,18,2,19],[2,22,2,23],[1,14,1,15],[3,16,3,17],[4,16,4,17],[4,18,4,19],[4,20,4,21],[0,24,0,25],[1,16,1,17],[1,18,1,19],[4,12,4,13],[0,12,0,13],[1,12,1,13],[2,12,2,13],[3,14,3,15],[4,14,4,15],[4,24,4,25],[3,18,3,19],[3,12,3,13],[0,14,0,15],[2,14,2,15],[0,16,0,17],[2,16,2,17],[20,20,20,21],[20,22,20,23],[20,24,20,25],[20,26,20,27],[20,12,20,13],[20,14,20,15],[20,16,20,17],[20,18,20,19]]}
[null,null,null,null,null,null,null,null,null,null,null,null,{"$f":"VLOOKUP(M$5,Schedule!$A$8:$G$43,2,FALSE)","v":"2020-07-23"},null,{"$f":"VLOOKUP(O$5,Schedule!$A$8:$G$43,2,FALSE)","v":"2020-08-02"},null,{"$f":"VLOOKUP(Q$5,Schedule!$A$8:$G$43,2,FALSE)","v":"2020-08-08"},null,{"$f":"VLOOKUP(S$5,Schedule!$A$8:$G$43,2,FALSE)","v":"2020-08-09"},null,{"$f":"VLOOKUP(U$5,Schedule!$A$8:$G$43,2,FALSE)","v":"2020-08-16"},null,{"$f":"VLOOKUP(W$5,Schedule!$A$8:$G$43,2,FALSE)","v":"2020-08-22"},null,{"$f":"VLOOKUP(Y$5,Schedule!$A$8:$G$43,2,FALSE)","v":"2020-08-23"},null,{"$f":"VLOOKUP(AA$5,Schedule!$A$8:$G$43,2,FALSE)","v":"2020-08-29"}]
[null,null,null,null,null,null,null,null,null,null,null,null,{"$f":"VLOOKUP(M$5,Schedule!$A$8:$G$43,3,FALSE)","v":"Super Start Batteries 400"},null,{"$f":"VLOOKUP(O$5,Schedule!$A$8:$G$43,3,FALSE)","v":"Foxwoods Resort Casino 301"},null,{"$f":"VLOOKUP(Q$5,Schedule!$A$8:$G$43,3,FALSE)","v":"FireKeepers Casino 500"},null,{"$f":"VLOOKUP(S$5,Schedule!$A$8:$G$43,3,FALSE)","v":"Consumers Energy 500"},null,{"$f":"VLOOKUP(U$5,Schedule!$A$8:$G$43,3,FALSE)","v":"Go Bowling at The Glen"},null,{"$f":"VLOOKUP(W$5,Schedule!$A$8:$G$43,3,FALSE)","v":"Drydene 311 (Sat)"},null,{"$f":"VLOOKUP(Y$5,Schedule!$A$8:$G$43,3,FALSE)","v":"Drydene 311 (Sun)"},null,{"$f":"VLOOKUP(AA$5,Schedule!$A$8:$G$43,3,FALSE)","v":"Coke Zero Sugar 400"}]
[null,null,null,null,null,null,null,null,null,null,null,null,{"$f":"VLOOKUP(M$5,Schedule!$A$8:$G$43,2,FALSE)","v":"2020-07-23"},null,{"$f":"VLOOKUP(O$5,Schedule!$A$8:$G$43,2,FALSE)","v":"2020-08-02"},null,{"$f":"VLOOKUP(Q$5,Schedule!$A$8:$G$43,2,FALSE)","v":"2020-08-08"},null,{"$f":"VLOOKUP(S$5,Schedule!$A$8:$G$43,2,FALSE)","v":"2020-08-09"},null,{"$f":"VLOOKUP(U$5,Schedule!$A$8:$G$43,2,FALSE)","v":"2020-08-16"},null,{"$f":"VLOOKUP(W$5,Schedule!$A$8:$G$43,2,FALSE)","v":"2020-08-22"},null,{"$f":"VLOOKUP(Y$5,Schedule!$A$8:$G$43,2,FALSE)","v":"2020-08-23"},null,{"$f":"VLOOKUP(AA$5,Schedule!$A$8:$G$43,2,FALSE)","v":"2020-08-29"}]
[null,null,null,null,null,null,null,null,null,null,null,null,{"$f":"VLOOKUP(M$5,Schedule!$A$4:$G$43,5,FALSE)","v":"Kansas "},null,{"$f":"VLOOKUP(O$5,Schedule!$A$4:$G$43,5,FALSE)","v":"New Hamp"},null,{"$f":"VLOOKUP(Q$5,Schedule!$A$4:$G$43,5,FALSE)","v":"Michigan (Sat)"},null,{"$f":"VLOOKUP(S$5,Schedule!$A$4:$G$43,5,FALSE)","v":"Michigan (Sun)"},null,{"$f":"VLOOKUP(U$5,Schedule!$A$4:$G$43,5,FALSE)","v":"Daytona (Road)"},null,{"$f":"VLOOKUP(W$5,Schedule!$A$4:$G$43,5,FALSE)","v":"Dover (Sat)"},null,{"$f":"VLOOKUP(Y$5,Schedule!$A$4:$G$43,5,FALSE)","v":"Dover (Sun)"},null,{"$f":"VLOOKUP(AA$5,Schedule!$A$4:$G$43,5,FALSE)","v":"Daytona "}]
["Owner","Week","Week","Week","Week","Week","Week","Week","Week",2,3,4,19,null,20,null,21,null,22,null,23,null,24,null,25,null,26,null,"Total"]
["Points",19,20,21,22,23,24,25,26,"Driver","Make","Sponsor","Points","Bonus","Points","Bonus","Points","Bonus","Points","Bonus","Points","Bonus","Points","Bonus","Points","Bonus","Points","Bonus","Points"]
[{"$f":"VLOOKUP(HLOOKUP('Pick Distribution'!$P$2,$B$6:$I$15,$J$5),'Current Owner Standings'!$A$71:$B$480,2,FALSE)","v":2},11,11,4,4,11,11,11,11,{"$f":"IF(ISNA(VLOOKUP($I7,'Cars & Results'!$A$6:$I$317,J$5,FALSE)),\"Invalid Number\",VLOOKUP($I7,'Cars & Results'!$A$6:$K$317,J$5,FALSE))","v":"Denny Hamlin"},{"$f":"IF(ISNA(VLOOKUP($I7,'Cars & Results'!$A$6:$I$317,K$5,FALSE)),\"Invalid Number\",VLOOKUP($I7,'Cars & Results'!$A$6:$K$317,K$5,FALSE))","v":"Toyota"},{"$f":"IF(ISNA(VLOOKUP($I7,'Cars & Results'!$A$6:$I$317,L$5,FALSE)),\"Invalid Number\",VLOOKUP($I7,'Cars & Results'!$A$6:$K$317,L$5,FALSE))","v":"Joe Gibbs Racing"},{"$f":"IF(HLOOKUP(M$5,$B$6:$I$15,Points!$A3+1,FALSE)=\"TBD\",\"\",VLOOKUP(HLOOKUP(M$5,$B$6:$I$15,Points!$A3+1,FALSE),'Cars & Results'!$A$7:$BZ$317,2*M$5+6,FALSE))","v":56},{"$f":"IF(HLOOKUP(M$5,$B$6:$I$15,Points!$A3+1,FALSE)=\"TBD\",\"\",0)","v":0},{"$f":"IF(HLOOKUP(O$5,$B$6:$I$15,Points!$A3+1,FALSE)=\"TBD\",\"\",VLOOKUP(HLOOKUP(O$5,$B$6:$I$15,Points!$A3+1,FALSE),'Cars & Results'!$A$7:$BZ$317,2*O$5+6,FALSE))","v":54},{"$f":"IF(HLOOKUP(O$5,$B$6:$I$15,Points!$A3+1,FALSE)=\"TBD\",\"\",0)","v":0},{"$f":"IF(HLOOKUP(Q$5,$B$6:$I$15,Points!$A3+1,FALSE)=\"TBD\",\"\",VLOOKUP(HLOOKUP(Q$5,$B$6:$I$15,Points!$A3+1,FALSE),'Cars & Results'!$A$7:$BZ$317,2*Q$5+6,FALSE))","v":60},{"$f":"IF(HLOOKUP(Q$5,$B$6:$I$15,Points!$A3+1,FALSE)=\"TBD\",\"\",0)","v":0},{"$f":"IF(HLOOKUP(S$5,$B$6:$I$15,Points!$A3+1,FALSE)=\"TBD\",\"\",VLOOKUP(HLOOKUP(S$5,$B$6:$I$15,Points!$A3+1,FALSE),'Cars & Results'!$A$7:$BZ$317,2*S$5+6,FALSE))","v":53},{"$f":"IF(HLOOKUP(S$5,$B$6:$I$15,Points!$A3+1,FALSE)=\"TBD\",\"\",0)","v":0},{"$f":"IF(HLOOKUP(U$5,$B$6:$I$15,Points!$A3+1,FALSE)=\"TBD\",\"\",VLOOKUP(HLOOKUP(U$5,$B$6:$I$15,Points!$A3+1,FALSE),'Cars & Results'!$A$7:$BZ$317,2*U$5+6,FALSE))","v":45},{"$f":"IF(HLOOKUP(U$5,$B$6:$I$15,Points!$A3+1,FALSE)=\"TBD\",\"\",0)","v":0},{"$f":"IF(HLOOKUP(W$5,$B$6:$I$15,Points!$A3+1,FALSE)=\"TBD\",\"\",VLOOKUP(HLOOKUP(W$5,$B$6:$I$15,Points!$A3+1,FALSE),'Cars & Results'!$A$7:$BZ$317,2*W$5+6,FALSE))","v":60},{"$f":"IF(HLOOKUP(W$5,$B$6:$I$15,Points!$A3+1,FALSE)=\"TBD\",\"\",0)","v":0},{"$f":"IF(HLOOKUP(Y$5,$B$6:$I$15,Points!$A3+1,FALSE)=\"TBD\",\"\",VLOOKUP(HLOOKUP(Y$5,$B$6:$I$15,Points!$A3+1,FALSE),'Cars & Results'!$A$7:$BZ$317,2*Y$5+6,FALSE))","v":26},{"$f":"IF(HLOOKUP(Y$5,$B$6:$I$15,Points!$A3+1,FALSE)=\"TBD\",\"\",0)","v":0},{"$f":"IF(HLOOKUP(AA$5,$B$6:$I$15,Points!$A3+1,FALSE)=\"TBD\",\"\",VLOOKUP(HLOOKUP(AA$5,$B$6:$I$15,Points!$A3+1,FALSE),'Cars & Results'!$A$7:$BZ$317,2*AA$5+6,FALSE))","v":36},{"$f":"IF(HLOOKUP(AA$5,$B$6:$I$15,Points!$A3+1,FALSE)=\"TBD\",\"\",0)","v":0}]
[{"$f":"VLOOKUP(HLOOKUP('Pick Distribution'!$P$2,$B$6:$I$15,3),'Current Owner Standings'!$A$71:$B$480,2,FALSE)","v":9},1,1,1,18,18,18,18,18,{"$f":"IF(ISNA(VLOOKUP($I8,'Cars & Results'!$A$6:$I$317,J$5,FALSE)),\"Invalid Number\",VLOOKUP($I8,'Cars & Results'!$A$6:$K$317,J$5,FALSE))","v":"Kyle Busch"},{"$f":"IF(ISNA(VLOOKUP($I8,'Cars & Results'!$A$6:$I$317,K$5,FALSE)),\"Invalid Number\",VLOOKUP($I8,'Cars & Results'!$A$6:$K$317,K$5,FALSE))","v":"Toyota"},{"$f":"IF(ISNA(VLOOKUP($I8,'Cars & Results'!$A$6:$I$317,L$5,FALSE)),\"Invalid Number\",VLOOKUP($I8,'Cars & Results'!$A$6:$K$317,L$5,FALSE))","v":"Joe Gibbs Racing"},{"$f":"IF(HLOOKUP(M$5,$B$6:$I$15,Points!$A4+1,FALSE)=\"TBD\",\"\",VLOOKUP(HLOOKUP(M$5,$B$6:$I$15,Points!$A4+1,FALSE),'Cars & Results'!$A$7:$BZ$317,2*M$5+6,FALSE))","v":28},{"$f":"IF(HLOOKUP(M$5,$B$6:$I$15,Points!$A4+1,FALSE)=\"TBD\",\"\",IF(VLOOKUP(HLOOKUP(M$5,$B$6:$I$15,Points!$A4+1,FALSE),'Cars & Results'!$A$7:$BZ$317,2*M$5+5)=1,M8*0.25,0))","v":0},{"$f":"IF(HLOOKUP(O$5,$B$6:$I$15,Points!$A4+1,FALSE)=\"TBD\",\"\",VLOOKUP(HLOOKUP(O$5,$B$6:$I$15,Points!$A4+1,FALSE),'Cars & Results'!$A$7:$BZ$317,2*O$5+6,FALSE))","v":20},{"$f":"IF(HLOOKUP(O$5,$B$6:$I$15,Points!$A4+1,FALSE)=\"TBD\",\"\",IF(VLOOKUP(HLOOKUP(O$5,$B$6:$I$15,Points!$A4+1,FALSE),'Cars & Results'!$A$7:$BZ$317,2*O$5+5)=1,O8*0.25,0))","v":0},{"$f":"IF(HLOOKUP(Q$5,$B$6:$I$15,Points!$A4+1,FALSE)=\"TBD\",\"\",VLOOKUP(HLOOKUP(Q$5,$B$6:$I$15,Points!$A4+1,FALSE),'Cars & Results'!$A$7:$BZ$317,2*Q$5+6,FALSE))","v":38},{"$f":"IF(HLOOKUP(Q$5,$B$6:$I$15,Points!$A4+1,FALSE)=\"TBD\",\"\",IF(VLOOKUP(HLOOKUP(Q$5,$B$6:$I$15,Points!$A4+1,FALSE),'Cars & Results'!$A$7:$BZ$317,2*Q$5+5)=1,Q8*0.25,0))","v":0},{"$f":"IF(HLOOKUP(S$5,$B$6:$I$15,Points!$A4+1,FALSE)=\"TBD\",\"\",VLOOKUP(HLOOKUP(S$5,$B$6:$I$15,Points!$A4+1,FALSE),'Cars & Results'!$A$7:$BZ$317,2*S$5+6,FALSE))","v":49},{"$f":"IF(HLOOKUP(S$5,$B$6:$I$15,Points!$A4+1,FALSE)=\"TBD\",\"\",IF(VLOOKUP(HLOOKUP(S$5,$B$6:$I$15,Points!$A4+1,FALSE),'Cars & Results'!$A$7:$BZ$317,2*S$5+5)=1,S8*0.25,0))","v":0},{"$f":"IF(HLOOKUP(U$5,$B$6:$I$15,Points!$A4+1,FALSE)=\"TBD\",\"\",VLOOKUP(HLOOKUP(U$5,$B$6:$I$15,Points!$A4+1,FALSE),'Cars & Results'!$A$7:$BZ$317,2*U$5+6,FALSE))","v":1},{"$f":"IF(HLOOKUP(U$5,$B$6:$I$15,Points!$A4+1,FALSE)=\"TBD\",\"\",IF(VLOOKUP(HLOOKUP(U$5,$B$6:$I$15,Points!$A4+1,FALSE),'Cars & Results'!$A$7:$BZ$317,2*U$5+5)=1,U8*0.25,0))","v":0},{"$f":"IF(HLOOKUP(W$5,$B$6:$I$15,Points!$A4+1,FALSE)=\"TBD\",\"\",VLOOKUP(HLOOKUP(W$5,$B$6:$I$15,Points!$A4+1,FALSE),'Cars & Results'!$A$7:$BZ$317,2*W$5+6,FALSE))","v":41},{"$f":"IF(HLOOKUP(W$5,$B$6:$I$15,Points!$A4+1,FALSE)=\"TBD\",\"\",IF(VLOOKUP(HLOOKUP(W$5,$B$6:$I$15,Points!$A4+1,FALSE),'Cars & Results'!$A$7:$BZ$317,2*W$5+5)=1,W8*0.25,0))","v":0},{"$f":"IF(HLOOKUP(Y$5,$B$6:$I$15,Points!$A4+1,FALSE)=\"TBD\",\"\",VLOOKUP(HLOOKUP(Y$5,$B$6:$I$15,Points!$A4+1,FALSE),'Cars & Results'!$A$7:$BZ$317,2*Y$5+6,FALSE))","v":26},{"$f":"IF(HLOOKUP(Y$5,$B$6:$I$15,Points!$A4+1,FALSE)=\"TBD\",\"\",IF(VLOOKUP(HLOOKUP(Y$5,$B$6:$I$15,Points!$A4+1,FALSE),'Cars & Results'!$A$7:$BZ$317,2*Y$5+5)=1,Y8*0.25,0))","v":0},{"$f":"IF(HLOOKUP(AA$5,$B$6:$I$15,Points!$A4+1,FALSE)=\"TBD\",\"\",VLOOKUP(HLOOKUP(AA$5,$B$6:$I$15,Points!$A4+1,FALSE),'Cars & Results'!$A$7:$BZ$317,2*AA$5+6,FALSE))","v":5},{"$f":"IF(HLOOKUP(AA$5,$B$6:$I$15,Points!$A4+1,FALSE)=\"TBD\",\"\",IF(VLOOKUP(HLOOKUP(AA$5,$B$6:$I$15,Points!$A4+1,FALSE),'Cars & Results'!$A$7:$BZ$317,2*AA$5+5)=1,AA8*0.25,0))","v":0}]
[{"$f":"VLOOKUP(HLOOKUP('Pick Distribution'!$P$2,$B$6:$I$15,4),'Current Owner Standings'!$A$71:$B$480,2,FALSE)","v":17},8,6,6,48,42,3,41,20,{"$f":"IF(ISNA(VLOOKUP($I9,'Cars & Results'!$A$6:$I$317,J$5,FALSE)),\"Invalid Number\",VLOOKUP($I9,'Cars & Results'!$A$6:$K$317,J$5,FALSE))","v":"Erik Jones"},{"$f":"IF(ISNA(VLOOKUP($I9,'Cars & Results'!$A$6:$I$317,K$5,FALSE)),\"Invalid Number\",VLOOKUP($I9,'Cars & Results'!$A$6:$K$317,K$5,FALSE))","v":"Toyota"},{"$f":"IF(ISNA(VLOOKUP($I9,'Cars & Results'!$A$6:$I$317,L$5,FALSE)),\"Invalid Number\",VLOOKUP($I9,'Cars & Results'!$A$6:$K$317,L$5,FALSE))","v":"Joe Gibbs Racing"},{"$f":"IF(HLOOKUP(M$5,$B$6:$I$15,Points!$A5+1,FALSE)=\"TBD\",\"\",VLOOKUP(HLOOKUP(M$5,$B$6:$I$15,Points!$A5+1,FALSE),'Cars & Results'!$A$7:$BZ$317,2*M$5+6,FALSE))","v":29},{"$f":"IF(HLOOKUP(M$5,$B$6:$I$15,Points!$A5+1,FALSE)=\"TBD\",\"\",IF(VLOOKUP(HLOOKUP(M$5,$B$6:$I$15,Points!$A5+1,FALSE),'Cars & Results'!$A$7:$BZ$317,2*M$5+5)<=5,M9*0.5,0))","v":0},{"$f":"IF(HLOOKUP(O$5,$B$6:$I$15,Points!$A5+1,FALSE)=\"TBD\",\"\",VLOOKUP(HLOOKUP(O$5,$B$6:$I$15,Points!$A5+1,FALSE),'Cars & Results'!$A$7:$BZ$317,2*O$5+6,FALSE))","v":16},{"$f":"IF(HLOOKUP(O$5,$B$6:$I$15,Points!$A5+1,FALSE)=\"TBD\",\"\",IF(VLOOKUP(HLOOKUP(O$5,$B$6:$I$15,Points!$A5+1,FALSE),'Cars & Results'!$A$7:$BZ$317,2*O$5+5)<=5,O9*0.5,0))","v":0},{"$f":"IF(HLOOKUP(Q$5,$B$6:$I$15,Points!$A5+1,FALSE)=\"TBD\",\"\",VLOOKUP(HLOOKUP(Q$5,$B$6:$I$15,Points!$A5+1,FALSE),'Cars & Results'!$A$7:$BZ$317,2*Q$5+6,FALSE))","v":9},{"$f":"IF(HLOOKUP(Q$5,$B$6:$I$15,Points!$A5+1,FALSE)=\"TBD\",\"\",IF(VLOOKUP(HLOOKUP(Q$5,$B$6:$I$15,Points!$A5+1,FALSE),'Cars & Results'!$A$7:$BZ$317,2*Q$5+5)<=5,Q9*0.5,0))","v":0},{"$f":"IF(HLOOKUP(S$5,$B$6:$I$15,Points!$A5+1,FALSE)=\"TBD\",\"\",VLOOKUP(HLOOKUP(S$5,$B$6:$I$15,Points!$A5+1,FALSE),'Cars & Results'!$A$7:$BZ$317,2*S$5+6,FALSE))","v":26},{"$f":"IF(HLOOKUP(S$5,$B$6:$I$15,Points!$A5+1,FALSE)=\"TBD\",\"\",IF(VLOOKUP(HLOOKUP(S$5,$B$6:$I$15,Points!$A5+1,FALSE),'Cars & Results'!$A$7:$BZ$317,2*S$5+5)<=5,S9*0.5,0))","v":0},{"$f":"IF(HLOOKUP(U$5,$B$6:$I$15,Points!$A5+1,FALSE)=\"TBD\",\"\",VLOOKUP(HLOOKUP(U$5,$B$6:$I$15,Points!$A5+1,FALSE),'Cars & Results'!$A$7:$BZ$317,2*U$5+6,FALSE))","v":11},{"$f":"IF(HLOOKUP(U$5,$B$6:$I$15,Points!$A5+1,FALSE)=\"TBD\",\"\",IF(VLOOKUP(HLOOKUP(U$5,$B$6:$I$15,Points!$A5+1,FALSE),'Cars & Results'!$A$7:$BZ$317,2*U$5+5)<=5,U9*0.5,0))","v":0},{"$f":"IF(HLOOKUP(W$5,$B$6:$I$15,Points!$A5+1,FALSE)=\"TBD\",\"\",VLOOKUP(HLOOKUP(W$5,$B$6:$I$15,Points!$A5+1,FALSE),'Cars & Results'!$A$7:$BZ$317,2*W$5+6,FALSE))","v":31},{"$f":"IF(HLOOKUP(W$5,$B$6:$I$15,Points!$A5+1,FALSE)=\"TBD\",\"\",IF(VLOOKUP(HLOOKUP(W$5,$B$6:$I$15,Points!$A5+1,FALSE),'Cars & Results'!$A$7:$BZ$317,2*W$5+5)<=5,W9*0.5,0))","v":0},{"$f":"IF(HLOOKUP(Y$5,$B$6:$I$15,Points!$A5+1,FALSE)=\"TBD\",\"\",VLOOKUP(HLOOKUP(Y$5,$B$6:$I$15,Points!$A5+1,FALSE),'Cars & Results'!$A$7:$BZ$317,2*Y$5+6,FALSE))","v":30},{"$f":"IF(HLOOKUP(Y$5,$B$6:$I$15,Points!$A5+1,FALSE)=\"TBD\",\"\",IF(VLOOKUP(HLOOKUP(Y$5,$B$6:$I$15,Points!$A5+1,FALSE),'Cars & Results'!$A$7:$BZ$317,2*Y$5+5)<=5,Y9*0.5,0))","v":0},{"$f":"IF(HLOOKUP(AA$5,$B$6:$I$15,Points!$A5+1,FALSE)=\"TBD\",\"\",VLOOKUP(HLOOKUP(AA$5,$B$6:$I$15,Points!$A5+1,FALSE),'Cars & Results'!$A$7:$BZ$317,2*AA$5+6,FALSE))","v":11},{"$f":"IF(HLOOKUP(AA$5,$B$6:$I$15,Points!$A5+1,FALSE)=\"TBD\",\"\",IF(VLOOKUP(HLOOKUP(AA$5,$B$6:$I$15,Points!$A5+1,FALSE),'Cars & Results'!$A$7:$BZ$317,2*AA$5+5)<=5,AA9*0.5,0))","v":0}]
[{"$f":"VLOOKUP(HLOOKUP('Pick Distribution'!$P$2,$B$6:$I$15,5),'Current Owner Standings'!$A$71:$B$480,2,FALSE)","v":21},20,3,41,41,95,95,95,95,{"$f":"IF(ISNA(VLOOKUP($I10,'Cars & Results'!$A$6:$I$317,J$5,FALSE)),\"Invalid Number\",VLOOKUP($I10,'Cars & Results'!$A$6:$K$317,J$5,FALSE))","v":"Christopher Bell (R)"},{"$f":"IF(ISNA(VLOOKUP($I10,'Cars & Results'!$A$6:$I$317,K$5,FALSE)),\"Invalid Number\",VLOOKUP($I10,'Cars & Results'!$A$6:$K$317,K$5,FALSE))","v":"Toyota"},{"$f":"IF(ISNA(VLOOKUP($I10,'Cars & Results'!$A$6:$I$317,L$5,FALSE)),\"Invalid Number\",VLOOKUP($I10,'Cars & Results'!$A$6:$K$317,L$5,FALSE))","v":"Leavine Family Racing"},{"$f":"IF(HLOOKUP(M$5,$B$6:$I$15,Points!$A6+1,FALSE)=\"TBD\",\"\",VLOOKUP(HLOOKUP(M$5,$B$6:$I$15,Points!$A6+1,FALSE),'Cars & Results'!$A$7:$BZ$317,2*M$5+6,FALSE))","v":37},{"$f":"IF(HLOOKUP(M$5,$B$6:$I$15,Points!$A6+1,FALSE)=\"TBD\",\"\",IF(VLOOKUP(HLOOKUP(M$5,$B$6:$I$15,Points!$A6+1,FALSE),'Cars & Results'!$A$7:$BZ$317,2*M$5+5)<=5,M10*0.5,0))","v":18.5},{"$f":"IF(HLOOKUP(O$5,$B$6:$I$15,Points!$A6+1,FALSE)=\"TBD\",\"\",VLOOKUP(HLOOKUP(O$5,$B$6:$I$15,Points!$A6+1,FALSE),'Cars & Results'!$A$7:$BZ$317,2*O$5+6,FALSE))","v":28},{"$f":"IF(HLOOKUP(O$5,$B$6:$I$15,Points!$A6+1,FALSE)=\"TBD\",\"\",IF(VLOOKUP(HLOOKUP(O$5,$B$6:$I$15,Points!$A6+1,FALSE),'Cars & Results'!$A$7:$BZ$317,2*O$5+5)<=5,O10*0.5,0))","v":0},{"$f":"IF(HLOOKUP(Q$5,$B$6:$I$15,Points!$A6+1,FALSE)=\"TBD\",\"\",VLOOKUP(HLOOKUP(Q$5,$B$6:$I$15,Points!$A6+1,FALSE),'Cars & Results'!$A$7:$BZ$317,2*Q$5+6,FALSE))","v":3},{"$f":"IF(HLOOKUP(Q$5,$B$6:$I$15,Points!$A6+1,FALSE)=\"TBD\",\"\",IF(VLOOKUP(HLOOKUP(Q$5,$B$6:$I$15,Points!$A6+1,FALSE),'Cars & Results'!$A$7:$BZ$317,2*Q$5+5)<=5,Q10*0.5,0))","v":0},{"$f":"IF(HLOOKUP(S$5,$B$6:$I$15,Points!$A6+1,FALSE)=\"TBD\",\"\",VLOOKUP(HLOOKUP(S$5,$B$6:$I$15,Points!$A6+1,FALSE),'Cars & Results'!$A$7:$BZ$317,2*S$5+6,FALSE))","v":12},{"$f":"IF(HLOOKUP(S$5,$B$6:$I$15,Points!$A6+1,FALSE)=\"TBD\",\"\",IF(VLOOKUP(HLOOKUP(S$5,$B$6:$I$15,Points!$A6+1,FALSE),'Cars & Results'!$A$7:$BZ$317,2*S$5+5)<=5,S10*0.5,0))","v":0},{"$f":"IF(HLOOKUP(U$5,$B$6:$I$15,Points!$A6+1,FALSE)=\"TBD\",\"\",VLOOKUP(HLOOKUP(U$5,$B$6:$I$15,Points!$A6+1,FALSE),'Cars & Results'!$A$7:$BZ$317,2*U$5+6,FALSE))","v":16},{"$f":"IF(HLOOKUP(U$5,$B$6:$I$15,Points!$A6+1,FALSE)=\"TBD\",\"\",IF(VLOOKUP(HLOOKUP(U$5,$B$6:$I$15,Points!$A6+1,FALSE),'Cars & Results'!$A$7:$BZ$317,2*U$5+5)<=5,U10*0.5,0))","v":0},{"$f":"IF(HLOOKUP(W$5,$B$6:$I$15,Points!$A6+1,FALSE)=\"TBD\",\"\",VLOOKUP(HLOOKUP(W$5,$B$6:$I$15,Points!$A6+1,FALSE),'Cars & Results'!$A$7:$BZ$317,2*W$5+6,FALSE))","v":15},{"$f":"IF(HLOOKUP(W$5,$B$6:$I$15,Points!$A6+1,FALSE)=\"TBD\",\"\",IF(VLOOKUP(HLOOKUP(W$5,$B$6:$I$15,Points!$A6+1,FALSE),'Cars & Results'!$A$7:$BZ$317,2*W$5+5)<=5,W10*0.5,0))","v":0},{"$f":"IF(HLOOKUP(Y$5,$B$6:$I$15,Points!$A6+1,FALSE)=\"TBD\",\"\",VLOOKUP(HLOOKUP(Y$5,$B$6:$I$15,Points!$A6+1,FALSE),'Cars & Results'!$A$7:$BZ$317,2*Y$5+6,FALSE))","v":10},{"$f":"IF(HLOOKUP(Y$5,$B$6:$I$15,Points!$A6+1,FALSE)=\"TBD\",\"\",IF(VLOOKUP(HLOOKUP(Y$5,$B$6:$I$15,Points!$A6+1,FALSE),'Cars & Results'!$A$7:$BZ$317,2*Y$5+5)<=5,Y10*0.5,0))","v":0},{"$f":"IF(HLOOKUP(AA$5,$B$6:$I$15,Points!$A6+1,FALSE)=\"TBD\",\"\",VLOOKUP(HLOOKUP(AA$5,$B$6:$I$15,Points!$A6+1,FALSE),'Cars & Results'!$A$7:$BZ$317,2*AA$5+6,FALSE))","v":30},{"$f":"IF(HLOOKUP(AA$5,$B$6:$I$15,Points!$A6+1,FALSE)=\"TBD\",\"\",IF(VLOOKUP(HLOOKUP(AA$5,$B$6:$I$15,Points!$A6+1,FALSE),'Cars & Results'!$A$7:$BZ$317,2*AA$5+5)<=5,AA10*0.5,0))","v":0}]
[{"$f":"VLOOKUP(HLOOKUP('Pick Distribution'!$P$2,$B$6:$I$15,6),'Current Owner Standings'!$A$71:$B$480,2,FALSE)","v":24},38,38,38,38,38,6,6,6,{"$f":"IF(ISNA(VLOOKUP($I11,'Cars & Results'!$A$6:$I$317,J$5,FALSE)),\"Invalid Number\",VLOOKUP($I11,'Cars & Results'!$A$6:$K$317,J$5,FALSE))","v":"Ryan Newman"},{"$f":"IF(ISNA(VLOOKUP($I11,'Cars & Results'!$A$6:$I$317,K$5,FALSE)),\"Invalid Number\",VLOOKUP($I11,'Cars & Results'!$A$6:$K$317,K$5,FALSE))","v":"Ford"},{"$f":"IF(ISNA(VLOOKUP($I11,'Cars & Results'!$A$6:$I$317,L$5,FALSE)),\"Invalid Number\",VLOOKUP($I11,'Cars & Results'!$A$6:$K$317,L$5,FALSE))","v":"Roush Fenway Racing"},{"$f":"IF(HLOOKUP(M$5,$B$6:$I$15,Points!$A7+1,FALSE)=\"TBD\",\"\",VLOOKUP(HLOOKUP(M$5,$B$6:$I$15,Points!$A7+1,FALSE),'Cars & Results'!$A$7:$BZ$317,2*M$5+6,FALSE))","v":18},{"$f":"IF(HLOOKUP(M$5,$B$6:$I$15,Points!$A7+1,FALSE)=\"TBD\",\"\",IF(VLOOKUP(HLOOKUP(M$5,$B$6:$I$15,Points!$A7+1,FALSE),'Cars & Results'!$A$7:$BZ$317,2*M$5+5)<=10,M11*1.5,0))","v":0},{"$f":"IF(HLOOKUP(O$5,$B$6:$I$15,Points!$A7+1,FALSE)=\"TBD\",\"\",VLOOKUP(HLOOKUP(O$5,$B$6:$I$15,Points!$A7+1,FALSE),'Cars & Results'!$A$7:$BZ$317,2*O$5+6,FALSE))","v":1},{"$f":"IF(HLOOKUP(O$5,$B$6:$I$15,Points!$A7+1,FALSE)=\"TBD\",\"\",IF(VLOOKUP(HLOOKUP(O$5,$B$6:$I$15,Points!$A7+1,FALSE),'Cars & Results'!$A$7:$BZ$317,2*O$5+5)<=10,O11*1.5,0))","v":0},{"$f":"IF(HLOOKUP(Q$5,$B$6:$I$15,Points!$A7+1,FALSE)=\"TBD\",\"\",VLOOKUP(HLOOKUP(Q$5,$B$6:$I$15,Points!$A7+1,FALSE),'Cars & Results'!$A$7:$BZ$317,2*Q$5+6,FALSE))","v":1},{"$f":"IF(HLOOKUP(Q$5,$B$6:$I$15,Points!$A7+1,FALSE)=\"TBD\",\"\",IF(VLOOKUP(HLOOKUP(Q$5,$B$6:$I$15,Points!$A7+1,FALSE),'Cars & Results'!$A$7:$BZ$317,2*Q$5+5)<=10,Q11*1.5,0))","v":0},{"$f":"IF(HLOOKUP(S$5,$B$6:$I$15,Points!$A7+1,FALSE)=\"TBD\",\"\",VLOOKUP(HLOOKUP(S$5,$B$6:$I$15,Points!$A7+1,FALSE),'Cars & Results'!$A$7:$BZ$317,2*S$5+6,FALSE))","v":14},{"$f":"IF(HLOOKUP(S$5,$B$6:$I$15,Points!$A7+1,FALSE)=\"TBD\",\"\",IF(VLOOKUP(HLOOKUP(S$5,$B$6:$I$15,Points!$A7+1,FALSE),'Cars & Results'!$A$7:$BZ$317,2*S$5+5)<=10,S11*1.5,0))","v":0},{"$f":"IF(HLOOKUP(U$5,$B$6:$I$15,Points!$A7+1,FALSE)=\"TBD\",\"\",VLOOKUP(HLOOKUP(U$5,$B$6:$I$15,Points!$A7+1,FALSE),'Cars & Results'!$A$7:$BZ$317,2*U$5+6,FALSE))","v":2},{"$f":"IF(HLOOKUP(U$5,$B$6:$I$15,Points!$A7+1,FALSE)=\"TBD\",\"\",IF(VLOOKUP(HLOOKUP(U$5,$B$6:$I$15,Points!$A7+1,FALSE),'Cars & Results'!$A$7:$BZ$317,2*U$5+5)<=10,U11*1.5,0))","v":0},{"$f":"IF(HLOOKUP(W$5,$B$6:$I$15,Points!$A7+1,FALSE)=\"TBD\",\"\",VLOOKUP(HLOOKUP(W$5,$B$6:$I$15,Points!$A7+1,FALSE),'Cars & Results'!$A$7:$BZ$317,2*W$5+6,FALSE))","v":18},{"$f":"IF(HLOOKUP(W$5,$B$6:$I$15,Points!$A7+1,FALSE)=\"TBD\",\"\",IF(VLOOKUP(HLOOKUP(W$5,$B$6:$I$15,Points!$A7+1,FALSE),'Cars & Results'!$A$7:$BZ$317,2*W$5+5)<=10,W11*1.5,0))","v":0},{"$f":"IF(HLOOKUP(Y$5,$B$6:$I$15,Points!$A7+1,FALSE)=\"TBD\",\"\",VLOOKUP(HLOOKUP(Y$5,$B$6:$I$15,Points!$A7+1,FALSE),'Cars & Results'!$A$7:$BZ$317,2*Y$5+6,FALSE))","v":13},{"$f":"IF(HLOOKUP(Y$5,$B$6:$I$15,Points!$A7+1,FALSE)=\"TBD\",\"\",IF(VLOOKUP(HLOOKUP(Y$5,$B$6:$I$15,Points!$A7+1,FALSE),'Cars & Results'!$A$7:$BZ$317,2*Y$5+5)<=10,Y11*1.5,0))","v":0},{"$f":"IF(HLOOKUP(AA$5,$B$6:$I$15,Points!$A7+1,FALSE)=\"TBD\",\"\",VLOOKUP(HLOOKUP(AA$5,$B$6:$I$15,Points!$A7+1,FALSE),'Cars & Results'!$A$7:$BZ$317,2*AA$5+6,FALSE))","v":1},{"$f":"IF(HLOOKUP(AA$5,$B$6:$I$15,Points!$A7+1,FALSE)=\"TBD\",\"\",IF(VLOOKUP(HLOOKUP(AA$5,$B$6:$I$15,Points!$A7+1,FALSE),'Cars & Results'!$A$7:$BZ$317,2*AA$5+5)<=10,AA11*1.5,0))","v":0}]
[{"$f":"VLOOKUP(HLOOKUP('Pick Distribution'!$P$2,$B$6:$I$15,7),'Current Owner Standings'!$A$71:$B$480,2,FALSE)","v":25},41,95,95,17,17,34,34,47,{"$f":"IF(ISNA(VLOOKUP($I12,'Cars & Results'!$A$6:$I$317,J$5,FALSE)),\"Invalid Number\",VLOOKUP($I12,'Cars & Results'!$A$6:$K$317,J$5,FALSE))","v":"Ricky Stenhouse Jr."},{"$f":"IF(ISNA(VLOOKUP($I12,'Cars & Results'!$A$6:$I$317,K$5,FALSE)),\"Invalid Number\",VLOOKUP($I12,'Cars & Results'!$A$6:$K$317,K$5,FALSE))","v":"Chevrolet"},{"$f":"IF(ISNA(VLOOKUP($I12,'Cars & Results'!$A$6:$I$317,L$5,FALSE)),\"Invalid Number\",VLOOKUP($I12,'Cars & Results'!$A$6:$K$317,L$5,FALSE))","v":"JTG Daugherty Racing"},{"$f":"IF(HLOOKUP(M$5,$B$6:$I$15,Points!$A8+1,FALSE)=\"TBD\",\"\",VLOOKUP(HLOOKUP(M$5,$B$6:$I$15,Points!$A8+1,FALSE),'Cars & Results'!$A$7:$BZ$317,2*M$5+6,FALSE))","v":30},{"$f":"IF(HLOOKUP(M$5,$B$6:$I$15,Points!$A8+1,FALSE)=\"TBD\",\"\",IF(VLOOKUP(HLOOKUP(M$5,$B$6:$I$15,Points!$A8+1,FALSE),'Cars & Results'!$A$7:$BZ$317,2*M$5+5)<=10,M12*1.5,0))","v":45},{"$f":"IF(HLOOKUP(O$5,$B$6:$I$15,Points!$A8+1,FALSE)=\"TBD\",\"\",VLOOKUP(HLOOKUP(O$5,$B$6:$I$15,Points!$A8+1,FALSE),'Cars & Results'!$A$7:$BZ$317,2*O$5+6,FALSE))","v":16},{"$f":"IF(HLOOKUP(O$5,$B$6:$I$15,Points!$A8+1,FALSE)=\"TBD\",\"\",IF(VLOOKUP(HLOOKUP(O$5,$B$6:$I$15,Points!$A8+1,FALSE),'Cars & Results'!$A$7:$BZ$317,2*O$5+5)<=10,O12*1.5,0))","v":0},{"$f":"IF(HLOOKUP(Q$5,$B$6:$I$15,Points!$A8+1,FALSE)=\"TBD\",\"\",VLOOKUP(HLOOKUP(Q$5,$B$6:$I$15,Points!$A8+1,FALSE),'Cars & Results'!$A$7:$BZ$317,2*Q$5+6,FALSE))","v":24},{"$f":"IF(HLOOKUP(Q$5,$B$6:$I$15,Points!$A8+1,FALSE)=\"TBD\",\"\",IF(VLOOKUP(HLOOKUP(Q$5,$B$6:$I$15,Points!$A8+1,FALSE),'Cars & Results'!$A$7:$BZ$317,2*Q$5+5)<=10,Q12*1.5,0))","v":0},{"$f":"IF(HLOOKUP(S$5,$B$6:$I$15,Points!$A8+1,FALSE)=\"TBD\",\"\",VLOOKUP(HLOOKUP(S$5,$B$6:$I$15,Points!$A8+1,FALSE),'Cars & Results'!$A$7:$BZ$317,2*S$5+6,FALSE))","v":17},{"$f":"IF(HLOOKUP(S$5,$B$6:$I$15,Points!$A8+1,FALSE)=\"TBD\",\"\",IF(VLOOKUP(HLOOKUP(S$5,$B$6:$I$15,Points!$A8+1,FALSE),'Cars & Results'!$A$7:$BZ$317,2*S$5+5)<=10,S12*1.5,0))","v":0},{"$f":"IF(HLOOKUP(U$5,$B$6:$I$15,Points!$A8+1,FALSE)=\"TBD\",\"\",VLOOKUP(HLOOKUP(U$5,$B$6:$I$15,Points!$A8+1,FALSE),'Cars & Results'!$A$7:$BZ$317,2*U$5+6,FALSE))","v":32},{"$f":"IF(HLOOKUP(U$5,$B$6:$I$15,Points!$A8+1,FALSE)=\"TBD\",\"\",IF(VLOOKUP(HLOOKUP(U$5,$B$6:$I$15,Points!$A8+1,FALSE),'Cars & Results'!$A$7:$BZ$317,2*U$5+5)<=10,U12*1.5,0))","v":48},{"$f":"IF(HLOOKUP(W$5,$B$6:$I$15,Points!$A8+1,FALSE)=\"TBD\",\"\",VLOOKUP(HLOOKUP(W$5,$B$6:$I$15,Points!$A8+1,FALSE),'Cars & Results'!$A$7:$BZ$317,2*W$5+6,FALSE))","v":11},{"$f":"IF(HLOOKUP(W$5,$B$6:$I$15,Points!$A8+1,FALSE)=\"TBD\",\"\",IF(VLOOKUP(HLOOKUP(W$5,$B$6:$I$15,Points!$A8+1,FALSE),'Cars & Results'!$A$7:$BZ$317,2*W$5+5)<=10,W12*1.5,0))","v":0},{"$f":"IF(HLOOKUP(Y$5,$B$6:$I$15,Points!$A8+1,FALSE)=\"TBD\",\"\",VLOOKUP(HLOOKUP(Y$5,$B$6:$I$15,Points!$A8+1,FALSE),'Cars & Results'!$A$7:$BZ$317,2*Y$5+6,FALSE))","v":12},{"$f":"IF(HLOOKUP(Y$5,$B$6:$I$15,Points!$A8+1,FALSE)=\"TBD\",\"\",IF(VLOOKUP(HLOOKUP(Y$5,$B$6:$I$15,Points!$A8+1,FALSE),'Cars & Results'!$A$7:$BZ$317,2*Y$5+5)<=10,Y12*1.5,0))","v":0},{"$f":"IF(HLOOKUP(AA$5,$B$6:$I$15,Points!$A8+1,FALSE)=\"TBD\",\"\",VLOOKUP(HLOOKUP(AA$5,$B$6:$I$15,Points!$A8+1,FALSE),'Cars & Results'!$A$7:$BZ$317,2*AA$5+6,FALSE))","v":8},{"$f":"IF(HLOOKUP(AA$5,$B$6:$I$15,Points!$A8+1,FALSE)=\"TBD\",\"\",IF(VLOOKUP(HLOOKUP(AA$5,$B$6:$I$15,Points!$A8+1,FALSE),'Cars & Results'!$A$7:$BZ$317,2*AA$5+5)<=10,AA12*1.5,0))","v":0}]
[{"$f":"VLOOKUP(HLOOKUP('Pick Distribution'!$P$2,$B$6:$I$15,8),'Current Owner Standings'!$A$71:$B$480,2,FALSE)","v":31},15,37,96,96,77,96,96,96,{"$f":"IF(ISNA(VLOOKUP($I13,'Cars & Results'!$A$6:$I$317,J$5,FALSE)),\"Invalid Number\",VLOOKUP($I13,'Cars & Results'!$A$6:$K$317,J$5,FALSE))","v":"Daniel Suárez"},{"$f":"IF(ISNA(VLOOKUP($I13,'Cars & Results'!$A$6:$I$317,K$5,FALSE)),\"Invalid Number\",VLOOKUP($I13,'Cars & Results'!$A$6:$K$317,K$5,FALSE))","v":"Toyota"},{"$f":"IF(ISNA(VLOOKUP($I13,'Cars & Results'!$A$6:$I$317,L$5,FALSE)),\"Invalid Number\",VLOOKUP($I13,'Cars & Results'!$A$6:$K$317,L$5,FALSE))","v":"Gaunt Brothers Racing"},{"$f":"IF(HLOOKUP(M$5,$B$6:$I$15,Points!$A9+1,FALSE)=\"TBD\",\"\",VLOOKUP(HLOOKUP(M$5,$B$6:$I$15,Points!$A9+1,FALSE),'Cars & Results'!$A$7:$BZ$317,2*M$5+6,FALSE))","v":7},{"$f":"IF(HLOOKUP(M$5,$B$6:$I$15,Points!$A9+1,FALSE)=\"TBD\",\"\",IF(VLOOKUP(HLOOKUP(M$5,$B$6:$I$15,Points!$A9+1,FALSE),'Cars & Results'!$A$7:$BZ$317,2*M$5+5)<=10,M13*2,0))","v":0},{"$f":"IF(HLOOKUP(O$5,$B$6:$I$15,Points!$A9+1,FALSE)=\"TBD\",\"\",VLOOKUP(HLOOKUP(O$5,$B$6:$I$15,Points!$A9+1,FALSE),'Cars & Results'!$A$7:$BZ$317,2*O$5+6,FALSE))","v":23},{"$f":"IF(HLOOKUP(O$5,$B$6:$I$15,Points!$A9+1,FALSE)=\"TBD\",\"\",IF(VLOOKUP(HLOOKUP(O$5,$B$6:$I$15,Points!$A9+1,FALSE),'Cars & Results'!$A$7:$BZ$317,2*O$5+5)<=10,O13*2,0))","v":0},{"$f":"IF(HLOOKUP(Q$5,$B$6:$I$15,Points!$A9+1,FALSE)=\"TBD\",\"\",VLOOKUP(HLOOKUP(Q$5,$B$6:$I$15,Points!$A9+1,FALSE),'Cars & Results'!$A$7:$BZ$317,2*Q$5+6,FALSE))","v":13},{"$f":"IF(HLOOKUP(Q$5,$B$6:$I$15,Points!$A9+1,FALSE)=\"TBD\",\"\",IF(VLOOKUP(HLOOKUP(Q$5,$B$6:$I$15,Points!$A9+1,FALSE),'Cars & Results'!$A$7:$BZ$317,2*Q$5+5)<=10,Q13*2,0))","v":0},{"$f":"IF(HLOOKUP(S$5,$B$6:$I$15,Points!$A9+1,FALSE)=\"TBD\",\"\",VLOOKUP(HLOOKUP(S$5,$B$6:$I$15,Points!$A9+1,FALSE),'Cars & Results'!$A$7:$BZ$317,2*S$5+6,FALSE))","v":11},{"$f":"IF(HLOOKUP(S$5,$B$6:$I$15,Points!$A9+1,FALSE)=\"TBD\",\"\",IF(VLOOKUP(HLOOKUP(S$5,$B$6:$I$15,Points!$A9+1,FALSE),'Cars & Results'!$A$7:$BZ$317,2*S$5+5)<=10,S13*2,0))","v":0},{"$f":"IF(HLOOKUP(U$5,$B$6:$I$15,Points!$A9+1,FALSE)=\"TBD\",\"\",VLOOKUP(HLOOKUP(U$5,$B$6:$I$15,Points!$A9+1,FALSE),'Cars & Results'!$A$7:$BZ$317,2*U$5+6,FALSE))","v":1},{"$f":"IF(HLOOKUP(U$5,$B$6:$I$15,Points!$A9+1,FALSE)=\"TBD\",\"\",IF(VLOOKUP(HLOOKUP(U$5,$B$6:$I$15,Points!$A9+1,FALSE),'Cars & Results'!$A$7:$BZ$317,2*U$5+5)<=10,U13*2,0))","v":0},{"$f":"IF(HLOOKUP(W$5,$B$6:$I$15,Points!$A9+1,FALSE)=\"TBD\",\"\",VLOOKUP(HLOOKUP(W$5,$B$6:$I$15,Points!$A9+1,FALSE),'Cars & Results'!$A$7:$BZ$317,2*W$5+6,FALSE))","v":7},{"$f":"IF(HLOOKUP(W$5,$B$6:$I$15,Points!$A9+1,FALSE)=\"TBD\",\"\",IF(VLOOKUP(HLOOKUP(W$5,$B$6:$I$15,Points!$A9+1,FALSE),'Cars & Results'!$A$7:$BZ$317,2*W$5+5)<=10,W13*2,0))","v":0},{"$f":"IF(HLOOKUP(Y$5,$B$6:$I$15,Points!$A9+1,FALSE)=\"TBD\",\"\",VLOOKUP(HLOOKUP(Y$5,$B$6:$I$15,Points!$A9+1,FALSE),'Cars & Results'!$A$7:$BZ$317,2*Y$5+6,FALSE))","v":9},{"$f":"IF(HLOOKUP(Y$5,$B$6:$I$15,Points!$A9+1,FALSE)=\"TBD\",\"\",IF(VLOOKUP(HLOOKUP(Y$5,$B$6:$I$15,Points!$A9+1,FALSE),'Cars & Results'!$A$7:$BZ$317,2*Y$5+5)<=10,Y13*2,0))","v":0},{"$f":"IF(HLOOKUP(AA$5,$B$6:$I$15,Points!$A9+1,FALSE)=\"TBD\",\"\",VLOOKUP(HLOOKUP(AA$5,$B$6:$I$15,Points!$A9+1,FALSE),'Cars & Results'!$A$7:$BZ$317,2*AA$5+6,FALSE))","v":11},{"$f":"IF(HLOOKUP(AA$5,$B$6:$I$15,Points!$A9+1,FALSE)=\"TBD\",\"\",IF(VLOOKUP(HLOOKUP(AA$5,$B$6:$I$15,Points!$A9+1,FALSE),'Cars & Results'!$A$7:$BZ$317,2*AA$5+5)<=10,AA13*2,0))","v":0}]
[{"$f":"VLOOKUP(HLOOKUP('Pick Distribution'!$P$2,$B$6:$I$15,9),'Current Owner Standings'!$A$71:$B$480,2,FALSE)","v":36},"00","00","00","00","00","00","00","00",{"$f":"IF(ISNA(VLOOKUP($I14,'Cars & Results'!$A$6:$I$317,J$5,FALSE)),\"Invalid Number\",VLOOKUP($I14,'Cars & Results'!$A$6:$K$317,J$5,FALSE))","v":"Quin Houff (R)"},{"$f":"IF(ISNA(VLOOKUP($I14,'Cars & Results'!$A$6:$I$317,K$5,FALSE)),\"Invalid Number\",VLOOKUP($I14,'Cars & Results'!$A$6:$K$317,K$5,FALSE))","v":"Chevrolet"},{"$f":"IF(ISNA(VLOOKUP($I14,'Cars & Results'!$A$6:$I$317,L$5,FALSE)),\"Invalid Number\",VLOOKUP($I14,'Cars & Results'!$A$6:$K$317,L$5,FALSE))","v":"StarCom Racing"},{"$f":"IF(HLOOKUP(M$5,$B$6:$I$15,Points!$A10+1,FALSE)=\"TBD\",\"\",VLOOKUP(HLOOKUP(M$5,$B$6:$I$15,Points!$A10+1,FALSE),'Cars & Results'!$A$7:$BZ$317,2*M$5+6,FALSE))","v":13},{"$f":"IF(HLOOKUP(M$5,$B$6:$I$15,Points!$A10+1,FALSE)=\"TBD\",\"\",IF(VLOOKUP(HLOOKUP(M$5,$B$6:$I$15,Points!$A10+1,FALSE),'Cars & Results'!$A$7:$BZ$317,2*M$5+5)<=10,M14*3,0))","v":0},{"$f":"IF(HLOOKUP(O$5,$B$6:$I$15,Points!$A10+1,FALSE)=\"TBD\",\"\",VLOOKUP(HLOOKUP(O$5,$B$6:$I$15,Points!$A10+1,FALSE),'Cars & Results'!$A$7:$BZ$317,2*O$5+6,FALSE))","v":5},{"$f":"IF(HLOOKUP(O$5,$B$6:$I$15,Points!$A10+1,FALSE)=\"TBD\",\"\",IF(VLOOKUP(HLOOKUP(O$5,$B$6:$I$15,Points!$A10+1,FALSE),'Cars & Results'!$A$7:$BZ$317,2*O$5+5)<=10,O14*3,0))","v":0},{"$f":"IF(HLOOKUP(Q$5,$B$6:$I$15,Points!$A10+1,FALSE)=\"TBD\",\"\",VLOOKUP(HLOOKUP(Q$5,$B$6:$I$15,Points!$A10+1,FALSE),'Cars & Results'!$A$7:$BZ$317,2*Q$5+6,FALSE))","v":10},{"$f":"IF(HLOOKUP(Q$5,$B$6:$I$15,Points!$A10+1,FALSE)=\"TBD\",\"\",IF(VLOOKUP(HLOOKUP(Q$5,$B$6:$I$15,Points!$A10+1,FALSE),'Cars & Results'!$A$7:$BZ$317,2*Q$5+5)<=10,Q14*3,0))","v":0},{"$f":"IF(HLOOKUP(S$5,$B$6:$I$15,Points!$A10+1,FALSE)=\"TBD\",\"\",VLOOKUP(HLOOKUP(S$5,$B$6:$I$15,Points!$A10+1,FALSE),'Cars & Results'!$A$7:$BZ$317,2*S$5+6,FALSE))","v":5},{"$f":"IF(HLOOKUP(S$5,$B$6:$I$15,Points!$A10+1,FALSE)=\"TBD\",\"\",IF(VLOOKUP(HLOOKUP(S$5,$B$6:$I$15,Points!$A10+1,FALSE),'Cars & Results'!$A$7:$BZ$317,2*S$5+5)<=10,S14*3,0))","v":0},{"$f":"IF(HLOOKUP(U$5,$B$6:$I$15,Points!$A10+1,FALSE)=\"TBD\",\"\",VLOOKUP(HLOOKUP(U$5,$B$6:$I$15,Points!$A10+1,FALSE),'Cars & Results'!$A$7:$BZ$317,2*U$5+6,FALSE))","v":4},{"$f":"IF(HLOOKUP(U$5,$B$6:$I$15,Points!$A10+1,FALSE)=\"TBD\",\"\",IF(VLOOKUP(HLOOKUP(U$5,$B$6:$I$15,Points!$A10+1,FALSE),'Cars & Results'!$A$7:$BZ$317,2*U$5+5)<=10,U14*3,0))","v":0},{"$f":"IF(HLOOKUP(W$5,$B$6:$I$15,Points!$A10+1,FALSE)=\"TBD\",\"\",VLOOKUP(HLOOKUP(W$5,$B$6:$I$15,Points!$A10+1,FALSE),'Cars & Results'!$A$7:$BZ$317,2*W$5+6,FALSE))","v":4},{"$f":"IF(HLOOKUP(W$5,$B$6:$I$15,Points!$A10+1,FALSE)=\"TBD\",\"\",IF(VLOOKUP(HLOOKUP(W$5,$B$6:$I$15,Points!$A10+1,FALSE),'Cars & Results'!$A$7:$BZ$317,2*W$5+5)<=10,W14*3,0))","v":0},{"$f":"IF(HLOOKUP(Y$5,$B$6:$I$15,Points!$A10+1,FALSE)=\"TBD\",\"\",VLOOKUP(HLOOKUP(Y$5,$B$6:$I$15,Points!$A10+1,FALSE),'Cars & Results'!$A$7:$BZ$317,2*Y$5+6,FALSE))","v":3},{"$f":"IF(HLOOKUP(Y$5,$B$6:$I$15,Points!$A10+1,FALSE)=\"TBD\",\"\",IF(VLOOKUP(HLOOKUP(Y$5,$B$6:$I$15,Points!$A10+1,FALSE),'Cars & Results'!$A$7:$BZ$317,2*Y$5+5)<=10,Y14*3,0))","v":0},{"$f":"IF(HLOOKUP(AA$5,$B$6:$I$15,Points!$A10+1,FALSE)=\"TBD\",\"\",VLOOKUP(HLOOKUP(AA$5,$B$6:$I$15,Points!$A10+1,FALSE),'Cars & Results'!$A$7:$BZ$317,2*AA$5+6,FALSE))","v":14},{"$f":"IF(HLOOKUP(AA$5,$B$6:$I$15,Points!$A10+1,FALSE)=\"TBD\",\"\",IF(VLOOKUP(HLOOKUP(AA$5,$B$6:$I$15,Points!$A10+1,FALSE),'Cars & Results'!$A$7:$BZ$317,2*AA$5+5)<=10,AA14*3,0))","v":0}]
[{"$f":"VLOOKUP(HLOOKUP('Pick Distribution'!$P$2,$B$6:$I$15,10),'Current Owner Standings'!$A$71:$B$480,2,FALSE)","v":8},9,2,22,12,19,4,48,10,{"$f":"IF(ISNA(VLOOKUP($I15,'Cars & Results'!$A$6:$I$317,J$5,FALSE)),\"Invalid Number\",VLOOKUP($I15,'Cars & Results'!$A$6:$K$317,J$5,FALSE))","v":"Aric Almirola"},{"$f":"IF(ISNA(VLOOKUP($I15,'Cars & Results'!$A$6:$I$317,K$5,FALSE)),\"Invalid Number\",VLOOKUP($I15,'Cars & Results'!$A$6:$K$317,K$5,FALSE))","v":"Ford"},{"$f":"IF(ISNA(VLOOKUP($I15,'Cars & Results'!$A$6:$I$317,L$5,FALSE)),\"Invalid Number\",VLOOKUP($I15,'Cars & Results'!$A$6:$K$317,L$5,FALSE))","v":"Stewart-Haas Racing"},{"$f":"IF(HLOOKUP(M$5,$B$6:$I$15,Points!$A11+1,FALSE)=\"TBD\",\"\",VLOOKUP(HLOOKUP(M$5,$B$6:$I$15,Points!$A11+1,FALSE),'Cars & Results'!$A$7:$BZ$317,2*M$5+6,FALSE))","v":26},0,{"$f":"IF(HLOOKUP(O$5,$B$6:$I$15,Points!$A11+1,FALSE)=\"TBD\",\"\",VLOOKUP(HLOOKUP(O$5,$B$6:$I$15,Points!$A11+1,FALSE),'Cars & Results'!$A$7:$BZ$317,2*O$5+6,FALSE))","v":56},56,{"$f":"IF(HLOOKUP(Q$5,$B$6:$I$15,Points!$A11+1,FALSE)=\"TBD\",\"\",VLOOKUP(HLOOKUP(Q$5,$B$6:$I$15,Points!$A11+1,FALSE),'Cars & Results'!$A$7:$BZ$317,2*Q$5+6,FALSE))","v":29},0,{"$f":"IF(HLOOKUP(S$5,$B$6:$I$15,Points!$A11+1,FALSE)=\"TBD\",\"\",VLOOKUP(HLOOKUP(S$5,$B$6:$I$15,Points!$A11+1,FALSE),'Cars & Results'!$A$7:$BZ$317,2*S$5+6,FALSE))","v":6},0,{"$f":"IF(HLOOKUP(U$5,$B$6:$I$15,Points!$A11+1,FALSE)=\"TBD\",\"\",VLOOKUP(HLOOKUP(U$5,$B$6:$I$15,Points!$A11+1,FALSE),'Cars & Results'!$A$7:$BZ$317,2*U$5+6,FALSE))","v":37},37,{"$f":"IF(HLOOKUP(W$5,$B$6:$I$15,Points!$A11+1,FALSE)=\"TBD\",\"\",VLOOKUP(HLOOKUP(W$5,$B$6:$I$15,Points!$A11+1,FALSE),'Cars & Results'!$A$7:$BZ$317,2*W$5+6,FALSE))","v":42},0,{"$f":"IF(HLOOKUP(Y$5,$B$6:$I$15,Points!$A11+1,FALSE)=\"TBD\",\"\",VLOOKUP(HLOOKUP(Y$5,$B$6:$I$15,Points!$A11+1,FALSE),'Cars & Results'!$A$7:$BZ$317,2*Y$5+6,FALSE))","v":39},39,{"$f":"IF(HLOOKUP(AA$5,$B$6:$I$15,Points!$A11+1,FALSE)=\"TBD\",\"\",VLOOKUP(HLOOKUP(AA$5,$B$6:$I$15,Points!$A11+1,FALSE),'Cars & Results'!$A$7:$BZ$317,2*AA$5+6,FALSE))","v":19},{"$f":"IF(HLOOKUP(AA$5,$B$6:$I$15,Points!$A11+1,FALSE)=\"TBD\",\"\",IF(AND(VLOOKUP(HLOOKUP(AA$5,$B$6:$I$15,Points!$A11+1,FALSE),'Cars & Results'!$A$7:$BZ$317,2*AA$5+5)<=3,$A$15<=25),AA15*1,IF(AND(VLOOKUP(HLOOKUP(AA$5,$B$6:$I$15,Points!$A11+1,FALSE),'Cars & Results'!$A$7:$BZ$317,2*AA$5+5)<=10,$A$15>25),AA15*3,0)))","v":0}]
[null,null,null,null,null,null,null,null,null,null,null,"Segment 1",null,{"$f":"IF(INDIRECT(ADDRESS(321,5+(M5*2),1,1,\"Cars & Results\"),TRUE)=\"Y\",IF(ISERROR(MATCH(INDIRECT(ADDRESS(318,5+(M5*2),1,1,\"Cars & Results\"),TRUE),B7:B15,0))=TRUE,0,10),\"\")","v":0},null,{"$f":"IF(INDIRECT(ADDRESS(321,5+(O5*2),1,1,\"Cars & Results\"),TRUE)=\"Y\",IF(ISERROR(MATCH(INDIRECT(ADDRESS(318,5+(O5*2),1,1,\"Cars & Results\"),TRUE),C7:C15,0))=TRUE,0,10),\"\")","v":10},null,{"$f":"IF(INDIRECT(ADDRESS(321,5+(Q5*2),1,1,\"Cars & Results\"),TRUE)=\"Y\",IF(ISERROR(MATCH(INDIRECT(ADDRESS(318,5+(Q5*2),1,1,\"Cars & Results\"),TRUE),D7:D15,0))=TRUE,0,10),\"\")","v":10},null,{"$f":"IF(INDIRECT(ADDRESS(321,5+(S5*2),1,1,\"Cars & Results\"),TRUE)=\"Y\",IF(ISERROR(MATCH(INDIRECT(ADDRESS(318,5+(S5*2),1,1,\"Cars & Results\"),TRUE),E7:E15,0))=TRUE,0,10),\"\")","v":0},null,{"$f":"IF(INDIRECT(ADDRESS(321,5+(U5*2),1,1,\"Cars & Results\"),TRUE)=\"Y\",IF(ISERROR(MATCH(INDIRECT(ADDRESS(318,5+(U5*2),1,1,\"Cars & Results\"),TRUE),F7:F15,0))=TRUE,0,10),\"\")","v":0},null,{"$f":"IF(INDIRECT(ADDRESS(321,5+(W5*2),1,1,\"Cars & Results\"),TRUE)=\"Y\",IF(ISERROR(MATCH(INDIRECT(ADDRESS(318,5+(W5*2),1,1,\"Cars & Results\"),TRUE),G7:G15,0))=TRUE,0,10),\"\")","v":10},null,{"$f":"IF(INDIRECT(ADDRESS(321,5+(Y5*2),1,1,\"Cars & Results\"),TRUE)=\"Y\",IF(ISERROR(MATCH(INDIRECT(ADDRESS(318,5+(Y5*2),1,1,\"Cars & Results\"),TRUE),H7:H15,0))=TRUE,0,10),\"\")","v":0},null,{"$f":"IF(INDIRECT(ADDRESS(321,5+(AA5*2),1,1,\"Cars & Results\"),TRUE)=\"Y\",IF(ISERROR(MATCH(INDIRECT(ADDRESS(318,5+(AA5*2),1,1,\"Cars & Results\"),TRUE),I7:I15,0))=TRUE,0,10),\"\")","v":0}]
[null,null,null,null,null,null,null,null,null,null,null,"Segment 2",null,{"$f":"IF(INDIRECT(ADDRESS(321,5+(M5*2),1,1,\"Cars & Results\"),TRUE)=\"Y\",IF(ISERROR(MATCH(INDIRECT(ADDRESS(319,5+(M5*2),1,1,\"Cars & Results\"),TRUE),B7:B15,0))=TRUE,0,10),\"\")","v":0},null,{"$f":"IF(INDIRECT(ADDRESS(321,5+(O5*2),1,1,\"Cars & Results\"),TRUE)=\"Y\",IF(ISERROR(MATCH(INDIRECT(ADDRESS(319,5+(O5*2),1,1,\"Cars & Results\"),TRUE),C7:C15,0))=TRUE,0,10),\"\")","v":10},null,{"$f":"IF(INDIRECT(ADDRESS(321,5+(Q5*2),1,1,\"Cars & Results\"),TRUE)=\"Y\",IF(ISERROR(MATCH(INDIRECT(ADDRESS(319,5+(Q5*2),1,1,\"Cars & Results\"),TRUE),D7:D15,0))=TRUE,0,10),\"\")","v":10},null,{"$f":"IF(INDIRECT(ADDRESS(321,5+(S5*2),1,1,\"Cars & Results\"),TRUE)=\"Y\",IF(ISERROR(MATCH(INDIRECT(ADDRESS(319,5+(S5*2),1,1,\"Cars & Results\"),TRUE),E7:E15,0))=TRUE,0,10),\"\")","v":10},null,{"$f":"IF(INDIRECT(ADDRESS(321,5+(U5*2),1,1,\"Cars & Results\"),TRUE)=\"Y\",IF(ISERROR(MATCH(INDIRECT(ADDRESS(319,5+(U5*2),1,1,\"Cars & Results\"),TRUE),F7:F15,0))=TRUE,0,10),\"\")","v":10},null,{"$f":"IF(INDIRECT(ADDRESS(321,5+(W5*2),1,1,\"Cars & Results\"),TRUE)=\"Y\",IF(ISERROR(MATCH(INDIRECT(ADDRESS(319,5+(W5*2),1,1,\"Cars & Results\"),TRUE),G7:G15,0))=TRUE,0,10),\"\")","v":10},null,{"$f":"IF(INDIRECT(ADDRESS(321,5+(Y5*2),1,1,\"Cars & Results\"),TRUE)=\"Y\",IF(ISERROR(MATCH(INDIRECT(ADDRESS(319,5+(Y5*2),1,1,\"Cars & Results\"),TRUE),H7:H15,0))=TRUE,0,10),\"\")","v":0},null,{"$f":"IF(INDIRECT(ADDRESS(321,5+(AA5*2),1,1,\"Cars & Results\"),TRUE)=\"Y\",IF(ISERROR(MATCH(INDIRECT(ADDRESS(319,5+(AA5*2),1,1,\"Cars & Results\"),TRUE),I7:I15,0))=TRUE,0,10),\"\")","v":0}]
[null,null,null,null,null,null,null,null,null,null,null,"Segment 3",null,{"$f":"IF(INDIRECT(ADDRESS(321,5+(M5*2),1,1,\"Cars & Results\"),TRUE)=\"Y\",IF(ISERROR(MATCH(INDIRECT(ADDRESS(320,5+(M5*2),1,1,\"Cars & Results\"),TRUE),B7:B15,0))=TRUE,0,15),\"\")","v":15},null,{"$f":"IF(INDIRECT(ADDRESS(321,5+(O5*2),1,1,\"Cars & Results\"),TRUE)=\"Y\",IF(ISERROR(MATCH(INDIRECT(ADDRESS(320,5+(O5*2),1,1,\"Cars & Results\"),TRUE),C7:C15,0))=TRUE,0,15),\"\")","v":15},null,{"$f":"IF(INDIRECT(ADDRESS(321,5+(Q5*2),1,1,\"Cars & Results\"),TRUE)=\"Y\",IF(ISERROR(MATCH(INDIRECT(ADDRESS(320,5+(Q5*2),1,1,\"Cars & Results\"),TRUE),D7:D15,0))=TRUE,0,15),\"\")","v":15},null,{"$f":"IF(INDIRECT(ADDRESS(321,5+(S5*2),1,1,\"Cars & Results\"),TRUE)=\"Y\",IF(ISERROR(MATCH(INDIRECT(ADDRESS(320,5+(S5*2),1,1,\"Cars & Results\"),TRUE),E7:E15,0))=TRUE,0,15),\"\")","v":15},null,{"$f":"IF(INDIRECT(ADDRESS(321,5+(U5*2),1,1,\"Cars & Results\"),TRUE)=\"Y\",IF(ISERROR(MATCH(INDIRECT(ADDRESS(320,5+(U5*2),1,1,\"Cars & Results\"),TRUE),F7:F15,0))=TRUE,0,15),\"\")","v":0},null,{"$f":"IF(INDIRECT(ADDRESS(321,5+(W5*2),1,1,\"Cars & Results\"),TRUE)=\"Y\",IF(ISERROR(MATCH(INDIRECT(ADDRESS(320,5+(W5*2),1,1,\"Cars & Results\"),TRUE),G7:G15,0))=TRUE,0,15),\"\")","v":15},null,{"$f":"IF(INDIRECT(ADDRESS(321,5+(Y5*2),1,1,\"Cars & Results\"),TRUE)=\"Y\",IF(ISERROR(MATCH(INDIRECT(ADDRESS(320,5+(Y5*2),1,1,\"Cars & Results\"),TRUE),H7:H15,0))=TRUE,0,15),\"\")","v":0},null,{"$f":"IF(INDIRECT(ADDRESS(321,5+(AA5*2),1,1,\"Cars & Results\"),TRUE)=\"Y\",IF(ISERROR(MATCH(INDIRECT(ADDRESS(320,5+(AA5*2),1,1,\"Cars & Results\"),TRUE),I7:I15,0))=TRUE,0,15),\"\")","v":0}]
[null,{"$f":"SUM(B7:B15)","v":143},193,303,274,317,267,349,303,null,null,null,{"$f":"SUM(M7:M15)","v":244},null,{"$f":"SUM(O7:O15)","v":219},null,{"$f":"SUM(Q7:Q15)","v":187},null,{"$f":"SUM(S7:S15)","v":193},null,{"$f":"SUM(U7:U15)","v":149},null,{"$f":"SUM(W7:W15)","v":229},null,{"$f":"SUM(Y7:Y15)","v":168},null,{"$f":"SUM(AA7:AA15)","v":135}]
[null,null,null,null,null,null,null,null,null,null,null,null,null,{"$f":"SUM(N7:N19)","v":78.5},null,{"$f":"SUM(P7:P19)","v":91},null,{"$f":"SUM(R7:R19)","v":35},null,{"$f":"SUM(T7:T19)","v":25},null,{"$f":"SUM(V7:V19)","v":95},null,{"$f":"SUM(X7:X19)","v":35},null,{"$f":"SUM(Z7:Z19)","v":39},null,{"$f":"SUM(AB7:AB19)","v":0}]
[null,null,null,null,null,null,null,null,null,null,null,"Race Total",{"$f":"M19+N20","v":322.5},null,{"$f":"O19+P20","v":310},null,{"$f":"Q19+R20","v":222},null,{"$f":"S19+T20","v":218},null,{"$f":"U19+V20","v":244},null,{"$f":"W19+X20","v":264},null,{"$f":"Y19+Z20","v":207},null,{"$f":"AA19+AB20","v":135},null,{"$f":"SUM(M21:AB21)","v":1922.5}]
[null,null,null,null,null,null,null,null,"1-8"]
[null,null,null,null,null,null,null,null,"9-16"]
[null,null,null,null,null,null,null,null,"17-23"]
[null,null,null,null,null,null,null,null,"24-30"]
[null,null,null,null,null,null,null,null,"31-35"]
[null,null,null,null,null,null,null,null,">35"]
[null,null,null,null,null,null,null,null,"Provisional"]

{"sheet":"Brad McLean","index":13,"n_rows":28,"n_cols":29,"rows_kept":28,"cut":false,"hidden":false,"merged":[[1,26,1,27],[2,26,2,27],[0,26,0,27],[4,26,4,27],[20,26,20,27],[3,26,3,27],[2,20,2,21],[2,22,2,23],[2,24,2,25],[3,20,3,21],[3,22,3,23],[3,24,3,25],[3,12,3,13],[3,14,3,15],[3,16,3,17],[3,18,3,19],[1,16,1,17],[1,18,1,19],[1,20,1,21],[1,22,1,23],[1,24,1,25],[0,24,0,25],[2,12,2,13],[2,14,2,15],[2,16,2,17],[2,18,2,19],[1,12,1,13],[1,14,1,15],[0,20,0,21],[0,22,0,23],[0,12,0,13],[0,14,0,15],[0,16,0,17],[0,18,0,19],[4,12,4,13],[4,14,4,15],[4,16,4,17],[20,12,20,13],[20,14,20,15],[20,16,20,17],[4,18,4,19],[4,20,4,21],[4,22,4,23],[4,24,4,25],[20,18,20,19],[20,20,20,21],[20,22,20,23],[20,24,20,25]]}
[null,null,null,null,null,null,null,null,null,null,null,null,{"$f":"VLOOKUP(M$5,Schedule!$A$8:$G$43,2,FALSE)","v":"2020-07-23"},null,{"$f":"VLOOKUP(O$5,Schedule!$A$8:$G$43,2,FALSE)","v":"2020-08-02"},null,{"$f":"VLOOKUP(Q$5,Schedule!$A$8:$G$43,2,FALSE)","v":"2020-08-08"},null,{"$f":"VLOOKUP(S$5,Schedule!$A$8:$G$43,2,FALSE)","v":"2020-08-09"},null,{"$f":"VLOOKUP(U$5,Schedule!$A$8:$G$43,2,FALSE)","v":"2020-08-16"},null,{"$f":"VLOOKUP(W$5,Schedule!$A$8:$G$43,2,FALSE)","v":"2020-08-22"},null,{"$f":"VLOOKUP(Y$5,Schedule!$A$8:$G$43,2,FALSE)","v":"2020-08-23"},null,{"$f":"VLOOKUP(AA$5,Schedule!$A$8:$G$43,2,FALSE)","v":"2020-08-29"}]
[null,null,null,null,null,null,null,null,null,null,null,null,{"$f":"VLOOKUP(M$5,Schedule!$A$8:$G$43,3,FALSE)","v":"Super Start Batteries 400"},null,{"$f":"VLOOKUP(O$5,Schedule!$A$8:$G$43,3,FALSE)","v":"Foxwoods Resort Casino 301"},null,{"$f":"VLOOKUP(Q$5,Schedule!$A$8:$G$43,3,FALSE)","v":"FireKeepers Casino 500"},null,{"$f":"VLOOKUP(S$5,Schedule!$A$8:$G$43,3,FALSE)","v":"Consumers Energy 500"},null,{"$f":"VLOOKUP(U$5,Schedule!$A$8:$G$43,3,FALSE)","v":"Go Bowling at The Glen"},null,{"$f":"VLOOKUP(W$5,Schedule!$A$8:$G$43,3,FALSE)","v":"Drydene 311 (Sat)"},null,{"$f":"VLOOKUP(Y$5,Schedule!$A$8:$G$43,3,FALSE)","v":"Drydene 311 (Sun)"},null,{"$f":"VLOOKUP(AA$5,Schedule!$A$8:$G$43,3,FALSE)","v":"Coke Zero Sugar 400"}]
[null,null,null,null,null,null,null,null,null,null,null,null,{"$f":"VLOOKUP(M$5,Schedule!$A$8:$G$43,2,FALSE)","v":"2020-07-23"},null,{"$f":"VLOOKUP(O$5,Schedule!$A$8:$G$43,2,FALSE)","v":"2020-08-02"},null,{"$f":"VLOOKUP(Q$5,Schedule!$A$8:$G$43,2,FALSE)","v":"2020-08-08"},null,{"$f":"VLOOKUP(S$5,Schedule!$A$8:$G$43,2,FALSE)","v":"2020-08-09"},null,{"$f":"VLOOKUP(U$5,Schedule!$A$8:$G$43,2,FALSE)","v":"2020-08-16"},null,{"$f":"VLOOKUP(W$5,Schedule!$A$8:$G$43,2,FALSE)","v":"2020-08-22"},null,{"$f":"VLOOKUP(Y$5,Schedule!$A$8:$G$43,2,FALSE)","v":"2020-08-23"},null,{"$f":"VLOOKUP(AA$5,Schedule!$A$8:$G$43,2,FALSE)","v":"2020-08-29"}]
[null,null,null,null,null,null,null,null,null,null,null,null,{"$f":"VLOOKUP(M$5,Schedule!$A$4:$G$43,5,FALSE)","v":"Kansas "},null,{"$f":"VLOOKUP(O$5,Schedule!$A$4:$G$43,5,FALSE)","v":"New Hamp"},null,{"$f":"VLOOKUP(Q$5,Schedule!$A$4:$G$43,5,FALSE)","v":"Michigan (Sat)"},null,{"$f":"VLOOKUP(S$5,Schedule!$A$4:$G$43,5,FALSE)","v":"Michigan (Sun)"},null,{"$f":"VLOOKUP(U$5,Schedule!$A$4:$G$43,5,FALSE)","v":"Daytona (Road)"},null,{"$f":"VLOOKUP(W$5,Schedule!$A$4:$G$43,5,FALSE)","v":"Dover (Sat)"},null,{"$f":"VLOOKUP(Y$5,Schedule!$A$4:$G$43,5,FALSE)","v":"Dover (Sun)"},null,{"$f":"VLOOKUP(AA$5,Schedule!$A$4:$G$43,5,FALSE)","v":"Daytona "}]
["Owner","Week","Week","Week","Week","Week","Week","Week","Week",2,3,4,19,null,20,null,21,null,22,null,23,null,24,null,25,null,26,null,"Total"]
["Points",19,20,21,22,23,24,25,26,"Driver","Make","Sponsor","Points","Bonus","Points","Bonus","Points","Bonus","Points","Bonus","Points","Bonus","Points","Bonus","Points","Bonus","Points","Bonus","Points"]
[{"$f":"VLOOKUP(HLOOKUP('Pick Distribution'!$P$2,$B$6:$I$15,$J$5),'Current Owner Standings'!$A$71:$B$480,2,FALSE)","v":1},4,4,4,4,4,4,4,4,{"$f":"IF(ISNA(VLOOKUP($I7,'Cars & Results'!$A$6:$I$317,J$5,FALSE)),\"Invalid Number\",VLOOKUP($I7,'Cars & Results'!$A$6:$K$317,J$5,FALSE))","v":"Kevin Harvick"},{"$f":"IF(ISNA(VLOOKUP($I7,'Cars & Results'!$A$6:$I$317,K$5,FALSE)),\"Invalid Number\",VLOOKUP($I7,'Cars & Results'!$A$6:$K$317,K$5,FALSE))","v":"Ford"},{"$f":"IF(ISNA(VLOOKUP($I7,'Cars & Results'!$A$6:$I$317,L$5,FALSE)),\"Invalid Number\",VLOOKUP($I7,'Cars & Results'!$A$6:$K$317,L$5,FALSE))","v":"Stewart-Haas Racing"},{"$f":"IF(HLOOKUP(M$5,$B$6:$I$15,Points!$A3+1,FALSE)=\"TBD\",\"\",VLOOKUP(HLOOKUP(M$5,$B$6:$I$15,Points!$A3+1,FALSE),'Cars & Results'!$A$7:$BZ$317,2*M$5+6,FALSE))","v":42},{"$f":"IF(HLOOKUP(M$5,$B$6:$I$15,Points!$A3+1,FALSE)=\"TBD\",\"\",0)","v":0},{"$f":"IF(HLOOKUP(O$5,$B$6:$I$15,Points!$A3+1,FALSE)=\"TBD\",\"\",VLOOKUP(HLOOKUP(O$5,$B$6:$I$15,Points!$A3+1,FALSE),'Cars & Results'!$A$7:$BZ$317,2*O$5+6,FALSE))","v":40},{"$f":"IF(HLOOKUP(O$5,$B$6:$I$15,Points!$A3+1,FALSE)=\"TBD\",\"\",0)","v":0},{"$f":"IF(HLOOKUP(Q$5,$B$6:$I$15,Points!$A3+1,FALSE)=\"TBD\",\"\",VLOOKUP(HLOOKUP(Q$5,$B$6:$I$15,Points!$A3+1,FALSE),'Cars & Results'!$A$7:$BZ$317,2*Q$5+6,FALSE))","v":60},{"$f":"IF(HLOOKUP(Q$5,$B$6:$I$15,Points!$A3+1,FALSE)=\"TBD\",\"\",0)","v":0},{"$f":"IF(HLOOKUP(S$5,$B$6:$I$15,Points!$A3+1,FALSE)=\"TBD\",\"\",VLOOKUP(HLOOKUP(S$5,$B$6:$I$15,Points!$A3+1,FALSE),'Cars & Results'!$A$7:$BZ$317,2*S$5+6,FALSE))","v":53},{"$f":"IF(HLOOKUP(S$5,$B$6:$I$15,Points!$A3+1,FALSE)=\"TBD\",\"\",0)","v":0},{"$f":"IF(HLOOKUP(U$5,$B$6:$I$15,Points!$A3+1,FALSE)=\"TBD\",\"\",VLOOKUP(HLOOKUP(U$5,$B$6:$I$15,Points!$A3+1,FALSE),'Cars & Results'!$A$7:$BZ$317,2*U$5+6,FALSE))","v":23},{"$f":"IF(HLOOKUP(U$5,$B$6:$I$15,Points!$A3+1,FALSE)=\"TBD\",\"\",0)","v":0},{"$f":"IF(HLOOKUP(W$5,$B$6:$I$15,Points!$A3+1,FALSE)=\"TBD\",\"\",VLOOKUP(HLOOKUP(W$5,$B$6:$I$15,Points!$A3+1,FALSE),'Cars & Results'!$A$7:$BZ$317,2*W$5+6,FALSE))","v":42},{"$f":"IF(HLOOKUP(W$5,$B$6:$I$15,Points!$A3+1,FALSE)=\"TBD\",\"\",0)","v":0},{"$f":"IF(HLOOKUP(Y$5,$B$6:$I$15,Points!$A3+1,FALSE)=\"TBD\",\"\",VLOOKUP(HLOOKUP(Y$5,$B$6:$I$15,Points!$A3+1,FALSE),'Cars & Results'!$A$7:$BZ$317,2*Y$5+6,FALSE))","v":60},{"$f":"IF(HLOOKUP(Y$5,$B$6:$I$15,Points!$A3+1,FALSE)=\"TBD\",\"\",0)","v":0},{"$f":"IF(HLOOKUP(AA$5,$B$6:$I$15,Points!$A3+1,FALSE)=\"TBD\",\"\",VLOOKUP(HLOOKUP(AA$5,$B$6:$I$15,Points!$A3+1,FALSE),'Cars & Results'!$A$7:$BZ$317,2*AA$5+6,FALSE))","v":17},{"$f":"IF(HLOOKUP(AA$5,$B$6:$I$15,Points!$A3+1,FALSE)=\"TBD\",\"\",0)","v":0}]
[{"$f":"VLOOKUP(HLOOKUP('Pick Distribution'!$P$2,$B$6:$I$15,3),'Current Owner Standings'!$A$71:$B$480,2,FALSE)","v":15},48,18,18,18,18,48,48,48,{"$f":"IF(ISNA(VLOOKUP($I8,'Cars & Results'!$A$6:$I$317,J$5,FALSE)),\"Invalid Number\",VLOOKUP($I8,'Cars & Results'!$A$6:$K$317,J$5,FALSE))","v":"Jimmie Johnson"},{"$f":"IF(ISNA(VLOOKUP($I8,'Cars & Results'!$A$6:$I$317,K$5,FALSE)),\"Invalid Number\",VLOOKUP($I8,'Cars & Results'!$A$6:$K$317,K$5,FALSE))","v":"Chevrolet"},{"$f":"IF(ISNA(VLOOKUP($I8,'Cars & Results'!$A$6:$I$317,L$5,FALSE)),\"Invalid Number\",VLOOKUP($I8,'Cars & Results'!$A$6:$K$317,L$5,FALSE))","v":"Hendrick Motorsports"},{"$f":"IF(HLOOKUP(M$5,$B$6:$I$15,Points!$A4+1,FALSE)=\"TBD\",\"\",VLOOKUP(HLOOKUP(M$5,$B$6:$I$15,Points!$A4+1,FALSE),'Cars & Results'!$A$7:$BZ$317,2*M$5+6,FALSE))","v":7},{"$f":"IF(HLOOKUP(M$5,$B$6:$I$15,Points!$A4+1,FALSE)=\"TBD\",\"\",IF(VLOOKUP(HLOOKUP(M$5,$B$6:$I$15,Points!$A4+1,FALSE),'Cars & Results'!$A$7:$BZ$317,2*M$5+5)=1,M8*0.25,0))","v":0},{"$f":"IF(HLOOKUP(O$5,$B$6:$I$15,Points!$A4+1,FALSE)=\"TBD\",\"\",VLOOKUP(HLOOKUP(O$5,$B$6:$I$15,Points!$A4+1,FALSE),'Cars & Results'!$A$7:$BZ$317,2*O$5+6,FALSE))","v":1},{"$f":"IF(HLOOKUP(O$5,$B$6:$I$15,Points!$A4+1,FALSE)=\"TBD\",\"\",IF(VLOOKUP(HLOOKUP(O$5,$B$6:$I$15,Points!$A4+1,FALSE),'Cars & Results'!$A$7:$BZ$317,2*O$5+5)=1,O8*0.25,0))","v":0},{"$f":"IF(HLOOKUP(Q$5,$B$6:$I$15,Points!$A4+1,FALSE)=\"TBD\",\"\",VLOOKUP(HLOOKUP(Q$5,$B$6:$I$15,Points!$A4+1,FALSE),'Cars & Results'!$A$7:$BZ$317,2*Q$5+6,FALSE))","v":39},{"$f":"IF(HLOOKUP(Q$5,$B$6:$I$15,Points!$A4+1,FALSE)=\"TBD\",\"\",IF(VLOOKUP(HLOOKUP(Q$5,$B$6:$I$15,Points!$A4+1,FALSE),'Cars & Results'!$A$7:$BZ$317,2*Q$5+5)=1,Q8*0.25,0))","v":0},{"$f":"IF(HLOOKUP(S$5,$B$6:$I$15,Points!$A4+1,FALSE)=\"TBD\",\"\",VLOOKUP(HLOOKUP(S$5,$B$6:$I$15,Points!$A4+1,FALSE),'Cars & Results'!$A$7:$BZ$317,2*S$5+6,FALSE))","v":49},{"$f":"IF(HLOOKUP(S$5,$B$6:$I$15,Points!$A4+1,FALSE)=\"TBD\",\"\",IF(VLOOKUP(HLOOKUP(S$5,$B$6:$I$15,Points!$A4+1,FALSE),'Cars & Results'!$A$7:$BZ$317,2*S$5+5)=1,S8*0.25,0))","v":0},{"$f":"IF(HLOOKUP(U$5,$B$6:$I$15,Points!$A4+1,FALSE)=\"TBD\",\"\",VLOOKUP(HLOOKUP(U$5,$B$6:$I$15,Points!$A4+1,FALSE),'Cars & Results'!$A$7:$BZ$317,2*U$5+6,FALSE))","v":1},{"$f":"IF(HLOOKUP(U$5,$B$6:$I$15,Points!$A4+1,FALSE)=\"TBD\",\"\",IF(VLOOKUP(HLOOKUP(U$5,$B$6:$I$15,Points!$A4+1,FALSE),'Cars & Results'!$A$7:$BZ$317,2*U$5+5)=1,U8*0.25,0))","v":0},{"$f":"IF(HLOOKUP(W$5,$B$6:$I$15,Points!$A4+1,FALSE)=\"TBD\",\"\",VLOOKUP(HLOOKUP(W$5,$B$6:$I$15,Points!$A4+1,FALSE),'Cars & Results'!$A$7:$BZ$317,2*W$5+6,FALSE))","v":37},{"$f":"IF(HLOOKUP(W$5,$B$6:$I$15,Points!$A4+1,FALSE)=\"TBD\",\"\",IF(VLOOKUP(HLOOKUP(W$5,$B$6:$I$15,Points!$A4+1,FALSE),'Cars & Results'!$A$7:$BZ$317,2*W$5+5)=1,W8*0.25,0))","v":0},{"$f":"IF(HLOOKUP(Y$5,$B$6:$I$15,Points!$A4+1,FALSE)=\"TBD\",\"\",VLOOKUP(HLOOKUP(Y$5,$B$6:$I$15,Points!$A4+1,FALSE),'Cars & Results'!$A$7:$BZ$317,2*Y$5+6,FALSE))","v":39},{"$f":"IF(HLOOKUP(Y$5,$B$6:$I$15,Points!$A4+1,FALSE)=\"TBD\",\"\",IF(VLOOKUP(HLOOKUP(Y$5,$B$6:$I$15,Points!$A4+1,FALSE),'Cars & Results'!$A$7:$BZ$317,2*Y$5+5)=1,Y8*0.25,0))","v":0},{"$f":"IF(HLOOKUP(AA$5,$B$6:$I$15,Points!$A4+1,FALSE)=\"TBD\",\"\",VLOOKUP(HLOOKUP(AA$5,$B$6:$I$15,Points!$A4+1,FALSE),'Cars & Results'!$A$7:$BZ$317,2*AA$5+6,FALSE))","v":32},{"$f":"IF(HLOOKUP(AA$5,$B$6:$I$15,Points!$A4+1,FALSE)=\"TBD\",\"\",IF(VLOOKUP(HLOOKUP(AA$5,$B$6:$I$15,Points!$A4+1,FALSE),'Cars & Results'!$A$7:$BZ$317,2*AA$5+5)=1,AA8*0.25,0))","v":0}]
[{"$f":"VLOOKUP(HLOOKUP('Pick Distribution'!$P$2,$B$6:$I$15,4),'Current Owner Standings'!$A$71:$B$480,2,FALSE)","v":18},8,3,20,48,8,8,8,8,{"$f":"IF(ISNA(VLOOKUP($I9,'Cars & Results'!$A$6:$I$317,J$5,FALSE)),\"Invalid Number\",VLOOKUP($I9,'Cars & Results'!$A$6:$K$317,J$5,FALSE))","v":"Tyler Reddick (R)"},{"$f":"IF(ISNA(VLOOKUP($I9,'Cars & Results'!$A$6:$I$317,K$5,FALSE)),\"Invalid Number\",VLOOKUP($I9,'Cars & Results'!$A$6:$K$317,K$5,FALSE))","v":"Chevrolet"},{"$f":"IF(ISNA(VLOOKUP($I9,'Cars & Results'!$A$6:$I$317,L$5,FALSE)),\"Invalid Number\",VLOOKUP($I9,'Cars & Results'!$A$6:$K$317,L$5,FALSE))","v":"Richard Childress Racing"},{"$f":"IF(HLOOKUP(M$5,$B$6:$I$15,Points!$A5+1,FALSE)=\"TBD\",\"\",VLOOKUP(HLOOKUP(M$5,$B$6:$I$15,Points!$A5+1,FALSE),'Cars & Results'!$A$7:$BZ$317,2*M$5+6,FALSE))","v":29},{"$f":"IF(HLOOKUP(M$5,$B$6:$I$15,Points!$A5+1,FALSE)=\"TBD\",\"\",IF(VLOOKUP(HLOOKUP(M$5,$B$6:$I$15,Points!$A5+1,FALSE),'Cars & Results'!$A$7:$BZ$317,2*M$5+5)<=5,M9*0.5,0))","v":0},{"$f":"IF(HLOOKUP(O$5,$B$6:$I$15,Points!$A5+1,FALSE)=\"TBD\",\"\",VLOOKUP(HLOOKUP(O$5,$B$6:$I$15,Points!$A5+1,FALSE),'Cars & Results'!$A$7:$BZ$317,2*O$5+6,FALSE))","v":28},{"$f":"IF(HLOOKUP(O$5,$B$6:$I$15,Points!$A5+1,FALSE)=\"TBD\",\"\",IF(VLOOKUP(HLOOKUP(O$5,$B$6:$I$15,Points!$A5+1,FALSE),'Cars & Results'!$A$7:$BZ$317,2*O$5+5)<=5,O9*0.5,0))","v":0},{"$f":"IF(HLOOKUP(Q$5,$B$6:$I$15,Points!$A5+1,FALSE)=\"TBD\",\"\",VLOOKUP(HLOOKUP(Q$5,$B$6:$I$15,Points!$A5+1,FALSE),'Cars & Results'!$A$7:$BZ$317,2*Q$5+6,FALSE))","v":38},{"$f":"IF(HLOOKUP(Q$5,$B$6:$I$15,Points!$A5+1,FALSE)=\"TBD\",\"\",IF(VLOOKUP(HLOOKUP(Q$5,$B$6:$I$15,Points!$A5+1,FALSE),'Cars & Results'!$A$7:$BZ$317,2*Q$5+5)<=5,Q9*0.5,0))","v":0},{"$f":"IF(HLOOKUP(S$5,$B$6:$I$15,Points!$A5+1,FALSE)=\"TBD\",\"\",VLOOKUP(HLOOKUP(S$5,$B$6:$I$15,Points!$A5+1,FALSE),'Cars & Results'!$A$7:$BZ$317,2*S$5+6,FALSE))","v":26},{"$f":"IF(HLOOKUP(S$5,$B$6:$I$15,Points!$A5+1,FALSE)=\"TBD\",\"\",IF(VLOOKUP(HLOOKUP(S$5,$B$6:$I$15,Points!$A5+1,FALSE),'Cars & Results'!$A$7:$BZ$317,2*S$5+5)<=5,S9*0.5,0))","v":0},{"$f":"IF(HLOOKUP(U$5,$B$6:$I$15,Points!$A5+1,FALSE)=\"TBD\",\"\",VLOOKUP(HLOOKUP(U$5,$B$6:$I$15,Points!$A5+1,FALSE),'Cars & Results'!$A$7:$BZ$317,2*U$5+6,FALSE))","v":19},{"$f":"IF(HLOOKUP(U$5,$B$6:$I$15,Points!$A5+1,FALSE)=\"TBD\",\"\",IF(VLOOKUP(HLOOKUP(U$5,$B$6:$I$15,Points!$A5+1,FALSE),'Cars & Results'!$A$7:$BZ$317,2*U$5+5)<=5,U9*0.5,0))","v":0},{"$f":"IF(HLOOKUP(W$5,$B$6:$I$15,Points!$A5+1,FALSE)=\"TBD\",\"\",VLOOKUP(HLOOKUP(W$5,$B$6:$I$15,Points!$A5+1,FALSE),'Cars & Results'!$A$7:$BZ$317,2*W$5+6,FALSE))","v":24},{"$f":"IF(HLOOKUP(W$5,$B$6:$I$15,Points!$A5+1,FALSE)=\"TBD\",\"\",IF(VLOOKUP(HLOOKUP(W$5,$B$6:$I$15,Points!$A5+1,FALSE),'Cars & Results'!$A$7:$BZ$317,2*W$5+5)<=5,W9*0.5,0))","v":0},{"$f":"IF(HLOOKUP(Y$5,$B$6:$I$15,Points!$A5+1,FALSE)=\"TBD\",\"\",VLOOKUP(HLOOKUP(Y$5,$B$6:$I$15,Points!$A5+1,FALSE),'Cars & Results'!$A$7:$BZ$317,2*Y$5+6,FALSE))","v":19},{"$f":"IF(HLOOKUP(Y$5,$B$6:$I$15,Points!$A5+1,FALSE)=\"TBD\",\"\",IF(VLOOKUP(HLOOKUP(Y$5,$B$6:$I$15,Points!$A5+1,FALSE),'Cars & Results'!$A$7:$BZ$317,2*Y$5+5)<=5,Y9*0.5,0))","v":0},{"$f":"IF(HLOOKUP(AA$5,$B$6:$I$15,Points!$A5+1,FALSE)=\"TBD\",\"\",VLOOKUP(HLOOKUP(AA$5,$B$6:$I$15,Points!$A5+1,FALSE),'Cars & Results'!$A$7:$BZ$317,2*AA$5+6,FALSE))","v":16},{"$f":"IF(HLOOKUP(AA$5,$B$6:$I$15,Points!$A5+1,FALSE)=\"TBD\",\"\",IF(VLOOKUP(HLOOKUP(AA$5,$B$6:$I$15,Points!$A5+1,FALSE),'Cars & Results'!$A$7:$BZ$317,2*AA$5+5)<=5,AA9*0.5,0))","v":0}]
[{"$f":"VLOOKUP(HLOOKUP('Pick Distribution'!$P$2,$B$6:$I$15,5),'Current Owner Standings'!$A$71:$B$480,2,FALSE)","v":21},20,42,42,42,42,95,95,95,{"$f":"IF(ISNA(VLOOKUP($I10,'Cars & Results'!$A$6:$I$317,J$5,FALSE)),\"Invalid Number\",VLOOKUP($I10,'Cars & Results'!$A$6:$K$317,J$5,FALSE))","v":"Christopher Bell (R)"},{"$f":"IF(ISNA(VLOOKUP($I10,'Cars & Results'!$A$6:$I$317,K$5,FALSE)),\"Invalid Number\",VLOOKUP($I10,'Cars & Results'!$A$6:$K$317,K$5,FALSE))","v":"Toyota"},{"$f":"IF(ISNA(VLOOKUP($I10,'Cars & Results'!$A$6:$I$317,L$5,FALSE)),\"Invalid Number\",VLOOKUP($I10,'Cars & Results'!$A$6:$K$317,L$5,FALSE))","v":"Leavine Family Racing"},{"$f":"IF(HLOOKUP(M$5,$B$6:$I$15,Points!$A6+1,FALSE)=\"TBD\",\"\",VLOOKUP(HLOOKUP(M$5,$B$6:$I$15,Points!$A6+1,FALSE),'Cars & Results'!$A$7:$BZ$317,2*M$5+6,FALSE))","v":37},{"$f":"IF(HLOOKUP(M$5,$B$6:$I$15,Points!$A6+1,FALSE)=\"TBD\",\"\",IF(VLOOKUP(HLOOKUP(M$5,$B$6:$I$15,Points!$A6+1,FALSE),'Cars & Results'!$A$7:$BZ$317,2*M$5+5)<=5,M10*0.5,0))","v":18.5},{"$f":"IF(HLOOKUP(O$5,$B$6:$I$15,Points!$A6+1,FALSE)=\"TBD\",\"\",VLOOKUP(HLOOKUP(O$5,$B$6:$I$15,Points!$A6+1,FALSE),'Cars & Results'!$A$7:$BZ$317,2*O$5+6,FALSE))","v":1},{"$f":"IF(HLOOKUP(O$5,$B$6:$I$15,Points!$A6+1,FALSE)=\"TBD\",\"\",IF(VLOOKUP(HLOOKUP(O$5,$B$6:$I$15,Points!$A6+1,FALSE),'Cars & Results'!$A$7:$BZ$317,2*O$5+5)<=5,O10*0.5,0))","v":0},{"$f":"IF(HLOOKUP(Q$5,$B$6:$I$15,Points!$A6+1,FALSE)=\"TBD\",\"\",VLOOKUP(HLOOKUP(Q$5,$B$6:$I$15,Points!$A6+1,FALSE),'Cars & Results'!$A$7:$BZ$317,2*Q$5+6,FALSE))","v":20},{"$f":"IF(HLOOKUP(Q$5,$B$6:$I$15,Points!$A6+1,FALSE)=\"TBD\",\"\",IF(VLOOKUP(HLOOKUP(Q$5,$B$6:$I$15,Points!$A6+1,FALSE),'Cars & Results'!$A$7:$BZ$317,2*Q$5+5)<=5,Q10*0.5,0))","v":0},{"$f":"IF(HLOOKUP(S$5,$B$6:$I$15,Points!$A6+1,FALSE)=\"TBD\",\"\",VLOOKUP(HLOOKUP(S$5,$B$6:$I$15,Points!$A6+1,FALSE),'Cars & Results'!$A$7:$BZ$317,2*S$5+6,FALSE))","v":22},{"$f":"IF(HLOOKUP(S$5,$B$6:$I$15,Points!$A6+1,FALSE)=\"TBD\",\"\",IF(VLOOKUP(HLOOKUP(S$5,$B$6:$I$15,Points!$A6+1,FALSE),'Cars & Results'!$A$7:$BZ$317,2*S$5+5)<=5,S10*0.5,0))","v":0},{"$f":"IF(HLOOKUP(U$5,$B$6:$I$15,Points!$A6+1,FALSE)=\"TBD\",\"\",VLOOKUP(HLOOKUP(U$5,$B$6:$I$15,Points!$A6+1,FALSE),'Cars & Results'!$A$7:$BZ$317,2*U$5+6,FALSE))","v":11},{"$f":"IF(HLOOKUP(U$5,$B$6:$I$15,Points!$A6+1,FALSE)=\"TBD\",\"\",IF(VLOOKUP(HLOOKUP(U$5,$B$6:$I$15,Points!$A6+1,FALSE),'Cars & Results'!$A$7:$BZ$317,2*U$5+5)<=5,U10*0.5,0))","v":0},{"$f":"IF(HLOOKUP(W$5,$B$6:$I$15,Points!$A6+1,FALSE)=\"TBD\",\"\",VLOOKUP(HLOOKUP(W$5,$B$6:$I$15,Points!$A6+1,FALSE),'Cars & Results'!$A$7:$BZ$317,2*W$5+6,FALSE))","v":15},{"$f":"IF(HLOOKUP(W$5,$B$6:$I$15,Points!$A6+1,FALSE)=\"TBD\",\"\",IF(VLOOKUP(HLOOKUP(W$5,$B$6:$I$15,Points!$A6+1,FALSE),'Cars & Results'!$A$7:$BZ$317,2*W$5+5)<=5,W10*0.5,0))","v":0},{"$f":"IF(HLOOKUP(Y$5,$B$6:$I$15,Points!$A6+1,FALSE)=\"TBD\",\"\",VLOOKUP(HLOOKUP(Y$5,$B$6:$I$15,Points!$A6+1,FALSE),'Cars & Results'!$A$7:$BZ$317,2*Y$5+6,FALSE))","v":10},{"$f":"IF(HLOOKUP(Y$5,$B$6:$I$15,Points!$A6+1,FALSE)=\"TBD\",\"\",IF(VLOOKUP(HLOOKUP(Y$5,$B$6:$I$15,Points!$A6+1,FALSE),'Cars & Results'!$A$7:$BZ$317,2*Y$5+5)<=5,Y10*0.5,0))","v":0},{"$f":"IF(HLOOKUP(AA$5,$B$6:$I$15,Points!$A6+1,FALSE)=\"TBD\",\"\",VLOOKUP(HLOOKUP(AA$5,$B$6:$I$15,Points!$A6+1,FALSE),'Cars & Results'!$A$7:$BZ$317,2*AA$5+6,FALSE))","v":30},{"$f":"IF(HLOOKUP(AA$5,$B$6:$I$15,Points!$A6+1,FALSE)=\"TBD\",\"\",IF(VLOOKUP(HLOOKUP(AA$5,$B$6:$I$15,Points!$A6+1,FALSE),'Cars & Results'!$A$7:$BZ$317,2*AA$5+5)<=5,AA10*0.5,0))","v":0}]
[{"$f":"VLOOKUP(HLOOKUP('Pick Distribution'!$P$2,$B$6:$I$15,6),'Current Owner Standings'!$A$71:$B$480,2,FALSE)","v":25},32,32,32,32,32,32,32,47,{"$f":"IF(ISNA(VLOOKUP($I11,'Cars & Results'!$A$6:$I$317,J$5,FALSE)),\"Invalid Number\",VLOOKUP($I11,'Cars & Results'!$A$6:$K$317,J$5,FALSE))","v":"Ricky Stenhouse Jr."},{"$f":"IF(ISNA(VLOOKUP($I11,'Cars & Results'!$A$6:$I$317,K$5,FALSE)),\"Invalid Number\",VLOOKUP($I11,'Cars & Results'!$A$6:$K$317,K$5,FALSE))","v":"Chevrolet"},{"$f":"IF(ISNA(VLOOKUP($I11,'Cars & Results'!$A$6:$I$317,L$5,FALSE)),\"Invalid Number\",VLOOKUP($I11,'Cars & Results'!$A$6:$K$317,L$5,FALSE))","v":"JTG Daugherty Racing"},{"$f":"IF(HLOOKUP(M$5,$B$6:$I$15,Points!$A7+1,FALSE)=\"TBD\",\"\",VLOOKUP(HLOOKUP(M$5,$B$6:$I$15,Points!$A7+1,FALSE),'Cars & Results'!$A$7:$BZ$317,2*M$5+6,FALSE))","v":16},{"$f":"IF(HLOOKUP(M$5,$B$6:$I$15,Points!$A7+1,FALSE)=\"TBD\",\"\",IF(VLOOKUP(HLOOKUP(M$5,$B$6:$I$15,Points!$A7+1,FALSE),'Cars & Results'!$A$7:$BZ$317,2*M$5+5)<=10,M11*1.5,0))","v":0},{"$f":"IF(HLOOKUP(O$5,$B$6:$I$15,Points!$A7+1,FALSE)=\"TBD\",\"\",VLOOKUP(HLOOKUP(O$5,$B$6:$I$15,Points!$A7+1,FALSE),'Cars & Results'!$A$7:$BZ$317,2*O$5+6,FALSE))","v":2},{"$f":"IF(HLOOKUP(O$5,$B$6:$I$15,Points!$A7+1,FALSE)=\"TBD\",\"\",IF(VLOOKUP(HLOOKUP(O$5,$B$6:$I$15,Points!$A7+1,FALSE),'Cars & Results'!$A$7:$BZ$317,2*O$5+5)<=10,O11*1.5,0))","v":0},{"$f":"IF(HLOOKUP(Q$5,$B$6:$I$15,Points!$A7+1,FALSE)=\"TBD\",\"\",VLOOKUP(HLOOKUP(Q$5,$B$6:$I$15,Points!$A7+1,FALSE),'Cars & Results'!$A$7:$BZ$317,2*Q$5+6,FALSE))","v":15},{"$f":"IF(HLOOKUP(Q$5,$B$6:$I$15,Points!$A7+1,FALSE)=\"TBD\",\"\",IF(VLOOKUP(HLOOKUP(Q$5,$B$6:$I$15,Points!$A7+1,FALSE),'Cars & Results'!$A$7:$BZ$317,2*Q$5+5)<=10,Q11*1.5,0))","v":0},{"$f":"IF(HLOOKUP(S$5,$B$6:$I$15,Points!$A7+1,FALSE)=\"TBD\",\"\",VLOOKUP(HLOOKUP(S$5,$B$6:$I$15,Points!$A7+1,FALSE),'Cars & Results'!$A$7:$BZ$317,2*S$5+6,FALSE))","v":15},{"$f":"IF(HLOOKUP(S$5,$B$6:$I$15,Points!$A7+1,FALSE)=\"TBD\",\"\",IF(VLOOKUP(HLOOKUP(S$5,$B$6:$I$15,Points!$A7+1,FALSE),'Cars & Results'!$A$7:$BZ$317,2*S$5+5)<=10,S11*1.5,0))","v":0},{"$f":"IF(HLOOKUP(U$5,$B$6:$I$15,Points!$A7+1,FALSE)=\"TBD\",\"\",VLOOKUP(HLOOKUP(U$5,$B$6:$I$15,Points!$A7+1,FALSE),'Cars & Results'!$A$7:$BZ$317,2*U$5+6,FALSE))","v":6},{"$f":"IF(HLOOKUP(U$5,$B$6:$I$15,Points!$A7+1,FALSE)=\"TBD\",\"\",IF(VLOOKUP(HLOOKUP(U$5,$B$6:$I$15,Points!$A7+1,FALSE),'Cars & Results'!$A$7:$BZ$317,2*U$5+5)<=10,U11*1.5,0))","v":0},{"$f":"IF(HLOOKUP(W$5,$B$6:$I$15,Points!$A7+1,FALSE)=\"TBD\",\"\",VLOOKUP(HLOOKUP(W$5,$B$6:$I$15,Points!$A7+1,FALSE),'Cars & Results'!$A$7:$BZ$317,2*W$5+6,FALSE))","v":8},{"$f":"IF(HLOOKUP(W$5,$B$6:$I$15,Points!$A7+1,FALSE)=\"TBD\",\"\",IF(VLOOKUP(HLOOKUP(W$5,$B$6:$I$15,Points!$A7+1,FALSE),'Cars & Results'!$A$7:$BZ$317,2*W$5+5)<=10,W11*1.5,0))","v":0},{"$f":"IF(HLOOKUP(Y$5,$B$6:$I$15,Points!$A7+1,FALSE)=\"TBD\",\"\",VLOOKUP(HLOOKUP(Y$5,$B$6:$I$15,Points!$A7+1,FALSE),'Cars & Results'!$A$7:$BZ$317,2*Y$5+6,FALSE))","v":14},{"$f":"IF(HLOOKUP(Y$5,$B$6:$I$15,Points!$A7+1,FALSE)=\"TBD\",\"\",IF(VLOOKUP(HLOOKUP(Y$5,$B$6:$I$15,Points!$A7+1,FALSE),'Cars & Results'!$A$7:$BZ$317,2*Y$5+5)<=10,Y11*1.5,0))","v":0},{"$f":"IF(HLOOKUP(AA$5,$B$6:$I$15,Points!$A7+1,FALSE)=\"TBD\",\"\",VLOOKUP(HLOOKUP(AA$5,$B$6:$I$15,Points!$A7+1,FALSE),'Cars & Results'!$A$7:$BZ$317,2*AA$5+6,FALSE))","v":8},{"$f":"IF(HLOOKUP(AA$5,$B$6:$I$15,Points!$A7+1,FALSE)=\"TBD\",\"\",IF(VLOOKUP(HLOOKUP(AA$5,$B$6:$I$15,Points!$A7+1,FALSE),'Cars & Results'!$A$7:$BZ$317,2*AA$5+5)<=10,AA11*1.5,0))","v":0}]
[{"$f":"VLOOKUP(HLOOKUP('Pick Distribution'!$P$2,$B$6:$I$15,7),'Current Owner Standings'!$A$71:$B$480,2,FALSE)","v":24},41,95,95,6,47,6,6,6,{"$f":"IF(ISNA(VLOOKUP($I12,'Cars & Results'!$A$6:$I$317,J$5,FALSE)),\"Invalid Number\",VLOOKUP($I12,'Cars & Results'!$A$6:$K$317,J$5,FALSE))","v":"Ryan Newman"},{"$f":"IF(ISNA(VLOOKUP($I12,'Cars & Results'!$A$6:$I$317,K$5,FALSE)),\"Invalid Number\",VLOOKUP($I12,'Cars & Results'!$A$6:$K$317,K$5,FALSE))","v":"Ford"},{"$f":"IF(ISNA(VLOOKUP($I12,'Cars & Results'!$A$6:$I$317,L$5,FALSE)),\"Invalid Number\",VLOOKUP($I12,'Cars & Results'!$A$6:$K$317,L$5,FALSE))","v":"Roush Fenway Racing"},{"$f":"IF(HLOOKUP(M$5,$B$6:$I$15,Points!$A8+1,FALSE)=\"TBD\",\"\",VLOOKUP(HLOOKUP(M$5,$B$6:$I$15,Points!$A8+1,FALSE),'Cars & Results'!$A$7:$BZ$317,2*M$5+6,FALSE))","v":30},{"$f":"IF(HLOOKUP(M$5,$B$6:$I$15,Points!$A8+1,FALSE)=\"TBD\",\"\",IF(VLOOKUP(HLOOKUP(M$5,$B$6:$I$15,Points!$A8+1,FALSE),'Cars & Results'!$A$7:$BZ$317,2*M$5+5)<=10,M12*1.5,0))","v":45},{"$f":"IF(HLOOKUP(O$5,$B$6:$I$15,Points!$A8+1,FALSE)=\"TBD\",\"\",VLOOKUP(HLOOKUP(O$5,$B$6:$I$15,Points!$A8+1,FALSE),'Cars & Results'!$A$7:$BZ$317,2*O$5+6,FALSE))","v":16},{"$f":"IF(HLOOKUP(O$5,$B$6:$I$15,Points!$A8+1,FALSE)=\"TBD\",\"\",IF(VLOOKUP(HLOOKUP(O$5,$B$6:$I$15,Points!$A8+1,FALSE),'Cars & Results'!$A$7:$BZ$317,2*O$5+5)<=10,O12*1.5,0))","v":0},{"$f":"IF(HLOOKUP(Q$5,$B$6:$I$15,Points!$A8+1,FALSE)=\"TBD\",\"\",VLOOKUP(HLOOKUP(Q$5,$B$6:$I$15,Points!$A8+1,FALSE),'Cars & Results'!$A$7:$BZ$317,2*Q$5+6,FALSE))","v":24},{"$f":"IF(HLOOKUP(Q$5,$B$6:$I$15,Points!$A8+1,FALSE)=\"TBD\",\"\",IF(VLOOKUP(HLOOKUP(Q$5,$B$6:$I$15,Points!$A8+1,FALSE),'Cars & Results'!$A$7:$BZ$317,2*Q$5+5)<=10,Q12*1.5,0))","v":0},{"$f":"IF(HLOOKUP(S$5,$B$6:$I$15,Points!$A8+1,FALSE)=\"TBD\",\"\",VLOOKUP(HLOOKUP(S$5,$B$6:$I$15,Points!$A8+1,FALSE),'Cars & Results'!$A$7:$BZ$317,2*S$5+6,FALSE))","v":24},{"$f":"IF(HLOOKUP(S$5,$B$6:$I$15,Points!$A8+1,FALSE)=\"TBD\",\"\",IF(VLOOKUP(HLOOKUP(S$5,$B$6:$I$15,Points!$A8+1,FALSE),'Cars & Results'!$A$7:$BZ$317,2*S$5+5)<=10,S12*1.5,0))","v":0},{"$f":"IF(HLOOKUP(U$5,$B$6:$I$15,Points!$A8+1,FALSE)=\"TBD\",\"\",VLOOKUP(HLOOKUP(U$5,$B$6:$I$15,Points!$A8+1,FALSE),'Cars & Results'!$A$7:$BZ$317,2*U$5+6,FALSE))","v":27},{"$f":"IF(HLOOKUP(U$5,$B$6:$I$15,Points!$A8+1,FALSE)=\"TBD\",\"\",IF(VLOOKUP(HLOOKUP(U$5,$B$6:$I$15,Points!$A8+1,FALSE),'Cars & Results'!$A$7:$BZ$317,2*U$5+5)<=10,U12*1.5,0))","v":0},{"$f":"IF(HLOOKUP(W$5,$B$6:$I$15,Points!$A8+1,FALSE)=\"TBD\",\"\",VLOOKUP(HLOOKUP(W$5,$B$6:$I$15,Points!$A8+1,FALSE),'Cars & Results'!$A$7:$BZ$317,2*W$5+6,FALSE))","v":18},{"$f":"IF(HLOOKUP(W$5,$B$6:$I$15,Points!$A8+1,FALSE)=\"TBD\",\"\",IF(VLOOKUP(HLOOKUP(W$5,$B$6:$I$15,Points!$A8+1,FALSE),'Cars & Results'!$A$7:$BZ$317,2*W$5+5)<=10,W12*1.5,0))","v":0},{"$f":"IF(HLOOKUP(Y$5,$B$6:$I$15,Points!$A8+1,FALSE)=\"TBD\",\"\",VLOOKUP(HLOOKUP(Y$5,$B$6:$I$15,Points!$A8+1,FALSE),'Cars & Results'!$A$7:$BZ$317,2*Y$5+6,FALSE))","v":13},{"$f":"IF(HLOOKUP(Y$5,$B$6:$I$15,Points!$A8+1,FALSE)=\"TBD\",\"\",IF(VLOOKUP(HLOOKUP(Y$5,$B$6:$I$15,Points!$A8+1,FALSE),'Cars & Results'!$A$7:$BZ$317,2*Y$5+5)<=10,Y12*1.5,0))","v":0},{"$f":"IF(HLOOKUP(AA$5,$B$6:$I$15,Points!$A8+1,FALSE)=\"TBD\",\"\",VLOOKUP(HLOOKUP(AA$5,$B$6:$I$15,Points!$A8+1,FALSE),'Cars & Results'!$A$7:$BZ$317,2*AA$5+6,FALSE))","v":1},{"$f":"IF(HLOOKUP(AA$5,$B$6:$I$15,Points!$A8+1,FALSE)=\"TBD\",\"\",IF(VLOOKUP(HLOOKUP(AA$5,$B$6:$I$15,Points!$A8+1,FALSE),'Cars & Results'!$A$7:$BZ$317,2*AA$5+5)<=10,AA12*1.5,0))","v":0}]
[{"$f":"VLOOKUP(HLOOKUP('Pick Distribution'!$P$2,$B$6:$I$15,8),'Current Owner Standings'!$A$71:$B$480,2,FALSE)","v":31},96,37,15,15,15,96,96,96,{"$f":"IF(ISNA(VLOOKUP($I13,'Cars & Results'!$A$6:$I$317,J$5,FALSE)),\"Invalid Number\",VLOOKUP($I13,'Cars & Results'!$A$6:$K$317,J$5,FALSE))","v":"Daniel Suárez"},{"$f":"IF(ISNA(VLOOKUP($I13,'Cars & Results'!$A$6:$I$317,K$5,FALSE)),\"Invalid Number\",VLOOKUP($I13,'Cars & Results'!$A$6:$K$317,K$5,FALSE))","v":"Toyota"},{"$f":"IF(ISNA(VLOOKUP($I13,'Cars & Results'!$A$6:$I$317,L$5,FALSE)),\"Invalid Number\",VLOOKUP($I13,'Cars & Results'!$A$6:$K$317,L$5,FALSE))","v":"Gaunt Brothers Racing"},{"$f":"IF(HLOOKUP(M$5,$B$6:$I$15,Points!$A9+1,FALSE)=\"TBD\",\"\",VLOOKUP(HLOOKUP(M$5,$B$6:$I$15,Points!$A9+1,FALSE),'Cars & Results'!$A$7:$BZ$317,2*M$5+6,FALSE))","v":19},{"$f":"IF(HLOOKUP(M$5,$B$6:$I$15,Points!$A9+1,FALSE)=\"TBD\",\"\",IF(VLOOKUP(HLOOKUP(M$5,$B$6:$I$15,Points!$A9+1,FALSE),'Cars & Results'!$A$7:$BZ$317,2*M$5+5)<=10,M13*2,0))","v":0},{"$f":"IF(HLOOKUP(O$5,$B$6:$I$15,Points!$A9+1,FALSE)=\"TBD\",\"\",VLOOKUP(HLOOKUP(O$5,$B$6:$I$15,Points!$A9+1,FALSE),'Cars & Results'!$A$7:$BZ$317,2*O$5+6,FALSE))","v":23},{"$f":"IF(HLOOKUP(O$5,$B$6:$I$15,Points!$A9+1,FALSE)=\"TBD\",\"\",IF(VLOOKUP(HLOOKUP(O$5,$B$6:$I$15,Points!$A9+1,FALSE),'Cars & Results'!$A$7:$BZ$317,2*O$5+5)<=10,O13*2,0))","v":0},{"$f":"IF(HLOOKUP(Q$5,$B$6:$I$15,Points!$A9+1,FALSE)=\"TBD\",\"\",VLOOKUP(HLOOKUP(Q$5,$B$6:$I$15,Points!$A9+1,FALSE),'Cars & Results'!$A$7:$BZ$317,2*Q$5+6,FALSE))","v":1},{"$f":"IF(HLOOKUP(Q$5,$B$6:$I$15,Points!$A9+1,FALSE)=\"TBD\",\"\",IF(VLOOKUP(HLOOKUP(Q$5,$B$6:$I$15,Points!$A9+1,FALSE),'Cars & Results'!$A$7:$BZ$317,2*Q$5+5)<=10,Q13*2,0))","v":0},{"$f":"IF(HLOOKUP(S$5,$B$6:$I$15,Points!$A9+1,FALSE)=\"TBD\",\"\",VLOOKUP(HLOOKUP(S$5,$B$6:$I$15,Points!$A9+1,FALSE),'Cars & Results'!$A$7:$BZ$317,2*S$5+6,FALSE))","v":7},{"$f":"IF(HLOOKUP(S$5,$B$6:$I$15,Points!$A9+1,FALSE)=\"TBD\",\"\",IF(VLOOKUP(HLOOKUP(S$5,$B$6:$I$15,Points!$A9+1,FALSE),'Cars & Results'!$A$7:$BZ$317,2*S$5+5)<=10,S13*2,0))","v":0},{"$f":"IF(HLOOKUP(U$5,$B$6:$I$15,Points!$A9+1,FALSE)=\"TBD\",\"\",VLOOKUP(HLOOKUP(U$5,$B$6:$I$15,Points!$A9+1,FALSE),'Cars & Results'!$A$7:$BZ$317,2*U$5+6,FALSE))","v":9},{"$f":"IF(HLOOKUP(U$5,$B$6:$I$15,Points!$A9+1,FALSE)=\"TBD\",\"\",IF(VLOOKUP(HLOOKUP(U$5,$B$6:$I$15,Points!$A9+1,FALSE),'Cars & Results'!$A$7:$BZ$317,2*U$5+5)<=10,U13*2,0))","v":0},{"$f":"IF(HLOOKUP(W$5,$B$6:$I$15,Points!$A9+1,FALSE)=\"TBD\",\"\",VLOOKUP(HLOOKUP(W$5,$B$6:$I$15,Points!$A9+1,FALSE),'Cars & Results'!$A$7:$BZ$317,2*W$5+6,FALSE))","v":7},{"$f":"IF(HLOOKUP(W$5,$B$6:$I$15,Points!$A9+1,FALSE)=\"TBD\",\"\",IF(VLOOKUP(HLOOKUP(W$5,$B$6:$I$15,Points!$A9+1,FALSE),'Cars & Results'!$A$7:$BZ$317,2*W$5+5)<=10,W13*2,0))","v":0},{"$f":"IF(HLOOKUP(Y$5,$B$6:$I$15,Points!$A9+1,FALSE)=\"TBD\",\"\",VLOOKUP(HLOOKUP(Y$5,$B$6:$I$15,Points!$A9+1,FALSE),'Cars & Results'!$A$7:$BZ$317,2*Y$5+6,FALSE))","v":9},{"$f":"IF(HLOOKUP(Y$5,$B$6:$I$15,Points!$A9+1,FALSE)=\"TBD\",\"\",IF(VLOOKUP(HLOOKUP(Y$5,$B$6:$I$15,Points!$A9+1,FALSE),'Cars & Results'!$A$7:$BZ$317,2*Y$5+5)<=10,Y13*2,0))","v":0},{"$f":"IF(HLOOKUP(AA$5,$B$6:$I$15,Points!$A9+1,FALSE)=\"TBD\",\"\",VLOOKUP(HLOOKUP(AA$5,$B$6:$I$15,Points!$A9+1,FALSE),'Cars & Results'!$A$7:$BZ$317,2*AA$5+6,FALSE))","v":11},{"$f":"IF(HLOOKUP(AA$5,$B$6:$I$15,Points!$A9+1,FALSE)=\"TBD\",\"\",IF(VLOOKUP(HLOOKUP(AA$5,$B$6:$I$15,Points!$A9+1,FALSE),'Cars & Results'!$A$7:$BZ$317,2*AA$5+5)<=10,AA13*2,0))","v":0}]
[{"$f":"VLOOKUP(HLOOKUP('Pick Distribution'!$P$2,$B$6:$I$15,9),'Current Owner Standings'!$A$71:$B$480,2,FALSE)","v":37},66,66,66,66,66,66,66,66,{"$f":"IF(ISNA(VLOOKUP($I14,'Cars & Results'!$A$6:$I$317,J$5,FALSE)),\"Invalid Number\",VLOOKUP($I14,'Cars & Results'!$A$6:$K$317,J$5,FALSE))","v":"Timmy Hill (i)"},{"$f":"IF(ISNA(VLOOKUP($I14,'Cars & Results'!$A$6:$I$317,K$5,FALSE)),\"Invalid Number\",VLOOKUP($I14,'Cars & Results'!$A$6:$K$317,K$5,FALSE))","v":"Toyota"},{"$f":"IF(ISNA(VLOOKUP($I14,'Cars & Results'!$A$6:$I$317,L$5,FALSE)),\"Invalid Number\",VLOOKUP($I14,'Cars & Results'!$A$6:$K$317,L$5,FALSE))","v":"MBM Motorsports"},{"$f":"IF(HLOOKUP(M$5,$B$6:$I$15,Points!$A10+1,FALSE)=\"TBD\",\"\",VLOOKUP(HLOOKUP(M$5,$B$6:$I$15,Points!$A10+1,FALSE),'Cars & Results'!$A$7:$BZ$317,2*M$5+6,FALSE))","v":0},{"$f":"IF(HLOOKUP(M$5,$B$6:$I$15,Points!$A10+1,FALSE)=\"TBD\",\"\",IF(VLOOKUP(HLOOKUP(M$5,$B$6:$I$15,Points!$A10+1,FALSE),'Cars & Results'!$A$7:$BZ$317,2*M$5+5)<=10,M14*3,0))","v":0},{"$f":"IF(HLOOKUP(O$5,$B$6:$I$15,Points!$A10+1,FALSE)=\"TBD\",\"\",VLOOKUP(HLOOKUP(O$5,$B$6:$I$15,Points!$A10+1,FALSE),'Cars & Results'!$A$7:$BZ$317,2*O$5+6,FALSE))","v":4},{"$f":"IF(HLOOKUP(O$5,$B$6:$I$15,Points!$A10+1,FALSE)=\"TBD\",\"\",IF(VLOOKUP(HLOOKUP(O$5,$B$6:$I$15,Points!$A10+1,FALSE),'Cars & Results'!$A$7:$BZ$317,2*O$5+5)<=10,O14*3,0))","v":0},{"$f":"IF(HLOOKUP(Q$5,$B$6:$I$15,Points!$A10+1,FALSE)=\"TBD\",\"\",VLOOKUP(HLOOKUP(Q$5,$B$6:$I$15,Points!$A10+1,FALSE),'Cars & Results'!$A$7:$BZ$317,2*Q$5+6,FALSE))","v":4},{"$f":"IF(HLOOKUP(Q$5,$B$6:$I$15,Points!$A10+1,FALSE)=\"TBD\",\"\",IF(VLOOKUP(HLOOKUP(Q$5,$B$6:$I$15,Points!$A10+1,FALSE),'Cars & Results'!$A$7:$BZ$317,2*Q$5+5)<=10,Q14*3,0))","v":0},{"$f":"IF(HLOOKUP(S$5,$B$6:$I$15,Points!$A10+1,FALSE)=\"TBD\",\"\",VLOOKUP(HLOOKUP(S$5,$B$6:$I$15,Points!$A10+1,FALSE),'Cars & Results'!$A$7:$BZ$317,2*S$5+6,FALSE))","v":2},{"$f":"IF(HLOOKUP(S$5,$B$6:$I$15,Points!$A10+1,FALSE)=\"TBD\",\"\",IF(VLOOKUP(HLOOKUP(S$5,$B$6:$I$15,Points!$A10+1,FALSE),'Cars & Results'!$A$7:$BZ$317,2*S$5+5)<=10,S14*3,0))","v":0},{"$f":"IF(HLOOKUP(U$5,$B$6:$I$15,Points!$A10+1,FALSE)=\"TBD\",\"\",VLOOKUP(HLOOKUP(U$5,$B$6:$I$15,Points!$A10+1,FALSE),'Cars & Results'!$A$7:$BZ$317,2*U$5+6,FALSE))","v":8},{"$f":"IF(HLOOKUP(U$5,$B$6:$I$15,Points!$A10+1,FALSE)=\"TBD\",\"\",IF(VLOOKUP(HLOOKUP(U$5,$B$6:$I$15,Points!$A10+1,FALSE),'Cars & Results'!$A$7:$BZ$317,2*U$5+5)<=10,U14*3,0))","v":0},{"$f":"IF(HLOOKUP(W$5,$B$6:$I$15,Points!$A10+1,FALSE)=\"TBD\",\"\",VLOOKUP(HLOOKUP(W$5,$B$6:$I$15,Points!$A10+1,FALSE),'Cars & Results'!$A$7:$BZ$317,2*W$5+6,FALSE))","v":3},{"$f":"IF(HLOOKUP(W$5,$B$6:$I$15,Points!$A10+1,FALSE)=\"TBD\",\"\",IF(VLOOKUP(HLOOKUP(W$5,$B$6:$I$15,Points!$A10+1,FALSE),'Cars & Results'!$A$7:$BZ$317,2*W$5+5)<=10,W14*3,0))","v":0},{"$f":"IF(HLOOKUP(Y$5,$B$6:$I$15,Points!$A10+1,FALSE)=\"TBD\",\"\",VLOOKUP(HLOOKUP(Y$5,$B$6:$I$15,Points!$A10+1,FALSE),'Cars & Results'!$A$7:$BZ$317,2*Y$5+6,FALSE))","v":1},{"$f":"IF(HLOOKUP(Y$5,$B$6:$I$15,Points!$A10+1,FALSE)=\"TBD\",\"\",IF(VLOOKUP(HLOOKUP(Y$5,$B$6:$I$15,Points!$A10+1,FALSE),'Cars & Results'!$A$7:$BZ$317,2*Y$5+5)<=10,Y14*3,0))","v":0},{"$f":"IF(HLOOKUP(AA$5,$B$6:$I$15,Points!$A10+1,FALSE)=\"TBD\",\"\",VLOOKUP(HLOOKUP(AA$5,$B$6:$I$15,Points!$A10+1,FALSE),'Cars & Results'!$A$7:$BZ$317,2*AA$5+6,FALSE))","v":13},{"$f":"IF(HLOOKUP(AA$5,$B$6:$I$15,Points!$A10+1,FALSE)=\"TBD\",\"\",IF(VLOOKUP(HLOOKUP(AA$5,$B$6:$I$15,Points!$A10+1,FALSE),'Cars & Results'!$A$7:$BZ$317,2*AA$5+5)<=10,AA14*3,0))","v":0}]
[{"$f":"VLOOKUP(HLOOKUP('Pick Distribution'!$P$2,$B$6:$I$15,10),'Current Owner Standings'!$A$71:$B$480,2,FALSE)","v":8},2,12,9,11,19,22,24,10,{"$f":"IF(ISNA(VLOOKUP($I15,'Cars & Results'!$A$6:$I$317,J$5,FALSE)),\"Invalid Number\",VLOOKUP($I15,'Cars & Results'!$A$6:$K$317,J$5,FALSE))","v":"Aric Almirola"},{"$f":"IF(ISNA(VLOOKUP($I15,'Cars & Results'!$A$6:$I$317,K$5,FALSE)),\"Invalid Number\",VLOOKUP($I15,'Cars & Results'!$A$6:$K$317,K$5,FALSE))","v":"Ford"},{"$f":"IF(ISNA(VLOOKUP($I15,'Cars & Results'!$A$6:$I$317,L$5,FALSE)),\"Invalid Number\",VLOOKUP($I15,'Cars & Results'!$A$6:$K$317,L$5,FALSE))","v":"Stewart-Haas Racing"},{"$f":"IF(HLOOKUP(M$5,$B$6:$I$15,Points!$A11+1,FALSE)=\"TBD\",\"\",VLOOKUP(HLOOKUP(M$5,$B$6:$I$15,Points!$A11+1,FALSE),'Cars & Results'!$A$7:$BZ$317,2*M$5+6,FALSE))","v":51},51,{"$f":"IF(HLOOKUP(O$5,$B$6:$I$15,Points!$A11+1,FALSE)=\"TBD\",\"\",VLOOKUP(HLOOKUP(O$5,$B$6:$I$15,Points!$A11+1,FALSE),'Cars & Results'!$A$7:$BZ$317,2*O$5+6,FALSE))","v":22},0,{"$f":"IF(HLOOKUP(Q$5,$B$6:$I$15,Points!$A11+1,FALSE)=\"TBD\",\"\",VLOOKUP(HLOOKUP(Q$5,$B$6:$I$15,Points!$A11+1,FALSE),'Cars & Results'!$A$7:$BZ$317,2*Q$5+6,FALSE))","v":33},0,{"$f":"IF(HLOOKUP(S$5,$B$6:$I$15,Points!$A11+1,FALSE)=\"TBD\",\"\",VLOOKUP(HLOOKUP(S$5,$B$6:$I$15,Points!$A11+1,FALSE),'Cars & Results'!$A$7:$BZ$317,2*S$5+6,FALSE))","v":40},40,{"$f":"IF(HLOOKUP(U$5,$B$6:$I$15,Points!$A11+1,FALSE)=\"TBD\",\"\",VLOOKUP(HLOOKUP(U$5,$B$6:$I$15,Points!$A11+1,FALSE),'Cars & Results'!$A$7:$BZ$317,2*U$5+6,FALSE))","v":37},37,{"$f":"IF(HLOOKUP(W$5,$B$6:$I$15,Points!$A11+1,FALSE)=\"TBD\",\"\",VLOOKUP(HLOOKUP(W$5,$B$6:$I$15,Points!$A11+1,FALSE),'Cars & Results'!$A$7:$BZ$317,2*W$5+6,FALSE))","v":37},0,{"$f":"IF(HLOOKUP(Y$5,$B$6:$I$15,Points!$A11+1,FALSE)=\"TBD\",\"\",VLOOKUP(HLOOKUP(Y$5,$B$6:$I$15,Points!$A11+1,FALSE),'Cars & Results'!$A$7:$BZ$317,2*Y$5+6,FALSE))","v":46},0,{"$f":"IF(HLOOKUP(AA$5,$B$6:$I$15,Points!$A11+1,FALSE)=\"TBD\",\"\",VLOOKUP(HLOOKUP(AA$5,$B$6:$I$15,Points!$A11+1,FALSE),'Cars & Results'!$A$7:$BZ$317,2*AA$5+6,FALSE))","v":19},{"$f":"IF(HLOOKUP(AA$5,$B$6:$I$15,Points!$A11+1,FALSE)=\"TBD\",\"\",IF(AND(VLOOKUP(HLOOKUP(AA$5,$B$6:$I$15,Points!$A11+1,FALSE),'Cars & Results'!$A$7:$BZ$317,2*AA$5+5)<=3,$A$15<=25),AA15*1,IF(AND(VLOOKUP(HLOOKUP(AA$5,$B$6:$I$15,Points!$A11+1,FALSE),'Cars & Results'!$A$7:$BZ$317,2*AA$5+5)<=10,$A$15>25),AA15*3,0)))","v":0}]
[null,null,null,null,null,null,null,null,null,null,null,"Segment 1",null,{"$f":"IF(INDIRECT(ADDRESS(321,5+(M5*2),1,1,\"Cars & Results\"),TRUE)=\"Y\",IF(ISERROR(MATCH(INDIRECT(ADDRESS(318,5+(M5*2),1,1,\"Cars & Results\"),TRUE),B7:B15,0))=TRUE,0,10),\"\")","v":0},null,{"$f":"IF(INDIRECT(ADDRESS(321,5+(O5*2),1,1,\"Cars & Results\"),TRUE)=\"Y\",IF(ISERROR(MATCH(INDIRECT(ADDRESS(318,5+(O5*2),1,1,\"Cars & Results\"),TRUE),C7:C15,0))=TRUE,0,10),\"\")","v":0},null,{"$f":"IF(INDIRECT(ADDRESS(321,5+(Q5*2),1,1,\"Cars & Results\"),TRUE)=\"Y\",IF(ISERROR(MATCH(INDIRECT(ADDRESS(318,5+(Q5*2),1,1,\"Cars & Results\"),TRUE),D7:D15,0))=TRUE,0,10),\"\")","v":10},null,{"$f":"IF(INDIRECT(ADDRESS(321,5+(S5*2),1,1,\"Cars & Results\"),TRUE)=\"Y\",IF(ISERROR(MATCH(INDIRECT(ADDRESS(318,5+(S5*2),1,1,\"Cars & Results\"),TRUE),E7:E15,0))=TRUE,0,10),\"\")","v":0},null,{"$f":"IF(INDIRECT(ADDRESS(321,5+(U5*2),1,1,\"Cars & Results\"),TRUE)=\"Y\",IF(ISERROR(MATCH(INDIRECT(ADDRESS(318,5+(U5*2),1,1,\"Cars & Results\"),TRUE),F7:F15,0))=TRUE,0,10),\"\")","v":0},null,{"$f":"IF(INDIRECT(ADDRESS(321,5+(W5*2),1,1,\"Cars & Results\"),TRUE)=\"Y\",IF(ISERROR(MATCH(INDIRECT(ADDRESS(318,5+(W5*2),1,1,\"Cars & Results\"),TRUE),G7:G15,0))=TRUE,0,10),\"\")","v":0},null,{"$f":"IF(INDIRECT(ADDRESS(321,5+(Y5*2),1,1,\"Cars & Results\"),TRUE)=\"Y\",IF(ISERROR(MATCH(INDIRECT(ADDRESS(318,5+(Y5*2),1,1,\"Cars & Results\"),TRUE),H7:H15,0))=TRUE,0,10),\"\")","v":10},null,{"$f":"IF(INDIRECT(ADDRESS(321,5+(AA5*2),1,1,\"Cars & Results\"),TRUE)=\"Y\",IF(ISERROR(MATCH(INDIRECT(ADDRESS(318,5+(AA5*2),1,1,\"Cars & Results\"),TRUE),I7:I15,0))=TRUE,0,10),\"\")","v":0}]
[null,null,null,null,null,null,null,null,null,null,null,"Segment 2",null,{"$f":"IF(INDIRECT(ADDRESS(321,5+(M5*2),1,1,\"Cars & Results\"),TRUE)=\"Y\",IF(ISERROR(MATCH(INDIRECT(ADDRESS(319,5+(M5*2),1,1,\"Cars & Results\"),TRUE),B7:B15,0))=TRUE,0,10),\"\")","v":10},null,{"$f":"IF(INDIRECT(ADDRESS(321,5+(O5*2),1,1,\"Cars & Results\"),TRUE)=\"Y\",IF(ISERROR(MATCH(INDIRECT(ADDRESS(319,5+(O5*2),1,1,\"Cars & Results\"),TRUE),C7:C15,0))=TRUE,0,10),\"\")","v":0},null,{"$f":"IF(INDIRECT(ADDRESS(321,5+(Q5*2),1,1,\"Cars & Results\"),TRUE)=\"Y\",IF(ISERROR(MATCH(INDIRECT(ADDRESS(319,5+(Q5*2),1,1,\"Cars & Results\"),TRUE),D7:D15,0))=TRUE,0,10),\"\")","v":10},null,{"$f":"IF(INDIRECT(ADDRESS(321,5+(S5*2),1,1,\"Cars & Results\"),TRUE)=\"Y\",IF(ISERROR(MATCH(INDIRECT(ADDRESS(319,5+(S5*2),1,1,\"Cars & Results\"),TRUE),E7:E15,0))=TRUE,0,10),\"\")","v":10},null,{"$f":"IF(INDIRECT(ADDRESS(321,5+(U5*2),1,1,\"Cars & Results\"),TRUE)=\"Y\",IF(ISERROR(MATCH(INDIRECT(ADDRESS(319,5+(U5*2),1,1,\"Cars & Results\"),TRUE),F7:F15,0))=TRUE,0,10),\"\")","v":0},null,{"$f":"IF(INDIRECT(ADDRESS(321,5+(W5*2),1,1,\"Cars & Results\"),TRUE)=\"Y\",IF(ISERROR(MATCH(INDIRECT(ADDRESS(319,5+(W5*2),1,1,\"Cars & Results\"),TRUE),G7:G15,0))=TRUE,0,10),\"\")","v":0},null,{"$f":"IF(INDIRECT(ADDRESS(321,5+(Y5*2),1,1,\"Cars & Results\"),TRUE)=\"Y\",IF(ISERROR(MATCH(INDIRECT(ADDRESS(319,5+(Y5*2),1,1,\"Cars & Results\"),TRUE),H7:H15,0))=TRUE,0,10),\"\")","v":10},null,{"$f":"IF(INDIRECT(ADDRESS(321,5+(AA5*2),1,1,\"Cars & Results\"),TRUE)=\"Y\",IF(ISERROR(MATCH(INDIRECT(ADDRESS(319,5+(AA5*2),1,1,\"Cars & Results\"),TRUE),I7:I15,0))=TRUE,0,10),\"\")","v":0}]
[null,null,null,null,null,null,null,null,null,null,null,"Segment 3",null,{"$f":"IF(INDIRECT(ADDRESS(321,5+(M5*2),1,1,\"Cars & Results\"),TRUE)=\"Y\",IF(ISERROR(MATCH(INDIRECT(ADDRESS(320,5+(M5*2),1,1,\"Cars & Results\"),TRUE),B7:B15,0))=TRUE,0,15),\"\")","v":0},null,{"$f":"IF(INDIRECT(ADDRESS(321,5+(O5*2),1,1,\"Cars & Results\"),TRUE)=\"Y\",IF(ISERROR(MATCH(INDIRECT(ADDRESS(320,5+(O5*2),1,1,\"Cars & Results\"),TRUE),C7:C15,0))=TRUE,0,15),\"\")","v":0},null,{"$f":"IF(INDIRECT(ADDRESS(321,5+(Q5*2),1,1,\"Cars & Results\"),TRUE)=\"Y\",IF(ISERROR(MATCH(INDIRECT(ADDRESS(320,5+(Q5*2),1,1,\"Cars & Results\"),TRUE),D7:D15,0))=TRUE,0,15),\"\")","v":15},null,{"$f":"IF(INDIRECT(ADDRESS(321,5+(S5*2),1,1,\"Cars & Results\"),TRUE)=\"Y\",IF(ISERROR(MATCH(INDIRECT(ADDRESS(320,5+(S5*2),1,1,\"Cars & Results\"),TRUE),E7:E15,0))=TRUE,0,15),\"\")","v":15},null,{"$f":"IF(INDIRECT(ADDRESS(321,5+(U5*2),1,1,\"Cars & Results\"),TRUE)=\"Y\",IF(ISERROR(MATCH(INDIRECT(ADDRESS(320,5+(U5*2),1,1,\"Cars & Results\"),TRUE),F7:F15,0))=TRUE,0,15),\"\")","v":0},null,{"$f":"IF(INDIRECT(ADDRESS(321,5+(W5*2),1,1,\"Cars & Results\"),TRUE)=\"Y\",IF(ISERROR(MATCH(INDIRECT(ADDRESS(320,5+(W5*2),1,1,\"Cars & Results\"),TRUE),G7:G15,0))=TRUE,0,15),\"\")","v":0},null,{"$f":"IF(INDIRECT(ADDRESS(321,5+(Y5*2),1,1,\"Cars & Results\"),TRUE)=\"Y\",IF(ISERROR(MATCH(INDIRECT(ADDRESS(320,5+(Y5*2),1,1,\"Cars & Results\"),TRUE),H7:H15,0))=TRUE,0,15),\"\")","v":15},null,{"$f":"IF(INDIRECT(ADDRESS(321,5+(AA5*2),1,1,\"Cars & Results\"),TRUE)=\"Y\",IF(ISERROR(MATCH(INDIRECT(ADDRESS(320,5+(AA5*2),1,1,\"Cars & Results\"),TRUE),I7:I15,0))=TRUE,0,15),\"\")","v":0}]
[null,{"$f":"SUM(B7:B15)","v":317},309,301,242,251,377,379,380,null,null,null,{"$f":"SUM(M7:M15)","v":231},null,{"$f":"SUM(O7:O15)","v":137},null,{"$f":"SUM(Q7:Q15)","v":234},null,{"$f":"SUM(S7:S15)","v":238},null,{"$f":"SUM(U7:U15)","v":141},null,{"$f":"SUM(W7:W15)","v":191},null,{"$f":"SUM(Y7:Y15)","v":211},null,{"$f":"SUM(AA7:AA15)","v":147}]
[null,null,null,null,null,null,null,null,null,null,null,null,null,{"$f":"SUM(N7:N19)","v":124.5},null,{"$f":"SUM(P7:P19)","v":0},null,{"$f":"SUM(R7:R19)","v":35},null,{"$f":"SUM(T7:T19)","v":65},null,{"$f":"SUM(V7:V19)","v":37},null,{"$f":"SUM(X7:X19)","v":0},null,{"$f":"SUM(Z7:Z19)","v":35},null,{"$f":"SUM(AB7:AB19)","v":0}]
[null,null,null,null,null,null,null,null,null,null,null,"Race Total",{"$f":"M19+N20","v":355.5},null,{"$f":"O19+P20","v":137},null,{"$f":"Q19+R20","v":269},null,{"$f":"S19+T20","v":303},null,{"$f":"U19+V20","v":178},null,{"$f":"W19+X20","v":191},null,{"$f":"Y19+Z20","v":246},null,{"$f":"AA19+AB20","v":147},null,{"$f":"SUM(M21:AB21)","v":1826.5}]
[null,null,null,null,null,null,null,null,"1-8"]
[null,null,null,null,null,null,null,null,"9-16"]
[null,null,null,null,null,null,null,null,"17-23"]
[null,null,null,null,null,null,null,null,"24-30"]
[null,null,null,null,null,null,null,null,"31-35"]
[null,null,null,null,null,null,null,null,">35"]
[null,null,null,null,null,null,null,null,"Provisional"]

{"sheet":"Donna McLean","index":14,"n_rows":28,"n_cols":29,"rows_kept":28,"cut":false,"hidden":false,"merged":[[1,26,1,27],[2,26,2,27],[0,26,0,27],[4,26,4,27],[20,26,20,27],[3,26,3,27],[4,20,4,21],[4,22,4,23],[4,24,4,25],[20,12,20,13],[20,14,20,15],[20,16,20,17],[20,18,20,19],[20,20,20,21],[20,22,20,23],[20,24,20,25],[4,12,4,13],[4,14,4,15],[4,16,4,17],[4,18,4,19],[2,24,2,25],[3,24,3,25],[3,14,3,15],[3,16,3,17],[3,18,3,19],[3,20,3,21],[3,22,3,23],[2,20,2,21],[2,16,2,17],[2,18,2,19],[0,24,0,25],[1,20,1,21],[0,12,0,13],[0,14,0,15],[0,16,0,17],[0,18,0,19],[1,12,1,13],[1,14,1,15],[1,16,1,17],[1,18,1,19],[1,22,1,23],[1,24,1,25],[3,12,3,13],[2,12,2,13],[2,14,2,15],[0,20,0,21],[0,22,0,23],[2,22,2,23]]}
[null,null,null,null,null,null,null,null,null,null,null,null,{"$f":"VLOOKUP(M$5,Schedule!$A$8:$G$43,2,FALSE)","v":"2020-07-23"},null,{"$f":"VLOOKUP(O$5,Schedule!$A$8:$G$43,2,FALSE)","v":"2020-08-02"},null,{"$f":"VLOOKUP(Q$5,Schedule!$A$8:$G$43,2,FALSE)","v":"2020-08-08"},null,{"$f":"VLOOKUP(S$5,Schedule!$A$8:$G$43,2,FALSE)","v":"2020-08-09"},null,{"$f":"VLOOKUP(U$5,Schedule!$A$8:$G$43,2,FALSE)","v":"2020-08-16"},null,{"$f":"VLOOKUP(W$5,Schedule!$A$8:$G$43,2,FALSE)","v":"2020-08-22"},null,{"$f":"VLOOKUP(Y$5,Schedule!$A$8:$G$43,2,FALSE)","v":"2020-08-23"},null,{"$f":"VLOOKUP(AA$5,Schedule!$A$8:$G$43,2,FALSE)","v":"2020-08-29"}]
[null,null,null,null,null,null,null,null,null,null,null,null,{"$f":"VLOOKUP(M$5,Schedule!$A$8:$G$43,3,FALSE)","v":"Super Start Batteries 400"},null,{"$f":"VLOOKUP(O$5,Schedule!$A$8:$G$43,3,FALSE)","v":"Foxwoods Resort Casino 301"},null,{"$f":"VLOOKUP(Q$5,Schedule!$A$8:$G$43,3,FALSE)","v":"FireKeepers Casino 500"},null,{"$f":"VLOOKUP(S$5,Schedule!$A$8:$G$43,3,FALSE)","v":"Consumers Energy 500"},null,{"$f":"VLOOKUP(U$5,Schedule!$A$8:$G$43,3,FALSE)","v":"Go Bowling at The Glen"},null,{"$f":"VLOOKUP(W$5,Schedule!$A$8:$G$43,3,FALSE)","v":"Drydene 311 (Sat)"},null,{"$f":"VLOOKUP(Y$5,Schedule!$A$8:$G$43,3,FALSE)","v":"Drydene 311 (Sun)"},null,{"$f":"VLOOKUP(AA$5,Schedule!$A$8:$G$43,3,FALSE)","v":"Coke Zero Sugar 400"}]
[null,null,null,null,null,null,null,null,null,null,null,null,{"$f":"VLOOKUP(M$5,Schedule!$A$8:$G$43,2,FALSE)","v":"2020-07-23"},null,{"$f":"VLOOKUP(O$5,Schedule!$A$8:$G$43,2,FALSE)","v":"2020-08-02"},null,{"$f":"VLOOKUP(Q$5,Schedule!$A$8:$G$43,2,FALSE)","v":"2020-08-08"},null,{"$f":"VLOOKUP(S$5,Schedule!$A$8:$G$43,2,FALSE)","v":"2020-08-09"},null,{"$f":"VLOOKUP(U$5,Schedule!$A$8:$G$43,2,FALSE)","v":"2020-08-16"},null,{"$f":"VLOOKUP(W$5,Schedule!$A$8:$G$43,2,FALSE)","v":"2020-08-22"},null,{"$f":"VLOOKUP(Y$5,Schedule!$A$8:$G$43,2,FALSE)","v":"2020-08-23"},null,{"$f":"VLOOKUP(AA$5,Schedule!$A$8:$G$43,2,FALSE)","v":"2020-08-29"}]
[null,null,null,null,null,null,null,null,null,null,null,null,{"$f":"VLOOKUP(M$5,Schedule!$A$4:$G$43,5,FALSE)","v":"Kansas "},null,{"$f":"VLOOKUP(O$5,Schedule!$A$4:$G$43,5,FALSE)","v":"New Hamp"},null,{"$f":"VLOOKUP(Q$5,Schedule!$A$4:$G$43,5,FALSE)","v":"Michigan (Sat)"},null,{"$f":"VLOOKUP(S$5,Schedule!$A$4:$G$43,5,FALSE)","v":"Michigan (Sun)"},null,{"$f":"VLOOKUP(U$5,Schedule!$A$4:$G$43,5,FALSE)","v":"Daytona (Road)"},null,{"$f":"VLOOKUP(W$5,Schedule!$A$4:$G$43,5,FALSE)","v":"Dover (Sat)"},null,{"$f":"VLOOKUP(Y$5,Schedule!$A$4:$G$43,5,FALSE)","v":"Dover (Sun)"},null,{"$f":"VLOOKUP(AA$5,Schedule!$A$4:$G$43,5,FALSE)","v":"Daytona "}]
["Owner","Week","Week","Week","Week","Week","Week","Week","Week",2,3,4,19,null,20,null,21,null,22,null,23,null,24,null,25,null,26,null,"Total"]
["Points",19,20,21,22,23,24,25,26,"Driver","Make","Sponsor","Points","Bonus","Points","Bonus","Points","Bonus","Points","Bonus","Points","Bonus","Points","Bonus","Points","Bonus","Points","Bonus","Points"]
[{"$f":"VLOOKUP(HLOOKUP('Pick Distribution'!$P$2,$B$6:$I$15,$J$5),'Current Owner Standings'!$A$71:$B$480,2,FALSE)","v":1},9,9,9,4,4,4,4,4,{"$f":"IF(ISNA(VLOOKUP($I7,'Cars & Results'!$A$6:$I$317,J$5,FALSE)),\"Invalid Number\",VLOOKUP($I7,'Cars & Results'!$A$6:$K$317,J$5,FALSE))","v":"Kevin Harvick"},{"$f":"IF(ISNA(VLOOKUP($I7,'Cars & Results'!$A$6:$I$317,K$5,FALSE)),\"Invalid Number\",VLOOKUP($I7,'Cars & Results'!$A$6:$K$317,K$5,FALSE))","v":"Ford"},{"$f":"IF(ISNA(VLOOKUP($I7,'Cars & Results'!$A$6:$I$317,L$5,FALSE)),\"Invalid Number\",VLOOKUP($I7,'Cars & Results'!$A$6:$K$317,L$5,FALSE))","v":"Stewart-Haas Racing"},{"$f":"IF(HLOOKUP(M$5,$B$6:$I$15,Points!$A3+1,FALSE)=\"TBD\",\"\",VLOOKUP(HLOOKUP(M$5,$B$6:$I$15,Points!$A3+1,FALSE),'Cars & Results'!$A$7:$BZ$317,2*M$5+6,FALSE))","v":26},{"$f":"IF(HLOOKUP(M$5,$B$6:$I$15,Points!$A3+1,FALSE)=\"TBD\",\"\",0)","v":0},{"$f":"IF(HLOOKUP(O$5,$B$6:$I$15,Points!$A3+1,FALSE)=\"TBD\",\"\",VLOOKUP(HLOOKUP(O$5,$B$6:$I$15,Points!$A3+1,FALSE),'Cars & Results'!$A$7:$BZ$317,2*O$5+6,FALSE))","v":30},{"$f":"IF(HLOOKUP(O$5,$B$6:$I$15,Points!$A3+1,FALSE)=\"TBD\",\"\",0)","v":0},{"$f":"IF(HLOOKUP(Q$5,$B$6:$I$15,Points!$A3+1,FALSE)=\"TBD\",\"\",VLOOKUP(HLOOKUP(Q$5,$B$6:$I$15,Points!$A3+1,FALSE),'Cars & Results'!$A$7:$BZ$317,2*Q$5+6,FALSE))","v":33},{"$f":"IF(HLOOKUP(Q$5,$B$6:$I$15,Points!$A3+1,FALSE)=\"TBD\",\"\",0)","v":0},{"$f":"IF(HLOOKUP(S$5,$B$6:$I$15,Points!$A3+1,FALSE)=\"TBD\",\"\",VLOOKUP(HLOOKUP(S$5,$B$6:$I$15,Points!$A3+1,FALSE),'Cars & Results'!$A$7:$BZ$317,2*S$5+6,FALSE))","v":53},{"$f":"IF(HLOOKUP(S$5,$B$6:$I$15,Points!$A3+1,FALSE)=\"TBD\",\"\",0)","v":0},{"$f":"IF(HLOOKUP(U$5,$B$6:$I$15,Points!$A3+1,FALSE)=\"TBD\",\"\",VLOOKUP(HLOOKUP(U$5,$B$6:$I$15,Points!$A3+1,FALSE),'Cars & Results'!$A$7:$BZ$317,2*U$5+6,FALSE))","v":23},{"$f":"IF(HLOOKUP(U$5,$B$6:$I$15,Points!$A3+1,FALSE)=\"TBD\",\"\",0)","v":0},{"$f":"IF(HLOOKUP(W$5,$B$6:$I$15,Points!$A3+1,FALSE)=\"TBD\",\"\",VLOOKUP(HLOOKUP(W$5,$B$6:$I$15,Points!$A3+1,FALSE),'Cars & Results'!$A$7:$BZ$317,2*W$5+6,FALSE))","v":42},{"$f":"IF(HLOOKUP(W$5,$B$6:$I$15,Points!$A3+1,FALSE)=\"TBD\",\"\",0)","v":0},{"$f":"IF(HLOOKUP(Y$5,$B$6:$I$15,Points!$A3+1,FALSE)=\"TBD\",\"\",VLOOKUP(HLOOKUP(Y$5,$B$6:$I$15,Points!$A3+1,FALSE),'Cars & Results'!$A$7:$BZ$317,2*Y$5+6,FALSE))","v":60},{"$f":"IF(HLOOKUP(Y$5,$B$6:$I$15,Points!$A3+1,FALSE)=\"TBD\",\"\",0)","v":0},{"$f":"IF(HLOOKUP(AA$5,$B$6:$I$15,Points!$A3+1,FALSE)=\"TBD\",\"\",VLOOKUP(HLOOKUP(AA$5,$B$6:$I$15,Points!$A3+1,FALSE),'Cars & Results'!$A$7:$BZ$317,2*AA$5+6,FALSE))","v":17},{"$f":"IF(HLOOKUP(AA$5,$B$6:$I$15,Points!$A3+1,FALSE)=\"TBD\",\"\",0)","v":0}]
[{"$f":"VLOOKUP(HLOOKUP('Pick Distribution'!$P$2,$B$6:$I$15,3),'Current Owner Standings'!$A$71:$B$480,2,FALSE)","v":15},48,21,21,21,24,48,48,48,{"$f":"IF(ISNA(VLOOKUP($I8,'Cars & Results'!$A$6:$I$317,J$5,FALSE)),\"Invalid Number\",VLOOKUP($I8,'Cars & Results'!$A$6:$K$317,J$5,FALSE))","v":"Jimmie Johnson"},{"$f":"IF(ISNA(VLOOKUP($I8,'Cars & Results'!$A$6:$I$317,K$5,FALSE)),\"Invalid Number\",VLOOKUP($I8,'Cars & Results'!$A$6:$K$317,K$5,FALSE))","v":"Chevrolet"},{"$f":"IF(ISNA(VLOOKUP($I8,'Cars & Results'!$A$6:$I$317,L$5,FALSE)),\"Invalid Number\",VLOOKUP($I8,'Cars & Results'!$A$6:$K$317,L$5,FALSE))","v":"Hendrick Motorsports"},{"$f":"IF(HLOOKUP(M$5,$B$6:$I$15,Points!$A4+1,FALSE)=\"TBD\",\"\",VLOOKUP(HLOOKUP(M$5,$B$6:$I$15,Points!$A4+1,FALSE),'Cars & Results'!$A$7:$BZ$317,2*M$5+6,FALSE))","v":7},{"$f":"IF(HLOOKUP(M$5,$B$6:$I$15,Points!$A4+1,FALSE)=\"TBD\",\"\",IF(VLOOKUP(HLOOKUP(M$5,$B$6:$I$15,Points!$A4+1,FALSE),'Cars & Results'!$A$7:$BZ$317,2*M$5+5)=1,M8*0.25,0))","v":0},{"$f":"IF(HLOOKUP(O$5,$B$6:$I$15,Points!$A4+1,FALSE)=\"TBD\",\"\",VLOOKUP(HLOOKUP(O$5,$B$6:$I$15,Points!$A4+1,FALSE),'Cars & Results'!$A$7:$BZ$317,2*O$5+6,FALSE))","v":32},{"$f":"IF(HLOOKUP(O$5,$B$6:$I$15,Points!$A4+1,FALSE)=\"TBD\",\"\",IF(VLOOKUP(HLOOKUP(O$5,$B$6:$I$15,Points!$A4+1,FALSE),'Cars & Results'!$A$7:$BZ$317,2*O$5+5)=1,O8*0.25,0))","v":0},{"$f":"IF(HLOOKUP(Q$5,$B$6:$I$15,Points!$A4+1,FALSE)=\"TBD\",\"\",VLOOKUP(HLOOKUP(Q$5,$B$6:$I$15,Points!$A4+1,FALSE),'Cars & Results'!$A$7:$BZ$317,2*Q$5+6,FALSE))","v":22},{"$f":"IF(HLOOKUP(Q$5,$B$6:$I$15,Points!$A4+1,FALSE)=\"TBD\",\"\",IF(VLOOKUP(HLOOKUP(Q$5,$B$6:$I$15,Points!$A4+1,FALSE),'Cars & Results'!$A$7:$BZ$317,2*Q$5+5)=1,Q8*0.25,0))","v":0},{"$f":"IF(HLOOKUP(S$5,$B$6:$I$15,Points!$A4+1,FALSE)=\"TBD\",\"\",VLOOKUP(HLOOKUP(S$5,$B$6:$I$15,Points!$A4+1,FALSE),'Cars & Results'!$A$7:$BZ$317,2*S$5+6,FALSE))","v":37},{"$f":"IF(HLOOKUP(S$5,$B$6:$I$15,Points!$A4+1,FALSE)=\"TBD\",\"\",IF(VLOOKUP(HLOOKUP(S$5,$B$6:$I$15,Points!$A4+1,FALSE),'Cars & Results'!$A$7:$BZ$317,2*S$5+5)=1,S8*0.25,0))","v":0},{"$f":"IF(HLOOKUP(U$5,$B$6:$I$15,Points!$A4+1,FALSE)=\"TBD\",\"\",VLOOKUP(HLOOKUP(U$5,$B$6:$I$15,Points!$A4+1,FALSE),'Cars & Results'!$A$7:$BZ$317,2*U$5+6,FALSE))","v":40},{"$f":"IF(HLOOKUP(U$5,$B$6:$I$15,Points!$A4+1,FALSE)=\"TBD\",\"\",IF(VLOOKUP(HLOOKUP(U$5,$B$6:$I$15,Points!$A4+1,FALSE),'Cars & Results'!$A$7:$BZ$317,2*U$5+5)=1,U8*0.25,0))","v":0},{"$f":"IF(HLOOKUP(W$5,$B$6:$I$15,Points!$A4+1,FALSE)=\"TBD\",\"\",VLOOKUP(HLOOKUP(W$5,$B$6:$I$15,Points!$A4+1,FALSE),'Cars & Results'!$A$7:$BZ$317,2*W$5+6,FALSE))","v":37},{"$f":"IF(HLOOKUP(W$5,$B$6:$I$15,Points!$A4+1,FALSE)=\"TBD\",\"\",IF(VLOOKUP(HLOOKUP(W$5,$B$6:$I$15,Points!$A4+1,FALSE),'Cars & Results'!$A$7:$BZ$317,2*W$5+5)=1,W8*0.25,0))","v":0},{"$f":"IF(HLOOKUP(Y$5,$B$6:$I$15,Points!$A4+1,FALSE)=\"TBD\",\"\",VLOOKUP(HLOOKUP(Y$5,$B$6:$I$15,Points!$A4+1,FALSE),'Cars & Results'!$A$7:$BZ$317,2*Y$5+6,FALSE))","v":39},{"$f":"IF(HLOOKUP(Y$5,$B$6:$I$15,Points!$A4+1,FALSE)=\"TBD\",\"\",IF(VLOOKUP(HLOOKUP(Y$5,$B$6:$I$15,Points!$A4+1,FALSE),'Cars & Results'!$A$7:$BZ$317,2*Y$5+5)=1,Y8*0.25,0))","v":0},{"$f":"IF(HLOOKUP(AA$5,$B$6:$I$15,Points!$A4+1,FALSE)=\"TBD\",\"\",VLOOKUP(HLOOKUP(AA$5,$B$6:$I$15,Points!$A4+1,FALSE),'Cars & Results'!$A$7:$BZ$317,2*AA$5+6,FALSE))","v":32},{"$f":"IF(HLOOKUP(AA$5,$B$6:$I$15,Points!$A4+1,FALSE)=\"TBD\",\"\",IF(VLOOKUP(HLOOKUP(AA$5,$B$6:$I$15,Points!$A4+1,FALSE),'Cars & Results'!$A$7:$BZ$317,2*AA$5+5)=1,AA8*0.25,0))","v":0}]
[{"$f":"VLOOKUP(HLOOKUP('Pick Distribution'!$P$2,$B$6:$I$15,4),'Current Owner Standings'!$A$71:$B$480,2,FALSE)","v":23},42,42,42,42,42,42,3,43,{"$f":"IF(ISNA(VLOOKUP($I9,'Cars & Results'!$A$6:$I$317,J$5,FALSE)),\"Invalid Number\",VLOOKUP($I9,'Cars & Results'!$A$6:$K$317,J$5,FALSE))","v":"Bubba Wallace"},{"$f":"IF(ISNA(VLOOKUP($I9,'Cars & Results'!$A$6:$I$317,K$5,FALSE)),\"Invalid Number\",VLOOKUP($I9,'Cars & Results'!$A$6:$K$317,K$5,FALSE))","v":"Chevrolet"},{"$f":"IF(ISNA(VLOOKUP($I9,'Cars & Results'!$A$6:$I$317,L$5,FALSE)),\"Invalid Number\",VLOOKUP($I9,'Cars & Results'!$A$6:$K$317,L$5,FALSE))","v":"Richard Petty Motorsports"},{"$f":"IF(HLOOKUP(M$5,$B$6:$I$15,Points!$A5+1,FALSE)=\"TBD\",\"\",VLOOKUP(HLOOKUP(M$5,$B$6:$I$15,Points!$A5+1,FALSE),'Cars & Results'!$A$7:$BZ$317,2*M$5+6,FALSE))","v":20},{"$f":"IF(HLOOKUP(M$5,$B$6:$I$15,Points!$A5+1,FALSE)=\"TBD\",\"\",IF(VLOOKUP(HLOOKUP(M$5,$B$6:$I$15,Points!$A5+1,FALSE),'Cars & Results'!$A$7:$BZ$317,2*M$5+5)<=5,M9*0.5,0))","v":0},{"$f":"IF(HLOOKUP(O$5,$B$6:$I$15,Points!$A5+1,FALSE)=\"TBD\",\"\",VLOOKUP(HLOOKUP(O$5,$B$6:$I$15,Points!$A5+1,FALSE),'Cars & Results'!$A$7:$BZ$317,2*O$5+6,FALSE))","v":1},{"$f":"IF(HLOOKUP(O$5,$B$6:$I$15,Points!$A5+1,FALSE)=\"TBD\",\"\",IF(VLOOKUP(HLOOKUP(O$5,$B$6:$I$15,Points!$A5+1,FALSE),'Cars & Results'!$A$7:$BZ$317,2*O$5+5)<=5,O9*0.5,0))","v":0},{"$f":"IF(HLOOKUP(Q$5,$B$6:$I$15,Points!$A5+1,FALSE)=\"TBD\",\"\",VLOOKUP(HLOOKUP(Q$5,$B$6:$I$15,Points!$A5+1,FALSE),'Cars & Results'!$A$7:$BZ$317,2*Q$5+6,FALSE))","v":20},{"$f":"IF(HLOOKUP(Q$5,$B$6:$I$15,Points!$A5+1,FALSE)=\"TBD\",\"\",IF(VLOOKUP(HLOOKUP(Q$5,$B$6:$I$15,Points!$A5+1,FALSE),'Cars & Results'!$A$7:$BZ$317,2*Q$5+5)<=5,Q9*0.5,0))","v":0},{"$f":"IF(HLOOKUP(S$5,$B$6:$I$15,Points!$A5+1,FALSE)=\"TBD\",\"\",VLOOKUP(HLOOKUP(S$5,$B$6:$I$15,Points!$A5+1,FALSE),'Cars & Results'!$A$7:$BZ$317,2*S$5+6,FALSE))","v":22},{"$f":"IF(HLOOKUP(S$5,$B$6:$I$15,Points!$A5+1,FALSE)=\"TBD\",\"\",IF(VLOOKUP(HLOOKUP(S$5,$B$6:$I$15,Points!$A5+1,FALSE),'Cars & Results'!$A$7:$BZ$317,2*S$5+5)<=5,S9*0.5,0))","v":0},{"$f":"IF(HLOOKUP(U$5,$B$6:$I$15,Points!$A5+1,FALSE)=\"TBD\",\"\",VLOOKUP(HLOOKUP(U$5,$B$6:$I$15,Points!$A5+1,FALSE),'Cars & Results'!$A$7:$BZ$317,2*U$5+6,FALSE))","v":11},{"$f":"IF(HLOOKUP(U$5,$B$6:$I$15,Points!$A5+1,FALSE)=\"TBD\",\"\",IF(VLOOKUP(HLOOKUP(U$5,$B$6:$I$15,Points!$A5+1,FALSE),'Cars & Results'!$A$7:$BZ$317,2*U$5+5)<=5,U9*0.5,0))","v":0},{"$f":"IF(HLOOKUP(W$5,$B$6:$I$15,Points!$A5+1,FALSE)=\"TBD\",\"\",VLOOKUP(HLOOKUP(W$5,$B$6:$I$15,Points!$A5+1,FALSE),'Cars & Results'!$A$7:$BZ$317,2*W$5+6,FALSE))","v":14},{"$f":"IF(HLOOKUP(W$5,$B$6:$I$15,Points!$A5+1,FALSE)=\"TBD\",\"\",IF(VLOOKUP(HLOOKUP(W$5,$B$6:$I$15,Points!$A5+1,FALSE),'Cars & Results'!$A$7:$BZ$317,2*W$5+5)<=5,W9*0.5,0))","v":0},{"$f":"IF(HLOOKUP(Y$5,$B$6:$I$15,Points!$A5+1,FALSE)=\"TBD\",\"\",VLOOKUP(HLOOKUP(Y$5,$B$6:$I$15,Points!$A5+1,FALSE),'Cars & Results'!$A$7:$BZ$317,2*Y$5+6,FALSE))","v":29},{"$f":"IF(HLOOKUP(Y$5,$B$6:$I$15,Points!$A5+1,FALSE)=\"TBD\",\"\",IF(VLOOKUP(HLOOKUP(Y$5,$B$6:$I$15,Points!$A5+1,FALSE),'Cars & Results'!$A$7:$BZ$317,2*Y$5+5)<=5,Y9*0.5,0))","v":0},{"$f":"IF(HLOOKUP(AA$5,$B$6:$I$15,Points!$A5+1,FALSE)=\"TBD\",\"\",VLOOKUP(HLOOKUP(AA$5,$B$6:$I$15,Points!$A5+1,FALSE),'Cars & Results'!$A$7:$BZ$317,2*AA$5+6,FALSE))","v":32},{"$f":"IF(HLOOKUP(AA$5,$B$6:$I$15,Points!$A5+1,FALSE)=\"TBD\",\"\",IF(VLOOKUP(HLOOKUP(AA$5,$B$6:$I$15,Points!$A5+1,FALSE),'Cars & Results'!$A$7:$BZ$317,2*AA$5+5)<=5,AA9*0.5,0))","v":16}]
[{"$f":"VLOOKUP(HLOOKUP('Pick Distribution'!$P$2,$B$6:$I$15,5),'Current Owner Standings'!$A$71:$B$480,2,FALSE)","v":21},6,6,6,95,95,95,95,95,{"$f":"IF(ISNA(VLOOKUP($I10,'Cars & Results'!$A$6:$I$317,J$5,FALSE)),\"Invalid Number\",VLOOKUP($I10,'Cars & Results'!$A$6:$K$317,J$5,FALSE))","v":"Christopher Bell (R)"},{"$f":"IF(ISNA(VLOOKUP($I10,'Cars & Results'!$A$6:$I$317,K$5,FALSE)),\"Invalid Number\",VLOOKUP($I10,'Cars & Results'!$A$6:$K$317,K$5,FALSE))","v":"Toyota"},{"$f":"IF(ISNA(VLOOKUP($I10,'Cars & Results'!$A$6:$I$317,L$5,FALSE)),\"Invalid Number\",VLOOKUP($I10,'Cars & Results'!$A$6:$K$317,L$5,FALSE))","v":"Leavine Family Racing"},{"$f":"IF(HLOOKUP(M$5,$B$6:$I$15,Points!$A6+1,FALSE)=\"TBD\",\"\",VLOOKUP(HLOOKUP(M$5,$B$6:$I$15,Points!$A6+1,FALSE),'Cars & Results'!$A$7:$BZ$317,2*M$5+6,FALSE))","v":9},{"$f":"IF(HLOOKUP(M$5,$B$6:$I$15,Points!$A6+1,FALSE)=\"TBD\",\"\",IF(VLOOKUP(HLOOKUP(M$5,$B$6:$I$15,Points!$A6+1,FALSE),'Cars & Results'!$A$7:$BZ$317,2*M$5+5)<=5,M10*0.5,0))","v":0},{"$f":"IF(HLOOKUP(O$5,$B$6:$I$15,Points!$A6+1,FALSE)=\"TBD\",\"\",VLOOKUP(HLOOKUP(O$5,$B$6:$I$15,Points!$A6+1,FALSE),'Cars & Results'!$A$7:$BZ$317,2*O$5+6,FALSE))","v":16},{"$f":"IF(HLOOKUP(O$5,$B$6:$I$15,Points!$A6+1,FALSE)=\"TBD\",\"\",IF(VLOOKUP(HLOOKUP(O$5,$B$6:$I$15,Points!$A6+1,FALSE),'Cars & Results'!$A$7:$BZ$317,2*O$5+5)<=5,O10*0.5,0))","v":0},{"$f":"IF(HLOOKUP(Q$5,$B$6:$I$15,Points!$A6+1,FALSE)=\"TBD\",\"\",VLOOKUP(HLOOKUP(Q$5,$B$6:$I$15,Points!$A6+1,FALSE),'Cars & Results'!$A$7:$BZ$317,2*Q$5+6,FALSE))","v":9},{"$f":"IF(HLOOKUP(Q$5,$B$6:$I$15,Points!$A6+1,FALSE)=\"TBD\",\"\",IF(VLOOKUP(HLOOKUP(Q$5,$B$6:$I$15,Points!$A6+1,FALSE),'Cars & Results'!$A$7:$BZ$317,2*Q$5+5)<=5,Q10*0.5,0))","v":0},{"$f":"IF(HLOOKUP(S$5,$B$6:$I$15,Points!$A6+1,FALSE)=\"TBD\",\"\",VLOOKUP(HLOOKUP(S$5,$B$6:$I$15,Points!$A6+1,FALSE),'Cars & Results'!$A$7:$BZ$317,2*S$5+6,FALSE))","v":36},{"$f":"IF(HLOOKUP(S$5,$B$6:$I$15,Points!$A6+1,FALSE)=\"TBD\",\"\",IF(VLOOKUP(HLOOKUP(S$5,$B$6:$I$15,Points!$A6+1,FALSE),'Cars & Results'!$A$7:$BZ$317,2*S$5+5)<=5,S10*0.5,0))","v":0},{"$f":"IF(HLOOKUP(U$5,$B$6:$I$15,Points!$A6+1,FALSE)=\"TBD\",\"\",VLOOKUP(HLOOKUP(U$5,$B$6:$I$15,Points!$A6+1,FALSE),'Cars & Results'!$A$7:$BZ$317,2*U$5+6,FALSE))","v":16},{"$f":"IF(HLOOKUP(U$5,$B$6:$I$15,Points!$A6+1,FALSE)=\"TBD\",\"\",IF(VLOOKUP(HLOOKUP(U$5,$B$6:$I$15,Points!$A6+1,FALSE),'Cars & Results'!$A$7:$BZ$317,2*U$5+5)<=5,U10*0.5,0))","v":0},{"$f":"IF(HLOOKUP(W$5,$B$6:$I$15,Points!$A6+1,FALSE)=\"TBD\",\"\",VLOOKUP(HLOOKUP(W$5,$B$6:$I$15,Points!$A6+1,FALSE),'Cars & Results'!$A$7:$BZ$317,2*W$5+6,FALSE))","v":15},{"$f":"IF(HLOOKUP(W$5,$B$6:$I$15,Points!$A6+1,FALSE)=\"TBD\",\"\",IF(VLOOKUP(HLOOKUP(W$5,$B$6:$I$15,Points!$A6+1,FALSE),'Cars & Results'!$A$7:$BZ$317,2*W$5+5)<=5,W10*0.5,0))","v":0},{"$f":"IF(HLOOKUP(Y$5,$B$6:$I$15,Points!$A6+1,FALSE)=\"TBD\",\"\",VLOOKUP(HLOOKUP(Y$5,$B$6:$I$15,Points!$A6+1,FALSE),'Cars & Results'!$A$7:$BZ$317,2*Y$5+6,FALSE))","v":10},{"$f":"IF(HLOOKUP(Y$5,$B$6:$I$15,Points!$A6+1,FALSE)=\"TBD\",\"\",IF(VLOOKUP(HLOOKUP(Y$5,$B$6:$I$15,Points!$A6+1,FALSE),'Cars & Results'!$A$7:$BZ$317,2*Y$5+5)<=5,Y10*0.5,0))","v":0},{"$f":"IF(HLOOKUP(AA$5,$B$6:$I$15,Points!$A6+1,FALSE)=\"TBD\",\"\",VLOOKUP(HLOOKUP(AA$5,$B$6:$I$15,Points!$A6+1,FALSE),'Cars & Results'!$A$7:$BZ$317,2*AA$5+6,FALSE))","v":30},{"$f":"IF(HLOOKUP(AA$5,$B$6:$I$15,Points!$A6+1,FALSE)=\"TBD\",\"\",IF(VLOOKUP(HLOOKUP(AA$5,$B$6:$I$15,Points!$A6+1,FALSE),'Cars & Results'!$A$7:$BZ$317,2*AA$5+5)<=5,AA10*0.5,0))","v":0}]
[{"$f":"VLOOKUP(HLOOKUP('Pick Distribution'!$P$2,$B$6:$I$15,6),'Current Owner Standings'!$A$71:$B$480,2,FALSE)","v":24},47,47,47,47,47,47,6,6,{"$f":"IF(ISNA(VLOOKUP($I11,'Cars & Results'!$A$6:$I$317,J$5,FALSE)),\"Invalid Number\",VLOOKUP($I11,'Cars & Results'!$A$6:$K$317,J$5,FALSE))","v":"Ryan Newman"},{"$f":"IF(ISNA(VLOOKUP($I11,'Cars & Results'!$A$6:$I$317,K$5,FALSE)),\"Invalid Number\",VLOOKUP($I11,'Cars & Results'!$A$6:$K$317,K$5,FALSE))","v":"Ford"},{"$f":"IF(ISNA(VLOOKUP($I11,'Cars & Results'!$A$6:$I$317,L$5,FALSE)),\"Invalid Number\",VLOOKUP($I11,'Cars & Results'!$A$6:$K$317,L$5,FALSE))","v":"Roush Fenway Racing"},{"$f":"IF(HLOOKUP(M$5,$B$6:$I$15,Points!$A7+1,FALSE)=\"TBD\",\"\",VLOOKUP(HLOOKUP(M$5,$B$6:$I$15,Points!$A7+1,FALSE),'Cars & Results'!$A$7:$BZ$317,2*M$5+6,FALSE))","v":1},{"$f":"IF(HLOOKUP(M$5,$B$6:$I$15,Points!$A7+1,FALSE)=\"TBD\",\"\",IF(VLOOKUP(HLOOKUP(M$5,$B$6:$I$15,Points!$A7+1,FALSE),'Cars & Results'!$A$7:$BZ$317,2*M$5+5)<=10,M11*1.5,0))","v":0},{"$f":"IF(HLOOKUP(O$5,$B$6:$I$15,Points!$A7+1,FALSE)=\"TBD\",\"\",VLOOKUP(HLOOKUP(O$5,$B$6:$I$15,Points!$A7+1,FALSE),'Cars & Results'!$A$7:$BZ$317,2*O$5+6,FALSE))","v":23},{"$f":"IF(HLOOKUP(O$5,$B$6:$I$15,Points!$A7+1,FALSE)=\"TBD\",\"\",IF(VLOOKUP(HLOOKUP(O$5,$B$6:$I$15,Points!$A7+1,FALSE),'Cars & Results'!$A$7:$BZ$317,2*O$5+5)<=10,O11*1.5,0))","v":0},{"$f":"IF(HLOOKUP(Q$5,$B$6:$I$15,Points!$A7+1,FALSE)=\"TBD\",\"\",VLOOKUP(HLOOKUP(Q$5,$B$6:$I$15,Points!$A7+1,FALSE),'Cars & Results'!$A$7:$BZ$317,2*Q$5+6,FALSE))","v":6},{"$f":"IF(HLOOKUP(Q$5,$B$6:$I$15,Points!$A7+1,FALSE)=\"TBD\",\"\",IF(VLOOKUP(HLOOKUP(Q$5,$B$6:$I$15,Points!$A7+1,FALSE),'Cars & Results'!$A$7:$BZ$317,2*Q$5+5)<=10,Q11*1.5,0))","v":0},{"$f":"IF(HLOOKUP(S$5,$B$6:$I$15,Points!$A7+1,FALSE)=\"TBD\",\"\",VLOOKUP(HLOOKUP(S$5,$B$6:$I$15,Points!$A7+1,FALSE),'Cars & Results'!$A$7:$BZ$317,2*S$5+6,FALSE))","v":18},{"$f":"IF(HLOOKUP(S$5,$B$6:$I$15,Points!$A7+1,FALSE)=\"TBD\",\"\",IF(VLOOKUP(HLOOKUP(S$5,$B$6:$I$15,Points!$A7+1,FALSE),'Cars & Results'!$A$7:$BZ$317,2*S$5+5)<=10,S11*1.5,0))","v":0},{"$f":"IF(HLOOKUP(U$5,$B$6:$I$15,Points!$A7+1,FALSE)=\"TBD\",\"\",VLOOKUP(HLOOKUP(U$5,$B$6:$I$15,Points!$A7+1,FALSE),'Cars & Results'!$A$7:$BZ$317,2*U$5+6,FALSE))","v":27},{"$f":"IF(HLOOKUP(U$5,$B$6:$I$15,Points!$A7+1,FALSE)=\"TBD\",\"\",IF(VLOOKUP(HLOOKUP(U$5,$B$6:$I$15,Points!$A7+1,FALSE),'Cars & Results'!$A$7:$BZ$317,2*U$5+5)<=10,U11*1.5,0))","v":0},{"$f":"IF(HLOOKUP(W$5,$B$6:$I$15,Points!$A7+1,FALSE)=\"TBD\",\"\",VLOOKUP(HLOOKUP(W$5,$B$6:$I$15,Points!$A7+1,FALSE),'Cars & Results'!$A$7:$BZ$317,2*W$5+6,FALSE))","v":29},{"$f":"IF(HLOOKUP(W$5,$B$6:$I$15,Points!$A7+1,FALSE)=\"TBD\",\"\",IF(VLOOKUP(HLOOKUP(W$5,$B$6:$I$15,Points!$A7+1,FALSE),'Cars & Results'!$A$7:$BZ$317,2*W$5+5)<=10,W11*1.5,0))","v":43.5},{"$f":"IF(HLOOKUP(Y$5,$B$6:$I$15,Points!$A7+1,FALSE)=\"TBD\",\"\",VLOOKUP(HLOOKUP(Y$5,$B$6:$I$15,Points!$A7+1,FALSE),'Cars & Results'!$A$7:$BZ$317,2*Y$5+6,FALSE))","v":13},{"$f":"IF(HLOOKUP(Y$5,$B$6:$I$15,Points!$A7+1,FALSE)=\"TBD\",\"\",IF(VLOOKUP(HLOOKUP(Y$5,$B$6:$I$15,Points!$A7+1,FALSE),'Cars & Results'!$A$7:$BZ$317,2*Y$5+5)<=10,Y11*1.5,0))","v":0},{"$f":"IF(HLOOKUP(AA$5,$B$6:$I$15,Points!$A7+1,FALSE)=\"TBD\",\"\",VLOOKUP(HLOOKUP(AA$5,$B$6:$I$15,Points!$A7+1,FALSE),'Cars & Results'!$A$7:$BZ$317,2*AA$5+6,FALSE))","v":1},{"$f":"IF(HLOOKUP(AA$5,$B$6:$I$15,Points!$A7+1,FALSE)=\"TBD\",\"\",IF(VLOOKUP(HLOOKUP(AA$5,$B$6:$I$15,Points!$A7+1,FALSE),'Cars & Results'!$A$7:$BZ$317,2*AA$5+5)<=10,AA11*1.5,0))","v":0}]
[{"$f":"VLOOKUP(HLOOKUP('Pick Distribution'!$P$2,$B$6:$I$15,7),'Current Owner Standings'!$A$71:$B$480,2,FALSE)","v":28},13,13,13,13,13,13,13,13,{"$f":"IF(ISNA(VLOOKUP($I12,'Cars & Results'!$A$6:$I$317,J$5,FALSE)),\"Invalid Number\",VLOOKUP($I12,'Cars & Results'!$A$6:$K$317,J$5,FALSE))","v":"Ty Dillon"},{"$f":"IF(ISNA(VLOOKUP($I12,'Cars & Results'!$A$6:$I$317,K$5,FALSE)),\"Invalid Number\",VLOOKUP($I12,'Cars & Results'!$A$6:$K$317,K$5,FALSE))","v":"Chevrolet"},{"$f":"IF(ISNA(VLOOKUP($I12,'Cars & Results'!$A$6:$I$317,L$5,FALSE)),\"Invalid Number\",VLOOKUP($I12,'Cars & Results'!$A$6:$K$317,L$5,FALSE))","v":"Germain Racing"},{"$f":"IF(HLOOKUP(M$5,$B$6:$I$15,Points!$A8+1,FALSE)=\"TBD\",\"\",VLOOKUP(HLOOKUP(M$5,$B$6:$I$15,Points!$A8+1,FALSE),'Cars & Results'!$A$7:$BZ$317,2*M$5+6,FALSE))","v":22},{"$f":"IF(HLOOKUP(M$5,$B$6:$I$15,Points!$A8+1,FALSE)=\"TBD\",\"\",IF(VLOOKUP(HLOOKUP(M$5,$B$6:$I$15,Points!$A8+1,FALSE),'Cars & Results'!$A$7:$BZ$317,2*M$5+5)<=10,M12*1.5,0))","v":0},{"$f":"IF(HLOOKUP(O$5,$B$6:$I$15,Points!$A8+1,FALSE)=\"TBD\",\"\",VLOOKUP(HLOOKUP(O$5,$B$6:$I$15,Points!$A8+1,FALSE),'Cars & Results'!$A$7:$BZ$317,2*O$5+6,FALSE))","v":15},{"$f":"IF(HLOOKUP(O$5,$B$6:$I$15,Points!$A8+1,FALSE)=\"TBD\",\"\",IF(VLOOKUP(HLOOKUP(O$5,$B$6:$I$15,Points!$A8+1,FALSE),'Cars & Results'!$A$7:$BZ$317,2*O$5+5)<=10,O12*1.5,0))","v":0},{"$f":"IF(HLOOKUP(Q$5,$B$6:$I$15,Points!$A8+1,FALSE)=\"TBD\",\"\",VLOOKUP(HLOOKUP(Q$5,$B$6:$I$15,Points!$A8+1,FALSE),'Cars & Results'!$A$7:$BZ$317,2*Q$5+6,FALSE))","v":14},{"$f":"IF(HLOOKUP(Q$5,$B$6:$I$15,Points!$A8+1,FALSE)=\"TBD\",\"\",IF(VLOOKUP(HLOOKUP(Q$5,$B$6:$I$15,Points!$A8+1,FALSE),'Cars & Results'!$A$7:$BZ$317,2*Q$5+5)<=10,Q12*1.5,0))","v":0},{"$f":"IF(HLOOKUP(S$5,$B$6:$I$15,Points!$A8+1,FALSE)=\"TBD\",\"\",VLOOKUP(HLOOKUP(S$5,$B$6:$I$15,Points!$A8+1,FALSE),'Cars & Results'!$A$7:$BZ$317,2*S$5+6,FALSE))","v":19},{"$f":"IF(HLOOKUP(S$5,$B$6:$I$15,Points!$A8+1,FALSE)=\"TBD\",\"\",IF(VLOOKUP(HLOOKUP(S$5,$B$6:$I$15,Points!$A8+1,FALSE),'Cars & Results'!$A$7:$BZ$317,2*S$5+5)<=10,S12*1.5,0))","v":0},{"$f":"IF(HLOOKUP(U$5,$B$6:$I$15,Points!$A8+1,FALSE)=\"TBD\",\"\",VLOOKUP(HLOOKUP(U$5,$B$6:$I$15,Points!$A8+1,FALSE),'Cars & Results'!$A$7:$BZ$317,2*U$5+6,FALSE))","v":17},{"$f":"IF(HLOOKUP(U$5,$B$6:$I$15,Points!$A8+1,FALSE)=\"TBD\",\"\",IF(VLOOKUP(HLOOKUP(U$5,$B$6:$I$15,Points!$A8+1,FALSE),'Cars & Results'!$A$7:$BZ$317,2*U$5+5)<=10,U12*1.5,0))","v":0},{"$f":"IF(HLOOKUP(W$5,$B$6:$I$15,Points!$A8+1,FALSE)=\"TBD\",\"\",VLOOKUP(HLOOKUP(W$5,$B$6:$I$15,Points!$A8+1,FALSE),'Cars & Results'!$A$7:$BZ$317,2*W$5+6,FALSE))","v":19},{"$f":"IF(HLOOKUP(W$5,$B$6:$I$15,Points!$A8+1,FALSE)=\"TBD\",\"\",IF(VLOOKUP(HLOOKUP(W$5,$B$6:$I$15,Points!$A8+1,FALSE),'Cars & Results'!$A$7:$BZ$317,2*W$5+5)<=10,W12*1.5,0))","v":0},{"$f":"IF(HLOOKUP(Y$5,$B$6:$I$15,Points!$A8+1,FALSE)=\"TBD\",\"\",VLOOKUP(HLOOKUP(Y$5,$B$6:$I$15,Points!$A8+1,FALSE),'Cars & Results'!$A$7:$BZ$317,2*Y$5+6,FALSE))","v":8},{"$f":"IF(HLOOKUP(Y$5,$B$6:$I$15,Points!$A8+1,FALSE)=\"TBD\",\"\",IF(VLOOKUP(HLOOKUP(Y$5,$B$6:$I$15,Points!$A8+1,FALSE),'Cars & Results'!$A$7:$BZ$317,2*Y$5+5)<=10,Y12*1.5,0))","v":0},{"$f":"IF(HLOOKUP(AA$5,$B$6:$I$15,Points!$A8+1,FALSE)=\"TBD\",\"\",VLOOKUP(HLOOKUP(AA$5,$B$6:$I$15,Points!$A8+1,FALSE),'Cars & Results'!$A$7:$BZ$317,2*AA$5+6,FALSE))","v":15},{"$f":"IF(HLOOKUP(AA$5,$B$6:$I$15,Points!$A8+1,FALSE)=\"TBD\",\"\",IF(VLOOKUP(HLOOKUP(AA$5,$B$6:$I$15,Points!$A8+1,FALSE),'Cars & Results'!$A$7:$BZ$317,2*AA$5+5)<=10,AA12*1.5,0))","v":0}]
[{"$f":"VLOOKUP(HLOOKUP('Pick Distribution'!$P$2,$B$6:$I$15,8),'Current Owner Standings'!$A$71:$B$480,2,FALSE)","v":31},96,37,127,127,96,96,96,96,{"$f":"IF(ISNA(VLOOKUP($I13,'Cars & Results'!$A$6:$I$317,J$5,FALSE)),\"Invalid Number\",VLOOKUP($I13,'Cars & Results'!$A$6:$K$317,J$5,FALSE))","v":"Daniel Suárez"},{"$f":"IF(ISNA(VLOOKUP($I13,'Cars & Results'!$A$6:$I$317,K$5,FALSE)),\"Invalid Number\",VLOOKUP($I13,'Cars & Results'!$A$6:$K$317,K$5,FALSE))","v":"Toyota"},{"$f":"IF(ISNA(VLOOKUP($I13,'Cars & Results'!$A$6:$I$317,L$5,FALSE)),\"Invalid Number\",VLOOKUP($I13,'Cars & Results'!$A$6:$K$317,L$5,FALSE))","v":"Gaunt Brothers Racing"},{"$f":"IF(HLOOKUP(M$5,$B$6:$I$15,Points!$A9+1,FALSE)=\"TBD\",\"\",VLOOKUP(HLOOKUP(M$5,$B$6:$I$15,Points!$A9+1,FALSE),'Cars & Results'!$A$7:$BZ$317,2*M$5+6,FALSE))","v":19},{"$f":"IF(HLOOKUP(M$5,$B$6:$I$15,Points!$A9+1,FALSE)=\"TBD\",\"\",IF(VLOOKUP(HLOOKUP(M$5,$B$6:$I$15,Points!$A9+1,FALSE),'Cars & Results'!$A$7:$BZ$317,2*M$5+5)<=10,M13*2,0))","v":0},{"$f":"IF(HLOOKUP(O$5,$B$6:$I$15,Points!$A9+1,FALSE)=\"TBD\",\"\",VLOOKUP(HLOOKUP(O$5,$B$6:$I$15,Points!$A9+1,FALSE),'Cars & Results'!$A$7:$BZ$317,2*O$5+6,FALSE))","v":23},{"$f":"IF(HLOOKUP(O$5,$B$6:$I$15,Points!$A9+1,FALSE)=\"TBD\",\"\",IF(VLOOKUP(HLOOKUP(O$5,$B$6:$I$15,Points!$A9+1,FALSE),'Cars & Results'!$A$7:$BZ$317,2*O$5+5)<=10,O13*2,0))","v":0},{"$f":"IF(HLOOKUP(Q$5,$B$6:$I$15,Points!$A9+1,FALSE)=\"TBD\",\"\",VLOOKUP(HLOOKUP(Q$5,$B$6:$I$15,Points!$A9+1,FALSE),'Cars & Results'!$A$7:$BZ$317,2*Q$5+6,FALSE))","v":0},{"$f":"IF(HLOOKUP(Q$5,$B$6:$I$15,Points!$A9+1,FALSE)=\"TBD\",\"\",IF(VLOOKUP(HLOOKUP(Q$5,$B$6:$I$15,Points!$A9+1,FALSE),'Cars & Results'!$A$7:$BZ$317,2*Q$5+5)<=10,Q13*2,0))","v":0},{"$f":"IF(HLOOKUP(S$5,$B$6:$I$15,Points!$A9+1,FALSE)=\"TBD\",\"\",VLOOKUP(HLOOKUP(S$5,$B$6:$I$15,Points!$A9+1,FALSE),'Cars & Results'!$A$7:$BZ$317,2*S$5+6,FALSE))","v":0},{"$f":"IF(HLOOKUP(S$5,$B$6:$I$15,Points!$A9+1,FALSE)=\"TBD\",\"\",IF(VLOOKUP(HLOOKUP(S$5,$B$6:$I$15,Points!$A9+1,FALSE),'Cars & Results'!$A$7:$BZ$317,2*S$5+5)<=10,S13*2,0))","v":0},{"$f":"IF(HLOOKUP(U$5,$B$6:$I$15,Points!$A9+1,FALSE)=\"TBD\",\"\",VLOOKUP(HLOOKUP(U$5,$B$6:$I$15,Points!$A9+1,FALSE),'Cars & Results'!$A$7:$BZ$317,2*U$5+6,FALSE))","v":10},{"$f":"IF(HLOOKUP(U$5,$B$6:$I$15,Points!$A9+1,FALSE)=\"TBD\",\"\",IF(VLOOKUP(HLOOKUP(U$5,$B$6:$I$15,Points!$A9+1,FALSE),'Cars & Results'!$A$7:$BZ$317,2*U$5+5)<=10,U13*2,0))","v":0},{"$f":"IF(HLOOKUP(W$5,$B$6:$I$15,Points!$A9+1,FALSE)=\"TBD\",\"\",VLOOKUP(HLOOKUP(W$5,$B$6:$I$15,Points!$A9+1,FALSE),'Cars & Results'!$A$7:$BZ$317,2*W$5+6,FALSE))","v":7},{"$f":"IF(HLOOKUP(W$5,$B$6:$I$15,Points!$A9+1,FALSE)=\"TBD\",\"\",IF(VLOOKUP(HLOOKUP(W$5,$B$6:$I$15,Points!$A9+1,FALSE),'Cars & Results'!$A$7:$BZ$317,2*W$5+5)<=10,W13*2,0))","v":0},{"$f":"IF(HLOOKUP(Y$5,$B$6:$I$15,Points!$A9+1,FALSE)=\"TBD\",\"\",VLOOKUP(HLOOKUP(Y$5,$B$6:$I$15,Points!$A9+1,FALSE),'Cars & Results'!$A$7:$BZ$317,2*Y$5+6,FALSE))","v":9},{"$f":"IF(HLOOKUP(Y$5,$B$6:$I$15,Points!$A9+1,FALSE)=\"TBD\",\"\",IF(VLOOKUP(HLOOKUP(Y$5,$B$6:$I$15,Points!$A9+1,FALSE),'Cars & Results'!$A$7:$BZ$317,2*Y$5+5)<=10,Y13*2,0))","v":0},{"$f":"IF(HLOOKUP(AA$5,$B$6:$I$15,Points!$A9+1,FALSE)=\"TBD\",\"\",VLOOKUP(HLOOKUP(AA$5,$B$6:$I$15,Points!$A9+1,FALSE),'Cars & Results'!$A$7:$BZ$317,2*AA$5+6,FALSE))","v":11},{"$f":"IF(HLOOKUP(AA$5,$B$6:$I$15,Points!$A9+1,FALSE)=\"TBD\",\"\",IF(VLOOKUP(HLOOKUP(AA$5,$B$6:$I$15,Points!$A9+1,FALSE),'Cars & Results'!$A$7:$BZ$317,2*AA$5+5)<=10,AA13*2,0))","v":0}]
[{"$f":"VLOOKUP(HLOOKUP('Pick Distribution'!$P$2,$B$6:$I$15,9),'Current Owner Standings'!$A$71:$B$480,2,FALSE)","v":37},66,66,66,66,62,66,66,66,{"$f":"IF(ISNA(VLOOKUP($I14,'Cars & Results'!$A$6:$I$317,J$5,FALSE)),\"Invalid Number\",VLOOKUP($I14,'Cars & Results'!$A$6:$K$317,J$5,FALSE))","v":"Timmy Hill (i)"},{"$f":"IF(ISNA(VLOOKUP($I14,'Cars & Results'!$A$6:$I$317,K$5,FALSE)),\"Invalid Number\",VLOOKUP($I14,'Cars & Results'!$A$6:$K$317,K$5,FALSE))","v":"Toyota"},{"$f":"IF(ISNA(VLOOKUP($I14,'Cars & Results'!$A$6:$I$317,L$5,FALSE)),\"Invalid Number\",VLOOKUP($I14,'Cars & Results'!$A$6:$K$317,L$5,FALSE))","v":"MBM Motorsports"},{"$f":"IF(HLOOKUP(M$5,$B$6:$I$15,Points!$A10+1,FALSE)=\"TBD\",\"\",VLOOKUP(HLOOKUP(M$5,$B$6:$I$15,Points!$A10+1,FALSE),'Cars & Results'!$A$7:$BZ$317,2*M$5+6,FALSE))","v":0},{"$f":"IF(HLOOKUP(M$5,$B$6:$I$15,Points!$A10+1,FALSE)=\"TBD\",\"\",IF(VLOOKUP(HLOOKUP(M$5,$B$6:$I$15,Points!$A10+1,FALSE),'Cars & Results'!$A$7:$BZ$317,2*M$5+5)<=10,M14*3,0))","v":0},{"$f":"IF(HLOOKUP(O$5,$B$6:$I$15,Points!$A10+1,FALSE)=\"TBD\",\"\",VLOOKUP(HLOOKUP(O$5,$B$6:$I$15,Points!$A10+1,FALSE),'Cars & Results'!$A$7:$BZ$317,2*O$5+6,FALSE))","v":4},{"$f":"IF(HLOOKUP(O$5,$B$6:$I$15,Points!$A10+1,FALSE)=\"TBD\",\"\",IF(VLOOKUP(HLOOKUP(O$5,$B$6:$I$15,Points!$A10+1,FALSE),'Cars & Results'!$A$7:$BZ$317,2*O$5+5)<=10,O14*3,0))","v":0},{"$f":"IF(HLOOKUP(Q$5,$B$6:$I$15,Points!$A10+1,FALSE)=\"TBD\",\"\",VLOOKUP(HLOOKUP(Q$5,$B$6:$I$15,Points!$A10+1,FALSE),'Cars & Results'!$A$7:$BZ$317,2*Q$5+6,FALSE))","v":4},{"$f":"IF(HLOOKUP(Q$5,$B$6:$I$15,Points!$A10+1,FALSE)=\"TBD\",\"\",IF(VLOOKUP(HLOOKUP(Q$5,$B$6:$I$15,Points!$A10+1,FALSE),'Cars & Results'!$A$7:$BZ$317,2*Q$5+5)<=10,Q14*3,0))","v":0},{"$f":"IF(HLOOKUP(S$5,$B$6:$I$15,Points!$A10+1,FALSE)=\"TBD\",\"\",VLOOKUP(HLOOKUP(S$5,$B$6:$I$15,Points!$A10+1,FALSE),'Cars & Results'!$A$7:$BZ$317,2*S$5+6,FALSE))","v":2},{"$f":"IF(HLOOKUP(S$5,$B$6:$I$15,Points!$A10+1,FALSE)=\"TBD\",\"\",IF(VLOOKUP(HLOOKUP(S$5,$B$6:$I$15,Points!$A10+1,FALSE),'Cars & Results'!$A$7:$BZ$317,2*S$5+5)<=10,S14*3,0))","v":0},{"$f":"IF(HLOOKUP(U$5,$B$6:$I$15,Points!$A10+1,FALSE)=\"TBD\",\"\",VLOOKUP(HLOOKUP(U$5,$B$6:$I$15,Points!$A10+1,FALSE),'Cars & Results'!$A$7:$BZ$317,2*U$5+6,FALSE))","v":1},{"$f":"IF(HLOOKUP(U$5,$B$6:$I$15,Points!$A10+1,FALSE)=\"TBD\",\"\",IF(VLOOKUP(HLOOKUP(U$5,$B$6:$I$15,Points!$A10+1,FALSE),'Cars & Results'!$A$7:$BZ$317,2*U$5+5)<=10,U14*3,0))","v":0},{"$f":"IF(HLOOKUP(W$5,$B$6:$I$15,Points!$A10+1,FALSE)=\"TBD\",\"\",VLOOKUP(HLOOKUP(W$5,$B$6:$I$15,Points!$A10+1,FALSE),'Cars & Results'!$A$7:$BZ$317,2*W$5+6,FALSE))","v":3},{"$f":"IF(HLOOKUP(W$5,$B$6:$I$15,Points!$A10+1,FALSE)=\"TBD\",\"\",IF(VLOOKUP(HLOOKUP(W$5,$B$6:$I$15,Points!$A10+1,FALSE),'Cars & Results'!$A$7:$BZ$317,2*W$5+5)<=10,W14*3,0))","v":0},{"$f":"IF(HLOOKUP(Y$5,$B$6:$I$15,Points!$A10+1,FALSE)=\"TBD\",\"\",VLOOKUP(HLOOKUP(Y$5,$B$6:$I$15,Points!$A10+1,FALSE),'Cars & Results'!$A$7:$BZ$317,2*Y$5+6,FALSE))","v":1},{"$f":"IF(HLOOKUP(Y$5,$B$6:$I$15,Points!$A10+1,FALSE)=\"TBD\",\"\",IF(VLOOKUP(HLOOKUP(Y$5,$B$6:$I$15,Points!$A10+1,FALSE),'Cars & Results'!$A$7:$BZ$317,2*Y$5+5)<=10,Y14*3,0))","v":0},{"$f":"IF(HLOOKUP(AA$5,$B$6:$I$15,Points!$A10+1,FALSE)=\"TBD\",\"\",VLOOKUP(HLOOKUP(AA$5,$B$6:$I$15,Points!$A10+1,FALSE),'Cars & Results'!$A$7:$BZ$317,2*AA$5+6,FALSE))","v":13},{"$f":"IF(HLOOKUP(AA$5,$B$6:$I$15,Points!$A10+1,FALSE)=\"TBD\",\"\",IF(VLOOKUP(HLOOKUP(AA$5,$B$6:$I$15,Points!$A10+1,FALSE),'Cars & Results'!$A$7:$BZ$317,2*AA$5+5)<=10,AA14*3,0))","v":0}]
[{"$f":"VLOOKUP(HLOOKUP('Pick Distribution'!$P$2,$B$6:$I$15,10),'Current Owner Standings'!$A$71:$B$480,2,FALSE)","v":6},4,11,2,19,9,88,22,12,{"$f":"IF(ISNA(VLOOKUP($I15,'Cars & Results'!$A$6:$I$317,J$5,FALSE)),\"Invalid Number\",VLOOKUP($I15,'Cars & Results'!$A$6:$K$317,J$5,FALSE))","v":"Ryan Blaney"},{"$f":"IF(ISNA(VLOOKUP($I15,'Cars & Results'!$A$6:$I$317,K$5,FALSE)),\"Invalid Number\",VLOOKUP($I15,'Cars & Results'!$A$6:$K$317,K$5,FALSE))","v":"Ford"},{"$f":"IF(ISNA(VLOOKUP($I15,'Cars & Results'!$A$6:$I$317,L$5,FALSE)),\"Invalid Number\",VLOOKUP($I15,'Cars & Results'!$A$6:$K$317,L$5,FALSE))","v":"Team Penske"},{"$f":"IF(HLOOKUP(M$5,$B$6:$I$15,Points!$A11+1,FALSE)=\"TBD\",\"\",VLOOKUP(HLOOKUP(M$5,$B$6:$I$15,Points!$A11+1,FALSE),'Cars & Results'!$A$7:$BZ$317,2*M$5+6,FALSE))","v":42},0,{"$f":"IF(HLOOKUP(O$5,$B$6:$I$15,Points!$A11+1,FALSE)=\"TBD\",\"\",VLOOKUP(HLOOKUP(O$5,$B$6:$I$15,Points!$A11+1,FALSE),'Cars & Results'!$A$7:$BZ$317,2*O$5+6,FALSE))","v":54},54,{"$f":"IF(HLOOKUP(Q$5,$B$6:$I$15,Points!$A11+1,FALSE)=\"TBD\",\"\",VLOOKUP(HLOOKUP(Q$5,$B$6:$I$15,Points!$A11+1,FALSE),'Cars & Results'!$A$7:$BZ$317,2*Q$5+6,FALSE))","v":47},47,{"$f":"IF(HLOOKUP(S$5,$B$6:$I$15,Points!$A11+1,FALSE)=\"TBD\",\"\",VLOOKUP(HLOOKUP(S$5,$B$6:$I$15,Points!$A11+1,FALSE),'Cars & Results'!$A$7:$BZ$317,2*S$5+6,FALSE))","v":34},34,{"$f":"IF(HLOOKUP(U$5,$B$6:$I$15,Points!$A11+1,FALSE)=\"TBD\",\"\",VLOOKUP(HLOOKUP(U$5,$B$6:$I$15,Points!$A11+1,FALSE),'Cars & Results'!$A$7:$BZ$317,2*U$5+6,FALSE))","v":54},54,{"$f":"IF(HLOOKUP(W$5,$B$6:$I$15,Points!$A11+1,FALSE)=\"TBD\",\"\",VLOOKUP(HLOOKUP(W$5,$B$6:$I$15,Points!$A11+1,FALSE),'Cars & Results'!$A$7:$BZ$317,2*W$5+6,FALSE))","v":16},0,{"$f":"IF(HLOOKUP(Y$5,$B$6:$I$15,Points!$A11+1,FALSE)=\"TBD\",\"\",VLOOKUP(HLOOKUP(Y$5,$B$6:$I$15,Points!$A11+1,FALSE),'Cars & Results'!$A$7:$BZ$317,2*Y$5+6,FALSE))","v":45},0,{"$f":"IF(HLOOKUP(AA$5,$B$6:$I$15,Points!$A11+1,FALSE)=\"TBD\",\"\",VLOOKUP(HLOOKUP(AA$5,$B$6:$I$15,Points!$A11+1,FALSE),'Cars & Results'!$A$7:$BZ$317,2*AA$5+6,FALSE))","v":40},{"$f":"IF(HLOOKUP(AA$5,$B$6:$I$15,Points!$A11+1,FALSE)=\"TBD\",\"\",IF(AND(VLOOKUP(HLOOKUP(AA$5,$B$6:$I$15,Points!$A11+1,FALSE),'Cars & Results'!$A$7:$BZ$317,2*AA$5+5)<=3,$A$15<=25),AA15*1,IF(AND(VLOOKUP(HLOOKUP(AA$5,$B$6:$I$15,Points!$A11+1,FALSE),'Cars & Results'!$A$7:$BZ$317,2*AA$5+5)<=10,$A$15>25),AA15*3,0)))","v":0}]
[null,null,null,null,null,null,null,null,null,null,null,"Segment 1",null,{"$f":"IF(INDIRECT(ADDRESS(321,5+(M5*2),1,1,\"Cars & Results\"),TRUE)=\"Y\",IF(ISERROR(MATCH(INDIRECT(ADDRESS(318,5+(M5*2),1,1,\"Cars & Results\"),TRUE),B7:B15,0))=TRUE,0,10),\"\")","v":0},null,{"$f":"IF(INDIRECT(ADDRESS(321,5+(O5*2),1,1,\"Cars & Results\"),TRUE)=\"Y\",IF(ISERROR(MATCH(INDIRECT(ADDRESS(318,5+(O5*2),1,1,\"Cars & Results\"),TRUE),C7:C15,0))=TRUE,0,10),\"\")","v":10},null,{"$f":"IF(INDIRECT(ADDRESS(321,5+(Q5*2),1,1,\"Cars & Results\"),TRUE)=\"Y\",IF(ISERROR(MATCH(INDIRECT(ADDRESS(318,5+(Q5*2),1,1,\"Cars & Results\"),TRUE),D7:D15,0))=TRUE,0,10),\"\")","v":0},null,{"$f":"IF(INDIRECT(ADDRESS(321,5+(S5*2),1,1,\"Cars & Results\"),TRUE)=\"Y\",IF(ISERROR(MATCH(INDIRECT(ADDRESS(318,5+(S5*2),1,1,\"Cars & Results\"),TRUE),E7:E15,0))=TRUE,0,10),\"\")","v":0},null,{"$f":"IF(INDIRECT(ADDRESS(321,5+(U5*2),1,1,\"Cars & Results\"),TRUE)=\"Y\",IF(ISERROR(MATCH(INDIRECT(ADDRESS(318,5+(U5*2),1,1,\"Cars & Results\"),TRUE),F7:F15,0))=TRUE,0,10),\"\")","v":10},null,{"$f":"IF(INDIRECT(ADDRESS(321,5+(W5*2),1,1,\"Cars & Results\"),TRUE)=\"Y\",IF(ISERROR(MATCH(INDIRECT(ADDRESS(318,5+(W5*2),1,1,\"Cars & Results\"),TRUE),G7:G15,0))=TRUE,0,10),\"\")","v":0},null,{"$f":"IF(INDIRECT(ADDRESS(321,5+(Y5*2),1,1,\"Cars & Results\"),TRUE)=\"Y\",IF(ISERROR(MATCH(INDIRECT(ADDRESS(318,5+(Y5*2),1,1,\"Cars & Results\"),TRUE),H7:H15,0))=TRUE,0,10),\"\")","v":10},null,{"$f":"IF(INDIRECT(ADDRESS(321,5+(AA5*2),1,1,\"Cars & Results\"),TRUE)=\"Y\",IF(ISERROR(MATCH(INDIRECT(ADDRESS(318,5+(AA5*2),1,1,\"Cars & Results\"),TRUE),I7:I15,0))=TRUE,0,10),\"\")","v":0}]
[null,null,null,null,null,null,null,null,null,null,null,"Segment 2",null,{"$f":"IF(INDIRECT(ADDRESS(321,5+(M5*2),1,1,\"Cars & Results\"),TRUE)=\"Y\",IF(ISERROR(MATCH(INDIRECT(ADDRESS(319,5+(M5*2),1,1,\"Cars & Results\"),TRUE),B7:B15,0))=TRUE,0,10),\"\")","v":0},null,{"$f":"IF(INDIRECT(ADDRESS(321,5+(O5*2),1,1,\"Cars & Results\"),TRUE)=\"Y\",IF(ISERROR(MATCH(INDIRECT(ADDRESS(319,5+(O5*2),1,1,\"Cars & Results\"),TRUE),C7:C15,0))=TRUE,0,10),\"\")","v":0},null,{"$f":"IF(INDIRECT(ADDRESS(321,5+(Q5*2),1,1,\"Cars & Results\"),TRUE)=\"Y\",IF(ISERROR(MATCH(INDIRECT(ADDRESS(319,5+(Q5*2),1,1,\"Cars & Results\"),TRUE),D7:D15,0))=TRUE,0,10),\"\")","v":0},null,{"$f":"IF(INDIRECT(ADDRESS(321,5+(S5*2),1,1,\"Cars & Results\"),TRUE)=\"Y\",IF(ISERROR(MATCH(INDIRECT(ADDRESS(319,5+(S5*2),1,1,\"Cars & Results\"),TRUE),E7:E15,0))=TRUE,0,10),\"\")","v":10},null,{"$f":"IF(INDIRECT(ADDRESS(321,5+(U5*2),1,1,\"Cars & Results\"),TRUE)=\"Y\",IF(ISERROR(MATCH(INDIRECT(ADDRESS(319,5+(U5*2),1,1,\"Cars & Results\"),TRUE),F7:F15,0))=TRUE,0,10),\"\")","v":0},null,{"$f":"IF(INDIRECT(ADDRESS(321,5+(W5*2),1,1,\"Cars & Results\"),TRUE)=\"Y\",IF(ISERROR(MATCH(INDIRECT(ADDRESS(319,5+(W5*2),1,1,\"Cars & Results\"),TRUE),G7:G15,0))=TRUE,0,10),\"\")","v":0},null,{"$f":"IF(INDIRECT(ADDRESS(321,5+(Y5*2),1,1,\"Cars & Results\"),TRUE)=\"Y\",IF(ISERROR(MATCH(INDIRECT(ADDRESS(319,5+(Y5*2),1,1,\"Cars & Results\"),TRUE),H7:H15,0))=TRUE,0,10),\"\")","v":10},null,{"$f":"IF(INDIRECT(ADDRESS(321,5+(AA5*2),1,1,\"Cars & Results\"),TRUE)=\"Y\",IF(ISERROR(MATCH(INDIRECT(ADDRESS(319,5+(AA5*2),1,1,\"Cars & Results\"),TRUE),I7:I15,0))=TRUE,0,10),\"\")","v":0}]
[null,null,null,null,null,null,null,null,null,null,null,"Segment 3",null,{"$f":"IF(INDIRECT(ADDRESS(321,5+(M5*2),1,1,\"Cars & Results\"),TRUE)=\"Y\",IF(ISERROR(MATCH(INDIRECT(ADDRESS(320,5+(M5*2),1,1,\"Cars & Results\"),TRUE),B7:B15,0))=TRUE,0,15),\"\")","v":0},null,{"$f":"IF(INDIRECT(ADDRESS(321,5+(O5*2),1,1,\"Cars & Results\"),TRUE)=\"Y\",IF(ISERROR(MATCH(INDIRECT(ADDRESS(320,5+(O5*2),1,1,\"Cars & Results\"),TRUE),C7:C15,0))=TRUE,0,15),\"\")","v":0},null,{"$f":"IF(INDIRECT(ADDRESS(321,5+(Q5*2),1,1,\"Cars & Results\"),TRUE)=\"Y\",IF(ISERROR(MATCH(INDIRECT(ADDRESS(320,5+(Q5*2),1,1,\"Cars & Results\"),TRUE),D7:D15,0))=TRUE,0,15),\"\")","v":0},null,{"$f":"IF(INDIRECT(ADDRESS(321,5+(S5*2),1,1,\"Cars & Results\"),TRUE)=\"Y\",IF(ISERROR(MATCH(INDIRECT(ADDRESS(320,5+(S5*2),1,1,\"Cars & Results\"),TRUE),E7:E15,0))=TRUE,0,15),\"\")","v":15},null,{"$f":"IF(INDIRECT(ADDRESS(321,5+(U5*2),1,1,\"Cars & Results\"),TRUE)=\"Y\",IF(ISERROR(MATCH(INDIRECT(ADDRESS(320,5+(U5*2),1,1,\"Cars & Results\"),TRUE),F7:F15,0))=TRUE,0,15),\"\")","v":15},null,{"$f":"IF(INDIRECT(ADDRESS(321,5+(W5*2),1,1,\"Cars & Results\"),TRUE)=\"Y\",IF(ISERROR(MATCH(INDIRECT(ADDRESS(320,5+(W5*2),1,1,\"Cars & Results\"),TRUE),G7:G15,0))=TRUE,0,15),\"\")","v":0},null,{"$f":"IF(INDIRECT(ADDRESS(321,5+(Y5*2),1,1,\"Cars & Results\"),TRUE)=\"Y\",IF(ISERROR(MATCH(INDIRECT(ADDRESS(320,5+(Y5*2),1,1,\"Cars & Results\"),TRUE),H7:H15,0))=TRUE,0,15),\"\")","v":15},null,{"$f":"IF(INDIRECT(ADDRESS(321,5+(AA5*2),1,1,\"Cars & Results\"),TRUE)=\"Y\",IF(ISERROR(MATCH(INDIRECT(ADDRESS(320,5+(AA5*2),1,1,\"Cars & Results\"),TRUE),I7:I15,0))=TRUE,0,15),\"\")","v":0}]
[null,{"$f":"SUM(B7:B15)","v":331},252,333,434,392,499,353,383,null,null,null,{"$f":"SUM(M7:M15)","v":146},null,{"$f":"SUM(O7:O15)","v":198},null,{"$f":"SUM(Q7:Q15)","v":155},null,{"$f":"SUM(S7:S15)","v":221},null,{"$f":"SUM(U7:U15)","v":199},null,{"$f":"SUM(W7:W15)","v":182},null,{"$f":"SUM(Y7:Y15)","v":214},null,{"$f":"SUM(AA7:AA15)","v":191}]
[null,null,null,null,null,null,null,null,null,null,null,null,null,{"$f":"SUM(N7:N19)","v":0},null,{"$f":"SUM(P7:P19)","v":64},null,{"$f":"SUM(R7:R19)","v":47},null,{"$f":"SUM(T7:T19)","v":59},null,{"$f":"SUM(V7:V19)","v":79},null,{"$f":"SUM(X7:X19)","v":43.5},null,{"$f":"SUM(Z7:Z19)","v":35},null,{"$f":"SUM(AB7:AB19)","v":16}]
[null,null,null,null,null,null,null,null,null,null,null,"Race Total",{"$f":"M19+N20","v":146},null,{"$f":"O19+P20","v":262},null,{"$f":"Q19+R20","v":202},null,{"$f":"S19+T20","v":280},null,{"$f":"U19+V20","v":278},null,{"$f":"W19+X20","v":225.5},null,{"$f":"Y19+Z20","v":249},null,{"$f":"AA19+AB20","v":207},null,{"$f":"SUM(M21:AB21)","v":1849.5}]
[null,null,null,null,null,null,null,null,"1-8"]
[null,null,null,null,null,null,null,null,"9-16"]
[null,null,null,null,null,null,null,null,"17-23"]
[null,null,null,null,null,null,null,null,"24-30"]
[null,null,null,null,null,null,null,null,"31-35"]
[null,null,null,null,null,null,null,null,">35"]
[null,null,null,null,null,null,null,null,"Provisional"]

{"sheet":"Steve Sheppard","index":15,"n_rows":28,"n_cols":29,"rows_kept":28,"cut":false,"hidden":false,"merged":[[20,24,20,25],[4,22,4,23],[0,26,0,27],[1,26,1,27],[2,26,2,27],[3,26,3,27],[4,26,4,27],[20,26,20,27],[0,24,0,25],[3,24,3,25],[3,14,3,15],[3,16,3,17],[20,12,20,13],[20,14,20,15],[20,16,20,17],[4,12,4,13],[4,14,4,15],[4,16,4,17],[2,12,2,13],[2,14,2,15],[2,16,2,17],[0,20,0,21],[4,24,4,25],[4,20,4,21],[0,22,0,23],[0,12,0,13],[0,14,0,15],[0,16,0,17],[1,12,1,13],[1,14,1,15],[1,16,1,17],[0,18,0,19],[4,18,4,19],[3,12,3,13],[1,18,1,19],[1,20,1,21],[1,24,1,25],[2,20,2,21],[2,22,2,23],[2,24,2,25],[1,22,1,23],[2,18,2,19],[20,18,20,19],[20,20,20,21],[3,18,3,19],[3,20,3,21],[3,22,3,23],[20,22,20,23]]}
[null,null,null,null,null,null,null,null,null,null,null,null,{"$f":"VLOOKUP(M$5,Schedule!$A$8:$G$43,2,FALSE)","v":"2020-07-23"},null,{"$f":"VLOOKUP(O$5,Schedule!$A$8:$G$43,2,FALSE)","v":"2020-08-02"},null,{"$f":"VLOOKUP(Q$5,Schedule!$A$8:$G$43,2,FALSE)","v":"2020-08-08"},null,{"$f":"VLOOKUP(S$5,Schedule!$A$8:$G$43,2,FALSE)","v":"2020-08-09"},null,{"$f":"VLOOKUP(U$5,Schedule!$A$8:$G$43,2,FALSE)","v":"2020-08-16"},null,{"$f":"VLOOKUP(W$5,Schedule!$A$8:$G$43,2,FALSE)","v":"2020-08-22"},null,{"$f":"VLOOKUP(Y$5,Schedule!$A$8:$G$43,2,FALSE)","v":"2020-08-23"},null,{"$f":"VLOOKUP(AA$5,Schedule!$A$8:$G$43,2,FALSE)","v":"2020-08-29"}]
[null,null,null,null,null,null,null,null,null,null,null,null,{"$f":"VLOOKUP(M$5,Schedule!$A$8:$G$43,3,FALSE)","v":"Super Start Batteries 400"},null,{"$f":"VLOOKUP(O$5,Schedule!$A$8:$G$43,3,FALSE)","v":"Foxwoods Resort Casino 301"},null,{"$f":"VLOOKUP(Q$5,Schedule!$A$8:$G$43,3,FALSE)","v":"FireKeepers Casino 500"},null,{"$f":"VLOOKUP(S$5,Schedule!$A$8:$G$43,3,FALSE)","v":"Consumers Energy 500"},null,{"$f":"VLOOKUP(U$5,Schedule!$A$8:$G$43,3,FALSE)","v":"Go Bowling at The Glen"},null,{"$f":"VLOOKUP(W$5,Schedule!$A$8:$G$43,3,FALSE)","v":"Drydene 311 (Sat)"},null,{"$f":"VLOOKUP(Y$5,Schedule!$A$8:$G$43,3,FALSE)","v":"Drydene 311 (Sun)"},null,{"$f":"VLOOKUP(AA$5,Schedule!$A$8:$G$43,3,FALSE)","v":"Coke Zero Sugar 400"}]
[null,null,null,null,null,null,null,null,null,null,null,null,{"$f":"VLOOKUP(M$5,Schedule!$A$8:$G$43,2,FALSE)","v":"2020-07-23"},null,{"$f":"VLOOKUP(O$5,Schedule!$A$8:$G$43,2,FALSE)","v":"2020-08-02"},null,{"$f":"VLOOKUP(Q$5,Schedule!$A$8:$G$43,2,FALSE)","v":"2020-08-08"},null,{"$f":"VLOOKUP(S$5,Schedule!$A$8:$G$43,2,FALSE)","v":"2020-08-09"},null,{"$f":"VLOOKUP(U$5,Schedule!$A$8:$G$43,2,FALSE)","v":"2020-08-16"},null,{"$f":"VLOOKUP(W$5,Schedule!$A$8:$G$43,2,FALSE)","v":"2020-08-22"},null,{"$f":"VLOOKUP(Y$5,Schedule!$A$8:$G$43,2,FALSE)","v":"2020-08-23"},null,{"$f":"VLOOKUP(AA$5,Schedule!$A$8:$G$43,2,FALSE)","v":"2020-08-29"}]
[null,null,null,null,null,null,null,null,null,null,null,null,{"$f":"VLOOKUP(M$5,Schedule!$A$4:$G$43,5,FALSE)","v":"Kansas "},null,{"$f":"VLOOKUP(O$5,Schedule!$A$4:$G$43,5,FALSE)","v":"New Hamp"},null,{"$f":"VLOOKUP(Q$5,Schedule!$A$4:$G$43,5,FALSE)","v":"Michigan (Sat)"},null,{"$f":"VLOOKUP(S$5,Schedule!$A$4:$G$43,5,FALSE)","v":"Michigan (Sun)"},null,{"$f":"VLOOKUP(U$5,Schedule!$A$4:$G$43,5,FALSE)","v":"Daytona (Road)"},null,{"$f":"VLOOKUP(W$5,Schedule!$A$4:$G$43,5,FALSE)","v":"Dover (Sat)"},null,{"$f":"VLOOKUP(Y$5,Schedule!$A$4:$G$43,5,FALSE)","v":"Dover (Sun)"},null,{"$f":"VLOOKUP(AA$5,Schedule!$A$4:$G$43,5,FALSE)","v":"Daytona "}]
["Owner","Week","Week","Week","Week","Week","Week","Week","Week",2,3,4,19,null,20,null,21,null,22,null,23,null,24,null,25,null,26,null,"Total"]
["Points",19,20,21,22,23,24,25,26,"Driver","Make","Sponsor","Points","Bonus","Points","Bonus","Points","Bonus","Points","Bonus","Points","Bonus","Points","Bonus","Points","Bonus","Points","Bonus","Points"]
[{"$f":"VLOOKUP(HLOOKUP('Pick Distribution'!$P$2,$B$6:$I$15,$J$5),'Current Owner Standings'!$A$71:$B$480,2,FALSE)","v":1},22,22,22,22,4,4,4,4,{"$f":"IF(ISNA(VLOOKUP($I7,'Cars & Results'!$A$6:$I$317,J$5,FALSE)),\"Invalid Number\",VLOOKUP($I7,'Cars & Results'!$A$6:$K$317,J$5,FALSE))","v":"Kevin Harvick"},{"$f":"IF(ISNA(VLOOKUP($I7,'Cars & Results'!$A$6:$I$317,K$5,FALSE)),\"Invalid Number\",VLOOKUP($I7,'Cars & Results'!$A$6:$K$317,K$5,FALSE))","v":"Ford"},{"$f":"IF(ISNA(VLOOKUP($I7,'Cars & Results'!$A$6:$I$317,L$5,FALSE)),\"Invalid Number\",VLOOKUP($I7,'Cars & Results'!$A$6:$K$317,L$5,FALSE))","v":"Stewart-Haas Racing"},{"$f":"IF(HLOOKUP(M$5,$B$6:$I$15,Points!$A3+1,FALSE)=\"TBD\",\"\",VLOOKUP(HLOOKUP(M$5,$B$6:$I$15,Points!$A3+1,FALSE),'Cars & Results'!$A$7:$BZ$317,2*M$5+6,FALSE))","v":2},{"$f":"IF(HLOOKUP(M$5,$B$6:$I$15,Points!$A3+1,FALSE)=\"TBD\",\"\",0)","v":0},{"$f":"IF(HLOOKUP(O$5,$B$6:$I$15,Points!$A3+1,FALSE)=\"TBD\",\"\",VLOOKUP(HLOOKUP(O$5,$B$6:$I$15,Points!$A3+1,FALSE),'Cars & Results'!$A$7:$BZ$317,2*O$5+6,FALSE))","v":44},{"$f":"IF(HLOOKUP(O$5,$B$6:$I$15,Points!$A3+1,FALSE)=\"TBD\",\"\",0)","v":0},{"$f":"IF(HLOOKUP(Q$5,$B$6:$I$15,Points!$A3+1,FALSE)=\"TBD\",\"\",VLOOKUP(HLOOKUP(Q$5,$B$6:$I$15,Points!$A3+1,FALSE),'Cars & Results'!$A$7:$BZ$317,2*Q$5+6,FALSE))","v":29},{"$f":"IF(HLOOKUP(Q$5,$B$6:$I$15,Points!$A3+1,FALSE)=\"TBD\",\"\",0)","v":0},{"$f":"IF(HLOOKUP(S$5,$B$6:$I$15,Points!$A3+1,FALSE)=\"TBD\",\"\",VLOOKUP(HLOOKUP(S$5,$B$6:$I$15,Points!$A3+1,FALSE),'Cars & Results'!$A$7:$BZ$317,2*S$5+6,FALSE))","v":35},{"$f":"IF(HLOOKUP(S$5,$B$6:$I$15,Points!$A3+1,FALSE)=\"TBD\",\"\",0)","v":0},{"$f":"IF(HLOOKUP(U$5,$B$6:$I$15,Points!$A3+1,FALSE)=\"TBD\",\"\",VLOOKUP(HLOOKUP(U$5,$B$6:$I$15,Points!$A3+1,FALSE),'Cars & Results'!$A$7:$BZ$317,2*U$5+6,FALSE))","v":23},{"$f":"IF(HLOOKUP(U$5,$B$6:$I$15,Points!$A3+1,FALSE)=\"TBD\",\"\",0)","v":0},{"$f":"IF(HLOOKUP(W$5,$B$6:$I$15,Points!$A3+1,FALSE)=\"TBD\",\"\",VLOOKUP(HLOOKUP(W$5,$B$6:$I$15,Points!$A3+1,FALSE),'Cars & Results'!$A$7:$BZ$317,2*W$5+6,FALSE))","v":42},{"$f":"IF(HLOOKUP(W$5,$B$6:$I$15,Points!$A3+1,FALSE)=\"TBD\",\"\",0)","v":0},{"$f":"IF(HLOOKUP(Y$5,$B$6:$I$15,Points!$A3+1,FALSE)=\"TBD\",\"\",VLOOKUP(HLOOKUP(Y$5,$B$6:$I$15,Points!$A3+1,FALSE),'Cars & Results'!$A$7:$BZ$317,2*Y$5+6,FALSE))","v":60},{"$f":"IF(HLOOKUP(Y$5,$B$6:$I$15,Points!$A3+1,FALSE)=\"TBD\",\"\",0)","v":0},{"$f":"IF(HLOOKUP(AA$5,$B$6:$I$15,Points!$A3+1,FALSE)=\"TBD\",\"\",VLOOKUP(HLOOKUP(AA$5,$B$6:$I$15,Points!$A3+1,FALSE),'Cars & Results'!$A$7:$BZ$317,2*AA$5+6,FALSE))","v":17},{"$f":"IF(HLOOKUP(AA$5,$B$6:$I$15,Points!$A3+1,FALSE)=\"TBD\",\"\",0)","v":0}]
[{"$f":"VLOOKUP(HLOOKUP('Pick Distribution'!$P$2,$B$6:$I$15,3),'Current Owner Standings'!$A$71:$B$480,2,FALSE)","v":9},48,20,3,3,18,18,18,18,{"$f":"IF(ISNA(VLOOKUP($I8,'Cars & Results'!$A$6:$I$317,J$5,FALSE)),\"Invalid Number\",VLOOKUP($I8,'Cars & Results'!$A$6:$K$317,J$5,FALSE))","v":"Kyle Busch"},{"$f":"IF(ISNA(VLOOKUP($I8,'Cars & Results'!$A$6:$I$317,K$5,FALSE)),\"Invalid Number\",VLOOKUP($I8,'Cars & Results'!$A$6:$K$317,K$5,FALSE))","v":"Toyota"},{"$f":"IF(ISNA(VLOOKUP($I8,'Cars & Results'!$A$6:$I$317,L$5,FALSE)),\"Invalid Number\",VLOOKUP($I8,'Cars & Results'!$A$6:$K$317,L$5,FALSE))","v":"Joe Gibbs Racing"},{"$f":"IF(HLOOKUP(M$5,$B$6:$I$15,Points!$A4+1,FALSE)=\"TBD\",\"\",VLOOKUP(HLOOKUP(M$5,$B$6:$I$15,Points!$A4+1,FALSE),'Cars & Results'!$A$7:$BZ$317,2*M$5+6,FALSE))","v":7},{"$f":"IF(HLOOKUP(M$5,$B$6:$I$15,Points!$A4+1,FALSE)=\"TBD\",\"\",IF(VLOOKUP(HLOOKUP(M$5,$B$6:$I$15,Points!$A4+1,FALSE),'Cars & Results'!$A$7:$BZ$317,2*M$5+5)=1,M8*0.25,0))","v":0},{"$f":"IF(HLOOKUP(O$5,$B$6:$I$15,Points!$A4+1,FALSE)=\"TBD\",\"\",VLOOKUP(HLOOKUP(O$5,$B$6:$I$15,Points!$A4+1,FALSE),'Cars & Results'!$A$7:$BZ$317,2*O$5+6,FALSE))","v":13},{"$f":"IF(HLOOKUP(O$5,$B$6:$I$15,Points!$A4+1,FALSE)=\"TBD\",\"\",IF(VLOOKUP(HLOOKUP(O$5,$B$6:$I$15,Points!$A4+1,FALSE),'Cars & Results'!$A$7:$BZ$317,2*O$5+5)=1,O8*0.25,0))","v":0},{"$f":"IF(HLOOKUP(Q$5,$B$6:$I$15,Points!$A4+1,FALSE)=\"TBD\",\"\",VLOOKUP(HLOOKUP(Q$5,$B$6:$I$15,Points!$A4+1,FALSE),'Cars & Results'!$A$7:$BZ$317,2*Q$5+6,FALSE))","v":6},{"$f":"IF(HLOOKUP(Q$5,$B$6:$I$15,Points!$A4+1,FALSE)=\"TBD\",\"\",IF(VLOOKUP(HLOOKUP(Q$5,$B$6:$I$15,Points!$A4+1,FALSE),'Cars & Results'!$A$7:$BZ$317,2*Q$5+5)=1,Q8*0.25,0))","v":0},{"$f":"IF(HLOOKUP(S$5,$B$6:$I$15,Points!$A4+1,FALSE)=\"TBD\",\"\",VLOOKUP(HLOOKUP(S$5,$B$6:$I$15,Points!$A4+1,FALSE),'Cars & Results'!$A$7:$BZ$317,2*S$5+6,FALSE))","v":29},{"$f":"IF(HLOOKUP(S$5,$B$6:$I$15,Points!$A4+1,FALSE)=\"TBD\",\"\",IF(VLOOKUP(HLOOKUP(S$5,$B$6:$I$15,Points!$A4+1,FALSE),'Cars & Results'!$A$7:$BZ$317,2*S$5+5)=1,S8*0.25,0))","v":0},{"$f":"IF(HLOOKUP(U$5,$B$6:$I$15,Points!$A4+1,FALSE)=\"TBD\",\"\",VLOOKUP(HLOOKUP(U$5,$B$6:$I$15,Points!$A4+1,FALSE),'Cars & Results'!$A$7:$BZ$317,2*U$5+6,FALSE))","v":1},{"$f":"IF(HLOOKUP(U$5,$B$6:$I$15,Points!$A4+1,FALSE)=\"TBD\",\"\",IF(VLOOKUP(HLOOKUP(U$5,$B$6:$I$15,Points!$A4+1,FALSE),'Cars & Results'!$A$7:$BZ$317,2*U$5+5)=1,U8*0.25,0))","v":0},{"$f":"IF(HLOOKUP(W$5,$B$6:$I$15,Points!$A4+1,FALSE)=\"TBD\",\"\",VLOOKUP(HLOOKUP(W$5,$B$6:$I$15,Points!$A4+1,FALSE),'Cars & Results'!$A$7:$BZ$317,2*W$5+6,FALSE))","v":41},{"$f":"IF(HLOOKUP(W$5,$B$6:$I$15,Points!$A4+1,FALSE)=\"TBD\",\"\",IF(VLOOKUP(HLOOKUP(W$5,$B$6:$I$15,Points!$A4+1,FALSE),'Cars & Results'!$A$7:$BZ$317,2*W$5+5)=1,W8*0.25,0))","v":0},{"$f":"IF(HLOOKUP(Y$5,$B$6:$I$15,Points!$A4+1,FALSE)=\"TBD\",\"\",VLOOKUP(HLOOKUP(Y$5,$B$6:$I$15,Points!$A4+1,FALSE),'Cars & Results'!$A$7:$BZ$317,2*Y$5+6,FALSE))","v":26},{"$f":"IF(HLOOKUP(Y$5,$B$6:$I$15,Points!$A4+1,FALSE)=\"TBD\",\"\",IF(VLOOKUP(HLOOKUP(Y$5,$B$6:$I$15,Points!$A4+1,FALSE),'Cars & Results'!$A$7:$BZ$317,2*Y$5+5)=1,Y8*0.25,0))","v":0},{"$f":"IF(HLOOKUP(AA$5,$B$6:$I$15,Points!$A4+1,FALSE)=\"TBD\",\"\",VLOOKUP(HLOOKUP(AA$5,$B$6:$I$15,Points!$A4+1,FALSE),'Cars & Results'!$A$7:$BZ$317,2*AA$5+6,FALSE))","v":5},{"$f":"IF(HLOOKUP(AA$5,$B$6:$I$15,Points!$A4+1,FALSE)=\"TBD\",\"\",IF(VLOOKUP(HLOOKUP(AA$5,$B$6:$I$15,Points!$A4+1,FALSE),'Cars & Results'!$A$7:$BZ$317,2*AA$5+5)=1,AA8*0.25,0))","v":0}]
[{"$f":"VLOOKUP(HLOOKUP('Pick Distribution'!$P$2,$B$6:$I$15,4),'Current Owner Standings'!$A$71:$B$480,2,FALSE)","v":19},42,42,42,42,42,42,42,42,{"$f":"IF(ISNA(VLOOKUP($I9,'Cars & Results'!$A$6:$I$317,J$5,FALSE)),\"Invalid Number\",VLOOKUP($I9,'Cars & Results'!$A$6:$K$317,J$5,FALSE))","v":"Matt Kenseth"},{"$f":"IF(ISNA(VLOOKUP($I9,'Cars & Results'!$A$6:$I$317,K$5,FALSE)),\"Invalid Number\",VLOOKUP($I9,'Cars & Results'!$A$6:$K$317,K$5,FALSE))","v":"Chevrolet"},{"$f":"IF(ISNA(VLOOKUP($I9,'Cars & Results'!$A$6:$I$317,L$5,FALSE)),\"Invalid Number\",VLOOKUP($I9,'Cars & Results'!$A$6:$K$317,L$5,FALSE))","v":"Chip Ganassi Racing"},{"$f":"IF(HLOOKUP(M$5,$B$6:$I$15,Points!$A5+1,FALSE)=\"TBD\",\"\",VLOOKUP(HLOOKUP(M$5,$B$6:$I$15,Points!$A5+1,FALSE),'Cars & Results'!$A$7:$BZ$317,2*M$5+6,FALSE))","v":20},{"$f":"IF(HLOOKUP(M$5,$B$6:$I$15,Points!$A5+1,FALSE)=\"TBD\",\"\",IF(VLOOKUP(HLOOKUP(M$5,$B$6:$I$15,Points!$A5+1,FALSE),'Cars & Results'!$A$7:$BZ$317,2*M$5+5)<=5,M9*0.5,0))","v":0},{"$f":"IF(HLOOKUP(O$5,$B$6:$I$15,Points!$A5+1,FALSE)=\"TBD\",\"\",VLOOKUP(HLOOKUP(O$5,$B$6:$I$15,Points!$A5+1,FALSE),'Cars & Results'!$A$7:$BZ$317,2*O$5+6,FALSE))","v":1},{"$f":"IF(HLOOKUP(O$5,$B$6:$I$15,Points!$A5+1,FALSE)=\"TBD\",\"\",IF(VLOOKUP(HLOOKUP(O$5,$B$6:$I$15,Points!$A5+1,FALSE),'Cars & Results'!$A$7:$BZ$317,2*O$5+5)<=5,O9*0.5,0))","v":0},{"$f":"IF(HLOOKUP(Q$5,$B$6:$I$15,Points!$A5+1,FALSE)=\"TBD\",\"\",VLOOKUP(HLOOKUP(Q$5,$B$6:$I$15,Points!$A5+1,FALSE),'Cars & Results'!$A$7:$BZ$317,2*Q$5+6,FALSE))","v":20},{"$f":"IF(HLOOKUP(Q$5,$B$6:$I$15,Points!$A5+1,FALSE)=\"TBD\",\"\",IF(VLOOKUP(HLOOKUP(Q$5,$B$6:$I$15,Points!$A5+1,FALSE),'Cars & Results'!$A$7:$BZ$317,2*Q$5+5)<=5,Q9*0.5,0))","v":0},{"$f":"IF(HLOOKUP(S$5,$B$6:$I$15,Points!$A5+1,FALSE)=\"TBD\",\"\",VLOOKUP(HLOOKUP(S$5,$B$6:$I$15,Points!$A5+1,FALSE),'Cars & Results'!$A$7:$BZ$317,2*S$5+6,FALSE))","v":22},{"$f":"IF(HLOOKUP(S$5,$B$6:$I$15,Points!$A5+1,FALSE)=\"TBD\",\"\",IF(VLOOKUP(HLOOKUP(S$5,$B$6:$I$15,Points!$A5+1,FALSE),'Cars & Results'!$A$7:$BZ$317,2*S$5+5)<=5,S9*0.5,0))","v":0},{"$f":"IF(HLOOKUP(U$5,$B$6:$I$15,Points!$A5+1,FALSE)=\"TBD\",\"\",VLOOKUP(HLOOKUP(U$5,$B$6:$I$15,Points!$A5+1,FALSE),'Cars & Results'!$A$7:$BZ$317,2*U$5+6,FALSE))","v":11},{"$f":"IF(HLOOKUP(U$5,$B$6:$I$15,Points!$A5+1,FALSE)=\"TBD\",\"\",IF(VLOOKUP(HLOOKUP(U$5,$B$6:$I$15,Points!$A5+1,FALSE),'Cars & Results'!$A$7:$BZ$317,2*U$5+5)<=5,U9*0.5,0))","v":0},{"$f":"IF(HLOOKUP(W$5,$B$6:$I$15,Points!$A5+1,FALSE)=\"TBD\",\"\",VLOOKUP(HLOOKUP(W$5,$B$6:$I$15,Points!$A5+1,FALSE),'Cars & Results'!$A$7:$BZ$317,2*W$5+6,FALSE))","v":14},{"$f":"IF(HLOOKUP(W$5,$B$6:$I$15,Points!$A5+1,FALSE)=\"TBD\",\"\",IF(VLOOKUP(HLOOKUP(W$5,$B$6:$I$15,Points!$A5+1,FALSE),'Cars & Results'!$A$7:$BZ$317,2*W$5+5)<=5,W9*0.5,0))","v":0},{"$f":"IF(HLOOKUP(Y$5,$B$6:$I$15,Points!$A5+1,FALSE)=\"TBD\",\"\",VLOOKUP(HLOOKUP(Y$5,$B$6:$I$15,Points!$A5+1,FALSE),'Cars & Results'!$A$7:$BZ$317,2*Y$5+6,FALSE))","v":22},{"$f":"IF(HLOOKUP(Y$5,$B$6:$I$15,Points!$A5+1,FALSE)=\"TBD\",\"\",IF(VLOOKUP(HLOOKUP(Y$5,$B$6:$I$15,Points!$A5+1,FALSE),'Cars & Results'!$A$7:$BZ$317,2*Y$5+5)<=5,Y9*0.5,0))","v":0},{"$f":"IF(HLOOKUP(AA$5,$B$6:$I$15,Points!$A5+1,FALSE)=\"TBD\",\"\",VLOOKUP(HLOOKUP(AA$5,$B$6:$I$15,Points!$A5+1,FALSE),'Cars & Results'!$A$7:$BZ$317,2*AA$5+6,FALSE))","v":9},{"$f":"IF(HLOOKUP(AA$5,$B$6:$I$15,Points!$A5+1,FALSE)=\"TBD\",\"\",IF(VLOOKUP(HLOOKUP(AA$5,$B$6:$I$15,Points!$A5+1,FALSE),'Cars & Results'!$A$7:$BZ$317,2*AA$5+5)<=5,AA9*0.5,0))","v":0}]
[{"$f":"VLOOKUP(HLOOKUP('Pick Distribution'!$P$2,$B$6:$I$15,5),'Current Owner Standings'!$A$71:$B$480,2,FALSE)","v":18},6,6,6,6,8,8,8,8,{"$f":"IF(ISNA(VLOOKUP($I10,'Cars & Results'!$A$6:$I$317,J$5,FALSE)),\"Invalid Number\",VLOOKUP($I10,'Cars & Results'!$A$6:$K$317,J$5,FALSE))","v":"Tyler Reddick (R)"},{"$f":"IF(ISNA(VLOOKUP($I10,'Cars & Results'!$A$6:$I$317,K$5,FALSE)),\"Invalid Number\",VLOOKUP($I10,'Cars & Results'!$A$6:$K$317,K$5,FALSE))","v":"Chevrolet"},{"$f":"IF(ISNA(VLOOKUP($I10,'Cars & Results'!$A$6:$I$317,L$5,FALSE)),\"Invalid Number\",VLOOKUP($I10,'Cars & Results'!$A$6:$K$317,L$5,FALSE))","v":"Richard Childress Racing"},{"$f":"IF(HLOOKUP(M$5,$B$6:$I$15,Points!$A6+1,FALSE)=\"TBD\",\"\",VLOOKUP(HLOOKUP(M$5,$B$6:$I$15,Points!$A6+1,FALSE),'Cars & Results'!$A$7:$BZ$317,2*M$5+6,FALSE))","v":9},{"$f":"IF(HLOOKUP(M$5,$B$6:$I$15,Points!$A6+1,FALSE)=\"TBD\",\"\",IF(VLOOKUP(HLOOKUP(M$5,$B$6:$I$15,Points!$A6+1,FALSE),'Cars & Results'!$A$7:$BZ$317,2*M$5+5)<=5,M10*0.5,0))","v":0},{"$f":"IF(HLOOKUP(O$5,$B$6:$I$15,Points!$A6+1,FALSE)=\"TBD\",\"\",VLOOKUP(HLOOKUP(O$5,$B$6:$I$15,Points!$A6+1,FALSE),'Cars & Results'!$A$7:$BZ$317,2*O$5+6,FALSE))","v":16},{"$f":"IF(HLOOKUP(O$5,$B$6:$I$15,Points!$A6+1,FALSE)=\"TBD\",\"\",IF(VLOOKUP(HLOOKUP(O$5,$B$6:$I$15,Points!$A6+1,FALSE),'Cars & Results'!$A$7:$BZ$317,2*O$5+5)<=5,O10*0.5,0))","v":0},{"$f":"IF(HLOOKUP(Q$5,$B$6:$I$15,Points!$A6+1,FALSE)=\"TBD\",\"\",VLOOKUP(HLOOKUP(Q$5,$B$6:$I$15,Points!$A6+1,FALSE),'Cars & Results'!$A$7:$BZ$317,2*Q$5+6,FALSE))","v":9},{"$f":"IF(HLOOKUP(Q$5,$B$6:$I$15,Points!$A6+1,FALSE)=\"TBD\",\"\",IF(VLOOKUP(HLOOKUP(Q$5,$B$6:$I$15,Points!$A6+1,FALSE),'Cars & Results'!$A$7:$BZ$317,2*Q$5+5)<=5,Q10*0.5,0))","v":0},{"$f":"IF(HLOOKUP(S$5,$B$6:$I$15,Points!$A6+1,FALSE)=\"TBD\",\"\",VLOOKUP(HLOOKUP(S$5,$B$6:$I$15,Points!$A6+1,FALSE),'Cars & Results'!$A$7:$BZ$317,2*S$5+6,FALSE))","v":24},{"$f":"IF(HLOOKUP(S$5,$B$6:$I$15,Points!$A6+1,FALSE)=\"TBD\",\"\",IF(VLOOKUP(HLOOKUP(S$5,$B$6:$I$15,Points!$A6+1,FALSE),'Cars & Results'!$A$7:$BZ$317,2*S$5+5)<=5,S10*0.5,0))","v":0},{"$f":"IF(HLOOKUP(U$5,$B$6:$I$15,Points!$A6+1,FALSE)=\"TBD\",\"\",VLOOKUP(HLOOKUP(U$5,$B$6:$I$15,Points!$A6+1,FALSE),'Cars & Results'!$A$7:$BZ$317,2*U$5+6,FALSE))","v":19},{"$f":"IF(HLOOKUP(U$5,$B$6:$I$15,Points!$A6+1,FALSE)=\"TBD\",\"\",IF(VLOOKUP(HLOOKUP(U$5,$B$6:$I$15,Points!$A6+1,FALSE),'Cars & Results'!$A$7:$BZ$317,2*U$5+5)<=5,U10*0.5,0))","v":0},{"$f":"IF(HLOOKUP(W$5,$B$6:$I$15,Points!$A6+1,FALSE)=\"TBD\",\"\",VLOOKUP(HLOOKUP(W$5,$B$6:$I$15,Points!$A6+1,FALSE),'Cars & Results'!$A$7:$BZ$317,2*W$5+6,FALSE))","v":24},{"$f":"IF(HLOOKUP(W$5,$B$6:$I$15,Points!$A6+1,FALSE)=\"TBD\",\"\",IF(VLOOKUP(HLOOKUP(W$5,$B$6:$I$15,Points!$A6+1,FALSE),'Cars & Results'!$A$7:$BZ$317,2*W$5+5)<=5,W10*0.5,0))","v":0},{"$f":"IF(HLOOKUP(Y$5,$B$6:$I$15,Points!$A6+1,FALSE)=\"TBD\",\"\",VLOOKUP(HLOOKUP(Y$5,$B$6:$I$15,Points!$A6+1,FALSE),'Cars & Results'!$A$7:$BZ$317,2*Y$5+6,FALSE))","v":19},{"$f":"IF(HLOOKUP(Y$5,$B$6:$I$15,Points!$A6+1,FALSE)=\"TBD\",\"\",IF(VLOOKUP(HLOOKUP(Y$5,$B$6:$I$15,Points!$A6+1,FALSE),'Cars & Results'!$A$7:$BZ$317,2*Y$5+5)<=5,Y10*0.5,0))","v":0},{"$f":"IF(HLOOKUP(AA$5,$B$6:$I$15,Points!$A6+1,FALSE)=\"TBD\",\"\",VLOOKUP(HLOOKUP(AA$5,$B$6:$I$15,Points!$A6+1,FALSE),'Cars & Results'!$A$7:$BZ$317,2*AA$5+6,FALSE))","v":16},{"$f":"IF(HLOOKUP(AA$5,$B$6:$I$15,Points!$A6+1,FALSE)=\"TBD\",\"\",IF(VLOOKUP(HLOOKUP(AA$5,$B$6:$I$15,Points!$A6+1,FALSE),'Cars & Results'!$A$7:$BZ$317,2*AA$5+5)<=5,AA10*0.5,0))","v":0}]
[{"$f":"VLOOKUP(HLOOKUP('Pick Distribution'!$P$2,$B$6:$I$15,6),'Current Owner Standings'!$A$71:$B$480,2,FALSE)","v":24},41,32,32,32,32,32,32,6,{"$f":"IF(ISNA(VLOOKUP($I11,'Cars & Results'!$A$6:$I$317,J$5,FALSE)),\"Invalid Number\",VLOOKUP($I11,'Cars & Results'!$A$6:$K$317,J$5,FALSE))","v":"Ryan Newman"},{"$f":"IF(ISNA(VLOOKUP($I11,'Cars & Results'!$A$6:$I$317,K$5,FALSE)),\"Invalid Number\",VLOOKUP($I11,'Cars & Results'!$A$6:$K$317,K$5,FALSE))","v":"Ford"},{"$f":"IF(ISNA(VLOOKUP($I11,'Cars & Results'!$A$6:$I$317,L$5,FALSE)),\"Invalid Number\",VLOOKUP($I11,'Cars & Results'!$A$6:$K$317,L$5,FALSE))","v":"Roush Fenway Racing"},{"$f":"IF(HLOOKUP(M$5,$B$6:$I$15,Points!$A7+1,FALSE)=\"TBD\",\"\",VLOOKUP(HLOOKUP(M$5,$B$6:$I$15,Points!$A7+1,FALSE),'Cars & Results'!$A$7:$BZ$317,2*M$5+6,FALSE))","v":30},{"$f":"IF(HLOOKUP(M$5,$B$6:$I$15,Points!$A7+1,FALSE)=\"TBD\",\"\",IF(VLOOKUP(HLOOKUP(M$5,$B$6:$I$15,Points!$A7+1,FALSE),'Cars & Results'!$A$7:$BZ$317,2*M$5+5)<=10,M11*1.5,0))","v":45},{"$f":"IF(HLOOKUP(O$5,$B$6:$I$15,Points!$A7+1,FALSE)=\"TBD\",\"\",VLOOKUP(HLOOKUP(O$5,$B$6:$I$15,Points!$A7+1,FALSE),'Cars & Results'!$A$7:$BZ$317,2*O$5+6,FALSE))","v":2},{"$f":"IF(HLOOKUP(O$5,$B$6:$I$15,Points!$A7+1,FALSE)=\"TBD\",\"\",IF(VLOOKUP(HLOOKUP(O$5,$B$6:$I$15,Points!$A7+1,FALSE),'Cars & Results'!$A$7:$BZ$317,2*O$5+5)<=10,O11*1.5,0))","v":0},{"$f":"IF(HLOOKUP(Q$5,$B$6:$I$15,Points!$A7+1,FALSE)=\"TBD\",\"\",VLOOKUP(HLOOKUP(Q$5,$B$6:$I$15,Points!$A7+1,FALSE),'Cars & Results'!$A$7:$BZ$317,2*Q$5+6,FALSE))","v":15},{"$f":"IF(HLOOKUP(Q$5,$B$6:$I$15,Points!$A7+1,FALSE)=\"TBD\",\"\",IF(VLOOKUP(HLOOKUP(Q$5,$B$6:$I$15,Points!$A7+1,FALSE),'Cars & Results'!$A$7:$BZ$317,2*Q$5+5)<=10,Q11*1.5,0))","v":0},{"$f":"IF(HLOOKUP(S$5,$B$6:$I$15,Points!$A7+1,FALSE)=\"TBD\",\"\",VLOOKUP(HLOOKUP(S$5,$B$6:$I$15,Points!$A7+1,FALSE),'Cars & Results'!$A$7:$BZ$317,2*S$5+6,FALSE))","v":15},{"$f":"IF(HLOOKUP(S$5,$B$6:$I$15,Points!$A7+1,FALSE)=\"TBD\",\"\",IF(VLOOKUP(HLOOKUP(S$5,$B$6:$I$15,Points!$A7+1,FALSE),'Cars & Results'!$A$7:$BZ$317,2*S$5+5)<=10,S11*1.5,0))","v":0},{"$f":"IF(HLOOKUP(U$5,$B$6:$I$15,Points!$A7+1,FALSE)=\"TBD\",\"\",VLOOKUP(HLOOKUP(U$5,$B$6:$I$15,Points!$A7+1,FALSE),'Cars & Results'!$A$7:$BZ$317,2*U$5+6,FALSE))","v":6},{"$f":"IF(HLOOKUP(U$5,$B$6:$I$15,Points!$A7+1,FALSE)=\"TBD\",\"\",IF(VLOOKUP(HLOOKUP(U$5,$B$6:$I$15,Points!$A7+1,FALSE),'Cars & Results'!$A$7:$BZ$317,2*U$5+5)<=10,U11*1.5,0))","v":0},{"$f":"IF(HLOOKUP(W$5,$B$6:$I$15,Points!$A7+1,FALSE)=\"TBD\",\"\",VLOOKUP(HLOOKUP(W$5,$B$6:$I$15,Points!$A7+1,FALSE),'Cars & Results'!$A$7:$BZ$317,2*W$5+6,FALSE))","v":8},{"$f":"IF(HLOOKUP(W$5,$B$6:$I$15,Points!$A7+1,FALSE)=\"TBD\",\"\",IF(VLOOKUP(HLOOKUP(W$5,$B$6:$I$15,Points!$A7+1,FALSE),'Cars & Results'!$A$7:$BZ$317,2*W$5+5)<=10,W11*1.5,0))","v":0},{"$f":"IF(HLOOKUP(Y$5,$B$6:$I$15,Points!$A7+1,FALSE)=\"TBD\",\"\",VLOOKUP(HLOOKUP(Y$5,$B$6:$I$15,Points!$A7+1,FALSE),'Cars & Results'!$A$7:$BZ$317,2*Y$5+6,FALSE))","v":14},{"$f":"IF(HLOOKUP(Y$5,$B$6:$I$15,Points!$A7+1,FALSE)=\"TBD\",\"\",IF(VLOOKUP(HLOOKUP(Y$5,$B$6:$I$15,Points!$A7+1,FALSE),'Cars & Results'!$A$7:$BZ$317,2*Y$5+5)<=10,Y11*1.5,0))","v":0},{"$f":"IF(HLOOKUP(AA$5,$B$6:$I$15,Points!$A7+1,FALSE)=\"TBD\",\"\",VLOOKUP(HLOOKUP(AA$5,$B$6:$I$15,Points!$A7+1,FALSE),'Cars & Results'!$A$7:$BZ$317,2*AA$5+6,FALSE))","v":1},{"$f":"IF(HLOOKUP(AA$5,$B$6:$I$15,Points!$A7+1,FALSE)=\"TBD\",\"\",IF(VLOOKUP(HLOOKUP(AA$5,$B$6:$I$15,Points!$A7+1,FALSE),'Cars & Results'!$A$7:$BZ$317,2*AA$5+5)<=10,AA11*1.5,0))","v":0}]
[{"$f":"VLOOKUP(HLOOKUP('Pick Distribution'!$P$2,$B$6:$I$15,7),'Current Owner Standings'!$A$71:$B$480,2,FALSE)","v":25},47,47,47,47,47,47,37,47,{"$f":"IF(ISNA(VLOOKUP($I12,'Cars & Results'!$A$6:$I$317,J$5,FALSE)),\"Invalid Number\",VLOOKUP($I12,'Cars & Results'!$A$6:$K$317,J$5,FALSE))","v":"Ricky Stenhouse Jr."},{"$f":"IF(ISNA(VLOOKUP($I12,'Cars & Results'!$A$6:$I$317,K$5,FALSE)),\"Invalid Number\",VLOOKUP($I12,'Cars & Results'!$A$6:$K$317,K$5,FALSE))","v":"Chevrolet"},{"$f":"IF(ISNA(VLOOKUP($I12,'Cars & Results'!$A$6:$I$317,L$5,FALSE)),\"Invalid Number\",VLOOKUP($I12,'Cars & Results'!$A$6:$K$317,L$5,FALSE))","v":"JTG Daugherty Racing"},{"$f":"IF(HLOOKUP(M$5,$B$6:$I$15,Points!$A8+1,FALSE)=\"TBD\",\"\",VLOOKUP(HLOOKUP(M$5,$B$6:$I$15,Points!$A8+1,FALSE),'Cars & Results'!$A$7:$BZ$317,2*M$5+6,FALSE))","v":1},{"$f":"IF(HLOOKUP(M$5,$B$6:$I$15,Points!$A8+1,FALSE)=\"TBD\",\"\",IF(VLOOKUP(HLOOKUP(M$5,$B$6:$I$15,Points!$A8+1,FALSE),'Cars & Results'!$A$7:$BZ$317,2*M$5+5)<=10,M12*1.5,0))","v":0},{"$f":"IF(HLOOKUP(O$5,$B$6:$I$15,Points!$A8+1,FALSE)=\"TBD\",\"\",VLOOKUP(HLOOKUP(O$5,$B$6:$I$15,Points!$A8+1,FALSE),'Cars & Results'!$A$7:$BZ$317,2*O$5+6,FALSE))","v":23},{"$f":"IF(HLOOKUP(O$5,$B$6:$I$15,Points!$A8+1,FALSE)=\"TBD\",\"\",IF(VLOOKUP(HLOOKUP(O$5,$B$6:$I$15,Points!$A8+1,FALSE),'Cars & Results'!$A$7:$BZ$317,2*O$5+5)<=10,O12*1.5,0))","v":0},{"$f":"IF(HLOOKUP(Q$5,$B$6:$I$15,Points!$A8+1,FALSE)=\"TBD\",\"\",VLOOKUP(HLOOKUP(Q$5,$B$6:$I$15,Points!$A8+1,FALSE),'Cars & Results'!$A$7:$BZ$317,2*Q$5+6,FALSE))","v":6},{"$f":"IF(HLOOKUP(Q$5,$B$6:$I$15,Points!$A8+1,FALSE)=\"TBD\",\"\",IF(VLOOKUP(HLOOKUP(Q$5,$B$6:$I$15,Points!$A8+1,FALSE),'Cars & Results'!$A$7:$BZ$317,2*Q$5+5)<=10,Q12*1.5,0))","v":0},{"$f":"IF(HLOOKUP(S$5,$B$6:$I$15,Points!$A8+1,FALSE)=\"TBD\",\"\",VLOOKUP(HLOOKUP(S$5,$B$6:$I$15,Points!$A8+1,FALSE),'Cars & Results'!$A$7:$BZ$317,2*S$5+6,FALSE))","v":18},{"$f":"IF(HLOOKUP(S$5,$B$6:$I$15,Points!$A8+1,FALSE)=\"TBD\",\"\",IF(VLOOKUP(HLOOKUP(S$5,$B$6:$I$15,Points!$A8+1,FALSE),'Cars & Results'!$A$7:$BZ$317,2*S$5+5)<=10,S12*1.5,0))","v":0},{"$f":"IF(HLOOKUP(U$5,$B$6:$I$15,Points!$A8+1,FALSE)=\"TBD\",\"\",VLOOKUP(HLOOKUP(U$5,$B$6:$I$15,Points!$A8+1,FALSE),'Cars & Results'!$A$7:$BZ$317,2*U$5+6,FALSE))","v":27},{"$f":"IF(HLOOKUP(U$5,$B$6:$I$15,Points!$A8+1,FALSE)=\"TBD\",\"\",IF(VLOOKUP(HLOOKUP(U$5,$B$6:$I$15,Points!$A8+1,FALSE),'Cars & Results'!$A$7:$BZ$317,2*U$5+5)<=10,U12*1.5,0))","v":0},{"$f":"IF(HLOOKUP(W$5,$B$6:$I$15,Points!$A8+1,FALSE)=\"TBD\",\"\",VLOOKUP(HLOOKUP(W$5,$B$6:$I$15,Points!$A8+1,FALSE),'Cars & Results'!$A$7:$BZ$317,2*W$5+6,FALSE))","v":29},{"$f":"IF(HLOOKUP(W$5,$B$6:$I$15,Points!$A8+1,FALSE)=\"TBD\",\"\",IF(VLOOKUP(HLOOKUP(W$5,$B$6:$I$15,Points!$A8+1,FALSE),'Cars & Results'!$A$7:$BZ$317,2*W$5+5)<=10,W12*1.5,0))","v":43.5},{"$f":"IF(HLOOKUP(Y$5,$B$6:$I$15,Points!$A8+1,FALSE)=\"TBD\",\"\",VLOOKUP(HLOOKUP(Y$5,$B$6:$I$15,Points!$A8+1,FALSE),'Cars & Results'!$A$7:$BZ$317,2*Y$5+6,FALSE))","v":11},{"$f":"IF(HLOOKUP(Y$5,$B$6:$I$15,Points!$A8+1,FALSE)=\"TBD\",\"\",IF(VLOOKUP(HLOOKUP(Y$5,$B$6:$I$15,Points!$A8+1,FALSE),'Cars & Results'!$A$7:$BZ$317,2*Y$5+5)<=10,Y12*1.5,0))","v":0},{"$f":"IF(HLOOKUP(AA$5,$B$6:$I$15,Points!$A8+1,FALSE)=\"TBD\",\"\",VLOOKUP(HLOOKUP(AA$5,$B$6:$I$15,Points!$A8+1,FALSE),'Cars & Results'!$A$7:$BZ$317,2*AA$5+6,FALSE))","v":8},{"$f":"IF(HLOOKUP(AA$5,$B$6:$I$15,Points!$A8+1,FALSE)=\"TBD\",\"\",IF(VLOOKUP(HLOOKUP(AA$5,$B$6:$I$15,Points!$A8+1,FALSE),'Cars & Results'!$A$7:$BZ$317,2*AA$5+5)<=10,AA12*1.5,0))","v":0}]
[{"$f":"VLOOKUP(HLOOKUP('Pick Distribution'!$P$2,$B$6:$I$15,8),'Current Owner Standings'!$A$71:$B$480,2,FALSE)","v":31},96,53,53,53,96,96,96,96,{"$f":"IF(ISNA(VLOOKUP($I13,'Cars & Results'!$A$6:$I$317,J$5,FALSE)),\"Invalid Number\",VLOOKUP($I13,'Cars & Results'!$A$6:$K$317,J$5,FALSE))","v":"Daniel Suárez"},{"$f":"IF(ISNA(VLOOKUP($I13,'Cars & Results'!$A$6:$I$317,K$5,FALSE)),\"Invalid Number\",VLOOKUP($I13,'Cars & Results'!$A$6:$K$317,K$5,FALSE))","v":"Toyota"},{"$f":"IF(ISNA(VLOOKUP($I13,'Cars & Results'!$A$6:$I$317,L$5,FALSE)),\"Invalid Number\",VLOOKUP($I13,'Cars & Results'!$A$6:$K$317,L$5,FALSE))","v":"Gaunt Brothers Racing"},{"$f":"IF(HLOOKUP(M$5,$B$6:$I$15,Points!$A9+1,FALSE)=\"TBD\",\"\",VLOOKUP(HLOOKUP(M$5,$B$6:$I$15,Points!$A9+1,FALSE),'Cars & Results'!$A$7:$BZ$317,2*M$5+6,FALSE))","v":19},{"$f":"IF(HLOOKUP(M$5,$B$6:$I$15,Points!$A9+1,FALSE)=\"TBD\",\"\",IF(VLOOKUP(HLOOKUP(M$5,$B$6:$I$15,Points!$A9+1,FALSE),'Cars & Results'!$A$7:$BZ$317,2*M$5+5)<=10,M13*2,0))","v":0},{"$f":"IF(HLOOKUP(O$5,$B$6:$I$15,Points!$A9+1,FALSE)=\"TBD\",\"\",VLOOKUP(HLOOKUP(O$5,$B$6:$I$15,Points!$A9+1,FALSE),'Cars & Results'!$A$7:$BZ$317,2*O$5+6,FALSE))","v":7},{"$f":"IF(HLOOKUP(O$5,$B$6:$I$15,Points!$A9+1,FALSE)=\"TBD\",\"\",IF(VLOOKUP(HLOOKUP(O$5,$B$6:$I$15,Points!$A9+1,FALSE),'Cars & Results'!$A$7:$BZ$317,2*O$5+5)<=10,O13*2,0))","v":0},{"$f":"IF(HLOOKUP(Q$5,$B$6:$I$15,Points!$A9+1,FALSE)=\"TBD\",\"\",VLOOKUP(HLOOKUP(Q$5,$B$6:$I$15,Points!$A9+1,FALSE),'Cars & Results'!$A$7:$BZ$317,2*Q$5+6,FALSE))","v":2},{"$f":"IF(HLOOKUP(Q$5,$B$6:$I$15,Points!$A9+1,FALSE)=\"TBD\",\"\",IF(VLOOKUP(HLOOKUP(Q$5,$B$6:$I$15,Points!$A9+1,FALSE),'Cars & Results'!$A$7:$BZ$317,2*Q$5+5)<=10,Q13*2,0))","v":0},{"$f":"IF(HLOOKUP(S$5,$B$6:$I$15,Points!$A9+1,FALSE)=\"TBD\",\"\",VLOOKUP(HLOOKUP(S$5,$B$6:$I$15,Points!$A9+1,FALSE),'Cars & Results'!$A$7:$BZ$317,2*S$5+6,FALSE))","v":3},{"$f":"IF(HLOOKUP(S$5,$B$6:$I$15,Points!$A9+1,FALSE)=\"TBD\",\"\",IF(VLOOKUP(HLOOKUP(S$5,$B$6:$I$15,Points!$A9+1,FALSE),'Cars & Results'!$A$7:$BZ$317,2*S$5+5)<=10,S13*2,0))","v":0},{"$f":"IF(HLOOKUP(U$5,$B$6:$I$15,Points!$A9+1,FALSE)=\"TBD\",\"\",VLOOKUP(HLOOKUP(U$5,$B$6:$I$15,Points!$A9+1,FALSE),'Cars & Results'!$A$7:$BZ$317,2*U$5+6,FALSE))","v":10},{"$f":"IF(HLOOKUP(U$5,$B$6:$I$15,Points!$A9+1,FALSE)=\"TBD\",\"\",IF(VLOOKUP(HLOOKUP(U$5,$B$6:$I$15,Points!$A9+1,FALSE),'Cars & Results'!$A$7:$BZ$317,2*U$5+5)<=10,U13*2,0))","v":0},{"$f":"IF(HLOOKUP(W$5,$B$6:$I$15,Points!$A9+1,FALSE)=\"TBD\",\"\",VLOOKUP(HLOOKUP(W$5,$B$6:$I$15,Points!$A9+1,FALSE),'Cars & Results'!$A$7:$BZ$317,2*W$5+6,FALSE))","v":7},{"$f":"IF(HLOOKUP(W$5,$B$6:$I$15,Points!$A9+1,FALSE)=\"TBD\",\"\",IF(VLOOKUP(HLOOKUP(W$5,$B$6:$I$15,Points!$A9+1,FALSE),'Cars & Results'!$A$7:$BZ$317,2*W$5+5)<=10,W13*2,0))","v":0},{"$f":"IF(HLOOKUP(Y$5,$B$6:$I$15,Points!$A9+1,FALSE)=\"TBD\",\"\",VLOOKUP(HLOOKUP(Y$5,$B$6:$I$15,Points!$A9+1,FALSE),'Cars & Results'!$A$7:$BZ$317,2*Y$5+6,FALSE))","v":9},{"$f":"IF(HLOOKUP(Y$5,$B$6:$I$15,Points!$A9+1,FALSE)=\"TBD\",\"\",IF(VLOOKUP(HLOOKUP(Y$5,$B$6:$I$15,Points!$A9+1,FALSE),'Cars & Results'!$A$7:$BZ$317,2*Y$5+5)<=10,Y13*2,0))","v":0},{"$f":"IF(HLOOKUP(AA$5,$B$6:$I$15,Points!$A9+1,FALSE)=\"TBD\",\"\",VLOOKUP(HLOOKUP(AA$5,$B$6:$I$15,Points!$A9+1,FALSE),'Cars & Results'!$A$7:$BZ$317,2*AA$5+6,FALSE))","v":11},{"$f":"IF(HLOOKUP(AA$5,$B$6:$I$15,Points!$A9+1,FALSE)=\"TBD\",\"\",IF(VLOOKUP(HLOOKUP(AA$5,$B$6:$I$15,Points!$A9+1,FALSE),'Cars & Results'!$A$7:$BZ$317,2*AA$5+5)<=10,AA13*2,0))","v":0}]
[{"$f":"VLOOKUP(HLOOKUP('Pick Distribution'!$P$2,$B$6:$I$15,9),'Current Owner Standings'!$A$71:$B$480,2,FALSE)","v":37},66,66,66,66,66,66,66,66,{"$f":"IF(ISNA(VLOOKUP($I14,'Cars & Results'!$A$6:$I$317,J$5,FALSE)),\"Invalid Number\",VLOOKUP($I14,'Cars & Results'!$A$6:$K$317,J$5,FALSE))","v":"Timmy Hill (i)"},{"$f":"IF(ISNA(VLOOKUP($I14,'Cars & Results'!$A$6:$I$317,K$5,FALSE)),\"Invalid Number\",VLOOKUP($I14,'Cars & Results'!$A$6:$K$317,K$5,FALSE))","v":"Toyota"},{"$f":"IF(ISNA(VLOOKUP($I14,'Cars & Results'!$A$6:$I$317,L$5,FALSE)),\"Invalid Number\",VLOOKUP($I14,'Cars & Results'!$A$6:$K$317,L$5,FALSE))","v":"MBM Motorsports"},{"$f":"IF(HLOOKUP(M$5,$B$6:$I$15,Points!$A10+1,FALSE)=\"TBD\",\"\",VLOOKUP(HLOOKUP(M$5,$B$6:$I$15,Points!$A10+1,FALSE),'Cars & Results'!$A$7:$BZ$317,2*M$5+6,FALSE))","v":0},{"$f":"IF(HLOOKUP(M$5,$B$6:$I$15,Points!$A10+1,FALSE)=\"TBD\",\"\",IF(VLOOKUP(HLOOKUP(M$5,$B$6:$I$15,Points!$A10+1,FALSE),'Cars & Results'!$A$7:$BZ$317,2*M$5+5)<=10,M14*3,0))","v":0},{"$f":"IF(HLOOKUP(O$5,$B$6:$I$15,Points!$A10+1,FALSE)=\"TBD\",\"\",VLOOKUP(HLOOKUP(O$5,$B$6:$I$15,Points!$A10+1,FALSE),'Cars & Results'!$A$7:$BZ$317,2*O$5+6,FALSE))","v":4},{"$f":"IF(HLOOKUP(O$5,$B$6:$I$15,Points!$A10+1,FALSE)=\"TBD\",\"\",IF(VLOOKUP(HLOOKUP(O$5,$B$6:$I$15,Points!$A10+1,FALSE),'Cars & Results'!$A$7:$BZ$317,2*O$5+5)<=10,O14*3,0))","v":0},{"$f":"IF(HLOOKUP(Q$5,$B$6:$I$15,Points!$A10+1,FALSE)=\"TBD\",\"\",VLOOKUP(HLOOKUP(Q$5,$B$6:$I$15,Points!$A10+1,FALSE),'Cars & Results'!$A$7:$BZ$317,2*Q$5+6,FALSE))","v":4},{"$f":"IF(HLOOKUP(Q$5,$B$6:$I$15,Points!$A10+1,FALSE)=\"TBD\",\"\",IF(VLOOKUP(HLOOKUP(Q$5,$B$6:$I$15,Points!$A10+1,FALSE),'Cars & Results'!$A$7:$BZ$317,2*Q$5+5)<=10,Q14*3,0))","v":0},{"$f":"IF(HLOOKUP(S$5,$B$6:$I$15,Points!$A10+1,FALSE)=\"TBD\",\"\",VLOOKUP(HLOOKUP(S$5,$B$6:$I$15,Points!$A10+1,FALSE),'Cars & Results'!$A$7:$BZ$317,2*S$5+6,FALSE))","v":2},{"$f":"IF(HLOOKUP(S$5,$B$6:$I$15,Points!$A10+1,FALSE)=\"TBD\",\"\",IF(VLOOKUP(HLOOKUP(S$5,$B$6:$I$15,Points!$A10+1,FALSE),'Cars & Results'!$A$7:$BZ$317,2*S$5+5)<=10,S14*3,0))","v":0},{"$f":"IF(HLOOKUP(U$5,$B$6:$I$15,Points!$A10+1,FALSE)=\"TBD\",\"\",VLOOKUP(HLOOKUP(U$5,$B$6:$I$15,Points!$A10+1,FALSE),'Cars & Results'!$A$7:$BZ$317,2*U$5+6,FALSE))","v":8},{"$f":"IF(HLOOKUP(U$5,$B$6:$I$15,Points!$A10+1,FALSE)=\"TBD\",\"\",IF(VLOOKUP(HLOOKUP(U$5,$B$6:$I$15,Points!$A10+1,FALSE),'Cars & Results'!$A$7:$BZ$317,2*U$5+5)<=10,U14*3,0))","v":0},{"$f":"IF(HLOOKUP(W$5,$B$6:$I$15,Points!$A10+1,FALSE)=\"TBD\",\"\",VLOOKUP(HLOOKUP(W$5,$B$6:$I$15,Points!$A10+1,FALSE),'Cars & Results'!$A$7:$BZ$317,2*W$5+6,FALSE))","v":3},{"$f":"IF(HLOOKUP(W$5,$B$6:$I$15,Points!$A10+1,FALSE)=\"TBD\",\"\",IF(VLOOKUP(HLOOKUP(W$5,$B$6:$I$15,Points!$A10+1,FALSE),'Cars & Results'!$A$7:$BZ$317,2*W$5+5)<=10,W14*3,0))","v":0},{"$f":"IF(HLOOKUP(Y$5,$B$6:$I$15,Points!$A10+1,FALSE)=\"TBD\",\"\",VLOOKUP(HLOOKUP(Y$5,$B$6:$I$15,Points!$A10+1,FALSE),'Cars & Results'!$A$7:$BZ$317,2*Y$5+6,FALSE))","v":1},{"$f":"IF(HLOOKUP(Y$5,$B$6:$I$15,Points!$A10+1,FALSE)=\"TBD\",\"\",IF(VLOOKUP(HLOOKUP(Y$5,$B$6:$I$15,Points!$A10+1,FALSE),'Cars & Results'!$A$7:$BZ$317,2*Y$5+5)<=10,Y14*3,0))","v":0},{"$f":"IF(HLOOKUP(AA$5,$B$6:$I$15,Points!$A10+1,FALSE)=\"TBD\",\"\",VLOOKUP(HLOOKUP(AA$5,$B$6:$I$15,Points!$A10+1,FALSE),'Cars & Results'!$A$7:$BZ$317,2*AA$5+6,FALSE))","v":13},{"$f":"IF(HLOOKUP(AA$5,$B$6:$I$15,Points!$A10+1,FALSE)=\"TBD\",\"\",IF(VLOOKUP(HLOOKUP(AA$5,$B$6:$I$15,Points!$A10+1,FALSE),'Cars & Results'!$A$7:$BZ$317,2*AA$5+5)<=10,AA14*3,0))","v":0}]
[{"$f":"VLOOKUP(HLOOKUP('Pick Distribution'!$P$2,$B$6:$I$15,10),'Current Owner Standings'!$A$71:$B$480,2,FALSE)","v":7},4,51,107,"00",2,53,15,9,{"$f":"IF(ISNA(VLOOKUP($I15,'Cars & Results'!$A$6:$I$317,J$5,FALSE)),\"Invalid Number\",VLOOKUP($I15,'Cars & Results'!$A$6:$K$317,J$5,FALSE))","v":"Chase Elliott"},{"$f":"IF(ISNA(VLOOKUP($I15,'Cars & Results'!$A$6:$I$317,K$5,FALSE)),\"Invalid Number\",VLOOKUP($I15,'Cars & Results'!$A$6:$K$317,K$5,FALSE))","v":"Chevrolet"},{"$f":"IF(ISNA(VLOOKUP($I15,'Cars & Results'!$A$6:$I$317,L$5,FALSE)),\"Invalid Number\",VLOOKUP($I15,'Cars & Results'!$A$6:$K$317,L$5,FALSE))","v":"Hendrick Motorsports"},{"$f":"IF(HLOOKUP(M$5,$B$6:$I$15,Points!$A11+1,FALSE)=\"TBD\",\"\",VLOOKUP(HLOOKUP(M$5,$B$6:$I$15,Points!$A11+1,FALSE),'Cars & Results'!$A$7:$BZ$317,2*M$5+6,FALSE))","v":42},0,{"$f":"IF(HLOOKUP(O$5,$B$6:$I$15,Points!$A11+1,FALSE)=\"TBD\",\"\",VLOOKUP(HLOOKUP(O$5,$B$6:$I$15,Points!$A11+1,FALSE),'Cars & Results'!$A$7:$BZ$317,2*O$5+6,FALSE))","v":3},0,{"$f":"IF(HLOOKUP(Q$5,$B$6:$I$15,Points!$A11+1,FALSE)=\"TBD\",\"\",VLOOKUP(HLOOKUP(Q$5,$B$6:$I$15,Points!$A11+1,FALSE),'Cars & Results'!$A$7:$BZ$317,2*Q$5+6,FALSE))","v":0},0,{"$f":"IF(HLOOKUP(S$5,$B$6:$I$15,Points!$A11+1,FALSE)=\"TBD\",\"\",VLOOKUP(HLOOKUP(S$5,$B$6:$I$15,Points!$A11+1,FALSE),'Cars & Results'!$A$7:$BZ$317,2*S$5+6,FALSE))","v":5},0,{"$f":"IF(HLOOKUP(U$5,$B$6:$I$15,Points!$A11+1,FALSE)=\"TBD\",\"\",VLOOKUP(HLOOKUP(U$5,$B$6:$I$15,Points!$A11+1,FALSE),'Cars & Results'!$A$7:$BZ$317,2*U$5+6,FALSE))","v":24},0,{"$f":"IF(HLOOKUP(W$5,$B$6:$I$15,Points!$A11+1,FALSE)=\"TBD\",\"\",VLOOKUP(HLOOKUP(W$5,$B$6:$I$15,Points!$A11+1,FALSE),'Cars & Results'!$A$7:$BZ$317,2*W$5+6,FALSE))","v":5},0,{"$f":"IF(HLOOKUP(Y$5,$B$6:$I$15,Points!$A11+1,FALSE)=\"TBD\",\"\",VLOOKUP(HLOOKUP(Y$5,$B$6:$I$15,Points!$A11+1,FALSE),'Cars & Results'!$A$7:$BZ$317,2*Y$5+6,FALSE))","v":7},0,{"$f":"IF(HLOOKUP(AA$5,$B$6:$I$15,Points!$A11+1,FALSE)=\"TBD\",\"\",VLOOKUP(HLOOKUP(AA$5,$B$6:$I$15,Points!$A11+1,FALSE),'Cars & Results'!$A$7:$BZ$317,2*AA$5+6,FALSE))","v":35},{"$f":"IF(HLOOKUP(AA$5,$B$6:$I$15,Points!$A11+1,FALSE)=\"TBD\",\"\",IF(AND(VLOOKUP(HLOOKUP(AA$5,$B$6:$I$15,Points!$A11+1,FALSE),'Cars & Results'!$A$7:$BZ$317,2*AA$5+5)<=3,$A$15<=25),AA15*1,IF(AND(VLOOKUP(HLOOKUP(AA$5,$B$6:$I$15,Points!$A11+1,FALSE),'Cars & Results'!$A$7:$BZ$317,2*AA$5+5)<=10,$A$15>25),AA15*3,0)))","v":35}]
[null,null,null,null,null,null,null,null,null,null,null,"Segment 1",null,{"$f":"IF(INDIRECT(ADDRESS(321,5+(M5*2),1,1,\"Cars & Results\"),TRUE)=\"Y\",IF(ISERROR(MATCH(INDIRECT(ADDRESS(318,5+(M5*2),1,1,\"Cars & Results\"),TRUE),B7:B15,0))=TRUE,0,10),\"\")","v":0},null,{"$f":"IF(INDIRECT(ADDRESS(321,5+(O5*2),1,1,\"Cars & Results\"),TRUE)=\"Y\",IF(ISERROR(MATCH(INDIRECT(ADDRESS(318,5+(O5*2),1,1,\"Cars & Results\"),TRUE),C7:C15,0))=TRUE,0,10),\"\")","v":0},null,{"$f":"IF(INDIRECT(ADDRESS(321,5+(Q5*2),1,1,\"Cars & Results\"),TRUE)=\"Y\",IF(ISERROR(MATCH(INDIRECT(ADDRESS(318,5+(Q5*2),1,1,\"Cars & Results\"),TRUE),D7:D15,0))=TRUE,0,10),\"\")","v":0},null,{"$f":"IF(INDIRECT(ADDRESS(321,5+(S5*2),1,1,\"Cars & Results\"),TRUE)=\"Y\",IF(ISERROR(MATCH(INDIRECT(ADDRESS(318,5+(S5*2),1,1,\"Cars & Results\"),TRUE),E7:E15,0))=TRUE,0,10),\"\")","v":0},null,{"$f":"IF(INDIRECT(ADDRESS(321,5+(U5*2),1,1,\"Cars & Results\"),TRUE)=\"Y\",IF(ISERROR(MATCH(INDIRECT(ADDRESS(318,5+(U5*2),1,1,\"Cars & Results\"),TRUE),F7:F15,0))=TRUE,0,10),\"\")","v":0},null,{"$f":"IF(INDIRECT(ADDRESS(321,5+(W5*2),1,1,\"Cars & Results\"),TRUE)=\"Y\",IF(ISERROR(MATCH(INDIRECT(ADDRESS(318,5+(W5*2),1,1,\"Cars & Results\"),TRUE),G7:G15,0))=TRUE,0,10),\"\")","v":0},null,{"$f":"IF(INDIRECT(ADDRESS(321,5+(Y5*2),1,1,\"Cars & Results\"),TRUE)=\"Y\",IF(ISERROR(MATCH(INDIRECT(ADDRESS(318,5+(Y5*2),1,1,\"Cars & Results\"),TRUE),H7:H15,0))=TRUE,0,10),\"\")","v":10},null,{"$f":"IF(INDIRECT(ADDRESS(321,5+(AA5*2),1,1,\"Cars & Results\"),TRUE)=\"Y\",IF(ISERROR(MATCH(INDIRECT(ADDRESS(318,5+(AA5*2),1,1,\"Cars & Results\"),TRUE),I7:I15,0))=TRUE,0,10),\"\")","v":0}]
[null,null,null,null,null,null,null,null,null,null,null,"Segment 2",null,{"$f":"IF(INDIRECT(ADDRESS(321,5+(M5*2),1,1,\"Cars & Results\"),TRUE)=\"Y\",IF(ISERROR(MATCH(INDIRECT(ADDRESS(319,5+(M5*2),1,1,\"Cars & Results\"),TRUE),B7:B15,0))=TRUE,0,10),\"\")","v":0},null,{"$f":"IF(INDIRECT(ADDRESS(321,5+(O5*2),1,1,\"Cars & Results\"),TRUE)=\"Y\",IF(ISERROR(MATCH(INDIRECT(ADDRESS(319,5+(O5*2),1,1,\"Cars & Results\"),TRUE),C7:C15,0))=TRUE,0,10),\"\")","v":0},null,{"$f":"IF(INDIRECT(ADDRESS(321,5+(Q5*2),1,1,\"Cars & Results\"),TRUE)=\"Y\",IF(ISERROR(MATCH(INDIRECT(ADDRESS(319,5+(Q5*2),1,1,\"Cars & Results\"),TRUE),D7:D15,0))=TRUE,0,10),\"\")","v":0},null,{"$f":"IF(INDIRECT(ADDRESS(321,5+(S5*2),1,1,\"Cars & Results\"),TRUE)=\"Y\",IF(ISERROR(MATCH(INDIRECT(ADDRESS(319,5+(S5*2),1,1,\"Cars & Results\"),TRUE),E7:E15,0))=TRUE,0,10),\"\")","v":0},null,{"$f":"IF(INDIRECT(ADDRESS(321,5+(U5*2),1,1,\"Cars & Results\"),TRUE)=\"Y\",IF(ISERROR(MATCH(INDIRECT(ADDRESS(319,5+(U5*2),1,1,\"Cars & Results\"),TRUE),F7:F15,0))=TRUE,0,10),\"\")","v":0},null,{"$f":"IF(INDIRECT(ADDRESS(321,5+(W5*2),1,1,\"Cars & Results\"),TRUE)=\"Y\",IF(ISERROR(MATCH(INDIRECT(ADDRESS(319,5+(W5*2),1,1,\"Cars & Results\"),TRUE),G7:G15,0))=TRUE,0,10),\"\")","v":0},null,{"$f":"IF(INDIRECT(ADDRESS(321,5+(Y5*2),1,1,\"Cars & Results\"),TRUE)=\"Y\",IF(ISERROR(MATCH(INDIRECT(ADDRESS(319,5+(Y5*2),1,1,\"Cars & Results\"),TRUE),H7:H15,0))=TRUE,0,10),\"\")","v":10},null,{"$f":"IF(INDIRECT(ADDRESS(321,5+(AA5*2),1,1,\"Cars & Results\"),TRUE)=\"Y\",IF(ISERROR(MATCH(INDIRECT(ADDRESS(319,5+(AA5*2),1,1,\"Cars & Results\"),TRUE),I7:I15,0))=TRUE,0,10),\"\")","v":0}]
[null,null,null,null,null,null,null,null,null,null,null,"Segment 3",null,{"$f":"IF(INDIRECT(ADDRESS(321,5+(M5*2),1,1,\"Cars & Results\"),TRUE)=\"Y\",IF(ISERROR(MATCH(INDIRECT(ADDRESS(320,5+(M5*2),1,1,\"Cars & Results\"),TRUE),B7:B15,0))=TRUE,0,15),\"\")","v":0},null,{"$f":"IF(INDIRECT(ADDRESS(321,5+(O5*2),1,1,\"Cars & Results\"),TRUE)=\"Y\",IF(ISERROR(MATCH(INDIRECT(ADDRESS(320,5+(O5*2),1,1,\"Cars & Results\"),TRUE),C7:C15,0))=TRUE,0,15),\"\")","v":0},null,{"$f":"IF(INDIRECT(ADDRESS(321,5+(Q5*2),1,1,\"Cars & Results\"),TRUE)=\"Y\",IF(ISERROR(MATCH(INDIRECT(ADDRESS(320,5+(Q5*2),1,1,\"Cars & Results\"),TRUE),D7:D15,0))=TRUE,0,15),\"\")","v":0},null,{"$f":"IF(INDIRECT(ADDRESS(321,5+(S5*2),1,1,\"Cars & Results\"),TRUE)=\"Y\",IF(ISERROR(MATCH(INDIRECT(ADDRESS(320,5+(S5*2),1,1,\"Cars & Results\"),TRUE),E7:E15,0))=TRUE,0,15),\"\")","v":0},null,{"$f":"IF(INDIRECT(ADDRESS(321,5+(U5*2),1,1,\"Cars & Results\"),TRUE)=\"Y\",IF(ISERROR(MATCH(INDIRECT(ADDRESS(320,5+(U5*2),1,1,\"Cars & Results\"),TRUE),F7:F15,0))=TRUE,0,15),\"\")","v":0},null,{"$f":"IF(INDIRECT(ADDRESS(321,5+(W5*2),1,1,\"Cars & Results\"),TRUE)=\"Y\",IF(ISERROR(MATCH(INDIRECT(ADDRESS(320,5+(W5*2),1,1,\"Cars & Results\"),TRUE),G7:G15,0))=TRUE,0,15),\"\")","v":0},null,{"$f":"IF(INDIRECT(ADDRESS(321,5+(Y5*2),1,1,\"Cars & Results\"),TRUE)=\"Y\",IF(ISERROR(MATCH(INDIRECT(ADDRESS(320,5+(Y5*2),1,1,\"Cars & Results\"),TRUE),H7:H15,0))=TRUE,0,15),\"\")","v":15},null,{"$f":"IF(INDIRECT(ADDRESS(321,5+(AA5*2),1,1,\"Cars & Results\"),TRUE)=\"Y\",IF(ISERROR(MATCH(INDIRECT(ADDRESS(320,5+(AA5*2),1,1,\"Cars & Results\"),TRUE),I7:I15,0))=TRUE,0,15),\"\")","v":0}]
[null,{"$f":"SUM(B7:B15)","v":372},339,378,271,315,366,318,296,null,null,null,{"$f":"SUM(M7:M15)","v":130},null,{"$f":"SUM(O7:O15)","v":113},null,{"$f":"SUM(Q7:Q15)","v":91},null,{"$f":"SUM(S7:S15)","v":153},null,{"$f":"SUM(U7:U15)","v":129},null,{"$f":"SUM(W7:W15)","v":173},null,{"$f":"SUM(Y7:Y15)","v":169},null,{"$f":"SUM(AA7:AA15)","v":115}]
[null,null,null,null,null,null,null,null,null,null,null,null,null,{"$f":"SUM(N7:N19)","v":45},null,{"$f":"SUM(P7:P19)","v":0},null,{"$f":"SUM(R7:R19)","v":0},null,{"$f":"SUM(T7:T19)","v":0},null,{"$f":"SUM(V7:V19)","v":0},null,{"$f":"SUM(X7:X19)","v":43.5},null,{"$f":"SUM(Z7:Z19)","v":35},null,{"$f":"SUM(AB7:AB19)","v":35}]
[null,null,null,null,null,null,null,null,null,null,null,"Race Total",{"$f":"M19+N20","v":175},null,{"$f":"O19+P20","v":113},null,{"$f":"Q19+R20","v":91},null,{"$f":"S19+T20","v":153},null,{"$f":"U19+V20","v":129},null,{"$f":"W19+X20","v":216.5},null,{"$f":"Y19+Z20","v":204},null,{"$f":"AA19+AB20","v":150},null,{"$f":"SUM(M21:AB21)","v":1231.5}]
[null,null,null,null,null,null,null,null,"1-8"]
[null,null,null,null,null,null,null,null,"9-16"]
[null,null,null,null,null,null,null,null,"17-23"]
[null,null,null,null,null,null,null,null,"24-30"]
[null,null,null,null,null,null,null,null,"31-35"]
[null,null,null,null,null,null,null,null,">35"]
[null,null,null,null,null,null,null,null,"Provisional"]

{"sheet":"Points","index":16,"n_rows":43,"n_cols":8,"rows_kept":43,"cut":false,"hidden":false,"merged":[]}
["Finishing Position","Points","Group 7 Points","Difference","Bonus Points",null,null,"Group 1 - Positions 1-8, 1 Car"]
[0,0,0,null,null,null,null,"Group 2 - Positions 9-16, 1 Car"]
[1,40,40,null,"Segment 1 Winner",10,null,"Group 3 - Positions 17-23, 1 Car"]
[2,39,39,{"$f":"B3-B4","v":1},"Segment 2 Winner",10,null,"Group 4 - Positions 24-30, 1 Car"]
[3,38,38,{"$f":"B4-B5","v":1},"Segment 3 Winner",15,null,"Group 5 - Positions 31-35, 1 Car"]
[4,37,37,1,null,null,null,"Group 6 - Positions 36+, 1 Car "]
[5,36,36,1,"Group 1","No Bonus",null,"Group 7 - Provisional.  Valid for 1 wk per segment and must be changed each week."]
[6,35,35,1,"Group 2 - Win","25% Bonus"]
[7,34,34,1,"Group 3 - Top 5 Finish","50% Bonus"]
[8,33,33,1,"Group 4 - Top 10 Finish","150% Bonus"]
[9,32,32,1,"Group 5 - Top 10 Finish","200% Bonus"]
[10,31,31,1,"Group 6 - Top 10 Finish","300% Bonus"]
[11,30,30,1,"Group 7 - Top 3 Finish","100% Bonus","If car is in top 25 in Points"]
[12,29,29,1,"Group 7 - Top 10 Finish","300% Bonus","If car is outside top 25 in Points"]
[13,28,28,1]
[14,27,27,1]
[15,26,26,1]
[16,25,25,1]
[17,24,24,1]
[18,23,23,1]
[19,22,22,1]
[20,21,21,1]
[21,20,20,1]
[22,19,19,1]
[23,18,18,1]
[24,17,17,1]
[25,16,16,1]
[26,15,15,1]
[27,14,14,1]
[28,13,13,1]
[29,12,12,1]
[30,11,11,1]
[31,10,10,{"$f":"B32-B33","v":1}]
[32,9,9,1]
[33,8,8,1]
[34,7,7,1]
[35,6,6,1]
[36,5,5,1]
[37,4,4,1]
[38,3,3,1]
[39,2,2,1]
[40,1,1,1]
["DNS",-25]

{"sheet":"Schedule","index":17,"n_rows":43,"n_cols":15,"rows_kept":43,"cut":false,"hidden":false,"merged":[[1,1,2,5]]}
[]
[null,"Sprint Cup Schedule"]
[]
["Race Number","Scheduled","Race Name","Track","Name","Segment 1","Segment 2","Segment 3","Segment 4","Track Size","Race Length","Television","Time/","Qualifying","Happy Hour"]
[null,"2018-02-11","Advance Auto Parts Clash*","Daytona International Speedway",{"$f":"LEFT(D5,FIND(\" \",D5))","v":"Daytona "},75,null,null,null,2.5,187.5,"FS1","03:00:00","N/A","2018-02-10T10:35:00"]
[null,"2018-02-15","Can-Am Duel At Daytona #1*","Daytona International Speedway",{"$f":"LEFT(D6,FIND(\" \",D6))","v":"Daytona "},60,null,null,null,2.5,150,"FS1","07:00:00","2018-02-11T12:15:00","2018-02-10T11:05:00"]
[null,"2018-02-15","Can-Am Duel At Daytona #2*","Daytona International Speedway","Daytona ",60,null,null,null,2.5,150,"FS1","~9:00","2018-02-11T12:15:00","2018-02-10T11:05:00"]
[{"$f":"Sheet2!A4","v":1},{"$f":"Sheet2!D4","v":"2020-02-16"},{"$f":"Sheet2!B4","v":"Daytona 500"},{"$f":"Sheet2!C4","v":"Daytona International Speedway, Daytona Beach, Florida"},"Daytona ",60,120,200,null,2.5,500,"FOX","02:30:00","2018-02-11T12:15:00","2018-02-17T12:05:00"]
[{"$f":"Sheet2!A5","v":2},{"$f":"Sheet2!D5","v":"2020-02-23"},{"$f":"Sheet2!B5","v":"Pennzoil 400 presented by Jiffy Lube"},{"$f":"Sheet2!C5","v":"Las Vegas Motor Speedway, Las Vegas, Nevada"},"Las ",85,170,325,null,1.54,500.5,"FOX","02:00:00","2018-02-24T05:15:00","2018-02-23T12:00:00"]
[{"$f":"Sheet2!A6","v":3},{"$f":"Sheet2!D6","v":"2020-03-01"},{"$f":"Sheet2!B6","v":"Auto Club 400"},{"$f":"Sheet2!C6","v":"Auto Club Speedway, Fontana, California"},"Las Vegas",80,160,267,null,1.5,400.5,"FOX","03:30:00","TBA","TBA"]
[{"$f":"Sheet2!A7","v":4},{"$f":"Sheet2!D7","v":"2020-03-08"},{"$f":"Sheet2!B7","v":"FanShield 500"},{"$f":"Sheet2!C7","v":"Phoenix Raceway, Avondale, Arizona"},"Phoenix",75,150,312,null,1,312,"FOX","03:30:00","TBA","TBA"]
[{"$f":"Sheet2!A8","v":5},{"$f":"Sheet2!D8","v":"2020-05-17"},{"$f":"Sheet2!B8","v":"Darlington Raceway 400"},{"$f":"Sheet2!C8","v":"Darlington Raceway, Darlington, South Carolina"},"Fontana",60,120,200,null,2,400,"FOX","03:30:00","TBA","TBA"]
[{"$f":"Sheet2!A9","v":6},{"$f":"Sheet2!D9","v":"2020-05-20"},{"$f":"Sheet2!B9","v":"Darlington Raceway 500KM"},{"$f":"Sheet2!C9","v":"Darlington Raceway, Darlington, South Carolina"},"Darlington ",130,260,500,null,0.52600000000000002,263,"FS1","02:00:00","TBA","TBA"]
[{"$f":"Sheet2!A10","v":7},{"$f":"Sheet2!D10","v":"2020-05-24"},{"$f":"Sheet2!B10","v":"Coca-Cola 600"},{"$f":"Sheet2!C10","v":"Charlotte Motor Speedway, Concord, North Carolina"},"Charlotte ",85,170,334,null,1.5,500.5,"FS1","02:00:00","TBA","TBA"]
[{"$f":"Sheet2!A11","v":8},{"$f":"Sheet2!D11","v":"2020-05-27"},{"$f":"Sheet2!B11","v":"Charlotte Motor Speedway 500KM"},{"$f":"Sheet2!C11","v":"Charlotte Motor Speedway, Concord, North Carolina"},"Charlotte ",125,250,500,null,0.53300000000000003,266.5,"FOX","02:00:00","TBA","TBA"]
[{"$f":"Sheet2!A12","v":9},{"$f":"Sheet2!D12","v":"2020-05-31"},{"$f":"Sheet2!B12","v":"Bristol 500"},{"$f":"Sheet2!C12","v":"Bristol Motor Speedway, Bristol, Tennessee"},"Bristol ",100,200,400,null,0.75,300,"FOX","06:30:00","TBA","TBA"]
[{"$f":"Sheet2!A13","v":10},{"$f":"Sheet2!D13","v":"2020-06-07"},{"$f":"Sheet2!B13","v":"Atlanta 500"},{"$f":"Sheet2!C13","v":"Atlanta Motor Speedway, Hampton, GA"},"Atlanta ",55,110,188,null,2.66,500.08,"FOX","02:00:00","TBA","TBA"]
[{"$f":"Sheet2!A14","v":11},{"$f":"Sheet2!D14","v":"2020-06-10"},{"$f":"Sheet2!B14","v":"Martinsville 500"},{"$f":"Sheet2!C14","v":"Martinsville Speedway, Ridgeway, Virginia"},"Martinsville ",120,240,400,null,1,400,"FS1","02:00:00","TBA","TBA"]
[{"$f":"Sheet2!A15","v":12},{"$f":"Sheet2!D15","v":"2020-06-14"},{"$f":"Sheet2!B15","v":"Homestead 400"},{"$f":"Sheet2!C15","v":"Miami Homestead Speedway, Homestead, Florida"},"Miami ",80,160,267,null,1.5,400.5,"FS1","08:00:00","TBA","TBA"]
[{"$f":"Sheet2!A16","v":13},{"$f":"Sheet2!D16","v":"2020-06-21"},{"$f":"Sheet2!B16","v":"Talladega 500"},{"$f":"Sheet2!C16","v":"Talladega Superspeedway, Lincoln, Alabama"},"Talladega ",100,200,300,400,1.5,600,"FOX","06:00:00","TBA","TBA"]
[{"$f":"Sheet2!A17","v":14},{"$f":"Sheet2!D17","v":"2020-06-27"},{"$f":"Sheet2!B17","v":"Kids Free 325"},{"$f":"Sheet2!C17","v":"Pocono Raceway, Long Pond, Pennsylvania"},"Pocono ",50,100,160,null,2.5,400,"FS1","02:00:00","TBA","TBA"]
[{"$f":"Sheet2!A18","v":15},{"$f":"Sheet2!D18","v":"2020-06-28"},{"$f":"Sheet2!B18","v":"Worry-Free Weather Guarantee 350"},{"$f":"Sheet2!C18","v":"Pocono Raceway, Long Pond, Pennsylvania"},"Pocono ",60,120,200,null,2,400,"FOX","02:00:00","TBA","TBA"]
[{"$f":"Sheet2!A19","v":16},{"$f":"Sheet2!D19","v":"2020-07-05"},{"$f":"Sheet2!B19","v":"Big Machine Vodka 400 at the Brickyard"},{"$f":"Sheet2!C19","v":"Indianapolis Motor Speedway, Speedway, Indiana"},"Indianapolis ",25,50,110,null,1.99,224,"FS1","03:00:00","TBA","TBA"]
[{"$f":"Sheet2!A20","v":17},{"$f":"Sheet2!D20","v":"2020-07-12"},{"$f":"Sheet2!B20","v":"Quaker State 400"},{"$f":"Sheet2!C20","v":"Kentucky Speedway, Sparta, Kentucky"},"Kentucky ",80,160,267,null,1.5,400.5,"NBCSN","02:30:00","TBA","TBA"]
[{"$f":"Sheet2!A21","v":18},{"$f":"Sheet2!D21","v":"2020-07-19"},{"$f":"Sheet2!B21","v":"O'Reilly Auto Parts 500"},{"$f":"Sheet2!C21","v":"Texas Motor Speedway, Fort Worth, Texas"},"Texas ",40,80,160,null,2.5,400,"NBC","07:00:00","TBA","TBA"]
[{"$f":"Sheet2!A22","v":19},{"$f":"Sheet2!D22","v":"2020-07-23"},{"$f":"Sheet2!B22","v":"Super Start Batteries 400"},{"$f":"Sheet2!C22","v":"Kansas Speedway, Kansas City, Kansas"},"Kansas ",80,160,267,null,1.5,400.5,"NBCSN","07:30:00","TBA","TBA"]
[{"$f":"Sheet2!A23","v":20},{"$f":"Sheet2!D23","v":"2020-08-02"},{"$f":"Sheet2!B23","v":"Foxwoods Resort Casino 301"},{"$f":"Sheet2!C23","v":"New Hampshire Motor Speedway, Loudon, New Hampshire"},"New Hamp",75,150,301,null,1.0580000000000001,318.45999999999998,"NBCSN","02:00:00","TBA","TBA"]
[{"$f":"Sheet2!A24","v":21},{"$f":"Sheet2!D24","v":"2020-08-08"},{"$f":"Sheet2!B24","v":"FireKeepers Casino 500"},{"$f":"Sheet2!C24","v":"Michigan International Speedway, Brooklyn, Michigan"},{"$f":"LEFT(D28,FIND(\" \",D28)) & \"(Sat)\"","v":"Michigan (Sat)"},75,150,301,null,2.5,400,"NBCSN","02:30:00","TBA","TBA"]
[{"$f":"Sheet2!A25","v":22},{"$f":"Sheet2!D25","v":"2020-08-09"},{"$f":"Sheet2!B25","v":"Consumers Energy 500"},{"$f":"Sheet2!C25","v":"Michigan International Speedway, Brooklyn, Michigan"},{"$f":"LEFT(D29,FIND(\" \",D29)) & \"(Sun)\"","v":"Michigan (Sun)"},75,150,301,null,2.4500000000000002,220.5,"NBC","02:30:00","TBA","TBA"]
[{"$f":"Sheet2!A26","v":23},{"$f":"Sheet2!D26","v":"2020-08-16"},{"$f":"Sheet2!B26","v":"Go Bowling at The Glen"},{"$f":"Sheet2!C26","v":"Daytona International Speedway, Daytona Beach, Florida"},{"$f":"LEFT(D30,FIND(\" \",D30)) & \"(Road)\"","v":"Daytona (Road)"},75,150,301,null,2,400,"NBCSN","02:30:00","TBA","TBA"]
[{"$f":"Sheet2!A27","v":24},{"$f":"Sheet2!D27","v":"2020-08-22"},{"$f":"Sheet2!B27","v":"Drydene 311 (Sat)"},{"$f":"Sheet2!C27","v":"Dover International Speedway, Dover, Delaware"},{"$f":"LEFT(D31,FIND(\" \",D31)) & \"(Sat)\"","v":"Dover (Sat)"},75,150,301,null,0.53300000000000003,266.5,"NBCSN","07:30:00","TBA","TBA"]
[{"$f":"Sheet2!A28","v":25},{"$f":"Sheet2!D28","v":"2020-08-23"},{"$f":"Sheet2!B28","v":"Drydene 311 (Sun)"},{"$f":"Sheet2!C28","v":"Dover International Speedway, Dover, Delaware"},{"$f":"LEFT(D32,FIND(\" \",D32)) & \"(Sun)\"","v":"Dover (Sun)"},75,150,301,null,1.3660000000000001,501.3,"NBCSN","06:00:00","TBA","TBA"]
[{"$f":"Sheet2!A29","v":26},{"$f":"Sheet2!D29","v":"2020-08-29"},{"$f":"Sheet2!B29","v":"Coke Zero Sugar 400"},{"$f":"Sheet2!C29","v":"Daytona International Speedway, Daytona Beach, Florida"},{"$f":"LEFT(D33,FIND(\" \",D33))","v":"Daytona "},75,150,301,null,2.5,400,"NBCSN","02:00:00","TBA","TBA"]
[{"$f":"Sheet2!A30","v":27},{"$f":"Sheet2!D30","v":"2020-09-06"},{"$f":"Sheet2!B30","v":"Cokk Out Southern 500"},{"$f":"Sheet2!C30","v":"Darlington Raceway, Darlington, South Carolina"},"Darlington ",75,150,301,null,1.5,400.5,"NBCSN","03:00:00","TBA","TBA"]
[{"$f":"Sheet2!A31","v":28},{"$f":"Sheet2!D31","v":"2020-09-12"},{"$f":"Sheet2!B31","v":"Federated Auto Parts 400"},{"$f":"Sheet2!C31","v":"Richmond Raceway, Richmond, Virginia"},"Richmond ",75,150,301,null,0.75,300,"NBCSN","07:30:00","TBA","TBA"]
[{"$f":"Sheet2!A32","v":29},{"$f":"Sheet2!D32","v":"2020-09-19"},{"$f":"Sheet2!B32","v":"Bass Pro Shops NRA Night Race"},{"$f":"Sheet2!C32","v":"Bristol Motor Speedway, Bristol, Tennessee"},"Bristol ",75,150,301,null,"2.4(roval)",312,"NBC","02:00:00","TBA","TBA"]
[{"$f":"Sheet2!A33","v":30},{"$f":"Sheet2!D33","v":"2020-09-27"},{"$f":"Sheet2!B33","v":"South Point 400"},{"$f":"Sheet2!C33","v":"Las Vegas Motor Speedway, Las Vegas, Nevada"},"Las ",75,150,301,null,1,400,"NBCSN","02:00:00","TBA","TBA"]
[{"$f":"Sheet2!A34","v":31},{"$f":"Sheet2!D34","v":"2020-10-04"},{"$f":"Sheet2!B34","v":"YellaWood 500"},{"$f":"Sheet2!C34","v":"Talladega Superspeedway, Lincoln, Alabama"},"Talladega ",75,150,301,null,2.66,500.08,"NBC","02:00:00","TBA","TBA"]
[{"$f":"Sheet2!A35","v":32},{"$f":"Sheet2!D35","v":"2020-10-11"},{"$f":"Sheet2!B35","v":"Bank of America Roval 400"},{"$f":"Sheet2!C35","v":"Charlotte Motor Speedway, Concord, North Carolina, (Roval)"},"Charlotte ",75,150,301,null,1.5,400.5,"NBC","02:00:00","TBA","TBA"]
[{"$f":"Sheet2!A36","v":33},{"$f":"Sheet2!D36","v":"2020-10-18"},{"$f":"Sheet2!B36","v":"Hollywood Casino 400"},{"$f":"Sheet2!C36","v":"Kansas Speedway, Kansas City, Kansas"},"Kansas ",75,150,301,null,0.52600000000000002,263,"NBCSN","02:30:00","TBA","TBA"]
[{"$f":"Sheet2!A37","v":34},{"$f":"Sheet2!D37","v":"2020-10-25"},{"$f":"Sheet2!B37","v":"AAA Texas 500"},{"$f":"Sheet2!C37","v":"Texas Motor Speedway, Fort Worth, Texas"},"Texas ",75,150,301,null,1.5,500.5,"NBCSN","03:00:00","TBA","TBA"]
[{"$f":"Sheet2!A38","v":35},{"$f":"Sheet2!D38","v":"2020-11-01"},{"$f":"Sheet2!B38","v":"Xfinity 500"},{"$f":"Sheet2!C38","v":"Martinsville Speedway, Ridgeway, Virginia"},"Martinsville ",75,150,301,null,1,312,"NBC","02:30:00","TBA","TBA"]
[{"$f":"Sheet2!A39","v":36},{"$f":"Sheet2!D39","v":"2020-11-08"},{"$f":"Sheet2!B39","v":"Bluegreen Vacations 500"},{"$f":"Sheet2!C39","v":"Phoenix Raceway, Avondale, Arizona"},"Phoenix ",80,160,267,null,1.5,400,"NBC","02:30:00","TBA","TBA"]

{"sheet":"Sheet2","index":18,"n_rows":39,"n_cols":9,"rows_kept":39,"cut":false,"hidden":false,"merged":[[29,5,31,5],[29,6,30,6],[30,4,31,4],[33,5,34,5],[16,5,17,5],[16,6,17,6],[19,5,26,5],[19,6,20,6],[20,4,26,4],[24,6,28,6],[3,4,8,4],[4,5,6,5],[5,6,6,6],[7,5,13,5],[9,4,10,4],[9,6,10,6],[11,4,12,4],[11,6,14,6],[13,4,14,4]]}
["No","Race Title","Track","Date","Time ET","TV"]
[null,"Advance Auto Parts Clash",null,"2019-02-10","15:00:00","FS1"]
[null,"Gander RV Duel",null,"2019-02-14","19:00:00","FS1"]
[1,"Daytona 500","Daytona International Speedway, Daytona Beach, Florida","2020-02-16","Fox","14:30:00"]
[2,"Pennzoil 400 presented by Jiffy Lube","Las Vegas Motor Speedway, Las Vegas, Nevada","2020-02-23",null,"15:30:00","PRN"]
[3,"Auto Club 400","Auto Club Speedway, Fontana, California","2020-03-01",null,null,"MRN"]
[4,"FanShield 500","Phoenix Raceway, Avondale, Arizona","2020-03-08"]
[5,"Darlington Raceway 400","Darlington Raceway, Darlington, South Carolina","2020-05-17",null,"14:00:00","PRN"]
[6,"Darlington Raceway 500KM","Darlington Raceway, Darlington, South Carolina","2020-05-20",null,null,"MRN"]
[7,"Coca-Cola 600","Charlotte Motor Speedway, Concord, North Carolina","2020-05-24","FS1",null,"PRN"]
[8,"Charlotte Motor Speedway 500KM","Charlotte Motor Speedway, Concord, North Carolina","2020-05-27"]
[9,"Bristol 500","Bristol Motor Speedway, Bristol, Tennessee","2020-05-31","Fox",null,"MRN"]
[10,"Atlanta 500","Atlanta Motor Speedway, Hampton, GA","2020-06-07"]
[11,"Martinsville 500","Martinsville Speedway, Ridgeway, Virginia","2020-06-10","FS1"]
[12,"Homestead 400","Miami Homestead Speedway, Homestead, Florida","2020-06-14",null,"20:00:00"]
[13,"Talladega 500","Talladega Superspeedway, Lincoln, Alabama","2020-06-21","18:00:00","Fox","PRN"]
[14,"Kids Free 325","Pocono Raceway, Long Pond, Pennsylvania","2020-06-27","15:00:00"]
[15,"Worry-Free Weather Guarantee 350","Pocono Raceway, Long Pond, Pennsylvania","2020-06-28","16:00:00"]
[16,"Big Machine Vodka 400 at the Brickyard","Indianapolis Motor Speedway, Speedway, Indiana","2020-07-05","16:00:00","NBC","PRN &",{"$f":"\"https://en.wikipedia.org/wiki/2020_\" & I19","v":"https://en.wikipedia.org/wiki/2020_Brickyard_400"},"Brickyard_400"]
[17,"Quaker State 400","Kentucky Speedway, Sparta, Kentucky","2020-07-12","14:30:00","NBCSN","PRN",{"$f":"\"https://en.wikipedia.org/wiki/2020_\" & I20","v":"https://en.wikipedia.org/wiki/2020_Quaker_State_400"},"Quaker_State_400"]
[18,"O'Reilly Auto Parts 500","Texas Motor Speedway, Fort Worth, Texas","2020-07-19","15:00:00",null,null,"https://en.wikipedia.org/wiki/2020_O%27Reilly_Auto_Parts_500"]
[19,"Super Start Batteries 400","Kansas Speedway, Kansas City, Kansas","2020-07-23",null,null,null,{"$f":"\"https://en.wikipedia.org/wiki/2020_\" & I22","v":"https://en.wikipedia.org/wiki/2020_Super_Start_Batteries_400"},"Super_Start_Batteries_400"]
[20,"Foxwoods Resort Casino 301","New Hampshire Motor Speedway, Loudon, New Hampshire","2020-08-02",null,null,null,{"$f":"\"https://en.wikipedia.org/wiki/2020_\" & I23","v":"https://en.wikipedia.org/wiki/2020_Foxwoods_Resort_Casino_301"},"Foxwoods_Resort_Casino_301"]
[21,"FireKeepers Casino 500","Michigan International Speedway, Brooklyn, Michigan","2020-08-08",null,null,null,"https://en.wikipedia.org/wiki/2020_FireKeepers_Casino_500","FireKeepers_Casino_500"]
[22,"Consumers Energy 500","Michigan International Speedway, Brooklyn, Michigan","2020-08-09",null,null,"MRN","https://en.wikipedia.org/wiki/2020_Consumers_Energy_500","Consumers_Energy_500"]
[23,"Go Bowling at The Glen","Daytona International Speedway, Daytona Beach, Florida","2020-08-16",null,null,null,"https://en.wikipedia.org/wiki/2020_Go_Bowling_235","Go_Bowling_235"]
[24,"Drydene 311 (Sat)","Dover International Speedway, Dover, Delaware","2020-08-22",null,null,null,"https://en.wikipedia.org/wiki/2020_Drydene_311_(Saturday)","Drydene_311_(Saturday)"]
[25,"Drydene 311 (Sun)","Dover International Speedway, Dover, Delaware","2020-08-23",null,null,null,"https://en.wikipedia.org/wiki/2020_Drydene_311_(Sunday)","Drydene_311_(Sunday)"]
[26,"Coke Zero Sugar 400","Daytona International Speedway, Daytona Beach, Florida","2020-08-29","19:30:00","NBC",null,"https://en.wikipedia.org/wiki/2020_Coke_Zero_Sugar_400","Coke_Zero_Sugar_400"]
[27,"Cokk Out Southern 500","Darlington Raceway, Darlington, South Carolina","2020-09-06","18:00:00","NBCSN","MRN","https://en.wikipedia.org/wiki/2020_Cook_Out_Southern_500","Cook_Out_Southern_500"]
[28,"Federated Auto Parts 400","Richmond Raceway, Richmond, Virginia","2020-09-12","19:30:00",null,null,"https://en.wikipedia.org/wiki/2020_Federated_Auto_Parts_400","Federated_Auto_Parts_400"]
[29,"Bass Pro Shops NRA Night Race","Bristol Motor Speedway, Bristol, Tennessee","2020-09-19",null,null,"PRN","https://en.wikipedia.org/wiki/2020_Bass_pro_Shops_NRA_Night_Race","Bass_pro_Shops_NRA_Night_Race"]
[30,"South Point 400","Las Vegas Motor Speedway, Las Vegas, Nevada","2020-09-27","19:00:00","NBCSN","PRN","https://en.wikipedia.org/wiki/2020_South_Point_400","South_Point_400"]
[31,"YellaWood 500","Talladega Superspeedway, Lincoln, Alabama","2020-10-04","14:00:00","NBC","MRN","https://en.wikipedia.org/wiki/2020_YellaWood_500","YellaWood_500"]
[32,"Bank of America Roval 400","Charlotte Motor Speedway, Concord, North Carolina, (Roval)","2020-10-11","14:30:00",null,"PRN","https://en.wikipedia.org/wiki/2020_Bank_of_America_Roval_400","Bank_of_America_Roval_400"]
[33,"Hollywood Casino 400","Kansas Speedway, Kansas City, Kansas","2020-10-18","14:30:00","NBC","MRN","https://en.wikipedia.org/wiki/2020_Hollywood_Casino_400","Hollywood_Casino_400"]
[34,"AAA Texas 500","Texas Motor Speedway, Fort Worth, Texas","2020-10-25","15:00:00","NBCSN","PRN","https://en.wikipedia.org/wiki/2020_AAA_Texas_500","AAA_Texas_500"]
[35,"Xfinity 500","Martinsville Speedway, Ridgeway, Virginia","2020-11-01","14:00:00","NBC","MRN","https://en.wikipedia.org/wiki/2020_Xfinity_500","Xfinity_500"]
[36,"Bluegreen Vacations 500","Phoenix Raceway, Avondale, Arizona","2020-11-08","15:00:00","NBC","MRN","https://en.wikipedia.org/wiki/2020_Bleugreen_Vacations_500","Bleugreen_Vacations_500"]

{"sheet":"Show me the Money","index":19,"n_rows":13,"n_cols":15,"rows_kept":13,"cut":false,"hidden":false,"merged":[]}
["Player","Sort","Segment 1","Segment 2","Segment 3","Segment 4","Total","Year End Pool","Total Cost","Cash Received","Winnings Rolled","Winnings","Bonus Pool","Net Winnings","WinningsPaid"]
["Jeff Buehrle",{"$f":"MID(A2,FIND(\" \", A2)+1,LEN(A2))&\", \"&LEFT(A2,FIND(\" \",A2)-1)","v":"Buehrle, Jeff"},25,25,25,25,{"$f":"SUM(C2:F2)","v":100},{"$f":"25","v":25},{"$f":"G2+H2","v":125},0,0,{"$f":"115","v":115},0,{"$f":"(L2+M2)-I2-J2","v":-10},0]
["Doug Gebauer","Gebauer, Doug",25,25,25,25,100,{"$f":"25+25+25","v":75},175,0,0,{"$f":"35+115+115","v":265},0,90,0]
["Trey George","George, Trey",25,25,25,25,100,0,100,0,0,{"$f":"0","v":0},{"$f":"H9*0.05","v":0},-100,0]
["R&R Kitchen","Kitchen, R&R",25,25,25,25,{"$f":"SUM(C5:F5)","v":100},0,100,0,0,{"$f":"0","v":0},0,-100,0]
["Ron Mason","Mason, Ron",25,25,25,25,100,0,100,0,0,{"$f":"50+35+35","v":120},0,20,0]
["Brad McLean","McLean, Brad",25,25,25,25,100,{"$f":"0+25+25","v":50},150,0,0,{"$f":"0+50+50","v":100},0,-50,0]
["Donna McLean","McLean, Donna",25,25,25,25,100,0,100,0,0,0,0,-100,0]
["Steve Sheppard","Sheppard, Steve",25,25,25,25,100,0,100,0,0,0,0,-100,0]
["Total Segment Pot",null,{"$f":"SUM(C2:C9)","v":200},200,200,200,800,150,950,0,0,600,0,-350,0]
["1st Place",null,{"$f":"C10-C12-C13","v":115},{"$f":"D10-D12-D13","v":115},{"$f":"E10-E12-E13","v":115},{"$f":"F10-F12-F13","v":115}]
["2nd Place",null,{"$f":"IF(C10*0.25<50,50,C10*0.25)","v":50},{"$f":"IF(D10*0.25<50,50,D10*0.25)","v":50},{"$f":"IF(E10*0.25<50,50,E10*0.25)","v":50},{"$f":"IF(F10*0.25<50,50,F10*0.25)","v":50}]
["3rd Place",null,{"$f":"IF(C10*0.15<35,35,C10*0.15)","v":35},{"$f":"IF(D10*0.15<35,35,D10*0.15)","v":35},{"$f":"IF(E10*0.15<35,35,E10*0.15)","v":35},{"$f":"IF(F10*0.15<35,35,F10*0.15)","v":35}]

{"sheet":"Rules","index":20,"n_rows":41,"n_cols":2,"rows_kept":41,"cut":false,"hidden":false,"merged":[]}
["Rule","Description"]
[1,"General"]
[1.1000000000000001,"The season will consist of 4 segments of 9 races each"]
[1.2,"Each segment will cost $25 per player to enter.  $100 per season"]
[1.3,"Winners will be declared at the end of each segment paying out to the top 3 finishers.  1st place upto 60%, 2nd place 25% (Minimum $50), 3rd place 15% (Minimum $25)"]
[1.5,"There are no limits on the number of changes you may make to your team prior to the beginning of each segment"]
[1.6,"Team consists of 13 cars in 7 groups."]
[1.7,"Groupings and car positions are based on each car's current car owner points standings as posted on www.nascar.com"]
[1.8,"Group 1 - Positions 1-6, Group 2 - Positions 7-12, Group 3 - Positions 13-20, Group 4 - Positions 21-30, Group 5 - Positions 31-35, Group 6 - Positions >35, Group 7 - Provisional"]
["1.8.1","Provisional Entry - Car not already on your team and listed on the entry list for the current weeks race.  Provisional Pick must be dropped from your team each week and can be used on your team as a provisional pick only once per segment."]
[1.9,"Week 1 - Daytona 500 positions are based on 2008 Car owner standings"]
[2,"The Play"]
[2.1,"Each week you must drop those cars that do not maintain their position in each of the 7 groups.  These are your weekly mandatory changes and will be highlighted in red."]
[2.2000000000000002,"Each week you may change up to 4 other cars in addition to your manatory changes.  (You may not add a car that was a mandatory change from rule 2.1.)  These are known as your optional changes."]
[2.2999999999999998,"Each week you may purchase additional changes (above the limit from rule 2.2) for $10 each additional change.  This money will be added to the year end pool and distributed as per rule 5.1"]
[2.4,"All changes must be submitted prior to the beginning of each race's qualifying session.  If qualifying is rained out positions will be set by NASCAR and owner points.  No changes will be accepted once the starting lineup has been posted to www.nascar.com"]
[2.5,"Any mandatory changes not submitted prior to the beginning of qualifying will be changed by the administrator.  The car at the bottom of each group will be substituted working up in the standings.  For group 6 the administrator will start at position 43 and work up.  For group 7 the administrator will start at position 50 and work up."]
[2.6,"Prior to the beginning of 9th race in each segment, any player may purchase up to 500 points in increments of 100 points.  $5 for every 100 points, $25 maximum."]
[3,"Points"]
[3.1,"Point totals will be reset after each segment."]
[3.2,"20 points for Pole"]
[3.3,"10 points for outside pole"]
[3.4,"5 Points for a car leading a lap in a race"]
[3.5,"10 Points for car leading the most laps in a race"]
[3.6,"Points for each finishing position are awarded on a decreasing scale.  See Points tab in the spreadsheet for actual points by finishing position"]
[3.7,"-100 points if your car does not make the race."]
[3.8,"-200 points if your group 7 car does not make the race"]
[4,"Bonus Points"]
[4.0999999999999996,"Group 1 car receives no finishing position bonus"]
[4.2,"Group 2 car Wins the race - 25% point bonus for that car"]
[4.3,"Group 3 car finshies in top 5 - 50% point bonus for that car"]
[4.4000000000000004,"Group 4 car finishes in top 10 - 150% point bonus for that car"]
[4.5,"Group 5 car finishes in top 10 - 200% point bonus for that car"]
[4.5999999999999996,"Group 6 car finishes in top 10 - 300% point bonus for that car"]
[4.7,"Group 7 car finishes in top   3 - 100% point bonus for cars inside the top 25 in points"]
[4.8,"Group 7 car finishes in top 10 - 300% point bonus for cars outside the top 25 in points"]
[5,"End of Season Pot"]
[5.0999999999999996,"All cash accumulated based on Rule 2.3 and 2.6 will be added to a separate \"End of Season\" point fund.  "]
[5.2,"The \"End of Season\" point fund will be paid to the top 3 season point totals excluding any purchased points from rule 2.6."]
[5.3,"You must participate in all 4 segments in order to qualify for the \"End of Season\" point fund."]
[5.4,"Payouts will be made as follows: 1st place 75%, 2nd place 15%, 3rd place 5%, and Last place 5%"]

{"sheet":"Pick Distribution","index":21,"n_rows":48,"n_cols":16,"rows_kept":48,"cut":false,"hidden":false,"merged":[]}
[null,"Driver","Tracy Banks","Jeff Buehrle","Doug Gebauer","Trey George","Brad McLean","Donna McLean","Steve Sheppard","Frequency",null,null,null,null,null,"Week"]
[1,{"$f":"LOOKUP(A2,'Cars & Results'!$A$7:$A$215,'Cars & Results'!$B$7:$B$215)","v":"Kurt Busch"},{"$f":"IF(ISNA(VLOOKUP($A2,'Ron Mason'!$B$7:$C$15,1,FALSE)),\"\",$A2)","v":1},{"$f":"IF(ISNA(VLOOKUP($A2,'Jeff Buehrle'!$B$7:$C$15,1,FALSE)),\"\",$A2)","v":""},{"$f":"IF(ISNA(VLOOKUP($A2,'Doug Gebauer'!$B$7:$C$15,1,FALSE)),\"\",$A2)","v":""},{"$f":"IF(ISNA(VLOOKUP($A2,'Trey George'!$B$7:$C$15,1,FALSE)),\"\",$A2)","v":1},{"$f":"IF(ISNA(VLOOKUP($A2,'Brad McLean'!$B$7:$C$15,1,FALSE)),\"\",$A2)","v":""},{"$f":"IF(ISNA(VLOOKUP($A2,'Donna McLean'!$B$7:$C$15,1,FALSE)),\"\",$A2)","v":""},{"$f":"IF(ISNA(VLOOKUP($A2,'Steve Sheppard'!$B$7:$C$15,1,FALSE)),\"\",$A2)","v":""},{"$f":"9-COUNTBLANK(C2:I2)","v":4},null,null,null,null,null,26]
[2,{"$f":"LOOKUP(A3,'Cars & Results'!$A$7:$A$215,'Cars & Results'!$B$7:$B$215)","v":"Brad Keselowski"},{"$f":"IF(ISNA(VLOOKUP($A3,'Ron Mason'!$B$7:$C$15,1,FALSE)),\"\",$A3)","v":""},{"$f":"IF(ISNA(VLOOKUP($A3,'Jeff Buehrle'!$B$7:$C$15,1,FALSE)),\"\",$A3)","v":""},{"$f":"IF(ISNA(VLOOKUP($A3,'Doug Gebauer'!$B$7:$C$15,1,FALSE)),\"\",$A3)","v":""},{"$f":"IF(ISNA(VLOOKUP($A3,'Trey George'!$B$7:$C$15,1,FALSE)),\"\",$A3)","v":""},{"$f":"IF(ISNA(VLOOKUP($A3,'Brad McLean'!$B$7:$C$15,1,FALSE)),\"\",$A3)","v":2},{"$f":"IF(ISNA(VLOOKUP($A3,'Donna McLean'!$B$7:$C$15,1,FALSE)),\"\",$A3)","v":""},{"$f":"IF(ISNA(VLOOKUP($A3,'Steve Sheppard'!$B$7:$C$15,1,FALSE)),\"\",$A3)","v":""},3,null,null,null,null,null,"N"]
[3,{"$f":"LOOKUP(A4,'Cars & Results'!$A$7:$A$215,'Cars & Results'!$B$7:$B$215)","v":"Austin Dillon"},{"$f":"IF(ISNA(VLOOKUP($A4,'Ron Mason'!$B$7:$C$15,1,FALSE)),\"\",$A4)","v":""},{"$f":"IF(ISNA(VLOOKUP($A4,'Jeff Buehrle'!$B$7:$C$15,1,FALSE)),\"\",$A4)","v":""},{"$f":"IF(ISNA(VLOOKUP($A4,'Doug Gebauer'!$B$7:$C$15,1,FALSE)),\"\",$A4)","v":""},{"$f":"IF(ISNA(VLOOKUP($A4,'Trey George'!$B$7:$C$15,1,FALSE)),\"\",$A4)","v":""},{"$f":"IF(ISNA(VLOOKUP($A4,'Brad McLean'!$B$7:$C$15,1,FALSE)),\"\",$A4)","v":""},{"$f":"IF(ISNA(VLOOKUP($A4,'Donna McLean'!$B$7:$C$15,1,FALSE)),\"\",$A4)","v":""},{"$f":"IF(ISNA(VLOOKUP($A4,'Steve Sheppard'!$B$7:$C$15,1,FALSE)),\"\",$A4)","v":""},2]
[4,{"$f":"LOOKUP(A5,'Cars & Results'!$A$7:$A$215,'Cars & Results'!$B$7:$B$215)","v":"Kevin Harvick"},{"$f":"IF(ISNA(VLOOKUP($A5,'Ron Mason'!$B$7:$C$15,1,FALSE)),\"\",$A5)","v":""},{"$f":"IF(ISNA(VLOOKUP($A5,'Jeff Buehrle'!$B$7:$C$15,1,FALSE)),\"\",$A5)","v":4},{"$f":"IF(ISNA(VLOOKUP($A5,'Doug Gebauer'!$B$7:$C$15,1,FALSE)),\"\",$A5)","v":4},{"$f":"IF(ISNA(VLOOKUP($A5,'Trey George'!$B$7:$C$15,1,FALSE)),\"\",$A5)","v":4},{"$f":"IF(ISNA(VLOOKUP($A5,'Brad McLean'!$B$7:$C$15,1,FALSE)),\"\",$A5)","v":4},{"$f":"IF(ISNA(VLOOKUP($A5,'Donna McLean'!$B$7:$C$15,1,FALSE)),\"\",$A5)","v":4},{"$f":"IF(ISNA(VLOOKUP($A5,'Steve Sheppard'!$B$7:$C$15,1,FALSE)),\"\",$A5)","v":4},8]
[5,{"$f":"LOOKUP(A6,'Cars & Results'!$A$7:$A$215,'Cars & Results'!$B$7:$B$215)","v":""},{"$f":"IF(ISNA(VLOOKUP($A6,'Ron Mason'!$B$7:$C$15,1,FALSE)),\"\",$A6)","v":""},{"$f":"IF(ISNA(VLOOKUP($A6,'Jeff Buehrle'!$B$7:$C$15,1,FALSE)),\"\",$A6)","v":""},{"$f":"IF(ISNA(VLOOKUP($A6,'Doug Gebauer'!$B$7:$C$15,1,FALSE)),\"\",$A6)","v":""},{"$f":"IF(ISNA(VLOOKUP($A6,'Trey George'!$B$7:$C$15,1,FALSE)),\"\",$A6)","v":""},{"$f":"IF(ISNA(VLOOKUP($A6,'Brad McLean'!$B$7:$C$15,1,FALSE)),\"\",$A6)","v":""},{"$f":"IF(ISNA(VLOOKUP($A6,'Donna McLean'!$B$7:$C$15,1,FALSE)),\"\",$A6)","v":""},{"$f":"IF(ISNA(VLOOKUP($A6,'Steve Sheppard'!$B$7:$C$15,1,FALSE)),\"\",$A6)","v":""},2]
[6,{"$f":"LOOKUP(A7,'Cars & Results'!$A$7:$A$215,'Cars & Results'!$B$7:$B$215)","v":"Ryan Newman"},{"$f":"IF(ISNA(VLOOKUP($A7,'Ron Mason'!$B$7:$C$15,1,FALSE)),\"\",$A7)","v":""},{"$f":"IF(ISNA(VLOOKUP($A7,'Jeff Buehrle'!$B$7:$C$15,1,FALSE)),\"\",$A7)","v":""},{"$f":"IF(ISNA(VLOOKUP($A7,'Doug Gebauer'!$B$7:$C$15,1,FALSE)),\"\",$A7)","v":""},{"$f":"IF(ISNA(VLOOKUP($A7,'Trey George'!$B$7:$C$15,1,FALSE)),\"\",$A7)","v":""},{"$f":"IF(ISNA(VLOOKUP($A7,'Brad McLean'!$B$7:$C$15,1,FALSE)),\"\",$A7)","v":""},{"$f":"IF(ISNA(VLOOKUP($A7,'Donna McLean'!$B$7:$C$15,1,FALSE)),\"\",$A7)","v":6},{"$f":"IF(ISNA(VLOOKUP($A7,'Steve Sheppard'!$B$7:$C$15,1,FALSE)),\"\",$A7)","v":6},4]
[7,{"$f":"LOOKUP(A8,'Cars & Results'!$A$7:$A$215,'Cars & Results'!$B$7:$B$215)","v":""},{"$f":"IF(ISNA(VLOOKUP($A8,'Ron Mason'!$B$7:$C$15,1,FALSE)),\"\",$A8)","v":""},{"$f":"IF(ISNA(VLOOKUP($A8,'Jeff Buehrle'!$B$7:$C$15,1,FALSE)),\"\",$A8)","v":""},{"$f":"IF(ISNA(VLOOKUP($A8,'Doug Gebauer'!$B$7:$C$15,1,FALSE)),\"\",$A8)","v":""},{"$f":"IF(ISNA(VLOOKUP($A8,'Trey George'!$B$7:$C$15,1,FALSE)),\"\",$A8)","v":""},{"$f":"IF(ISNA(VLOOKUP($A8,'Brad McLean'!$B$7:$C$15,1,FALSE)),\"\",$A8)","v":""},{"$f":"IF(ISNA(VLOOKUP($A8,'Donna McLean'!$B$7:$C$15,1,FALSE)),\"\",$A8)","v":""},{"$f":"IF(ISNA(VLOOKUP($A8,'Steve Sheppard'!$B$7:$C$15,1,FALSE)),\"\",$A8)","v":""},2]
[10,{"$f":"LOOKUP(A9,'Cars & Results'!$A$7:$A$215,'Cars & Results'!$B$7:$B$215)","v":"Aric Almirola"},{"$f":"IF(ISNA(VLOOKUP($A9,'Ron Mason'!$B$7:$C$15,1,FALSE)),\"\",$A9)","v":""},{"$f":"IF(ISNA(VLOOKUP($A9,'Jeff Buehrle'!$B$7:$C$15,1,FALSE)),\"\",$A9)","v":""},{"$f":"IF(ISNA(VLOOKUP($A9,'Doug Gebauer'!$B$7:$C$15,1,FALSE)),\"\",$A9)","v":10},{"$f":"IF(ISNA(VLOOKUP($A9,'Trey George'!$B$7:$C$15,1,FALSE)),\"\",$A9)","v":""},{"$f":"IF(ISNA(VLOOKUP($A9,'Brad McLean'!$B$7:$C$15,1,FALSE)),\"\",$A9)","v":""},{"$f":"IF(ISNA(VLOOKUP($A9,'Donna McLean'!$B$7:$C$15,1,FALSE)),\"\",$A9)","v":""},{"$f":"IF(ISNA(VLOOKUP($A9,'Steve Sheppard'!$B$7:$C$15,1,FALSE)),\"\",$A9)","v":""},3]
[11,{"$f":"LOOKUP(A10,'Cars & Results'!$A$7:$A$215,'Cars & Results'!$B$7:$B$215)","v":"Denny Hamlin"},{"$f":"IF(ISNA(VLOOKUP($A10,'Ron Mason'!$B$7:$C$15,1,FALSE)),\"\",$A10)","v":11},{"$f":"IF(ISNA(VLOOKUP($A10,'Jeff Buehrle'!$B$7:$C$15,1,FALSE)),\"\",$A10)","v":""},{"$f":"IF(ISNA(VLOOKUP($A10,'Doug Gebauer'!$B$7:$C$15,1,FALSE)),\"\",$A10)","v":""},{"$f":"IF(ISNA(VLOOKUP($A10,'Trey George'!$B$7:$C$15,1,FALSE)),\"\",$A10)","v":""},{"$f":"IF(ISNA(VLOOKUP($A10,'Brad McLean'!$B$7:$C$15,1,FALSE)),\"\",$A10)","v":""},{"$f":"IF(ISNA(VLOOKUP($A10,'Donna McLean'!$B$7:$C$15,1,FALSE)),\"\",$A10)","v":""},{"$f":"IF(ISNA(VLOOKUP($A10,'Steve Sheppard'!$B$7:$C$15,1,FALSE)),\"\",$A10)","v":""},3]
[13,{"$f":"LOOKUP(A11,'Cars & Results'!$A$7:$A$215,'Cars & Results'!$B$7:$B$215)","v":"Ty Dillon"},{"$f":"IF(ISNA(VLOOKUP($A11,'Ron Mason'!$B$7:$C$15,1,FALSE)),\"\",$A11)","v":""},{"$f":"IF(ISNA(VLOOKUP($A11,'Jeff Buehrle'!$B$7:$C$15,1,FALSE)),\"\",$A11)","v":""},{"$f":"IF(ISNA(VLOOKUP($A11,'Doug Gebauer'!$B$7:$C$15,1,FALSE)),\"\",$A11)","v":""},{"$f":"IF(ISNA(VLOOKUP($A11,'Trey George'!$B$7:$C$15,1,FALSE)),\"\",$A11)","v":""},{"$f":"IF(ISNA(VLOOKUP($A11,'Brad McLean'!$B$7:$C$15,1,FALSE)),\"\",$A11)","v":""},{"$f":"IF(ISNA(VLOOKUP($A11,'Donna McLean'!$B$7:$C$15,1,FALSE)),\"\",$A11)","v":13},{"$f":"IF(ISNA(VLOOKUP($A11,'Steve Sheppard'!$B$7:$C$15,1,FALSE)),\"\",$A11)","v":""},3]
[14,{"$f":"LOOKUP(A12,'Cars & Results'!$A$7:$A$215,'Cars & Results'!$B$7:$B$215)","v":"Clint Bowyer"},{"$f":"IF(ISNA(VLOOKUP($A12,'Ron Mason'!$B$7:$C$15,1,FALSE)),\"\",$A12)","v":""},{"$f":"IF(ISNA(VLOOKUP($A12,'Jeff Buehrle'!$B$7:$C$15,1,FALSE)),\"\",$A12)","v":""},{"$f":"IF(ISNA(VLOOKUP($A12,'Doug Gebauer'!$B$7:$C$15,1,FALSE)),\"\",$A12)","v":""},{"$f":"IF(ISNA(VLOOKUP($A12,'Trey George'!$B$7:$C$15,1,FALSE)),\"\",$A12)","v":""},{"$f":"IF(ISNA(VLOOKUP($A12,'Brad McLean'!$B$7:$C$15,1,FALSE)),\"\",$A12)","v":""},{"$f":"IF(ISNA(VLOOKUP($A12,'Donna McLean'!$B$7:$C$15,1,FALSE)),\"\",$A12)","v":""},{"$f":"IF(ISNA(VLOOKUP($A12,'Steve Sheppard'!$B$7:$C$15,1,FALSE)),\"\",$A12)","v":""},2]
[15,{"$f":"LOOKUP(A13,'Cars & Results'!$A$7:$A$215,'Cars & Results'!$B$7:$B$215)","v":"Brennan Poole (R)"},{"$f":"IF(ISNA(VLOOKUP($A13,'Ron Mason'!$B$7:$C$15,1,FALSE)),\"\",$A13)","v":15},{"$f":"IF(ISNA(VLOOKUP($A13,'Jeff Buehrle'!$B$7:$C$15,1,FALSE)),\"\",$A13)","v":""},{"$f":"IF(ISNA(VLOOKUP($A13,'Doug Gebauer'!$B$7:$C$15,1,FALSE)),\"\",$A13)","v":""},{"$f":"IF(ISNA(VLOOKUP($A13,'Trey George'!$B$7:$C$15,1,FALSE)),\"\",$A13)","v":""},{"$f":"IF(ISNA(VLOOKUP($A13,'Brad McLean'!$B$7:$C$15,1,FALSE)),\"\",$A13)","v":""},{"$f":"IF(ISNA(VLOOKUP($A13,'Donna McLean'!$B$7:$C$15,1,FALSE)),\"\",$A13)","v":""},{"$f":"IF(ISNA(VLOOKUP($A13,'Steve Sheppard'!$B$7:$C$15,1,FALSE)),\"\",$A13)","v":""},3]
[16,{"$f":"LOOKUP(A14,'Cars & Results'!$A$7:$A$215,'Cars & Results'!$B$7:$B$215)","v":""},{"$f":"IF(ISNA(VLOOKUP($A14,'Ron Mason'!$B$7:$C$15,1,FALSE)),\"\",$A14)","v":""},{"$f":"IF(ISNA(VLOOKUP($A14,'Jeff Buehrle'!$B$7:$C$15,1,FALSE)),\"\",$A14)","v":""},{"$f":"IF(ISNA(VLOOKUP($A14,'Doug Gebauer'!$B$7:$C$15,1,FALSE)),\"\",$A14)","v":""},{"$f":"IF(ISNA(VLOOKUP($A14,'Trey George'!$B$7:$C$15,1,FALSE)),\"\",$A14)","v":""},{"$f":"IF(ISNA(VLOOKUP($A14,'Brad McLean'!$B$7:$C$15,1,FALSE)),\"\",$A14)","v":""},{"$f":"IF(ISNA(VLOOKUP($A14,'Donna McLean'!$B$7:$C$15,1,FALSE)),\"\",$A14)","v":""},{"$f":"IF(ISNA(VLOOKUP($A14,'Steve Sheppard'!$B$7:$C$15,1,FALSE)),\"\",$A14)","v":""},2]
[17,{"$f":"LOOKUP(A15,'Cars & Results'!$A$7:$A$215,'Cars & Results'!$B$7:$B$215)","v":"Chris Buescher"},{"$f":"IF(ISNA(VLOOKUP($A15,'Ron Mason'!$B$7:$C$15,1,FALSE)),\"\",$A15)","v":""},{"$f":"IF(ISNA(VLOOKUP($A15,'Jeff Buehrle'!$B$7:$C$15,1,FALSE)),\"\",$A15)","v":""},{"$f":"IF(ISNA(VLOOKUP($A15,'Doug Gebauer'!$B$7:$C$15,1,FALSE)),\"\",$A15)","v":""},{"$f":"IF(ISNA(VLOOKUP($A15,'Trey George'!$B$7:$C$15,1,FALSE)),\"\",$A15)","v":""},{"$f":"IF(ISNA(VLOOKUP($A15,'Brad McLean'!$B$7:$C$15,1,FALSE)),\"\",$A15)","v":""},{"$f":"IF(ISNA(VLOOKUP($A15,'Donna McLean'!$B$7:$C$15,1,FALSE)),\"\",$A15)","v":""},{"$f":"IF(ISNA(VLOOKUP($A15,'Steve Sheppard'!$B$7:$C$15,1,FALSE)),\"\",$A15)","v":""},2]
[18,{"$f":"LOOKUP(A16,'Cars & Results'!$A$7:$A$215,'Cars & Results'!$B$7:$B$215)","v":"Kyle Busch"},{"$f":"IF(ISNA(VLOOKUP($A16,'Ron Mason'!$B$7:$C$15,1,FALSE)),\"\",$A16)","v":""},{"$f":"IF(ISNA(VLOOKUP($A16,'Jeff Buehrle'!$B$7:$C$15,1,FALSE)),\"\",$A16)","v":18},{"$f":"IF(ISNA(VLOOKUP($A16,'Doug Gebauer'!$B$7:$C$15,1,FALSE)),\"\",$A16)","v":18},{"$f":"IF(ISNA(VLOOKUP($A16,'Trey George'!$B$7:$C$15,1,FALSE)),\"\",$A16)","v":""},{"$f":"IF(ISNA(VLOOKUP($A16,'Brad McLean'!$B$7:$C$15,1,FALSE)),\"\",$A16)","v":""},{"$f":"IF(ISNA(VLOOKUP($A16,'Donna McLean'!$B$7:$C$15,1,FALSE)),\"\",$A16)","v":""},{"$f":"IF(ISNA(VLOOKUP($A16,'Steve Sheppard'!$B$7:$C$15,1,FALSE)),\"\",$A16)","v":""},4]
[19,{"$f":"LOOKUP(A17,'Cars & Results'!$A$7:$A$215,'Cars & Results'!$B$7:$B$215)","v":"Martin Truex Jr."},{"$f":"IF(ISNA(VLOOKUP($A17,'Ron Mason'!$B$7:$C$15,1,FALSE)),\"\",$A17)","v":""},{"$f":"IF(ISNA(VLOOKUP($A17,'Jeff Buehrle'!$B$7:$C$15,1,FALSE)),\"\",$A17)","v":19},{"$f":"IF(ISNA(VLOOKUP($A17,'Doug Gebauer'!$B$7:$C$15,1,FALSE)),\"\",$A17)","v":""},{"$f":"IF(ISNA(VLOOKUP($A17,'Trey George'!$B$7:$C$15,1,FALSE)),\"\",$A17)","v":""},{"$f":"IF(ISNA(VLOOKUP($A17,'Brad McLean'!$B$7:$C$15,1,FALSE)),\"\",$A17)","v":""},{"$f":"IF(ISNA(VLOOKUP($A17,'Donna McLean'!$B$7:$C$15,1,FALSE)),\"\",$A17)","v":""},{"$f":"IF(ISNA(VLOOKUP($A17,'Steve Sheppard'!$B$7:$C$15,1,FALSE)),\"\",$A17)","v":""},3]
[20,{"$f":"LOOKUP(A18,'Cars & Results'!$A$7:$A$215,'Cars & Results'!$B$7:$B$215)","v":"Erik Jones"},{"$f":"IF(ISNA(VLOOKUP($A18,'Ron Mason'!$B$7:$C$15,1,FALSE)),\"\",$A18)","v":20},{"$f":"IF(ISNA(VLOOKUP($A18,'Jeff Buehrle'!$B$7:$C$15,1,FALSE)),\"\",$A18)","v":20},{"$f":"IF(ISNA(VLOOKUP($A18,'Doug Gebauer'!$B$7:$C$15,1,FALSE)),\"\",$A18)","v":20},{"$f":"IF(ISNA(VLOOKUP($A18,'Trey George'!$B$7:$C$15,1,FALSE)),\"\",$A18)","v":20},{"$f":"IF(ISNA(VLOOKUP($A18,'Brad McLean'!$B$7:$C$15,1,FALSE)),\"\",$A18)","v":20},{"$f":"IF(ISNA(VLOOKUP($A18,'Donna McLean'!$B$7:$C$15,1,FALSE)),\"\",$A18)","v":""},{"$f":"IF(ISNA(VLOOKUP($A18,'Steve Sheppard'!$B$7:$C$15,1,FALSE)),\"\",$A18)","v":""},7]
[21,{"$f":"LOOKUP(A19,'Cars & Results'!$A$7:$A$215,'Cars & Results'!$B$7:$B$215)","v":"Matt DiBenedetto"},{"$f":"IF(ISNA(VLOOKUP($A19,'Ron Mason'!$B$7:$C$15,1,FALSE)),\"\",$A19)","v":""},{"$f":"IF(ISNA(VLOOKUP($A19,'Jeff Buehrle'!$B$7:$C$15,1,FALSE)),\"\",$A19)","v":""},{"$f":"IF(ISNA(VLOOKUP($A19,'Doug Gebauer'!$B$7:$C$15,1,FALSE)),\"\",$A19)","v":""},{"$f":"IF(ISNA(VLOOKUP($A19,'Trey George'!$B$7:$C$15,1,FALSE)),\"\",$A19)","v":""},{"$f":"IF(ISNA(VLOOKUP($A19,'Brad McLean'!$B$7:$C$15,1,FALSE)),\"\",$A19)","v":""},{"$f":"IF(ISNA(VLOOKUP($A19,'Donna McLean'!$B$7:$C$15,1,FALSE)),\"\",$A19)","v":""},{"$f":"IF(ISNA(VLOOKUP($A19,'Steve Sheppard'!$B$7:$C$15,1,FALSE)),\"\",$A19)","v":""},2]
[22,{"$f":"LOOKUP(A20,'Cars & Results'!$A$7:$A$215,'Cars & Results'!$B$7:$B$215)","v":"Joey Logano"},{"$f":"IF(ISNA(VLOOKUP($A20,'Ron Mason'!$B$7:$C$15,1,FALSE)),\"\",$A20)","v":""},{"$f":"IF(ISNA(VLOOKUP($A20,'Jeff Buehrle'!$B$7:$C$15,1,FALSE)),\"\",$A20)","v":""},{"$f":"IF(ISNA(VLOOKUP($A20,'Doug Gebauer'!$B$7:$C$15,1,FALSE)),\"\",$A20)","v":""},{"$f":"IF(ISNA(VLOOKUP($A20,'Trey George'!$B$7:$C$15,1,FALSE)),\"\",$A20)","v":""},{"$f":"IF(ISNA(VLOOKUP($A20,'Brad McLean'!$B$7:$C$15,1,FALSE)),\"\",$A20)","v":""},{"$f":"IF(ISNA(VLOOKUP($A20,'Donna McLean'!$B$7:$C$15,1,FALSE)),\"\",$A20)","v":""},{"$f":"IF(ISNA(VLOOKUP($A20,'Steve Sheppard'!$B$7:$C$15,1,FALSE)),\"\",$A20)","v":22},3]
[23,{"$f":"LOOKUP(A21,'Cars & Results'!$A$7:$A$215,'Cars & Results'!$B$7:$B$215)","v":""},{"$f":"IF(ISNA(VLOOKUP($A21,'Ron Mason'!$B$7:$C$15,1,FALSE)),\"\",$A21)","v":""},{"$f":"IF(ISNA(VLOOKUP($A21,'Jeff Buehrle'!$B$7:$C$15,1,FALSE)),\"\",$A21)","v":""},{"$f":"IF(ISNA(VLOOKUP($A21,'Doug Gebauer'!$B$7:$C$15,1,FALSE)),\"\",$A21)","v":""},{"$f":"IF(ISNA(VLOOKUP($A21,'Trey George'!$B$7:$C$15,1,FALSE)),\"\",$A21)","v":""},{"$f":"IF(ISNA(VLOOKUP($A21,'Brad McLean'!$B$7:$C$15,1,FALSE)),\"\",$A21)","v":""},{"$f":"IF(ISNA(VLOOKUP($A21,'Donna McLean'!$B$7:$C$15,1,FALSE)),\"\",$A21)","v":""},{"$f":"IF(ISNA(VLOOKUP($A21,'Steve Sheppard'!$B$7:$C$15,1,FALSE)),\"\",$A21)","v":""},2]
[24,{"$f":"LOOKUP(A22,'Cars & Results'!$A$7:$A$215,'Cars & Results'!$B$7:$B$215)","v":"William Byron"},{"$f":"IF(ISNA(VLOOKUP($A22,'Ron Mason'!$B$7:$C$15,1,FALSE)),\"\",$A22)","v":""},{"$f":"IF(ISNA(VLOOKUP($A22,'Jeff Buehrle'!$B$7:$C$15,1,FALSE)),\"\",$A22)","v":""},{"$f":"IF(ISNA(VLOOKUP($A22,'Doug Gebauer'!$B$7:$C$15,1,FALSE)),\"\",$A22)","v":""},{"$f":"IF(ISNA(VLOOKUP($A22,'Trey George'!$B$7:$C$15,1,FALSE)),\"\",$A22)","v":""},{"$f":"IF(ISNA(VLOOKUP($A22,'Brad McLean'!$B$7:$C$15,1,FALSE)),\"\",$A22)","v":""},{"$f":"IF(ISNA(VLOOKUP($A22,'Donna McLean'!$B$7:$C$15,1,FALSE)),\"\",$A22)","v":""},{"$f":"IF(ISNA(VLOOKUP($A22,'Steve Sheppard'!$B$7:$C$15,1,FALSE)),\"\",$A22)","v":""},2]
[26,{"$f":"LOOKUP(A23,'Cars & Results'!$A$7:$A$215,'Cars & Results'!$B$7:$B$215)","v":""},{"$f":"IF(ISNA(VLOOKUP($A23,'Ron Mason'!$B$7:$C$15,1,FALSE)),\"\",$A23)","v":""},{"$f":"IF(ISNA(VLOOKUP($A23,'Jeff Buehrle'!$B$7:$C$15,1,FALSE)),\"\",$A23)","v":""},{"$f":"IF(ISNA(VLOOKUP($A23,'Doug Gebauer'!$B$7:$C$15,1,FALSE)),\"\",$A23)","v":""},{"$f":"IF(ISNA(VLOOKUP($A23,'Trey George'!$B$7:$C$15,1,FALSE)),\"\",$A23)","v":""},{"$f":"IF(ISNA(VLOOKUP($A23,'Brad McLean'!$B$7:$C$15,1,FALSE)),\"\",$A23)","v":""},{"$f":"IF(ISNA(VLOOKUP($A23,'Donna McLean'!$B$7:$C$15,1,FALSE)),\"\",$A23)","v":""},{"$f":"IF(ISNA(VLOOKUP($A23,'Steve Sheppard'!$B$7:$C$15,1,FALSE)),\"\",$A23)","v":""},2]
[27,{"$f":"LOOKUP(A24,'Cars & Results'!$A$7:$A$215,'Cars & Results'!$B$7:$B$215)","v":""},{"$f":"IF(ISNA(VLOOKUP($A24,'Ron Mason'!$B$7:$C$15,1,FALSE)),\"\",$A24)","v":""},{"$f":"IF(ISNA(VLOOKUP($A24,'Jeff Buehrle'!$B$7:$C$15,1,FALSE)),\"\",$A24)","v":""},{"$f":"IF(ISNA(VLOOKUP($A24,'Doug Gebauer'!$B$7:$C$15,1,FALSE)),\"\",$A24)","v":""},{"$f":"IF(ISNA(VLOOKUP($A24,'Trey George'!$B$7:$C$15,1,FALSE)),\"\",$A24)","v":""},{"$f":"IF(ISNA(VLOOKUP($A24,'Brad McLean'!$B$7:$C$15,1,FALSE)),\"\",$A24)","v":""},{"$f":"IF(ISNA(VLOOKUP($A24,'Donna McLean'!$B$7:$C$15,1,FALSE)),\"\",$A24)","v":""},{"$f":"IF(ISNA(VLOOKUP($A24,'Steve Sheppard'!$B$7:$C$15,1,FALSE)),\"\",$A24)","v":""},2]
[30,{"$f":"LOOKUP(A25,'Cars & Results'!$A$7:$A$215,'Cars & Results'!$B$7:$B$215)","v":""},{"$f":"IF(ISNA(VLOOKUP($A25,'Ron Mason'!$B$7:$C$15,1,FALSE)),\"\",$A25)","v":""},{"$f":"IF(ISNA(VLOOKUP($A25,'Jeff Buehrle'!$B$7:$C$15,1,FALSE)),\"\",$A25)","v":""},{"$f":"IF(ISNA(VLOOKUP($A25,'Doug Gebauer'!$B$7:$C$15,1,FALSE)),\"\",$A25)","v":""},{"$f":"IF(ISNA(VLOOKUP($A25,'Trey George'!$B$7:$C$15,1,FALSE)),\"\",$A25)","v":""},{"$f":"IF(ISNA(VLOOKUP($A25,'Brad McLean'!$B$7:$C$15,1,FALSE)),\"\",$A25)","v":""},{"$f":"IF(ISNA(VLOOKUP($A25,'Donna McLean'!$B$7:$C$15,1,FALSE)),\"\",$A25)","v":""},{"$f":"IF(ISNA(VLOOKUP($A25,'Steve Sheppard'!$B$7:$C$15,1,FALSE)),\"\",$A25)","v":""},2]
[31,{"$f":"LOOKUP(A26,'Cars & Results'!$A$7:$A$215,'Cars & Results'!$B$7:$B$215)","v":""},{"$f":"IF(ISNA(VLOOKUP($A26,'Ron Mason'!$B$7:$C$15,1,FALSE)),\"\",$A26)","v":""},{"$f":"IF(ISNA(VLOOKUP($A26,'Jeff Buehrle'!$B$7:$C$15,1,FALSE)),\"\",$A26)","v":""},{"$f":"IF(ISNA(VLOOKUP($A26,'Doug Gebauer'!$B$7:$C$15,1,FALSE)),\"\",$A26)","v":""},{"$f":"IF(ISNA(VLOOKUP($A26,'Trey George'!$B$7:$C$15,1,FALSE)),\"\",$A26)","v":""},{"$f":"IF(ISNA(VLOOKUP($A26,'Brad McLean'!$B$7:$C$15,1,FALSE)),\"\",$A26)","v":""},{"$f":"IF(ISNA(VLOOKUP($A26,'Donna McLean'!$B$7:$C$15,1,FALSE)),\"\",$A26)","v":""},{"$f":"IF(ISNA(VLOOKUP($A26,'Steve Sheppard'!$B$7:$C$15,1,FALSE)),\"\",$A26)","v":""},2]
[32,{"$f":"LOOKUP(A27,'Cars & Results'!$A$7:$A$215,'Cars & Results'!$B$7:$B$215)","v":"Corey LaJoie"},{"$f":"IF(ISNA(VLOOKUP($A27,'Ron Mason'!$B$7:$C$15,1,FALSE)),\"\",$A27)","v":""},{"$f":"IF(ISNA(VLOOKUP($A27,'Jeff Buehrle'!$B$7:$C$15,1,FALSE)),\"\",$A27)","v":""},{"$f":"IF(ISNA(VLOOKUP($A27,'Doug Gebauer'!$B$7:$C$15,1,FALSE)),\"\",$A27)","v":""},{"$f":"IF(ISNA(VLOOKUP($A27,'Trey George'!$B$7:$C$15,1,FALSE)),\"\",$A27)","v":""},{"$f":"IF(ISNA(VLOOKUP($A27,'Brad McLean'!$B$7:$C$15,1,FALSE)),\"\",$A27)","v":32},{"$f":"IF(ISNA(VLOOKUP($A27,'Donna McLean'!$B$7:$C$15,1,FALSE)),\"\",$A27)","v":""},{"$f":"IF(ISNA(VLOOKUP($A27,'Steve Sheppard'!$B$7:$C$15,1,FALSE)),\"\",$A27)","v":""},3]
[34,{"$f":"LOOKUP(A28,'Cars & Results'!$A$7:$A$215,'Cars & Results'!$B$7:$B$215)","v":"Michael McDowell"},{"$f":"IF(ISNA(VLOOKUP($A28,'Ron Mason'!$B$7:$C$15,1,FALSE)),\"\",$A28)","v":""},{"$f":"IF(ISNA(VLOOKUP($A28,'Jeff Buehrle'!$B$7:$C$15,1,FALSE)),\"\",$A28)","v":""},{"$f":"IF(ISNA(VLOOKUP($A28,'Doug Gebauer'!$B$7:$C$15,1,FALSE)),\"\",$A28)","v":""},{"$f":"IF(ISNA(VLOOKUP($A28,'Trey George'!$B$7:$C$15,1,FALSE)),\"\",$A28)","v":""},{"$f":"IF(ISNA(VLOOKUP($A28,'Brad McLean'!$B$7:$C$15,1,FALSE)),\"\",$A28)","v":""},{"$f":"IF(ISNA(VLOOKUP($A28,'Donna McLean'!$B$7:$C$15,1,FALSE)),\"\",$A28)","v":""},{"$f":"IF(ISNA(VLOOKUP($A28,'Steve Sheppard'!$B$7:$C$15,1,FALSE)),\"\",$A28)","v":""},2]
[35,{"$f":"LOOKUP(A29,'Cars & Results'!$A$7:$A$215,'Cars & Results'!$B$7:$B$215)","v":""},{"$f":"IF(ISNA(VLOOKUP($A29,'Ron Mason'!$B$7:$C$15,1,FALSE)),\"\",$A29)","v":""},{"$f":"IF(ISNA(VLOOKUP($A29,'Jeff Buehrle'!$B$7:$C$15,1,FALSE)),\"\",$A29)","v":""},{"$f":"IF(ISNA(VLOOKUP($A29,'Doug Gebauer'!$B$7:$C$15,1,FALSE)),\"\",$A29)","v":""},{"$f":"IF(ISNA(VLOOKUP($A29,'Trey George'!$B$7:$C$15,1,FALSE)),\"\",$A29)","v":""},{"$f":"IF(ISNA(VLOOKUP($A29,'Brad McLean'!$B$7:$C$15,1,FALSE)),\"\",$A29)","v":""},{"$f":"IF(ISNA(VLOOKUP($A29,'Donna McLean'!$B$7:$C$15,1,FALSE)),\"\",$A29)","v":""},{"$f":"IF(ISNA(VLOOKUP($A29,'Steve Sheppard'!$B$7:$C$15,1,FALSE)),\"\",$A29)","v":""},2]
[38,{"$f":"LOOKUP(A30,'Cars & Results'!$A$7:$A$215,'Cars & Results'!$B$7:$B$215)","v":"John Hunter Nemechek (R)"},{"$f":"IF(ISNA(VLOOKUP($A30,'Ron Mason'!$B$7:$C$15,1,FALSE)),\"\",$A30)","v":38},{"$f":"IF(ISNA(VLOOKUP($A30,'Jeff Buehrle'!$B$7:$C$15,1,FALSE)),\"\",$A30)","v":""},{"$f":"IF(ISNA(VLOOKUP($A30,'Doug Gebauer'!$B$7:$C$15,1,FALSE)),\"\",$A30)","v":""},{"$f":"IF(ISNA(VLOOKUP($A30,'Trey George'!$B$7:$C$15,1,FALSE)),\"\",$A30)","v":""},{"$f":"IF(ISNA(VLOOKUP($A30,'Brad McLean'!$B$7:$C$15,1,FALSE)),\"\",$A30)","v":""},{"$f":"IF(ISNA(VLOOKUP($A30,'Donna McLean'!$B$7:$C$15,1,FALSE)),\"\",$A30)","v":""},{"$f":"IF(ISNA(VLOOKUP($A30,'Steve Sheppard'!$B$7:$C$15,1,FALSE)),\"\",$A30)","v":""},3]
[40,{"$f":"LOOKUP(A31,'Cars & Results'!$A$7:$A$215,'Cars & Results'!$B$7:$B$215)","v":""},{"$f":"IF(ISNA(VLOOKUP($A31,'Ron Mason'!$B$7:$C$15,1,FALSE)),\"\",$A31)","v":""},{"$f":"IF(ISNA(VLOOKUP($A31,'Jeff Buehrle'!$B$7:$C$15,1,FALSE)),\"\",$A31)","v":""},{"$f":"IF(ISNA(VLOOKUP($A31,'Doug Gebauer'!$B$7:$C$15,1,FALSE)),\"\",$A31)","v":""},{"$f":"IF(ISNA(VLOOKUP($A31,'Trey George'!$B$7:$C$15,1,FALSE)),\"\",$A31)","v":""},{"$f":"IF(ISNA(VLOOKUP($A31,'Brad McLean'!$B$7:$C$15,1,FALSE)),\"\",$A31)","v":""},{"$f":"IF(ISNA(VLOOKUP($A31,'Donna McLean'!$B$7:$C$15,1,FALSE)),\"\",$A31)","v":""},{"$f":"IF(ISNA(VLOOKUP($A31,'Steve Sheppard'!$B$7:$C$15,1,FALSE)),\"\",$A31)","v":""},2]
[41,{"$f":"LOOKUP(A32,'Cars & Results'!$A$7:$A$215,'Cars & Results'!$B$7:$B$215)","v":"Cole Custer (R)"},{"$f":"IF(ISNA(VLOOKUP($A32,'Ron Mason'!$B$7:$C$15,1,FALSE)),\"\",$A32)","v":41},{"$f":"IF(ISNA(VLOOKUP($A32,'Jeff Buehrle'!$B$7:$C$15,1,FALSE)),\"\",$A32)","v":41},{"$f":"IF(ISNA(VLOOKUP($A32,'Doug Gebauer'!$B$7:$C$15,1,FALSE)),\"\",$A32)","v":""},{"$f":"IF(ISNA(VLOOKUP($A32,'Trey George'!$B$7:$C$15,1,FALSE)),\"\",$A32)","v":41},{"$f":"IF(ISNA(VLOOKUP($A32,'Brad McLean'!$B$7:$C$15,1,FALSE)),\"\",$A32)","v":41},{"$f":"IF(ISNA(VLOOKUP($A32,'Donna McLean'!$B$7:$C$15,1,FALSE)),\"\",$A32)","v":""},{"$f":"IF(ISNA(VLOOKUP($A32,'Steve Sheppard'!$B$7:$C$15,1,FALSE)),\"\",$A32)","v":41},7]
[42,{"$f":"LOOKUP(A33,'Cars & Results'!$A$7:$A$215,'Cars & Results'!$B$7:$B$215)","v":"Matt Kenseth"},{"$f":"IF(ISNA(VLOOKUP($A33,'Ron Mason'!$B$7:$C$15,1,FALSE)),\"\",$A33)","v":""},{"$f":"IF(ISNA(VLOOKUP($A33,'Jeff Buehrle'!$B$7:$C$15,1,FALSE)),\"\",$A33)","v":""},{"$f":"IF(ISNA(VLOOKUP($A33,'Doug Gebauer'!$B$7:$C$15,1,FALSE)),\"\",$A33)","v":""},{"$f":"IF(ISNA(VLOOKUP($A33,'Trey George'!$B$7:$C$15,1,FALSE)),\"\",$A33)","v":""},{"$f":"IF(ISNA(VLOOKUP($A33,'Brad McLean'!$B$7:$C$15,1,FALSE)),\"\",$A33)","v":""},{"$f":"IF(ISNA(VLOOKUP($A33,'Donna McLean'!$B$7:$C$15,1,FALSE)),\"\",$A33)","v":42},{"$f":"IF(ISNA(VLOOKUP($A33,'Steve Sheppard'!$B$7:$C$15,1,FALSE)),\"\",$A33)","v":42},4]
[43,{"$f":"LOOKUP(A34,'Cars & Results'!$A$7:$A$215,'Cars & Results'!$B$7:$B$215)","v":"Bubba Wallace"},{"$f":"IF(ISNA(VLOOKUP($A34,'Ron Mason'!$B$7:$C$15,1,FALSE)),\"\",$A34)","v":""},{"$f":"IF(ISNA(VLOOKUP($A34,'Jeff Buehrle'!$B$7:$C$15,1,FALSE)),\"\",$A34)","v":""},{"$f":"IF(ISNA(VLOOKUP($A34,'Doug Gebauer'!$B$7:$C$15,1,FALSE)),\"\",$A34)","v":""},{"$f":"IF(ISNA(VLOOKUP($A34,'Trey George'!$B$7:$C$15,1,FALSE)),\"\",$A34)","v":""},{"$f":"IF(ISNA(VLOOKUP($A34,'Brad McLean'!$B$7:$C$15,1,FALSE)),\"\",$A34)","v":""},{"$f":"IF(ISNA(VLOOKUP($A34,'Donna McLean'!$B$7:$C$15,1,FALSE)),\"\",$A34)","v":""},{"$f":"IF(ISNA(VLOOKUP($A34,'Steve Sheppard'!$B$7:$C$15,1,FALSE)),\"\",$A34)","v":""},2]
[44,{"$f":"LOOKUP(A35,'Cars & Results'!$A$7:$A$215,'Cars & Results'!$B$7:$B$215)","v":""},{"$f":"IF(ISNA(VLOOKUP($A35,'Ron Mason'!$B$7:$C$15,1,FALSE)),\"\",$A35)","v":""},{"$f":"IF(ISNA(VLOOKUP($A35,'Jeff Buehrle'!$B$7:$C$15,1,FALSE)),\"\",$A35)","v":""},{"$f":"IF(ISNA(VLOOKUP($A35,'Doug Gebauer'!$B$7:$C$15,1,FALSE)),\"\",$A35)","v":""},{"$f":"IF(ISNA(VLOOKUP($A35,'Trey George'!$B$7:$C$15,1,FALSE)),\"\",$A35)","v":""},{"$f":"IF(ISNA(VLOOKUP($A35,'Brad McLean'!$B$7:$C$15,1,FALSE)),\"\",$A35)","v":""},{"$f":"IF(ISNA(VLOOKUP($A35,'Donna McLean'!$B$7:$C$15,1,FALSE)),\"\",$A35)","v":""},{"$f":"IF(ISNA(VLOOKUP($A35,'Steve Sheppard'!$B$7:$C$15,1,FALSE)),\"\",$A35)","v":""},2]
[46,{"$f":"LOOKUP(A36,'Cars & Results'!$A$7:$A$215,'Cars & Results'!$B$7:$B$215)","v":""},{"$f":"IF(ISNA(VLOOKUP($A36,'Ron Mason'!$B$7:$C$15,1,FALSE)),\"\",$A36)","v":""},{"$f":"IF(ISNA(VLOOKUP($A36,'Jeff Buehrle'!$B$7:$C$15,1,FALSE)),\"\",$A36)","v":""},{"$f":"IF(ISNA(VLOOKUP($A36,'Doug Gebauer'!$B$7:$C$15,1,FALSE)),\"\",$A36)","v":""},{"$f":"IF(ISNA(VLOOKUP($A36,'Trey George'!$B$7:$C$15,1,FALSE)),\"\",$A36)","v":""},{"$f":"IF(ISNA(VLOOKUP($A36,'Brad McLean'!$B$7:$C$15,1,FALSE)),\"\",$A36)","v":""},{"$f":"IF(ISNA(VLOOKUP($A36,'Donna McLean'!$B$7:$C$15,1,FALSE)),\"\",$A36)","v":""},{"$f":"IF(ISNA(VLOOKUP($A36,'Steve Sheppard'!$B$7:$C$15,1,FALSE)),\"\",$A36)","v":""},2]
[47,{"$f":"LOOKUP(A37,'Cars & Results'!$A$7:$A$215,'Cars & Results'!$B$7:$B$215)","v":"Ricky Stenhouse Jr."},{"$f":"IF(ISNA(VLOOKUP($A37,'Ron Mason'!$B$7:$C$15,1,FALSE)),\"\",$A37)","v":""},{"$f":"IF(ISNA(VLOOKUP($A37,'Jeff Buehrle'!$B$7:$C$15,1,FALSE)),\"\",$A37)","v":47},{"$f":"IF(ISNA(VLOOKUP($A37,'Doug Gebauer'!$B$7:$C$15,1,FALSE)),\"\",$A37)","v":47},{"$f":"IF(ISNA(VLOOKUP($A37,'Trey George'!$B$7:$C$15,1,FALSE)),\"\",$A37)","v":47},{"$f":"IF(ISNA(VLOOKUP($A37,'Brad McLean'!$B$7:$C$15,1,FALSE)),\"\",$A37)","v":""},{"$f":"IF(ISNA(VLOOKUP($A37,'Donna McLean'!$B$7:$C$15,1,FALSE)),\"\",$A37)","v":47},{"$f":"IF(ISNA(VLOOKUP($A37,'Steve Sheppard'!$B$7:$C$15,1,FALSE)),\"\",$A37)","v":47},7]
[48,{"$f":"LOOKUP(A38,'Cars & Results'!$A$7:$A$215,'Cars & Results'!$B$7:$B$215)","v":"Jimmie Johnson"},{"$f":"IF(ISNA(VLOOKUP($A38,'Ron Mason'!$B$7:$C$15,1,FALSE)),\"\",$A38)","v":""},{"$f":"IF(ISNA(VLOOKUP($A38,'Jeff Buehrle'!$B$7:$C$15,1,FALSE)),\"\",$A38)","v":""},{"$f":"IF(ISNA(VLOOKUP($A38,'Doug Gebauer'!$B$7:$C$15,1,FALSE)),\"\",$A38)","v":""},{"$f":"IF(ISNA(VLOOKUP($A38,'Trey George'!$B$7:$C$15,1,FALSE)),\"\",$A38)","v":""},{"$f":"IF(ISNA(VLOOKUP($A38,'Brad McLean'!$B$7:$C$15,1,FALSE)),\"\",$A38)","v":48},{"$f":"IF(ISNA(VLOOKUP($A38,'Donna McLean'!$B$7:$C$15,1,FALSE)),\"\",$A38)","v":48},{"$f":"IF(ISNA(VLOOKUP($A38,'Steve Sheppard'!$B$7:$C$15,1,FALSE)),\"\",$A38)","v":48},5]
[59,{"$f":"LOOKUP(A39,'Cars & Results'!$A$7:$A$215,'Cars & Results'!$B$7:$B$215)","v":""},{"$f":"IF(ISNA(VLOOKUP($A39,'Ron Mason'!$B$7:$C$15,1,FALSE)),\"\",$A39)","v":""},{"$f":"IF(ISNA(VLOOKUP($A39,'Jeff Buehrle'!$B$7:$C$15,1,FALSE)),\"\",$A39)","v":""},{"$f":"IF(ISNA(VLOOKUP($A39,'Doug Gebauer'!$B$7:$C$15,1,FALSE)),\"\",$A39)","v":""},{"$f":"IF(ISNA(VLOOKUP($A39,'Trey George'!$B$7:$C$15,1,FALSE)),\"\",$A39)","v":""},{"$f":"IF(ISNA(VLOOKUP($A39,'Brad McLean'!$B$7:$C$15,1,FALSE)),\"\",$A39)","v":""},{"$f":"IF(ISNA(VLOOKUP($A39,'Donna McLean'!$B$7:$C$15,1,FALSE)),\"\",$A39)","v":""},{"$f":"IF(ISNA(VLOOKUP($A39,'Steve Sheppard'!$B$7:$C$15,1,FALSE)),\"\",$A39)","v":""},2]
[78,{"$f":"LOOKUP(A40,'Cars & Results'!$A$7:$A$215,'Cars & Results'!$B$7:$B$215)","v":""},{"$f":"IF(ISNA(VLOOKUP($A40,'Ron Mason'!$B$7:$C$15,1,FALSE)),\"\",$A40)","v":""},{"$f":"IF(ISNA(VLOOKUP($A40,'Jeff Buehrle'!$B$7:$C$15,1,FALSE)),\"\",$A40)","v":""},{"$f":"IF(ISNA(VLOOKUP($A40,'Doug Gebauer'!$B$7:$C$15,1,FALSE)),\"\",$A40)","v":""},{"$f":"IF(ISNA(VLOOKUP($A40,'Trey George'!$B$7:$C$15,1,FALSE)),\"\",$A40)","v":""},{"$f":"IF(ISNA(VLOOKUP($A40,'Brad McLean'!$B$7:$C$15,1,FALSE)),\"\",$A40)","v":""},{"$f":"IF(ISNA(VLOOKUP($A40,'Donna McLean'!$B$7:$C$15,1,FALSE)),\"\",$A40)","v":""},{"$f":"IF(ISNA(VLOOKUP($A40,'Steve Sheppard'!$B$7:$C$15,1,FALSE)),\"\",$A40)","v":""},2]
[83,{"$f":"LOOKUP(A41,'Cars & Results'!$A$7:$A$215,'Cars & Results'!$B$7:$B$215)","v":""},{"$f":"IF(ISNA(VLOOKUP($A41,'Ron Mason'!$B$7:$C$15,1,FALSE)),\"\",$A41)","v":""},{"$f":"IF(ISNA(VLOOKUP($A41,'Jeff Buehrle'!$B$7:$C$15,1,FALSE)),\"\",$A41)","v":""},{"$f":"IF(ISNA(VLOOKUP($A41,'Doug Gebauer'!$B$7:$C$15,1,FALSE)),\"\",$A41)","v":""},{"$f":"IF(ISNA(VLOOKUP($A41,'Trey George'!$B$7:$C$15,1,FALSE)),\"\",$A41)","v":""},{"$f":"IF(ISNA(VLOOKUP($A41,'Brad McLean'!$B$7:$C$15,1,FALSE)),\"\",$A41)","v":""},{"$f":"IF(ISNA(VLOOKUP($A41,'Donna McLean'!$B$7:$C$15,1,FALSE)),\"\",$A41)","v":""},{"$f":"IF(ISNA(VLOOKUP($A41,'Steve Sheppard'!$B$7:$C$15,1,FALSE)),\"\",$A41)","v":""},2]
[88,{"$f":"LOOKUP(A42,'Cars & Results'!$A$7:$A$215,'Cars & Results'!$B$7:$B$215)","v":"Alex Bowman"},{"$f":"IF(ISNA(VLOOKUP($A42,'Ron Mason'!$B$7:$C$15,1,FALSE)),\"\",$A42)","v":""},{"$f":"IF(ISNA(VLOOKUP($A42,'Jeff Buehrle'!$B$7:$C$15,1,FALSE)),\"\",$A42)","v":""},{"$f":"IF(ISNA(VLOOKUP($A42,'Doug Gebauer'!$B$7:$C$15,1,FALSE)),\"\",$A42)","v":""},{"$f":"IF(ISNA(VLOOKUP($A42,'Trey George'!$B$7:$C$15,1,FALSE)),\"\",$A42)","v":""},{"$f":"IF(ISNA(VLOOKUP($A42,'Brad McLean'!$B$7:$C$15,1,FALSE)),\"\",$A42)","v":""},{"$f":"IF(ISNA(VLOOKUP($A42,'Donna McLean'!$B$7:$C$15,1,FALSE)),\"\",$A42)","v":""},{"$f":"IF(ISNA(VLOOKUP($A42,'Steve Sheppard'!$B$7:$C$15,1,FALSE)),\"\",$A42)","v":""},2]
[93,{"$f":"LOOKUP(A43,'Cars & Results'!$A$7:$A$215,'Cars & Results'!$B$7:$B$215)","v":""},{"$f":"IF(ISNA(VLOOKUP($A43,'Ron Mason'!$B$7:$C$15,1,FALSE)),\"\",$A43)","v":""},{"$f":"IF(ISNA(VLOOKUP($A43,'Jeff Buehrle'!$B$7:$C$15,1,FALSE)),\"\",$A43)","v":""},{"$f":"IF(ISNA(VLOOKUP($A43,'Doug Gebauer'!$B$7:$C$15,1,FALSE)),\"\",$A43)","v":""},{"$f":"IF(ISNA(VLOOKUP($A43,'Trey George'!$B$7:$C$15,1,FALSE)),\"\",$A43)","v":""},{"$f":"IF(ISNA(VLOOKUP($A43,'Brad McLean'!$B$7:$C$15,1,FALSE)),\"\",$A43)","v":""},{"$f":"IF(ISNA(VLOOKUP($A43,'Donna McLean'!$B$7:$C$15,1,FALSE)),\"\",$A43)","v":""},{"$f":"IF(ISNA(VLOOKUP($A43,'Steve Sheppard'!$B$7:$C$15,1,FALSE)),\"\",$A43)","v":""},2]
[95,{"$f":"LOOKUP(A44,'Cars & Results'!$A$7:$A$215,'Cars & Results'!$B$7:$B$215)","v":"Christopher Bell (R)"},{"$f":"IF(ISNA(VLOOKUP($A44,'Ron Mason'!$B$7:$C$15,1,FALSE)),\"\",$A44)","v":""},{"$f":"IF(ISNA(VLOOKUP($A44,'Jeff Buehrle'!$B$7:$C$15,1,FALSE)),\"\",$A44)","v":""},{"$f":"IF(ISNA(VLOOKUP($A44,'Doug Gebauer'!$B$7:$C$15,1,FALSE)),\"\",$A44)","v":""},{"$f":"IF(ISNA(VLOOKUP($A44,'Trey George'!$B$7:$C$15,1,FALSE)),\"\",$A44)","v":""},{"$f":"IF(ISNA(VLOOKUP($A44,'Brad McLean'!$B$7:$C$15,1,FALSE)),\"\",$A44)","v":""},{"$f":"IF(ISNA(VLOOKUP($A44,'Donna McLean'!$B$7:$C$15,1,FALSE)),\"\",$A44)","v":""},{"$f":"IF(ISNA(VLOOKUP($A44,'Steve Sheppard'!$B$7:$C$15,1,FALSE)),\"\",$A44)","v":""},2]
[98,{"$f":"LOOKUP(A45,'Cars & Results'!$A$7:$A$215,'Cars & Results'!$B$7:$B$215)","v":""},{"$f":"IF(ISNA(VLOOKUP($A45,'Ron Mason'!$B$7:$C$15,1,FALSE)),\"\",$A45)","v":""},{"$f":"IF(ISNA(VLOOKUP($A45,'Jeff Buehrle'!$B$7:$C$15,1,FALSE)),\"\",$A45)","v":""},{"$f":"IF(ISNA(VLOOKUP($A45,'Doug Gebauer'!$B$7:$C$15,1,FALSE)),\"\",$A45)","v":""},{"$f":"IF(ISNA(VLOOKUP($A45,'Trey George'!$B$7:$C$15,1,FALSE)),\"\",$A45)","v":""},{"$f":"IF(ISNA(VLOOKUP($A45,'Brad McLean'!$B$7:$C$15,1,FALSE)),\"\",$A45)","v":""},{"$f":"IF(ISNA(VLOOKUP($A45,'Donna McLean'!$B$7:$C$15,1,FALSE)),\"\",$A45)","v":""},{"$f":"IF(ISNA(VLOOKUP($A45,'Steve Sheppard'!$B$7:$C$15,1,FALSE)),\"\",$A45)","v":""},2]
[null,null,{"$f":"SUM(C2:C45)","v":126},149,99,113,147,160,210,129]
[null,null,{"$f":"HLOOKUP($P$2,'Ron Mason'!$B$6:$I$19,14,FALSE)","v":303},{"$f":"HLOOKUP($P$2,'Jeff Buehrle'!$B$6:$I$19,14,FALSE)","v":302},{"$f":"HLOOKUP($P$2,'Doug Gebauer'!$B$6:$I$19,14,FALSE)","v":280},{"$f":"HLOOKUP($P$2,'Trey George'!$B$6:$I$19,14,FALSE)","v":440},{"$f":"HLOOKUP($P$2,'Brad McLean'!$B$6:$I$19,14,FALSE)","v":380},{"$f":"HLOOKUP($P$2,'Donna McLean'!$B$6:$I$19,14,FALSE)","v":383},{"$f":"HLOOKUP($P$2,'Steve Sheppard'!$B$6:$I$19,14,FALSE)","v":296},{"$f":"9*9","v":81}]
[null,null,{"$f":"44-COUNTBLANK(C2:C45)","v":6},{"$f":"44-COUNTBLANK(D2:D45)","v":6},5,5,6,6,7,{"$f":"J46-J47","v":48}]

{"sheet":"Pick_List_Template","index":22,"n_rows":233,"n_cols":8,"rows_kept":233,"cut":false,"hidden":false,"merged":[]}
[]
[]
["Position","Car","Valid","Group#","Position","Car","Valid","Group#"]
[]
[]
[]
[]
[]
[]
[]
[]
[]
[]
[]
[]
[]
[]
[]
[]
[]
[]
[]
[]
[]
[]
[]
[]
[]
[]
[]
[]
[]
[]
[]
[]
[]
[]
[]
[]
[]
[]
[]
[]
[]
[]
[]
[]
[]
[]
[]
[]
[]
[]
[]
[]
[]
[]
[]
[]
[]
[]
[]
[]
[]
[]
[]
[]
[]
[]
[]
[]
[]
[]
[]
[]
[]
[]
[]
[]
[]
[]
[]
[]
[]
[]
[]
[]
[]
[]
[]
[]
[]
[]
[]
[]
[]
[]
[]
[]
[]
[]
[]
[]
[]
[]
[]
[]
[]
[]
[]
[]
[]
[]
[]
[]
[]
[]
[]
[]
[]
[]
[]
[]
[]
[]
[]
[]
[]
[]
[]
[]
[]
[]
[]
[]
[]
[]
[]
[]
[]
[]
[]
[]
[]
[]
[]
[]
[]
[]
[]
[]
[]
[]
[]
[]
[]
[]
[]
[]
[]
[]
[]
[]
[]
[]
[]
[]
[]
[]
[]
[]
[]
[]
[]
[]
[]
[]
[]
[]
[]
[]
[]
[]
[]
[]
[]
[]
[]
[]
[]
[]
[]
[]
[]
[]
[]
[]
[]
[]
[]
[]
[]
[]
[]
[]
[]
[]
[]
[]
[]
[]
[]
[]
[]
[]
[]
[]
[]
["Position","Car","Valid","Group#"]
[17,null,"G",{"$f":"IF(A220<=23,\"G3\",IF(A220<=30,\"G4\"))","v":"G3"}]
[18,null,"G",{"$f":"IF(A221<=23,\"G3\",IF(A221<=30,\"G4\"))","v":"G3"}]
[19,null,"G","G3"]
[20,null,"G","G3"]
[21,null,"G","G3"]
[22,null,"G","G3"]
[23,null,"G","G3"]
[24,null,"G","G4"]
[25,null,"G","G4"]
[26,null,"G","G4"]
[27,null,"G","G4"]
[28,null,"G","G4"]
[29,null,"G","G4"]
[30,null,"G","G4"]

{"sheet":"Jeff Buehrle_Pick_List","index":23,"n_rows":233,"n_cols":8,"rows_kept":233,"cut":false,"hidden":true,"merged":[]}
[]
[]
["Position","Car","Valid","Group#","Position","Car","Valid","Group#"]
[1,4,"G",{"$f":"IF(A4<=8,\"G1\",IF(A4<=16,\"G2\",IF(A4<=23,\"G3\",IF(A4<=30,\"G4\",IF(A4<=35,\"G5\",\"G6\")))))","v":"G1"},5,22,"G","G7"]
[2,11,"G","G1",6,12,"G","G7"]
[3,2,"G","G1",8,10,"G","G7"]
[4,19,"G","G1",10,1,"G","G7"]
[5,22,"G","G1",12,88,"G","G7"]
[6,12,"G","G1",13,21,"G","G7"]
[7,9,"G","G1",14,24,"G","G7"]
[8,10,"G","G1",15,48,"G","G7"]
[9,18,"G","G2",16,3,"G","G7"]
[10,1,"G","G2",17,20,"G","G7"]
[11,14,"G","G2",19,42,"G","G7"]
[12,88,"G","G2",21,95,"G","G7"]
[13,21,"G","G2",22,17,"G","G7"]
[14,24,"G","G2",23,43,"G","G7"]
[15,48,"G","G2",27,38,"G","G7"]
[16,3,"G","G2",28,13,"G","G7"]
[17,20,"G","G3",29,32,"G","G7"]
[18,8,"G","G3",30,37,"G","G7"]
[19,42,"G","G3",32,127,"G","G7"]
[21,95,"G","G3",33,77,"G","G7"]
[22,17,"G","G3",34,15,"G","G7"]
[23,43,"G","G3",35,53,"G","G7"]
[24,6,"G","G4",36,"00","G","G7"]
[27,38,"G","G4",38,51,"G","G7"]
[28,13,"G","G4",39,107,"G","G7"]
[29,32,"G","G4",41,62,"G","G7"]
[30,37,"G","G4",1,4,"X","G7"]
[31,96,"G","G5",2,11,"X","G7"]
[32,127,"G","G5",3,2,"X","G7"]
[33,77,"G","G5",4,19,"X","G7"]
[34,15,"G","G5",7,9,"X","G7"]
[35,53,"G","G5",9,18,"X","G7"]
[36,"00","G","G6",11,14,"X","G7"]
[37,66,"G","G6",18,8,"X","G7"]
[38,51,"G","G6",20,41,"X","G7"]
[39,107,"G","G6",24,6,"X","G7"]
[40,78,"G","G6",25,47,"X","G7"]
[41,62,"G","G6",26,34,"X","G7"]
[42,116,"G","G6",31,96,"X","G7"]
[43,27,"G","G6",37,66,"X","G7"]
[44,54,"G","G6",40,78,"X","G7"]
[45,49,"G","G6",42,116,"X","G7"]
[20,41,"X","G3",43,27,"X","G7"]
[25,47,"X","G4",44,54,"X","G7"]
[26,34,"X","G4",45,49,"X","G7"]
[]
[]
[]
[]
[]
[]
[]
[]
[]
[]
[]
[]
[]
[]
[]
[]
[]
[]
[]
[]
[]
[]
[]
[]
[]
[]
[]
[]
[]
[]
[]
[]
[]
[]
[]
[]
[]
[]
[]
[]
[]
[]
[]
[]
[]
[]
[]
[]
[]
[]
[]
[]
[]
[]
[]
[]
[]
[]
[]
[]
[]
[]
[]
[]
[]
[]
[]
[]
[]
[]
[]
[]
[]
[]
[]
[]
[]
[]
[]
[]
[]
[]
[]
[]
[]
[]
[]
[]
[]
[]
[]
[]
[]
[]
[]
[]
[]
[]
[]
[]
[]
[]
[]
[]
[]
[]
[]
[]
[]
[]
[]
[]
[]
[]
[]
[]
[]
[]
[]
[]
[]
[]
[]
[]
[]
[]
[]
[]
[]
[]
[]
[]
[]
[]
[]
[]
[]
[]
[]
[]
[]
[]
[]
[]
[]
[]
[]
[]
[]
[]
[]
[]
[]
[]
[]
[]
[]
[]
[]
[]
[]
[]
[]
[]
[]
[]
[]
[]
[]
[]
["Position","Car","Valid","Group#"]
[17,20,"G",{"$f":"IF(A220<=23,\"G3\",IF(A220<=30,\"G4\"))","v":"G3"}]
[19,42,"G","G3"]
[20,41,"G","G3"]
[21,95,"G","G3"]
[22,17,"G","G3"]
[23,43,"G","G3"]
[26,34,"G","G4"]
[27,38,"G","G4"]
[28,13,"G","G4"]
[29,32,"G","G4"]
[30,37,"G","G4"]
[18,8,"X","G3"]
[24,6,"X","G4"]
[25,47,"X","G4"]

{"sheet":"R&R Kitchen_Pick_List","index":24,"n_rows":233,"n_cols":8,"rows_kept":233,"cut":false,"hidden":true,"merged":[]}
[]
[]
["Position","Car","Valid","Group#","Position","Car","Valid","Group#"]
[1,4,"G",{"$f":"IF(A4<=8,\"G1\",IF(A4<=16,\"G2\",IF(A4<=23,\"G3\",IF(A4<=30,\"G4\",IF(A4<=35,\"G5\",\"G6\")))))","v":"G1"},3,2,"G","G7"]
[2,11,"G","G1",6,12,"G","G7"]
[3,2,"G","G1",10,1,"G","G7"]
[4,19,"G","G1",12,88,"G","G7"]
[5,22,"G","G1",13,21,"G","G7"]
[6,12,"G","G1",14,24,"G","G7"]
[7,9,"G","G1",15,48,"G","G7"]
[8,10,"G","G1",17,20,"G","G7"]
[9,18,"G","G2",18,8,"G","G7"]
[10,1,"G","G2",20,41,"G","G7"]
[12,88,"G","G2",21,95,"G","G7"]
[13,21,"G","G2",22,17,"G","G7"]
[14,24,"G","G2",25,47,"G","G7"]
[15,48,"G","G2",26,34,"G","G7"]
[17,20,"G","G3",27,38,"G","G7"]
[18,8,"G","G3",28,13,"G","G7"]
[20,41,"G","G3",29,32,"G","G7"]
[21,95,"G","G3",30,37,"G","G7"]
[22,17,"G","G3",32,127,"G","G7"]
[25,47,"G","G4",33,77,"G","G7"]
[26,34,"G","G4",34,15,"G","G7"]
[27,38,"G","G4",35,53,"G","G7"]
[28,13,"G","G4",37,66,"G","G7"]
[29,32,"G","G4",38,51,"G","G7"]
[30,37,"G","G4",39,107,"G","G7"]
[31,96,"G","G5",41,62,"G","G7"]
[32,127,"G","G5",1,4,"X","G7"]
[33,77,"G","G5",2,11,"X","G7"]
[34,15,"G","G5",4,19,"X","G7"]
[35,53,"G","G5",5,22,"X","G7"]
[36,"00","G","G6",7,9,"X","G7"]
[37,66,"G","G6",8,10,"X","G7"]
[38,51,"G","G6",9,18,"X","G7"]
[39,107,"G","G6",11,14,"X","G7"]
[40,78,"G","G6",16,3,"X","G7"]
[41,62,"G","G6",19,42,"X","G7"]
[42,116,"G","G6",23,43,"X","G7"]
[43,27,"G","G6",24,6,"X","G7"]
[44,54,"G","G6",31,96,"X","G7"]
[45,49,"G","G6",36,"00","X","G7"]
[11,14,"X","G2",40,78,"X","G7"]
[16,3,"X","G2",42,116,"X","G7"]
[19,42,"X","G3",43,27,"X","G7"]
[23,43,"X","G3",44,54,"X","G7"]
[24,6,"X","G4",45,49,"X","G7"]
[46,null,"G",{"$f":"IF(A49<=8,\"G1\",IF(A49<=16,\"G2\",IF(A49<=23,\"G3\",IF(A49<=30,\"G4\",IF(A49<=35,\"G5\",\"G6\")))))","v":"G6"},46,null,"G","G7"]
[47,null,"G","G6",47,null,"G","G7"]
[48,null,"G","G6",48,null,"G","G7"]
[49,null,"G","G6",49,null,"G","G7"]
[50,null,"G","G6",50,null,"G","G7"]
[51,null,"G","G6",51,null,"G","G7"]
[52,null,"G","G6",52,null,"G","G7"]
[53,null,"G","G6",53,null,"G","G7"]
[54,null,"G","G6",54,null,"G","G7"]
[55,null,"G","G6",55,null,"G","G7"]
[56,null,"G","G6",56,null,"G","G7"]
[57,null,"G","G6",57,null,"G","G7"]
[58,null,"G","G6",58,null,"G","G7"]
[59,null,"G","G6",59,null,"G","G7"]
[60,null,"G","G6",60,null,"G","G7"]
[61,null,"G","G6",61,null,"G","G7"]
[62,null,"G","G6",62,null,"G","G7"]
[63,null,"G","G6",63,null,"G","G7"]
[64,null,"G","G6",64,null,"G","G7"]
[65,null,"G","G6",65,null,"G","G7"]
[66,null,"G","G6",66,null,"G","G7"]
[67,null,"G","G6",67,null,"G","G7"]
[68,99,"G","G6",68,99,"G","G7"]
[]
[]
[]
[]
[]
[]
[]
[]
[]
[]
[]
[]
[]
[]
[]
[]
[]
[]
[]
[]
[]
[]
[]
[]
[]
[]
[]
[]
[]
[]
[]
[]
[]
[]
[]
[]
[]
[]
[]
[]
[]
[]
[]
[]
[]
[]
[]
[]
[]
[]
[]
[]
[]
[]
[]
[]
[]
[]
[]
[]
[]
[]
[]
[]
[]
[]
[]
[]
[]
[]
[]
[]
[]
[]
[]
[]
[]
[]
[]
[]
[]
[]
[]
[]
[]
[]
[]
[]
[]
[]
[]
[]
[]
[]
[]
[]
[]
[]
[]
[]
[]
[]
[]
[]
[]
[]
[]
[]
[]
[]
[]
[]
[]
[]
[]
[]
[]
[]
[]
[]
[]
[]
[]
[]
[]
[]
[]
[]
[]
[]
[]
[]
[]
[]
[]
[]
[]
[]
[]
[]
[]
[]
[]
[]
[]
[]
[]
["Position","Car","Valid","Group#"]
[17,20,"G",{"$f":"IF(A220<=23,\"G3\",IF(A220<=30,\"G4\"))","v":"G3"}]
[18,8,"G","G3"]
[19,42,"G","G3"]
[20,41,"G","G3"]
[21,95,"G","G3"]
[22,17,"G","G3"]
[24,6,"G","G4"]
[25,47,"G","G4"]
[26,34,"G","G4"]
[27,38,"G","G4"]
[28,13,"G","G4"]
[29,32,"G","G4"]
[30,37,"G","G4"]
[23,43,"X","G3"]

{"sheet":"Doug Gebauer_Pick_List","index":25,"n_rows":233,"n_cols":8,"rows_kept":233,"cut":false,"hidden":true,"merged":[]}
[]
[]
["Position","Car","Valid","Group#","Position","Car","Valid","Group#"]
[1,4,"G",{"$f":"IF(A4<=8,\"G1\",IF(A4<=16,\"G2\",IF(A4<=23,\"G3\",IF(A4<=30,\"G4\",IF(A4<=35,\"G5\",\"G6\")))))","v":"G1"},10,1,"G","G7"]
[2,11,"G","G1",11,14,"G","G7"]
[3,2,"G","G1",12,88,"G","G7"]
[4,19,"G","G1",13,21,"G","G7"]
[5,22,"G","G1",14,24,"G","G7"]
[6,12,"G","G1",15,48,"G","G7"]
[8,10,"G","G1",16,3,"G","G7"]
[9,18,"G","G2",17,20,"G","G7"]
[10,1,"G","G2",19,42,"G","G7"]
[11,14,"G","G2",20,41,"G","G7"]
[12,88,"G","G2",22,17,"G","G7"]
[13,21,"G","G2",25,47,"G","G7"]
[14,24,"G","G2",26,34,"G","G7"]
[15,48,"G","G2",27,38,"G","G7"]
[16,3,"G","G2",28,13,"G","G7"]
[17,20,"G","G3",29,32,"G","G7"]
[18,8,"G","G3",30,37,"G","G7"]
[19,42,"G","G3",32,127,"G","G7"]
[20,41,"G","G3",33,77,"G","G7"]
[22,17,"G","G3",34,15,"G","G7"]
[25,47,"G","G4",35,53,"G","G7"]
[26,34,"G","G4",37,66,"G","G7"]
[27,38,"G","G4",38,51,"G","G7"]
[28,13,"G","G4",39,107,"G","G7"]
[29,32,"G","G4",41,62,"G","G7"]
[30,37,"G","G4",1,4,"X","G7"]
[31,96,"G","G5",2,11,"X","G7"]
[32,127,"G","G5",3,2,"X","G7"]
[33,77,"G","G5",4,19,"X","G7"]
[34,15,"G","G5",5,22,"X","G7"]
[35,53,"G","G5",6,12,"X","G7"]
[36,"00","G","G6",7,9,"X","G7"]
[37,66,"G","G6",8,10,"X","G7"]
[38,51,"G","G6",9,18,"X","G7"]
[39,107,"G","G6",18,8,"X","G7"]
[40,78,"G","G6",21,95,"X","G7"]
[41,62,"G","G6",23,43,"X","G7"]
[42,116,"G","G6",24,6,"X","G7"]
[43,27,"G","G6",31,96,"X","G7"]
[44,54,"G","G6",36,"00","X","G7"]
[45,49,"G","G6",40,78,"X","G7"]
[7,9,"X","G1",42,116,"X","G7"]
[21,95,"X","G3",43,27,"X","G7"]
[23,43,"X","G3",44,54,"X","G7"]
[24,6,"X","G4",45,49,"X","G7"]
[46,null,"G",{"$f":"IF(A49<=8,\"G1\",IF(A49<=16,\"G2\",IF(A49<=23,\"G3\",IF(A49<=30,\"G4\",IF(A49<=35,\"G5\",\"G6\")))))","v":"G6"},46,null,"G","G7"]
[47,null,"G","G6",47,null,"G","G7"]
[48,null,"G","G6",48,null,"G","G7"]
[49,null,"G","G6",49,null,"G","G7"]
[50,null,"G","G6",50,null,"G","G7"]
[51,null,"G","G6",51,null,"G","G7"]
[52,null,"G","G6",52,null,"G","G7"]
[53,null,"G","G6",53,null,"G","G7"]
[54,null,"G","G6",54,null,"G","G7"]
[55,null,"G","G6",55,null,"G","G7"]
[56,null,"G","G6",56,null,"G","G7"]
[57,null,"G","G6",57,null,"G","G7"]
[58,null,"G","G6",58,null,"G","G7"]
[59,null,"G","G6",59,null,"G","G7"]
[60,null,"G","G6",60,null,"G","G7"]
[61,null,"G","G6",61,null,"G","G7"]
[62,null,"G","G6",62,null,"G","G7"]
[63,null,"G","G6",63,null,"G","G7"]
[64,null,"G","G6",64,null,"G","G7"]
[65,null,"G","G6",65,null,"G","G7"]
[66,null,"G","G6",66,null,"G","G7"]
[67,null,"G","G6",67,null,"G","G7"]
[68,99,"G","G6",68,99,"G","G7"]
[]
[]
[]
[]
[]
[]
[]
[]
[]
[]
[]
[]
[]
[]
[]
[]
[]
[]
[]
[]
[]
[]
[]
[]
[]
[]
[]
[]
[]
[]
[]
[]
[]
[]
[]
[]
[]
[]
[]
[]
[]
[]
[]
[]
[]
[]
[]
[]
[]
[]
[]
[]
[]
[]
[]
[]
[]
[]
[]
[]
[]
[]
[]
[]
[]
[]
[]
[]
[]
[]
[]
[]
[]
[]
[]
[]
[]
[]
[]
[]
[]
[]
[]
[]
[]
[]
[]
[]
[]
[]
[]
[]
[]
[]
[]
[]
[]
[]
[]
[]
[]
[]
[]
[]
[]
[]
[]
[]
[]
[]
[]
[]
[]
[]
[]
[]
[]
[]
[]
[]
[]
[]
[]
[]
[]
[]
[]
[]
[]
[]
[]
[]
[]
[]
[]
[]
[]
[]
[]
[]
[]
[]
[]
[]
[]
[]
[]
["Position","Car","Valid","Group#"]
[17,20,"G",{"$f":"IF(A220<=23,\"G3\",IF(A220<=30,\"G4\"))","v":"G3"}]
[19,42,"G","G3"]
[20,41,"G","G3"]
[21,95,"G","G3"]
[22,17,"G","G3"]
[24,6,"G","G4"]
[25,47,"G","G4"]
[26,34,"G","G4"]
[27,38,"G","G4"]
[28,13,"G","G4"]
[29,32,"G","G4"]
[30,37,"G","G4"]
[18,8,"X","G3"]
[23,43,"X","G3"]

{"sheet":"Trey George_Pick_List","index":26,"n_rows":233,"n_cols":8,"rows_kept":233,"cut":false,"hidden":true,"merged":[]}
[]
[]
["Position","Car","Valid","Group#","Position","Car","Valid","Group#"]
[1,4,"G",{"$f":"IF(A4<=8,\"G1\",IF(A4<=16,\"G2\",IF(A4<=23,\"G3\",IF(A4<=30,\"G4\",IF(A4<=35,\"G5\",\"G6\")))))","v":"G1"},2,11,"G","G7"]
[2,11,"G","G1",3,2,"G","G7"]
[3,2,"G","G1",4,19,"G","G7"]
[4,19,"G","G1",5,22,"G","G7"]
[5,22,"G","G1",7,9,"G","G7"]
[6,12,"G","G1",8,10,"G","G7"]
[7,9,"G","G1",9,18,"G","G7"]
[8,10,"G","G1",11,14,"G","G7"]
[9,18,"G","G2",12,88,"G","G7"]
[10,1,"G","G2",13,21,"G","G7"]
[11,14,"G","G2",14,24,"G","G7"]
[12,88,"G","G2",15,48,"G","G7"]
[13,21,"G","G2",16,3,"G","G7"]
[14,24,"G","G2",17,20,"G","G7"]
[15,48,"G","G2",18,8,"G","G7"]
[16,3,"G","G2",19,42,"G","G7"]
[17,20,"G","G3",20,41,"G","G7"]
[18,8,"G","G3",23,43,"G","G7"]
[19,42,"G","G3",24,6,"G","G7"]
[20,41,"G","G3",25,47,"G","G7"]
[21,95,"G","G3",26,34,"G","G7"]
[23,43,"G","G3",27,38,"G","G7"]
[24,6,"G","G4",28,13,"G","G7"]
[25,47,"G","G4",31,96,"G","G7"]
[26,34,"G","G4",32,127,"G","G7"]
[27,38,"G","G4",1,4,"X","G7"]
[28,13,"G","G4",6,12,"X","G7"]
[29,32,"G","G4",10,1,"X","G7"]
[31,96,"G","G5",21,95,"X","G7"]
[32,127,"G","G5",22,17,"X","G7"]
[34,15,"G","G5",29,32,"X","G7"]
[35,53,"G","G5",30,37,"X","G7"]
[36,"00","G","G6",33,77,"X","G7"]
[37,66,"G","G6",34,15,"X","G7"]
[38,51,"G","G6",35,53,"X","G7"]
[39,107,"G","G6",36,"00","X","G7"]
[40,78,"G","G6",37,66,"X","G7"]
[41,62,"G","G6",38,51,"X","G7"]
[42,116,"G","G6",39,107,"X","G7"]
[43,27,"G","G6",40,78,"X","G7"]
[44,54,"G","G6",41,62,"X","G7"]
[45,49,"G","G6",42,116,"X","G7"]
[22,17,"X","G3",43,27,"X","G7"]
[30,37,"X","G4",44,54,"X","G7"]
[33,77,"X","G5",45,49,"X","G7"]
[46,null,"G",{"$f":"IF(A49<=8,\"G1\",IF(A49<=16,\"G2\",IF(A49<=23,\"G3\",IF(A49<=30,\"G4\",IF(A49<=35,\"G5\",\"G6\")))))","v":"G6"},46,null,"G","G7"]
[47,null,"G","G6",47,null,"G","G7"]
[48,null,"G","G6",48,null,"G","G7"]
[49,null,"G","G6",49,null,"G","G7"]
[50,null,"G","G6",50,null,"G","G7"]
[51,null,"G","G6",51,null,"G","G7"]
[52,null,"G","G6",52,null,"G","G7"]
[53,null,"G","G6",53,null,"G","G7"]
[54,null,"G","G6",54,null,"G","G7"]
[55,null,"G","G6",55,null,"G","G7"]
[56,null,"G","G6",56,null,"G","G7"]
[57,null,"G","G6",57,null,"G","G7"]
[58,null,"G","G6",58,null,"G","G7"]
[59,null,"G","G6",59,null,"G","G7"]
[60,null,"G","G6",60,null,"G","G7"]
[61,null,"G","G6",61,null,"G","G7"]
[62,null,"G","G6",62,null,"G","G7"]
[63,null,"G","G6",63,null,"G","G7"]
[64,null,"G","G6",64,null,"G","G7"]
[65,null,"G","G6",65,null,"G","G7"]
[66,null,"G","G6",66,null,"G","G7"]
[67,null,"G","G6",67,null,"G","G7"]
[68,99,"G","G6",68,99,"G","G7"]
[]
[]
[]
[]
[]
[]
[]
[]
[]
[]
[]
[]
[]
[]
[]
[]
[]
[]
[]
[]
[]
[]
[]
[]
[]
[]
[]
[]
[]
[]
[]
[]
[]
[]
[]
[]
[]
[]
[]
[]
[]
[]
[]
[]
[]
[]
[]
[]
[]
[]
[]
[]
[]
[]
[]
[]
[]
[]
[]
[]
[]
[]
[]
[]
[]
[]
[]
[]
[]
[]
[]
[]
[]
[]
[]
[]
[]
[]
[]
[]
[]
[]
[]
[]
[]
[]
[]
[]
[]
[]
[]
[]
[]
[]
[]
[]
[]
[]
[]
[]
[]
[]
[]
[]
[]
[]
[]
[]
[]
[]
[]
[]
[]
[]
[]
[]
[]
[]
[]
[]
[]
[]
[]
[]
[]
[]
[]
[]
[]
[]
[]
[]
[]
[]
[]
[]
[]
[]
[]
[]
[]
[]
[]
[]
[]
[]
[]
["Position","Car","Valid","Group#"]
[17,20,"G",{"$f":"IF(A220<=23,\"G3\",IF(A220<=30,\"G4\"))","v":"G3"}]
[18,8,"G","G3"]
[19,42,"G","G3"]
[20,41,"G","G3"]
[22,17,"G","G3"]
[23,43,"G","G3"]
[24,6,"G","G4"]
[25,47,"G","G4"]
[26,34,"G","G4"]
[27,38,"G","G4"]
[28,13,"G","G4"]
[30,37,"G","G4"]
[21,95,"X","G3"]
[29,32,"X","G4"]

{"sheet":"Ron Mason_Pick_List","index":27,"n_rows":233,"n_cols":8,"rows_kept":233,"cut":false,"hidden":true,"merged":[]}
[]
[]
["Position","Car","Valid","Group#","Position","Car","Valid","Group#"]
[1,4,"G",{"$f":"IF(A4<=8,\"G1\",IF(A4<=16,\"G2\",IF(A4<=23,\"G3\",IF(A4<=30,\"G4\",IF(A4<=35,\"G5\",\"G6\")))))","v":"G1"},8,10,"G","G7"]
[2,11,"G","G1",10,1,"G","G7"]
[3,2,"G","G1",11,14,"G","G7"]
[4,19,"G","G1",12,88,"G","G7"]
[5,22,"G","G1",13,21,"G","G7"]
[6,12,"G","G1",14,24,"G","G7"]
[7,9,"G","G1",16,3,"G","G7"]
[8,10,"G","G1",17,20,"G","G7"]
[9,18,"G","G2",18,8,"G","G7"]
[10,1,"G","G2",19,42,"G","G7"]
[11,14,"G","G2",22,17,"G","G7"]
[12,88,"G","G2",23,43,"G","G7"]
[13,21,"G","G2",25,47,"G","G7"]
[14,24,"G","G2",27,38,"G","G7"]
[16,3,"G","G2",28,13,"G","G7"]
[17,20,"G","G3",29,32,"G","G7"]
[18,8,"G","G3",30,37,"G","G7"]
[19,42,"G","G3",32,127,"G","G7"]
[20,41,"G","G3",33,77,"G","G7"]
[22,17,"G","G3",34,15,"G","G7"]
[23,43,"G","G3",35,53,"G","G7"]
[24,6,"G","G4",37,66,"G","G7"]
[25,47,"G","G4",38,51,"G","G7"]
[27,38,"G","G4",39,107,"G","G7"]
[28,13,"G","G4",41,62,"G","G7"]
[29,32,"G","G4",1,4,"X","G7"]
[30,37,"G","G4",2,11,"X","G7"]
[31,96,"G","G5",3,2,"X","G7"]
[32,127,"G","G5",4,19,"X","G7"]
[33,77,"G","G5",5,22,"X","G7"]
[34,15,"G","G5",6,12,"X","G7"]
[35,53,"G","G5",7,9,"X","G7"]
[36,"00","G","G6",9,18,"X","G7"]
[37,66,"G","G6",15,48,"X","G7"]
[38,51,"G","G6",20,41,"X","G7"]
[39,107,"G","G6",21,95,"X","G7"]
[40,78,"G","G6",24,6,"X","G7"]
[41,62,"G","G6",26,34,"X","G7"]
[42,116,"G","G6",31,96,"X","G7"]
[43,27,"G","G6",36,"00","X","G7"]
[44,54,"G","G6",40,78,"X","G7"]
[45,49,"G","G6",42,116,"X","G7"]
[15,48,"X","G2",43,27,"X","G7"]
[21,95,"X","G3",44,54,"X","G7"]
[26,34,"X","G4",45,49,"X","G7"]
[46,null,"G",{"$f":"IF(A49<=8,\"G1\",IF(A49<=16,\"G2\",IF(A49<=23,\"G3\",IF(A49<=30,\"G4\",IF(A49<=35,\"G5\",\"G6\")))))","v":"G6"},46,null,"G","G7"]
[47,null,"G","G6",47,null,"G","G7"]
[48,null,"G","G6",48,null,"G","G7"]
[49,null,"G","G6",49,null,"G","G7"]
[50,null,"G","G6",50,null,"G","G7"]
[51,null,"G","G6",51,null,"G","G7"]
[52,null,"G","G6",52,null,"G","G7"]
[53,null,"G","G6",53,null,"G","G7"]
[54,null,"G","G6",54,null,"G","G7"]
[55,null,"G","G6",55,null,"G","G7"]
[56,null,"G","G6",56,null,"G","G7"]
[57,null,"G","G6",57,null,"G","G7"]
[58,null,"G","G6",58,null,"G","G7"]
[59,null,"G","G6",59,null,"G","G7"]
[60,null,"G","G6",60,null,"G","G7"]
[61,null,"G","G6",61,null,"G","G7"]
[62,null,"G","G6",62,null,"G","G7"]
[63,null,"G","G6",63,null,"G","G7"]
[64,null,"G","G6",64,null,"G","G7"]
[65,null,"G","G6",65,null,"G","G7"]
[66,null,"G","G6",66,null,"G","G7"]
[67,null,"G","G6",67,null,"G","G7"]
[68,99,"G","G6",68,99,"G","G7"]
[]
[]
[]
[]
[]
[]
[]
[]
[]
[]
[]
[]
[]
[]
[]
[]
[]
[]
[]
[]
[]
[]
[]
[]
[]
[]
[]
[]
[]
[]
[]
[]
[]
[]
[]
[]
[]
[]
[]
[]
[]
[]
[]
[]
[]
[]
[]
[]
[]
[]
[]
[]
[]
[]
[]
[]
[]
[]
[]
[]
[]
[]
[]
[]
[]
[]
[]
[]
[]
[]
[]
[]
[]
[]
[]
[]
[]
[]
[]
[]
[]
[]
[]
[]
[]
[]
[]
[]
[]
[]
[]
[]
[]
[]
[]
[]
[]
[]
[]
[]
[]
[]
[]
[]
[]
[]
[]
[]
[]
[]
[]
[]
[]
[]
[]
[]
[]
[]
[]
[]
[]
[]
[]
[]
[]
[]
[]
[]
[]
[]
[]
[]
[]
[]
[]
[]
[]
[]
[]
[]
[]
[]
[]
[]
[]
[]
[]
["Position","Car","Valid","Group#"]
[17,20,"G",{"$f":"IF(A220<=23,\"G3\",IF(A220<=30,\"G4\"))","v":"G3"}]
[18,8,"G","G3"]
[19,42,"G","G3"]
[21,95,"G","G3"]
[22,17,"G","G3"]
[23,43,"G","G3"]
[25,47,"G","G4"]
[26,34,"G","G4"]
[27,38,"G","G4"]
[28,13,"G","G4"]
[29,32,"G","G4"]
[30,37,"G","G4"]
[20,41,"X","G3"]
[24,6,"X","G4"]

{"sheet":"Brad McLean_Pick_List","index":28,"n_rows":233,"n_cols":8,"rows_kept":233,"cut":false,"hidden":true,"merged":[]}
[]
[]
["Position","Car","Valid","Group#","Position","Car","Valid","Group#"]
[1,4,"G",{"$f":"IF(A4<=8,\"G1\",IF(A4<=16,\"G2\",IF(A4<=23,\"G3\",IF(A4<=30,\"G4\",IF(A4<=35,\"G5\",\"G6\")))))","v":"G1"},8,10,"G","G7"]
[2,11,"G","G1",9,18,"G","G7"]
[3,2,"G","G1",10,1,"G","G7"]
[4,19,"G","G1",11,14,"G","G7"]
[5,22,"G","G1",12,88,"G","G7"]
[6,12,"G","G1",13,21,"G","G7"]
[7,9,"G","G1",16,3,"G","G7"]
[8,10,"G","G1",17,20,"G","G7"]
[9,18,"G","G2",19,42,"G","G7"]
[10,1,"G","G2",20,41,"G","G7"]
[11,14,"G","G2",22,17,"G","G7"]
[12,88,"G","G2",23,43,"G","G7"]
[13,21,"G","G2",25,47,"G","G7"]
[15,48,"G","G2",26,34,"G","G7"]
[16,3,"G","G2",27,38,"G","G7"]
[17,20,"G","G3",28,13,"G","G7"]
[18,8,"G","G3",30,37,"G","G7"]
[19,42,"G","G3",32,127,"G","G7"]
[20,41,"G","G3",33,77,"G","G7"]
[22,17,"G","G3",34,15,"G","G7"]
[23,43,"G","G3",35,53,"G","G7"]
[25,47,"G","G4",36,"00","G","G7"]
[26,34,"G","G4",38,51,"G","G7"]
[27,38,"G","G4",39,107,"G","G7"]
[28,13,"G","G4",41,62,"G","G7"]
[29,32,"G","G4",1,4,"X","G7"]
[30,37,"G","G4",2,11,"X","G7"]
[31,96,"G","G5",3,2,"X","G7"]
[32,127,"G","G5",4,19,"X","G7"]
[33,77,"G","G5",5,22,"X","G7"]
[34,15,"G","G5",6,12,"X","G7"]
[35,53,"G","G5",7,9,"X","G7"]
[36,"00","G","G6",14,24,"X","G7"]
[37,66,"G","G6",15,48,"X","G7"]
[38,51,"G","G6",18,8,"X","G7"]
[39,107,"G","G6",21,95,"X","G7"]
[40,78,"G","G6",24,6,"X","G7"]
[41,62,"G","G6",29,32,"X","G7"]
[42,116,"G","G6",31,96,"X","G7"]
[43,27,"G","G6",37,66,"X","G7"]
[44,54,"G","G6",40,78,"X","G7"]
[45,49,"G","G6",42,116,"X","G7"]
[14,24,"X","G2",43,27,"X","G7"]
[21,95,"X","G3",44,54,"X","G7"]
[24,6,"X","G4",45,49,"X","G7"]
[46,null,"G",{"$f":"IF(A49<=8,\"G1\",IF(A49<=16,\"G2\",IF(A49<=23,\"G3\",IF(A49<=30,\"G4\",IF(A49<=35,\"G5\",\"G6\")))))","v":"G6"},46,null,"G","G7"]
[47,null,"G","G6",47,null,"G","G7"]
[48,null,"G","G6",48,null,"G","G7"]
[49,null,"G","G6",49,null,"G","G7"]
[50,null,"G","G6",50,null,"G","G7"]
[51,null,"G","G6",51,null,"G","G7"]
[52,null,"G","G6",52,null,"G","G7"]
[53,null,"G","G6",53,null,"G","G7"]
[54,null,"G","G6",54,null,"G","G7"]
[55,null,"G","G6",55,null,"G","G7"]
[56,null,"G","G6",56,null,"G","G7"]
[57,null,"G","G6",57,null,"G","G7"]
[58,null,"G","G6",58,null,"G","G7"]
[59,null,"G","G6",59,null,"G","G7"]
[60,null,"G","G6",60,null,"G","G7"]
[61,null,"G","G6",61,null,"G","G7"]
[62,null,"G","G6",62,null,"G","G7"]
[63,null,"G","G6",63,null,"G","G7"]
[64,null,"G","G6",64,null,"G","G7"]
[65,null,"G","G6",65,null,"G","G7"]
[66,null,"G","G6",66,null,"G","G7"]
[67,null,"G","G6",67,null,"G","G7"]
[68,99,"G","G6",68,99,"G","G7"]
[]
[]
[]
[]
[]
[]
[]
[]
[]
[]
[]
[]
[]
[]
[]
[]
[]
[]
[]
[]
[]
[]
[]
[]
[]
[]
[]
[]
[]
[]
[]
[]
[]
[]
[]
[]
[]
[]
[]
[]
[]
[]
[]
[]
[]
[]
[]
[]
[]
[]
[]
[]
[]
[]
[]
[]
[]
[]
[]
[]
[]
[]
[]
[]
[]
[]
[]
[]
[]
[]
[]
[]
[]
[]
[]
[]
[]
[]
[]
[]
[]
[]
[]
[]
[]
[]
[]
[]
[]
[]
[]
[]
[]
[]
[]
[]
[]
[]
[]
[]
[]
[]
[]
[]
[]
[]
[]
[]
[]
[]
[]
[]
[]
[]
[]
[]
[]
[]
[]
[]
[]
[]
[]
[]
[]
[]
[]
[]
[]
[]
[]
[]
[]
[]
[]
[]
[]
[]
[]
[]
[]
[]
[]
[]
[]
[]
[]
["Position","Car","Valid","Group#"]
[17,20,"G",{"$f":"IF(A220<=23,\"G3\",IF(A220<=30,\"G4\"))","v":"G3"}]
[19,42,"G","G3"]
[20,41,"G","G3"]
[21,95,"G","G3"]
[22,17,"G","G3"]
[23,43,"G","G3"]
[24,6,"G","G4"]
[25,47,"G","G4"]
[26,34,"G","G4"]
[27,38,"G","G4"]
[28,13,"G","G4"]
[30,37,"G","G4"]
[18,8,"X","G3"]
[29,32,"X","G4"]

{"sheet":"Donna McLean_Pick_List","index":29,"n_rows":233,"n_cols":8,"rows_kept":233,"cut":false,"hidden":true,"merged":[]}
[]
[]
["Position","Car","Valid","Group#","Position","Car","Valid","Group#"]
[1,4,"G",{"$f":"IF(A4<=8,\"G1\",IF(A4<=16,\"G2\",IF(A4<=23,\"G3\",IF(A4<=30,\"G4\",IF(A4<=35,\"G5\",\"G6\")))))","v":"G1"},6,12,"G","G7"]
[2,11,"G","G1",8,10,"G","G7"]
[3,2,"G","G1",9,18,"G","G7"]
[4,19,"G","G1",10,1,"G","G7"]
[6,12,"G","G1",11,14,"G","G7"]
[7,9,"G","G1",13,21,"G","G7"]
[8,10,"G","G1",14,24,"G","G7"]
[9,18,"G","G2",17,20,"G","G7"]
[10,1,"G","G2",18,8,"G","G7"]
[11,14,"G","G2",19,42,"G","G7"]
[12,88,"G","G2",20,41,"G","G7"]
[13,21,"G","G2",22,17,"G","G7"]
[14,24,"G","G2",23,43,"G","G7"]
[15,48,"G","G2",25,47,"G","G7"]
[17,20,"G","G3",26,34,"G","G7"]
[18,8,"G","G3",27,38,"G","G7"]
[19,42,"G","G3",29,32,"G","G7"]
[20,41,"G","G3",30,37,"G","G7"]
[22,17,"G","G3",32,127,"G","G7"]
[23,43,"G","G3",33,77,"G","G7"]
[24,6,"G","G4",34,15,"G","G7"]
[25,47,"G","G4",35,53,"G","G7"]
[26,34,"G","G4",36,"00","G","G7"]
[27,38,"G","G4",38,51,"G","G7"]
[29,32,"G","G4",39,107,"G","G7"]
[30,37,"G","G4",41,62,"G","G7"]
[31,96,"G","G5",1,4,"X","G7"]
[32,127,"G","G5",2,11,"X","G7"]
[33,77,"G","G5",3,2,"X","G7"]
[34,15,"G","G5",4,19,"X","G7"]
[35,53,"G","G5",5,22,"X","G7"]
[36,"00","G","G6",7,9,"X","G7"]
[37,66,"G","G6",12,88,"X","G7"]
[38,51,"G","G6",15,48,"X","G7"]
[39,107,"G","G6",16,3,"X","G7"]
[40,78,"G","G6",21,95,"X","G7"]
[41,62,"G","G6",24,6,"X","G7"]
[42,116,"G","G6",28,13,"X","G7"]
[43,27,"G","G6",31,96,"X","G7"]
[44,54,"G","G6",37,66,"X","G7"]
[45,49,"G","G6",40,78,"X","G7"]
[5,22,"X","G1",42,116,"X","G7"]
[16,3,"X","G2",43,27,"X","G7"]
[21,95,"X","G3",44,54,"X","G7"]
[28,13,"X","G4",45,49,"X","G7"]
[46,null,"G",{"$f":"IF(A49<=8,\"G1\",IF(A49<=16,\"G2\",IF(A49<=23,\"G3\",IF(A49<=30,\"G4\",IF(A49<=35,\"G5\",\"G6\")))))","v":"G6"},46,null,"G","G7"]
[47,null,"G","G6",47,null,"G","G7"]
[48,null,"G","G6",48,null,"G","G7"]
[49,null,"G","G6",49,null,"G","G7"]
[50,null,"G","G6",50,null,"G","G7"]
[51,null,"G","G6",51,null,"G","G7"]
[52,null,"G","G6",52,null,"G","G7"]
[53,null,"G","G6",53,null,"G","G7"]
[54,null,"G","G6",54,null,"G","G7"]
[55,null,"G","G6",55,null,"G","G7"]
[56,null,"G","G6",56,null,"G","G7"]
[57,null,"G","G6",57,null,"G","G7"]
[58,null,"G","G6",58,null,"G","G7"]
[59,null,"G","G6",59,null,"G","G7"]
[60,null,"G","G6",60,null,"G","G7"]
[61,null,"G","G6",61,null,"G","G7"]
[62,null,"G","G6",62,null,"G","G7"]
[63,null,"G","G6",63,null,"G","G7"]
[64,null,"G","G6",64,null,"G","G7"]
[65,null,"G","G6",65,null,"G","G7"]
[66,null,"G","G6",66,null,"G","G7"]
[67,null,"G","G6",67,null,"G","G7"]
[68,99,"G","G6",68,99,"G","G7"]
[]
[]
[]
[]
[]
[]
[]
[]
[]
[]
[]
[]
[]
[]
[]
[]
[]
[]
[]
[]
[]
[]
[]
[]
[]
[]
[]
[]
[]
[]
[]
[]
[]
[]
[]
[]
[]
[]
[]
[]
[]
[]
[]
[]
[]
[]
[]
[]
[]
[]
[]
[]
[]
[]
[]
[]
[]
[]
[]
[]
[]
[]
[]
[]
[]
[]
[]
[]
[]
[]
[]
[]
[]
[]
[]
[]
[]
[]
[]
[]
[]
[]
[]
[]
[]
[]
[]
[]
[]
[]
[]
[]
[]
[]
[]
[]
[]
[]
[]
[]
[]
[]
[]
[]
[]
[]
[]
[]
[]
[]
[]
[]
[]
[]
[]
[]
[]
[]
[]
[]
[]
[]
[]
[]
[]
[]
[]
[]
[]
[]
[]
[]
[]
[]
[]
[]
[]
[]
[]
[]
[]
[]
[]
[]
[]
[]
[]
["Position","Car","Valid","Group#"]
[17,20,"G",{"$f":"IF(A220<=23,\"G3\",IF(A220<=30,\"G4\"))","v":"G3"}]
[18,8,"G","G3"]
[19,42,"G","G3"]
[20,41,"G","G3"]
[21,95,"G","G3"]
[22,17,"G","G3"]
[23,43,"G","G3"]
[25,47,"G","G4"]
[26,34,"G","G4"]
[27,38,"G","G4"]
[28,13,"G","G4"]
[29,32,"G","G4"]
[30,37,"G","G4"]
[24,6,"X","G4"]

{"sheet":"Steve Sheppard_Pick_List","index":30,"n_rows":233,"n_cols":8,"rows_kept":233,"cut":false,"hidden":true,"merged":[]}
[]
[]
["Position","Car","Valid","Group#","Position","Car","Valid","Group#"]
[1,4,"G",{"$f":"IF(A4<=8,\"G1\",IF(A4<=16,\"G2\",IF(A4<=23,\"G3\",IF(A4<=30,\"G4\",IF(A4<=35,\"G5\",\"G6\")))))","v":"G1"},2,11,"G","G7"]
[2,11,"G","G1",4,19,"G","G7"]
[3,2,"G","G1",5,22,"G","G7"]
[4,19,"G","G1",6,12,"G","G7"]
[5,22,"G","G1",7,9,"G","G7"]
[6,12,"G","G1",8,10,"G","G7"]
[7,9,"G","G1",10,1,"G","G7"]
[8,10,"G","G1",11,14,"G","G7"]
[9,18,"G","G2",12,88,"G","G7"]
[10,1,"G","G2",13,21,"G","G7"]
[11,14,"G","G2",14,24,"G","G7"]
[12,88,"G","G2",15,48,"G","G7"]
[13,21,"G","G2",16,3,"G","G7"]
[14,24,"G","G2",17,20,"G","G7"]
[15,48,"G","G2",20,41,"G","G7"]
[16,3,"G","G2",21,95,"G","G7"]
[17,20,"G","G3",22,17,"G","G7"]
[19,42,"G","G3",23,43,"G","G7"]
[20,41,"G","G3",24,6,"G","G7"]
[21,95,"G","G3",25,47,"G","G7"]
[22,17,"G","G3",26,34,"G","G7"]
[23,43,"G","G3",27,38,"G","G7"]
[24,6,"G","G4",28,13,"G","G7"]
[25,47,"G","G4",32,127,"G","G7"]
[26,34,"G","G4",33,77,"G","G7"]
[27,38,"G","G4",41,62,"G","G7"]
[28,13,"G","G4",1,4,"X","G7"]
[29,32,"G","G4",3,2,"X","G7"]
[31,96,"G","G5",9,18,"X","G7"]
[32,127,"G","G5",18,8,"X","G7"]
[33,77,"G","G5",19,42,"X","G7"]
[35,53,"G","G5",29,32,"X","G7"]
[36,"00","G","G6",30,37,"X","G7"]
[37,66,"G","G6",31,96,"X","G7"]
[38,51,"G","G6",34,15,"X","G7"]
[39,107,"G","G6",35,53,"X","G7"]
[40,78,"G","G6",36,"00","X","G7"]
[41,62,"G","G6",37,66,"X","G7"]
[42,116,"G","G6",38,51,"X","G7"]
[43,27,"G","G6",39,107,"X","G7"]
[44,54,"G","G6",40,78,"X","G7"]
[45,49,"G","G6",42,116,"X","G7"]
[18,8,"X","G3",43,27,"X","G7"]
[30,37,"X","G4",44,54,"X","G7"]
[34,15,"X","G5",45,49,"X","G7"]
[46,null,"G",{"$f":"IF(A49<=8,\"G1\",IF(A49<=16,\"G2\",IF(A49<=23,\"G3\",IF(A49<=30,\"G4\",IF(A49<=35,\"G5\",\"G6\")))))","v":"G6"},46,null,"G","G7"]
[47,null,"G","G6",47,null,"G","G7"]
[48,null,"G","G6",48,null,"G","G7"]
[49,null,"G","G6",49,null,"G","G7"]
[50,null,"G","G6",50,null,"G","G7"]
[51,null,"G","G6",51,null,"G","G7"]
[52,null,"G","G6",52,null,"G","G7"]
[53,null,"G","G6",53,null,"G","G7"]
[54,null,"G","G6",54,null,"G","G7"]
[55,null,"G","G6",55,null,"G","G7"]
[56,null,"G","G6",56,null,"G","G7"]
[57,null,"G","G6",57,null,"G","G7"]
[58,null,"G","G6",58,null,"G","G7"]
[59,null,"G","G6",59,null,"G","G7"]
[60,null,"G","G6",60,null,"G","G7"]
[61,null,"G","G6",61,null,"G","G7"]
[62,null,"G","G6",62,null,"G","G7"]
[63,null,"G","G6",63,null,"G","G7"]
[64,null,"G","G6",64,null,"G","G7"]
[65,null,"G","G6",65,null,"G","G7"]
[66,null,"G","G6",66,null,"G","G7"]
[67,null,"G","G6",67,null,"G","G7"]
[68,99,"G","G6",68,99,"G","G7"]
[]
[]
[]
[]
[]
[]
[]
[]
[]
[]
[]
[]
[]
[]
[]
[]
[]
[]
[]
[]
[]
[]
[]
[]
[]
[]
[]
[]
[]
[]
[]
[]
[]
[]
[]
[]
[]
[]
[]
[]
[]
[]
[]
[]
[]
[]
[]
[]
[]
[]
[]
[]
[]
[]
[]
[]
[]
[]
[]
[]
[]
[]
[]
[]
[]
[]
[]
[]
[]
[]
[]
[]
[]
[]
[]
[]
[]
[]
[]
[]
[]
[]
[]
[]
[]
[]
[]
[]
[]
[]
[]
[]
[]
[]
[]
[]
[]
[]
[]
[]
[]
[]
[]
[]
[]
[]
[]
[]
[]
[]
[]
[]
[]
[]
[]
[]
[]
[]
[]
[]
[]
[]
[]
[]
[]
[]
[]
[]
[]
[]
[]
[]
[]
[]
[]
[]
[]
[]
[]
[]
[]
[]
[]
[]
[]
[]
[]
["Position","Car","Valid","Group#"]
[17,20,"G",{"$f":"IF(A220<=23,\"G3\",IF(A220<=30,\"G4\"))","v":"G3"}]
[18,8,"G","G3"]
[20,41,"G","G3"]
[21,95,"G","G3"]
[22,17,"G","G3"]
[23,43,"G","G3"]
[24,6,"G","G4"]
[25,47,"G","G4"]
[26,34,"G","G4"]
[27,38,"G","G4"]
[28,13,"G","G4"]
[30,37,"G","G4"]
[19,42,"X","G3"]
[29,32,"X","G4"]