{"text_format":"1","workbook":"xlsx","n_sheets":21,"sheets":["Standings","Entry List","Current Owner Standings (2)","Last Race Results (2)","Sheet1","Last Race Results","Current Owner Standings","Cars & Results","Jeff Buehrle","Doug Gebauer","Trey George","Ron Mason","Brad McLean","Donna McLean","Steve Sheppard","Points","Schedule","Sheet2","Show me the Money","Rules","Pick Distribution"],"not_rendered":{"charts":0,"images":6,"macros":1,"external_links":4,"defined_names":18,"comments":2,"pivot_tables":0},"unopened":[],"bounds":{"document_bytes":16777216,"sheet_cells":100000,"rows_first":2000,"rows_last":500,"rows_between":2000,"halvings":0,"cell_chars":16384,"cell_head_chars":4096},"cells_cut":0,"cells_raw":0,"read":"whole","date_system":"1900"}

{"sheet":"Standings","index":0,"n_rows":19,"n_cols":21,"rows_kept":19,"cut":false,"hidden":false,"merged":[[17,2,17,14],[18,2,18,14],[16,2,16,14],[15,2,15,14]]}
["Player","Sort",{"$f":"Schedule!E34","v":"Las Vegas"},{"$f":"Schedule!E35","v":"Richmond "},{"$f":"Schedule!E36","v":"Charlotte "},{"$f":"Schedule!E37","v":"Dover "},{"$f":"Schedule!E38","v":"Talladega "},{"$f":"Schedule!E39","v":"Kansas "},{"$f":"Schedule!E40","v":"Martinsville "},{"$f":"Schedule!E41","v":"Texas "},{"$f":"Schedule!E42","v":"Phoenix"},{"$f":"Schedule!E43","v":"Homestead–Miami "},"Purchased  Points","Segment Total","Points Behind","Segment 1 Score","Segment 2 Score","Segment 3 Score","Segment 4 Score","YTD Score","YTD Behind"]
["Brad McLean",{"$f":"MID(A2,FIND(\" \", A2)+1,LEN(A2))&\", \"&LEFT(A2,FIND(\" \",A2)-1)","v":"McLean, Brad"},{"$f":"'Brad McLean'!O21","v":245},{"$f":"'Brad McLean'!Q21","v":285},{"$f":"'Brad McLean'!S21","v":215},{"$f":"'Brad McLean'!U21","v":280},{"$f":"'Brad McLean'!W21","v":214.5},{"$f":"'Brad McLean'!Y21","v":199},{"$f":"'Brad McLean'!AA21","v":250},{"$f":"'Brad McLean'!AC21","v":171},{"$f":"'Brad McLean'!AE21","v":172},{"$f":"'Brad McLean'!AG21","v":157},100,{"$f":"SUM(C2:M2)","v":2288.5},{"$f":"N2-$N$2","v":0},{"$f":"'[1]Brad McLean'!$AC$21","v":2039.5},{"$f":"'[2]Brad McLean'!$AI$21","v":2587.75},{"$f":"'[3]Brad McLean'!$AC$21","v":2067.5},{"$f":"'Brad McLean'!$AI$21","v":2188.5},{"$f":"SUM(P2:S2)","v":8883.25},{"$f":"T2-$T$2","v":0}]
["Steve Sheppard","Sheppard, Steve",{"$f":"'Steve Sheppard'!O21","v":207},{"$f":"'Steve Sheppard'!Q21","v":222},{"$f":"'Steve Sheppard'!S21","v":151},{"$f":"'Steve Sheppard'!U21","v":191},{"$f":"'Steve Sheppard'!W21","v":234.5},{"$f":"'Steve Sheppard'!Y21","v":206},{"$f":"'Steve Sheppard'!AA21","v":195},{"$f":"'Steve Sheppard'!AC21","v":310.5},{"$f":"'Steve Sheppard'!AE21","v":262},{"$f":"'Steve Sheppard'!AG21","v":160},100,2239,-49.5,{"$f":"'[1]Steve Sheppard'!$AC$21","v":1695.5},{"$f":"'[2]Steve Sheppard'!$AI$21","v":1808.5},{"$f":"'[3]Steve Sheppard'!$AC$21","v":1331.5},{"$f":"'Steve Sheppard'!$AI$21","v":2139},6974.5,-1908.75]
["Trey George","George, Trey",{"$f":"'Trey George'!O21","v":196},{"$f":"'Trey George'!Q21","v":289},{"$f":"'Trey George'!S21","v":153},{"$f":"'Trey George'!U21","v":218},{"$f":"'Trey George'!W21","v":218.5},{"$f":"'Trey George'!Y21","v":281},{"$f":"'Trey George'!AA21","v":188},{"$f":"'Trey George'!AC21","v":215},{"$f":"'Trey George'!AE21","v":159},{"$f":"'Trey George'!AG21","v":197},0,2114.5,-174,{"$f":"'[1]Trey George'!$AC$21","v":1515},{"$f":"'[2]Trey George'!$AI$21","v":1954.75},{"$f":"'[3]Trey George'!$AC$21","v":1595.5},{"$f":"'Trey George'!$AI$21","v":2114.5},7179.75,-1703.5]
["Jeff Buehrle","Buehrle, Jeff",{"$f":"'Jeff Buehrle'!O21","v":259},{"$f":"'Jeff Buehrle'!Q21","v":149},{"$f":"'Jeff Buehrle'!S21","v":276},{"$f":"'Jeff Buehrle'!U21","v":270},{"$f":"'Jeff Buehrle'!W21","v":272.5},{"$f":"'Jeff Buehrle'!Y21","v":158},{"$f":"'Jeff Buehrle'!AA21","v":196},{"$f":"'Jeff Buehrle'!AC21","v":133},{"$f":"'Jeff Buehrle'!AE21","v":182},{"$f":"'Jeff Buehrle'!AG21","v":198},0,2093.5,-195,{"$f":"'[1]Jeff Buehrle'!$AC$21","v":2167},{"$f":"'[2]Jeff Buehrle'!$AI$21","v":2187},{"$f":"'[3]Jeff Buehrle'!$AC$21","v":2014},{"$f":"'Jeff Buehrle'!$AI$21","v":2093.5},8461.5,-421.75]
["Donna McLean","McLean, Donna",{"$f":"'Donna McLean'!O21","v":213},{"$f":"'Donna McLean'!Q21","v":250},{"$f":"'Donna McLean'!S21","v":190},{"$f":"'Donna McLean'!U21","v":178},{"$f":"'Donna McLean'!W21","v":230.5},{"$f":"'Donna McLean'!Y21","v":159},{"$f":"'Donna McLean'!AA21","v":277},{"$f":"'Donna McLean'!AC21","v":169.5},{"$f":"'Donna McLean'!AE21","v":180},{"$f":"'Donna McLean'!AG21","v":142},0,1989,-299.5,{"$f":"'[1]Donna McLean'!$AC$21","v":1930.5},{"$f":"'[2]Donna McLean'!$AI$21","v":2457.75},{"$f":"'[3]Donna McLean'!$AC$21","v":1699},{"$f":"'Donna McLean'!$AI$21","v":1989},8076.25,-807]
["Ron Mason","Mason, Ron",{"$f":"'Ron Mason'!O21","v":154},{"$f":"'Ron Mason'!Q21","v":151},{"$f":"'Ron Mason'!S21","v":197},{"$f":"'Ron Mason'!U21","v":270},{"$f":"'Ron Mason'!W21","v":213},{"$f":"'Ron Mason'!Y21","v":255},{"$f":"'Ron Mason'!AA21","v":136},{"$f":"'Ron Mason'!AC21","v":167},{"$f":"'Ron Mason'!AE21","v":194},{"$f":"'Ron Mason'!AG21","v":221},0,1958,-330.5,{"$f":"'[1]Ron Mason'!$AC$21","v":1748.5},{"$f":"'[2]Ron Mason'!$AI$21","v":2659.25},{"$f":"'[3]Ron Mason'!$AC$21","v":2109.5},{"$f":"'Ron Mason'!$AI$21","v":1958},8475.25,-408]
["Doug Gebauer","Gebauer, Doug",{"$f":"'Doug Gebauer'!O21","v":183},{"$f":"'Doug Gebauer'!Q21","v":200},{"$f":"'Doug Gebauer'!S21","v":162},{"$f":"'Doug Gebauer'!U21","v":268},{"$f":"'Doug Gebauer'!W21","v":223},{"$f":"'Doug Gebauer'!Y21","v":166},{"$f":"'Doug Gebauer'!AA21","v":109},{"$f":"'Doug Gebauer'!AC21","v":220.5},{"$f":"'Doug Gebauer'!AE21","v":166},{"$f":"'Doug Gebauer'!AG21","v":222},0,1919.5,-369,{"$f":"'[1]Doug Gebauer'!$AC$21","v":1889.75},{"$f":"'[2]Doug Gebauer'!$AI$21","v":2242.25},{"$f":"'[3]Doug Gebauer'!$AC$21","v":1793},{"$f":"'Doug Gebauer'!$AI$21","v":1919.5},7844.5,-1038.75]
[]
["Average Score",null,{"$f":"AVERAGE(C2:C8)","v":208.14285714285714},220.85714285714286,192,239.28571428571428,229.5,203.42857142857142,193,198.07142857142858,187.85714285714286,185.28571428571428,null,{"$f":"AVERAGE(N2:N8)","v":2086}]
[]
[]
[null,null,null,null,null,null,null,null,null,null,null,null,null,"1st"]
[null,null,"Last Updated: 2/07/2020 4:17:02 PM",null,null,null,null,null,null,null,null,null,null,"2nd"]
[null,null,null,null,null,null,null,null,null,null,null,null,null,"3rd"]
[]
[null,null,"Ready for Picks"]
[null,null,"Unofficial Race Results Posted"]
[null,null,"Official Race Results Posted"]

{"sheet":"Entry List","index":1,"n_rows":94,"n_cols":12,"rows_kept":94,"cut":false,"hidden":false,"merged":[]}
[{"$f":"IF(B1=\"\",\"\",B1)","v":""},null,"Car#","Driver","Manu","Sponsor","Organization",2016,2016,null,null,"https://en.wikipedia.org/wiki/2019_Monster_Energy_NASCAR_Cup_Series#Schedule"]
[{"$f":"IF(B2=\"\",\"\",B2)","v":""},null,null,null,null,null,null,"Owner","Race"]
[{"$f":"IF(B3=\"\",\"\",B3)","v":""},null,null,null,null,null,null,"Points","Attempts"]
["",null,null,null,null,null,null,"Rank"]
[{"$f":"IF(C5=\"\",\"\",C5)","v":"00"},1,"00","Landon Cassill (i)","StarCom Racing","Chevrolet","Chip Ganassi Racing",13,36]
[{"$f":"IF(C6=\"\",\"\",C6)","v":1},2,1,"Kurt Busch","Chip Ganassi Racing","Chevrolet","Team Penske",12,36]
[2,3,2,"Brad Keselowski","Team Penske","Ford","Richard Childress Racing",14,36]
[3,4,3,"Austin Dillon","Richard Childress Racing","Chevrolet","Stewart-Haas Racing",8,36]
[4,5,4,"Kevin Harvick","Stewart-Haas Racing","Ford","Hendrick Motorsports",17,36]
[6,6,6,"Ryan Newman","Roush Fenway Racing","Ford","Roush Fenway Racing",23,36]
[8,7,8,"Daniel Hemric (R)","Richard Childress Racing","Chevrolet","Tommy Baldwin Racing",45,2]
[9,8,9,"Chase Elliott","Hendrick Motorsports","Chevrolet","Stewart-Haas Racing",25,36]
[10,9,10,"Aric Almirola","Stewart-Haas Racing","Ford","Joe Gibbs Racing",6,36]
[11,10,11,"Denny Hamlin","Joe Gibbs Racing","Toyota","Germain Racing",29,36]
[12,11,12,"Ryan Blaney","Team Penske","Ford","Stewart-Haas Racing",15,36]
[13,12,13,"Ty Dillon","Germain Racing","Chevrolet","Premium Motorsports",28,36]
[14,13,14,"Clint Bowyer","Stewart-Haas Racing","Ford","Roush Fenway Racing",22,36]
[15,14,15,"Joe Nemechek (i)","Premium Motorsports","Chevrolet","Joe Gibbs Racing",3,36]
[17,15,17,"Ricky Stenhouse Jr.","Roush Fenway Racing","Ford","Joe Gibbs Racing",4,36]
[18,16,18,"Kyle Busch","Joe Gibbs Racing","Toyota","Joe Gibbs Racing",5,36]
[19,17,19,"Martin Truex Jr.","Joe Gibbs Racing","Toyota","Wood Brothers Racing",38,36]
[20,18,20,"Erik Jones","Joe Gibbs Racing","Toyota","Team Penske",2,36]
[21,19,21,"Paul Menard","Wood Brothers Racing","Ford","BK Racing",34,36]
[22,20,22,"Joey Logano","Team Penske","Ford","Hendrick Motorsports",10,36]
[24,21,24,"William Byron","Hendrick Motorsports","Chevrolet","Richard Childress Racing",26,36]
[27,22,27,"Ross Chastain (i)","Premium Motorsports","Chevrolet","Richard Childress Racing",19,36]
[32,23,32,"Corey LaJoie","Go Fas Racing","Ford","GO FAS Racing",33,36]
[34,24,34,"Michael McDowell","Front Row Motorsports","Ford","Circle Sport / TMG",30,36]
[36,25,36,"John Hunter Nemechek (i)","Front Row Motorsports","Ford","Front Row Motorsports",16,36]
[37,26,37,"Chris Buescher","JTG Daugherty Racing","Chevrolet","JTG Daugherty Racing",24,36]
[38,27,38,"David Ragan","Front Row Motorsports","Ford","Front Row Motorsports",31,36]
[41,28,41,"Daniel Suárez","Stewart-Haas Racing","Ford","Stewart-Haas Racing",7,36]
[42,29,42,"Kyle Larson","Chip Ganassi Racing","Chevrolet","Chip Ganassi Racing",9,36]
[43,30,43,"Darrell Wallace Jr.","Richard Petty Motorsports","Chevrolet","Richard Petty Motorsports",27,36]
[47,31,47,"Ryan Preece (R)","JTG Daugherty Racing","Chevrolet","JTG Daugherty Racing",20,36]
[48,32,48,"Jimmie Johnson","Hendrick Motorsports","Chevrolet","Hendrick Motorsports",1,36]
[51,33,51,"J. J. Yeley (i)","Petty Ware Racing","Ford","Rick Ware Racing",48,0]
[52,34,52,"Josh Bilicki (i)","Rick Ware Racing","Ford","Premium Motorsports",39,31]
[53,35,53,"B. J. McLeod (i)","Rick Ware Racing","Chevrolet","TriStar Motorsports",35,36]
[66,36,66,"Timmy Hill (i)","MBM Motorsports","Toyota","Beard Motorsports",48,0]
[77,37,77,"Reed Sorenson","Spire Motorsports","Chevrolet","Furniture Row Racing",36,36]
[88,38,88,"Alex Bowman","Hendrick Motorsports","Chevrolet","Furniture Row Racing",11,36]
[95,39,95,"Matt DiBenedetto","Leavine Family Racing","Toyota","BK Racing",48,0]
[96,40,96,"Drew Herring","Gaunt Brothers Racing","Toyota"]
[]
[]
[]
[]
[null,"Charters that were sold / leased / changed for 2017"]
[null,"#7-Tommy Baldwin Racing has sold Charter to #95 Leavine Family Racing, #7 will run open car part-time"]
[null,"#15-HScott Motorsports has sold the Charter to Premium Motorsports, which goes to the #98 team, but keeps the #15 and will use it."]
[null,"#16-Roush Fenway Racing, Biffle leaves, team closes, team leases the Charter to a 2nd JTG Daugherty team, #37."]
[null,"#32-Go FAS Racing, leases their Charter to #21-Wood Brothers Racing and in-turn leases the #44 Charter from Richard Petty Motorsports."]
[null,"#33-Circle Sport, was leased to #95 Leavine Family Racing, merged with #30 TMG, will run #33 Chevy."]
[null,"#44-Richard Petty Motorsports leased their Charter to #32 Go Fas Racing, RPM scales back to one car in 2017, the #43."]
[null,"#46-HScott Motorsports, team leased Charter from Premium Motorsports who sold it to Furniture Row Racing #77 new team."]
[null,"#55-Premium Motorsports (ran #55 & #98 in 2016), leased to #46 HScott Motorsports, then sold it to Furniture Row Racing #77, a new team."]
[null,"#83-BK Racing sold their Charter to Front Row Motorsports who leased it to the new #72 TriStar Motorsports team."]
[null,"#98-Premium Motorsports, bought the #15 HScott Motorsports Charter and will run the #15, dropping the #98."]
[null,"NOTES: Charters can be leased once every five years"]
[null,"(leased Charters in 2017: #37 leases #16; #32 the #44; #21 the #32; #72 the #83)"]
[null,"NASCAR can remove a Charter for a team in the bottom 3 of owners standings, none were removed in 2017"]
[]
[null,"Teams/Drivers in RED must compete for the four remaining positions in the field each week"]
[null,"which will be determined through normal qualifying procedures as outlined in the Monster Energy NASCAR Cup Series Rule Book."]
[null,"The rest of the teams have Charters. Each Charter team owner has a guaranteed entry into the field of every Monster Energy NASCAR Cup Series points race"]
[]
[null,"# Sunoco Rookie of the Year candidate"]
[]
[null,"(i) = driver not running for 2017 Monster Energy NASCAR Cup Series Championship Drivers Points"]
[]
[null,"Ties are broken as follows:"]
[null,"1) Owners Points"]
[null,"2) Best finishes, most wins, 2nds, 3rds and so on until the tie is broken"]
[null,"3) If tie still remains, then the team with the highest position first breaks the tie"]
[null,"(so if two are ties, both have a win, then the team who won first gets the spot)"]
[]
[]
[]
[]
[]
[]
[]
[]
[]
[]
[]
[]
[]
[]
[]
[]
[]
["  "]

{"sheet":"Current Owner Standings (2)","index":2,"n_rows":497,"n_cols":35,"rows_kept":497,"cut":false,"hidden":true,"merged":[]}
[]
["RANK","+/-","CAR","OWNER","POINTS","BEHIND","STARTS","WINS","TOP 5","TOP 10","Driver"]
[1,"--","#16","Jack Roush",312,"Leader",8,1,5,6,{"$f":"IF(ISNA(VLOOKUP(VALUE(RIGHT(C3,LEN(C3)-1)),'Entry List'!$B$2:$B$105,2,FALSE)),\"Not Entered\", VLOOKUP(VALUE(RIGHT(C3,LEN(C3)-1)),'Entry List'!$B$2:$B$105,2,FALSE))","v":{"$error":"#REF!"}}]
[2,2,"#56","Michael Waltrip",297,-15,8,0,3,6,{"$f":"IF(ISNA(VLOOKUP(VALUE(RIGHT(C4,LEN(C4)-1)),'Entry List'!$B$2:$B$105,2,FALSE)),\"Not Entered\", VLOOKUP(VALUE(RIGHT(C4,LEN(C4)-1)),'Entry List'!$B$2:$B$105,2,FALSE))","v":"Not Entered"}]
[3,-1,"#17","John Henry",295,-17,8,1,5,5,{"$f":"IF(ISNA(VLOOKUP(VALUE(RIGHT(C5,LEN(C5)-1)),'Entry List'!$B$2:$B$105,2,FALSE)),\"Not Entered\", VLOOKUP(VALUE(RIGHT(C5,LEN(C5)-1)),'Entry List'!$B$2:$B$105,2,FALSE))","v":{"$error":"#REF!"}}]
[4,-1,"#88","Rick Hendrick",291,-21,8,0,3,6,{"$f":"IF(ISNA(VLOOKUP(VALUE(RIGHT(C6,LEN(C6)-1)),'Entry List'!$B$2:$B$105,2,FALSE)),\"Not Entered\", VLOOKUP(VALUE(RIGHT(C6,LEN(C6)-1)),'Entry List'!$B$2:$B$105,2,FALSE))","v":"Not Entered"}]
[5,1,"#11","J D Gibbs",289,-23,8,2,3,4,{"$f":"IF(ISNA(VLOOKUP(VALUE(RIGHT(C7,LEN(C7)-1)),'Entry List'!$B$2:$B$105,2,FALSE)),\"Not Entered\", VLOOKUP(VALUE(RIGHT(C7,LEN(C7)-1)),'Entry List'!$B$2:$B$105,2,FALSE))","v":{"$error":"#REF!"}}]
[6,-1,"#29","Richard Childress",287,-25,8,0,2,5,{"$f":"IF(ISNA(VLOOKUP(VALUE(RIGHT(C8,LEN(C8)-1)),'Entry List'!$B$2:$B$105,2,FALSE)),\"Not Entered\", VLOOKUP(VALUE(RIGHT(C8,LEN(C8)-1)),'Entry List'!$B$2:$B$105,2,FALSE))","v":{"$error":"#REF!"}}]
[7,2,"#48","Jeff Gordon",275,-37,8,0,4,6,{"$f":"IF(ISNA(VLOOKUP(VALUE(RIGHT(C9,LEN(C9)-1)),'Entry List'!$B$2:$B$105,2,FALSE)),\"Not Entered\", VLOOKUP(VALUE(RIGHT(C9,LEN(C9)-1)),'Entry List'!$B$2:$B$105,2,FALSE))","v":"Not Entered"}]
[8,"--","#14","Margaret Haas",265,-47,8,2,2,3,{"$f":"IF(ISNA(VLOOKUP(VALUE(RIGHT(C10,LEN(C10)-1)),'Entry List'!$B$2:$B$105,2,FALSE)),\"Not Entered\", VLOOKUP(VALUE(RIGHT(C10,LEN(C10)-1)),'Entry List'!$B$2:$B$105,2,FALSE))","v":{"$error":"#REF!"}}]
[9,3,"#99","Jack Roush",251,-61,8,0,2,5,{"$f":"IF(ISNA(VLOOKUP(VALUE(RIGHT(C11,LEN(C11)-1)),'Entry List'!$B$2:$B$105,2,FALSE)),\"Not Entered\", VLOOKUP(VALUE(RIGHT(C11,LEN(C11)-1)),'Entry List'!$B$2:$B$105,2,FALSE))","v":"Not Entered"}]
[10,"--","#39","Tony Stewart",249,-63,8,1,2,3,{"$f":"IF(ISNA(VLOOKUP(VALUE(RIGHT(C12,LEN(C12)-1)),'Entry List'!$B$2:$B$105,2,FALSE)),\"Not Entered\", VLOOKUP(VALUE(RIGHT(C12,LEN(C12)-1)),'Entry List'!$B$2:$B$105,2,FALSE))","v":{"$error":"#REF!"}}]
[11,-4,"#55","Bill Jenkins",247,-65,8,0,2,4,{"$f":"IF(ISNA(VLOOKUP(VALUE(RIGHT(C13,LEN(C13)-1)),'Entry List'!$B$2:$B$105,2,FALSE)),\"Not Entered\", VLOOKUP(VALUE(RIGHT(C13,LEN(C13)-1)),'Entry List'!$B$2:$B$105,2,FALSE))","v":"Not Entered"}]
[12,-1,"#15","Rob Kauffman",227,-85,8,0,1,3,{"$f":"IF(ISNA(VLOOKUP(VALUE(RIGHT(C14,LEN(C14)-1)),'Entry List'!$B$2:$B$105,2,FALSE)),\"Not Entered\", VLOOKUP(VALUE(RIGHT(C14,LEN(C14)-1)),'Entry List'!$B$2:$B$105,2,FALSE))","v":{"$error":"#REF!"}}]
[13,1,"#20","Joe Gibbs",221,-91,8,0,0,2,{"$f":"IF(ISNA(VLOOKUP(VALUE(RIGHT(C15,LEN(C15)-1)),'Entry List'!$B$2:$B$105,2,FALSE)),\"Not Entered\", VLOOKUP(VALUE(RIGHT(C15,LEN(C15)-1)),'Entry List'!$B$2:$B$105,2,FALSE))","v":{"$error":"#REF!"}}]
[14,1,"#18","Joe Gibbs",218,-94,8,0,1,3,{"$f":"IF(ISNA(VLOOKUP(VALUE(RIGHT(C16,LEN(C16)-1)),'Entry List'!$B$2:$B$105,2,FALSE)),\"Not Entered\", VLOOKUP(VALUE(RIGHT(C16,LEN(C16)-1)),'Entry List'!$B$2:$B$105,2,FALSE))","v":{"$error":"#REF!"}}]
[15,-2,"#27","Richard Childress",218,-94,8,0,0,3,{"$f":"IF(ISNA(VLOOKUP(VALUE(RIGHT(C17,LEN(C17)-1)),'Entry List'!$B$2:$B$105,2,FALSE)),\"Not Entered\", VLOOKUP(VALUE(RIGHT(C17,LEN(C17)-1)),'Entry List'!$B$2:$B$105,2,FALSE))","v":{"$error":"#REF!"}},null,null,null,null,null,null,null,null,null,{"$f":"IF(INDIRECT(ADDRESS(320,5+(T2*2),1,1,\"Cars & Results\"),TRUE)=\"Y\",IF(ISERROR(MATCH(INDIRECT(ADDRESS(317,5+(T2*2),1,1,\"Cars & Results\"),TRUE),C4:C16,0))=TRUE,0,20),\"\")","v":""},null,{"$f":"IF(INDIRECT(ADDRESS(320,5+(V2*2),1,1,\"Cars & Results\"),TRUE)=\"Y\",IF(ISERROR(MATCH(INDIRECT(ADDRESS(317,5+(V2*2),1,1,\"Cars & Results\"),TRUE),D4:D16,0))=TRUE,0,20),\"\")","v":""},null,{"$f":"IF(INDIRECT(ADDRESS(320,5+(X2*2),1,1,\"Cars & Results\"),TRUE)=\"Y\",IF(ISERROR(MATCH(INDIRECT(ADDRESS(317,5+(X2*2),1,1,\"Cars & Results\"),TRUE),E4:E16,0))=TRUE,0,20),\"\")","v":""},null,{"$f":"IF(INDIRECT(ADDRESS(320,5+(Z2*2),1,1,\"Cars & Results\"),TRUE)=\"Y\",IF(ISERROR(MATCH(INDIRECT(ADDRESS(317,5+(Z2*2),1,1,\"Cars & Results\"),TRUE),F4:F16,0))=TRUE,0,20),\"\")","v":""},null,{"$f":"IF(INDIRECT(ADDRESS(320,5+(AB2*2),1,1,\"Cars & Results\"),TRUE)=\"Y\",IF(ISERROR(MATCH(INDIRECT(ADDRESS(317,5+(AB2*2),1,1,\"Cars & Results\"),TRUE),K4:K16,0))=TRUE,0,20),\"\")","v":""},null,{"$f":"IF(INDIRECT(ADDRESS(320,5+(AD2*2),1,1,\"Cars & Results\"),TRUE)=\"Y\",IF(ISERROR(MATCH(INDIRECT(ADDRESS(317,5+(AD2*2),1,1,\"Cars & Results\"),TRUE),L4:L16,0))=TRUE,0,20),\"\")","v":""},null,{"$f":"IF(INDIRECT(ADDRESS(320,5+(AF2*2),1,1,\"Cars & Results\"),TRUE)=\"Y\",IF(ISERROR(MATCH(INDIRECT(ADDRESS(317,5+(AF2*2),1,1,\"Cars & Results\"),TRUE),M4:M16,0))=TRUE,0,20),\"\")","v":""},null,{"$f":"IF(INDIRECT(ADDRESS(320,5+(AH2*2),1,1,\"Cars & Results\"),TRUE)=\"Y\",IF(ISERROR(MATCH(INDIRECT(ADDRESS(317,5+(AH2*2),1,1,\"Cars & Results\"),TRUE),N4:N16,0))=TRUE,0,20),\"\")","v":""}]
[16,"--","#2","Roger Penske",217,-95,8,1,2,3,{"$f":"IF(ISNA(VLOOKUP(VALUE(RIGHT(C18,LEN(C18)-1)),'Entry List'!$B$2:$B$105,2,FALSE)),\"Not Entered\", VLOOKUP(VALUE(RIGHT(C18,LEN(C18)-1)),'Entry List'!$B$2:$B$105,2,FALSE))","v":{"$error":"#REF!"}},null,null,null,null,null,null,null,null,null,{"$f":"IF(INDIRECT(ADDRESS(320,5+(T2*2),1,1,\"Cars & Results\"),TRUE)=\"Y\",IF(ISERROR(MATCH(INDIRECT(ADDRESS(318,5+(T2*2),1,1,\"Cars & Results\"),TRUE),C4:C16,0))=TRUE,0,10),\"\")","v":""},null,{"$f":"IF(INDIRECT(ADDRESS(320,5+(V2*2),1,1,\"Cars & Results\"),TRUE)=\"Y\",IF(ISERROR(MATCH(INDIRECT(ADDRESS(318,5+(V2*2),1,1,\"Cars & Results\"),TRUE),D4:D16,0))=TRUE,0,10),\"\")","v":""},null,{"$f":"IF(INDIRECT(ADDRESS(320,5+(X2*2),1,1,\"Cars & Results\"),TRUE)=\"Y\",IF(ISERROR(MATCH(INDIRECT(ADDRESS(318,5+(X2*2),1,1,\"Cars & Results\"),TRUE),E4:E16,0))=TRUE,0,10),\"\")","v":""},null,{"$f":"IF(INDIRECT(ADDRESS(320,5+(Z2*2),1,1,\"Cars & Results\"),TRUE)=\"Y\",IF(ISERROR(MATCH(INDIRECT(ADDRESS(318,5+(Z2*2),1,1,\"Cars & Results\"),TRUE),F4:F16,0))=TRUE,0,10),\"\")","v":""},null,{"$f":"IF(INDIRECT(ADDRESS(320,5+(AB2*2),1,1,\"Cars & Results\"),TRUE)=\"Y\",IF(ISERROR(MATCH(INDIRECT(ADDRESS(318,5+(AB2*2),1,1,\"Cars & Results\"),TRUE),K4:K16,0))=TRUE,0,10),\"\")","v":""},null,{"$f":"IF(INDIRECT(ADDRESS(320,5+(AD2*2),1,1,\"Cars & Results\"),TRUE)=\"Y\",IF(ISERROR(MATCH(INDIRECT(ADDRESS(318,5+(AD2*2),1,1,\"Cars & Results\"),TRUE),L4:L16,0))=TRUE,0,10),\"\")","v":""},null,{"$f":"IF(INDIRECT(ADDRESS(320,5+(AF2*2),1,1,\"Cars & Results\"),TRUE)=\"Y\",IF(ISERROR(MATCH(INDIRECT(ADDRESS(318,5+(AF2*2),1,1,\"Cars & Results\"),TRUE),M4:M16,0))=TRUE,0,10),\"\")","v":""},null,{"$f":"IF(INDIRECT(ADDRESS(320,5+(AH2*2),1,1,\"Cars & Results\"),TRUE)=\"Y\",IF(ISERROR(MATCH(INDIRECT(ADDRESS(318,5+(AH2*2),1,1,\"Cars & Results\"),TRUE),N4:N16,0))=TRUE,0,10),\"\")","v":""}]
[17,2,"#42","Chip Ganassi",207,-105,8,0,0,1,{"$f":"IF(ISNA(VLOOKUP(VALUE(RIGHT(C19,LEN(C19)-1)),'Entry List'!$B$2:$B$105,2,FALSE)),\"Not Entered\", VLOOKUP(VALUE(RIGHT(C19,LEN(C19)-1)),'Entry List'!$B$2:$B$105,2,FALSE))","v":"Not Entered"},null,null,null,null,null,null,null,null,null,{"$f":"IF(INDIRECT(ADDRESS(320,5+(T2*2),1,1,\"Cars & Results\"),TRUE)=\"Y\",IF(ISERROR(MATCH(INDIRECT(ADDRESS(319,5+(T2*2),1,1,\"Cars & Results\"),TRUE),C4:C16,0))=TRUE,0,10),\"\")","v":""},null,{"$f":"IF(INDIRECT(ADDRESS(320,5+(V2*2),1,1,\"Cars & Results\"),TRUE)=\"Y\",IF(ISERROR(MATCH(INDIRECT(ADDRESS(319,5+(V2*2),1,1,\"Cars & Results\"),TRUE),D4:D16,0))=TRUE,0,10),\"\")","v":""},null,{"$f":"IF(INDIRECT(ADDRESS(320,5+(X2*2),1,1,\"Cars & Results\"),TRUE)=\"Y\",IF(ISERROR(MATCH(INDIRECT(ADDRESS(319,5+(X2*2),1,1,\"Cars & Results\"),TRUE),E4:E16,0))=TRUE,0,10),\"\")","v":""},null,{"$f":"IF(INDIRECT(ADDRESS(320,5+(Z2*2),1,1,\"Cars & Results\"),TRUE)=\"Y\",IF(ISERROR(MATCH(INDIRECT(ADDRESS(319,5+(Z2*2),1,1,\"Cars & Results\"),TRUE),F4:F16,0))=TRUE,0,10),\"\")","v":""},null,{"$f":"IF(INDIRECT(ADDRESS(320,5+(AB2*2),1,1,\"Cars & Results\"),TRUE)=\"Y\",IF(ISERROR(MATCH(INDIRECT(ADDRESS(319,5+(AB2*2),1,1,\"Cars & Results\"),TRUE),K4:K16,0))=TRUE,0,10),\"\")","v":""},null,{"$f":"IF(INDIRECT(ADDRESS(320,5+(AD2*2),1,1,\"Cars & Results\"),TRUE)=\"Y\",IF(ISERROR(MATCH(INDIRECT(ADDRESS(319,5+(AD2*2),1,1,\"Cars & Results\"),TRUE),L4:L16,0))=TRUE,0,10),\"\")","v":""},null,{"$f":"IF(INDIRECT(ADDRESS(320,5+(AF2*2),1,1,\"Cars & Results\"),TRUE)=\"Y\",IF(ISERROR(MATCH(INDIRECT(ADDRESS(319,5+(AF2*2),1,1,\"Cars & Results\"),TRUE),M4:M16,0))=TRUE,0,10),\"\")","v":""},null,{"$f":"IF(INDIRECT(ADDRESS(320,5+(AH2*2),1,1,\"Cars & Results\"),TRUE)=\"Y\",IF(ISERROR(MATCH(INDIRECT(ADDRESS(319,5+(AH2*2),1,1,\"Cars & Results\"),TRUE),N4:N16,0))=TRUE,0,10),\"\")","v":""}]
[18,-1,"#31","Richard Childress",201,-111,8,0,1,2,{"$f":"IF(ISNA(VLOOKUP(VALUE(RIGHT(C20,LEN(C20)-1)),'Entry List'!$B$2:$B$105,2,FALSE)),\"Not Entered\", VLOOKUP(VALUE(RIGHT(C20,LEN(C20)-1)),'Entry List'!$B$2:$B$105,2,FALSE))","v":{"$error":"#REF!"}}]
[19,-1,"#24","Rick Hendrick",200,-112,8,0,1,2,{"$f":"IF(ISNA(VLOOKUP(VALUE(RIGHT(C21,LEN(C21)-1)),'Entry List'!$B$2:$B$105,2,FALSE)),\"Not Entered\", VLOOKUP(VALUE(RIGHT(C21,LEN(C21)-1)),'Entry List'!$B$2:$B$105,2,FALSE))","v":{"$error":"#REF!"}}]
[20,3,"#1","Felix Sabates",190,-122,8,0,0,2,{"$f":"IF(ISNA(VLOOKUP(VALUE(RIGHT(C22,LEN(C22)-1)),'Entry List'!$B$2:$B$105,2,FALSE)),\"Not Entered\", VLOOKUP(VALUE(RIGHT(C22,LEN(C22)-1)),'Entry List'!$B$2:$B$105,2,FALSE))","v":{"$error":"#REF!"}}]
[21,1,"#43","Richard Petty",187,-125,8,0,0,1,{"$f":"IF(ISNA(VLOOKUP(VALUE(RIGHT(C23,LEN(C23)-1)),'Entry List'!$B$2:$B$105,2,FALSE)),\"Not Entered\", VLOOKUP(VALUE(RIGHT(C23,LEN(C23)-1)),'Entry List'!$B$2:$B$105,2,FALSE))","v":"Not Entered"}]
[22,2,"#9","Richard Petty",187,-125,8,0,0,0,{"$f":"IF(ISNA(VLOOKUP(VALUE(RIGHT(C24,LEN(C24)-1)),'Entry List'!$B$2:$B$105,2,FALSE)),\"Not Entered\", VLOOKUP(VALUE(RIGHT(C24,LEN(C24)-1)),'Entry List'!$B$2:$B$105,2,FALSE))","v":{"$error":"#REF!"}}]
[23,-2,"#78","Barney Visser",187,-125,8,0,0,0,{"$f":"IF(ISNA(VLOOKUP(VALUE(RIGHT(C25,LEN(C25)-1)),'Entry List'!$B$2:$B$105,2,FALSE)),\"Not Entered\", VLOOKUP(VALUE(RIGHT(C25,LEN(C25)-1)),'Entry List'!$B$2:$B$105,2,FALSE))","v":"Not Entered"}]
[24,-4,"#22","Walter Czarnecki",185,-127,8,0,1,1,{"$f":"IF(ISNA(VLOOKUP(VALUE(RIGHT(C26,LEN(C26)-1)),'Entry List'!$B$2:$B$105,2,FALSE)),\"Not Entered\", VLOOKUP(VALUE(RIGHT(C26,LEN(C26)-1)),'Entry List'!$B$2:$B$105,2,FALSE))","v":{"$error":"#REF!"}}]
[25,1,"#51","James Finch",174,-138,8,0,0,1,{"$f":"IF(ISNA(VLOOKUP(VALUE(RIGHT(C27,LEN(C27)-1)),'Entry List'!$B$2:$B$105,2,FALSE)),\"Not Entered\", VLOOKUP(VALUE(RIGHT(C27,LEN(C27)-1)),'Entry List'!$B$2:$B$105,2,FALSE))","v":"Not Entered"}]
[26,1,"#5","Linda Hendrick",166,-146,8,0,0,2,{"$f":"IF(ISNA(VLOOKUP(VALUE(RIGHT(C28,LEN(C28)-1)),'Entry List'!$B$2:$B$105,2,FALSE)),\"Not Entered\", VLOOKUP(VALUE(RIGHT(C28,LEN(C28)-1)),'Entry List'!$B$2:$B$105,2,FALSE))","v":{"$error":"#REF!"}}]
[27,-2,"#47","Tad Geschickter",161,-151,8,0,0,0,{"$f":"IF(ISNA(VLOOKUP(VALUE(RIGHT(C29,LEN(C29)-1)),'Entry List'!$B$2:$B$105,2,FALSE)),\"Not Entered\", VLOOKUP(VALUE(RIGHT(C29,LEN(C29)-1)),'Entry List'!$B$2:$B$105,2,FALSE))","v":"Not Entered"}]
[28,"--","#13","Bob Germain",137,-175,8,0,0,0,{"$f":"IF(ISNA(VLOOKUP(VALUE(RIGHT(C30,LEN(C30)-1)),'Entry List'!$B$2:$B$105,2,FALSE)),\"Not Entered\", VLOOKUP(VALUE(RIGHT(C30,LEN(C30)-1)),'Entry List'!$B$2:$B$105,2,FALSE))","v":{"$error":"#REF!"}}]
[29,1,"#38","Brad Jenkins",126,-186,8,0,0,0,{"$f":"IF(ISNA(VLOOKUP(VALUE(RIGHT(C31,LEN(C31)-1)),'Entry List'!$B$2:$B$105,2,FALSE)),\"Not Entered\", VLOOKUP(VALUE(RIGHT(C31,LEN(C31)-1)),'Entry List'!$B$2:$B$105,2,FALSE))","v":{"$error":"#REF!"}}]
[30,-1,"#34","Bob Jenkins",123,-189,8,0,0,0,{"$f":"IF(ISNA(VLOOKUP(VALUE(RIGHT(C32,LEN(C32)-1)),'Entry List'!$B$2:$B$105,2,FALSE)),\"Not Entered\", VLOOKUP(VALUE(RIGHT(C32,LEN(C32)-1)),'Entry List'!$B$2:$B$105,2,FALSE))","v":{"$error":"#REF!"}}]
[31,2,"#93","Thomas Ueberall",122,-190,8,0,0,0,{"$f":"IF(ISNA(VLOOKUP(VALUE(RIGHT(C33,LEN(C33)-1)),'Entry List'!$B$2:$B$105,2,FALSE)),\"Not Entered\", VLOOKUP(VALUE(RIGHT(C33,LEN(C33)-1)),'Entry List'!$B$2:$B$105,2,FALSE))","v":"Not Entered"}]
[32,"--","#32","Jack Roush",120,-192,8,0,0,0,{"$f":"IF(ISNA(VLOOKUP(VALUE(RIGHT(C34,LEN(C34)-1)),'Entry List'!$B$2:$B$105,2,FALSE)),\"Not Entered\", VLOOKUP(VALUE(RIGHT(C34,LEN(C34)-1)),'Entry List'!$B$2:$B$105,2,FALSE))","v":{"$error":"#REF!"}}]
[33,-2,"#36","Allan Heinke",111,-201,8,0,0,0,{"$f":"IF(ISNA(VLOOKUP(VALUE(RIGHT(C35,LEN(C35)-1)),'Entry List'!$B$2:$B$105,2,FALSE)),\"Not Entered\", VLOOKUP(VALUE(RIGHT(C35,LEN(C35)-1)),'Entry List'!$B$2:$B$105,2,FALSE))","v":{"$error":"#REF!"}}]
[34,"--","#10","Tommy Baldwin",109,-203,8,0,0,0,{"$f":"IF(ISNA(VLOOKUP(VALUE(RIGHT(C36,LEN(C36)-1)),'Entry List'!$B$2:$B$105,2,FALSE)),\"Not Entered\", VLOOKUP(VALUE(RIGHT(C36,LEN(C36)-1)),'Entry List'!$B$2:$B$105,2,FALSE))","v":{"$error":"#REF!"}}]
[35,"--","#83","Thomas Ueberall",101,-211,8,0,0,0,{"$f":"IF(ISNA(VLOOKUP(VALUE(RIGHT(C37,LEN(C37)-1)),'Entry List'!$B$2:$B$105,2,FALSE)),\"Not Entered\", VLOOKUP(VALUE(RIGHT(C37,LEN(C37)-1)),'Entry List'!$B$2:$B$105,2,FALSE))","v":"Not Entered"}]
[36,"--","#33","Richard Childress",90,-222,7,0,0,0,{"$f":"IF(ISNA(VLOOKUP(VALUE(RIGHT(C38,LEN(C38)-1)),'Entry List'!$B$2:$B$105,2,FALSE)),\"Not Entered\", VLOOKUP(VALUE(RIGHT(C38,LEN(C38)-1)),'Entry List'!$B$2:$B$105,2,FALSE))","v":{"$error":"#REF!"}}]
[37,2,"#249","Jay Robinson",73,-239,7,0,0,0,{"$f":"IF(ISNA(VLOOKUP(VALUE(RIGHT(C39,LEN(C39)-1)),'Entry List'!$B$2:$B$105,2,FALSE)),\"Not Entered\", VLOOKUP(VALUE(RIGHT(C39,LEN(C39)-1)),'Entry List'!$B$2:$B$105,2,FALSE))","v":"Not Entered"}]
[38,-1,"#30","Kevin Buckler",69,-243,7,0,0,0,{"$f":"IF(ISNA(VLOOKUP(VALUE(RIGHT(C40,LEN(C40)-1)),'Entry List'!$B$2:$B$105,2,FALSE)),\"Not Entered\", VLOOKUP(VALUE(RIGHT(C40,LEN(C40)-1)),'Entry List'!$B$2:$B$105,2,FALSE))","v":{"$error":"#REF!"}}]
[39,-1,"#21","Glen Wood",60,-252,3,0,0,1,{"$f":"IF(ISNA(VLOOKUP(VALUE(RIGHT(C41,LEN(C41)-1)),'Entry List'!$B$2:$B$105,2,FALSE)),\"Not Entered\", VLOOKUP(VALUE(RIGHT(C41,LEN(C41)-1)),'Entry List'!$B$2:$B$105,2,FALSE))","v":{"$error":"#REF!"}}]
[40,"--","#26","Jerry Freeze",56,-256,8,0,0,0,{"$f":"IF(ISNA(VLOOKUP(VALUE(RIGHT(C42,LEN(C42)-1)),'Entry List'!$B$2:$B$105,2,FALSE)),\"Not Entered\", VLOOKUP(VALUE(RIGHT(C42,LEN(C42)-1)),'Entry List'!$B$2:$B$105,2,FALSE))","v":{"$error":"#REF!"}}]
[41,"--","#98","Mike Curb",51,-261,8,0,0,0,{"$f":"IF(ISNA(VLOOKUP(VALUE(RIGHT(C43,LEN(C43)-1)),'Entry List'!$B$2:$B$105,2,FALSE)),\"Not Entered\", VLOOKUP(VALUE(RIGHT(C43,LEN(C43)-1)),'Entry List'!$B$2:$B$105,2,FALSE))","v":"Not Entered"}]
[42,"--","#87","Andrea Nemechek",35,-277,6,0,0,0,{"$f":"IF(ISNA(VLOOKUP(VALUE(RIGHT(C44,LEN(C44)-1)),'Entry List'!$B$2:$B$105,2,FALSE)),\"Not Entered\", VLOOKUP(VALUE(RIGHT(C44,LEN(C44)-1)),'Entry List'!$B$2:$B$105,2,FALSE))","v":"Not Entered"}]
[43,"--","#132","Frank Stoddard, Jr",27,-285,1,0,0,0,{"$f":"IF(ISNA(VLOOKUP(VALUE(RIGHT(C45,LEN(C45)-1)),'Entry List'!$B$2:$B$105,2,FALSE)),\"Not Entered\", VLOOKUP(VALUE(RIGHT(C45,LEN(C45)-1)),'Entry List'!$B$2:$B$105,2,FALSE))","v":"Not Entered"}]
[44,"--","#12","Roger Penske",26,-286,1,0,0,0,{"$f":"IF(ISNA(VLOOKUP(VALUE(RIGHT(C46,LEN(C46)-1)),'Entry List'!$B$2:$B$105,2,FALSE)),\"Not Entered\", VLOOKUP(VALUE(RIGHT(C46,LEN(C46)-1)),'Entry List'!$B$2:$B$105,2,FALSE))","v":{"$error":"#REF!"}}]
[45,-1,"#23","Robert Richardson",13,-299,6,0,0,0,{"$f":"IF(ISNA(VLOOKUP(VALUE(RIGHT(C47,LEN(C47)-1)),'Entry List'!$B$2:$B$105,2,FALSE)),\"Not Entered\", VLOOKUP(VALUE(RIGHT(C47,LEN(C47)-1)),'Entry List'!$B$2:$B$105,2,FALSE))","v":{"$error":"#REF!"}}]
[46,-1,"#119","Randy Humphrey",10,-302,3,0,0,0,{"$f":"IF(ISNA(VLOOKUP(VALUE(RIGHT(C48,LEN(C48)-1)),'Entry List'!$B$2:$B$105,2,FALSE)),\"Not Entered\", VLOOKUP(VALUE(RIGHT(C48,LEN(C48)-1)),'Entry List'!$B$2:$B$105,2,FALSE))","v":"Not Entered"}]
[47,-1,"#7","Robby Gordon",6,-306,2,0,0,0,{"$f":"IF(ISNA(VLOOKUP(VALUE(RIGHT(C49,LEN(C49)-1)),'Entry List'!$B$2:$B$105,2,FALSE)),\"Not Entered\", VLOOKUP(VALUE(RIGHT(C49,LEN(C49)-1)),'Entry List'!$B$2:$B$105,2,FALSE))","v":{"$error":"#REF!"}}]
[48,-1,"#74","Vickie Compton",5,-307,3,0,0,0,{"$f":"IF(ISNA(VLOOKUP(VALUE(RIGHT(C50,LEN(C50)-1)),'Entry List'!$B$2:$B$105,2,FALSE)),\"Not Entered\", VLOOKUP(VALUE(RIGHT(C50,LEN(C50)-1)),'Entry List'!$B$2:$B$105,2,FALSE))","v":"Not Entered"}]
[49,-1,"#37","Larry Gunselman",2,-310,1,0,0,0,{"$f":"IF(ISNA(VLOOKUP(VALUE(RIGHT(C51,LEN(C51)-1)),'Entry List'!$B$2:$B$105,2,FALSE)),\"Not Entered\", VLOOKUP(VALUE(RIGHT(C51,LEN(C51)-1)),'Entry List'!$B$2:$B$105,2,FALSE))","v":{"$error":"#REF!"}}]
[50,-1,"#195","Bob Leavine",1,-311,1,0,0,0,{"$f":"IF(ISNA(VLOOKUP(VALUE(RIGHT(C52,LEN(C52)-1)),'Entry List'!$B$2:$B$105,2,FALSE)),\"Not Entered\", VLOOKUP(VALUE(RIGHT(C52,LEN(C52)-1)),'Entry List'!$B$2:$B$105,2,FALSE))","v":"Not Entered"}]
[51,-1,"#140","Michael Hillman",0,-312,0,0,0,0,{"$f":"IF(ISNA(VLOOKUP(VALUE(RIGHT(C57,LEN(C57)-1)),'Entry List'!$B$2:$B$105,2,FALSE)),\"Not Entered\", VLOOKUP(VALUE(RIGHT(C57,LEN(C57)-1)),'Entry List'!$B$2:$B$105,2,FALSE))","v":"Not Entered"}]
[52,-1,"#52","Kelly Owen",0,-312,0,0,0,0]
[53,"--","#179","Archie St Hilaire",0,-312,0,0,0,0]
[54,-2,"#97","Andrea Nemechek",0,-312,0,0,0,0]
[55,-2,"#109","Brack Maggard",0,-312,0,0,0,0]
[]
[]
[]
[]
[]
[]
[]
[]
[]
[]
[]
[]
[]
[]
[]
[]
[]
[]
[]
[]
[]
[]
[]
[]
[]
[]
[]
[]
[]
[]
["00",{"$f":"IF(ISNA(MATCH(\"#\"&A88,'Current Owner Standings (2)'!$C$3:$C$87,0)),99,MATCH(\"#\"&A88,'Current Owner Standings (2)'!$C$3:$C$87,0))","v":99},null,{"$f":"IF(ISNA(MATCH(\"#\"&C88,'Current Owner Standings (2)'!$C$2:$C$187,0)),99,MATCH(\"#\"&C88,'Current Owner Standings (2)'!$C$2:$C$187,0))","v":99}]
["01",{"$f":"IF(ISNA(MATCH(\"#\"&A89,'Current Owner Standings (2)'!$C$3:$C$87,0)),99,MATCH(\"#\"&A89,'Current Owner Standings (2)'!$C$3:$C$87,0))","v":99}]
["02",{"$f":"IF(ISNA(MATCH(\"#\"&A90,'Current Owner Standings (2)'!$C$3:$C$87,0)),99,MATCH(\"#\"&A90,'Current Owner Standings (2)'!$C$3:$C$87,0))","v":99}]
["03",{"$f":"IF(ISNA(MATCH(\"#\"&A91,'Current Owner Standings (2)'!$C$3:$C$87,0)),99,MATCH(\"#\"&A91,'Current Owner Standings (2)'!$C$3:$C$87,0))","v":99}]
["04",{"$f":"IF(ISNA(MATCH(\"#\"&A92,'Current Owner Standings (2)'!$C$3:$C$87,0)),99,MATCH(\"#\"&A92,'Current Owner Standings (2)'!$C$3:$C$87,0))","v":99}]
["05",{"$f":"IF(ISNA(MATCH(\"#\"&A93,'Current Owner Standings (2)'!$C$3:$C$87,0)),99,MATCH(\"#\"&A93,'Current Owner Standings (2)'!$C$3:$C$87,0))","v":99}]
["06",{"$f":"IF(ISNA(MATCH(\"#\"&A94,'Current Owner Standings (2)'!$C$3:$C$87,0)),99,MATCH(\"#\"&A94,'Current Owner Standings (2)'!$C$3:$C$87,0))","v":99}]
["07",{"$f":"IF(ISNA(MATCH(\"#\"&A95,'Current Owner Standings (2)'!$C$3:$C$87,0)),99,MATCH(\"#\"&A95,'Current Owner Standings (2)'!$C$3:$C$87,0))","v":99}]
["08",{"$f":"IF(ISNA(MATCH(\"#\"&A96,'Current Owner Standings (2)'!$C$3:$C$87,0)),99,MATCH(\"#\"&A96,'Current Owner Standings (2)'!$C$3:$C$87,0))","v":99}]
["09",{"$f":"IF(ISNA(MATCH(\"#\"&A97,'Current Owner Standings (2)'!$C$3:$C$87,0)),99,MATCH(\"#\"&A97,'Current Owner Standings (2)'!$C$3:$C$87,0))","v":99}]
[1,{"$f":"IF(ISNA(MATCH(\"#\"&A98,'Current Owner Standings (2)'!$C$3:$C$87,0)),99,MATCH(\"#\"&A98,'Current Owner Standings (2)'!$C$3:$C$87,0))","v":20}]
[2,{"$f":"IF(ISNA(MATCH(\"#\"&A99,'Current Owner Standings (2)'!$C$3:$C$87,0)),99,MATCH(\"#\"&A99,'Current Owner Standings (2)'!$C$3:$C$87,0))","v":16}]
[3,{"$f":"IF(ISNA(MATCH(\"#\"&A100,'Current Owner Standings (2)'!$C$3:$C$87,0)),99,MATCH(\"#\"&A100,'Current Owner Standings (2)'!$C$3:$C$87,0))","v":99}]
[4,{"$f":"IF(ISNA(MATCH(\"#\"&A101,'Current Owner Standings (2)'!$C$3:$C$87,0)),99,MATCH(\"#\"&A101,'Current Owner Standings (2)'!$C$3:$C$87,0))","v":99}]
[5,{"$f":"IF(ISNA(MATCH(\"#\"&A102,'Current Owner Standings (2)'!$C$3:$C$87,0)),99,MATCH(\"#\"&A102,'Current Owner Standings (2)'!$C$3:$C$87,0))","v":26}]
[6,{"$f":"IF(ISNA(MATCH(\"#\"&A103,'Current Owner Standings (2)'!$C$3:$C$87,0)),99,MATCH(\"#\"&A103,'Current Owner Standings (2)'!$C$3:$C$87,0))","v":99}]
[7,{"$f":"IF(ISNA(MATCH(\"#\"&A104,'Current Owner Standings (2)'!$C$3:$C$87,0)),99,MATCH(\"#\"&A104,'Current Owner Standings (2)'!$C$3:$C$87,0))","v":47}]
[8,{"$f":"IF(ISNA(MATCH(\"#\"&A105,'Current Owner Standings (2)'!$C$3:$C$87,0)),99,MATCH(\"#\"&A105,'Current Owner Standings (2)'!$C$3:$C$87,0))","v":99}]
[9,{"$f":"IF(ISNA(MATCH(\"#\"&A106,'Current Owner Standings (2)'!$C$3:$C$87,0)),99,MATCH(\"#\"&A106,'Current Owner Standings (2)'!$C$3:$C$87,0))","v":22}]
[10,{"$f":"IF(ISNA(MATCH(\"#\"&A107,'Current Owner Standings (2)'!$C$3:$C$87,0)),99,MATCH(\"#\"&A107,'Current Owner Standings (2)'!$C$3:$C$87,0))","v":34}]
[11,{"$f":"IF(ISNA(MATCH(\"#\"&A108,'Current Owner Standings (2)'!$C$3:$C$87,0)),99,MATCH(\"#\"&A108,'Current Owner Standings (2)'!$C$3:$C$87,0))","v":5}]
[12,{"$f":"IF(ISNA(MATCH(\"#\"&A109,'Current Owner Standings (2)'!$C$3:$C$87,0)),99,MATCH(\"#\"&A109,'Current Owner Standings (2)'!$C$3:$C$87,0))","v":44}]
[13,{"$f":"IF(ISNA(MATCH(\"#\"&A110,'Current Owner Standings (2)'!$C$3:$C$87,0)),99,MATCH(\"#\"&A110,'Current Owner Standings (2)'!$C$3:$C$87,0))","v":28}]
[14,{"$f":"IF(ISNA(MATCH(\"#\"&A111,'Current Owner Standings (2)'!$C$3:$C$87,0)),99,MATCH(\"#\"&A111,'Current Owner Standings (2)'!$C$3:$C$87,0))","v":8}]
[15,{"$f":"IF(ISNA(MATCH(\"#\"&A112,'Current Owner Standings (2)'!$C$3:$C$87,0)),99,MATCH(\"#\"&A112,'Current Owner Standings (2)'!$C$3:$C$87,0))","v":12}]
[16,{"$f":"IF(ISNA(MATCH(\"#\"&A113,'Current Owner Standings (2)'!$C$3:$C$87,0)),99,MATCH(\"#\"&A113,'Current Owner Standings (2)'!$C$3:$C$87,0))","v":1}]
[17,{"$f":"IF(ISNA(MATCH(\"#\"&A114,'Current Owner Standings (2)'!$C$3:$C$87,0)),99,MATCH(\"#\"&A114,'Current Owner Standings (2)'!$C$3:$C$87,0))","v":3}]
[18,{"$f":"IF(ISNA(MATCH(\"#\"&A115,'Current Owner Standings (2)'!$C$3:$C$87,0)),99,MATCH(\"#\"&A115,'Current Owner Standings (2)'!$C$3:$C$87,0))","v":14}]
[19,{"$f":"IF(ISNA(MATCH(\"#\"&A116,'Current Owner Standings (2)'!$C$3:$C$87,0)),99,MATCH(\"#\"&A116,'Current Owner Standings (2)'!$C$3:$C$87,0))","v":99}]
[20,{"$f":"IF(ISNA(MATCH(\"#\"&A117,'Current Owner Standings (2)'!$C$3:$C$87,0)),99,MATCH(\"#\"&A117,'Current Owner Standings (2)'!$C$3:$C$87,0))","v":13}]
[21,{"$f":"IF(ISNA(MATCH(\"#\"&A118,'Current Owner Standings (2)'!$C$3:$C$87,0)),99,MATCH(\"#\"&A118,'Current Owner Standings (2)'!$C$3:$C$87,0))","v":39}]
[22,{"$f":"IF(ISNA(MATCH(\"#\"&A119,'Current Owner Standings (2)'!$C$3:$C$87,0)),99,MATCH(\"#\"&A119,'Current Owner Standings (2)'!$C$3:$C$87,0))","v":24}]
[23,{"$f":"IF(ISNA(MATCH(\"#\"&A120,'Current Owner Standings (2)'!$C$3:$C$87,0)),99,MATCH(\"#\"&A120,'Current Owner Standings (2)'!$C$3:$C$87,0))","v":45}]
[24,{"$f":"IF(ISNA(MATCH(\"#\"&A121,'Current Owner Standings (2)'!$C$3:$C$87,0)),99,MATCH(\"#\"&A121,'Current Owner Standings (2)'!$C$3:$C$87,0))","v":19}]
[25,{"$f":"IF(ISNA(MATCH(\"#\"&A122,'Current Owner Standings (2)'!$C$3:$C$87,0)),99,MATCH(\"#\"&A122,'Current Owner Standings (2)'!$C$3:$C$87,0))","v":99}]
[26,{"$f":"IF(ISNA(MATCH(\"#\"&A123,'Current Owner Standings (2)'!$C$3:$C$87,0)),99,MATCH(\"#\"&A123,'Current Owner Standings (2)'!$C$3:$C$87,0))","v":40}]
[27,{"$f":"IF(ISNA(MATCH(\"#\"&A124,'Current Owner Standings (2)'!$C$3:$C$87,0)),99,MATCH(\"#\"&A124,'Current Owner Standings (2)'!$C$3:$C$87,0))","v":15}]
[28,{"$f":"IF(ISNA(MATCH(\"#\"&A125,'Current Owner Standings (2)'!$C$3:$C$87,0)),99,MATCH(\"#\"&A125,'Current Owner Standings (2)'!$C$3:$C$87,0))","v":99}]
[29,{"$f":"IF(ISNA(MATCH(\"#\"&A126,'Current Owner Standings (2)'!$C$3:$C$87,0)),99,MATCH(\"#\"&A126,'Current Owner Standings (2)'!$C$3:$C$87,0))","v":6}]
[30,{"$f":"IF(ISNA(MATCH(\"#\"&A127,'Current Owner Standings (2)'!$C$3:$C$87,0)),99,MATCH(\"#\"&A127,'Current Owner Standings (2)'!$C$3:$C$87,0))","v":38}]
[31,{"$f":"IF(ISNA(MATCH(\"#\"&A128,'Current Owner Standings (2)'!$C$3:$C$87,0)),99,MATCH(\"#\"&A128,'Current Owner Standings (2)'!$C$3:$C$87,0))","v":18}]
[32,{"$f":"IF(ISNA(MATCH(\"#\"&A129,'Current Owner Standings (2)'!$C$3:$C$87,0)),99,MATCH(\"#\"&A129,'Current Owner Standings (2)'!$C$3:$C$87,0))","v":32}]
[33,{"$f":"IF(ISNA(MATCH(\"#\"&A130,'Current Owner Standings (2)'!$C$3:$C$87,0)),99,MATCH(\"#\"&A130,'Current Owner Standings (2)'!$C$3:$C$87,0))","v":36}]
[34,{"$f":"IF(ISNA(MATCH(\"#\"&A131,'Current Owner Standings (2)'!$C$3:$C$87,0)),99,MATCH(\"#\"&A131,'Current Owner Standings (2)'!$C$3:$C$87,0))","v":30}]
[35,{"$f":"IF(ISNA(MATCH(\"#\"&A132,'Current Owner Standings (2)'!$C$3:$C$87,0)),99,MATCH(\"#\"&A132,'Current Owner Standings (2)'!$C$3:$C$87,0))","v":99}]
[36,{"$f":"IF(ISNA(MATCH(\"#\"&A133,'Current Owner Standings (2)'!$C$3:$C$87,0)),99,MATCH(\"#\"&A133,'Current Owner Standings (2)'!$C$3:$C$87,0))","v":33}]
[37,{"$f":"IF(ISNA(MATCH(\"#\"&A134,'Current Owner Standings (2)'!$C$3:$C$87,0)),99,MATCH(\"#\"&A134,'Current Owner Standings (2)'!$C$3:$C$87,0))","v":49}]
[38,{"$f":"IF(ISNA(MATCH(\"#\"&A135,'Current Owner Standings (2)'!$C$3:$C$87,0)),99,MATCH(\"#\"&A135,'Current Owner Standings (2)'!$C$3:$C$87,0))","v":29}]
[39,{"$f":"IF(ISNA(MATCH(\"#\"&A136,'Current Owner Standings (2)'!$C$3:$C$87,0)),99,MATCH(\"#\"&A136,'Current Owner Standings (2)'!$C$3:$C$87,0))","v":10}]
[40,{"$f":"IF(ISNA(MATCH(\"#\"&A137,'Current Owner Standings (2)'!$C$3:$C$87,0)),99,MATCH(\"#\"&A137,'Current Owner Standings (2)'!$C$3:$C$87,0))","v":99}]
[41,{"$f":"IF(ISNA(MATCH(\"#\"&A138,'Current Owner Standings (2)'!$C$3:$C$87,0)),99,MATCH(\"#\"&A138,'Current Owner Standings (2)'!$C$3:$C$87,0))","v":99}]
[42,{"$f":"IF(ISNA(MATCH(\"#\"&A139,'Current Owner Standings (2)'!$C$3:$C$87,0)),99,MATCH(\"#\"&A139,'Current Owner Standings (2)'!$C$3:$C$87,0))","v":17}]
[43,{"$f":"IF(ISNA(MATCH(\"#\"&A140,'Current Owner Standings (2)'!$C$3:$C$87,0)),99,MATCH(\"#\"&A140,'Current Owner Standings (2)'!$C$3:$C$87,0))","v":21}]
[44,{"$f":"IF(ISNA(MATCH(\"#\"&A141,'Current Owner Standings (2)'!$C$3:$C$87,0)),99,MATCH(\"#\"&A141,'Current Owner Standings (2)'!$C$3:$C$87,0))","v":99}]
[45,{"$f":"IF(ISNA(MATCH(\"#\"&A142,'Current Owner Standings (2)'!$C$3:$C$87,0)),99,MATCH(\"#\"&A142,'Current Owner Standings (2)'!$C$3:$C$87,0))","v":99}]
[46,{"$f":"IF(ISNA(MATCH(\"#\"&A143,'Current Owner Standings (2)'!$C$3:$C$87,0)),99,MATCH(\"#\"&A143,'Current Owner Standings (2)'!$C$3:$C$87,0))","v":99}]
[47,{"$f":"IF(ISNA(MATCH(\"#\"&A144,'Current Owner Standings (2)'!$C$3:$C$87,0)),99,MATCH(\"#\"&A144,'Current Owner Standings (2)'!$C$3:$C$87,0))","v":27}]
[48,{"$f":"IF(ISNA(MATCH(\"#\"&A145,'Current Owner Standings (2)'!$C$3:$C$87,0)),99,MATCH(\"#\"&A145,'Current Owner Standings (2)'!$C$3:$C$87,0))","v":7}]
[49,{"$f":"IF(ISNA(MATCH(\"#\"&A146,'Current Owner Standings (2)'!$C$3:$C$87,0)),99,MATCH(\"#\"&A146,'Current Owner Standings (2)'!$C$3:$C$87,0))","v":99}]
[50,{"$f":"IF(ISNA(MATCH(\"#\"&A147,'Current Owner Standings (2)'!$C$3:$C$87,0)),99,MATCH(\"#\"&A147,'Current Owner Standings (2)'!$C$3:$C$87,0))","v":99}]
[51,{"$f":"IF(ISNA(MATCH(\"#\"&A148,'Current Owner Standings (2)'!$C$3:$C$87,0)),99,MATCH(\"#\"&A148,'Current Owner Standings (2)'!$C$3:$C$87,0))","v":25}]
[52,{"$f":"IF(ISNA(MATCH(\"#\"&A149,'Current Owner Standings (2)'!$C$3:$C$87,0)),99,MATCH(\"#\"&A149,'Current Owner Standings (2)'!$C$3:$C$87,0))","v":52}]
[53,{"$f":"IF(ISNA(MATCH(\"#\"&A150,'Current Owner Standings (2)'!$C$3:$C$87,0)),99,MATCH(\"#\"&A150,'Current Owner Standings (2)'!$C$3:$C$87,0))","v":99}]
[54,{"$f":"IF(ISNA(MATCH(\"#\"&A151,'Current Owner Standings (2)'!$C$3:$C$87,0)),99,MATCH(\"#\"&A151,'Current Owner Standings (2)'!$C$3:$C$87,0))","v":99}]
[55,{"$f":"IF(ISNA(MATCH(\"#\"&A152,'Current Owner Standings (2)'!$C$3:$C$87,0)),99,MATCH(\"#\"&A152,'Current Owner Standings (2)'!$C$3:$C$87,0))","v":11}]
[56,{"$f":"IF(ISNA(MATCH(\"#\"&A153,'Current Owner Standings (2)'!$C$3:$C$87,0)),99,MATCH(\"#\"&A153,'Current Owner Standings (2)'!$C$3:$C$87,0))","v":2}]
[57,{"$f":"IF(ISNA(MATCH(\"#\"&A154,'Current Owner Standings (2)'!$C$3:$C$87,0)),99,MATCH(\"#\"&A154,'Current Owner Standings (2)'!$C$3:$C$87,0))","v":99}]
[58,{"$f":"IF(ISNA(MATCH(\"#\"&A155,'Current Owner Standings (2)'!$C$3:$C$87,0)),99,MATCH(\"#\"&A155,'Current Owner Standings (2)'!$C$3:$C$87,0))","v":99}]
[59,{"$f":"IF(ISNA(MATCH(\"#\"&A156,'Current Owner Standings (2)'!$C$3:$C$87,0)),99,MATCH(\"#\"&A156,'Current Owner Standings (2)'!$C$3:$C$87,0))","v":99}]
[60,{"$f":"IF(ISNA(MATCH(\"#\"&A157,'Current Owner Standings (2)'!$C$3:$C$87,0)),99,MATCH(\"#\"&A157,'Current Owner Standings (2)'!$C$3:$C$87,0))","v":99}]
[61,{"$f":"IF(ISNA(MATCH(\"#\"&A158,'Current Owner Standings (2)'!$C$3:$C$87,0)),99,MATCH(\"#\"&A158,'Current Owner Standings (2)'!$C$3:$C$87,0))","v":99}]
[62,{"$f":"IF(ISNA(MATCH(\"#\"&A159,'Current Owner Standings (2)'!$C$3:$C$87,0)),99,MATCH(\"#\"&A159,'Current Owner Standings (2)'!$C$3:$C$87,0))","v":99}]
[63,{"$f":"IF(ISNA(MATCH(\"#\"&A160,'Current Owner Standings (2)'!$C$3:$C$87,0)),99,MATCH(\"#\"&A160,'Current Owner Standings (2)'!$C$3:$C$87,0))","v":99}]
[64,{"$f":"IF(ISNA(MATCH(\"#\"&A161,'Current Owner Standings (2)'!$C$3:$C$87,0)),99,MATCH(\"#\"&A161,'Current Owner Standings (2)'!$C$3:$C$87,0))","v":99}]
[65,{"$f":"IF(ISNA(MATCH(\"#\"&A162,'Current Owner Standings (2)'!$C$3:$C$87,0)),99,MATCH(\"#\"&A162,'Current Owner Standings (2)'!$C$3:$C$87,0))","v":99}]
[66,{"$f":"IF(ISNA(MATCH(\"#\"&A163,'Current Owner Standings (2)'!$C$3:$C$87,0)),99,MATCH(\"#\"&A163,'Current Owner Standings (2)'!$C$3:$C$87,0))","v":99}]
[67,{"$f":"IF(ISNA(MATCH(\"#\"&A164,'Current Owner Standings (2)'!$C$3:$C$87,0)),99,MATCH(\"#\"&A164,'Current Owner Standings (2)'!$C$3:$C$87,0))","v":99}]
[68,{"$f":"IF(ISNA(MATCH(\"#\"&A165,'Current Owner Standings (2)'!$C$3:$C$87,0)),99,MATCH(\"#\"&A165,'Current Owner Standings (2)'!$C$3:$C$87,0))","v":99}]
[69,{"$f":"IF(ISNA(MATCH(\"#\"&A166,'Current Owner Standings (2)'!$C$3:$C$87,0)),99,MATCH(\"#\"&A166,'Current Owner Standings (2)'!$C$3:$C$87,0))","v":99}]
[70,{"$f":"IF(ISNA(MATCH(\"#\"&A167,'Current Owner Standings (2)'!$C$3:$C$87,0)),99,MATCH(\"#\"&A167,'Current Owner Standings (2)'!$C$3:$C$87,0))","v":99}]
[71,{"$f":"IF(ISNA(MATCH(\"#\"&A168,'Current Owner Standings (2)'!$C$3:$C$87,0)),99,MATCH(\"#\"&A168,'Current Owner Standings (2)'!$C$3:$C$87,0))","v":99}]
[72,{"$f":"IF(ISNA(MATCH(\"#\"&A169,'Current Owner Standings (2)'!$C$3:$C$87,0)),99,MATCH(\"#\"&A169,'Current Owner Standings (2)'!$C$3:$C$87,0))","v":99}]
[73,{"$f":"IF(ISNA(MATCH(\"#\"&A170,'Current Owner Standings (2)'!$C$3:$C$87,0)),99,MATCH(\"#\"&A170,'Current Owner Standings (2)'!$C$3:$C$87,0))","v":99}]
[74,{"$f":"IF(ISNA(MATCH(\"#\"&A171,'Current Owner Standings (2)'!$C$3:$C$87,0)),99,MATCH(\"#\"&A171,'Current Owner Standings (2)'!$C$3:$C$87,0))","v":48}]
[75,{"$f":"IF(ISNA(MATCH(\"#\"&A172,'Current Owner Standings (2)'!$C$3:$C$87,0)),99,MATCH(\"#\"&A172,'Current Owner Standings (2)'!$C$3:$C$87,0))","v":99}]
[76,{"$f":"IF(ISNA(MATCH(\"#\"&A173,'Current Owner Standings (2)'!$C$3:$C$87,0)),99,MATCH(\"#\"&A173,'Current Owner Standings (2)'!$C$3:$C$87,0))","v":99}]
[77,{"$f":"IF(ISNA(MATCH(\"#\"&A174,'Current Owner Standings (2)'!$C$3:$C$87,0)),99,MATCH(\"#\"&A174,'Current Owner Standings (2)'!$C$3:$C$87,0))","v":99}]
[78,{"$f":"IF(ISNA(MATCH(\"#\"&A175,'Current Owner Standings (2)'!$C$3:$C$87,0)),99,MATCH(\"#\"&A175,'Current Owner Standings (2)'!$C$3:$C$87,0))","v":23}]
[79,{"$f":"IF(ISNA(MATCH(\"#\"&A176,'Current Owner Standings (2)'!$C$3:$C$87,0)),99,MATCH(\"#\"&A176,'Current Owner Standings (2)'!$C$3:$C$87,0))","v":99}]
[80,{"$f":"IF(ISNA(MATCH(\"#\"&A177,'Current Owner Standings (2)'!$C$3:$C$87,0)),99,MATCH(\"#\"&A177,'Current Owner Standings (2)'!$C$3:$C$87,0))","v":99}]
[81,{"$f":"IF(ISNA(MATCH(\"#\"&A178,'Current Owner Standings (2)'!$C$3:$C$87,0)),99,MATCH(\"#\"&A178,'Current Owner Standings (2)'!$C$3:$C$87,0))","v":99}]
[82,{"$f":"IF(ISNA(MATCH(\"#\"&A179,'Current Owner Standings (2)'!$C$3:$C$87,0)),99,MATCH(\"#\"&A179,'Current Owner Standings (2)'!$C$3:$C$87,0))","v":99}]
[83,{"$f":"IF(ISNA(MATCH(\"#\"&A180,'Current Owner Standings (2)'!$C$3:$C$87,0)),99,MATCH(\"#\"&A180,'Current Owner Standings (2)'!$C$3:$C$87,0))","v":35}]
[84,{"$f":"IF(ISNA(MATCH(\"#\"&A181,'Current Owner Standings (2)'!$C$3:$C$87,0)),99,MATCH(\"#\"&A181,'Current Owner Standings (2)'!$C$3:$C$87,0))","v":99}]
[85,{"$f":"IF(ISNA(MATCH(\"#\"&A182,'Current Owner Standings (2)'!$C$3:$C$87,0)),99,MATCH(\"#\"&A182,'Current Owner Standings (2)'!$C$3:$C$87,0))","v":99}]
[86,{"$f":"IF(ISNA(MATCH(\"#\"&A183,'Current Owner Standings (2)'!$C$3:$C$87,0)),99,MATCH(\"#\"&A183,'Current Owner Standings (2)'!$C$3:$C$87,0))","v":99}]
[87,{"$f":"IF(ISNA(MATCH(\"#\"&A184,'Current Owner Standings (2)'!$C$3:$C$87,0)),99,MATCH(\"#\"&A184,'Current Owner Standings (2)'!$C$3:$C$87,0))","v":42}]
[88,{"$f":"IF(ISNA(MATCH(\"#\"&A185,'Current Owner Standings (2)'!$C$3:$C$87,0)),99,MATCH(\"#\"&A185,'Current Owner Standings (2)'!$C$3:$C$87,0))","v":4}]
[89,{"$f":"IF(ISNA(MATCH(\"#\"&A186,'Current Owner Standings (2)'!$C$3:$C$87,0)),99,MATCH(\"#\"&A186,'Current Owner Standings (2)'!$C$3:$C$87,0))","v":99}]
[90,{"$f":"IF(ISNA(MATCH(\"#\"&A187,'Current Owner Standings (2)'!$C$3:$C$87,0)),99,MATCH(\"#\"&A187,'Current Owner Standings (2)'!$C$3:$C$87,0))","v":99}]
[91,{"$f":"IF(ISNA(MATCH(\"#\"&A188,'Current Owner Standings (2)'!$C$3:$C$87,0)),99,MATCH(\"#\"&A188,'Current Owner Standings (2)'!$C$3:$C$87,0))","v":99}]
[92,{"$f":"IF(ISNA(MATCH(\"#\"&A189,'Current Owner Standings (2)'!$C$3:$C$87,0)),99,MATCH(\"#\"&A189,'Current Owner Standings (2)'!$C$3:$C$87,0))","v":99}]
[93,{"$f":"IF(ISNA(MATCH(\"#\"&A190,'Current Owner Standings (2)'!$C$3:$C$87,0)),99,MATCH(\"#\"&A190,'Current Owner Standings (2)'!$C$3:$C$87,0))","v":31}]
[94,{"$f":"IF(ISNA(MATCH(\"#\"&A191,'Current Owner Standings (2)'!$C$3:$C$87,0)),99,MATCH(\"#\"&A191,'Current Owner Standings (2)'!$C$3:$C$87,0))","v":99}]
[95,{"$f":"IF(ISNA(MATCH(\"#\"&A192,'Current Owner Standings (2)'!$C$3:$C$87,0)),99,MATCH(\"#\"&A192,'Current Owner Standings (2)'!$C$3:$C$87,0))","v":99}]
[96,{"$f":"IF(ISNA(MATCH(\"#\"&A193,'Current Owner Standings (2)'!$C$3:$C$87,0)),99,MATCH(\"#\"&A193,'Current Owner Standings (2)'!$C$3:$C$87,0))","v":99}]
[97,{"$f":"IF(ISNA(MATCH(\"#\"&A194,'Current Owner Standings (2)'!$C$3:$C$87,0)),99,MATCH(\"#\"&A194,'Current Owner Standings (2)'!$C$3:$C$87,0))","v":54}]
[98,{"$f":"IF(ISNA(MATCH(\"#\"&A195,'Current Owner Standings (2)'!$C$3:$C$87,0)),99,MATCH(\"#\"&A195,'Current Owner Standings (2)'!$C$3:$C$87,0))","v":41}]
[99,{"$f":"IF(ISNA(MATCH(\"#\"&A196,'Current Owner Standings (2)'!$C$3:$C$87,0)),99,MATCH(\"#\"&A196,'Current Owner Standings (2)'!$C$3:$C$87,0))","v":9}]
[100,{"$f":"IF(ISNA(MATCH(\"#\"&A197,'Current Owner Standings (2)'!$C$3:$C$87,0)),99,MATCH(\"#\"&A197,'Current Owner Standings (2)'!$C$3:$C$87,0))","v":99}]
[101,{"$f":"IF(ISNA(MATCH(\"#\"&A198,'Current Owner Standings (2)'!$C$3:$C$87,0)),99,MATCH(\"#\"&A198,'Current Owner Standings (2)'!$C$3:$C$87,0))","v":99}]
[102,{"$f":"IF(ISNA(MATCH(\"#\"&A199,'Current Owner Standings (2)'!$C$3:$C$87,0)),99,MATCH(\"#\"&A199,'Current Owner Standings (2)'!$C$3:$C$87,0))","v":99}]
[103,{"$f":"IF(ISNA(MATCH(\"#\"&A200,'Current Owner Standings (2)'!$C$3:$C$87,0)),99,MATCH(\"#\"&A200,'Current Owner Standings (2)'!$C$3:$C$87,0))","v":99}]
[104,{"$f":"IF(ISNA(MATCH(\"#\"&A201,'Current Owner Standings (2)'!$C$3:$C$87,0)),99,MATCH(\"#\"&A201,'Current Owner Standings (2)'!$C$3:$C$87,0))","v":99}]
[105,{"$f":"IF(ISNA(MATCH(\"#\"&A202,'Current Owner Standings (2)'!$C$3:$C$87,0)),99,MATCH(\"#\"&A202,'Current Owner Standings (2)'!$C$3:$C$87,0))","v":99}]
[106,{"$f":"IF(ISNA(MATCH(\"#\"&A203,'Current Owner Standings (2)'!$C$3:$C$87,0)),99,MATCH(\"#\"&A203,'Current Owner Standings (2)'!$C$3:$C$87,0))","v":99}]
[107,{"$f":"IF(ISNA(MATCH(\"#\"&A204,'Current Owner Standings (2)'!$C$3:$C$87,0)),99,MATCH(\"#\"&A204,'Current Owner Standings (2)'!$C$3:$C$87,0))","v":99}]
[108,{"$f":"IF(ISNA(MATCH(\"#\"&A205,'Current Owner Standings (2)'!$C$3:$C$87,0)),99,MATCH(\"#\"&A205,'Current Owner Standings (2)'!$C$3:$C$87,0))","v":99}]
[109,{"$f":"IF(ISNA(MATCH(\"#\"&A206,'Current Owner Standings (2)'!$C$3:$C$87,0)),99,MATCH(\"#\"&A206,'Current Owner Standings (2)'!$C$3:$C$87,0))","v":55}]
[110,{"$f":"IF(ISNA(MATCH(\"#\"&A207,'Current Owner Standings (2)'!$C$3:$C$87,0)),99,MATCH(\"#\"&A207,'Current Owner Standings (2)'!$C$3:$C$87,0))","v":99}]
[111,{"$f":"IF(ISNA(MATCH(\"#\"&A208,'Current Owner Standings (2)'!$C$3:$C$87,0)),99,MATCH(\"#\"&A208,'Current Owner Standings (2)'!$C$3:$C$87,0))","v":99}]
[112,{"$f":"IF(ISNA(MATCH(\"#\"&A209,'Current Owner Standings (2)'!$C$3:$C$87,0)),99,MATCH(\"#\"&A209,'Current Owner Standings (2)'!$C$3:$C$87,0))","v":99}]
[113,{"$f":"IF(ISNA(MATCH(\"#\"&A210,'Current Owner Standings (2)'!$C$3:$C$87,0)),99,MATCH(\"#\"&A210,'Current Owner Standings (2)'!$C$3:$C$87,0))","v":99}]
[114,{"$f":"IF(ISNA(MATCH(\"#\"&A211,'Current Owner Standings (2)'!$C$3:$C$87,0)),99,MATCH(\"#\"&A211,'Current Owner Standings (2)'!$C$3:$C$87,0))","v":99}]
[115,{"$f":"IF(ISNA(MATCH(\"#\"&A212,'Current Owner Standings (2)'!$C$3:$C$87,0)),99,MATCH(\"#\"&A212,'Current Owner Standings (2)'!$C$3:$C$87,0))","v":99}]
[116,{"$f":"IF(ISNA(MATCH(\"#\"&A213,'Current Owner Standings (2)'!$C$3:$C$87,0)),99,MATCH(\"#\"&A213,'Current Owner Standings (2)'!$C$3:$C$87,0))","v":99}]
[117,{"$f":"IF(ISNA(MATCH(\"#\"&A214,'Current Owner Standings (2)'!$C$3:$C$87,0)),99,MATCH(\"#\"&A214,'Current Owner Standings (2)'!$C$3:$C$87,0))","v":99}]
[118,{"$f":"IF(ISNA(MATCH(\"#\"&A215,'Current Owner Standings (2)'!$C$3:$C$87,0)),99,MATCH(\"#\"&A215,'Current Owner Standings (2)'!$C$3:$C$87,0))","v":99}]
[119,{"$f":"IF(ISNA(MATCH(\"#\"&A216,'Current Owner Standings (2)'!$C$3:$C$87,0)),99,MATCH(\"#\"&A216,'Current Owner Standings (2)'!$C$3:$C$87,0))","v":46}]
[120,{"$f":"IF(ISNA(MATCH(\"#\"&A217,'Current Owner Standings (2)'!$C$3:$C$87,0)),99,MATCH(\"#\"&A217,'Current Owner Standings (2)'!$C$3:$C$87,0))","v":99}]
[121,{"$f":"IF(ISNA(MATCH(\"#\"&A218,'Current Owner Standings (2)'!$C$3:$C$87,0)),99,MATCH(\"#\"&A218,'Current Owner Standings (2)'!$C$3:$C$87,0))","v":99}]
[122,{"$f":"IF(ISNA(MATCH(\"#\"&A219,'Current Owner Standings (2)'!$C$3:$C$87,0)),99,MATCH(\"#\"&A219,'Current Owner Standings (2)'!$C$3:$C$87,0))","v":99}]
[123,{"$f":"IF(ISNA(MATCH(\"#\"&A220,'Current Owner Standings (2)'!$C$3:$C$87,0)),99,MATCH(\"#\"&A220,'Current Owner Standings (2)'!$C$3:$C$87,0))","v":99}]
[124,{"$f":"IF(ISNA(MATCH(\"#\"&A221,'Current Owner Standings (2)'!$C$3:$C$87,0)),99,MATCH(\"#\"&A221,'Current Owner Standings (2)'!$C$3:$C$87,0))","v":99}]
[125,{"$f":"IF(ISNA(MATCH(\"#\"&A222,'Current Owner Standings (2)'!$C$3:$C$87,0)),99,MATCH(\"#\"&A222,'Current Owner Standings (2)'!$C$3:$C$87,0))","v":99}]
[126,{"$f":"IF(ISNA(MATCH(\"#\"&A223,'Current Owner Standings (2)'!$C$3:$C$87,0)),99,MATCH(\"#\"&A223,'Current Owner Standings (2)'!$C$3:$C$87,0))","v":99}]
[127,{"$f":"IF(ISNA(MATCH(\"#\"&A224,'Current Owner Standings (2)'!$C$3:$C$87,0)),99,MATCH(\"#\"&A224,'Current Owner Standings (2)'!$C$3:$C$87,0))","v":99}]
[128,{"$f":"IF(ISNA(MATCH(\"#\"&A225,'Current Owner Standings (2)'!$C$3:$C$87,0)),99,MATCH(\"#\"&A225,'Current Owner Standings (2)'!$C$3:$C$87,0))","v":99}]
[129,{"$f":"IF(ISNA(MATCH(\"#\"&A226,'Current Owner Standings (2)'!$C$3:$C$87,0)),99,MATCH(\"#\"&A226,'Current Owner Standings (2)'!$C$3:$C$87,0))","v":99}]
[130,{"$f":"IF(ISNA(MATCH(\"#\"&A227,'Current Owner Standings (2)'!$C$3:$C$87,0)),99,MATCH(\"#\"&A227,'Current Owner Standings (2)'!$C$3:$C$87,0))","v":99}]
[131,{"$f":"IF(ISNA(MATCH(\"#\"&A228,'Current Owner Standings (2)'!$C$3:$C$87,0)),99,MATCH(\"#\"&A228,'Current Owner Standings (2)'!$C$3:$C$87,0))","v":99}]
[132,{"$f":"IF(ISNA(MATCH(\"#\"&A229,'Current Owner Standings (2)'!$C$3:$C$87,0)),99,MATCH(\"#\"&A229,'Current Owner Standings (2)'!$C$3:$C$87,0))","v":43}]
[133,{"$f":"IF(ISNA(MATCH(\"#\"&A230,'Current Owner Standings (2)'!$C$3:$C$87,0)),99,MATCH(\"#\"&A230,'Current Owner Standings (2)'!$C$3:$C$87,0))","v":99}]
[134,{"$f":"IF(ISNA(MATCH(\"#\"&A231,'Current Owner Standings (2)'!$C$3:$C$87,0)),99,MATCH(\"#\"&A231,'Current Owner Standings (2)'!$C$3:$C$87,0))","v":99}]
[135,{"$f":"IF(ISNA(MATCH(\"#\"&A232,'Current Owner Standings (2)'!$C$3:$C$87,0)),99,MATCH(\"#\"&A232,'Current Owner Standings (2)'!$C$3:$C$87,0))","v":99}]
[136,{"$f":"IF(ISNA(MATCH(\"#\"&A233,'Current Owner Standings (2)'!$C$3:$C$87,0)),99,MATCH(\"#\"&A233,'Current Owner Standings (2)'!$C$3:$C$87,0))","v":99}]
[137,{"$f":"IF(ISNA(MATCH(\"#\"&A234,'Current Owner Standings (2)'!$C$3:$C$87,0)),99,MATCH(\"#\"&A234,'Current Owner Standings (2)'!$C$3:$C$87,0))","v":99}]
[138,{"$f":"IF(ISNA(MATCH(\"#\"&A235,'Current Owner Standings (2)'!$C$3:$C$87,0)),99,MATCH(\"#\"&A235,'Current Owner Standings (2)'!$C$3:$C$87,0))","v":99}]
[139,{"$f":"IF(ISNA(MATCH(\"#\"&A236,'Current Owner Standings (2)'!$C$3:$C$87,0)),99,MATCH(\"#\"&A236,'Current Owner Standings (2)'!$C$3:$C$87,0))","v":99}]
[140,{"$f":"IF(ISNA(MATCH(\"#\"&A237,'Current Owner Standings (2)'!$C$3:$C$87,0)),99,MATCH(\"#\"&A237,'Current Owner Standings (2)'!$C$3:$C$87,0))","v":51}]
[141,{"$f":"IF(ISNA(MATCH(\"#\"&A238,'Current Owner Standings (2)'!$C$3:$C$87,0)),99,MATCH(\"#\"&A238,'Current Owner Standings (2)'!$C$3:$C$87,0))","v":99}]
[142,{"$f":"IF(ISNA(MATCH(\"#\"&A239,'Current Owner Standings (2)'!$C$3:$C$87,0)),99,MATCH(\"#\"&A239,'Current Owner Standings (2)'!$C$3:$C$87,0))","v":99}]
[143,{"$f":"IF(ISNA(MATCH(\"#\"&A240,'Current Owner Standings (2)'!$C$3:$C$87,0)),99,MATCH(\"#\"&A240,'Current Owner Standings (2)'!$C$3:$C$87,0))","v":99}]
[144,{"$f":"IF(ISNA(MATCH(\"#\"&A241,'Current Owner Standings (2)'!$C$3:$C$87,0)),99,MATCH(\"#\"&A241,'Current Owner Standings (2)'!$C$3:$C$87,0))","v":99}]
[145,{"$f":"IF(ISNA(MATCH(\"#\"&A242,'Current Owner Standings (2)'!$C$3:$C$87,0)),99,MATCH(\"#\"&A242,'Current Owner Standings (2)'!$C$3:$C$87,0))","v":99}]
[146,{"$f":"IF(ISNA(MATCH(\"#\"&A243,'Current Owner Standings (2)'!$C$3:$C$87,0)),99,MATCH(\"#\"&A243,'Current Owner Standings (2)'!$C$3:$C$87,0))","v":99}]
[147,{"$f":"IF(ISNA(MATCH(\"#\"&A244,'Current Owner Standings (2)'!$C$3:$C$87,0)),99,MATCH(\"#\"&A244,'Current Owner Standings (2)'!$C$3:$C$87,0))","v":99}]
[148,{"$f":"IF(ISNA(MATCH(\"#\"&A245,'Current Owner Standings (2)'!$C$3:$C$87,0)),99,MATCH(\"#\"&A245,'Current Owner Standings (2)'!$C$3:$C$87,0))","v":99}]
[149,{"$f":"IF(ISNA(MATCH(\"#\"&A246,'Current Owner Standings (2)'!$C$3:$C$87,0)),99,MATCH(\"#\"&A246,'Current Owner Standings (2)'!$C$3:$C$87,0))","v":99}]
[150,{"$f":"IF(ISNA(MATCH(\"#\"&A247,'Current Owner Standings (2)'!$C$3:$C$87,0)),99,MATCH(\"#\"&A247,'Current Owner Standings (2)'!$C$3:$C$87,0))","v":99}]
[151,{"$f":"IF(ISNA(MATCH(\"#\"&A248,'Current Owner Standings (2)'!$C$3:$C$87,0)),99,MATCH(\"#\"&A248,'Current Owner Standings (2)'!$C$3:$C$87,0))","v":99}]
[152,{"$f":"IF(ISNA(MATCH(\"#\"&A249,'Current Owner Standings (2)'!$C$3:$C$87,0)),99,MATCH(\"#\"&A249,'Current Owner Standings (2)'!$C$3:$C$87,0))","v":99}]
[153,{"$f":"IF(ISNA(MATCH(\"#\"&A250,'Current Owner Standings (2)'!$C$3:$C$87,0)),99,MATCH(\"#\"&A250,'Current Owner Standings (2)'!$C$3:$C$87,0))","v":99}]
[154,{"$f":"IF(ISNA(MATCH(\"#\"&A251,'Current Owner Standings (2)'!$C$3:$C$87,0)),99,MATCH(\"#\"&A251,'Current Owner Standings (2)'!$C$3:$C$87,0))","v":99}]
[155,{"$f":"IF(ISNA(MATCH(\"#\"&A252,'Current Owner Standings (2)'!$C$3:$C$87,0)),99,MATCH(\"#\"&A252,'Current Owner Standings (2)'!$C$3:$C$87,0))","v":99}]
[156,{"$f":"IF(ISNA(MATCH(\"#\"&A253,'Current Owner Standings (2)'!$C$3:$C$87,0)),99,MATCH(\"#\"&A253,'Current Owner Standings (2)'!$C$3:$C$87,0))","v":99}]
[157,{"$f":"IF(ISNA(MATCH(\"#\"&A254,'Current Owner Standings (2)'!$C$3:$C$87,0)),99,MATCH(\"#\"&A254,'Current Owner Standings (2)'!$C$3:$C$87,0))","v":99}]
[158,{"$f":"IF(ISNA(MATCH(\"#\"&A255,'Current Owner Standings (2)'!$C$3:$C$87,0)),99,MATCH(\"#\"&A255,'Current Owner Standings (2)'!$C$3:$C$87,0))","v":99}]
[159,{"$f":"IF(ISNA(MATCH(\"#\"&A256,'Current Owner Standings (2)'!$C$3:$C$87,0)),99,MATCH(\"#\"&A256,'Current Owner Standings (2)'!$C$3:$C$87,0))","v":99}]
[160,{"$f":"IF(ISNA(MATCH(\"#\"&A257,'Current Owner Standings (2)'!$C$3:$C$87,0)),99,MATCH(\"#\"&A257,'Current Owner Standings (2)'!$C$3:$C$87,0))","v":99}]
[161,{"$f":"IF(ISNA(MATCH(\"#\"&A258,'Current Owner Standings (2)'!$C$3:$C$87,0)),99,MATCH(\"#\"&A258,'Current Owner Standings (2)'!$C$3:$C$87,0))","v":99}]
[162,{"$f":"IF(ISNA(MATCH(\"#\"&A259,'Current Owner Standings (2)'!$C$3:$C$87,0)),99,MATCH(\"#\"&A259,'Current Owner Standings (2)'!$C$3:$C$87,0))","v":99}]
[163,{"$f":"IF(ISNA(MATCH(\"#\"&A260,'Current Owner Standings (2)'!$C$3:$C$87,0)),99,MATCH(\"#\"&A260,'Current Owner Standings (2)'!$C$3:$C$87,0))","v":99}]
[164,{"$f":"IF(ISNA(MATCH(\"#\"&A261,'Current Owner Standings (2)'!$C$3:$C$87,0)),99,MATCH(\"#\"&A261,'Current Owner Standings (2)'!$C$3:$C$87,0))","v":99}]
[165,{"$f":"IF(ISNA(MATCH(\"#\"&A262,'Current Owner Standings (2)'!$C$3:$C$87,0)),99,MATCH(\"#\"&A262,'Current Owner Standings (2)'!$C$3:$C$87,0))","v":99}]
[166,{"$f":"IF(ISNA(MATCH(\"#\"&A263,'Current Owner Standings (2)'!$C$3:$C$87,0)),99,MATCH(\"#\"&A263,'Current Owner Standings (2)'!$C$3:$C$87,0))","v":99}]
[167,{"$f":"IF(ISNA(MATCH(\"#\"&A264,'Current Owner Standings (2)'!$C$3:$C$87,0)),99,MATCH(\"#\"&A264,'Current Owner Standings (2)'!$C$3:$C$87,0))","v":99}]
[168,{"$f":"IF(ISNA(MATCH(\"#\"&A265,'Current Owner Standings (2)'!$C$3:$C$87,0)),99,MATCH(\"#\"&A265,'Current Owner Standings (2)'!$C$3:$C$87,0))","v":99}]
[169,{"$f":"IF(ISNA(MATCH(\"#\"&A266,'Current Owner Standings (2)'!$C$3:$C$87,0)),99,MATCH(\"#\"&A266,'Current Owner Standings (2)'!$C$3:$C$87,0))","v":99}]
[170,{"$f":"IF(ISNA(MATCH(\"#\"&A267,'Current Owner Standings (2)'!$C$3:$C$87,0)),99,MATCH(\"#\"&A267,'Current Owner Standings (2)'!$C$3:$C$87,0))","v":99}]
[171,{"$f":"IF(ISNA(MATCH(\"#\"&A268,'Current Owner Standings (2)'!$C$3:$C$87,0)),99,MATCH(\"#\"&A268,'Current Owner Standings (2)'!$C$3:$C$87,0))","v":99}]
[172,{"$f":"IF(ISNA(MATCH(\"#\"&A269,'Current Owner Standings (2)'!$C$3:$C$87,0)),99,MATCH(\"#\"&A269,'Current Owner Standings (2)'!$C$3:$C$87,0))","v":99}]
[173,{"$f":"IF(ISNA(MATCH(\"#\"&A270,'Current Owner Standings (2)'!$C$3:$C$87,0)),99,MATCH(\"#\"&A270,'Current Owner Standings (2)'!$C$3:$C$87,0))","v":99}]
[174,{"$f":"IF(ISNA(MATCH(\"#\"&A271,'Current Owner Standings (2)'!$C$3:$C$87,0)),99,MATCH(\"#\"&A271,'Current Owner Standings (2)'!$C$3:$C$87,0))","v":99}]
[175,{"$f":"IF(ISNA(MATCH(\"#\"&A272,'Current Owner Standings (2)'!$C$3:$C$87,0)),99,MATCH(\"#\"&A272,'Current Owner Standings (2)'!$C$3:$C$87,0))","v":99}]
[176,{"$f":"IF(ISNA(MATCH(\"#\"&A273,'Current Owner Standings (2)'!$C$3:$C$87,0)),99,MATCH(\"#\"&A273,'Current Owner Standings (2)'!$C$3:$C$87,0))","v":99}]
[177,{"$f":"IF(ISNA(MATCH(\"#\"&A274,'Current Owner Standings (2)'!$C$3:$C$87,0)),99,MATCH(\"#\"&A274,'Current Owner Standings (2)'!$C$3:$C$87,0))","v":99}]
[178,{"$f":"IF(ISNA(MATCH(\"#\"&A275,'Current Owner Standings (2)'!$C$3:$C$87,0)),99,MATCH(\"#\"&A275,'Current Owner Standings (2)'!$C$3:$C$87,0))","v":99}]
[179,{"$f":"IF(ISNA(MATCH(\"#\"&A276,'Current Owner Standings (2)'!$C$3:$C$87,0)),99,MATCH(\"#\"&A276,'Current Owner Standings (2)'!$C$3:$C$87,0))","v":53}]
[180,{"$f":"IF(ISNA(MATCH(\"#\"&A277,'Current Owner Standings (2)'!$C$3:$C$87,0)),99,MATCH(\"#\"&A277,'Current Owner Standings (2)'!$C$3:$C$87,0))","v":99}]
[181,{"$f":"IF(ISNA(MATCH(\"#\"&A278,'Current Owner Standings (2)'!$C$3:$C$87,0)),99,MATCH(\"#\"&A278,'Current Owner Standings (2)'!$C$3:$C$87,0))","v":99}]
[182,{"$f":"IF(ISNA(MATCH(\"#\"&A279,'Current Owner Standings (2)'!$C$3:$C$87,0)),99,MATCH(\"#\"&A279,'Current Owner Standings (2)'!$C$3:$C$87,0))","v":99}]
[183,{"$f":"IF(ISNA(MATCH(\"#\"&A280,'Current Owner Standings (2)'!$C$3:$C$87,0)),99,MATCH(\"#\"&A280,'Current Owner Standings (2)'!$C$3:$C$87,0))","v":99}]
[184,{"$f":"IF(ISNA(MATCH(\"#\"&A281,'Current Owner Standings (2)'!$C$3:$C$87,0)),99,MATCH(\"#\"&A281,'Current Owner Standings (2)'!$C$3:$C$87,0))","v":99}]
[185,{"$f":"IF(ISNA(MATCH(\"#\"&A282,'Current Owner Standings (2)'!$C$3:$C$87,0)),99,MATCH(\"#\"&A282,'Current Owner Standings (2)'!$C$3:$C$87,0))","v":99}]
[186,{"$f":"IF(ISNA(MATCH(\"#\"&A283,'Current Owner Standings (2)'!$C$3:$C$87,0)),99,MATCH(\"#\"&A283,'Current Owner Standings (2)'!$C$3:$C$87,0))","v":99}]
[187,{"$f":"IF(ISNA(MATCH(\"#\"&A284,'Current Owner Standings (2)'!$C$3:$C$87,0)),99,MATCH(\"#\"&A284,'Current Owner Standings (2)'!$C$3:$C$87,0))","v":99}]
[188,{"$f":"IF(ISNA(MATCH(\"#\"&A285,'Current Owner Standings (2)'!$C$3:$C$87,0)),99,MATCH(\"#\"&A285,'Current Owner Standings (2)'!$C$3:$C$87,0))","v":99}]
[189,{"$f":"IF(ISNA(MATCH(\"#\"&A286,'Current Owner Standings (2)'!$C$3:$C$87,0)),99,MATCH(\"#\"&A286,'Current Owner Standings (2)'!$C$3:$C$87,0))","v":99}]
[190,{"$f":"IF(ISNA(MATCH(\"#\"&A287,'Current Owner Standings (2)'!$C$3:$C$87,0)),99,MATCH(\"#\"&A287,'Current Owner Standings (2)'!$C$3:$C$87,0))","v":99}]
[191,{"$f":"IF(ISNA(MATCH(\"#\"&A288,'Current Owner Standings (2)'!$C$3:$C$87,0)),99,MATCH(\"#\"&A288,'Current Owner Standings (2)'!$C$3:$C$87,0))","v":99}]
[192,{"$f":"IF(ISNA(MATCH(\"#\"&A289,'Current Owner Standings (2)'!$C$3:$C$87,0)),99,MATCH(\"#\"&A289,'Current Owner Standings (2)'!$C$3:$C$87,0))","v":99}]
[193,{"$f":"IF(ISNA(MATCH(\"#\"&A290,'Current Owner Standings (2)'!$C$3:$C$87,0)),99,MATCH(\"#\"&A290,'Current Owner Standings (2)'!$C$3:$C$87,0))","v":99}]
[194,{"$f":"IF(ISNA(MATCH(\"#\"&A291,'Current Owner Standings (2)'!$C$3:$C$87,0)),99,MATCH(\"#\"&A291,'Current Owner Standings (2)'!$C$3:$C$87,0))","v":99}]
[195,{"$f":"IF(ISNA(MATCH(\"#\"&A292,'Current Owner Standings (2)'!$C$3:$C$87,0)),99,MATCH(\"#\"&A292,'Current Owner Standings (2)'!$C$3:$C$87,0))","v":50}]
[196,{"$f":"IF(ISNA(MATCH(\"#\"&A293,'Current Owner Standings (2)'!$C$3:$C$87,0)),99,MATCH(\"#\"&A293,'Current Owner Standings (2)'!$C$3:$C$87,0))","v":99}]
[197,{"$f":"IF(ISNA(MATCH(\"#\"&A294,'Current Owner Standings (2)'!$C$3:$C$87,0)),99,MATCH(\"#\"&A294,'Current Owner Standings (2)'!$C$3:$C$87,0))","v":99}]
[198,{"$f":"IF(ISNA(MATCH(\"#\"&A295,'Current Owner Standings (2)'!$C$3:$C$87,0)),99,MATCH(\"#\"&A295,'Current Owner Standings (2)'!$C$3:$C$87,0))","v":99}]
[199,{"$f":"IF(ISNA(MATCH(\"#\"&A296,'Current Owner Standings (2)'!$C$3:$C$87,0)),99,MATCH(\"#\"&A296,'Current Owner Standings (2)'!$C$3:$C$87,0))","v":99}]
[200,{"$f":"IF(ISNA(MATCH(\"#\"&A297,'Current Owner Standings (2)'!$C$3:$C$87,0)),99,MATCH(\"#\"&A297,'Current Owner Standings (2)'!$C$3:$C$87,0))","v":99}]
[201,{"$f":"IF(ISNA(MATCH(\"#\"&A298,'Current Owner Standings (2)'!$C$3:$C$87,0)),99,MATCH(\"#\"&A298,'Current Owner Standings (2)'!$C$3:$C$87,0))","v":99}]
[202,{"$f":"IF(ISNA(MATCH(\"#\"&A299,'Current Owner Standings (2)'!$C$3:$C$87,0)),99,MATCH(\"#\"&A299,'Current Owner Standings (2)'!$C$3:$C$87,0))","v":99}]
[203,{"$f":"IF(ISNA(MATCH(\"#\"&A300,'Current Owner Standings (2)'!$C$3:$C$87,0)),99,MATCH(\"#\"&A300,'Current Owner Standings (2)'!$C$3:$C$87,0))","v":99}]
[204,{"$f":"IF(ISNA(MATCH(\"#\"&A301,'Current Owner Standings (2)'!$C$3:$C$87,0)),99,MATCH(\"#\"&A301,'Current Owner Standings (2)'!$C$3:$C$87,0))","v":99}]
[205,{"$f":"IF(ISNA(MATCH(\"#\"&A302,'Current Owner Standings (2)'!$C$3:$C$87,0)),99,MATCH(\"#\"&A302,'Current Owner Standings (2)'!$C$3:$C$87,0))","v":99}]
[206,{"$f":"IF(ISNA(MATCH(\"#\"&A303,'Current Owner Standings (2)'!$C$3:$C$87,0)),99,MATCH(\"#\"&A303,'Current Owner Standings (2)'!$C$3:$C$87,0))","v":99}]
[207,{"$f":"IF(ISNA(MATCH(\"#\"&A304,'Current Owner Standings (2)'!$C$3:$C$87,0)),99,MATCH(\"#\"&A304,'Current Owner Standings (2)'!$C$3:$C$87,0))","v":99}]
[208,{"$f":"IF(ISNA(MATCH(\"#\"&A305,'Current Owner Standings (2)'!$C$3:$C$87,0)),99,MATCH(\"#\"&A305,'Current Owner Standings (2)'!$C$3:$C$87,0))","v":99}]
[209,{"$f":"IF(ISNA(MATCH(\"#\"&A306,'Current Owner Standings (2)'!$C$3:$C$87,0)),99,MATCH(\"#\"&A306,'Current Owner Standings (2)'!$C$3:$C$87,0))","v":99}]
[210,{"$f":"IF(ISNA(MATCH(\"#\"&A307,'Current Owner Standings (2)'!$C$3:$C$87,0)),99,MATCH(\"#\"&A307,'Current Owner Standings (2)'!$C$3:$C$87,0))","v":99}]
[211,{"$f":"IF(ISNA(MATCH(\"#\"&A308,'Current Owner Standings (2)'!$C$3:$C$87,0)),99,MATCH(\"#\"&A308,'Current Owner Standings (2)'!$C$3:$C$87,0))","v":99}]
[212,{"$f":"IF(ISNA(MATCH(\"#\"&A309,'Current Owner Standings (2)'!$C$3:$C$87,0)),99,MATCH(\"#\"&A309,'Current Owner Standings (2)'!$C$3:$C$87,0))","v":99}]
[213,{"$f":"IF(ISNA(MATCH(\"#\"&A310,'Current Owner Standings (2)'!$C$3:$C$87,0)),99,MATCH(\"#\"&A310,'Current Owner Standings (2)'!$C$3:$C$87,0))","v":99}]
[214,{"$f":"IF(ISNA(MATCH(\"#\"&A311,'Current Owner Standings (2)'!$C$3:$C$87,0)),99,MATCH(\"#\"&A311,'Current Owner Standings (2)'!$C$3:$C$87,0))","v":99}]
[215,{"$f":"IF(ISNA(MATCH(\"#\"&A312,'Current Owner Standings (2)'!$C$3:$C$87,0)),99,MATCH(\"#\"&A312,'Current Owner Standings (2)'!$C$3:$C$87,0))","v":99}]
[216,{"$f":"IF(ISNA(MATCH(\"#\"&A313,'Current Owner Standings (2)'!$C$3:$C$87,0)),99,MATCH(\"#\"&A313,'Current Owner Standings (2)'!$C$3:$C$87,0))","v":99}]
[217,{"$f":"IF(ISNA(MATCH(\"#\"&A314,'Current Owner Standings (2)'!$C$3:$C$87,0)),99,MATCH(\"#\"&A314,'Current Owner Standings (2)'!$C$3:$C$87,0))","v":99}]
[218,{"$f":"IF(ISNA(MATCH(\"#\"&A315,'Current Owner Standings (2)'!$C$3:$C$87,0)),99,MATCH(\"#\"&A315,'Current Owner Standings (2)'!$C$3:$C$87,0))","v":99}]
[219,{"$f":"IF(ISNA(MATCH(\"#\"&A316,'Current Owner Standings (2)'!$C$3:$C$87,0)),99,MATCH(\"#\"&A316,'Current Owner Standings (2)'!$C$3:$C$87,0))","v":99}]
[220,{"$f":"IF(ISNA(MATCH(\"#\"&A317,'Current Owner Standings (2)'!$C$3:$C$87,0)),99,MATCH(\"#\"&A317,'Current Owner Standings (2)'!$C$3:$C$87,0))","v":99}]
[221,{"$f":"IF(ISNA(MATCH(\"#\"&A318,'Current Owner Standings (2)'!$C$3:$C$87,0)),99,MATCH(\"#\"&A318,'Current Owner Standings (2)'!$C$3:$C$87,0))","v":99}]
[222,{"$f":"IF(ISNA(MATCH(\"#\"&A319,'Current Owner Standings (2)'!$C$3:$C$87,0)),99,MATCH(\"#\"&A319,'Current Owner Standings (2)'!$C$3:$C$87,0))","v":99}]
[223,{"$f":"IF(ISNA(MATCH(\"#\"&A320,'Current Owner Standings (2)'!$C$3:$C$87,0)),99,MATCH(\"#\"&A320,'Current Owner Standings (2)'!$C$3:$C$87,0))","v":99}]
[224,{"$f":"IF(ISNA(MATCH(\"#\"&A321,'Current Owner Standings (2)'!$C$3:$C$87,0)),99,MATCH(\"#\"&A321,'Current Owner Standings (2)'!$C$3:$C$87,0))","v":99}]
[225,{"$f":"IF(ISNA(MATCH(\"#\"&A322,'Current Owner Standings (2)'!$C$3:$C$87,0)),99,MATCH(\"#\"&A322,'Current Owner Standings (2)'!$C$3:$C$87,0))","v":99}]
[226,{"$f":"IF(ISNA(MATCH(\"#\"&A323,'Current Owner Standings (2)'!$C$3:$C$87,0)),99,MATCH(\"#\"&A323,'Current Owner Standings (2)'!$C$3:$C$87,0))","v":99}]
[227,{"$f":"IF(ISNA(MATCH(\"#\"&A324,'Current Owner Standings (2)'!$C$3:$C$87,0)),99,MATCH(\"#\"&A324,'Current Owner Standings (2)'!$C$3:$C$87,0))","v":99}]
[228,{"$f":"IF(ISNA(MATCH(\"#\"&A325,'Current Owner Standings (2)'!$C$3:$C$87,0)),99,MATCH(\"#\"&A325,'Current Owner Standings (2)'!$C$3:$C$87,0))","v":99}]
[229,{"$f":"IF(ISNA(MATCH(\"#\"&A326,'Current Owner Standings (2)'!$C$3:$C$87,0)),99,MATCH(\"#\"&A326,'Current Owner Standings (2)'!$C$3:$C$87,0))","v":99}]
[230,{"$f":"IF(ISNA(MATCH(\"#\"&A327,'Current Owner Standings (2)'!$C$3:$C$87,0)),99,MATCH(\"#\"&A327,'Current Owner Standings (2)'!$C$3:$C$87,0))","v":99}]
[231,{"$f":"IF(ISNA(MATCH(\"#\"&A328,'Current Owner Standings (2)'!$C$3:$C$87,0)),99,MATCH(\"#\"&A328,'Current Owner Standings (2)'!$C$3:$C$87,0))","v":99}]
[232,{"$f":"IF(ISNA(MATCH(\"#\"&A329,'Current Owner Standings (2)'!$C$3:$C$87,0)),99,MATCH(\"#\"&A329,'Current Owner Standings (2)'!$C$3:$C$87,0))","v":99}]
[233,{"$f":"IF(ISNA(MATCH(\"#\"&A330,'Current Owner Standings (2)'!$C$3:$C$87,0)),99,MATCH(\"#\"&A330,'Current Owner Standings (2)'!$C$3:$C$87,0))","v":99}]
[234,{"$f":"IF(ISNA(MATCH(\"#\"&A331,'Current Owner Standings (2)'!$C$3:$C$87,0)),99,MATCH(\"#\"&A331,'Current Owner Standings (2)'!$C$3:$C$87,0))","v":99}]
[235,{"$f":"IF(ISNA(MATCH(\"#\"&A332,'Current Owner Standings (2)'!$C$3:$C$87,0)),99,MATCH(\"#\"&A332,'Current Owner Standings (2)'!$C$3:$C$87,0))","v":99}]
[236,{"$f":"IF(ISNA(MATCH(\"#\"&A333,'Current Owner Standings (2)'!$C$3:$C$87,0)),99,MATCH(\"#\"&A333,'Current Owner Standings (2)'!$C$3:$C$87,0))","v":99}]
[237,{"$f":"IF(ISNA(MATCH(\"#\"&A334,'Current Owner Standings (2)'!$C$3:$C$87,0)),99,MATCH(\"#\"&A334,'Current Owner Standings (2)'!$C$3:$C$87,0))","v":99}]
[238,{"$f":"IF(ISNA(MATCH(\"#\"&A335,'Current Owner Standings (2)'!$C$3:$C$87,0)),99,MATCH(\"#\"&A335,'Current Owner Standings (2)'!$C$3:$C$87,0))","v":99}]
[239,{"$f":"IF(ISNA(MATCH(\"#\"&A336,'Current Owner Standings (2)'!$C$3:$C$87,0)),99,MATCH(\"#\"&A336,'Current Owner Standings (2)'!$C$3:$C$87,0))","v":99}]
[240,{"$f":"IF(ISNA(MATCH(\"#\"&A337,'Current Owner Standings (2)'!$C$3:$C$87,0)),99,MATCH(\"#\"&A337,'Current Owner Standings (2)'!$C$3:$C$87,0))","v":99}]
[241,{"$f":"IF(ISNA(MATCH(\"#\"&A338,'Current Owner Standings (2)'!$C$3:$C$87,0)),99,MATCH(\"#\"&A338,'Current Owner Standings (2)'!$C$3:$C$87,0))","v":99}]
[242,{"$f":"IF(ISNA(MATCH(\"#\"&A339,'Current Owner Standings (2)'!$C$3:$C$87,0)),99,MATCH(\"#\"&A339,'Current Owner Standings (2)'!$C$3:$C$87,0))","v":99}]
[243,{"$f":"IF(ISNA(MATCH(\"#\"&A340,'Current Owner Standings (2)'!$C$3:$C$87,0)),99,MATCH(\"#\"&A340,'Current Owner Standings (2)'!$C$3:$C$87,0))","v":99}]
[244,{"$f":"IF(ISNA(MATCH(\"#\"&A341,'Current Owner Standings (2)'!$C$3:$C$87,0)),99,MATCH(\"#\"&A341,'Current Owner Standings (2)'!$C$3:$C$87,0))","v":99}]
[245,{"$f":"IF(ISNA(MATCH(\"#\"&A342,'Current Owner Standings (2)'!$C$3:$C$87,0)),99,MATCH(\"#\"&A342,'Current Owner Standings (2)'!$C$3:$C$87,0))","v":99}]
[246,{"$f":"IF(ISNA(MATCH(\"#\"&A343,'Current Owner Standings (2)'!$C$3:$C$87,0)),99,MATCH(\"#\"&A343,'Current Owner Standings (2)'!$C$3:$C$87,0))","v":99}]
[247,{"$f":"IF(ISNA(MATCH(\"#\"&A344,'Current Owner Standings (2)'!$C$3:$C$87,0)),99,MATCH(\"#\"&A344,'Current Owner Standings (2)'!$C$3:$C$87,0))","v":99}]
[248,{"$f":"IF(ISNA(MATCH(\"#\"&A345,'Current Owner Standings (2)'!$C$3:$C$87,0)),99,MATCH(\"#\"&A345,'Current Owner Standings (2)'!$C$3:$C$87,0))","v":99}]
[249,{"$f":"IF(ISNA(MATCH(\"#\"&A346,'Current Owner Standings (2)'!$C$3:$C$87,0)),99,MATCH(\"#\"&A346,'Current Owner Standings (2)'!$C$3:$C$87,0))","v":37}]
[250,{"$f":"IF(ISNA(MATCH(\"#\"&A347,'Current Owner Standings (2)'!$C$3:$C$87,0)),99,MATCH(\"#\"&A347,'Current Owner Standings (2)'!$C$3:$C$87,0))","v":99}]
[251,{"$f":"IF(ISNA(MATCH(\"#\"&A348,'Current Owner Standings (2)'!$C$3:$C$87,0)),99,MATCH(\"#\"&A348,'Current Owner Standings (2)'!$C$3:$C$87,0))","v":99}]
[252,{"$f":"IF(ISNA(MATCH(\"#\"&A349,'Current Owner Standings (2)'!$C$3:$C$87,0)),99,MATCH(\"#\"&A349,'Current Owner Standings (2)'!$C$3:$C$87,0))","v":99}]
[253,{"$f":"IF(ISNA(MATCH(\"#\"&A350,'Current Owner Standings (2)'!$C$3:$C$87,0)),99,MATCH(\"#\"&A350,'Current Owner Standings (2)'!$C$3:$C$87,0))","v":99}]
[254,{"$f":"IF(ISNA(MATCH(\"#\"&A351,'Current Owner Standings (2)'!$C$3:$C$87,0)),99,MATCH(\"#\"&A351,'Current Owner Standings (2)'!$C$3:$C$87,0))","v":99}]
[255,{"$f":"IF(ISNA(MATCH(\"#\"&A352,'Current Owner Standings (2)'!$C$3:$C$87,0)),99,MATCH(\"#\"&A352,'Current Owner Standings (2)'!$C$3:$C$87,0))","v":99}]
[256,{"$f":"IF(ISNA(MATCH(\"#\"&A353,'Current Owner Standings (2)'!$C$3:$C$87,0)),99,MATCH(\"#\"&A353,'Current Owner Standings (2)'!$C$3:$C$87,0))","v":99}]
[257,{"$f":"IF(ISNA(MATCH(\"#\"&A354,'Current Owner Standings (2)'!$C$3:$C$87,0)),99,MATCH(\"#\"&A354,'Current Owner Standings (2)'!$C$3:$C$87,0))","v":99}]
[258,{"$f":"IF(ISNA(MATCH(\"#\"&A355,'Current Owner Standings (2)'!$C$3:$C$87,0)),99,MATCH(\"#\"&A355,'Current Owner Standings (2)'!$C$3:$C$87,0))","v":99}]
[259,{"$f":"IF(ISNA(MATCH(\"#\"&A356,'Current Owner Standings (2)'!$C$3:$C$87,0)),99,MATCH(\"#\"&A356,'Current Owner Standings (2)'!$C$3:$C$87,0))","v":99}]
[260,{"$f":"IF(ISNA(MATCH(\"#\"&A357,'Current Owner Standings (2)'!$C$3:$C$87,0)),99,MATCH(\"#\"&A357,'Current Owner Standings (2)'!$C$3:$C$87,0))","v":99}]
[261,{"$f":"IF(ISNA(MATCH(\"#\"&A358,'Current Owner Standings (2)'!$C$3:$C$87,0)),99,MATCH(\"#\"&A358,'Current Owner Standings (2)'!$C$3:$C$87,0))","v":99}]
[262,{"$f":"IF(ISNA(MATCH(\"#\"&A359,'Current Owner Standings (2)'!$C$3:$C$87,0)),99,MATCH(\"#\"&A359,'Current Owner Standings (2)'!$C$3:$C$87,0))","v":99}]
[263,{"$f":"IF(ISNA(MATCH(\"#\"&A360,'Current Owner Standings (2)'!$C$3:$C$87,0)),99,MATCH(\"#\"&A360,'Current Owner Standings (2)'!$C$3:$C$87,0))","v":99}]
[264,{"$f":"IF(ISNA(MATCH(\"#\"&A361,'Current Owner Standings (2)'!$C$3:$C$87,0)),99,MATCH(\"#\"&A361,'Current Owner Standings (2)'!$C$3:$C$87,0))","v":99}]
[265,{"$f":"IF(ISNA(MATCH(\"#\"&A362,'Current Owner Standings (2)'!$C$3:$C$87,0)),99,MATCH(\"#\"&A362,'Current Owner Standings (2)'!$C$3:$C$87,0))","v":99}]
[266,{"$f":"IF(ISNA(MATCH(\"#\"&A363,'Current Owner Standings (2)'!$C$3:$C$87,0)),99,MATCH(\"#\"&A363,'Current Owner Standings (2)'!$C$3:$C$87,0))","v":99}]
[267,{"$f":"IF(ISNA(MATCH(\"#\"&A364,'Current Owner Standings (2)'!$C$3:$C$87,0)),99,MATCH(\"#\"&A364,'Current Owner Standings (2)'!$C$3:$C$87,0))","v":99}]
[268,{"$f":"IF(ISNA(MATCH(\"#\"&A365,'Current Owner Standings (2)'!$C$3:$C$87,0)),99,MATCH(\"#\"&A365,'Current Owner Standings (2)'!$C$3:$C$87,0))","v":99}]
[269,{"$f":"IF(ISNA(MATCH(\"#\"&A366,'Current Owner Standings (2)'!$C$3:$C$87,0)),99,MATCH(\"#\"&A366,'Current Owner Standings (2)'!$C$3:$C$87,0))","v":99}]
[270,{"$f":"IF(ISNA(MATCH(\"#\"&A367,'Current Owner Standings (2)'!$C$3:$C$87,0)),99,MATCH(\"#\"&A367,'Current Owner Standings (2)'!$C$3:$C$87,0))","v":99}]
[271,{"$f":"IF(ISNA(MATCH(\"#\"&A368,'Current Owner Standings (2)'!$C$3:$C$87,0)),99,MATCH(\"#\"&A368,'Current Owner Standings (2)'!$C$3:$C$87,0))","v":99}]
[272,{"$f":"IF(ISNA(MATCH(\"#\"&A369,'Current Owner Standings (2)'!$C$3:$C$87,0)),99,MATCH(\"#\"&A369,'Current Owner Standings (2)'!$C$3:$C$87,0))","v":99}]
[273,{"$f":"IF(ISNA(MATCH(\"#\"&A370,'Current Owner Standings (2)'!$C$3:$C$87,0)),99,MATCH(\"#\"&A370,'Current Owner Standings (2)'!$C$3:$C$87,0))","v":99}]
[274,{"$f":"IF(ISNA(MATCH(\"#\"&A371,'Current Owner Standings (2)'!$C$3:$C$87,0)),99,MATCH(\"#\"&A371,'Current Owner Standings (2)'!$C$3:$C$87,0))","v":99}]
[275,{"$f":"IF(ISNA(MATCH(\"#\"&A372,'Current Owner Standings (2)'!$C$3:$C$87,0)),99,MATCH(\"#\"&A372,'Current Owner Standings (2)'!$C$3:$C$87,0))","v":99}]
[276,{"$f":"IF(ISNA(MATCH(\"#\"&A373,'Current Owner Standings (2)'!$C$3:$C$87,0)),99,MATCH(\"#\"&A373,'Current Owner Standings (2)'!$C$3:$C$87,0))","v":99}]
[277,{"$f":"IF(ISNA(MATCH(\"#\"&A374,'Current Owner Standings (2)'!$C$3:$C$87,0)),99,MATCH(\"#\"&A374,'Current Owner Standings (2)'!$C$3:$C$87,0))","v":99}]
[278,{"$f":"IF(ISNA(MATCH(\"#\"&A375,'Current Owner Standings (2)'!$C$3:$C$87,0)),99,MATCH(\"#\"&A375,'Current Owner Standings (2)'!$C$3:$C$87,0))","v":99}]
[279,{"$f":"IF(ISNA(MATCH(\"#\"&A376,'Current Owner Standings (2)'!$C$3:$C$87,0)),99,MATCH(\"#\"&A376,'Current Owner Standings (2)'!$C$3:$C$87,0))","v":99}]
[280,{"$f":"IF(ISNA(MATCH(\"#\"&A377,'Current Owner Standings (2)'!$C$3:$C$87,0)),99,MATCH(\"#\"&A377,'Current Owner Standings (2)'!$C$3:$C$87,0))","v":99}]
[281,{"$f":"IF(ISNA(MATCH(\"#\"&A378,'Current Owner Standings (2)'!$C$3:$C$87,0)),99,MATCH(\"#\"&A378,'Current Owner Standings (2)'!$C$3:$C$87,0))","v":99}]
[282,{"$f":"IF(ISNA(MATCH(\"#\"&A379,'Current Owner Standings (2)'!$C$3:$C$87,0)),99,MATCH(\"#\"&A379,'Current Owner Standings (2)'!$C$3:$C$87,0))","v":99}]
[283,{"$f":"IF(ISNA(MATCH(\"#\"&A380,'Current Owner Standings (2)'!$C$3:$C$87,0)),99,MATCH(\"#\"&A380,'Current Owner Standings (2)'!$C$3:$C$87,0))","v":99}]
[284,{"$f":"IF(ISNA(MATCH(\"#\"&A381,'Current Owner Standings (2)'!$C$3:$C$87,0)),99,MATCH(\"#\"&A381,'Current Owner Standings (2)'!$C$3:$C$87,0))","v":99}]
[285,{"$f":"IF(ISNA(MATCH(\"#\"&A382,'Current Owner Standings (2)'!$C$3:$C$87,0)),99,MATCH(\"#\"&A382,'Current Owner Standings (2)'!$C$3:$C$87,0))","v":99}]
[286,{"$f":"IF(ISNA(MATCH(\"#\"&A383,'Current Owner Standings (2)'!$C$3:$C$87,0)),99,MATCH(\"#\"&A383,'Current Owner Standings (2)'!$C$3:$C$87,0))","v":99}]
[287,{"$f":"IF(ISNA(MATCH(\"#\"&A384,'Current Owner Standings (2)'!$C$3:$C$87,0)),99,MATCH(\"#\"&A384,'Current Owner Standings (2)'!$C$3:$C$87,0))","v":99}]
[288,{"$f":"IF(ISNA(MATCH(\"#\"&A385,'Current Owner Standings (2)'!$C$3:$C$87,0)),99,MATCH(\"#\"&A385,'Current Owner Standings (2)'!$C$3:$C$87,0))","v":99}]
[289,{"$f":"IF(ISNA(MATCH(\"#\"&A386,'Current Owner Standings (2)'!$C$3:$C$87,0)),99,MATCH(\"#\"&A386,'Current Owner Standings (2)'!$C$3:$C$87,0))","v":99}]
[290,{"$f":"IF(ISNA(MATCH(\"#\"&A387,'Current Owner Standings (2)'!$C$3:$C$87,0)),99,MATCH(\"#\"&A387,'Current Owner Standings (2)'!$C$3:$C$87,0))","v":99}]
[291,{"$f":"IF(ISNA(MATCH(\"#\"&A388,'Current Owner Standings (2)'!$C$3:$C$87,0)),99,MATCH(\"#\"&A388,'Current Owner Standings (2)'!$C$3:$C$87,0))","v":99}]
[292,{"$f":"IF(ISNA(MATCH(\"#\"&A389,'Current Owner Standings (2)'!$C$3:$C$87,0)),99,MATCH(\"#\"&A389,'Current Owner Standings (2)'!$C$3:$C$87,0))","v":99}]
[293,{"$f":"IF(ISNA(MATCH(\"#\"&A390,'Current Owner Standings (2)'!$C$3:$C$87,0)),99,MATCH(\"#\"&A390,'Current Owner Standings (2)'!$C$3:$C$87,0))","v":99}]
[294,{"$f":"IF(ISNA(MATCH(\"#\"&A391,'Current Owner Standings (2)'!$C$3:$C$87,0)),99,MATCH(\"#\"&A391,'Current Owner Standings (2)'!$C$3:$C$87,0))","v":99}]
[295,{"$f":"IF(ISNA(MATCH(\"#\"&A392,'Current Owner Standings (2)'!$C$3:$C$87,0)),99,MATCH(\"#\"&A392,'Current Owner Standings (2)'!$C$3:$C$87,0))","v":99}]
[296,{"$f":"IF(ISNA(MATCH(\"#\"&A393,'Current Owner Standings (2)'!$C$3:$C$87,0)),99,MATCH(\"#\"&A393,'Current Owner Standings (2)'!$C$3:$C$87,0))","v":99}]
[297,{"$f":"IF(ISNA(MATCH(\"#\"&A394,'Current Owner Standings (2)'!$C$3:$C$87,0)),99,MATCH(\"#\"&A394,'Current Owner Standings (2)'!$C$3:$C$87,0))","v":99}]
[298,{"$f":"IF(ISNA(MATCH(\"#\"&A395,'Current Owner Standings (2)'!$C$3:$C$87,0)),99,MATCH(\"#\"&A395,'Current Owner Standings (2)'!$C$3:$C$87,0))","v":99}]
[299,{"$f":"IF(ISNA(MATCH(\"#\"&A396,'Current Owner Standings (2)'!$C$3:$C$87,0)),99,MATCH(\"#\"&A396,'Current Owner Standings (2)'!$C$3:$C$87,0))","v":99}]
[300,{"$f":"IF(ISNA(MATCH(\"#\"&A397,'Current Owner Standings (2)'!$C$3:$C$87,0)),99,MATCH(\"#\"&A397,'Current Owner Standings (2)'!$C$3:$C$87,0))","v":99}]
[301,{"$f":"IF(ISNA(MATCH(\"#\"&A398,'Current Owner Standings (2)'!$C$3:$C$87,0)),99,MATCH(\"#\"&A398,'Current Owner Standings (2)'!$C$3:$C$87,0))","v":99}]
[302,{"$f":"IF(ISNA(MATCH(\"#\"&A399,'Current Owner Standings (2)'!$C$3:$C$87,0)),99,MATCH(\"#\"&A399,'Current Owner Standings (2)'!$C$3:$C$87,0))","v":99}]
[303,{"$f":"IF(ISNA(MATCH(\"#\"&A400,'Current Owner Standings (2)'!$C$3:$C$87,0)),99,MATCH(\"#\"&A400,'Current Owner Standings (2)'!$C$3:$C$87,0))","v":99}]
[304,{"$f":"IF(ISNA(MATCH(\"#\"&A401,'Current Owner Standings (2)'!$C$3:$C$87,0)),99,MATCH(\"#\"&A401,'Current Owner Standings (2)'!$C$3:$C$87,0))","v":99}]
[305,{"$f":"IF(ISNA(MATCH(\"#\"&A402,'Current Owner Standings (2)'!$C$3:$C$87,0)),99,MATCH(\"#\"&A402,'Current Owner Standings (2)'!$C$3:$C$87,0))","v":99}]
[306,{"$f":"IF(ISNA(MATCH(\"#\"&A403,'Current Owner Standings (2)'!$C$3:$C$87,0)),99,MATCH(\"#\"&A403,'Current Owner Standings (2)'!$C$3:$C$87,0))","v":99}]
[307,{"$f":"IF(ISNA(MATCH(\"#\"&A404,'Current Owner Standings (2)'!$C$3:$C$87,0)),99,MATCH(\"#\"&A404,'Current Owner Standings (2)'!$C$3:$C$87,0))","v":99}]
[308,{"$f":"IF(ISNA(MATCH(\"#\"&A405,'Current Owner Standings (2)'!$C$3:$C$87,0)),99,MATCH(\"#\"&A405,'Current Owner Standings (2)'!$C$3:$C$87,0))","v":99}]
[309,{"$f":"IF(ISNA(MATCH(\"#\"&A406,'Current Owner Standings (2)'!$C$3:$C$87,0)),99,MATCH(\"#\"&A406,'Current Owner Standings (2)'!$C$3:$C$87,0))","v":99}]
[310,{"$f":"IF(ISNA(MATCH(\"#\"&A407,'Current Owner Standings (2)'!$C$3:$C$87,0)),99,MATCH(\"#\"&A407,'Current Owner Standings (2)'!$C$3:$C$87,0))","v":99}]
[311,{"$f":"IF(ISNA(MATCH(\"#\"&A408,'Current Owner Standings (2)'!$C$3:$C$87,0)),99,MATCH(\"#\"&A408,'Current Owner Standings (2)'!$C$3:$C$87,0))","v":99}]
[312,{"$f":"IF(ISNA(MATCH(\"#\"&A409,'Current Owner Standings (2)'!$C$3:$C$87,0)),99,MATCH(\"#\"&A409,'Current Owner Standings (2)'!$C$3:$C$87,0))","v":99}]
[313,{"$f":"IF(ISNA(MATCH(\"#\"&A410,'Current Owner Standings (2)'!$C$3:$C$87,0)),99,MATCH(\"#\"&A410,'Current Owner Standings (2)'!$C$3:$C$87,0))","v":99}]
[314,{"$f":"IF(ISNA(MATCH(\"#\"&A411,'Current Owner Standings (2)'!$C$3:$C$87,0)),99,MATCH(\"#\"&A411,'Current Owner Standings (2)'!$C$3:$C$87,0))","v":99}]
[315,{"$f":"IF(ISNA(MATCH(\"#\"&A412,'Current Owner Standings (2)'!$C$3:$C$87,0)),99,MATCH(\"#\"&A412,'Current Owner Standings (2)'!$C$3:$C$87,0))","v":99}]
[316,{"$f":"IF(ISNA(MATCH(\"#\"&A413,'Current Owner Standings (2)'!$C$3:$C$87,0)),99,MATCH(\"#\"&A413,'Current Owner Standings (2)'!$C$3:$C$87,0))","v":99}]
[317,{"$f":"IF(ISNA(MATCH(\"#\"&A414,'Current Owner Standings (2)'!$C$3:$C$87,0)),99,MATCH(\"#\"&A414,'Current Owner Standings (2)'!$C$3:$C$87,0))","v":99}]
[318,{"$f":"IF(ISNA(MATCH(\"#\"&A415,'Current Owner Standings (2)'!$C$3:$C$87,0)),99,MATCH(\"#\"&A415,'Current Owner Standings (2)'!$C$3:$C$87,0))","v":99}]
[319,{"$f":"IF(ISNA(MATCH(\"#\"&A416,'Current Owner Standings (2)'!$C$3:$C$87,0)),99,MATCH(\"#\"&A416,'Current Owner Standings (2)'!$C$3:$C$87,0))","v":99}]
[320,{"$f":"IF(ISNA(MATCH(\"#\"&A417,'Current Owner Standings (2)'!$C$3:$C$87,0)),99,MATCH(\"#\"&A417,'Current Owner Standings (2)'!$C$3:$C$87,0))","v":99}]
[321,{"$f":"IF(ISNA(MATCH(\"#\"&A418,'Current Owner Standings (2)'!$C$3:$C$87,0)),99,MATCH(\"#\"&A418,'Current Owner Standings (2)'!$C$3:$C$87,0))","v":99}]
[322,{"$f":"IF(ISNA(MATCH(\"#\"&A419,'Current Owner Standings (2)'!$C$3:$C$87,0)),99,MATCH(\"#\"&A419,'Current Owner Standings (2)'!$C$3:$C$87,0))","v":99}]
[323,{"$f":"IF(ISNA(MATCH(\"#\"&A420,'Current Owner Standings (2)'!$C$3:$C$87,0)),99,MATCH(\"#\"&A420,'Current Owner Standings (2)'!$C$3:$C$87,0))","v":99}]
[324,{"$f":"IF(ISNA(MATCH(\"#\"&A421,'Current Owner Standings (2)'!$C$3:$C$87,0)),99,MATCH(\"#\"&A421,'Current Owner Standings (2)'!$C$3:$C$87,0))","v":99}]
[325,{"$f":"IF(ISNA(MATCH(\"#\"&A422,'Current Owner Standings (2)'!$C$3:$C$87,0)),99,MATCH(\"#\"&A422,'Current Owner Standings (2)'!$C$3:$C$87,0))","v":99}]
[326,{"$f":"IF(ISNA(MATCH(\"#\"&A423,'Current Owner Standings (2)'!$C$3:$C$87,0)),99,MATCH(\"#\"&A423,'Current Owner Standings (2)'!$C$3:$C$87,0))","v":99}]
[327,{"$f":"IF(ISNA(MATCH(\"#\"&A424,'Current Owner Standings (2)'!$C$3:$C$87,0)),99,MATCH(\"#\"&A424,'Current Owner Standings (2)'!$C$3:$C$87,0))","v":99}]
[328,{"$f":"IF(ISNA(MATCH(\"#\"&A425,'Current Owner Standings (2)'!$C$3:$C$87,0)),99,MATCH(\"#\"&A425,'Current Owner Standings (2)'!$C$3:$C$87,0))","v":99}]
[329,{"$f":"IF(ISNA(MATCH(\"#\"&A426,'Current Owner Standings (2)'!$C$3:$C$87,0)),99,MATCH(\"#\"&A426,'Current Owner Standings (2)'!$C$3:$C$87,0))","v":99}]
[330,{"$f":"IF(ISNA(MATCH(\"#\"&A427,'Current Owner Standings (2)'!$C$3:$C$87,0)),99,MATCH(\"#\"&A427,'Current Owner Standings (2)'!$C$3:$C$87,0))","v":99}]
[331,{"$f":"IF(ISNA(MATCH(\"#\"&A428,'Current Owner Standings (2)'!$C$3:$C$87,0)),99,MATCH(\"#\"&A428,'Current Owner Standings (2)'!$C$3:$C$87,0))","v":99}]
[332,{"$f":"IF(ISNA(MATCH(\"#\"&A429,'Current Owner Standings (2)'!$C$3:$C$87,0)),99,MATCH(\"#\"&A429,'Current Owner Standings (2)'!$C$3:$C$87,0))","v":99}]
[333,{"$f":"IF(ISNA(MATCH(\"#\"&A430,'Current Owner Standings (2)'!$C$3:$C$87,0)),99,MATCH(\"#\"&A430,'Current Owner Standings (2)'!$C$3:$C$87,0))","v":99}]
[334,{"$f":"IF(ISNA(MATCH(\"#\"&A431,'Current Owner Standings (2)'!$C$3:$C$87,0)),99,MATCH(\"#\"&A431,'Current Owner Standings (2)'!$C$3:$C$87,0))","v":99}]
[335,{"$f":"IF(ISNA(MATCH(\"#\"&A432,'Current Owner Standings (2)'!$C$3:$C$87,0)),99,MATCH(\"#\"&A432,'Current Owner Standings (2)'!$C$3:$C$87,0))","v":99}]
[336,{"$f":"IF(ISNA(MATCH(\"#\"&A433,'Current Owner Standings (2)'!$C$3:$C$87,0)),99,MATCH(\"#\"&A433,'Current Owner Standings (2)'!$C$3:$C$87,0))","v":99}]
[337,{"$f":"IF(ISNA(MATCH(\"#\"&A434,'Current Owner Standings (2)'!$C$3:$C$87,0)),99,MATCH(\"#\"&A434,'Current Owner Standings (2)'!$C$3:$C$87,0))","v":99}]
[338,{"$f":"IF(ISNA(MATCH(\"#\"&A435,'Current Owner Standings (2)'!$C$3:$C$87,0)),99,MATCH(\"#\"&A435,'Current Owner Standings (2)'!$C$3:$C$87,0))","v":99}]
[339,{"$f":"IF(ISNA(MATCH(\"#\"&A436,'Current Owner Standings (2)'!$C$3:$C$87,0)),99,MATCH(\"#\"&A436,'Current Owner Standings (2)'!$C$3:$C$87,0))","v":99}]
[340,{"$f":"IF(ISNA(MATCH(\"#\"&A437,'Current Owner Standings (2)'!$C$3:$C$87,0)),99,MATCH(\"#\"&A437,'Current Owner Standings (2)'!$C$3:$C$87,0))","v":99}]
[341,{"$f":"IF(ISNA(MATCH(\"#\"&A438,'Current Owner Standings (2)'!$C$3:$C$87,0)),99,MATCH(\"#\"&A438,'Current Owner Standings (2)'!$C$3:$C$87,0))","v":99}]
[342,{"$f":"IF(ISNA(MATCH(\"#\"&A439,'Current Owner Standings (2)'!$C$3:$C$87,0)),99,MATCH(\"#\"&A439,'Current Owner Standings (2)'!$C$3:$C$87,0))","v":99}]
[343,{"$f":"IF(ISNA(MATCH(\"#\"&A440,'Current Owner Standings (2)'!$C$3:$C$87,0)),99,MATCH(\"#\"&A440,'Current Owner Standings (2)'!$C$3:$C$87,0))","v":99}]
[344,{"$f":"IF(ISNA(MATCH(\"#\"&A441,'Current Owner Standings (2)'!$C$3:$C$87,0)),99,MATCH(\"#\"&A441,'Current Owner Standings (2)'!$C$3:$C$87,0))","v":99}]
[345,{"$f":"IF(ISNA(MATCH(\"#\"&A442,'Current Owner Standings (2)'!$C$3:$C$87,0)),99,MATCH(\"#\"&A442,'Current Owner Standings (2)'!$C$3:$C$87,0))","v":99}]
[346,{"$f":"IF(ISNA(MATCH(\"#\"&A443,'Current Owner Standings (2)'!$C$3:$C$87,0)),99,MATCH(\"#\"&A443,'Current Owner Standings (2)'!$C$3:$C$87,0))","v":99}]
[347,{"$f":"IF(ISNA(MATCH(\"#\"&A444,'Current Owner Standings (2)'!$C$3:$C$87,0)),99,MATCH(\"#\"&A444,'Current Owner Standings (2)'!$C$3:$C$87,0))","v":99}]
[348,{"$f":"IF(ISNA(MATCH(\"#\"&A445,'Current Owner Standings (2)'!$C$3:$C$87,0)),99,MATCH(\"#\"&A445,'Current Owner Standings (2)'!$C$3:$C$87,0))","v":99}]
[349,{"$f":"IF(ISNA(MATCH(\"#\"&A446,'Current Owner Standings (2)'!$C$3:$C$87,0)),99,MATCH(\"#\"&A446,'Current Owner Standings (2)'!$C$3:$C$87,0))","v":99}]
[350,{"$f":"IF(ISNA(MATCH(\"#\"&A447,'Current Owner Standings (2)'!$C$3:$C$87,0)),99,MATCH(\"#\"&A447,'Current Owner Standings (2)'!$C$3:$C$87,0))","v":99}]
[351,{"$f":"IF(ISNA(MATCH(\"#\"&A448,'Current Owner Standings (2)'!$C$3:$C$87,0)),99,MATCH(\"#\"&A448,'Current Owner Standings (2)'!$C$3:$C$87,0))","v":99}]
[352,{"$f":"IF(ISNA(MATCH(\"#\"&A449,'Current Owner Standings (2)'!$C$3:$C$87,0)),99,MATCH(\"#\"&A449,'Current Owner Standings (2)'!$C$3:$C$87,0))","v":99}]
[353,{"$f":"IF(ISNA(MATCH(\"#\"&A450,'Current Owner Standings (2)'!$C$3:$C$87,0)),99,MATCH(\"#\"&A450,'Current Owner Standings (2)'!$C$3:$C$87,0))","v":99}]
[354,{"$f":"IF(ISNA(MATCH(\"#\"&A451,'Current Owner Standings (2)'!$C$3:$C$87,0)),99,MATCH(\"#\"&A451,'Current Owner Standings (2)'!$C$3:$C$87,0))","v":99}]
[355,{"$f":"IF(ISNA(MATCH(\"#\"&A452,'Current Owner Standings (2)'!$C$3:$C$87,0)),99,MATCH(\"#\"&A452,'Current Owner Standings (2)'!$C$3:$C$87,0))","v":99}]
[356,{"$f":"IF(ISNA(MATCH(\"#\"&A453,'Current Owner Standings (2)'!$C$3:$C$87,0)),99,MATCH(\"#\"&A453,'Current Owner Standings (2)'!$C$3:$C$87,0))","v":99}]
[357,{"$f":"IF(ISNA(MATCH(\"#\"&A454,'Current Owner Standings (2)'!$C$3:$C$87,0)),99,MATCH(\"#\"&A454,'Current Owner Standings (2)'!$C$3:$C$87,0))","v":99}]
[358,{"$f":"IF(ISNA(MATCH(\"#\"&A455,'Current Owner Standings (2)'!$C$3:$C$87,0)),99,MATCH(\"#\"&A455,'Current Owner Standings (2)'!$C$3:$C$87,0))","v":99}]
[359,{"$f":"IF(ISNA(MATCH(\"#\"&A456,'Current Owner Standings (2)'!$C$3:$C$87,0)),99,MATCH(\"#\"&A456,'Current Owner Standings (2)'!$C$3:$C$87,0))","v":99}]
[360,{"$f":"IF(ISNA(MATCH(\"#\"&A457,'Current Owner Standings (2)'!$C$3:$C$87,0)),99,MATCH(\"#\"&A457,'Current Owner Standings (2)'!$C$3:$C$87,0))","v":99}]
[361,{"$f":"IF(ISNA(MATCH(\"#\"&A458,'Current Owner Standings (2)'!$C$3:$C$87,0)),99,MATCH(\"#\"&A458,'Current Owner Standings (2)'!$C$3:$C$87,0))","v":99}]
[362,{"$f":"IF(ISNA(MATCH(\"#\"&A459,'Current Owner Standings (2)'!$C$3:$C$87,0)),99,MATCH(\"#\"&A459,'Current Owner Standings (2)'!$C$3:$C$87,0))","v":99}]
[363,{"$f":"IF(ISNA(MATCH(\"#\"&A460,'Current Owner Standings (2)'!$C$3:$C$87,0)),99,MATCH(\"#\"&A460,'Current Owner Standings (2)'!$C$3:$C$87,0))","v":99}]
[364,{"$f":"IF(ISNA(MATCH(\"#\"&A461,'Current Owner Standings (2)'!$C$3:$C$87,0)),99,MATCH(\"#\"&A461,'Current Owner Standings (2)'!$C$3:$C$87,0))","v":99}]
[365,{"$f":"IF(ISNA(MATCH(\"#\"&A462,'Current Owner Standings (2)'!$C$3:$C$87,0)),99,MATCH(\"#\"&A462,'Current Owner Standings (2)'!$C$3:$C$87,0))","v":99}]
[366,{"$f":"IF(ISNA(MATCH(\"#\"&A463,'Current Owner Standings (2)'!$C$3:$C$87,0)),99,MATCH(\"#\"&A463,'Current Owner Standings (2)'!$C$3:$C$87,0))","v":99}]
[367,{"$f":"IF(ISNA(MATCH(\"#\"&A464,'Current Owner Standings (2)'!$C$3:$C$87,0)),99,MATCH(\"#\"&A464,'Current Owner Standings (2)'!$C$3:$C$87,0))","v":99}]
[368,{"$f":"IF(ISNA(MATCH(\"#\"&A465,'Current Owner Standings (2)'!$C$3:$C$87,0)),99,MATCH(\"#\"&A465,'Current Owner Standings (2)'!$C$3:$C$87,0))","v":99}]
[369,{"$f":"IF(ISNA(MATCH(\"#\"&A466,'Current Owner Standings (2)'!$C$3:$C$87,0)),99,MATCH(\"#\"&A466,'Current Owner Standings (2)'!$C$3:$C$87,0))","v":99}]
[370,{"$f":"IF(ISNA(MATCH(\"#\"&A467,'Current Owner Standings (2)'!$C$3:$C$87,0)),99,MATCH(\"#\"&A467,'Current Owner Standings (2)'!$C$3:$C$87,0))","v":99}]
[371,{"$f":"IF(ISNA(MATCH(\"#\"&A468,'Current Owner Standings (2)'!$C$3:$C$87,0)),99,MATCH(\"#\"&A468,'Current Owner Standings (2)'!$C$3:$C$87,0))","v":99}]
[372,{"$f":"IF(ISNA(MATCH(\"#\"&A469,'Current Owner Standings (2)'!$C$3:$C$87,0)),99,MATCH(\"#\"&A469,'Current Owner Standings (2)'!$C$3:$C$87,0))","v":99}]
[373,{"$f":"IF(ISNA(MATCH(\"#\"&A470,'Current Owner Standings (2)'!$C$3:$C$87,0)),99,MATCH(\"#\"&A470,'Current Owner Standings (2)'!$C$3:$C$87,0))","v":99}]
[374,{"$f":"IF(ISNA(MATCH(\"#\"&A471,'Current Owner Standings (2)'!$C$3:$C$87,0)),99,MATCH(\"#\"&A471,'Current Owner Standings (2)'!$C$3:$C$87,0))","v":99}]
[375,{"$f":"IF(ISNA(MATCH(\"#\"&A472,'Current Owner Standings (2)'!$C$3:$C$87,0)),99,MATCH(\"#\"&A472,'Current Owner Standings (2)'!$C$3:$C$87,0))","v":99}]
[376,{"$f":"IF(ISNA(MATCH(\"#\"&A473,'Current Owner Standings (2)'!$C$3:$C$87,0)),99,MATCH(\"#\"&A473,'Current Owner Standings (2)'!$C$3:$C$87,0))","v":99}]
[377,{"$f":"IF(ISNA(MATCH(\"#\"&A474,'Current Owner Standings (2)'!$C$3:$C$87,0)),99,MATCH(\"#\"&A474,'Current Owner Standings (2)'!$C$3:$C$87,0))","v":99}]
[378,{"$f":"IF(ISNA(MATCH(\"#\"&A475,'Current Owner Standings (2)'!$C$3:$C$87,0)),99,MATCH(\"#\"&A475,'Current Owner Standings (2)'!$C$3:$C$87,0))","v":99}]
[379,{"$f":"IF(ISNA(MATCH(\"#\"&A476,'Current Owner Standings (2)'!$C$3:$C$87,0)),99,MATCH(\"#\"&A476,'Current Owner Standings (2)'!$C$3:$C$87,0))","v":99}]
[380,{"$f":"IF(ISNA(MATCH(\"#\"&A477,'Current Owner Standings (2)'!$C$3:$C$87,0)),99,MATCH(\"#\"&A477,'Current Owner Standings (2)'!$C$3:$C$87,0))","v":99}]
[381,{"$f":"IF(ISNA(MATCH(\"#\"&A478,'Current Owner Standings (2)'!$C$3:$C$87,0)),99,MATCH(\"#\"&A478,'Current Owner Standings (2)'!$C$3:$C$87,0))","v":99}]
[382,{"$f":"IF(ISNA(MATCH(\"#\"&A479,'Current Owner Standings (2)'!$C$3:$C$87,0)),99,MATCH(\"#\"&A479,'Current Owner Standings (2)'!$C$3:$C$87,0))","v":99}]
[383,{"$f":"IF(ISNA(MATCH(\"#\"&A480,'Current Owner Standings (2)'!$C$3:$C$87,0)),99,MATCH(\"#\"&A480,'Current Owner Standings (2)'!$C$3:$C$87,0))","v":99}]
[384,{"$f":"IF(ISNA(MATCH(\"#\"&A481,'Current Owner Standings (2)'!$C$3:$C$87,0)),99,MATCH(\"#\"&A481,'Current Owner Standings (2)'!$C$3:$C$87,0))","v":99}]
[385,{"$f":"IF(ISNA(MATCH(\"#\"&A482,'Current Owner Standings (2)'!$C$3:$C$87,0)),99,MATCH(\"#\"&A482,'Current Owner Standings (2)'!$C$3:$C$87,0))","v":99}]
[386,{"$f":"IF(ISNA(MATCH(\"#\"&A483,'Current Owner Standings (2)'!$C$3:$C$87,0)),99,MATCH(\"#\"&A483,'Current Owner Standings (2)'!$C$3:$C$87,0))","v":99}]
[387,{"$f":"IF(ISNA(MATCH(\"#\"&A484,'Current Owner Standings (2)'!$C$3:$C$87,0)),99,MATCH(\"#\"&A484,'Current Owner Standings (2)'!$C$3:$C$87,0))","v":99}]
[388,{"$f":"IF(ISNA(MATCH(\"#\"&A485,'Current Owner Standings (2)'!$C$3:$C$87,0)),99,MATCH(\"#\"&A485,'Current Owner Standings (2)'!$C$3:$C$87,0))","v":99}]
[389,{"$f":"IF(ISNA(MATCH(\"#\"&A486,'Current Owner Standings (2)'!$C$3:$C$87,0)),99,MATCH(\"#\"&A486,'Current Owner Standings (2)'!$C$3:$C$87,0))","v":99}]
[390,{"$f":"IF(ISNA(MATCH(\"#\"&A487,'Current Owner Standings (2)'!$C$3:$C$87,0)),99,MATCH(\"#\"&A487,'Current Owner Standings (2)'!$C$3:$C$87,0))","v":99}]
[391,{"$f":"IF(ISNA(MATCH(\"#\"&A488,'Current Owner Standings (2)'!$C$3:$C$87,0)),99,MATCH(\"#\"&A488,'Current Owner Standings (2)'!$C$3:$C$87,0))","v":99}]
[392,{"$f":"IF(ISNA(MATCH(\"#\"&A489,'Current Owner Standings (2)'!$C$3:$C$87,0)),99,MATCH(\"#\"&A489,'Current Owner Standings (2)'!$C$3:$C$87,0))","v":99}]
[393,{"$f":"IF(ISNA(MATCH(\"#\"&A490,'Current Owner Standings (2)'!$C$3:$C$87,0)),99,MATCH(\"#\"&A490,'Current Owner Standings (2)'!$C$3:$C$87,0))","v":99}]
[394,{"$f":"IF(ISNA(MATCH(\"#\"&A491,'Current Owner Standings (2)'!$C$3:$C$87,0)),99,MATCH(\"#\"&A491,'Current Owner Standings (2)'!$C$3:$C$87,0))","v":99}]
[395,{"$f":"IF(ISNA(MATCH(\"#\"&A492,'Current Owner Standings (2)'!$C$3:$C$87,0)),99,MATCH(\"#\"&A492,'Current Owner Standings (2)'!$C$3:$C$87,0))","v":99}]
[396,{"$f":"IF(ISNA(MATCH(\"#\"&A493,'Current Owner Standings (2)'!$C$3:$C$87,0)),99,MATCH(\"#\"&A493,'Current Owner Standings (2)'!$C$3:$C$87,0))","v":99}]
[397,{"$f":"IF(ISNA(MATCH(\"#\"&A494,'Current Owner Standings (2)'!$C$3:$C$87,0)),99,MATCH(\"#\"&A494,'Current Owner Standings (2)'!$C$3:$C$87,0))","v":99}]
[398,{"$f":"IF(ISNA(MATCH(\"#\"&A495,'Current Owner Standings (2)'!$C$3:$C$87,0)),99,MATCH(\"#\"&A495,'Current Owner Standings (2)'!$C$3:$C$87,0))","v":99}]
[399,{"$f":"IF(ISNA(MATCH(\"#\"&A496,'Current Owner Standings (2)'!$C$3:$C$87,0)),99,MATCH(\"#\"&A496,'Current Owner Standings (2)'!$C$3:$C$87,0))","v":99}]
[400,{"$f":"IF(ISNA(MATCH(\"#\"&A497,'Current Owner Standings (2)'!$C$3:$C$87,0)),99,MATCH(\"#\"&A497,'Current Owner Standings (2)'!$C$3:$C$87,0))","v":99}]

{"sheet":"Last Race Results (2)","index":3,"n_rows":525,"n_cols":23,"rows_kept":525,"cut":false,"hidden":true,"merged":[]}
[null,null,null,null,null,null,null,null,null,null,null,null,null,null,"Menu "]
[null,null,null,null,null,null,null,null,null,null,null,null,null,null,"FOX Sports"]
["Car","Leader","Finish","ST","CAR","DRIVER","MAKE","Most laps","PTS/BNS","LAPS","STATUS","Laps Lead","Winnings",null,"Scores"]
[null,null,null,null,null,null,null,null,null,null,null,null,null,null,"Sports"]
[{"$f":"VALUE(MID(P5,2,FIND(\" \",P5)-1))","v":{"$error":"#VALUE!"}},{"$f":"VALUE(RIGHT(I5,LEN(I5)-FIND(\"/\",I5,1)))","v":{"$error":"#VALUE!"}},{"$f":"O5","v":"NFL"},{"$f":"R5","v":0},{"$f":"VALUE(MID(P5,2,FIND(\" \",P5)-1))","v":{"$error":"#VALUE!"}},{"$f":"RIGHT(P5,LEN(P5)-FIND(\" \",P5))","v":{"$error":"#VALUE!"}},{"$f":"Q5","v":0},{"$f":"IF(W5=5,\"Y\",\"\")","v":""},{"$f":"V5&\"/\"&W5","v":"/"},{"$f":"S5","v":0},{"$f":"U5","v":0},{"$f":"T5","v":0},{"$f":"X5","v":0},null,"NFL"]
[{"$error":"#VALUE!"},{"$error":"#VALUE!"},0,0,{"$error":"#VALUE!"},{"$error":"#VALUE!"},0,{"$f":"IF(W6>=2,\"Y\",\"\")","v":""},{"$f":"V6&\"/\"&W6","v":"/"},{"$f":"S6","v":0},{"$f":"U6","v":0},{"$f":"T6","v":0},{"$f":"X6","v":0}]
[{"$error":"#VALUE!"},{"$error":"#VALUE!"},"Home",0,{"$error":"#VALUE!"},{"$error":"#VALUE!"},0,"","/",0,0,0,0,null,"Home"]
[{"$error":"#VALUE!"},{"$error":"#VALUE!"},"Scores",0,{"$error":"#VALUE!"},{"$error":"#VALUE!"},0,"","/",0,0,0,0,null,"Scores"]
[{"$error":"#VALUE!"},{"$error":"#VALUE!"},"Schedule",0,{"$error":"#VALUE!"},{"$error":"#VALUE!"},0,"","/",0,0,0,0,null,"Schedule"]
[{"$error":"#VALUE!"},{"$error":"#VALUE!"},"Standings",0,{"$error":"#VALUE!"},{"$error":"#VALUE!"},0,"","/",0,0,0,0,null,"Standings"]
[{"$error":"#VALUE!"},{"$error":"#VALUE!"},"Stats",0,{"$error":"#VALUE!"},{"$error":"#VALUE!"},0,"","/",0,0,0,0,null,"Stats"]
[{"$error":"#VALUE!"},{"$error":"#VALUE!"},"Video",0,{"$error":"#VALUE!"},{"$error":"#VALUE!"},0,"","/",0,0,0,0,null,"Video"]
[{"$error":"#VALUE!"},{"$error":"#VALUE!"},"Odds",0,{"$error":"#VALUE!"},{"$error":"#VALUE!"},0,"","/",0,0,0,0,null,"Odds"]
[{"$error":"#VALUE!"},{"$error":"#VALUE!"},"Tickets",0,{"$error":"#VALUE!"},{"$error":"#VALUE!"},0,"","/",0,0,0,0,null,"Tickets"]
[{"$error":"#VALUE!"},{"$error":"#VALUE!"},0,0,{"$error":"#VALUE!"},{"$error":"#VALUE!"},0,"","/",0,0,0,0]
[{"$error":"#VALUE!"},{"$error":"#VALUE!"},0,0,{"$error":"#VALUE!"},{"$error":"#VALUE!"},0,"","/",0,0,0,0]
[{"$error":"#VALUE!"},{"$error":"#VALUE!"},"AFC East",0,{"$error":"#VALUE!"},{"$error":"#VALUE!"},0,"","/",0,0,0,0,null,"AFC East"]
[{"$error":"#VALUE!"},{"$error":"#VALUE!"},"Buffalo BillsBuffalo Bills",0,{"$error":"#VALUE!"},{"$error":"#VALUE!"},0,"","/",0,0,0,0,null,"Buffalo BillsBuffalo Bills"]
[{"$error":"#VALUE!"},{"$error":"#VALUE!"},"Miami DolphinsMiami Dolphins",0,{"$error":"#VALUE!"},{"$error":"#VALUE!"},0,"","/",0,0,0,0,null,"Miami DolphinsMiami Dolphins"]
[{"$error":"#VALUE!"},{"$error":"#VALUE!"},"New England PatriotsNew England Patriots",0,{"$error":"#VALUE!"},{"$error":"#VALUE!"},0,"","/",0,0,0,0,null,"New England PatriotsNew England Patriots"]
[{"$error":"#VALUE!"},{"$error":"#VALUE!"},"New York JetsNew York Jets",0,{"$error":"#VALUE!"},{"$error":"#VALUE!"},0,"","/",0,0,0,0,null,"New York JetsNew York Jets"]
[{"$error":"#VALUE!"},{"$error":"#VALUE!"},0,0,{"$error":"#VALUE!"},{"$error":"#VALUE!"},0,"","/",0,0,0,0]
[{"$error":"#VALUE!"},{"$error":"#VALUE!"},"AFC North",0,{"$error":"#VALUE!"},{"$error":"#VALUE!"},0,"","/",0,0,0,0,null,"AFC North"]
[{"$error":"#VALUE!"},{"$error":"#VALUE!"},"Baltimore RavensBaltimore Ravens",0,{"$error":"#VALUE!"},{"$error":"#VALUE!"},0,"","/",0,0,0,0,null,"Baltimore RavensBaltimore Ravens"]
[{"$error":"#VALUE!"},{"$error":"#VALUE!"},"Cincinnati BengalsCincinnati Bengals",0,{"$error":"#VALUE!"},{"$error":"#VALUE!"},0,"","/",0,0,0,0,null,"Cincinnati BengalsCincinnati Bengals"]
[{"$error":"#VALUE!"},{"$error":"#VALUE!"},"Cleveland BrownsCleveland Browns",0,{"$error":"#VALUE!"},{"$error":"#VALUE!"},0,"","/",0,0,0,0,null,"Cleveland BrownsCleveland Browns"]
[{"$error":"#VALUE!"},{"$error":"#VALUE!"},"Pittsburgh SteelersPittsburgh Steelers",0,{"$error":"#VALUE!"},{"$error":"#VALUE!"},0,"","/",0,0,0,0,null,"Pittsburgh SteelersPittsburgh Steelers"]
[{"$error":"#VALUE!"},{"$error":"#VALUE!"},0,0,{"$error":"#VALUE!"},{"$error":"#VALUE!"},0,"","/",0,0,0,0]
[{"$error":"#VALUE!"},{"$error":"#VALUE!"},"AFC South",0,{"$error":"#VALUE!"},{"$error":"#VALUE!"},0,"","/",0,0,0,0,null,"AFC South"]
[{"$error":"#VALUE!"},{"$error":"#VALUE!"},"Houston TexansHouston Texans",0,{"$error":"#VALUE!"},{"$error":"#VALUE!"},0,"","/",0,0,0,0,null,"Houston TexansHouston Texans"]
[{"$error":"#VALUE!"},{"$error":"#VALUE!"},"Indianapolis ColtsIndianapolis Colts",0,{"$error":"#VALUE!"},{"$error":"#VALUE!"},0,"","/",0,0,0,0,null,"Indianapolis ColtsIndianapolis Colts"]
[{"$error":"#VALUE!"},{"$error":"#VALUE!"},"Jacksonville JaguarsJacksonville Jaguars",0,{"$error":"#VALUE!"},{"$error":"#VALUE!"},0,"","/",0,0,0,0,null,"Jacksonville JaguarsJacksonville Jaguars"]
[{"$error":"#VALUE!"},{"$error":"#VALUE!"},"Tennessee TitansTennessee Titans",0,{"$error":"#VALUE!"},{"$error":"#VALUE!"},0,"","/",0,0,0,0,null,"Tennessee TitansTennessee Titans"]
[{"$error":"#VALUE!"},{"$error":"#VALUE!"},0,0,{"$error":"#VALUE!"},{"$error":"#VALUE!"},0,"","/",0,0,0,0]
[{"$error":"#VALUE!"},{"$error":"#VALUE!"},"AFC West",0,{"$error":"#VALUE!"},{"$error":"#VALUE!"},0,"","/",0,0,0,0,null,"AFC West"]
[{"$error":"#VALUE!"},{"$error":"#VALUE!"},"Denver BroncosDenver Broncos",0,{"$error":"#VALUE!"},{"$error":"#VALUE!"},0,"","/",0,0,0,0,null,"Denver BroncosDenver Broncos"]
[{"$error":"#VALUE!"},{"$error":"#VALUE!"},"Kansas City ChiefsKansas City Chiefs",0,{"$error":"#VALUE!"},{"$error":"#VALUE!"},0,"","/",0,0,0,0,null,"Kansas City ChiefsKansas City Chiefs"]
[{"$error":"#VALUE!"},{"$error":"#VALUE!"},"Oakland RaidersOakland Raiders",0,{"$error":"#VALUE!"},{"$error":"#VALUE!"},0,"","/",0,0,0,0,null,"Oakland RaidersOakland Raiders"]
[{"$error":"#VALUE!"},{"$error":"#VALUE!"},"Los Angeles ChargersLos Angeles Chargers",0,{"$error":"#VALUE!"},{"$error":"#VALUE!"},0,"","/",0,0,0,0,null,"Los Angeles ChargersLos Angeles Chargers"]
[{"$error":"#VALUE!"},{"$error":"#VALUE!"},0,0,{"$error":"#VALUE!"},{"$error":"#VALUE!"},0,"","/",0,0,0,0]
[{"$error":"#VALUE!"},{"$error":"#VALUE!"},"NFC East",0,{"$error":"#VALUE!"},{"$error":"#VALUE!"},0,"","/",0,0,0,0,null,"NFC East"]
[{"$error":"#VALUE!"},{"$error":"#VALUE!"},"Dallas CowboysDallas Cowboys",0,{"$error":"#VALUE!"},{"$error":"#VALUE!"},0,"","/",0,0,0,0,null,"Dallas CowboysDallas Cowboys"]
[{"$error":"#VALUE!"},{"$error":"#VALUE!"},"New York GiantsNew York Giants",0,{"$error":"#VALUE!"},{"$error":"#VALUE!"},0,"","/",0,0,0,0,null,"New York GiantsNew York Giants"]
[{"$error":"#VALUE!"},{"$error":"#VALUE!"},"Philadelphia EaglesPhiladelphia Eagles",0,{"$error":"#VALUE!"},{"$error":"#VALUE!"},0,"","/",0,0,0,0,null,"Philadelphia EaglesPhiladelphia Eagles"]
[null,null,null,null,null,null,null,null,null,null,null,null,null,null,"Washington RedskinsWashington Redskins"]
[]
[null,null,null,null,null,null,null,null,null,null,null,null,null,null,"NFC North"]
[null,null,null,null,null,null,null,null,null,null,null,null,null,null,"Chicago BearsChicago Bears"]
[null,null,null,null,null,null,null,null,null,null,null,null,null,null,"Detroit LionsDetroit Lions"]
[null,null,null,null,null,null,null,null,null,null,null,null,null,null,"Green Bay PackersGreen Bay Packers"]
[null,null,null,null,null,null,null,null,null,null,null,null,null,null,"Minnesota VikingsMinnesota Vikings"]
[]
[null,null,null,null,null,null,null,null,null,null,null,null,null,null,"NFC South"]
[null,null,null,null,null,null,null,null,null,null,null,null,null,null,"Atlanta FalconsAtlanta Falcons"]
[null,null,null,null,null,null,null,null,null,null,null,null,null,null,"Carolina PanthersCarolina Panthers"]
[null,null,null,null,null,null,null,null,null,null,null,null,null,null,"New Orleans SaintsNew Orleans Saints"]
[null,null,null,null,null,null,null,null,null,null,null,null,null,null,"Tampa Bay BuccaneersTampa Bay Buccaneers"]
[]
[null,null,null,null,null,null,null,null,null,null,null,null,null,null,"NFC West"]
[null,null,null,null,null,null,null,null,null,null,null,null,null,null,"Arizona CardinalsArizona Cardinals"]
[null,null,null,null,null,null,null,null,null,null,null,null,null,null,"San Francisco 49ersSan Francisco 49ers"]
[null,null,null,null,null,null,null,null,null,null,null,null,null,null,"Seattle SeahawksSeattle Seahawks"]
[null,null,null,null,null,null,null,null,null,null,null,null,null,null,"Los Angeles RamsLos Angeles Rams"]
[null,null,null,null,null,null,null,null,null,null,null,null,null,null,"MLB"]
[]
[null,null,null,null,null,null,null,null,null,null,null,null,null,null,"Home"]
[null,null,null,null,null,null,null,null,null,null,null,null,null,null,"Scores"]
[null,null,null,null,null,null,null,null,null,null,null,null,null,null,"Schedule"]
[null,null,null,null,null,null,null,null,null,null,null,null,null,null,"Standings"]
[null,null,null,null,null,null,null,null,null,null,null,null,null,null,"Stats"]
[null,null,null,null,null,null,null,null,null,null,null,null,null,null,"Video"]
[null,null,null,null,null,null,null,null,null,null,null,null,null,null,"Odds"]
[null,null,null,null,null,null,null,null,null,null,null,null,null,null,"Tickets"]
[]
[]
[null,null,null,null,null,null,null,null,null,null,null,null,null,null,"AL East"]
[null,null,null,null,null,null,null,null,null,null,null,null,null,null,"Baltimore OriolesBaltimore Orioles"]
[null,null,null,null,null,null,null,null,null,null,null,null,null,null,"Boston Red SoxBoston Red Sox"]
[null,null,null,null,null,null,null,null,null,null,null,null,null,null,"New York YankeesNew York Yankees"]
[null,null,null,null,null,null,null,null,null,null,null,null,null,null,"Tampa Bay RaysTampa Bay Rays"]
[null,null,null,null,null,null,null,null,null,null,null,null,null,null,"Toronto Blue JaysToronto Blue Jays"]
[]
[null,null,null,null,null,null,null,null,null,null,null,null,null,null,"AL Central"]
[null,null,null,null,null,null,null,null,null,null,null,null,null,null,"Chicago White SoxChicago White Sox"]
[null,null,null,null,null,null,null,null,null,null,null,null,null,null,"Cleveland IndiansCleveland Indians"]
[null,null,null,null,null,null,null,null,null,null,null,null,null,null,"Detroit TigersDetroit Tigers"]
[null,null,null,null,null,null,null,null,null,null,null,null,null,null,"Kansas City RoyalsKansas City Royals"]
[null,null,null,null,null,null,null,null,null,null,null,null,null,null,"Minnesota TwinsMinnesota Twins"]
[]
[null,null,null,null,null,null,null,null,null,null,null,null,null,null,"AL West"]
[null,null,null,null,null,null,null,null,null,null,null,null,null,null,"Houston AstrosHouston Astros"]
[null,null,null,null,null,null,null,null,null,null,null,null,null,null,"Los Angeles AngelsLos Angeles Angels"]
[null,null,null,null,null,null,null,null,null,null,null,null,null,null,"Oakland AthleticsOakland Athletics"]
[null,null,null,null,null,null,null,null,null,null,null,null,null,null,"Seattle MarinersSeattle Mariners"]
[null,null,null,null,null,null,null,null,null,null,null,null,null,null,"Texas RangersTexas Rangers"]
[]
[null,null,null,null,null,null,null,null,null,null,null,null,null,null,"NL East"]
[null,null,null,null,null,null,null,null,null,null,null,null,null,null,"Atlanta BravesAtlanta Braves"]
[null,null,null,null,null,null,null,null,null,null,null,null,null,null,"Miami MarlinsMiami Marlins"]
[null,null,null,null,null,null,null,null,null,null,null,null,null,null,"New York MetsNew York Mets"]
[null,null,null,null,null,null,null,null,null,null,null,null,null,null,"Philadelphia PhilliesPhiladelphia Phillies"]
[null,null,null,null,null,null,null,null,null,null,null,null,null,null,"Washington NationalsWashington Nationals"]
[]
[null,null,null,null,null,null,null,null,null,null,null,null,null,null,"NL Central"]
[null,null,null,null,null,null,null,null,null,null,null,null,null,null,"Chicago CubsChicago Cubs"]
[null,null,null,null,null,null,null,null,null,null,null,null,null,null,"Cincinnati RedsCincinnati Reds"]
[null,null,null,null,null,null,null,null,null,null,null,null,null,null,"Milwaukee BrewersMilwaukee Brewers"]
[null,null,null,null,null,null,null,null,null,null,null,null,null,null,"Pittsburgh PiratesPittsburgh Pirates"]
[null,null,null,null,null,null,null,null,null,null,null,null,null,null,"St. Louis CardinalsSt. Louis Cardinals"]
[]
[null,null,null,null,null,null,null,null,null,null,null,null,null,null,"NL West"]
[null,null,null,null,null,null,null,null,null,null,null,null,null,null,"Arizona DiamondbacksArizona Diamondbacks"]
[null,null,null,null,null,null,null,null,null,null,null,null,null,null,"Colorado RockiesColorado Rockies"]
[null,null,null,null,null,null,null,null,null,null,null,null,null,null,"Los Angeles DodgersLos Angeles Dodgers"]
[null,null,null,null,null,null,null,null,null,null,null,null,null,null,"San Diego PadresSan Diego Padres"]
[null,null,null,null,null,null,null,null,null,null,null,null,null,null,"San Francisco GiantsSan Francisco Giants"]
[null,null,null,null,null,null,null,null,null,null,null,null,null,null,"NCAA FB"]
[]
[null,null,null,null,null,null,null,null,null,null,null,null,null,null,"Home"]
[null,null,null,null,null,null,null,null,null,null,null,null,null,null,"Scores"]
[null,null,null,null,null,null,null,null,null,null,null,null,null,null,"Polls"]
[null,null,null,null,null,null,null,null,null,null,null,null,null,null,"Schedule"]
[null,null,null,null,null,null,null,null,null,null,null,null,null,null,"Standings"]
[null,null,null,null,null,null,null,null,null,null,null,null,null,null,"Stats"]
[null,null,null,null,null,null,null,null,null,null,null,null,null,null,"Teams"]
[null,null,null,null,null,null,null,null,null,null,null,null,null,null,"Video"]
[null,null,null,null,null,null,null,null,null,null,null,null,null,null,"Odds"]
[null,null,null,null,null,null,null,null,null,null,null,null,null,null,"Tickets"]
[null,null,null,null,null,null,null,null,null,null,null,null,null,null,"NASCAR"]
[]
[null,null,null,null,null,null,null,null,null,null,null,null,null,null,"Home"]
[null,null,null,null,null,null,null,null,null,null,null,null,null,null,"RaceTrax"]
[null,null,null,null,null,null,null,null,null,null,null,null,null,null,"Schedule"]
[null,null,null,null,null,null,null,null,null,null,null,null,null,null,"Standings"]
[null,null,null,null,null,null,null,null,null,null,null,null,null,null,"Results"]
[null,null,null,null,null,null,null,null,null,null,null,null,null,null,"Drivers"]
[null,null,null,null,null,null,null,null,null,null,null,null,null,null,"Video"]
[null,null,null,null,null,null,null,null,null,null,null,null,null,null,"Tickets"]
[null,null,null,null,null,null,null,null,null,null,null,null,null,null,"Soccer"]
[]
[null,null,null,null,null,null,null,null,null,null,null,null,null,null,"Home"]
[null,null,null,null,null,null,null,null,null,null,null,null,null,null,"Scores"]
[null,null,null,null,null,null,null,null,null,null,null,null,null,null,"Schedule"]
[null,null,null,null,null,null,null,null,null,null,null,null,null,null,"Standings"]
[null,null,null,null,null,null,null,null,null,null,null,null,null,null,"Stats"]
[null,null,null,null,null,null,null,null,null,null,null,null,null,null,"Teams"]
[null,null,null,null,null,null,null,null,null,null,null,null,null,null,"Video"]
[null,null,null,null,null,null,null,null,null,null,null,null,null,null,"Odds"]
[null,null,null,null,null,null,null,null,null,null,null,null,null,null,"Tickets"]
[]
[]
[null,null,null,null,null,null,null,null,null,null,null,null,null,null,"Leagues"]
[null,null,null,null,null,null,null,null,null,null,null,null,null,null," English Premier LeagueEnglish Premier League"]
[null,null,null,null,null,null,null,null,null,null,null,null,null,null," La LigaLa Liga"]
[null,null,null,null,null,null,null,null,null,null,null,null,null,null," BundesligaBundesliga"]
[null,null,null,null,null,null,null,null,null,null,null,null,null,null," Serie ASerie A"]
[null,null,null,null,null,null,null,null,null,null,null,null,null,null," MLSMLS"]
[null,null,null,null,null,null,null,null,null,null,null,null,null,null," Liga MXLiga MX"]
[null,null,null,null,null,null,null,null,null,null,null,null,null,null," Ligue 1Ligue 1"]
[null,null,null,null,null,null,null,null,null,null,null,null,null,null," Scottish Premier LeagueScottish Premier League"]
[null,null,null,null,null,null,null,null,null,null,null,null,null,null," EredivisieEredivisie"]
[]
[null,null,null,null,null,null,null,null,null,null,null,null,null,null,"Cups"]
[null,null,null,null,null,null,null,null,null,null,null,null,null,null," FIFA World CupFIFA World Cup"]
[null,null,null,null,null,null,null,null,null,null,null,null,null,null," FIFA Women's World CupFIFA Women's World Cup"]
[null,null,null,null,null,null,null,null,null,null,null,null,null,null," FIFA Confederations CupFIFA Confederations Cup"]
[null,null,null,null,null,null,null,null,null,null,null,null,null,null," UEFA Champions LeagueUEFA Champions League"]
[null,null,null,null,null,null,null,null,null,null,null,null,null,null," UEFA Europa LeagueUEFA Europa League"]
[null,null,null,null,null,null,null,null,null,null,null,null,null,null," Gold CupGold Cup"]
[null,null,null,null,null,null,null,null,null,null,null,null,null,null," FA CupFA Cup"]
[null,null,null,null,null,null,null,null,null,null,null,null,null,null," Copa AméricaCopa América"]
[]
[null,null,null,null,null,null,null,null,null,null,null,null,null,null,"Clubs"]
[null,null,null,null,null,null,null,null,null,null,null,null,null,null,"ArsenalArsenal"]
[null,null,null,null,null,null,null,null,null,null,null,null,null,null,"BarcelonaBarcelona"]
[null,null,null,null,null,null,null,null,null,null,null,null,null,null,"Bayern MunichBayern Munich"]
[null,null,null,null,null,null,null,null,null,null,null,null,null,null,"ChelseaChelsea"]
[null,null,null,null,null,null,null,null,null,null,null,null,null,null,"JuventusJuventus"]
[null,null,null,null,null,null,null,null,null,null,null,null,null,null,"LiverpoolLiverpool"]
[null,null,null,null,null,null,null,null,null,null,null,null,null,null,"Manchester CityManchester City"]
[null,null,null,null,null,null,null,null,null,null,null,null,null,null,"Manchester UnitedManchester United"]
[null,null,null,null,null,null,null,null,null,null,null,null,null,null,"Real MadridReal Madrid"]
[null,null,null,null,null,null,null,null,null,null,null,null,null,null,"United StatesUnited States Men"]
[null,null,null,null,null,null,null,null,null,null,null,null,null,null,"MexicoMexico Men"]
[null,null,null,null,null,null,null,null,null,null,null,null,null,null,"United StatesUnited States Women"]
[null,null,null,null,null,null,null,null,null,null,null,null,null,null,"UFC"]
[]
[null,null,null,null,null,null,null,null,null,null,null,null,null,null,"Home"]
[null,null,null,null,null,null,null,null,null,null,null,null,null,null,"FightTrax"]
[null,null,null,null,null,null,null,null,null,null,null,null,null,null,"Schedule"]
[null,null,null,null,null,null,null,null,null,null,null,null,null,null,"Rankings"]
[null,null,null,null,null,null,null,null,null,null,null,null,null,null,"Results"]
[null,null,null,null,null,null,null,null,null,null,null,null,null,null,"Stats"]
[null,null,null,null,null,null,null,null,null,null,null,null,null,null,"Fighters"]
[null,null,null,null,null,null,null,null,null,null,null,null,null,null,"Video"]
[null,null,null,null,null,null,null,null,null,null,null,null,null,null,"Tickets"]
[null,null,null,null,null,null,null,null,null,null,null,null,null,null,"NBA"]
[]
[null,null,null,null,null,null,null,null,null,null,null,null,null,null,"Home"]
[null,null,null,null,null,null,null,null,null,null,null,null,null,null,"Scores"]
[null,null,null,null,null,null,null,null,null,null,null,null,null,null,"Schedule"]
[null,null,null,null,null,null,null,null,null,null,null,null,null,null,"Standings"]
[null,null,null,null,null,null,null,null,null,null,null,null,null,null,"Stats"]
[null,null,null,null,null,null,null,null,null,null,null,null,null,null,"Video"]
[null,null,null,null,null,null,null,null,null,null,null,null,null,null,"Odds"]
[null,null,null,null,null,null,null,null,null,null,null,null,null,null,"Tickets"]
[]
[]
[null,null,null,null,null,null,null,null,null,null,null,null,null,null,"Atlantic"]
[null,null,null,null,null,null,null,null,null,null,null,null,null,null,"Boston CelticsBoston Celtics"]
[null,null,null,null,null,null,null,null,null,null,null,null,null,null,"Brooklyn NetsBrooklyn Nets"]
[null,null,null,null,null,null,null,null,null,null,null,null,null,null,"New York KnicksNew York Knicks"]
[null,null,null,null,null,null,null,null,null,null,null,null,null,null,"Philadelphia 76ersPhiladelphia 76ers"]
[null,null,null,null,null,null,null,null,null,null,null,null,null,null,"Toronto RaptorsToronto Raptors"]
[]
[null,null,null,null,null,null,null,null,null,null,null,null,null,null,"Central"]
[null,null,null,null,null,null,null,null,null,null,null,null,null,null,"Chicago BullsChicago Bulls"]
[null,null,null,null,null,null,null,null,null,null,null,null,null,null,"Cleveland CavaliersCleveland Cavaliers"]
[null,null,null,null,null,null,null,null,null,null,null,null,null,null,"Detroit PistonsDetroit Pistons"]
[null,null,null,null,null,null,null,null,null,null,null,null,null,null,"Milwaukee BucksMilwaukee Bucks"]
[null,null,null,null,null,null,null,null,null,null,null,null,null,null,"Indiana PacersIndiana Pacers"]
[]
[null,null,null,null,null,null,null,null,null,null,null,null,null,null,"Southeast"]
[null,null,null,null,null,null,null,null,null,null,null,null,null,null,"Atlanta HawksAtlanta Hawks"]
[null,null,null,null,null,null,null,null,null,null,null,null,null,null,"Charlotte HornetsCharlotte Hornets"]
[null,null,null,null,null,null,null,null,null,null,null,null,null,null,"Miami HeatMiami Heat"]
[null,null,null,null,null,null,null,null,null,null,null,null,null,null,"Orlando MagicOrlando Magic"]
[null,null,null,null,null,null,null,null,null,null,null,null,null,null,"Washington WizardsWashington Wizards"]
[]
[null,null,null,null,null,null,null,null,null,null,null,null,null,null,"Southwest"]
[null,null,null,null,null,null,null,null,null,null,null,null,null,null,"Dallas MavericksDallas Mavericks"]
[null,null,null,null,null,null,null,null,null,null,null,null,null,null,"Houston RocketsHouston Rockets"]
[null,null,null,null,null,null,null,null,null,null,null,null,null,null,"Memphis GrizzliesMemphis Grizzlies"]
[null,null,null,null,null,null,null,null,null,null,null,null,null,null,"New Orleans PelicansNew Orleans Pelicans"]
[null,null,null,null,null,null,null,null,null,null,null,null,null,null,"San Antonio SpursSan Antonio Spurs"]
[]
[null,null,null,null,null,null,null,null,null,null,null,null,null,null,"Northwest"]
[null,null,null,null,null,null,null,null,null,null,null,null,null,null,"Denver NuggetsDenver Nuggets"]
[null,null,null,null,null,null,null,null,null,null,null,null,null,null,"Minnesota TimberwolvesMinnesota Timberwolves"]
[null,null,null,null,null,null,null,null,null,null,null,null,null,null,"Oklahoma City ThunderOklahoma City Thunder"]
[null,null,null,null,null,null,null,null,null,null,null,null,null,null,"Portland Trail BlazersPortland Trail Blazers"]
[null,null,null,null,null,null,null,null,null,null,null,null,null,null,"Utah JazzUtah Jazz"]
[]
[null,null,null,null,null,null,null,null,null,null,null,null,null,null,"Pacific"]
[null,null,null,null,null,null,null,null,null,null,null,null,null,null,"Golden State WarriorsGolden State Warriors"]
[null,null,null,null,null,null,null,null,null,null,null,null,null,null,"Los Angeles ClippersLos Angeles Clippers"]
[null,null,null,null,null,null,null,null,null,null,null,null,null,null,"Los Angeles LakersLos Angeles Lakers"]
[null,null,null,null,null,null,null,null,null,null,null,null,null,null,"Phoenix SunsPhoenix Suns"]
[null,null,null,null,null,null,null,null,null,null,null,null,null,null,"Sacramento KingsSacramento Kings"]
[null,null,null,null,null,null,null,null,null,null,null,null,null,null,"More"]
[null,null,null,null,null,null,null,null,null,null,null,null,null,null,"NHL"]
[]
[null,null,null,null,null,null,null,null,null,null,null,null,null,null,"Home"]
[null,null,null,null,null,null,null,null,null,null,null,null,null,null,"Scores"]
[null,null,null,null,null,null,null,null,null,null,null,null,null,null,"Playoffs"]
[null,null,null,null,null,null,null,null,null,null,null,null,null,null,"Schedule"]
[null,null,null,null,null,null,null,null,null,null,null,null,null,null,"Standings"]
[null,null,null,null,null,null,null,null,null,null,null,null,null,null,"Stats"]
[null,null,null,null,null,null,null,null,null,null,null,null,null,null,"Video"]
[null,null,null,null,null,null,null,null,null,null,null,null,null,null,"Odds"]
[null,null,null,null,null,null,null,null,null,null,null,null,null,null,"Tickets"]
[]
[]
[null,null,null,null,null,null,null,null,null,null,null,null,null,null,"Atlantic"]
[null,null,null,null,null,null,null,null,null,null,null,null,null,null,"Boston BruinsBoston Bruins"]
[null,null,null,null,null,null,null,null,null,null,null,null,null,null,"Buffalo SabresBuffalo Sabres"]
[null,null,null,null,null,null,null,null,null,null,null,null,null,null,"Detroit Red WingsDetroit Red Wings"]
[null,null,null,null,null,null,null,null,null,null,null,null,null,null,"Florida PanthersFlorida Panthers"]
[null,null,null,null,null,null,null,null,null,null,null,null,null,null,"Montreal CanadiensMontreal Canadiens"]
[null,null,null,null,null,null,null,null,null,null,null,null,null,null,"Ottawa SenatorsOttawa Senators"]
[null,null,null,null,null,null,null,null,null,null,null,null,null,null,"Tampa Bay LightningTampa Bay Lightning"]
[null,null,null,null,null,null,null,null,null,null,null,null,null,null,"Toronto Maple LeafsToronto Maple Leafs"]
[]
[null,null,null,null,null,null,null,null,null,null,null,null,null,null,"Metropolitan"]
[null,null,null,null,null,null,null,null,null,null,null,null,null,null,"Carolina HurricanesCarolina Hurricanes"]
[null,null,null,null,null,null,null,null,null,null,null,null,null,null,"Columbus Blue JacketsColumbus Blue Jackets"]
[null,null,null,null,null,null,null,null,null,null,null,null,null,null,"New Jersey DevilsNew Jersey Devils"]
[null,null,null,null,null,null,null,null,null,null,null,null,null,null,"New York IslandersNew York Islanders"]
[null,null,null,null,null,null,null,null,null,null,null,null,null,null,"New York RangersNew York Rangers"]
[null,null,null,null,null,null,null,null,null,null,null,null,null,null,"Philadelphia FlyersPhiladelphia Flyers"]
[null,null,null,null,null,null,null,null,null,null,null,null,null,null,"Pittsburgh PenguinsPittsburgh Penguins"]
[null,null,null,null,null,null,null,null,null,null,null,null,null,null,"Washington CapitalsWashington Capitals"]
[]
[null,null,null,null,null,null,null,null,null,null,null,null,null,null,"Central"]
[null,null,null,null,null,null,null,null,null,null,null,null,null,null,"Chicago BlackhawksChicago Blackhawks"]
[null,null,null,null,null,null,null,null,null,null,null,null,null,null,"Colorado AvalancheColorado Avalanche"]
[null,null,null,null,null,null,null,null,null,null,null,null,null,null,"Dallas StarsDallas Stars"]
[null,null,null,null,null,null,null,null,null,null,null,null,null,null,"Minnesota WildMinnesota Wild"]
[null,null,null,null,null,null,null,null,null,null,null,null,null,null,"Nashville PredatorsNashville Predators"]
[null,null,null,null,null,null,null,null,null,null,null,null,null,null,"St. Louis BluesSt. Louis Blues"]
[null,null,null,null,null,null,null,null,null,null,null,null,null,null,"Winnipeg JetsWinnipeg Jets"]
[]
[null,null,null,null,null,null,null,null,null,null,null,null,null,null,"Pacific"]
[null,null,null,null,null,null,null,null,null,null,null,null,null,null,"Anaheim DucksAnaheim Ducks"]
[null,null,null,null,null,null,null,null,null,null,null,null,null,null,"Arizona CoyotesArizona Coyotes"]
[null,null,null,null,null,null,null,null,null,null,null,null,null,null,"Los Angeles KingsLos Angeles Kings"]
[null,null,null,null,null,null,null,null,null,null,null,null,null,null,"Calgary FlamesCalgary Flames"]
[null,null,null,null,null,null,null,null,null,null,null,null,null,null,"Edmonton OilersEdmonton Oilers"]
[null,null,null,null,null,null,null,null,null,null,null,null,null,null,"San Jose SharksSan Jose Sharks"]
[null,null,null,null,null,null,null,null,null,null,null,null,null,null,"Vancouver CanucksVancouver Canucks"]
[null,null,null,null,null,null,null,null,null,null,null,null,null,null,"Vegas Golden KnightsVegas Golden Knights"]
[null,null,null,null,null,null,null,null,null,null,null,null,null,null,"Golf"]
[]
[null,null,null,null,null,null,null,null,null,null,null,null,null,null,"Home"]
[null,null,null,null,null,null,null,null,null,null,null,null,null,null,"Leaderboard"]
[null,null,null,null,null,null,null,null,null,null,null,null,null,null,"Schedule"]
[null,null,null,null,null,null,null,null,null,null,null,null,null,null,"Rankings"]
[null,null,null,null,null,null,null,null,null,null,null,null,null,null,"Stats"]
[null,null,null,null,null,null,null,null,null,null,null,null,null,null,"USGA"]
[null,null,null,null,null,null,null,null,null,null,null,null,null,null,"Golfers"]
[null,null,null,null,null,null,null,null,null,null,null,null,null,null,"Video"]
[null,null,null,null,null,null,null,null,null,null,null,null,null,null,"Tickets"]
[null,null,null,null,null,null,null,null,null,null,null,null,null,null,"More"]
[null,null,null,null,null,null,null,null,null,null,null,null,null,null,"NCAA BK"]
[]
[null,null,null,null,null,null,null,null,null,null,null,null,null,null,"Home"]
[null,null,null,null,null,null,null,null,null,null,null,null,null,null,"Bracket"]
[null,null,null,null,null,null,null,null,null,null,null,null,null,null,"Scores"]
[null,null,null,null,null,null,null,null,null,null,null,null,null,null,"Polls"]
[null,null,null,null,null,null,null,null,null,null,null,null,null,null,"Schedule"]
[null,null,null,null,null,null,null,null,null,null,null,null,null,null,"Standings"]
[null,null,null,null,null,null,null,null,null,null,null,null,null,null,"Stats"]
[null,null,null,null,null,null,null,null,null,null,null,null,null,null,"Teams"]
[null,null,null,null,null,null,null,null,null,null,null,null,null,null,"Video"]
[null,null,null,null,null,null,null,null,null,null,null,null,null,null,"Bracketeering"]
[null,null,null,null,null,null,null,null,null,null,null,null,null,null,"Tickets"]
[null,null,null,null,null,null,null,null,null,null,null,null,null,null,"BIG3"]
[null,null,null,null,null,null,null,null,null,null,null,null,null,null,"Motor Racing"]
[]
[null,null,null,null,null,null,null,null,null,null,null,null,null,null,"Home"]
[null,null,null,null,null,null,null,null,null,null,null,null,null,null,"Video"]
[null,null,null,null,null,null,null,null,null,null,null,null,null,null,"Galleries"]
[null,null,null,null,null,null,null,null,null,null,null,null,null,null,"NHRA"]
[null,null,null,null,null,null,null,null,null,null,null,null,null,null,"Tennis"]
[]
[null,null,null,null,null,null,null,null,null,null,null,null,null,null,"Home"]
[null,null,null,null,null,null,null,null,null,null,null,null,null,null,"Schedule"]
[null,null,null,null,null,null,null,null,null,null,null,null,null,null,"Results"]
[null,null,null,null,null,null,null,null,null,null,null,null,null,null,"Rankings"]
[null,null,null,null,null,null,null,null,null,null,null,null,null,null,"Players"]
[null,null,null,null,null,null,null,null,null,null,null,null,null,null,"Video"]
[null,null,null,null,null,null,null,null,null,null,null,null,null,null,"Galleries"]
[null,null,null,null,null,null,null,null,null,null,null,null,null,null,"Horse Racing"]
[]
[null,null,null,null,null,null,null,null,null,null,null,null,null,null,"Home"]
[null,null,null,null,null,null,null,null,null,null,null,null,null,null,"Video"]
[null,null,null,null,null,null,null,null,null,null,null,null,null,null,"Galleries"]
[null,null,null,null,null,null,null,null,null,null,null,null,null,null,"Boxing"]
[]
[null,null,null,null,null,null,null,null,null,null,null,null,null,null,"Home"]
[null,null,null,null,null,null,null,null,null,null,null,null,null,null,"Video"]
[null,null,null,null,null,null,null,null,null,null,null,null,null,null,"Galleries"]
[null,null,null,null,null,null,null,null,null,null,null,null,null,null,"Olympics"]
[]
[null,null,null,null,null,null,null,null,null,null,null,null,null,null,"Home"]
[null,null,null,null,null,null,null,null,null,null,null,null,null,null,"Schedule"]
[null,null,null,null,null,null,null,null,null,null,null,null,null,null,"Results"]
[null,null,null,null,null,null,null,null,null,null,null,null,null,null,"Medals"]
[null,null,null,null,null,null,null,null,null,null,null,null,null,null,"Athletes"]
[null,null,null,null,null,null,null,null,null,null,null,null,null,null,"Video"]
[null,null,null,null,null,null,null,null,null,null,null,null,null,null,"Galleries"]
[null,null,null,null,null,null,null,null,null,null,null,null,null,null,"Other Sports"]
[]
[null,null,null,null,null,null,null,null,null,null,null,null,null,null,"Home"]
[null,null,null,null,null,null,null,null,null,null,null,null,null,null,"Live TV Highlights"]
[null,null,null,null,null,null,null,null,null,null,null,null,null,null,"Shows"]
[]
[null,null,null,null,null,null,null,null,null,null,null,null,null,null,"First Things First"]
[null,null,null,null,null,null,null,null,null,null,null,null,null,null,"Lock It In"]
[null,null,null,null,null,null,null,null,null,null,null,null,null,null,"Magnify"]
[null,null,null,null,null,null,null,null,null,null,null,null,null,null,"MLB Whiparound"]
[null,null,null,null,null,null,null,null,null,null,null,null,null,null,"PROcast"]
[null,null,null,null,null,null,null,null,null,null,null,null,null,null,"Race Hub"]
[null,null,null,null,null,null,null,null,null,null,null,null,null,null,"Speak For Yourself"]
[null,null,null,null,null,null,null,null,null,null,null,null,null,null,"The Herd"]
[null,null,null,null,null,null,null,null,null,null,null,null,null,null,"The Ultimate Fighter"]
[null,null,null,null,null,null,null,null,null,null,null,null,null,null,"Undisputed"]
[]
[null,null,null,null,null,null,null,null,null,null,null,null,null,null,"More"]
[]
[null,null,null,null,null,null,null,null,null,null,null,null,null,null,"FOX Soccer MatchPass"]
[null,null,null,null,null,null,null,null,null,null,null,null,null,null,"FS1"]
[null,null,null,null,null,null,null,null,null,null,null,null,null,null,"Virtual Reality"]
[null,null,null,null,null,null,null,null,null,null,null,null,null,null,"Popular Videos"]
[null,null,null,null,null,null,null,null,null,null,null,null,null,null,"All Videos"]
[null,null,null,null,null,null,null,null,null,null,null,null,null,null,"Mobile"]
[null,null,null,null,null,null,null,null,null,null,null,null,null,null,"Podcasts"]
[null,null,null,null,null,null,null,null,null,null,null,null,null,null,"Radio"]
[null,null,null,null,null,null,null,null,null,null,null,null,null,null,"Big Ten Network"]
[null,null,null,null,null,null,null,null,null,null,null,null,null,null,"Westminster"]
[null,null,null,null,null,null,null,null,null,null,null,null,null,null,"Help"]
[null,null,null,null,null,null,null,null,null,null,null,null,null,null,"DraftKings"]
[null,null,null,null,null,null,null,null,null,null,null,null,null,null,"Shop"]
[null,null,null,null,null,null,null,null,null,null,null,null,null,null,"Tickets"]
[]
[]
[null,null,null,null,null,null,null,null,null,null,null,null,null,null,"Apps"]
[null,null,null,null,null,null,null,null,null,null,null,null,null,null,"FOX SportsFOX Sports"]
[null,null,null,null,null,null,null,null,null,null,null,null,null,null,"FOX Sports VRFOX Sports VR"]
[null,null,null,null,null,null,null,null,null,null,null,null,null,null,"FOX Soccer MatchPassFOX Soccer MatchPass"]
[]
[null,null,null,null,null,null,null,null,null,null,null,null,null,null,"Local"]
[null,null,null,null,null,null,null,null,null,null,null,null,null,null,"Arizona"]
[null,null,null,null,null,null,null,null,null,null,null,null,null,null,"Carolinas"]
[null,null,null,null,null,null,null,null,null,null,null,null,null,null,"Detroit"]
[null,null,null,null,null,null,null,null,null,null,null,null,null,null,"Florida"]
[null,null,null,null,null,null,null,null,null,null,null,null,null,null,"Indiana"]
[null,null,null,null,null,null,null,null,null,null,null,null,null,null,"Kansas City"]
[null,null,null,null,null,null,null,null,null,null,null,null,null,null,"Midwest"]
[null,null,null,null,null,null,null,null,null,null,null,null,null,null,"North"]
[null,null,null,null,null,null,null,null,null,null,null,null,null,null,"Ohio"]
[null,null,null,null,null,null,null,null,null,null,null,null,null,null,"San Diego"]
[null,null,null,null,null,null,null,null,null,null,null,null,null,null,"South"]
[null,null,null,null,null,null,null,null,null,null,null,null,null,null,"Southwest"]
[null,null,null,null,null,null,null,null,null,null,null,null,null,null,"Tennessee"]
[null,null,null,null,null,null,null,null,null,null,null,null,null,null,"West"]
[null,null,null,null,null,null,null,null,null,null,null,null,null,null,"Wisconsin"]
[]
[null,null,null,null,null,null,null,null,null,null,null,null,null,null,"Follow"]
[null,null,null,null,null,null,null,null,null,null,null,null,null,null,"Follow FOX Sports"]
[null,null,null,null,null,null,null,null,null,null,null,null,null,null,"FacebookFacebook"]
[null,null,null,null,null,null,null,null,null,null,null,null,null,null,"InstagramInstagram"]
[null,null,null,null,null,null,null,null,null,null,null,null,null,null,"TwitterTwitter"]
[null,null,null,null,null,null,null,null,null,null,null,null,null,null,"YouTubeYouTube"]
[null,null,null,null,null,null,null,null,null,null,null,null,null,null,"RSSRSS"]
[]
[null,null,null,null,null,null,null,null,null,null,null,null,null,null,"Sign In "]
[null,null,null,null,null,null,null,null,null,null,null,null,null,null,"Hi, "]
[]
[null,null,null,null,null,null,null,null,null,null,null,null,null,null,"Account Info "]
[null,null,null,null,null,null,null,null,null,null,null,null,null,null,"Favorites "]
[null,null,null,null,null,null,null,null,null,null,null,null,null,null,"Sign Out"]
[]
[null,null,null,null,null,null,null,null,null,null,null,null,null,null,"NASCAR"]
[]
[null,null,null,null,null,null,null,null,null,null,null,null,null,null,"Menu"]
[null,null,null,null,null,null,null,null,null,null,null,null,null,null,"Home"]
[null,null,null,null,null,null,null,null,null,null,null,null,null,null,"RaceTrax"]
[null,null,null,null,null,null,null,null,null,null,null,null,null,null,"Schedule"]
[null,null,null,null,null,null,null,null,null,null,null,null,null,null,"Standings"]
[null,null,null,null,null,null,null,null,null,null,null,null,null,null,"Results"]
[null,null,null,null,null,null,null,null,null,null,null,null,null,null,"Drivers"]
[null,null,null,null,null,null,null,null,null,null,null,null,null,null,"Series"]
[null,null,null,null,null,null,null,null,null,null,null,null,null,null,"Monster Energy"]
[null,null,null,null,null,null,null,null,null,null,null,null,null,null,"Xfinity Series"]
[null,null,null,null,null,null,null,null,null,null,null,null,null,null,"Camping World Truck Series"]
[null,null,null,null,null,null,null,null,null,null,null,null,null,null,"SPEED/Motor"]
[null,null,null,null,null,null,null,null,null,null,null,null,null,null,"Videos"]
[null,null,null,null,null,null,null,null,null,null,null,null,null,null,"Stats"]
[null,null,null,null,null,null,null,null,null,null,null,null,null,null,"Gear"]
[null,null,null,null,null,null,null,null,null,null,null,null,null,null,"Daytona 500"]
[null,null,null,null,null,null,null,null,null,null,null,null,null,null,"News"]
[null,null,null,null,null,null,null,null,null,null,null,null,null,null,"More"]
[]
[]
[null,null,null,null,null,null,null,null,null,null,null,null,null,null,"Monster Energy Series Xfinity Series Camping World Truck Series RACING "]
[null,null,null,null,null,null,null,null,null,null,null,null,null,null,"Monster Xfinity Truck RACING "]
[]
[]
[null,null,null,null,null,null,null,null,null,null,null,null,null,null,"Bank of America ROVAL 400"]
[null,null,null,null,null,null,null,null,null,null,null,null,null,null,"2018 Bank of America ROVAL 400 Race Results"]
[null,null,null,null,null,null,null,null,null,null,null,null,null,null,"Charlotte Motor Speedway Road Course"]
[null,null,null,null,null,null,null,null,null,null,null,null,null,null,"Concord, NC"]
[null,null,null,null,null,null,null,null,null,null,null,null,null,null,"September 30, 2018"]
[null,null,null,null,null,null,null,null,null,null,null,null,null,null,"Time of Race"]
[null,null,null,null,null,null,null,null,null,null,null,null,null,null,0.12608796296296296]
[null,null,null,null,null,null,null,null,null,null,null,null,null,null,"Cautions/Laps"]
[null,null,null,null,null,null,null,null,null,null,null,null,null,null,"8/13"]
[null,null,null,null,null,null,null,null,null,null,null,null,null,null,"Red Flags"]
[null,null,null,null,null,null,null,null,null,null,null,null,null,null,0]
[null,null,null,null,null,null,null,null,null,null,null,null,null,null,"Lead Chng/Drv"]
[null,null,null,null,null,null,null,null,null,null,null,null,null,null,"10/8"]
[null,null,null,null,null,null,null,null,null,null,null,null,null,null,"Avg Speed"]
[null,null,null,null,null,null,null,null,null,null,null,null,null,null,"82.1 MPH"]
[null,null,null,null,null,null,null,null,null,null,null,null,null,null,"Pole Speed"]
[null,null,null,null,null,null,null,null,null,null,null,null,null,null,"--"]
[null,null,null,null,null,null,null,null,null,null,null,null,null,null,"Pos","Driver","MFG","Start","Laps","Led","Status","Pts","Bonus"]
[null,null,null,null,null,null,null,null,null,null,null,null,null,null,1,"#12 Ryan Blaney ","Ford",9,109,16,"Running",51,11]
[null,null,null,null,null,null,null,null,null,null,null,null,null,null,2,"#1 Jamie McMurray ","Chevrolet",8,109,1,"Running",35,0]
[null,null,null,null,null,null,null,null,null,null,null,null,null,null,3,"#14 Clint Bowyer ","Ford",7,109,0,"Running",48,14]
[null,null,null,null,null,null,null,null,null,null,null,null,null,null,4,"#88 Alex Bowman ","Chevrolet",3,109,0,"Running",38,5]
[null,null,null,null,null,null,null,null,null,null,null,null,null,null,5,"#41 Kurt Busch ","Ford",1,109,7,"Running",49,17]
[null,null,null,null,null,null,null,null,null,null,null,null,null,null,6,"#9 Chase Elliott ","Chevrolet",4,109,0,"Running",42,11]
[null,null,null,null,null,null,null,null,null,null,null,null,null,null,7,"#47 AJ Allmendinger ","Chevrolet",2,109,0,"Running",33,3]
[null,null,null,null,null,null,null,null,null,null,null,null,null,null,8,"#48 Jimmie Johnson ","Chevrolet",6,109,0,"Running",43,14]
[null,null,null,null,null,null,null,null,null,null,null,null,null,null,9,"#4 Kevin Harvick ","Ford",19,109,0,"Running",28,0]
[null,null,null,null,null,null,null,null,null,null,null,null,null,null,10,"#22 Joey Logano ","Ford",15,109,0,"Running",34,7]
[null,null,null,null,null,null,null,null,null,null,null,null,null,null,11,"#31 Ryan Newman ","Chevrolet",29,109,0,"Running",26,0]
[null,null,null,null,null,null,null,null,null,null,null,null,null,null,12,"#11 Denny Hamlin ","Toyota",27,109,0,"Running",25,0]
[null,null,null,null,null,null,null,null,null,null,null,null,null,null,13,"#32 Matt DiBenedetto ","Ford",28,109,0,"Running",24,0]
[null,null,null,null,null,null,null,null,null,null,null,null,null,null,14,"#78 Martin Truex ","Toyota",13,109,5,"Running",30,7]
[null,null,null,null,null,null,null,null,null,null,null,null,null,null,15,"#95 Regan Smith ",null,32,109,0,"Running",22,0]
[null,null,null,null,null,null,null,null,null,null,null,null,null,null,16,"#38 David Ragan ","Ford",30,109,0,"Running",21,0]
[null,null,null,null,null,null,null,null,null,null,null,null,null,null,17,"#37 Chris Buescher ","Chevrolet",10,109,0,"Running",20,0]
[null,null,null,null,null,null,null,null,null,null,null,null,null,null,18,"#34 Michael McDowell ","Ford",18,109,0,"Running",19,0]
[null,null,null,null,null,null,null,null,null,null,null,null,null,null,19,"#10 Aric Almirola ","Ford",20,109,0,"Running",18,0]
[null,null,null,null,null,null,null,null,null,null,null,null,null,null,20,"#72 Cole Whitt ","Chevrolet",33,109,0,"Running",17,0]
[null,null,null,null,null,null,null,null,null,null,null,null,null,null,21,"#19 Daniel Suarez ","Toyota",17,109,0,"Running",16,0]
[null,null,null,null,null,null,null,null,null,null,null,null,null,null,22,"#13 Ty Dillon ","Chevrolet",26,109,0,"Running",15,0]
[null,null,null,null,null,null,null,null,null,null,null,null,null,null,23,"#8 Daniel Hemric ","Chevrolet",11,103,0,"Running",0,0]
[null,null,null,null,null,null,null,null,null,null,null,null,null,null,24,"#7 Ross Chastain ","Chevrolet",35,109,0,"Running",0,0]
[null,null,null,null,null,null,null,null,null,null,null,null,null,null,25,"#42 Kyle Larson ","Chevrolet",5,109,47,"Running",24,12]
[null,null,null,null,null,null,null,null,null,null,null,null,null,null,26,"#96 Jeffrey Earnhardt ","Chevrolet",37,109,0,"Running",11,0]
[null,null,null,null,null,null,null,null,null,null,null,null,null,null,27,"#15 Justin Marks ","Chevrolet",31,108,0,"Running",0,0]
[null,null,null,null,null,null,null,null,null,null,null,null,null,null,28,"#23 JJ Yeley ","Toyota",36,108,0,"Running",0,0]
[null,null,null,null,null,null,null,null,null,null,null,null,null,null,29,"#00 Landon Cassill ","Chevrolet",38,108,0,"Running",0,0]
[null,null,null,null,null,null,null,null,null,null,null,null,null,null,30,"#20 Erik Jones ","Toyota",12,108,0,"Running",7,0]
[null,null,null,null,null,null,null,null,null,null,null,null,null,null,31,"#2 Brad Keselowski ","Ford",25,103,29,"Accident",6,0]
[null,null,null,null,null,null,null,null,null,null,null,null,null,null,32,"#18 Kyle Busch ","Toyota",14,103,0,"Accident",9,4]
[null,null,null,null,null,null,null,null,null,null,null,null,null,null,33,"#21 Paul Menard ","Ford",22,103,2,"Accident",4,0]
[null,null,null,null,null,null,null,null,null,null,null,null,null,null,34,"#24 William Byron ","Chevrolet",21,103,0,"Accident",3,0]
[null,null,null,null,null,null,null,null,null,null,null,null,null,null,35,"#6 Trevor Bayne ","Ford",16,103,0,"Accident",2,0]
[null,null,null,null,null,null,null,null,null,null,null,null,null,null,36,"#43 Bubba Wallace ","Chevrolet",34,103,0,"Accident",1,0]
[null,null,null,null,null,null,null,null,null,null,null,null,null,null,37,"#17 Ricky Stenhouse ","Ford",23,100,2,"Accident",1,0]
[null,null,null,null,null,null,null,null,null,null,null,null,null,null,38,"#66 Timmy Hill ","Ford",40,70,0,"Axle",1,0]
[null,null,null,null,null,null,null,null,null,null,null,null,null,null,39,"#3 Austin Dillon ","Chevrolet",24,65,0,"Accident",5,4]
[null,null,null,null,null,null,null,null,null,null,null,null,null,null,40,"#51 Stanton Barrett ",null,39,11,0,"Accident",1,0]
[null,null,null,null,null,null,null,null,null,null,null,null,null,null,"Quick Links"]
[null,null,null,null,null,null,null,null,null,null,null,null,null,null,"2018 Federated Auto Parts 400 Race Results"]
[null,null,null,null,null,null,null,null,null,null,null,null,null,null,"2018 Gander Outdoors 400 Race Results"]
[null,null,null,null,null,null,null,null,null,null,null,null,null,null,"Help | Press | Advertise With Us | Jobs | RSS | Site Map"]
[null,null,null,null,null,null,null,null,null,null,null,null,null,null,"FS1 | FOX | FOX News | 21st Century FOX | FOX Supports | FOX Deportes"]
[null,null,null,null,null,null,null,null,null,null,null,null,null,null,"© 2018 Fox Sports Interactive Media, LLC. All rights reserved."]
[null,null,null,null,null,null,null,null,null,null,null,null,null,null,"Use of this website (including any and all parts and components) constitutes your acceptance of these TERMS OF USE and PRIVACY POLICY."]
[null,null,null,null,null,null,null,null,null,null,null,null,null,null,"Advertising Choices"]

{"sheet":"Sheet1","index":4,"n_rows":69,"n_cols":8,"rows_kept":69,"cut":false,"hidden":false,"merged":[]}
["Pos","Grid","No","Driver","Team","Manufacturer","Laps","Points"]
[1,4,18,"Kyle Busch","Joe Gibbs Racing","Toyota",267,40]
[2,3,19,"Martin Truex Jr.","Joe Gibbs Racing","Toyota",267,35]
[3,16,20,"Erik Jones","Joe Gibbs Racing","Toyota",267,37]
[4,2,4,"Kevin Harvick","Stewart-Haas Racing","Ford",267,33]
[5,5,22,"Joey Logano","Team Penske","Ford",267,36]
[6,10,14,"Clint Bowyer","Stewart-Haas Racing","Ford",267,36]
[7,15,6,"Ryan Newman","Roush Fenway Racing","Ford",267,30]
[8,22,3,"Austin Dillon","Richard Childress Racing","Chevrolet",267,30]
[9,12,88,"Alex Bowman","Hendrick Motorsports","Chevrolet",267,28]
[10,1,11,"Denny Hamlin","Joe Gibbs Racing","Toyota",267,27]
[11,7,12,"Ryan Blaney","Team Penske","Ford",266,36]
[12,25,8,"Daniel Hemric (R)","Richard Childress Racing","Chevrolet",266,25]
[13,18,48,"Jimmie Johnson","Hendrick Motorsports","Chevrolet",266,28]
[14,17,41,"Daniel Suárez","Stewart-Haas Racing","Ford",266,23]
[15,11,9,"Chase Elliott","Hendrick Motorsports","Chevrolet",266,22]
[16,20,37,"Chris Buescher","JTG Daugherty Racing","Chevrolet",266,21]
[17,19,21,"Paul Menard","Wood Brothers Racing","Ford",266,20]
[18,8,2,"Brad Keselowski","Team Penske","Ford",265,19]
[19,23,17,"Ricky Stenhouse Jr.","Roush Fenway Racing","Ford",265,18]
[20,21,95,"Matt DiBenedetto","Leavine Family Racing","Toyota",265,17]
[21,13,1,"Kurt Busch","Chip Ganassi Racing","Chevrolet",265,16]
[22,14,10,"Aric Almirola","Stewart-Haas Racing","Ford",264,15]
[23,30,36,"John Hunter Nemechek (i)","Front Row Motorsports","Ford",264,14]
[24,24,13,"Ty Dillon","Germain Racing","Chevrolet",263,13]
[25,26,47,"Ryan Preece (R)","JTG Daugherty Racing","Chevrolet",263,12]
[26,28,34,"Michael McDowell","Front Row Motorsports","Ford",263,11]
[27,31,38,"David Ragan","Front Row Motorsports","Ford",263,10]
[28,33,"00","Landon Cassill (i)","StarCom Racing","Chevrolet",262,9]
[29,37,96,"Drew Herring","Gaunt Brothers Racing","Toyota",262,8]
[30,34,51,"J. J. Yeley (i)","Petty Ware Racing","Ford",262,7]
[31,29,32,"Corey LaJoie","Go Fas Racing","Ford",261,6]
[32,39,53,"B. J. McLeod (i)","Rick Ware Racing","Chevrolet",256,5]
[33,40,66,"Timmy Hill (i)","MBM Motorsports","Toyota",248,4]
[34,27,43,"Darrell Wallace Jr.","Richard Petty Motorsports","Chevrolet",243,3]
[35,36,27,"Ross Chastain (i)","Premium Motorsports","Chevrolet",242,2]
[36,38,52,"Josh Bilicki (i)","Rick Ware Racing","Ford",240,1]
[37,35,77,"Reed Sorenson","Spire Motorsports","Chevrolet",236,1]
[38,32,15,"Joe Nemechek (i)","Premium Motorsports","Chevrolet",227,1]
[39,9,24,"William Byron","Hendrick Motorsports","Chevrolet",215,1]
[40,6,42,"Kyle Larson","Chip Ganassi Racing","Chevrolet",209,1]
[]
["Pos","No","Driver","Team","Manufacturer","Points"]
[1,19,"Martin Truex Jr.","Joe Gibbs Racing","Toyota",0]
[2,42,"Kyle Larson","Chip Ganassi Racing","Chevrolet",9]
[3,18,"Kyle Busch","Joe Gibbs Racing","Toyota",0]
[4,4,"Kevin Harvick","Stewart-Haas Racing","Ford",0]
[5,11,"Denny Hamlin","Joe Gibbs Racing","Toyota",0]
[6,12,"Ryan Blaney","Team Penske","Ford",5]
[7,14,"Clint Bowyer","Stewart-Haas Racing","Ford",4]
[8,24,"William Byron","Hendrick Motorsports","Chevrolet",3]
[9,48,"Jimmie Johnson","Hendrick Motorsports","Chevrolet",2]
[10,3,"Austin Dillon","Richard Childress Racing","Chevrolet",1]
[]
[]
["Pos","No","Driver","Team","Manufacturer","Points"]
[1,18,"Kyle Busch","Joe Gibbs Racing","Toyota",0]
[2,4,"Kevin Harvick","Stewart-Haas Racing","Ford",0]
[3,42,"Kyle Larson","Chip Ganassi Racing","Chevrolet",8]
[4,19,"Martin Truex Jr.","Joe Gibbs Racing","Toyota",0]
[5,11,"Denny Hamlin","Joe Gibbs Racing","Toyota",0]
[6,12,"Ryan Blaney","Team Penske","Ford",5]
[7,22,"Joey Logano","Team Penske","Ford",4]
[8,20,"Erik Jones","Joe Gibbs Racing","Toyota",3]
[9,48,"Jimmie Johnson","Hendrick Motorsports","Chevrolet",2]
[10,14,"Clint Bowyer","Stewart-Haas Racing","Ford",1]
[]
[]
["Pos","No","Driver","Team","Manufacturer","Points"]

{"sheet":"Last Race Results","index":5,"n_rows":264,"n_cols":11,"rows_kept":264,"cut":false,"hidden":false,"merged":[]}
[null,"https://en.wikipedia.org/wiki/2019_Monster_Energy_NASCAR_Cup_Series#Schedule"]
[]
[]
["Car Number","Position","Car #","Driver","Team","Manuafurer","Laps","Points","S1 Points","S2 Point","Total"]
[{"$f":"IF(ISTEXT(C5),C5,VALUE(C5))","v":18},{"$f":"VALUE(Sheet1!A2)","v":1},{"$f":"Sheet1!C2","v":18},{"$f":"Sheet1!D2","v":"Kyle Busch"},{"$f":"Sheet1!E2","v":"Joe Gibbs Racing"},{"$f":"Sheet1!F2","v":"Toyota"},{"$f":"Sheet1!G2","v":267},{"$f":"Sheet1!H2","v":40},{"$f":"IF(ISNA(VLOOKUP(C5,Sheet1!$B$44:$F$53,5,FALSE)),0,VALUE(VLOOKUP(C5,Sheet1!$B$44:$F$53,5,FALSE)))","v":0},{"$f":"IF(ISNA(VLOOKUP(C5,Sheet1!$B$57:$F$68,5,FALSE)),0,VALUE(VLOOKUP(C5,Sheet1!$B$57:$F$68,5,FALSE)))","v":0},{"$f":"VALUE(H5)","v":40}]
[{"$f":"IF(ISTEXT(C6),C6,VALUE(C6))","v":19},{"$f":"VALUE(Sheet1!A3)","v":2},{"$f":"Sheet1!C3","v":19},{"$f":"Sheet1!D3","v":"Martin Truex Jr."},{"$f":"Sheet1!E3","v":"Joe Gibbs Racing"},{"$f":"Sheet1!F3","v":"Toyota"},{"$f":"Sheet1!G3","v":267},{"$f":"Sheet1!H3","v":35},{"$f":"IF(ISNA(VLOOKUP(C6,Sheet1!$B$44:$F$53,5,FALSE)),0,VALUE(VLOOKUP(C6,Sheet1!$B$44:$F$53,5,FALSE)))","v":0},{"$f":"IF(ISNA(VLOOKUP(C6,Sheet1!$B$57:$F$68,5,FALSE)),0,VALUE(VLOOKUP(C6,Sheet1!$B$57:$F$68,5,FALSE)))","v":0},{"$f":"VALUE(H6)","v":35}]
[20,{"$f":"VALUE(Sheet1!A4)","v":3},{"$f":"Sheet1!C4","v":20},{"$f":"Sheet1!D4","v":"Erik Jones"},{"$f":"Sheet1!E4","v":"Joe Gibbs Racing"},{"$f":"Sheet1!F4","v":"Toyota"},{"$f":"Sheet1!G4","v":267},{"$f":"Sheet1!H4","v":37},{"$f":"IF(ISNA(VLOOKUP(C7,Sheet1!$B$44:$F$53,5,FALSE)),0,VALUE(VLOOKUP(C7,Sheet1!$B$44:$F$53,5,FALSE)))","v":0},{"$f":"IF(ISNA(VLOOKUP(C7,Sheet1!$B$57:$F$68,5,FALSE)),0,VALUE(VLOOKUP(C7,Sheet1!$B$57:$F$68,5,FALSE)))","v":3},37]
[4,{"$f":"VALUE(Sheet1!A5)","v":4},{"$f":"Sheet1!C5","v":4},{"$f":"Sheet1!D5","v":"Kevin Harvick"},{"$f":"Sheet1!E5","v":"Stewart-Haas Racing"},{"$f":"Sheet1!F5","v":"Ford"},{"$f":"Sheet1!G5","v":267},{"$f":"Sheet1!H5","v":33},{"$f":"IF(ISNA(VLOOKUP(C8,Sheet1!$B$44:$F$53,5,FALSE)),0,VALUE(VLOOKUP(C8,Sheet1!$B$44:$F$53,5,FALSE)))","v":0},{"$f":"IF(ISNA(VLOOKUP(C8,Sheet1!$B$57:$F$68,5,FALSE)),0,VALUE(VLOOKUP(C8,Sheet1!$B$57:$F$68,5,FALSE)))","v":0},33]
[22,{"$f":"VALUE(Sheet1!A6)","v":5},{"$f":"Sheet1!C6","v":22},{"$f":"Sheet1!D6","v":"Joey Logano"},{"$f":"Sheet1!E6","v":"Team Penske"},{"$f":"Sheet1!F6","v":"Ford"},{"$f":"Sheet1!G6","v":267},{"$f":"Sheet1!H6","v":36},{"$f":"IF(ISNA(VLOOKUP(C9,Sheet1!$B$44:$F$53,5,FALSE)),0,VALUE(VLOOKUP(C9,Sheet1!$B$44:$F$53,5,FALSE)))","v":0},{"$f":"IF(ISNA(VLOOKUP(C9,Sheet1!$B$57:$F$68,5,FALSE)),0,VALUE(VLOOKUP(C9,Sheet1!$B$57:$F$68,5,FALSE)))","v":4},36]
[14,{"$f":"VALUE(Sheet1!A7)","v":6},{"$f":"Sheet1!C7","v":14},{"$f":"Sheet1!D7","v":"Clint Bowyer"},{"$f":"Sheet1!E7","v":"Stewart-Haas Racing"},{"$f":"Sheet1!F7","v":"Ford"},{"$f":"Sheet1!G7","v":267},{"$f":"Sheet1!H7","v":36},{"$f":"IF(ISNA(VLOOKUP(C10,Sheet1!$B$44:$F$53,5,FALSE)),0,VALUE(VLOOKUP(C10,Sheet1!$B$44:$F$53,5,FALSE)))","v":4},{"$f":"IF(ISNA(VLOOKUP(C10,Sheet1!$B$57:$F$68,5,FALSE)),0,VALUE(VLOOKUP(C10,Sheet1!$B$57:$F$68,5,FALSE)))","v":1},36]
[6,{"$f":"VALUE(Sheet1!A8)","v":7},{"$f":"Sheet1!C8","v":6},{"$f":"Sheet1!D8","v":"Ryan Newman"},{"$f":"Sheet1!E8","v":"Roush Fenway Racing"},{"$f":"Sheet1!F8","v":"Ford"},{"$f":"Sheet1!G8","v":267},{"$f":"Sheet1!H8","v":30},{"$f":"IF(ISNA(VLOOKUP(C11,Sheet1!$B$44:$F$53,5,FALSE)),0,VALUE(VLOOKUP(C11,Sheet1!$B$44:$F$53,5,FALSE)))","v":0},{"$f":"IF(ISNA(VLOOKUP(C11,Sheet1!$B$57:$F$68,5,FALSE)),0,VALUE(VLOOKUP(C11,Sheet1!$B$57:$F$68,5,FALSE)))","v":0},30]
[3,{"$f":"VALUE(Sheet1!A9)","v":8},{"$f":"Sheet1!C9","v":3},{"$f":"Sheet1!D9","v":"Austin Dillon"},{"$f":"Sheet1!E9","v":"Richard Childress Racing"},{"$f":"Sheet1!F9","v":"Chevrolet"},{"$f":"Sheet1!G9","v":267},{"$f":"Sheet1!H9","v":30},{"$f":"IF(ISNA(VLOOKUP(C12,Sheet1!$B$44:$F$53,5,FALSE)),0,VALUE(VLOOKUP(C12,Sheet1!$B$44:$F$53,5,FALSE)))","v":1},{"$f":"IF(ISNA(VLOOKUP(C12,Sheet1!$B$57:$F$68,5,FALSE)),0,VALUE(VLOOKUP(C12,Sheet1!$B$57:$F$68,5,FALSE)))","v":0},30]
[88,{"$f":"VALUE(Sheet1!A10)","v":9},{"$f":"Sheet1!C10","v":88},{"$f":"Sheet1!D10","v":"Alex Bowman"},{"$f":"Sheet1!E10","v":"Hendrick Motorsports"},{"$f":"Sheet1!F10","v":"Chevrolet"},{"$f":"Sheet1!G10","v":267},{"$f":"Sheet1!H10","v":28},{"$f":"IF(ISNA(VLOOKUP(C13,Sheet1!$B$44:$F$53,5,FALSE)),0,VALUE(VLOOKUP(C13,Sheet1!$B$44:$F$53,5,FALSE)))","v":0},{"$f":"IF(ISNA(VLOOKUP(C13,Sheet1!$B$57:$F$68,5,FALSE)),0,VALUE(VLOOKUP(C13,Sheet1!$B$57:$F$68,5,FALSE)))","v":0},28]
[11,{"$f":"VALUE(Sheet1!A11)","v":10},{"$f":"Sheet1!C11","v":11},{"$f":"Sheet1!D11","v":"Denny Hamlin"},{"$f":"Sheet1!E11","v":"Joe Gibbs Racing"},{"$f":"Sheet1!F11","v":"Toyota"},{"$f":"Sheet1!G11","v":267},{"$f":"Sheet1!H11","v":27},{"$f":"IF(ISNA(VLOOKUP(C14,Sheet1!$B$44:$F$53,5,FALSE)),0,VALUE(VLOOKUP(C14,Sheet1!$B$44:$F$53,5,FALSE)))","v":0},{"$f":"IF(ISNA(VLOOKUP(C14,Sheet1!$B$57:$F$68,5,FALSE)),0,VALUE(VLOOKUP(C14,Sheet1!$B$57:$F$68,5,FALSE)))","v":0},27]
[12,{"$f":"VALUE(Sheet1!A12)","v":11},{"$f":"Sheet1!C12","v":12},{"$f":"Sheet1!D12","v":"Ryan Blaney"},{"$f":"Sheet1!E12","v":"Team Penske"},{"$f":"Sheet1!F12","v":"Ford"},{"$f":"Sheet1!G12","v":266},{"$f":"Sheet1!H12","v":36},{"$f":"IF(ISNA(VLOOKUP(C15,Sheet1!$B$44:$F$53,5,FALSE)),0,VALUE(VLOOKUP(C15,Sheet1!$B$44:$F$53,5,FALSE)))","v":5},{"$f":"IF(ISNA(VLOOKUP(C15,Sheet1!$B$57:$F$68,5,FALSE)),0,VALUE(VLOOKUP(C15,Sheet1!$B$57:$F$68,5,FALSE)))","v":5},36]
[8,{"$f":"VALUE(Sheet1!A13)","v":12},{"$f":"Sheet1!C13","v":8},{"$f":"Sheet1!D13","v":"Daniel Hemric (R)"},{"$f":"Sheet1!E13","v":"Richard Childress Racing"},{"$f":"Sheet1!F13","v":"Chevrolet"},{"$f":"Sheet1!G13","v":266},29,{"$f":"IF(ISNA(VLOOKUP(C16,Sheet1!$B$44:$F$53,5,FALSE)),0,VALUE(VLOOKUP(C16,Sheet1!$B$44:$F$53,5,FALSE)))","v":0},{"$f":"IF(ISNA(VLOOKUP(C16,Sheet1!$B$57:$F$68,5,FALSE)),0,VALUE(VLOOKUP(C16,Sheet1!$B$57:$F$68,5,FALSE)))","v":0},29]
[48,{"$f":"VALUE(Sheet1!A14)","v":13},{"$f":"Sheet1!C14","v":48},{"$f":"Sheet1!D14","v":"Jimmie Johnson"},{"$f":"Sheet1!E14","v":"Hendrick Motorsports"},{"$f":"Sheet1!F14","v":"Chevrolet"},{"$f":"Sheet1!G14","v":266},{"$f":"Sheet1!H14","v":28},{"$f":"IF(ISNA(VLOOKUP(C17,Sheet1!$B$44:$F$53,5,FALSE)),0,VALUE(VLOOKUP(C17,Sheet1!$B$44:$F$53,5,FALSE)))","v":2},{"$f":"IF(ISNA(VLOOKUP(C17,Sheet1!$B$57:$F$68,5,FALSE)),0,VALUE(VLOOKUP(C17,Sheet1!$B$57:$F$68,5,FALSE)))","v":2},28]
[41,{"$f":"VALUE(Sheet1!A15)","v":14},{"$f":"Sheet1!C15","v":41},{"$f":"Sheet1!D15","v":"Daniel Suárez"},{"$f":"Sheet1!E15","v":"Stewart-Haas Racing"},{"$f":"Sheet1!F15","v":"Ford"},{"$f":"Sheet1!G15","v":266},23,{"$f":"IF(ISNA(VLOOKUP(C18,Sheet1!$B$44:$F$53,5,FALSE)),0,VALUE(VLOOKUP(C18,Sheet1!$B$44:$F$53,5,FALSE)))","v":0},{"$f":"IF(ISNA(VLOOKUP(C18,Sheet1!$B$57:$F$68,5,FALSE)),0,VALUE(VLOOKUP(C18,Sheet1!$B$57:$F$68,5,FALSE)))","v":0},23]
[9,{"$f":"VALUE(Sheet1!A16)","v":15},{"$f":"Sheet1!C16","v":9},{"$f":"Sheet1!D16","v":"Chase Elliott"},{"$f":"Sheet1!E16","v":"Hendrick Motorsports"},{"$f":"Sheet1!F16","v":"Chevrolet"},{"$f":"Sheet1!G16","v":266},{"$f":"Sheet1!H16","v":22},{"$f":"IF(ISNA(VLOOKUP(C19,Sheet1!$B$44:$F$53,5,FALSE)),0,VALUE(VLOOKUP(C19,Sheet1!$B$44:$F$53,5,FALSE)))","v":0},{"$f":"IF(ISNA(VLOOKUP(C19,Sheet1!$B$57:$F$68,5,FALSE)),0,VALUE(VLOOKUP(C19,Sheet1!$B$57:$F$68,5,FALSE)))","v":0},22]
[37,{"$f":"VALUE(Sheet1!A17)","v":16},{"$f":"Sheet1!C17","v":37},{"$f":"Sheet1!D17","v":"Chris Buescher"},{"$f":"Sheet1!E17","v":"JTG Daugherty Racing"},{"$f":"Sheet1!F17","v":"Chevrolet"},{"$f":"Sheet1!G17","v":266},{"$f":"Sheet1!H17","v":21},{"$f":"IF(ISNA(VLOOKUP(C20,Sheet1!$B$44:$F$53,5,FALSE)),0,VALUE(VLOOKUP(C20,Sheet1!$B$44:$F$53,5,FALSE)))","v":0},{"$f":"IF(ISNA(VLOOKUP(C20,Sheet1!$B$57:$F$68,5,FALSE)),0,VALUE(VLOOKUP(C20,Sheet1!$B$57:$F$68,5,FALSE)))","v":0},21]
[21,{"$f":"VALUE(Sheet1!A18)","v":17},{"$f":"Sheet1!C18","v":21},{"$f":"Sheet1!D18","v":"Paul Menard"},{"$f":"Sheet1!E18","v":"Wood Brothers Racing"},{"$f":"Sheet1!F18","v":"Ford"},{"$f":"Sheet1!G18","v":266},{"$f":"Sheet1!H18","v":20},{"$f":"IF(ISNA(VLOOKUP(C21,Sheet1!$B$44:$F$53,5,FALSE)),0,VALUE(VLOOKUP(C21,Sheet1!$B$44:$F$53,5,FALSE)))","v":0},{"$f":"IF(ISNA(VLOOKUP(C21,Sheet1!$B$57:$F$68,5,FALSE)),0,VALUE(VLOOKUP(C21,Sheet1!$B$57:$F$68,5,FALSE)))","v":0},20]
[2,{"$f":"VALUE(Sheet1!A19)","v":18},{"$f":"Sheet1!C19","v":2},{"$f":"Sheet1!D19","v":"Brad Keselowski"},{"$f":"Sheet1!E19","v":"Team Penske"},{"$f":"Sheet1!F19","v":"Ford"},{"$f":"Sheet1!G19","v":265},{"$f":"Sheet1!H19","v":19},{"$f":"IF(ISNA(VLOOKUP(C22,Sheet1!$B$44:$F$53,5,FALSE)),0,VALUE(VLOOKUP(C22,Sheet1!$B$44:$F$53,5,FALSE)))","v":0},{"$f":"IF(ISNA(VLOOKUP(C22,Sheet1!$B$57:$F$68,5,FALSE)),0,VALUE(VLOOKUP(C22,Sheet1!$B$57:$F$68,5,FALSE)))","v":0},19]
[17,{"$f":"VALUE(Sheet1!A20)","v":19},{"$f":"Sheet1!C20","v":17},{"$f":"Sheet1!D20","v":"Ricky Stenhouse Jr."},{"$f":"Sheet1!E20","v":"Roush Fenway Racing"},{"$f":"Sheet1!F20","v":"Ford"},{"$f":"Sheet1!G20","v":265},{"$f":"Sheet1!H20","v":18},{"$f":"IF(ISNA(VLOOKUP(C23,Sheet1!$B$44:$F$53,5,FALSE)),0,VALUE(VLOOKUP(C23,Sheet1!$B$44:$F$53,5,FALSE)))","v":0},{"$f":"IF(ISNA(VLOOKUP(C23,Sheet1!$B$57:$F$68,5,FALSE)),0,VALUE(VLOOKUP(C23,Sheet1!$B$57:$F$68,5,FALSE)))","v":0},18]
[95,{"$f":"VALUE(Sheet1!A21)","v":20},{"$f":"Sheet1!C21","v":95},{"$f":"Sheet1!D21","v":"Matt DiBenedetto"},{"$f":"Sheet1!E21","v":"Leavine Family Racing"},{"$f":"Sheet1!F21","v":"Toyota"},{"$f":"Sheet1!G21","v":265},{"$f":"Sheet1!H21","v":17},{"$f":"IF(ISNA(VLOOKUP(C24,Sheet1!$B$44:$F$53,5,FALSE)),0,VALUE(VLOOKUP(C24,Sheet1!$B$44:$F$53,5,FALSE)))","v":0},{"$f":"IF(ISNA(VLOOKUP(C24,Sheet1!$B$57:$F$68,5,FALSE)),0,VALUE(VLOOKUP(C24,Sheet1!$B$57:$F$68,5,FALSE)))","v":0},17]
[1,{"$f":"VALUE(Sheet1!A22)","v":21},{"$f":"Sheet1!C22","v":1},{"$f":"Sheet1!D22","v":"Kurt Busch"},{"$f":"Sheet1!E22","v":"Chip Ganassi Racing"},{"$f":"Sheet1!F22","v":"Chevrolet"},{"$f":"Sheet1!G22","v":265},{"$f":"Sheet1!H22","v":16},{"$f":"IF(ISNA(VLOOKUP(C25,Sheet1!$B$44:$F$53,5,FALSE)),0,VALUE(VLOOKUP(C25,Sheet1!$B$44:$F$53,5,FALSE)))","v":0},{"$f":"IF(ISNA(VLOOKUP(C25,Sheet1!$B$57:$F$68,5,FALSE)),0,VALUE(VLOOKUP(C25,Sheet1!$B$57:$F$68,5,FALSE)))","v":0},16]
[10,{"$f":"VALUE(Sheet1!A23)","v":22},{"$f":"Sheet1!C23","v":10},{"$f":"Sheet1!D23","v":"Aric Almirola"},{"$f":"Sheet1!E23","v":"Stewart-Haas Racing"},{"$f":"Sheet1!F23","v":"Ford"},{"$f":"Sheet1!G23","v":264},{"$f":"Sheet1!H23","v":15},{"$f":"IF(ISNA(VLOOKUP(C26,Sheet1!$B$44:$F$53,5,FALSE)),0,VALUE(VLOOKUP(C26,Sheet1!$B$44:$F$53,5,FALSE)))","v":0},{"$f":"IF(ISNA(VLOOKUP(C26,Sheet1!$B$57:$F$68,5,FALSE)),0,VALUE(VLOOKUP(C26,Sheet1!$B$57:$F$68,5,FALSE)))","v":0},15]
[{"$f":"IF(ISTEXT(C27),C27,VALUE(C27))","v":36},{"$f":"VALUE(Sheet1!A24)","v":23},{"$f":"Sheet1!C24","v":36},{"$f":"Sheet1!D24","v":"John Hunter Nemechek (i)"},{"$f":"Sheet1!E24","v":"Front Row Motorsports"},{"$f":"Sheet1!F24","v":"Ford"},{"$f":"Sheet1!G24","v":264},{"$f":"Sheet1!H24","v":14},{"$f":"IF(ISNA(VLOOKUP(C27,Sheet1!$B$44:$F$53,5,FALSE)),0,VALUE(VLOOKUP(C27,Sheet1!$B$44:$F$53,5,FALSE)))","v":0},{"$f":"IF(ISNA(VLOOKUP(C27,Sheet1!$B$57:$F$68,5,FALSE)),0,VALUE(VLOOKUP(C27,Sheet1!$B$57:$F$68,5,FALSE)))","v":0},14]
[13,{"$f":"VALUE(Sheet1!A25)","v":24},{"$f":"Sheet1!C25","v":13},{"$f":"Sheet1!D25","v":"Ty Dillon"},{"$f":"Sheet1!E25","v":"Germain Racing"},{"$f":"Sheet1!F25","v":"Chevrolet"},{"$f":"Sheet1!G25","v":263},{"$f":"Sheet1!H25","v":13},{"$f":"IF(ISNA(VLOOKUP(C28,Sheet1!$B$44:$F$53,5,FALSE)),0,VALUE(VLOOKUP(C28,Sheet1!$B$44:$F$53,5,FALSE)))","v":0},{"$f":"IF(ISNA(VLOOKUP(C28,Sheet1!$B$57:$F$68,5,FALSE)),0,VALUE(VLOOKUP(C28,Sheet1!$B$57:$F$68,5,FALSE)))","v":0},13]
[47,{"$f":"VALUE(Sheet1!A26)","v":25},{"$f":"Sheet1!C26","v":47},{"$f":"Sheet1!D26","v":"Ryan Preece (R)"},{"$f":"Sheet1!E26","v":"JTG Daugherty Racing"},{"$f":"Sheet1!F26","v":"Chevrolet"},{"$f":"Sheet1!G26","v":263},{"$f":"Sheet1!H26","v":12},{"$f":"IF(ISNA(VLOOKUP(C29,Sheet1!$B$44:$F$53,5,FALSE)),0,VALUE(VLOOKUP(C29,Sheet1!$B$44:$F$53,5,FALSE)))","v":0},{"$f":"IF(ISNA(VLOOKUP(C29,Sheet1!$B$57:$F$68,5,FALSE)),0,VALUE(VLOOKUP(C29,Sheet1!$B$57:$F$68,5,FALSE)))","v":0},12]
[34,{"$f":"VALUE(Sheet1!A27)","v":26},{"$f":"Sheet1!C27","v":34},{"$f":"Sheet1!D27","v":"Michael McDowell"},{"$f":"Sheet1!E27","v":"Front Row Motorsports"},{"$f":"Sheet1!F27","v":"Ford"},{"$f":"Sheet1!G27","v":263},{"$f":"Sheet1!H27","v":11},{"$f":"IF(ISNA(VLOOKUP(C30,Sheet1!$B$44:$F$53,5,FALSE)),0,VALUE(VLOOKUP(C30,Sheet1!$B$44:$F$53,5,FALSE)))","v":0},{"$f":"IF(ISNA(VLOOKUP(C30,Sheet1!$B$57:$F$68,5,FALSE)),0,VALUE(VLOOKUP(C30,Sheet1!$B$57:$F$68,5,FALSE)))","v":0},11]
[38,{"$f":"VALUE(Sheet1!A28)","v":27},{"$f":"Sheet1!C28","v":38},{"$f":"Sheet1!D28","v":"David Ragan"},{"$f":"Sheet1!E28","v":"Front Row Motorsports"},{"$f":"Sheet1!F28","v":"Ford"},{"$f":"Sheet1!G28","v":263},{"$f":"Sheet1!H28","v":10},{"$f":"IF(ISNA(VLOOKUP(C31,Sheet1!$B$44:$F$53,5,FALSE)),0,VALUE(VLOOKUP(C31,Sheet1!$B$44:$F$53,5,FALSE)))","v":0},{"$f":"IF(ISNA(VLOOKUP(C31,Sheet1!$B$57:$F$68,5,FALSE)),0,VALUE(VLOOKUP(C31,Sheet1!$B$57:$F$68,5,FALSE)))","v":0},10]
["00",{"$f":"VALUE(Sheet1!A29)","v":28},{"$f":"Sheet1!C29","v":"00"},{"$f":"Sheet1!D29","v":"Landon Cassill (i)"},{"$f":"Sheet1!E29","v":"StarCom Racing"},{"$f":"Sheet1!F29","v":"Chevrolet"},{"$f":"Sheet1!G29","v":262},{"$f":"Sheet1!H29","v":9},{"$f":"IF(ISNA(VLOOKUP(C32,Sheet1!$B$44:$F$53,5,FALSE)),0,VALUE(VLOOKUP(C32,Sheet1!$B$44:$F$53,5,FALSE)))","v":0},{"$f":"IF(ISNA(VLOOKUP(C32,Sheet1!$B$57:$F$68,5,FALSE)),0,VALUE(VLOOKUP(C32,Sheet1!$B$57:$F$68,5,FALSE)))","v":0},9]
[96,{"$f":"VALUE(Sheet1!A30)","v":29},{"$f":"Sheet1!C30","v":96},{"$f":"Sheet1!D30","v":"Drew Herring"},{"$f":"Sheet1!E30","v":"Gaunt Brothers Racing"},{"$f":"Sheet1!F30","v":"Toyota"},{"$f":"Sheet1!G30","v":262},{"$f":"Sheet1!H30","v":8},{"$f":"IF(ISNA(VLOOKUP(C33,Sheet1!$B$44:$F$53,5,FALSE)),0,VALUE(VLOOKUP(C33,Sheet1!$B$44:$F$53,5,FALSE)))","v":0},{"$f":"IF(ISNA(VLOOKUP(C33,Sheet1!$B$57:$F$68,5,FALSE)),0,VALUE(VLOOKUP(C33,Sheet1!$B$57:$F$68,5,FALSE)))","v":0},8]
[51,{"$f":"VALUE(Sheet1!A31)","v":30},{"$f":"Sheet1!C31","v":51},{"$f":"Sheet1!D31","v":"J. J. Yeley (i)"},{"$f":"Sheet1!E31","v":"Petty Ware Racing"},{"$f":"Sheet1!F31","v":"Ford"},{"$f":"Sheet1!G31","v":262},{"$f":"Sheet1!H31","v":7},{"$f":"IF(ISNA(VLOOKUP(C34,Sheet1!$B$44:$F$53,5,FALSE)),0,VALUE(VLOOKUP(C34,Sheet1!$B$44:$F$53,5,FALSE)))","v":0},{"$f":"IF(ISNA(VLOOKUP(C34,Sheet1!$B$57:$F$68,5,FALSE)),0,VALUE(VLOOKUP(C34,Sheet1!$B$57:$F$68,5,FALSE)))","v":0},7]
[32,{"$f":"VALUE(Sheet1!A32)","v":31},{"$f":"Sheet1!C32","v":32},{"$f":"Sheet1!D32","v":"Corey LaJoie"},{"$f":"Sheet1!E32","v":"Go Fas Racing"},{"$f":"Sheet1!F32","v":"Ford"},{"$f":"Sheet1!G32","v":261},{"$f":"Sheet1!H32","v":6},{"$f":"IF(ISNA(VLOOKUP(C35,Sheet1!$B$44:$F$53,5,FALSE)),0,VALUE(VLOOKUP(C35,Sheet1!$B$44:$F$53,5,FALSE)))","v":0},{"$f":"IF(ISNA(VLOOKUP(C35,Sheet1!$B$57:$F$68,5,FALSE)),0,VALUE(VLOOKUP(C35,Sheet1!$B$57:$F$68,5,FALSE)))","v":0},6]
[53,{"$f":"VALUE(Sheet1!A33)","v":32},{"$f":"Sheet1!C33","v":53},{"$f":"Sheet1!D33","v":"B. J. McLeod (i)"},{"$f":"Sheet1!E33","v":"Rick Ware Racing"},{"$f":"Sheet1!F33","v":"Chevrolet"},{"$f":"Sheet1!G33","v":256},{"$f":"Sheet1!H33","v":5},{"$f":"IF(ISNA(VLOOKUP(C36,Sheet1!$B$44:$F$53,5,FALSE)),0,VALUE(VLOOKUP(C36,Sheet1!$B$44:$F$53,5,FALSE)))","v":0},{"$f":"IF(ISNA(VLOOKUP(C36,Sheet1!$B$57:$F$68,5,FALSE)),0,VALUE(VLOOKUP(C36,Sheet1!$B$57:$F$68,5,FALSE)))","v":0},5]
[66,{"$f":"VALUE(Sheet1!A34)","v":33},{"$f":"Sheet1!C34","v":66},{"$f":"Sheet1!D34","v":"Timmy Hill (i)"},{"$f":"Sheet1!E34","v":"MBM Motorsports"},{"$f":"Sheet1!F34","v":"Toyota"},{"$f":"Sheet1!G34","v":248},{"$f":"Sheet1!H34","v":4},{"$f":"IF(ISNA(VLOOKUP(C37,Sheet1!$B$44:$F$53,5,FALSE)),0,VALUE(VLOOKUP(C37,Sheet1!$B$44:$F$53,5,FALSE)))","v":0},{"$f":"IF(ISNA(VLOOKUP(C37,Sheet1!$B$57:$F$68,5,FALSE)),0,VALUE(VLOOKUP(C37,Sheet1!$B$57:$F$68,5,FALSE)))","v":0},4]
[43,{"$f":"VALUE(Sheet1!A35)","v":34},{"$f":"Sheet1!C35","v":43},{"$f":"Sheet1!D35","v":"Darrell Wallace Jr."},{"$f":"Sheet1!E35","v":"Richard Petty Motorsports"},{"$f":"Sheet1!F35","v":"Chevrolet"},{"$f":"Sheet1!G35","v":243},{"$f":"Sheet1!H35","v":3},{"$f":"IF(ISNA(VLOOKUP(C38,Sheet1!$B$44:$F$53,5,FALSE)),0,VALUE(VLOOKUP(C38,Sheet1!$B$44:$F$53,5,FALSE)))","v":0},{"$f":"IF(ISNA(VLOOKUP(C38,Sheet1!$B$57:$F$68,5,FALSE)),0,VALUE(VLOOKUP(C38,Sheet1!$B$57:$F$68,5,FALSE)))","v":0},3]
[27,{"$f":"VALUE(Sheet1!A36)","v":35},{"$f":"Sheet1!C36","v":27},{"$f":"Sheet1!D36","v":"Ross Chastain (i)"},{"$f":"Sheet1!E36","v":"Premium Motorsports"},{"$f":"Sheet1!F36","v":"Chevrolet"},{"$f":"Sheet1!G36","v":242},{"$f":"Sheet1!H36","v":2},{"$f":"IF(ISNA(VLOOKUP(C39,Sheet1!$B$44:$F$53,5,FALSE)),0,VALUE(VLOOKUP(C39,Sheet1!$B$44:$F$53,5,FALSE)))","v":0},{"$f":"IF(ISNA(VLOOKUP(C39,Sheet1!$B$57:$F$68,5,FALSE)),0,VALUE(VLOOKUP(C39,Sheet1!$B$57:$F$68,5,FALSE)))","v":0},2]
[52,{"$f":"VALUE(Sheet1!A37)","v":36},{"$f":"Sheet1!C37","v":52},{"$f":"Sheet1!D37","v":"Josh Bilicki (i)"},{"$f":"Sheet1!E37","v":"Rick Ware Racing"},{"$f":"Sheet1!F37","v":"Ford"},{"$f":"Sheet1!G37","v":240},{"$f":"Sheet1!H37","v":1},{"$f":"IF(ISNA(VLOOKUP(C40,Sheet1!$B$44:$F$53,5,FALSE)),0,VALUE(VLOOKUP(C40,Sheet1!$B$44:$F$53,5,FALSE)))","v":0},{"$f":"IF(ISNA(VLOOKUP(C40,Sheet1!$B$57:$F$68,5,FALSE)),0,VALUE(VLOOKUP(C40,Sheet1!$B$57:$F$68,5,FALSE)))","v":0},1]
[77,{"$f":"VALUE(Sheet1!A38)","v":37},{"$f":"Sheet1!C38","v":77},{"$f":"Sheet1!D38","v":"Reed Sorenson"},{"$f":"Sheet1!E38","v":"Spire Motorsports"},{"$f":"Sheet1!F38","v":"Chevrolet"},{"$f":"Sheet1!G38","v":236},{"$f":"Sheet1!H38","v":1},{"$f":"IF(ISNA(VLOOKUP(C41,Sheet1!$B$44:$F$53,5,FALSE)),0,VALUE(VLOOKUP(C41,Sheet1!$B$44:$F$53,5,FALSE)))","v":0},{"$f":"IF(ISNA(VLOOKUP(C41,Sheet1!$B$57:$F$68,5,FALSE)),0,VALUE(VLOOKUP(C41,Sheet1!$B$57:$F$68,5,FALSE)))","v":0},1]
[15,{"$f":"VALUE(Sheet1!A39)","v":38},{"$f":"Sheet1!C39","v":15},{"$f":"Sheet1!D39","v":"Joe Nemechek (i)"},{"$f":"Sheet1!E39","v":"Premium Motorsports"},{"$f":"Sheet1!F39","v":"Chevrolet"},{"$f":"Sheet1!G39","v":227},{"$f":"Sheet1!H39","v":1},{"$f":"IF(ISNA(VLOOKUP(C42,Sheet1!$B$44:$F$53,5,FALSE)),0,VALUE(VLOOKUP(C42,Sheet1!$B$44:$F$53,5,FALSE)))","v":0},{"$f":"IF(ISNA(VLOOKUP(C42,Sheet1!$B$57:$F$68,5,FALSE)),0,VALUE(VLOOKUP(C42,Sheet1!$B$57:$F$68,5,FALSE)))","v":0},1]
[24,{"$f":"VALUE(Sheet1!A40)","v":39},{"$f":"Sheet1!C40","v":24},{"$f":"Sheet1!D40","v":"William Byron"},{"$f":"Sheet1!E40","v":"Hendrick Motorsports"},{"$f":"Sheet1!F40","v":"Chevrolet"},{"$f":"Sheet1!G40","v":215},{"$f":"Sheet1!H40","v":1},{"$f":"IF(ISNA(VLOOKUP(C43,Sheet1!$B$44:$F$53,5,FALSE)),0,VALUE(VLOOKUP(C43,Sheet1!$B$44:$F$53,5,FALSE)))","v":3},{"$f":"IF(ISNA(VLOOKUP(C43,Sheet1!$B$57:$F$68,5,FALSE)),0,VALUE(VLOOKUP(C43,Sheet1!$B$57:$F$68,5,FALSE)))","v":0},1]
[]
[]
[]
[]
[]
[]
[]
[]
[]
[]
[]
[]
[]
[]
[]
[]
[]
[]
[]
[]
[]
[]
[]
[]
[]
[]
[]
[]
[]
[]
[]
[]
[]
[]
[]
[]
[]
[]
[]
[]
[]
[]
[]
[]
[]
[]
[]
[]
[]
[]
[]
[]
[]
[]
[]
[]
[]
[]
[]
[]
[]
[]
[]
[]
[]
[]
[]
[]
[]
[]
[]
[]
[]
[]
[]
[]
[]
[]
[]
[]
[]
[]
[]
[]
[]
[]
[]
[]
[]
[]
[]
[]
[]
[]
[]
[]
[]
[]
[]
[]
[]
[]
[]
[]
[]
[]
[]
[]
[]
[]
[]
[]
[]
[]
[]
[]
[]
[]
[]
[]
[]
[]
[]
[]
[]
[]
[]
[]
[]
[]
[]
[]
[]
[]
[]
[]
[]
[]
[]
[]
[]
[]
[]
[]
[]
[]
[]
[]
[]
[]
[]
[]
[]
[]
[]
[]
[]
[]
[]
[]
[]
[null,"Pos",null,"Driver","MFG","Start","Laps","Led"]
[null,1,null,"#4 Kevin Harvick ","Chevrolet",13,312,224]
[null,2,null,"#88 Dale Earnhardt Jr. ","Chevrolet",5,312,0]
[null,3,null,"#2 Brad Keselowski ","Ford",1,312,3]
[null,4,null,"#22 Joey Logano ","Ford",2,312,71]
[null,5,null,"#24 Jeff Gordon ","Chevrolet",17,312,4]
[null,6,null,"#48 Jimmie Johnson ","Chevrolet",4,312,0]
[null,7,null,"#31 Ryan Newman ","Chevrolet",15,312,6]
[null,8,null,"#99 Carl Edwards ","Ford",23,312,1]
[null,9,null,"#18 Kyle Busch ","Toyota",7,312,0]
[null,10,null,"#1 Jamie McMurray ","Chevrolet",3,312,0]
[null,11,null,"#5 Kasey Kahne ","Chevrolet",11,312,0]
[null,12,null,"#20 Matt Kenseth ","Toyota",19,312,0]
[null,13,null,"#15 Clint Bowyer ","Toyota",14,312,1]
[null,14,null,"#13 Casey Mears ","Chevrolet",18,312,0]
[null,15,null,"#43 Aric Almirola ","Ford",9,312,0]
[null,16,null,"#14 Tony Stewart ","Chevrolet",20,312,0]
[null,17,null,"#16 Greg Biffle ","Ford",6,312,0]
[null,18,null,"#17 Ricky Stenhouse Jr. ","Ford",21,312,0]
[null,19,null,"#11 Denny Hamlin ","Toyota",12,312,0]
[null,20,null,"#42 Kyle Larson ","Chevrolet",8,312,0]
[null,21,null,"#9 Marcos Ambrose ","Ford",29,311,0]
[null,22,null,"#78 Martin Truex Jr. ","Chevrolet",27,311,0]
[null,23,null,"#27 Paul Menard ","Chevrolet",22,311,0]
[null,24,null,"#3 Austin Dillon ","Chevrolet",24,311,0]
[null,25,null,"#55 Brian Vickers ","Toyota",16,311,0]
[null,26,null,"#47 A J Allmendinger ","Chevrolet",25,310,0]
[null,27,null,"#26 Cole Whitt ","Toyota",31,310,0]
[null,28,null,"#34 David Ragan ","Ford",30,310,0]
[null,29,null,"#38 David Gilliland ","Ford",28,309,2]
[null,30,null,"#51 Justin Allgaier ","Chevrolet",43,309,0]
[null,31,null,"#36 Reed Sorenson ","Chevrolet",39,308,0]
[null,32,null,"#33 Brian Scott ","Chevrolet",32,308,0]
[null,33,null,"#95 Michael McDowell ","Ford",26,307,0]
[null,34,null,"#7 Michael Annett ","Chevrolet",41,307,0]
[null,35,null,"#83 Ryan Truex ","Toyota",34,307,0]
[null,36,null,"#10 Danica Patrick ","Chevrolet",33,306,0]
[null,37,null,"#35 Blake Koch ","Ford",37,306,0]
[null,38,null,"#32 Travis Kvapil ","Ford",40,302,0]
[null,39,null,"#41 Kurt Busch ","Chevrolet",10,292,0]
[null,40,null,"#66 Joe Nemechek ","Toyota",38,292,0]
[null,41,null,"#23 Alex Bowman ","Toyota",35,230,0]
[null,42,null,"#30 Parker Kligerman ","Toyota",36,226,0]
[null,43,null,"#87 Morgan Shepherd ","Toyota",42,28,0]
[null,"MSN Ad Configuration"]
[]
[null,"DEFAULT"]
[null,"PG=SPTFBB"]
[null,"AP=1089"]
[null,"SIZE=300x250"]
[]
[null,"2 COLUMN"]
[null,"PG=SPTFBB"]
[null,"AP=1089"]
[null,"SIZE=300x250"]
[]
[null,"1 COLUMN"]
[null,"PG=SPTFBB"]
[null,"AP=1089"]
[null,"SIZE=300x250"]

{"sheet":"Current Owner Standings","index":6,"n_rows":480,"n_cols":30,"rows_kept":480,"cut":false,"hidden":false,"merged":[]}
["2013 Sprint Cup Series",null,null,null,null,null,null,null,null,null,null,null,null,null,null,null,null,null,null,null,null,null,"http://scores.nbcsports.com/racing/index.asp?page=owner&series=NASCAR&sort=1"]
[]
["RK",null,"OWNER","Car #","Points","Behind","Wins","Starts","Top 5","Top 10",null,null,null,null,null,null,"DNF","DRIVER",null,null,"Rank","Car #","Owner","Points","Behind","Wins","Starts","Top 5","Top 10","DNF"]
[1,null,{"$f":"VLOOKUP($A4,$U$4:$AD$51,3,FALSE)","v":"Joe Gibbs Racing"},{"$f":"VLOOKUP($A4,$U$4:$AD$51,2,FALSE)","v":11},{"$f":"VLOOKUP($A4,$U$4:$AD$51,4,FALSE)","v":5000},{"$f":"VLOOKUP($A4,$U$4:$AD$51,5,FALSE)","v":"-"},{"$f":"VLOOKUP($A4,$U$4:$AD$51,6,FALSE)","v":6},{"$f":"VLOOKUP($A4,$U$4:$AD$51,7,FALSE)","v":35},{"$f":"VLOOKUP($A4,$U$4:$AD$51,8,FALSE)","v":19},{"$f":"VLOOKUP($A4,$U$4:$AD$51,9,FALSE)","v":23},{"$f":"VLOOKUP($A4,$U$4:$AD$45,9,FALSE)","v":23},23,23,23,23,23,{"$f":"VLOOKUP($A4,$U$4:$AD$51,10,FALSE)","v":1},{"$f":"IF(ISNA(VLOOKUP(VALUE(D4),'Entry List'!$A$2:$F$87,4,FALSE)),\"Not Entered\", VLOOKUP(VALUE(D4),'Entry List'!$A$3:$F$87,4,FALSE))","v":"Denny Hamlin"},null,null,1,11,"Joe Gibbs Racing",5000,"-",6,35,19,23,1]
[2,null,"Stewart-Haas Racing",4,5000,"-",4,35,14,25,25,25,25,25,25,25,3,{"$f":"IF(ISNA(VLOOKUP(VALUE(D5),'Entry List'!$A$2:$F$87,4,FALSE)),\"Not Entered\", VLOOKUP(VALUE(D5),'Entry List'!$A$3:$F$87,4,FALSE))","v":"Kevin Harvick"},null,null,2,4,"Stewart-Haas Racing",5000,"-",4,35,14,25,3]
[3,null,"Joe Gibbs Racing",19,5000,"-",7,35,14,23,23,23,23,23,23,23,2,{"$f":"IF(ISNA(VLOOKUP(VALUE(D6),'Entry List'!$A$2:$F$87,4,FALSE)),\"Not Entered\", VLOOKUP(VALUE(D6),'Entry List'!$A$3:$F$87,4,FALSE))","v":"Martin Truex Jr."},null,null,3,19,"Joe Gibbs Racing",5000,"-",7,35,14,23,2]
[4,null,"Joe Gibbs Racing",18,5000,"-",4,35,16,26,26,26,26,26,26,26,2,{"$f":"IF(ISNA(VLOOKUP(VALUE(D7),'Entry List'!$A$2:$F$87,4,FALSE)),\"Not Entered\", VLOOKUP(VALUE(D7),'Entry List'!$A$3:$F$87,4,FALSE))","v":"Kyle Busch"},null,null,4,18,"Joe Gibbs Racing",5000,"-",4,35,16,26,2]
[5,null,"Team Penske",22,2344,2656,2,35,11,20,20,20,20,20,20,20,0,{"$f":"IF(ISNA(VLOOKUP(VALUE(D8),'Entry List'!$A$2:$F$87,4,FALSE)),\"Not Entered\", VLOOKUP(VALUE(D8),'Entry List'!$A$3:$F$87,4,FALSE))","v":"Joey Logano"},null,null,5,22,"Team Penske",2344,2656,2,35,11,20,0]
[6,null,"Chip Ganassi Racing",42,2321,2679,1,35,8,17,17,17,17,17,17,17,7,{"$f":"IF(ISNA(VLOOKUP(VALUE(D9),'Entry List'!$A$2:$F$87,4,FALSE)),\"Not Entered\", VLOOKUP(VALUE(D9),'Entry List'!$A$3:$F$87,4,FALSE))","v":"Kyle Larson"},null,null,6,42,"Chip Ganassi Racing",2321,2679,1,35,8,17,7]
[7,null,"Team Penske",12,2303,2697,1,35,11,18,18,18,18,18,18,18,4,{"$f":"IF(ISNA(VLOOKUP(VALUE(D10),'Entry List'!$A$2:$F$87,4,FALSE)),\"Not Entered\", VLOOKUP(VALUE(D10),'Entry List'!$A$3:$F$87,4,FALSE))","v":"Ryan Blaney"},null,null,7,12,"Team Penske",2303,2697,1,35,11,18,4]
[8,null,"Team Penske",2,2299,2701,3,35,13,19,19,19,19,19,19,19,4,{"$f":"IF(ISNA(VLOOKUP(VALUE(D11),'Entry List'!$A$2:$F$87,4,FALSE)),\"Not Entered\", VLOOKUP(VALUE(D11),'Entry List'!$A$3:$F$87,4,FALSE))","v":"Brad Keselowski"},null,null,8,2,"Team Penske",2299,2701,3,35,13,19,4]
[9,null,"Hendrick Motorsports",24,2270,2730,0,35,5,13,13,13,13,13,13,13,2,{"$f":"IF(ISNA(VLOOKUP(VALUE(D12),'Entry List'!$A$2:$F$87,4,FALSE)),\"Not Entered\", VLOOKUP(VALUE(D12),'Entry List'!$A$3:$F$87,4,FALSE))","v":"William Byron"},null,null,9,24,"Hendrick Motorsports",2270,2730,0,35,5,13,2]
[10,null,"Stewart-Haas Racing",14,2254,2746,0,35,7,17,17,17,17,17,17,17,7,{"$f":"IF(ISNA(VLOOKUP(VALUE(D13),'Entry List'!$A$2:$F$87,4,FALSE)),\"Not Entered\", VLOOKUP(VALUE(D13),'Entry List'!$A$3:$F$87,4,FALSE))","v":"Clint Bowyer"},null,null,10,14,"Stewart-Haas Racing",2254,2746,0,35,7,17,7]
[11,null,"Hendrick Motorsports",9,2253,2747,3,35,11,15,15,15,15,15,15,15,6,{"$f":"IF(ISNA(VLOOKUP(VALUE(D14),'Entry List'!$A$2:$F$87,4,FALSE)),\"Not Entered\", VLOOKUP(VALUE(D14),'Entry List'!$A$3:$F$87,4,FALSE))","v":"Chase Elliott"},null,null,11,9,"Hendrick Motorsports",2253,2747,3,35,11,15,6]
[12,null,"Hendrick Motorsports",88,2229,2771,1,35,7,11,11,11,11,11,11,11,2,{"$f":"IF(ISNA(VLOOKUP(VALUE(D15),'Entry List'!$A$2:$F$87,4,FALSE)),\"Not Entered\", VLOOKUP(VALUE(D15),'Entry List'!$A$3:$F$87,4,FALSE))","v":"Alex Bowman"},null,null,12,88,"Hendrick Motorsports",2229,2771,1,35,7,11,2]
[13,null,"Chip Ganassi Racing",1,2221,2779,1,35,6,18,{"$f":"VLOOKUP($A16,$U$4:$AD$51,9,FALSE)","v":18},18,18,18,18,18,2,{"$f":"IF(ISNA(VLOOKUP(VALUE(D16),'Entry List'!$A$2:$F$87,4,FALSE)),\"Not Entered\", VLOOKUP(VALUE(D16),'Entry List'!$A$3:$F$87,4,FALSE))","v":"Kurt Busch"},null,null,13,1,"Chip Ganassi Racing",2221,2779,1,35,6,18,2]
[14,null,"Stewart-Haas Racing",10,2219,2781,0,35,3,12,12,12,12,12,12,12,3,{"$f":"IF(ISNA(VLOOKUP(VALUE(D17),'Entry List'!$A$2:$F$87,4,FALSE)),\"Not Entered\", VLOOKUP(VALUE(D17),'Entry List'!$A$3:$F$87,4,FALSE))","v":"Aric Almirola"},null,null,14,10,"Stewart-Haas Racing",2219,2781,0,35,3,12,3]
[15,null,"Roush Fenway Racing",6,2189,2811,0,35,3,13,13,13,13,13,13,13,1,{"$f":"IF(ISNA(VLOOKUP(VALUE(D18),'Entry List'!$A$2:$F$87,4,FALSE)),\"Not Entered\", VLOOKUP(VALUE(D18),'Entry List'!$A$3:$F$87,4,FALSE))","v":"Ryan Newman"},null,null,15,6,"Roush Fenway Racing",2189,2811,0,35,3,13,1]
[16,null,"Joe Gibbs Racing",20,2157,2843,1,35,9,16,16,16,16,16,16,16,4,{"$f":"IF(ISNA(VLOOKUP(VALUE(D19),'Entry List'!$A$2:$F$87,4,FALSE)),\"Not Entered\", VLOOKUP(VALUE(D19),'Entry List'!$A$3:$F$87,4,FALSE))","v":"Erik Jones"},null,null,16,20,"Joe Gibbs Racing",2157,2843,1,35,9,16,4]
[17,null,"Stewart-Haas Racing",41,823,4177,0,35,4,11,11,11,11,11,11,11,4,{"$f":"IF(ISNA(VLOOKUP(VALUE(D20),'Entry List'!$A$2:$F$87,4,FALSE)),\"Not Entered\", VLOOKUP(VALUE(D20),'Entry List'!$A$3:$F$87,4,FALSE))","v":"Daniel Suárez"},null,null,17,41,"Stewart-Haas Racing",823,4177,0,35,4,11,4]
[18,null,"Hendrick Motorsports",48,807,4193,0,35,3,12,12,12,12,12,12,12,4,{"$f":"IF(ISNA(VLOOKUP(VALUE(D21),'Entry List'!$A$2:$F$87,4,FALSE)),\"Not Entered\", VLOOKUP(VALUE(D21),'Entry List'!$A$3:$F$87,4,FALSE))","v":"Jimmie Johnson"},null,null,18,48,"Hendrick Motorsports",807,4193,0,35,3,12,4]
[19,null,"Wood Brothers Racing",21,757,4243,0,35,0,4,4,4,4,4,4,4,1,{"$f":"IF(ISNA(VLOOKUP(VALUE(D22),'Entry List'!$A$2:$F$87,4,FALSE)),\"Not Entered\", VLOOKUP(VALUE(D22),'Entry List'!$A$3:$F$87,4,FALSE))","v":"Paul Menard"},null,null,19,21,"Wood Brothers Racing",757,4243,0,35,0,4,1]
[20,null,"JTG Daugherty Racing",37,708,4292,0,35,0,4,4,4,4,4,4,4,4,{"$f":"IF(ISNA(VLOOKUP(VALUE(D23),'Entry List'!$A$2:$F$87,4,FALSE)),\"Not Entered\", VLOOKUP(VALUE(D23),'Entry List'!$A$3:$F$87,4,FALSE))","v":"Chris Buescher"},null,null,20,37,"JTG Daugherty Racing",708,4292,0,35,0,4,4]
[21,null,"Leavine Family Racing",95,682,4318,0,35,3,7,7,7,7,7,7,7,5,{"$f":"IF(ISNA(VLOOKUP(VALUE(D24),'Entry List'!$A$2:$F$87,4,FALSE)),\"Not Entered\", VLOOKUP(VALUE(D24),'Entry List'!$A$3:$F$87,4,FALSE))","v":"Matt DiBenedetto"},null,null,21,95,"Leavine Family Racing",682,4318,0,35,3,7,5]
[22,null,"Richard Childress Racing",3,670,4330,0,35,0,5,5,5,5,5,5,5,3,{"$f":"IF(ISNA(VLOOKUP(VALUE(D25),'Entry List'!$A$2:$F$87,4,FALSE)),\"Not Entered\", VLOOKUP(VALUE(D25),'Entry List'!$A$3:$F$87,4,FALSE))","v":"Austin Dillon"},null,null,22,3,"Richard Childress Racing",670,4330,0,35,0,5,3]
[23,null,"Roush Fenway Racing",17,661,4339,0,35,1,3,{"$f":"VLOOKUP($A26,$U$4:$AD$51,9,FALSE)","v":3},3,3,3,3,3,5,{"$f":"IF(ISNA(VLOOKUP(VALUE(D26),'Entry List'!$A$2:$F$87,4,FALSE)),\"Not Entered\", VLOOKUP(VALUE(D26),'Entry List'!$A$3:$F$87,4,FALSE))","v":"Ricky Stenhouse Jr."},null,null,23,17,"Roush Fenway Racing",661,4339,0,35,1,3,5]
[24,null,"Germain Racing",13,600,4400,0,35,1,3,3,3,3,3,3,3,0,{"$f":"IF(ISNA(VLOOKUP(VALUE(D27),'Entry List'!$A$2:$F$87,4,FALSE)),\"Not Entered\", VLOOKUP(VALUE(D27),'Entry List'!$A$3:$F$87,4,FALSE))","v":"Ty Dillon"},null,null,24,13,"Germain Racing",600,4400,0,35,1,3,0]
[25,null,"Richard Childress Racing",8,505,4495,0,35,1,2,2,2,2,2,2,2,5,{"$f":"IF(ISNA(VLOOKUP(VALUE(D28),'Entry List'!$A$2:$F$87,4,FALSE)),\"Not Entered\", VLOOKUP(VALUE(D28),'Entry List'!$A$3:$F$87,4,FALSE))","v":"Daniel Hemric (R)"},null,null,25,8,"Richard Childress Racing",505,4495,0,35,1,2,5]
[26,null,"JTG Daugherty Racing",47,495,4505,0,35,1,3,3,3,3,3,3,3,6,{"$f":"IF(ISNA(VLOOKUP(VALUE(D29),'Entry List'!$A$2:$F$87,4,FALSE)),\"Not Entered\", VLOOKUP(VALUE(D29),'Entry List'!$A$3:$F$87,4,FALSE))","v":"Ryan Preece (R)"},null,null,26,47,"JTG Daugherty Racing",495,4505,0,35,1,3,6]
[27,null,"Richard Petty Motorsports",43,484,4516,0,35,1,1,1,1,1,1,1,1,3,{"$f":"IF(ISNA(VLOOKUP(VALUE(D30),'Entry List'!$A$2:$F$87,4,FALSE)),\"Not Entered\", VLOOKUP(VALUE(D30),'Entry List'!$A$3:$F$87,4,FALSE))","v":"Darrell Wallace Jr."},null,null,27,43,"Richard Petty Motorsports",484,4516,0,35,1,1,3]
[28,null,"Front Row Motorsports",34,474,4526,0,35,2,2,2,2,2,2,2,2,5,{"$f":"IF(ISNA(VLOOKUP(VALUE(D31),'Entry List'!$A$2:$F$87,4,FALSE)),\"Not Entered\", VLOOKUP(VALUE(D31),'Entry List'!$A$3:$F$87,4,FALSE))","v":"Michael McDowell"},null,null,28,34,"Front Row Motorsports",474,4526,0,35,2,2,5]
[29,null,"Go FAS Racing",32,395,4605,0,35,0,2,2,2,2,2,2,2,4,{"$f":"IF(ISNA(VLOOKUP(VALUE(D32),'Entry List'!$A$2:$F$87,4,FALSE)),\"Not Entered\", VLOOKUP(VALUE(D32),'Entry List'!$A$3:$F$87,4,FALSE))","v":"Corey LaJoie"},null,null,29,32,"Go FAS Racing",395,4605,0,35,0,2,4]
[30,null,"Front Row Motorsports",36,390,4610,0,35,0,1,1,1,1,1,1,1,4,{"$f":"IF(ISNA(VLOOKUP(VALUE(D33),'Entry List'!$A$2:$F$87,4,FALSE)),\"Not Entered\", VLOOKUP(VALUE(D33),'Entry List'!$A$3:$F$87,4,FALSE))","v":"John Hunter Nemechek (i)"},null,null,30,36,"Front Row Motorsports",390,4610,0,35,0,1,4]
[31,null,"Front Row Motorsports",38,378,4622,0,35,0,0,0,0,0,0,0,0,8,{"$f":"IF(ISNA(VLOOKUP(VALUE(D34),'Entry List'!$A$2:$F$87,4,FALSE)),\"Not Entered\", VLOOKUP(VALUE(D34),'Entry List'!$A$3:$F$87,4,FALSE))","v":"David Ragan"},null,null,31,38,"Front Row Motorsports",378,4622,0,35,0,0,8]
[32,null,"Premium Motorsports",15,309,4691,0,35,0,1,1,1,1,1,1,1,3,{"$f":"IF(ISNA(VLOOKUP(VALUE(D35),'Entry List'!$A$2:$F$87,4,FALSE)),\"Not Entered\", VLOOKUP(VALUE(D35),'Entry List'!$A$3:$F$87,4,FALSE))","v":"Joe Nemechek (i)"},null,null,32,15,"Premium Motorsports",309,4691,0,35,0,1,3]
[33,null,"StarCom Racing","00",276,4724,0,35,0,0,{"$f":"VLOOKUP($A36,$U$4:$AD$51,9,FALSE)","v":0},0,0,0,0,0,4,{"$f":"IF(ISNA(VLOOKUP((D36),'Entry List'!$A$2:$F$87,4,FALSE)),\"Not Entered\", VLOOKUP((D36),'Entry List'!$A$3:$F$87,4,FALSE))","v":"Landon Cassill (i)"},null,null,33,"00","StarCom Racing",276,4724,0,35,0,0,4]
[34,null,"Petty Ware Racing",{"$f":"VLOOKUP(VALUE($A37),$U$4:$AD$51,2,FALSE)","v":51},183,4817,0,35,0,0,0,0,0,0,0,0,8,{"$f":"IF(ISNA(VLOOKUP(D37,'Entry List'!$A$2:$F$87,4,FALSE)),\"Not Entered\", VLOOKUP(D37,'Entry List'!$A$3:$F$87,4,FALSE))","v":"J. J. Yeley (i)"},null,null,34,51,"Petty Ware Racing",183,4817,0,35,0,0,8]
[35,null,"Spire Motorsports",77,181,4819,1,35,1,1,1,1,1,1,1,1,13,{"$f":"IF(ISNA(VLOOKUP((D38),'Entry List'!$A$2:$F$87,4,FALSE)),\"Not Entered\", VLOOKUP((D38),'Entry List'!$A$3:$F$87,4,FALSE))","v":"Reed Sorenson"},null,null,35,77,"Spire Motorsports",181,4819,1,35,1,1,13]
[36,null,"Premium Motorsports",27,154,4846,0,25,0,0,0,0,0,0,0,0,2,{"$f":"IF(ISNA(VLOOKUP(VALUE(D39),'Entry List'!$A$2:$F$87,4,FALSE)),\"Not Entered\", VLOOKUP(VALUE(D39),'Entry List'!$A$3:$F$87,4,FALSE))","v":"Ross Chastain (i)"},null,null,36,27,"Premium Motorsports",154,4846,0,25,0,0,2]
[37,null,"Gaunt Brothers Racing",96,147,4853,0,14,0,0,0,0,0,0,0,0,2,{"$f":"IF(ISNA(VLOOKUP(VALUE(D40),'Entry List'!$A$2:$F$87,4,FALSE)),\"Not Entered\", VLOOKUP(VALUE(D40),'Entry List'!$A$3:$F$87,4,FALSE))","v":"Drew Herring"},null,null,37,96,"Gaunt Brothers Racing",147,4853,0,14,0,0,2]
[38,null,"Rick Ware Racing",52,139,4861,0,35,0,0,0,0,0,0,0,0,11,{"$f":"IF(ISNA(VLOOKUP(VALUE(D41),'Entry List'!$A$2:$F$87,4,FALSE)),\"Not Entered\", VLOOKUP(VALUE(D41),'Entry List'!$A$3:$F$87,4,FALSE))","v":"Josh Bilicki (i)"},null,null,38,52,"Rick Ware Racing",139,4861,0,35,0,0,11]
[39,null,"Rick Ware Racing",53,73,4927,0,14,0,0,0,0,0,0,0,0,4,{"$f":"IF(ISNA(VLOOKUP(VALUE(D42),'Entry List'!$A$2:$F$87,4,FALSE)),\"Not Entered\", VLOOKUP(VALUE(D42),'Entry List'!$A$3:$F$87,4,FALSE))","v":"B. J. McLeod (i)"},null,null,39,53,"Rick Ware Racing",73,4927,0,14,0,0,4]
[40,null,"Beard Motorsports",162,71,4929,0,4,0,1,1,1,1,1,1,1,2,{"$f":"IF(ISNA(VLOOKUP(VALUE(D43),'Entry List'!$A$2:$F$87,4,FALSE)),\"Not Entered\", VLOOKUP(VALUE(D43),'Entry List'!$A$3:$F$87,4,FALSE))","v":"Not Entered"},null,null,40,162,"Beard Motorsports",71,4929,0,4,0,1,2]
[41,null,"Richard Childress Racing",31,38,4962,0,2,0,1,1,1,1,1,1,1,1,{"$f":"IF(ISNA(VLOOKUP(VALUE(D44),'Entry List'!$A$2:$F$87,4,FALSE)),\"Not Entered\", VLOOKUP(VALUE(D44),'Entry List'!$A$3:$F$87,4,FALSE))","v":"Not Entered"},null,null,41,31,"Richard Childress Racing",38,4962,0,2,0,1,1]
[42,null,"Motorsports Business Management",66,31,4969,0,14,0,0,0,0,{"$f":"VLOOKUP($A45,$U$4:$AD$51,9,FALSE)","v":0},0,0,0,{"$f":"VLOOKUP($A45,$U$4:$AD$51,10,FALSE)","v":7},{"$f":"IF(ISNA(VLOOKUP(VALUE(D45),'Entry List'!$A$2:$F$87,4,FALSE)),\"Not Entered\", VLOOKUP(VALUE(D45),'Entry List'!$A$3:$F$87,4,FALSE))","v":"Timmy Hill (i)"},null,null,42,66,"Motorsports Business Management",31,4969,0,14,0,0,7]
[43,null,"Rick Ware Racing",54,26,4974,0,4,0,0,0,0,0,0,0,0,0,{"$f":"IF(ISNA(VLOOKUP(VALUE(D46),'Entry List'!$A$2:$F$87,4,FALSE)),\"Not Entered\", VLOOKUP(VALUE(D46),'Entry List'!$A$3:$F$87,4,FALSE))","v":"Not Entered"},null,null,43,54,"Rick Ware Racing",26,4974,0,4,0,0,0]
[44,null,"XCI Racing",81,15,4985,0,1,0,0,0,0,0,0,0,0,1,{"$f":"IF(ISNA(VLOOKUP(VALUE(D47),'Entry List'!$A$2:$F$87,4,FALSE)),\"Not Entered\", VLOOKUP(VALUE(D47),'Entry List'!$A$3:$F$87,4,FALSE))","v":"Not Entered"},null,null,44,81,"XCI Racing",15,4985,0,1,0,0,1]
[45,null,"Motorsports Business Management",46,1,4999,0,1,0,0,0,0,0,0,0,0,0,{"$f":"IF(ISNA(VLOOKUP(VALUE(D48),'Entry List'!$A$2:$F$87,4,FALSE)),\"Not Entered\", VLOOKUP(VALUE(D48),'Entry List'!$A$3:$F$87,4,FALSE))","v":"Not Entered"},null,null,45,46,"Motorsports Business Management",1,4999,0,1,0,0,0]
[46,null,"Germain Racing",127,1,4999,0,1,0,0,0,0,0,0,0,0,1,{"$f":"IF(ISNA(VLOOKUP(VALUE(D49),'Entry List'!$A$2:$F$87,4,FALSE)),\"Not Entered\", VLOOKUP(VALUE(D49),'Entry List'!$A$3:$F$87,4,FALSE))","v":"Not Entered"},null,null,46,127,"Germain Racing",1,4999,0,1,0,0,1]
[47,null,"Tommy Baldwin Racing",71,0,5000,0,0,0,0,0,0,0,0,0,0,0,{"$f":"IF(ISNA(VLOOKUP(VALUE(D50),'Entry List'!$A$2:$F$87,4,FALSE)),\"Not Entered\", VLOOKUP(VALUE(D50),'Entry List'!$A$3:$F$87,4,FALSE))","v":"Not Entered"},null,null,47,71,"Tommy Baldwin Racing",0,5000,0,0,0,0,0]
[]
[]
[]
[]
[]
[]
[]
[]
[]
[]
[]
[]
[]
[]
[]
[]
[]
[]
[]
[]
["00",{"$f":"IF(ISNA(MATCH(A71,'Current Owner Standings'!$D$4:$D$70,0)),99,MATCH(A71,'Current Owner Standings'!$D$4:$D$70,0))","v":33},null,{"$f":"IF(ISNA(MATCH(\"#\"&C71,'Current Owner Standings'!$C$2:$C$170,0)),99,MATCH(\"#\"&C71,'Current Owner Standings'!$C$2:$C$170,0))","v":99}]
["01",{"$f":"IF(ISNA(MATCH(A72,'Current Owner Standings'!$D$4:$D$70,0)),99,MATCH(A72,'Current Owner Standings'!$D$4:$D$70,0))","v":99}]
["02",{"$f":"IF(ISNA(MATCH(A73,'Current Owner Standings'!$D$4:$D$70,0)),99,MATCH(A73,'Current Owner Standings'!$D$4:$D$70,0))","v":99}]
["03",{"$f":"IF(ISNA(MATCH(A74,'Current Owner Standings'!$D$4:$D$70,0)),99,MATCH(A74,'Current Owner Standings'!$D$4:$D$70,0))","v":99}]
["04",{"$f":"IF(ISNA(MATCH(A75,'Current Owner Standings'!$D$4:$D$70,0)),99,MATCH(A75,'Current Owner Standings'!$D$4:$D$70,0))","v":99}]
["05",{"$f":"IF(ISNA(MATCH(A76,'Current Owner Standings'!$D$4:$D$70,0)),99,MATCH(A76,'Current Owner Standings'!$D$4:$D$70,0))","v":99}]
["06",{"$f":"IF(ISNA(MATCH(A77,'Current Owner Standings'!$D$4:$D$70,0)),99,MATCH(A77,'Current Owner Standings'!$D$4:$D$70,0))","v":99}]
["07",{"$f":"IF(ISNA(MATCH(A78,'Current Owner Standings'!$D$4:$D$70,0)),99,MATCH(A78,'Current Owner Standings'!$D$4:$D$70,0))","v":99}]
["08",{"$f":"IF(ISNA(MATCH(A79,'Current Owner Standings'!$D$4:$D$70,0)),99,MATCH(A79,'Current Owner Standings'!$D$4:$D$70,0))","v":99}]
["09",{"$f":"IF(ISNA(MATCH(A80,'Current Owner Standings'!$D$4:$D$70,0)),99,MATCH(A80,'Current Owner Standings'!$D$4:$D$70,0))","v":99}]
[1,{"$f":"IF(ISNA(MATCH(A81,'Current Owner Standings'!$D$4:$D$70,0)),99,MATCH(A81,'Current Owner Standings'!$D$4:$D$70,0))","v":13}]
[2,{"$f":"IF(ISNA(MATCH(A82,'Current Owner Standings'!$D$4:$D$70,0)),99,MATCH(A82,'Current Owner Standings'!$D$4:$D$70,0))","v":8}]
[3,{"$f":"IF(ISNA(MATCH(A83,'Current Owner Standings'!$D$4:$D$70,0)),99,MATCH(A83,'Current Owner Standings'!$D$4:$D$70,0))","v":22}]
[4,{"$f":"IF(ISNA(MATCH(A84,'Current Owner Standings'!$D$4:$D$70,0)),99,MATCH(A84,'Current Owner Standings'!$D$4:$D$70,0))","v":2}]
[5,{"$f":"IF(ISNA(MATCH(A85,'Current Owner Standings'!$D$4:$D$70,0)),99,MATCH(A85,'Current Owner Standings'!$D$4:$D$70,0))","v":99}]
[6,{"$f":"IF(ISNA(MATCH(A86,'Current Owner Standings'!$D$4:$D$70,0)),99,MATCH(A86,'Current Owner Standings'!$D$4:$D$70,0))","v":15}]
[7,{"$f":"IF(ISNA(MATCH(A87,'Current Owner Standings'!$D$4:$D$70,0)),99,MATCH(A87,'Current Owner Standings'!$D$4:$D$70,0))","v":99}]
[8,{"$f":"IF(ISNA(MATCH(A88,'Current Owner Standings'!$D$4:$D$70,0)),99,MATCH(A88,'Current Owner Standings'!$D$4:$D$70,0))","v":25}]
[9,{"$f":"IF(ISNA(MATCH(A89,'Current Owner Standings'!$D$4:$D$70,0)),99,MATCH(A89,'Current Owner Standings'!$D$4:$D$70,0))","v":11}]
[10,{"$f":"IF(ISNA(MATCH(A90,'Current Owner Standings'!$D$4:$D$70,0)),99,MATCH(A90,'Current Owner Standings'!$D$4:$D$70,0))","v":14}]
[11,{"$f":"IF(ISNA(MATCH(A91,'Current Owner Standings'!$D$4:$D$70,0)),99,MATCH(A91,'Current Owner Standings'!$D$4:$D$70,0))","v":1}]
[12,{"$f":"IF(ISNA(MATCH(A92,'Current Owner Standings'!$D$4:$D$70,0)),99,MATCH(A92,'Current Owner Standings'!$D$4:$D$70,0))","v":7}]
[13,{"$f":"IF(ISNA(MATCH(A93,'Current Owner Standings'!$D$4:$D$70,0)),99,MATCH(A93,'Current Owner Standings'!$D$4:$D$70,0))","v":24}]
[14,{"$f":"IF(ISNA(MATCH(A94,'Current Owner Standings'!$D$4:$D$70,0)),99,MATCH(A94,'Current Owner Standings'!$D$4:$D$70,0))","v":10}]
[15,{"$f":"IF(ISNA(MATCH(A95,'Current Owner Standings'!$D$4:$D$70,0)),99,MATCH(A95,'Current Owner Standings'!$D$4:$D$70,0))","v":32}]
[16,{"$f":"IF(ISNA(MATCH(A96,'Current Owner Standings'!$D$4:$D$70,0)),99,MATCH(A96,'Current Owner Standings'!$D$4:$D$70,0))","v":99}]
[17,{"$f":"IF(ISNA(MATCH(A97,'Current Owner Standings'!$D$4:$D$70,0)),99,MATCH(A97,'Current Owner Standings'!$D$4:$D$70,0))","v":23}]
[18,{"$f":"IF(ISNA(MATCH(A98,'Current Owner Standings'!$D$4:$D$70,0)),99,MATCH(A98,'Current Owner Standings'!$D$4:$D$70,0))","v":4}]
[19,{"$f":"IF(ISNA(MATCH(A99,'Current Owner Standings'!$D$4:$D$70,0)),99,MATCH(A99,'Current Owner Standings'!$D$4:$D$70,0))","v":3}]
[20,{"$f":"IF(ISNA(MATCH(A100,'Current Owner Standings'!$D$4:$D$70,0)),99,MATCH(A100,'Current Owner Standings'!$D$4:$D$70,0))","v":16}]
[21,{"$f":"IF(ISNA(MATCH(A101,'Current Owner Standings'!$D$4:$D$70,0)),99,MATCH(A101,'Current Owner Standings'!$D$4:$D$70,0))","v":19}]
[22,{"$f":"IF(ISNA(MATCH(A102,'Current Owner Standings'!$D$4:$D$70,0)),99,MATCH(A102,'Current Owner Standings'!$D$4:$D$70,0))","v":5}]
[23,{"$f":"IF(ISNA(MATCH(A103,'Current Owner Standings'!$D$4:$D$70,0)),99,MATCH(A103,'Current Owner Standings'!$D$4:$D$70,0))","v":99}]
[24,{"$f":"IF(ISNA(MATCH(A104,'Current Owner Standings'!$D$4:$D$70,0)),99,MATCH(A104,'Current Owner Standings'!$D$4:$D$70,0))","v":9}]
[25,{"$f":"IF(ISNA(MATCH(A105,'Current Owner Standings'!$D$4:$D$70,0)),99,MATCH(A105,'Current Owner Standings'!$D$4:$D$70,0))","v":99}]
[26,{"$f":"IF(ISNA(MATCH(A106,'Current Owner Standings'!$D$4:$D$70,0)),99,MATCH(A106,'Current Owner Standings'!$D$4:$D$70,0))","v":99}]
[27,{"$f":"IF(ISNA(MATCH(A107,'Current Owner Standings'!$D$4:$D$70,0)),99,MATCH(A107,'Current Owner Standings'!$D$4:$D$70,0))","v":36}]
[28,{"$f":"IF(ISNA(MATCH(A108,'Current Owner Standings'!$D$4:$D$70,0)),99,MATCH(A108,'Current Owner Standings'!$D$4:$D$70,0))","v":99}]
[29,{"$f":"IF(ISNA(MATCH(A109,'Current Owner Standings'!$D$4:$D$70,0)),99,MATCH(A109,'Current Owner Standings'!$D$4:$D$70,0))","v":99}]
[30,{"$f":"IF(ISNA(MATCH(A110,'Current Owner Standings'!$D$4:$D$70,0)),99,MATCH(A110,'Current Owner Standings'!$D$4:$D$70,0))","v":99}]
[31,{"$f":"IF(ISNA(MATCH(A111,'Current Owner Standings'!$D$4:$D$70,0)),99,MATCH(A111,'Current Owner Standings'!$D$4:$D$70,0))","v":41}]
[32,{"$f":"IF(ISNA(MATCH(A112,'Current Owner Standings'!$D$4:$D$70,0)),99,MATCH(A112,'Current Owner Standings'!$D$4:$D$70,0))","v":29}]
[33,{"$f":"IF(ISNA(MATCH(A113,'Current Owner Standings'!$D$4:$D$70,0)),99,MATCH(A113,'Current Owner Standings'!$D$4:$D$70,0))","v":99}]
[34,{"$f":"IF(ISNA(MATCH(A114,'Current Owner Standings'!$D$4:$D$70,0)),99,MATCH(A114,'Current Owner Standings'!$D$4:$D$70,0))","v":28}]
[35,{"$f":"IF(ISNA(MATCH(A115,'Current Owner Standings'!$D$4:$D$70,0)),99,MATCH(A115,'Current Owner Standings'!$D$4:$D$70,0))","v":99}]
[36,{"$f":"IF(ISNA(MATCH(A116,'Current Owner Standings'!$D$4:$D$70,0)),99,MATCH(A116,'Current Owner Standings'!$D$4:$D$70,0))","v":30}]
[37,{"$f":"IF(ISNA(MATCH(A117,'Current Owner Standings'!$D$4:$D$70,0)),99,MATCH(A117,'Current Owner Standings'!$D$4:$D$70,0))","v":20}]
[38,{"$f":"IF(ISNA(MATCH(A118,'Current Owner Standings'!$D$4:$D$70,0)),99,MATCH(A118,'Current Owner Standings'!$D$4:$D$70,0))","v":31}]
[39,{"$f":"IF(ISNA(MATCH(A119,'Current Owner Standings'!$D$4:$D$70,0)),99,MATCH(A119,'Current Owner Standings'!$D$4:$D$70,0))","v":99}]
[40,{"$f":"IF(ISNA(MATCH(A120,'Current Owner Standings'!$D$4:$D$70,0)),99,MATCH(A120,'Current Owner Standings'!$D$4:$D$70,0))","v":99}]
[41,{"$f":"IF(ISNA(MATCH(A121,'Current Owner Standings'!$D$4:$D$70,0)),99,MATCH(A121,'Current Owner Standings'!$D$4:$D$70,0))","v":17}]
[42,{"$f":"IF(ISNA(MATCH(A122,'Current Owner Standings'!$D$4:$D$70,0)),99,MATCH(A122,'Current Owner Standings'!$D$4:$D$70,0))","v":6}]
[43,{"$f":"IF(ISNA(MATCH(A123,'Current Owner Standings'!$D$4:$D$70,0)),99,MATCH(A123,'Current Owner Standings'!$D$4:$D$70,0))","v":27}]
[44,{"$f":"IF(ISNA(MATCH(A124,'Current Owner Standings'!$D$4:$D$70,0)),99,MATCH(A124,'Current Owner Standings'!$D$4:$D$70,0))","v":99}]
[45,{"$f":"IF(ISNA(MATCH(A125,'Current Owner Standings'!$D$4:$D$70,0)),99,MATCH(A125,'Current Owner Standings'!$D$4:$D$70,0))","v":99}]
[46,{"$f":"IF(ISNA(MATCH(A126,'Current Owner Standings'!$D$4:$D$70,0)),99,MATCH(A126,'Current Owner Standings'!$D$4:$D$70,0))","v":45}]
[47,{"$f":"IF(ISNA(MATCH(A127,'Current Owner Standings'!$D$4:$D$70,0)),99,MATCH(A127,'Current Owner Standings'!$D$4:$D$70,0))","v":26}]
[48,{"$f":"IF(ISNA(MATCH(A128,'Current Owner Standings'!$D$4:$D$70,0)),99,MATCH(A128,'Current Owner Standings'!$D$4:$D$70,0))","v":18}]
[49,{"$f":"IF(ISNA(MATCH(A129,'Current Owner Standings'!$D$4:$D$70,0)),99,MATCH(A129,'Current Owner Standings'!$D$4:$D$70,0))","v":99}]
[50,{"$f":"IF(ISNA(MATCH(A130,'Current Owner Standings'!$D$4:$D$70,0)),99,MATCH(A130,'Current Owner Standings'!$D$4:$D$70,0))","v":99}]
[51,{"$f":"IF(ISNA(MATCH(A131,'Current Owner Standings'!$D$4:$D$70,0)),99,MATCH(A131,'Current Owner Standings'!$D$4:$D$70,0))","v":34}]
[52,{"$f":"IF(ISNA(MATCH(A132,'Current Owner Standings'!$D$4:$D$70,0)),99,MATCH(A132,'Current Owner Standings'!$D$4:$D$70,0))","v":38}]
[53,{"$f":"IF(ISNA(MATCH(A133,'Current Owner Standings'!$D$4:$D$70,0)),99,MATCH(A133,'Current Owner Standings'!$D$4:$D$70,0))","v":39}]
[54,{"$f":"IF(ISNA(MATCH(A134,'Current Owner Standings'!$D$4:$D$70,0)),99,MATCH(A134,'Current Owner Standings'!$D$4:$D$70,0))","v":43}]
[55,{"$f":"IF(ISNA(MATCH(A135,'Current Owner Standings'!$D$4:$D$70,0)),99,MATCH(A135,'Current Owner Standings'!$D$4:$D$70,0))","v":99}]
[56,{"$f":"IF(ISNA(MATCH(A136,'Current Owner Standings'!$D$4:$D$70,0)),99,MATCH(A136,'Current Owner Standings'!$D$4:$D$70,0))","v":99}]
[57,{"$f":"IF(ISNA(MATCH(A137,'Current Owner Standings'!$D$4:$D$70,0)),99,MATCH(A137,'Current Owner Standings'!$D$4:$D$70,0))","v":99}]
[58,{"$f":"IF(ISNA(MATCH(A138,'Current Owner Standings'!$D$4:$D$70,0)),99,MATCH(A138,'Current Owner Standings'!$D$4:$D$70,0))","v":99}]
[59,{"$f":"IF(ISNA(MATCH(A139,'Current Owner Standings'!$D$4:$D$70,0)),99,MATCH(A139,'Current Owner Standings'!$D$4:$D$70,0))","v":99}]
[60,{"$f":"IF(ISNA(MATCH(A140,'Current Owner Standings'!$D$4:$D$70,0)),99,MATCH(A140,'Current Owner Standings'!$D$4:$D$70,0))","v":99}]
[61,{"$f":"IF(ISNA(MATCH(A141,'Current Owner Standings'!$D$4:$D$70,0)),99,MATCH(A141,'Current Owner Standings'!$D$4:$D$70,0))","v":99}]
[62,{"$f":"IF(ISNA(MATCH(A142,'Current Owner Standings'!$D$4:$D$70,0)),99,MATCH(A142,'Current Owner Standings'!$D$4:$D$70,0))","v":99}]
[63,{"$f":"IF(ISNA(MATCH(A143,'Current Owner Standings'!$D$4:$D$70,0)),99,MATCH(A143,'Current Owner Standings'!$D$4:$D$70,0))","v":99}]
[64,{"$f":"IF(ISNA(MATCH(A144,'Current Owner Standings'!$D$4:$D$70,0)),99,MATCH(A144,'Current Owner Standings'!$D$4:$D$70,0))","v":99}]
[65,{"$f":"IF(ISNA(MATCH(A145,'Current Owner Standings'!$D$4:$D$70,0)),99,MATCH(A145,'Current Owner Standings'!$D$4:$D$70,0))","v":99}]
[66,{"$f":"IF(ISNA(MATCH(A146,'Current Owner Standings'!$D$4:$D$70,0)),99,MATCH(A146,'Current Owner Standings'!$D$4:$D$70,0))","v":42}]
[67,{"$f":"IF(ISNA(MATCH(A147,'Current Owner Standings'!$D$4:$D$70,0)),99,MATCH(A147,'Current Owner Standings'!$D$4:$D$70,0))","v":99}]
[68,{"$f":"IF(ISNA(MATCH(A148,'Current Owner Standings'!$D$4:$D$70,0)),99,MATCH(A148,'Current Owner Standings'!$D$4:$D$70,0))","v":99}]
[69,{"$f":"IF(ISNA(MATCH(A149,'Current Owner Standings'!$D$4:$D$70,0)),99,MATCH(A149,'Current Owner Standings'!$D$4:$D$70,0))","v":99}]
[70,{"$f":"IF(ISNA(MATCH(A150,'Current Owner Standings'!$D$4:$D$70,0)),99,MATCH(A150,'Current Owner Standings'!$D$4:$D$70,0))","v":99}]
[71,{"$f":"IF(ISNA(MATCH(A151,'Current Owner Standings'!$D$4:$D$70,0)),99,MATCH(A151,'Current Owner Standings'!$D$4:$D$70,0))","v":47}]
[72,{"$f":"IF(ISNA(MATCH(A152,'Current Owner Standings'!$D$4:$D$70,0)),99,MATCH(A152,'Current Owner Standings'!$D$4:$D$70,0))","v":99}]
[73,{"$f":"IF(ISNA(MATCH(A153,'Current Owner Standings'!$D$4:$D$70,0)),99,MATCH(A153,'Current Owner Standings'!$D$4:$D$70,0))","v":99}]
[74,{"$f":"IF(ISNA(MATCH(A154,'Current Owner Standings'!$D$4:$D$70,0)),99,MATCH(A154,'Current Owner Standings'!$D$4:$D$70,0))","v":99}]
[75,{"$f":"IF(ISNA(MATCH(A155,'Current Owner Standings'!$D$4:$D$70,0)),99,MATCH(A155,'Current Owner Standings'!$D$4:$D$70,0))","v":99}]
[76,{"$f":"IF(ISNA(MATCH(A156,'Current Owner Standings'!$D$4:$D$70,0)),99,MATCH(A156,'Current Owner Standings'!$D$4:$D$70,0))","v":99}]
[77,{"$f":"IF(ISNA(MATCH(A157,'Current Owner Standings'!$D$4:$D$70,0)),99,MATCH(A157,'Current Owner Standings'!$D$4:$D$70,0))","v":35}]
[78,{"$f":"IF(ISNA(MATCH(A158,'Current Owner Standings'!$D$4:$D$70,0)),99,MATCH(A158,'Current Owner Standings'!$D$4:$D$70,0))","v":99}]
[79,{"$f":"IF(ISNA(MATCH(A159,'Current Owner Standings'!$D$4:$D$70,0)),99,MATCH(A159,'Current Owner Standings'!$D$4:$D$70,0))","v":99}]
[80,{"$f":"IF(ISNA(MATCH(A160,'Current Owner Standings'!$D$4:$D$70,0)),99,MATCH(A160,'Current Owner Standings'!$D$4:$D$70,0))","v":99}]
[81,{"$f":"IF(ISNA(MATCH(A161,'Current Owner Standings'!$D$4:$D$70,0)),99,MATCH(A161,'Current Owner Standings'!$D$4:$D$70,0))","v":44}]
[82,{"$f":"IF(ISNA(MATCH(A162,'Current Owner Standings'!$D$4:$D$70,0)),99,MATCH(A162,'Current Owner Standings'!$D$4:$D$70,0))","v":99}]
[83,{"$f":"IF(ISNA(MATCH(A163,'Current Owner Standings'!$D$4:$D$70,0)),99,MATCH(A163,'Current Owner Standings'!$D$4:$D$70,0))","v":99}]
[84,{"$f":"IF(ISNA(MATCH(A164,'Current Owner Standings'!$D$4:$D$70,0)),99,MATCH(A164,'Current Owner Standings'!$D$4:$D$70,0))","v":99}]
[85,{"$f":"IF(ISNA(MATCH(A165,'Current Owner Standings'!$D$4:$D$70,0)),99,MATCH(A165,'Current Owner Standings'!$D$4:$D$70,0))","v":99}]
[86,{"$f":"IF(ISNA(MATCH(A166,'Current Owner Standings'!$D$4:$D$70,0)),99,MATCH(A166,'Current Owner Standings'!$D$4:$D$70,0))","v":99}]
[87,{"$f":"IF(ISNA(MATCH(A167,'Current Owner Standings'!$D$4:$D$70,0)),99,MATCH(A167,'Current Owner Standings'!$D$4:$D$70,0))","v":99}]
[88,{"$f":"IF(ISNA(MATCH(A168,'Current Owner Standings'!$D$4:$D$70,0)),99,MATCH(A168,'Current Owner Standings'!$D$4:$D$70,0))","v":12}]
[89,{"$f":"IF(ISNA(MATCH(A169,'Current Owner Standings'!$D$4:$D$70,0)),99,MATCH(A169,'Current Owner Standings'!$D$4:$D$70,0))","v":99}]
[90,{"$f":"IF(ISNA(MATCH(A170,'Current Owner Standings'!$D$4:$D$70,0)),99,MATCH(A170,'Current Owner Standings'!$D$4:$D$70,0))","v":99}]
[91,{"$f":"IF(ISNA(MATCH(A171,'Current Owner Standings'!$D$4:$D$70,0)),99,MATCH(A171,'Current Owner Standings'!$D$4:$D$70,0))","v":99}]
[92,{"$f":"IF(ISNA(MATCH(A172,'Current Owner Standings'!$D$4:$D$70,0)),99,MATCH(A172,'Current Owner Standings'!$D$4:$D$70,0))","v":99}]
[93,{"$f":"IF(ISNA(MATCH(A173,'Current Owner Standings'!$D$4:$D$70,0)),99,MATCH(A173,'Current Owner Standings'!$D$4:$D$70,0))","v":99}]
[94,{"$f":"IF(ISNA(MATCH(A174,'Current Owner Standings'!$D$4:$D$70,0)),99,MATCH(A174,'Current Owner Standings'!$D$4:$D$70,0))","v":99}]
[95,{"$f":"IF(ISNA(MATCH(A175,'Current Owner Standings'!$D$4:$D$70,0)),99,MATCH(A175,'Current Owner Standings'!$D$4:$D$70,0))","v":21}]
[96,{"$f":"IF(ISNA(MATCH(A176,'Current Owner Standings'!$D$4:$D$70,0)),99,MATCH(A176,'Current Owner Standings'!$D$4:$D$70,0))","v":37}]
[97,{"$f":"IF(ISNA(MATCH(A177,'Current Owner Standings'!$D$4:$D$70,0)),99,MATCH(A177,'Current Owner Standings'!$D$4:$D$70,0))","v":99}]
[98,{"$f":"IF(ISNA(MATCH(A178,'Current Owner Standings'!$D$4:$D$70,0)),99,MATCH(A178,'Current Owner Standings'!$D$4:$D$70,0))","v":99}]
[99,{"$f":"IF(ISNA(MATCH(A179,'Current Owner Standings'!$D$4:$D$70,0)),99,MATCH(A179,'Current Owner Standings'!$D$4:$D$70,0))","v":99}]
[100,{"$f":"IF(ISNA(MATCH(A180,'Current Owner Standings'!$D$4:$D$70,0)),99,MATCH(A180,'Current Owner Standings'!$D$4:$D$70,0))","v":99}]
[101,{"$f":"IF(ISNA(MATCH(A181,'Current Owner Standings'!$D$4:$D$70,0)),99,MATCH(A181,'Current Owner Standings'!$D$4:$D$70,0))","v":99}]
[102,{"$f":"IF(ISNA(MATCH(A182,'Current Owner Standings'!$D$4:$D$70,0)),99,MATCH(A182,'Current Owner Standings'!$D$4:$D$70,0))","v":99}]
[103,{"$f":"IF(ISNA(MATCH(A183,'Current Owner Standings'!$D$4:$D$70,0)),99,MATCH(A183,'Current Owner Standings'!$D$4:$D$70,0))","v":99}]
[104,{"$f":"IF(ISNA(MATCH(A184,'Current Owner Standings'!$D$4:$D$70,0)),99,MATCH(A184,'Current Owner Standings'!$D$4:$D$70,0))","v":99}]
[105,{"$f":"IF(ISNA(MATCH(A185,'Current Owner Standings'!$D$4:$D$70,0)),99,MATCH(A185,'Current Owner Standings'!$D$4:$D$70,0))","v":99}]
[106,{"$f":"IF(ISNA(MATCH(A186,'Current Owner Standings'!$D$4:$D$70,0)),99,MATCH(A186,'Current Owner Standings'!$D$4:$D$70,0))","v":99}]
[107,{"$f":"IF(ISNA(MATCH(A187,'Current Owner Standings'!$D$4:$D$70,0)),99,MATCH(A187,'Current Owner Standings'!$D$4:$D$70,0))","v":99}]
[108,{"$f":"IF(ISNA(MATCH(A188,'Current Owner Standings'!$D$4:$D$70,0)),99,MATCH(A188,'Current Owner Standings'!$D$4:$D$70,0))","v":99}]
[109,{"$f":"IF(ISNA(MATCH(A189,'Current Owner Standings'!$D$4:$D$70,0)),99,MATCH(A189,'Current Owner Standings'!$D$4:$D$70,0))","v":99}]
[110,{"$f":"IF(ISNA(MATCH(A190,'Current Owner Standings'!$D$4:$D$70,0)),99,MATCH(A190,'Current Owner Standings'!$D$4:$D$70,0))","v":99}]
[111,{"$f":"IF(ISNA(MATCH(A191,'Current Owner Standings'!$D$4:$D$70,0)),99,MATCH(A191,'Current Owner Standings'!$D$4:$D$70,0))","v":99}]
[112,{"$f":"IF(ISNA(MATCH(A192,'Current Owner Standings'!$D$4:$D$70,0)),99,MATCH(A192,'Current Owner Standings'!$D$4:$D$70,0))","v":99}]
[113,{"$f":"IF(ISNA(MATCH(A193,'Current Owner Standings'!$D$4:$D$70,0)),99,MATCH(A193,'Current Owner Standings'!$D$4:$D$70,0))","v":99}]
[114,{"$f":"IF(ISNA(MATCH(A194,'Current Owner Standings'!$D$4:$D$70,0)),99,MATCH(A194,'Current Owner Standings'!$D$4:$D$70,0))","v":99}]
[115,{"$f":"IF(ISNA(MATCH(A195,'Current Owner Standings'!$D$4:$D$70,0)),99,MATCH(A195,'Current Owner Standings'!$D$4:$D$70,0))","v":99}]
[116,{"$f":"IF(ISNA(MATCH(A196,'Current Owner Standings'!$D$4:$D$70,0)),99,MATCH(A196,'Current Owner Standings'!$D$4:$D$70,0))","v":99}]
[117,{"$f":"IF(ISNA(MATCH(A197,'Current Owner Standings'!$D$4:$D$70,0)),99,MATCH(A197,'Current Owner Standings'!$D$4:$D$70,0))","v":99}]
[118,{"$f":"IF(ISNA(MATCH(A198,'Current Owner Standings'!$D$4:$D$70,0)),99,MATCH(A198,'Current Owner Standings'!$D$4:$D$70,0))","v":99}]
[119,{"$f":"IF(ISNA(MATCH(A199,'Current Owner Standings'!$D$4:$D$70,0)),99,MATCH(A199,'Current Owner Standings'!$D$4:$D$70,0))","v":99}]
[120,{"$f":"IF(ISNA(MATCH(A200,'Current Owner Standings'!$D$4:$D$70,0)),99,MATCH(A200,'Current Owner Standings'!$D$4:$D$70,0))","v":99}]
[121,{"$f":"IF(ISNA(MATCH(A201,'Current Owner Standings'!$D$4:$D$70,0)),99,MATCH(A201,'Current Owner Standings'!$D$4:$D$70,0))","v":99}]
[122,{"$f":"IF(ISNA(MATCH(A202,'Current Owner Standings'!$D$4:$D$70,0)),99,MATCH(A202,'Current Owner Standings'!$D$4:$D$70,0))","v":99}]
[123,{"$f":"IF(ISNA(MATCH(A203,'Current Owner Standings'!$D$4:$D$70,0)),99,MATCH(A203,'Current Owner Standings'!$D$4:$D$70,0))","v":99}]
[124,{"$f":"IF(ISNA(MATCH(A204,'Current Owner Standings'!$D$4:$D$70,0)),99,MATCH(A204,'Current Owner Standings'!$D$4:$D$70,0))","v":99}]
[125,{"$f":"IF(ISNA(MATCH(A205,'Current Owner Standings'!$D$4:$D$70,0)),99,MATCH(A205,'Current Owner Standings'!$D$4:$D$70,0))","v":99}]
[126,{"$f":"IF(ISNA(MATCH(A206,'Current Owner Standings'!$D$4:$D$70,0)),99,MATCH(A206,'Current Owner Standings'!$D$4:$D$70,0))","v":99}]
[127,{"$f":"IF(ISNA(MATCH(A207,'Current Owner Standings'!$D$4:$D$70,0)),99,MATCH(A207,'Current Owner Standings'!$D$4:$D$70,0))","v":46}]
[128,{"$f":"IF(ISNA(MATCH(A208,'Current Owner Standings'!$D$4:$D$70,0)),99,MATCH(A208,'Current Owner Standings'!$D$4:$D$70,0))","v":99}]
[129,{"$f":"IF(ISNA(MATCH(A209,'Current Owner Standings'!$D$4:$D$70,0)),99,MATCH(A209,'Current Owner Standings'!$D$4:$D$70,0))","v":99}]
[130,{"$f":"IF(ISNA(MATCH(A210,'Current Owner Standings'!$D$4:$D$70,0)),99,MATCH(A210,'Current Owner Standings'!$D$4:$D$70,0))","v":99}]
[131,{"$f":"IF(ISNA(MATCH(A211,'Current Owner Standings'!$D$4:$D$70,0)),99,MATCH(A211,'Current Owner Standings'!$D$4:$D$70,0))","v":99}]
[132,{"$f":"IF(ISNA(MATCH(A212,'Current Owner Standings'!$D$4:$D$70,0)),99,MATCH(A212,'Current Owner Standings'!$D$4:$D$70,0))","v":99}]
[133,{"$f":"IF(ISNA(MATCH(A213,'Current Owner Standings'!$D$4:$D$70,0)),99,MATCH(A213,'Current Owner Standings'!$D$4:$D$70,0))","v":99}]
[134,{"$f":"IF(ISNA(MATCH(A214,'Current Owner Standings'!$D$4:$D$70,0)),99,MATCH(A214,'Current Owner Standings'!$D$4:$D$70,0))","v":99}]
[135,{"$f":"IF(ISNA(MATCH(A215,'Current Owner Standings'!$D$4:$D$70,0)),99,MATCH(A215,'Current Owner Standings'!$D$4:$D$70,0))","v":99}]
[136,{"$f":"IF(ISNA(MATCH(A216,'Current Owner Standings'!$D$4:$D$70,0)),99,MATCH(A216,'Current Owner Standings'!$D$4:$D$70,0))","v":99}]
[137,{"$f":"IF(ISNA(MATCH(A217,'Current Owner Standings'!$D$4:$D$70,0)),99,MATCH(A217,'Current Owner Standings'!$D$4:$D$70,0))","v":99}]
[138,{"$f":"IF(ISNA(MATCH(A218,'Current Owner Standings'!$D$4:$D$70,0)),99,MATCH(A218,'Current Owner Standings'!$D$4:$D$70,0))","v":99}]
[139,{"$f":"IF(ISNA(MATCH(A219,'Current Owner Standings'!$D$4:$D$70,0)),99,MATCH(A219,'Current Owner Standings'!$D$4:$D$70,0))","v":99}]
[140,{"$f":"IF(ISNA(MATCH(A220,'Current Owner Standings'!$D$4:$D$70,0)),99,MATCH(A220,'Current Owner Standings'!$D$4:$D$70,0))","v":99}]
[141,{"$f":"IF(ISNA(MATCH(A221,'Current Owner Standings'!$D$4:$D$70,0)),99,MATCH(A221,'Current Owner Standings'!$D$4:$D$70,0))","v":99}]
[142,{"$f":"IF(ISNA(MATCH(A222,'Current Owner Standings'!$D$4:$D$70,0)),99,MATCH(A222,'Current Owner Standings'!$D$4:$D$70,0))","v":99}]
[143,{"$f":"IF(ISNA(MATCH(A223,'Current Owner Standings'!$D$4:$D$70,0)),99,MATCH(A223,'Current Owner Standings'!$D$4:$D$70,0))","v":99}]
[144,{"$f":"IF(ISNA(MATCH(A224,'Current Owner Standings'!$D$4:$D$70,0)),99,MATCH(A224,'Current Owner Standings'!$D$4:$D$70,0))","v":99}]
[145,{"$f":"IF(ISNA(MATCH(A225,'Current Owner Standings'!$D$4:$D$70,0)),99,MATCH(A225,'Current Owner Standings'!$D$4:$D$70,0))","v":99}]
[146,{"$f":"IF(ISNA(MATCH(A226,'Current Owner Standings'!$D$4:$D$70,0)),99,MATCH(A226,'Current Owner Standings'!$D$4:$D$70,0))","v":99}]
[147,{"$f":"IF(ISNA(MATCH(A227,'Current Owner Standings'!$D$4:$D$70,0)),99,MATCH(A227,'Current Owner Standings'!$D$4:$D$70,0))","v":99}]
[148,{"$f":"IF(ISNA(MATCH(A228,'Current Owner Standings'!$D$4:$D$70,0)),99,MATCH(A228,'Current Owner Standings'!$D$4:$D$70,0))","v":99}]
[149,{"$f":"IF(ISNA(MATCH(A229,'Current Owner Standings'!$D$4:$D$70,0)),99,MATCH(A229,'Current Owner Standings'!$D$4:$D$70,0))","v":99}]
[150,{"$f":"IF(ISNA(MATCH(A230,'Current Owner Standings'!$D$4:$D$70,0)),99,MATCH(A230,'Current Owner Standings'!$D$4:$D$70,0))","v":99}]
[151,{"$f":"IF(ISNA(MATCH(A231,'Current Owner Standings'!$D$4:$D$70,0)),99,MATCH(A231,'Current Owner Standings'!$D$4:$D$70,0))","v":99}]
[152,{"$f":"IF(ISNA(MATCH(A232,'Current Owner Standings'!$D$4:$D$70,0)),99,MATCH(A232,'Current Owner Standings'!$D$4:$D$70,0))","v":99}]
[153,{"$f":"IF(ISNA(MATCH(A233,'Current Owner Standings'!$D$4:$D$70,0)),99,MATCH(A233,'Current Owner Standings'!$D$4:$D$70,0))","v":99}]
[154,{"$f":"IF(ISNA(MATCH(A234,'Current Owner Standings'!$D$4:$D$70,0)),99,MATCH(A234,'Current Owner Standings'!$D$4:$D$70,0))","v":99}]
[155,{"$f":"IF(ISNA(MATCH(A235,'Current Owner Standings'!$D$4:$D$70,0)),99,MATCH(A235,'Current Owner Standings'!$D$4:$D$70,0))","v":99}]
[156,{"$f":"IF(ISNA(MATCH(A236,'Current Owner Standings'!$D$4:$D$70,0)),99,MATCH(A236,'Current Owner Standings'!$D$4:$D$70,0))","v":99}]
[157,{"$f":"IF(ISNA(MATCH(A237,'Current Owner Standings'!$D$4:$D$70,0)),99,MATCH(A237,'Current Owner Standings'!$D$4:$D$70,0))","v":99}]
[158,{"$f":"IF(ISNA(MATCH(A238,'Current Owner Standings'!$D$4:$D$70,0)),99,MATCH(A238,'Current Owner Standings'!$D$4:$D$70,0))","v":99}]
[159,{"$f":"IF(ISNA(MATCH(A239,'Current Owner Standings'!$D$4:$D$70,0)),99,MATCH(A239,'Current Owner Standings'!$D$4:$D$70,0))","v":99}]
[160,{"$f":"IF(ISNA(MATCH(A240,'Current Owner Standings'!$D$4:$D$70,0)),99,MATCH(A240,'Current Owner Standings'!$D$4:$D$70,0))","v":99}]
[161,{"$f":"IF(ISNA(MATCH(A241,'Current Owner Standings'!$D$4:$D$70,0)),99,MATCH(A241,'Current Owner Standings'!$D$4:$D$70,0))","v":99}]
[162,{"$f":"IF(ISNA(MATCH(A242,'Current Owner Standings'!$D$4:$D$70,0)),99,MATCH(A242,'Current Owner Standings'!$D$4:$D$70,0))","v":40}]
[163,{"$f":"IF(ISNA(MATCH(A243,'Current Owner Standings'!$D$4:$D$70,0)),99,MATCH(A243,'Current Owner Standings'!$D$4:$D$70,0))","v":99}]
[164,{"$f":"IF(ISNA(MATCH(A244,'Current Owner Standings'!$D$4:$D$70,0)),99,MATCH(A244,'Current Owner Standings'!$D$4:$D$70,0))","v":99}]
[165,{"$f":"IF(ISNA(MATCH(A245,'Current Owner Standings'!$D$4:$D$70,0)),99,MATCH(A245,'Current Owner Standings'!$D$4:$D$70,0))","v":99}]
[166,{"$f":"IF(ISNA(MATCH(A246,'Current Owner Standings'!$D$4:$D$70,0)),99,MATCH(A246,'Current Owner Standings'!$D$4:$D$70,0))","v":99}]
[167,{"$f":"IF(ISNA(MATCH(A247,'Current Owner Standings'!$D$4:$D$70,0)),99,MATCH(A247,'Current Owner Standings'!$D$4:$D$70,0))","v":99}]
[168,{"$f":"IF(ISNA(MATCH(A248,'Current Owner Standings'!$D$4:$D$70,0)),99,MATCH(A248,'Current Owner Standings'!$D$4:$D$70,0))","v":99}]
[169,{"$f":"IF(ISNA(MATCH(A249,'Current Owner Standings'!$D$4:$D$70,0)),99,MATCH(A249,'Current Owner Standings'!$D$4:$D$70,0))","v":99}]
[170,{"$f":"IF(ISNA(MATCH(A250,'Current Owner Standings'!$D$4:$D$70,0)),99,MATCH(A250,'Current Owner Standings'!$D$4:$D$70,0))","v":99}]
[171,{"$f":"IF(ISNA(MATCH(A251,'Current Owner Standings'!$D$4:$D$70,0)),99,MATCH(A251,'Current Owner Standings'!$D$4:$D$70,0))","v":99}]
[172,{"$f":"IF(ISNA(MATCH(A252,'Current Owner Standings'!$D$4:$D$70,0)),99,MATCH(A252,'Current Owner Standings'!$D$4:$D$70,0))","v":99}]
[173,{"$f":"IF(ISNA(MATCH(A253,'Current Owner Standings'!$D$4:$D$70,0)),99,MATCH(A253,'Current Owner Standings'!$D$4:$D$70,0))","v":99}]
[174,{"$f":"IF(ISNA(MATCH(A254,'Current Owner Standings'!$D$4:$D$70,0)),99,MATCH(A254,'Current Owner Standings'!$D$4:$D$70,0))","v":99}]
[175,{"$f":"IF(ISNA(MATCH(A255,'Current Owner Standings'!$D$4:$D$70,0)),99,MATCH(A255,'Current Owner Standings'!$D$4:$D$70,0))","v":99}]
[176,{"$f":"IF(ISNA(MATCH(A256,'Current Owner Standings'!$D$4:$D$70,0)),99,MATCH(A256,'Current Owner Standings'!$D$4:$D$70,0))","v":99}]
[177,{"$f":"IF(ISNA(MATCH(A257,'Current Owner Standings'!$D$4:$D$70,0)),99,MATCH(A257,'Current Owner Standings'!$D$4:$D$70,0))","v":99}]
[178,{"$f":"IF(ISNA(MATCH(A258,'Current Owner Standings'!$D$4:$D$70,0)),99,MATCH(A258,'Current Owner Standings'!$D$4:$D$70,0))","v":99}]
[179,{"$f":"IF(ISNA(MATCH(A259,'Current Owner Standings'!$D$4:$D$70,0)),99,MATCH(A259,'Current Owner Standings'!$D$4:$D$70,0))","v":99}]
[180,{"$f":"IF(ISNA(MATCH(A260,'Current Owner Standings'!$D$4:$D$70,0)),99,MATCH(A260,'Current Owner Standings'!$D$4:$D$70,0))","v":99}]
[181,{"$f":"IF(ISNA(MATCH(A261,'Current Owner Standings'!$D$4:$D$70,0)),99,MATCH(A261,'Current Owner Standings'!$D$4:$D$70,0))","v":99}]
[182,{"$f":"IF(ISNA(MATCH(A262,'Current Owner Standings'!$D$4:$D$70,0)),99,MATCH(A262,'Current Owner Standings'!$D$4:$D$70,0))","v":99}]
[183,{"$f":"IF(ISNA(MATCH(A263,'Current Owner Standings'!$D$4:$D$70,0)),99,MATCH(A263,'Current Owner Standings'!$D$4:$D$70,0))","v":99}]
[184,{"$f":"IF(ISNA(MATCH(A264,'Current Owner Standings'!$D$4:$D$70,0)),99,MATCH(A264,'Current Owner Standings'!$D$4:$D$70,0))","v":99}]
[185,{"$f":"IF(ISNA(MATCH(A265,'Current Owner Standings'!$D$4:$D$70,0)),99,MATCH(A265,'Current Owner Standings'!$D$4:$D$70,0))","v":99}]
[186,{"$f":"IF(ISNA(MATCH(A266,'Current Owner Standings'!$D$4:$D$70,0)),99,MATCH(A266,'Current Owner Standings'!$D$4:$D$70,0))","v":99}]
[187,{"$f":"IF(ISNA(MATCH(A267,'Current Owner Standings'!$D$4:$D$70,0)),99,MATCH(A267,'Current Owner Standings'!$D$4:$D$70,0))","v":99}]
[188,{"$f":"IF(ISNA(MATCH(A268,'Current Owner Standings'!$D$4:$D$70,0)),99,MATCH(A268,'Current Owner Standings'!$D$4:$D$70,0))","v":99}]
[189,{"$f":"IF(ISNA(MATCH(A269,'Current Owner Standings'!$D$4:$D$70,0)),99,MATCH(A269,'Current Owner Standings'!$D$4:$D$70,0))","v":99}]
[190,{"$f":"IF(ISNA(MATCH(A270,'Current Owner Standings'!$D$4:$D$70,0)),99,MATCH(A270,'Current Owner Standings'!$D$4:$D$70,0))","v":99}]
[191,{"$f":"IF(ISNA(MATCH(A271,'Current Owner Standings'!$D$4:$D$70,0)),99,MATCH(A271,'Current Owner Standings'!$D$4:$D$70,0))","v":99}]
[192,{"$f":"IF(ISNA(MATCH(A272,'Current Owner Standings'!$D$4:$D$70,0)),99,MATCH(A272,'Current Owner Standings'!$D$4:$D$70,0))","v":99}]
[193,{"$f":"IF(ISNA(MATCH(A273,'Current Owner Standings'!$D$4:$D$70,0)),99,MATCH(A273,'Current Owner Standings'!$D$4:$D$70,0))","v":99}]
[194,{"$f":"IF(ISNA(MATCH(A274,'Current Owner Standings'!$D$4:$D$70,0)),99,MATCH(A274,'Current Owner Standings'!$D$4:$D$70,0))","v":99}]
[195,{"$f":"IF(ISNA(MATCH(A275,'Current Owner Standings'!$D$4:$D$70,0)),99,MATCH(A275,'Current Owner Standings'!$D$4:$D$70,0))","v":99}]
[196,{"$f":"IF(ISNA(MATCH(A276,'Current Owner Standings'!$D$4:$D$70,0)),99,MATCH(A276,'Current Owner Standings'!$D$4:$D$70,0))","v":99}]
[197,{"$f":"IF(ISNA(MATCH(A277,'Current Owner Standings'!$D$4:$D$70,0)),99,MATCH(A277,'Current Owner Standings'!$D$4:$D$70,0))","v":99}]
[198,{"$f":"IF(ISNA(MATCH(A278,'Current Owner Standings'!$D$4:$D$70,0)),99,MATCH(A278,'Current Owner Standings'!$D$4:$D$70,0))","v":99}]
[199,{"$f":"IF(ISNA(MATCH(A279,'Current Owner Standings'!$D$4:$D$70,0)),99,MATCH(A279,'Current Owner Standings'!$D$4:$D$70,0))","v":99}]
[200,{"$f":"IF(ISNA(MATCH(A280,'Current Owner Standings'!$D$4:$D$70,0)),99,MATCH(A280,'Current Owner Standings'!$D$4:$D$70,0))","v":99}]
[201,{"$f":"IF(ISNA(MATCH(A281,'Current Owner Standings'!$D$4:$D$70,0)),99,MATCH(A281,'Current Owner Standings'!$D$4:$D$70,0))","v":99}]
[202,{"$f":"IF(ISNA(MATCH(A282,'Current Owner Standings'!$D$4:$D$70,0)),99,MATCH(A282,'Current Owner Standings'!$D$4:$D$70,0))","v":99}]
[203,{"$f":"IF(ISNA(MATCH(A283,'Current Owner Standings'!$D$4:$D$70,0)),99,MATCH(A283,'Current Owner Standings'!$D$4:$D$70,0))","v":99}]
[204,{"$f":"IF(ISNA(MATCH(A284,'Current Owner Standings'!$D$4:$D$70,0)),99,MATCH(A284,'Current Owner Standings'!$D$4:$D$70,0))","v":99}]
[205,{"$f":"IF(ISNA(MATCH(A285,'Current Owner Standings'!$D$4:$D$70,0)),99,MATCH(A285,'Current Owner Standings'!$D$4:$D$70,0))","v":99}]
[206,{"$f":"IF(ISNA(MATCH(A286,'Current Owner Standings'!$D$4:$D$70,0)),99,MATCH(A286,'Current Owner Standings'!$D$4:$D$70,0))","v":99}]
[207,{"$f":"IF(ISNA(MATCH(A287,'Current Owner Standings'!$D$4:$D$70,0)),99,MATCH(A287,'Current Owner Standings'!$D$4:$D$70,0))","v":99}]
[208,{"$f":"IF(ISNA(MATCH(A288,'Current Owner Standings'!$D$4:$D$70,0)),99,MATCH(A288,'Current Owner Standings'!$D$4:$D$70,0))","v":99}]
[209,{"$f":"IF(ISNA(MATCH(A289,'Current Owner Standings'!$D$4:$D$70,0)),99,MATCH(A289,'Current Owner Standings'!$D$4:$D$70,0))","v":99}]
[210,{"$f":"IF(ISNA(MATCH(A290,'Current Owner Standings'!$D$4:$D$70,0)),99,MATCH(A290,'Current Owner Standings'!$D$4:$D$70,0))","v":99}]
[211,{"$f":"IF(ISNA(MATCH(A291,'Current Owner Standings'!$D$4:$D$70,0)),99,MATCH(A291,'Current Owner Standings'!$D$4:$D$70,0))","v":99}]
[212,{"$f":"IF(ISNA(MATCH(A292,'Current Owner Standings'!$D$4:$D$70,0)),99,MATCH(A292,'Current Owner Standings'!$D$4:$D$70,0))","v":99}]
[213,{"$f":"IF(ISNA(MATCH(A293,'Current Owner Standings'!$D$4:$D$70,0)),99,MATCH(A293,'Current Owner Standings'!$D$4:$D$70,0))","v":99}]
[214,{"$f":"IF(ISNA(MATCH(A294,'Current Owner Standings'!$D$4:$D$70,0)),99,MATCH(A294,'Current Owner Standings'!$D$4:$D$70,0))","v":99}]
[215,{"$f":"IF(ISNA(MATCH(A295,'Current Owner Standings'!$D$4:$D$70,0)),99,MATCH(A295,'Current Owner Standings'!$D$4:$D$70,0))","v":99}]
[216,{"$f":"IF(ISNA(MATCH(A296,'Current Owner Standings'!$D$4:$D$70,0)),99,MATCH(A296,'Current Owner Standings'!$D$4:$D$70,0))","v":99}]
[217,{"$f":"IF(ISNA(MATCH(A297,'Current Owner Standings'!$D$4:$D$70,0)),99,MATCH(A297,'Current Owner Standings'!$D$4:$D$70,0))","v":99}]
[218,{"$f":"IF(ISNA(MATCH(A298,'Current Owner Standings'!$D$4:$D$70,0)),99,MATCH(A298,'Current Owner Standings'!$D$4:$D$70,0))","v":99}]
[219,{"$f":"IF(ISNA(MATCH(A299,'Current Owner Standings'!$D$4:$D$70,0)),99,MATCH(A299,'Current Owner Standings'!$D$4:$D$70,0))","v":99}]
[220,{"$f":"IF(ISNA(MATCH(A300,'Current Owner Standings'!$D$4:$D$70,0)),99,MATCH(A300,'Current Owner Standings'!$D$4:$D$70,0))","v":99}]
[221,{"$f":"IF(ISNA(MATCH(A301,'Current Owner Standings'!$D$4:$D$70,0)),99,MATCH(A301,'Current Owner Standings'!$D$4:$D$70,0))","v":99}]
[222,{"$f":"IF(ISNA(MATCH(A302,'Current Owner Standings'!$D$4:$D$70,0)),99,MATCH(A302,'Current Owner Standings'!$D$4:$D$70,0))","v":99}]
[223,{"$f":"IF(ISNA(MATCH(A303,'Current Owner Standings'!$D$4:$D$70,0)),99,MATCH(A303,'Current Owner Standings'!$D$4:$D$70,0))","v":99}]
[224,{"$f":"IF(ISNA(MATCH(A304,'Current Owner Standings'!$D$4:$D$70,0)),99,MATCH(A304,'Current Owner Standings'!$D$4:$D$70,0))","v":99}]
[225,{"$f":"IF(ISNA(MATCH(A305,'Current Owner Standings'!$D$4:$D$70,0)),99,MATCH(A305,'Current Owner Standings'!$D$4:$D$70,0))","v":99}]
[226,{"$f":"IF(ISNA(MATCH(A306,'Current Owner Standings'!$D$4:$D$70,0)),99,MATCH(A306,'Current Owner Standings'!$D$4:$D$70,0))","v":99}]
[227,{"$f":"IF(ISNA(MATCH(A307,'Current Owner Standings'!$D$4:$D$70,0)),99,MATCH(A307,'Current Owner Standings'!$D$4:$D$70,0))","v":99}]
[228,{"$f":"IF(ISNA(MATCH(A308,'Current Owner Standings'!$D$4:$D$70,0)),99,MATCH(A308,'Current Owner Standings'!$D$4:$D$70,0))","v":99}]
[229,{"$f":"IF(ISNA(MATCH(A309,'Current Owner Standings'!$D$4:$D$70,0)),99,MATCH(A309,'Current Owner Standings'!$D$4:$D$70,0))","v":99}]
[230,{"$f":"IF(ISNA(MATCH(A310,'Current Owner Standings'!$D$4:$D$70,0)),99,MATCH(A310,'Current Owner Standings'!$D$4:$D$70,0))","v":99}]
[231,{"$f":"IF(ISNA(MATCH(A311,'Current Owner Standings'!$D$4:$D$70,0)),99,MATCH(A311,'Current Owner Standings'!$D$4:$D$70,0))","v":99}]
[232,{"$f":"IF(ISNA(MATCH(A312,'Current Owner Standings'!$D$4:$D$70,0)),99,MATCH(A312,'Current Owner Standings'!$D$4:$D$70,0))","v":99}]
[233,{"$f":"IF(ISNA(MATCH(A313,'Current Owner Standings'!$D$4:$D$70,0)),99,MATCH(A313,'Current Owner Standings'!$D$4:$D$70,0))","v":99}]
[234,{"$f":"IF(ISNA(MATCH(A314,'Current Owner Standings'!$D$4:$D$70,0)),99,MATCH(A314,'Current Owner Standings'!$D$4:$D$70,0))","v":99}]
[235,{"$f":"IF(ISNA(MATCH(A315,'Current Owner Standings'!$D$4:$D$70,0)),99,MATCH(A315,'Current Owner Standings'!$D$4:$D$70,0))","v":99}]
[236,{"$f":"IF(ISNA(MATCH(A316,'Current Owner Standings'!$D$4:$D$70,0)),99,MATCH(A316,'Current Owner Standings'!$D$4:$D$70,0))","v":99}]
[237,{"$f":"IF(ISNA(MATCH(A317,'Current Owner Standings'!$D$4:$D$70,0)),99,MATCH(A317,'Current Owner Standings'!$D$4:$D$70,0))","v":99}]
[238,{"$f":"IF(ISNA(MATCH(A318,'Current Owner Standings'!$D$4:$D$70,0)),99,MATCH(A318,'Current Owner Standings'!$D$4:$D$70,0))","v":99}]
[239,{"$f":"IF(ISNA(MATCH(A319,'Current Owner Standings'!$D$4:$D$70,0)),99,MATCH(A319,'Current Owner Standings'!$D$4:$D$70,0))","v":99}]
[240,{"$f":"IF(ISNA(MATCH(A320,'Current Owner Standings'!$D$4:$D$70,0)),99,MATCH(A320,'Current Owner Standings'!$D$4:$D$70,0))","v":99}]
[241,{"$f":"IF(ISNA(MATCH(A321,'Current Owner Standings'!$D$4:$D$70,0)),99,MATCH(A321,'Current Owner Standings'!$D$4:$D$70,0))","v":99}]
[242,{"$f":"IF(ISNA(MATCH(A322,'Current Owner Standings'!$D$4:$D$70,0)),99,MATCH(A322,'Current Owner Standings'!$D$4:$D$70,0))","v":99}]
[243,{"$f":"IF(ISNA(MATCH(A323,'Current Owner Standings'!$D$4:$D$70,0)),99,MATCH(A323,'Current Owner Standings'!$D$4:$D$70,0))","v":99}]
[244,{"$f":"IF(ISNA(MATCH(A324,'Current Owner Standings'!$D$4:$D$70,0)),99,MATCH(A324,'Current Owner Standings'!$D$4:$D$70,0))","v":99}]
[245,{"$f":"IF(ISNA(MATCH(A325,'Current Owner Standings'!$D$4:$D$70,0)),99,MATCH(A325,'Current Owner Standings'!$D$4:$D$70,0))","v":99}]
[246,{"$f":"IF(ISNA(MATCH(A326,'Current Owner Standings'!$D$4:$D$70,0)),99,MATCH(A326,'Current Owner Standings'!$D$4:$D$70,0))","v":99}]
[247,{"$f":"IF(ISNA(MATCH(A327,'Current Owner Standings'!$D$4:$D$70,0)),99,MATCH(A327,'Current Owner Standings'!$D$4:$D$70,0))","v":99}]
[248,{"$f":"IF(ISNA(MATCH(A328,'Current Owner Standings'!$D$4:$D$70,0)),99,MATCH(A328,'Current Owner Standings'!$D$4:$D$70,0))","v":99}]
[249,{"$f":"IF(ISNA(MATCH(A329,'Current Owner Standings'!$D$4:$D$70,0)),99,MATCH(A329,'Current Owner Standings'!$D$4:$D$70,0))","v":99}]
[250,{"$f":"IF(ISNA(MATCH(A330,'Current Owner Standings'!$D$4:$D$70,0)),99,MATCH(A330,'Current Owner Standings'!$D$4:$D$70,0))","v":99}]
[251,{"$f":"IF(ISNA(MATCH(A331,'Current Owner Standings'!$D$4:$D$70,0)),99,MATCH(A331,'Current Owner Standings'!$D$4:$D$70,0))","v":99}]
[252,{"$f":"IF(ISNA(MATCH(A332,'Current Owner Standings'!$D$4:$D$70,0)),99,MATCH(A332,'Current Owner Standings'!$D$4:$D$70,0))","v":99}]
[253,{"$f":"IF(ISNA(MATCH(A333,'Current Owner Standings'!$D$4:$D$70,0)),99,MATCH(A333,'Current Owner Standings'!$D$4:$D$70,0))","v":99}]
[254,{"$f":"IF(ISNA(MATCH(A334,'Current Owner Standings'!$D$4:$D$70,0)),99,MATCH(A334,'Current Owner Standings'!$D$4:$D$70,0))","v":99}]
[255,{"$f":"IF(ISNA(MATCH(A335,'Current Owner Standings'!$D$4:$D$70,0)),99,MATCH(A335,'Current Owner Standings'!$D$4:$D$70,0))","v":99}]
[256,{"$f":"IF(ISNA(MATCH(A336,'Current Owner Standings'!$D$4:$D$70,0)),99,MATCH(A336,'Current Owner Standings'!$D$4:$D$70,0))","v":99}]
[257,{"$f":"IF(ISNA(MATCH(A337,'Current Owner Standings'!$D$4:$D$70,0)),99,MATCH(A337,'Current Owner Standings'!$D$4:$D$70,0))","v":99}]
[258,{"$f":"IF(ISNA(MATCH(A338,'Current Owner Standings'!$D$4:$D$70,0)),99,MATCH(A338,'Current Owner Standings'!$D$4:$D$70,0))","v":99}]
[259,{"$f":"IF(ISNA(MATCH(A339,'Current Owner Standings'!$D$4:$D$70,0)),99,MATCH(A339,'Current Owner Standings'!$D$4:$D$70,0))","v":99}]
[260,{"$f":"IF(ISNA(MATCH(A340,'Current Owner Standings'!$D$4:$D$70,0)),99,MATCH(A340,'Current Owner Standings'!$D$4:$D$70,0))","v":99}]
[261,{"$f":"IF(ISNA(MATCH(A341,'Current Owner Standings'!$D$4:$D$70,0)),99,MATCH(A341,'Current Owner Standings'!$D$4:$D$70,0))","v":99}]
[262,{"$f":"IF(ISNA(MATCH(A342,'Current Owner Standings'!$D$4:$D$70,0)),99,MATCH(A342,'Current Owner Standings'!$D$4:$D$70,0))","v":99}]
[263,{"$f":"IF(ISNA(MATCH(A343,'Current Owner Standings'!$D$4:$D$70,0)),99,MATCH(A343,'Current Owner Standings'!$D$4:$D$70,0))","v":99}]
[264,{"$f":"IF(ISNA(MATCH(A344,'Current Owner Standings'!$D$4:$D$70,0)),99,MATCH(A344,'Current Owner Standings'!$D$4:$D$70,0))","v":99}]
[265,{"$f":"IF(ISNA(MATCH(A345,'Current Owner Standings'!$D$4:$D$70,0)),99,MATCH(A345,'Current Owner Standings'!$D$4:$D$70,0))","v":99}]
[266,{"$f":"IF(ISNA(MATCH(A346,'Current Owner Standings'!$D$4:$D$70,0)),99,MATCH(A346,'Current Owner Standings'!$D$4:$D$70,0))","v":99}]
[267,{"$f":"IF(ISNA(MATCH(A347,'Current Owner Standings'!$D$4:$D$70,0)),99,MATCH(A347,'Current Owner Standings'!$D$4:$D$70,0))","v":99}]
[268,{"$f":"IF(ISNA(MATCH(A348,'Current Owner Standings'!$D$4:$D$70,0)),99,MATCH(A348,'Current Owner Standings'!$D$4:$D$70,0))","v":99}]
[269,{"$f":"IF(ISNA(MATCH(A349,'Current Owner Standings'!$D$4:$D$70,0)),99,MATCH(A349,'Current Owner Standings'!$D$4:$D$70,0))","v":99}]
[270,{"$f":"IF(ISNA(MATCH(A350,'Current Owner Standings'!$D$4:$D$70,0)),99,MATCH(A350,'Current Owner Standings'!$D$4:$D$70,0))","v":99}]
[271,{"$f":"IF(ISNA(MATCH(A351,'Current Owner Standings'!$D$4:$D$70,0)),99,MATCH(A351,'Current Owner Standings'!$D$4:$D$70,0))","v":99}]
[272,{"$f":"IF(ISNA(MATCH(A352,'Current Owner Standings'!$D$4:$D$70,0)),99,MATCH(A352,'Current Owner Standings'!$D$4:$D$70,0))","v":99}]
[273,{"$f":"IF(ISNA(MATCH(A353,'Current Owner Standings'!$D$4:$D$70,0)),99,MATCH(A353,'Current Owner Standings'!$D$4:$D$70,0))","v":99}]
[274,{"$f":"IF(ISNA(MATCH(A354,'Current Owner Standings'!$D$4:$D$70,0)),99,MATCH(A354,'Current Owner Standings'!$D$4:$D$70,0))","v":99}]
[275,{"$f":"IF(ISNA(MATCH(A355,'Current Owner Standings'!$D$4:$D$70,0)),99,MATCH(A355,'Current Owner Standings'!$D$4:$D$70,0))","v":99}]
[276,{"$f":"IF(ISNA(MATCH(A356,'Current Owner Standings'!$D$4:$D$70,0)),99,MATCH(A356,'Current Owner Standings'!$D$4:$D$70,0))","v":99}]
[277,{"$f":"IF(ISNA(MATCH(A357,'Current Owner Standings'!$D$4:$D$70,0)),99,MATCH(A357,'Current Owner Standings'!$D$4:$D$70,0))","v":99}]
[278,{"$f":"IF(ISNA(MATCH(A358,'Current Owner Standings'!$D$4:$D$70,0)),99,MATCH(A358,'Current Owner Standings'!$D$4:$D$70,0))","v":99}]
[279,{"$f":"IF(ISNA(MATCH(A359,'Current Owner Standings'!$D$4:$D$70,0)),99,MATCH(A359,'Current Owner Standings'!$D$4:$D$70,0))","v":99}]
[280,{"$f":"IF(ISNA(MATCH(A360,'Current Owner Standings'!$D$4:$D$70,0)),99,MATCH(A360,'Current Owner Standings'!$D$4:$D$70,0))","v":99}]
[281,{"$f":"IF(ISNA(MATCH(A361,'Current Owner Standings'!$D$4:$D$70,0)),99,MATCH(A361,'Current Owner Standings'!$D$4:$D$70,0))","v":99}]
[282,{"$f":"IF(ISNA(MATCH(A362,'Current Owner Standings'!$D$4:$D$70,0)),99,MATCH(A362,'Current Owner Standings'!$D$4:$D$70,0))","v":99}]
[283,{"$f":"IF(ISNA(MATCH(A363,'Current Owner Standings'!$D$4:$D$70,0)),99,MATCH(A363,'Current Owner Standings'!$D$4:$D$70,0))","v":99}]
[284,{"$f":"IF(ISNA(MATCH(A364,'Current Owner Standings'!$D$4:$D$70,0)),99,MATCH(A364,'Current Owner Standings'!$D$4:$D$70,0))","v":99}]
[285,{"$f":"IF(ISNA(MATCH(A365,'Current Owner Standings'!$D$4:$D$70,0)),99,MATCH(A365,'Current Owner Standings'!$D$4:$D$70,0))","v":99}]
[286,{"$f":"IF(ISNA(MATCH(A366,'Current Owner Standings'!$D$4:$D$70,0)),99,MATCH(A366,'Current Owner Standings'!$D$4:$D$70,0))","v":99}]
[287,{"$f":"IF(ISNA(MATCH(A367,'Current Owner Standings'!$D$4:$D$70,0)),99,MATCH(A367,'Current Owner Standings'!$D$4:$D$70,0))","v":99}]
[288,{"$f":"IF(ISNA(MATCH(A368,'Current Owner Standings'!$D$4:$D$70,0)),99,MATCH(A368,'Current Owner Standings'!$D$4:$D$70,0))","v":99}]
[289,{"$f":"IF(ISNA(MATCH(A369,'Current Owner Standings'!$D$4:$D$70,0)),99,MATCH(A369,'Current Owner Standings'!$D$4:$D$70,0))","v":99}]
[290,{"$f":"IF(ISNA(MATCH(A370,'Current Owner Standings'!$D$4:$D$70,0)),99,MATCH(A370,'Current Owner Standings'!$D$4:$D$70,0))","v":99}]
[291,{"$f":"IF(ISNA(MATCH(A371,'Current Owner Standings'!$D$4:$D$70,0)),99,MATCH(A371,'Current Owner Standings'!$D$4:$D$70,0))","v":99}]
[292,{"$f":"IF(ISNA(MATCH(A372,'Current Owner Standings'!$D$4:$D$70,0)),99,MATCH(A372,'Current Owner Standings'!$D$4:$D$70,0))","v":99}]
[293,{"$f":"IF(ISNA(MATCH(A373,'Current Owner Standings'!$D$4:$D$70,0)),99,MATCH(A373,'Current Owner Standings'!$D$4:$D$70,0))","v":99}]
[294,{"$f":"IF(ISNA(MATCH(A374,'Current Owner Standings'!$D$4:$D$70,0)),99,MATCH(A374,'Current Owner Standings'!$D$4:$D$70,0))","v":99}]
[295,{"$f":"IF(ISNA(MATCH(A375,'Current Owner Standings'!$D$4:$D$70,0)),99,MATCH(A375,'Current Owner Standings'!$D$4:$D$70,0))","v":99}]
[296,{"$f":"IF(ISNA(MATCH(A376,'Current Owner Standings'!$D$4:$D$70,0)),99,MATCH(A376,'Current Owner Standings'!$D$4:$D$70,0))","v":99}]
[297,{"$f":"IF(ISNA(MATCH(A377,'Current Owner Standings'!$D$4:$D$70,0)),99,MATCH(A377,'Current Owner Standings'!$D$4:$D$70,0))","v":99}]
[298,{"$f":"IF(ISNA(MATCH(A378,'Current Owner Standings'!$D$4:$D$70,0)),99,MATCH(A378,'Current Owner Standings'!$D$4:$D$70,0))","v":99}]
[299,{"$f":"IF(ISNA(MATCH(A379,'Current Owner Standings'!$D$4:$D$70,0)),99,MATCH(A379,'Current Owner Standings'!$D$4:$D$70,0))","v":99}]
[300,{"$f":"IF(ISNA(MATCH(A380,'Current Owner Standings'!$D$4:$D$70,0)),99,MATCH(A380,'Current Owner Standings'!$D$4:$D$70,0))","v":99}]
[301,{"$f":"IF(ISNA(MATCH(A381,'Current Owner Standings'!$D$4:$D$70,0)),99,MATCH(A381,'Current Owner Standings'!$D$4:$D$70,0))","v":99}]
[302,{"$f":"IF(ISNA(MATCH(A382,'Current Owner Standings'!$D$4:$D$70,0)),99,MATCH(A382,'Current Owner Standings'!$D$4:$D$70,0))","v":99}]
[303,{"$f":"IF(ISNA(MATCH(A383,'Current Owner Standings'!$D$4:$D$70,0)),99,MATCH(A383,'Current Owner Standings'!$D$4:$D$70,0))","v":99}]
[304,{"$f":"IF(ISNA(MATCH(A384,'Current Owner Standings'!$D$4:$D$70,0)),99,MATCH(A384,'Current Owner Standings'!$D$4:$D$70,0))","v":99}]
[305,{"$f":"IF(ISNA(MATCH(A385,'Current Owner Standings'!$D$4:$D$70,0)),99,MATCH(A385,'Current Owner Standings'!$D$4:$D$70,0))","v":99}]
[306,{"$f":"IF(ISNA(MATCH(A386,'Current Owner Standings'!$D$4:$D$70,0)),99,MATCH(A386,'Current Owner Standings'!$D$4:$D$70,0))","v":99}]
[307,{"$f":"IF(ISNA(MATCH(A387,'Current Owner Standings'!$D$4:$D$70,0)),99,MATCH(A387,'Current Owner Standings'!$D$4:$D$70,0))","v":99}]
[308,{"$f":"IF(ISNA(MATCH(A388,'Current Owner Standings'!$D$4:$D$70,0)),99,MATCH(A388,'Current Owner Standings'!$D$4:$D$70,0))","v":99}]
[309,{"$f":"IF(ISNA(MATCH(A389,'Current Owner Standings'!$D$4:$D$70,0)),99,MATCH(A389,'Current Owner Standings'!$D$4:$D$70,0))","v":99}]
[310,{"$f":"IF(ISNA(MATCH(A390,'Current Owner Standings'!$D$4:$D$70,0)),99,MATCH(A390,'Current Owner Standings'!$D$4:$D$70,0))","v":99}]
[311,{"$f":"IF(ISNA(MATCH(A391,'Current Owner Standings'!$D$4:$D$70,0)),99,MATCH(A391,'Current Owner Standings'!$D$4:$D$70,0))","v":99}]
[312,{"$f":"IF(ISNA(MATCH(A392,'Current Owner Standings'!$D$4:$D$70,0)),99,MATCH(A392,'Current Owner Standings'!$D$4:$D$70,0))","v":99}]
[313,{"$f":"IF(ISNA(MATCH(A393,'Current Owner Standings'!$D$4:$D$70,0)),99,MATCH(A393,'Current Owner Standings'!$D$4:$D$70,0))","v":99}]
[314,{"$f":"IF(ISNA(MATCH(A394,'Current Owner Standings'!$D$4:$D$70,0)),99,MATCH(A394,'Current Owner Standings'!$D$4:$D$70,0))","v":99}]
[315,{"$f":"IF(ISNA(MATCH(A395,'Current Owner Standings'!$D$4:$D$70,0)),99,MATCH(A395,'Current Owner Standings'!$D$4:$D$70,0))","v":99}]
[316,{"$f":"IF(ISNA(MATCH(A396,'Current Owner Standings'!$D$4:$D$70,0)),99,MATCH(A396,'Current Owner Standings'!$D$4:$D$70,0))","v":99}]
[317,{"$f":"IF(ISNA(MATCH(A397,'Current Owner Standings'!$D$4:$D$70,0)),99,MATCH(A397,'Current Owner Standings'!$D$4:$D$70,0))","v":99}]
[318,{"$f":"IF(ISNA(MATCH(A398,'Current Owner Standings'!$D$4:$D$70,0)),99,MATCH(A398,'Current Owner Standings'!$D$4:$D$70,0))","v":99}]
[319,{"$f":"IF(ISNA(MATCH(A399,'Current Owner Standings'!$D$4:$D$70,0)),99,MATCH(A399,'Current Owner Standings'!$D$4:$D$70,0))","v":99}]
[320,{"$f":"IF(ISNA(MATCH(A400,'Current Owner Standings'!$D$4:$D$70,0)),99,MATCH(A400,'Current Owner Standings'!$D$4:$D$70,0))","v":99}]
[321,{"$f":"IF(ISNA(MATCH(A401,'Current Owner Standings'!$D$4:$D$70,0)),99,MATCH(A401,'Current Owner Standings'!$D$4:$D$70,0))","v":99}]
[322,{"$f":"IF(ISNA(MATCH(A402,'Current Owner Standings'!$D$4:$D$70,0)),99,MATCH(A402,'Current Owner Standings'!$D$4:$D$70,0))","v":99}]
[323,{"$f":"IF(ISNA(MATCH(A403,'Current Owner Standings'!$D$4:$D$70,0)),99,MATCH(A403,'Current Owner Standings'!$D$4:$D$70,0))","v":99}]
[324,{"$f":"IF(ISNA(MATCH(A404,'Current Owner Standings'!$D$4:$D$70,0)),99,MATCH(A404,'Current Owner Standings'!$D$4:$D$70,0))","v":99}]
[325,{"$f":"IF(ISNA(MATCH(A405,'Current Owner Standings'!$D$4:$D$70,0)),99,MATCH(A405,'Current Owner Standings'!$D$4:$D$70,0))","v":99}]
[326,{"$f":"IF(ISNA(MATCH(A406,'Current Owner Standings'!$D$4:$D$70,0)),99,MATCH(A406,'Current Owner Standings'!$D$4:$D$70,0))","v":99}]
[327,{"$f":"IF(ISNA(MATCH(A407,'Current Owner Standings'!$D$4:$D$70,0)),99,MATCH(A407,'Current Owner Standings'!$D$4:$D$70,0))","v":99}]
[328,{"$f":"IF(ISNA(MATCH(A408,'Current Owner Standings'!$D$4:$D$70,0)),99,MATCH(A408,'Current Owner Standings'!$D$4:$D$70,0))","v":99}]
[329,{"$f":"IF(ISNA(MATCH(A409,'Current Owner Standings'!$D$4:$D$70,0)),99,MATCH(A409,'Current Owner Standings'!$D$4:$D$70,0))","v":99}]
[330,{"$f":"IF(ISNA(MATCH(A410,'Current Owner Standings'!$D$4:$D$70,0)),99,MATCH(A410,'Current Owner Standings'!$D$4:$D$70,0))","v":99}]
[331,{"$f":"IF(ISNA(MATCH(A411,'Current Owner Standings'!$D$4:$D$70,0)),99,MATCH(A411,'Current Owner Standings'!$D$4:$D$70,0))","v":99}]
[332,{"$f":"IF(ISNA(MATCH(A412,'Current Owner Standings'!$D$4:$D$70,0)),99,MATCH(A412,'Current Owner Standings'!$D$4:$D$70,0))","v":99}]
[333,{"$f":"IF(ISNA(MATCH(A413,'Current Owner Standings'!$D$4:$D$70,0)),99,MATCH(A413,'Current Owner Standings'!$D$4:$D$70,0))","v":99}]
[334,{"$f":"IF(ISNA(MATCH(A414,'Current Owner Standings'!$D$4:$D$70,0)),99,MATCH(A414,'Current Owner Standings'!$D$4:$D$70,0))","v":99}]
[335,{"$f":"IF(ISNA(MATCH(A415,'Current Owner Standings'!$D$4:$D$70,0)),99,MATCH(A415,'Current Owner Standings'!$D$4:$D$70,0))","v":99}]
[336,{"$f":"IF(ISNA(MATCH(A416,'Current Owner Standings'!$D$4:$D$70,0)),99,MATCH(A416,'Current Owner Standings'!$D$4:$D$70,0))","v":99}]
[337,{"$f":"IF(ISNA(MATCH(A417,'Current Owner Standings'!$D$4:$D$70,0)),99,MATCH(A417,'Current Owner Standings'!$D$4:$D$70,0))","v":99}]
[338,{"$f":"IF(ISNA(MATCH(A418,'Current Owner Standings'!$D$4:$D$70,0)),99,MATCH(A418,'Current Owner Standings'!$D$4:$D$70,0))","v":99}]
[339,{"$f":"IF(ISNA(MATCH(A419,'Current Owner Standings'!$D$4:$D$70,0)),99,MATCH(A419,'Current Owner Standings'!$D$4:$D$70,0))","v":99}]
[340,{"$f":"IF(ISNA(MATCH(A420,'Current Owner Standings'!$D$4:$D$70,0)),99,MATCH(A420,'Current Owner Standings'!$D$4:$D$70,0))","v":99}]
[341,{"$f":"IF(ISNA(MATCH(A421,'Current Owner Standings'!$D$4:$D$70,0)),99,MATCH(A421,'Current Owner Standings'!$D$4:$D$70,0))","v":99}]
[342,{"$f":"IF(ISNA(MATCH(A422,'Current Owner Standings'!$D$4:$D$70,0)),99,MATCH(A422,'Current Owner Standings'!$D$4:$D$70,0))","v":99}]
[343,{"$f":"IF(ISNA(MATCH(A423,'Current Owner Standings'!$D$4:$D$70,0)),99,MATCH(A423,'Current Owner Standings'!$D$4:$D$70,0))","v":99}]
[344,{"$f":"IF(ISNA(MATCH(A424,'Current Owner Standings'!$D$4:$D$70,0)),99,MATCH(A424,'Current Owner Standings'!$D$4:$D$70,0))","v":99}]
[345,{"$f":"IF(ISNA(MATCH(A425,'Current Owner Standings'!$D$4:$D$70,0)),99,MATCH(A425,'Current Owner Standings'!$D$4:$D$70,0))","v":99}]
[346,{"$f":"IF(ISNA(MATCH(A426,'Current Owner Standings'!$D$4:$D$70,0)),99,MATCH(A426,'Current Owner Standings'!$D$4:$D$70,0))","v":99}]
[347,{"$f":"IF(ISNA(MATCH(A427,'Current Owner Standings'!$D$4:$D$70,0)),99,MATCH(A427,'Current Owner Standings'!$D$4:$D$70,0))","v":99}]
[348,{"$f":"IF(ISNA(MATCH(A428,'Current Owner Standings'!$D$4:$D$70,0)),99,MATCH(A428,'Current Owner Standings'!$D$4:$D$70,0))","v":99}]
[349,{"$f":"IF(ISNA(MATCH(A429,'Current Owner Standings'!$D$4:$D$70,0)),99,MATCH(A429,'Current Owner Standings'!$D$4:$D$70,0))","v":99}]
[350,{"$f":"IF(ISNA(MATCH(A430,'Current Owner Standings'!$D$4:$D$70,0)),99,MATCH(A430,'Current Owner Standings'!$D$4:$D$70,0))","v":99}]
[351,{"$f":"IF(ISNA(MATCH(A431,'Current Owner Standings'!$D$4:$D$70,0)),99,MATCH(A431,'Current Owner Standings'!$D$4:$D$70,0))","v":99}]
[352,{"$f":"IF(ISNA(MATCH(A432,'Current Owner Standings'!$D$4:$D$70,0)),99,MATCH(A432,'Current Owner Standings'!$D$4:$D$70,0))","v":99}]
[353,{"$f":"IF(ISNA(MATCH(A433,'Current Owner Standings'!$D$4:$D$70,0)),99,MATCH(A433,'Current Owner Standings'!$D$4:$D$70,0))","v":99}]
[354,{"$f":"IF(ISNA(MATCH(A434,'Current Owner Standings'!$D$4:$D$70,0)),99,MATCH(A434,'Current Owner Standings'!$D$4:$D$70,0))","v":99}]
[355,{"$f":"IF(ISNA(MATCH(A435,'Current Owner Standings'!$D$4:$D$70,0)),99,MATCH(A435,'Current Owner Standings'!$D$4:$D$70,0))","v":99}]
[356,{"$f":"IF(ISNA(MATCH(A436,'Current Owner Standings'!$D$4:$D$70,0)),99,MATCH(A436,'Current Owner Standings'!$D$4:$D$70,0))","v":99}]
[357,{"$f":"IF(ISNA(MATCH(A437,'Current Owner Standings'!$D$4:$D$70,0)),99,MATCH(A437,'Current Owner Standings'!$D$4:$D$70,0))","v":99}]
[358,{"$f":"IF(ISNA(MATCH(A438,'Current Owner Standings'!$D$4:$D$70,0)),99,MATCH(A438,'Current Owner Standings'!$D$4:$D$70,0))","v":99}]
[359,{"$f":"IF(ISNA(MATCH(A439,'Current Owner Standings'!$D$4:$D$70,0)),99,MATCH(A439,'Current Owner Standings'!$D$4:$D$70,0))","v":99}]
[360,{"$f":"IF(ISNA(MATCH(A440,'Current Owner Standings'!$D$4:$D$70,0)),99,MATCH(A440,'Current Owner Standings'!$D$4:$D$70,0))","v":99}]
[361,{"$f":"IF(ISNA(MATCH(A441,'Current Owner Standings'!$D$4:$D$70,0)),99,MATCH(A441,'Current Owner Standings'!$D$4:$D$70,0))","v":99}]
[362,{"$f":"IF(ISNA(MATCH(A442,'Current Owner Standings'!$D$4:$D$70,0)),99,MATCH(A442,'Current Owner Standings'!$D$4:$D$70,0))","v":99}]
[363,{"$f":"IF(ISNA(MATCH(A443,'Current Owner Standings'!$D$4:$D$70,0)),99,MATCH(A443,'Current Owner Standings'!$D$4:$D$70,0))","v":99}]
[364,{"$f":"IF(ISNA(MATCH(A444,'Current Owner Standings'!$D$4:$D$70,0)),99,MATCH(A444,'Current Owner Standings'!$D$4:$D$70,0))","v":99}]
[365,{"$f":"IF(ISNA(MATCH(A445,'Current Owner Standings'!$D$4:$D$70,0)),99,MATCH(A445,'Current Owner Standings'!$D$4:$D$70,0))","v":99}]
[366,{"$f":"IF(ISNA(MATCH(A446,'Current Owner Standings'!$D$4:$D$70,0)),99,MATCH(A446,'Current Owner Standings'!$D$4:$D$70,0))","v":99}]
[367,{"$f":"IF(ISNA(MATCH(A447,'Current Owner Standings'!$D$4:$D$70,0)),99,MATCH(A447,'Current Owner Standings'!$D$4:$D$70,0))","v":99}]
[368,{"$f":"IF(ISNA(MATCH(A448,'Current Owner Standings'!$D$4:$D$70,0)),99,MATCH(A448,'Current Owner Standings'!$D$4:$D$70,0))","v":99}]
[369,{"$f":"IF(ISNA(MATCH(A449,'Current Owner Standings'!$D$4:$D$70,0)),99,MATCH(A449,'Current Owner Standings'!$D$4:$D$70,0))","v":99}]
[370,{"$f":"IF(ISNA(MATCH(A450,'Current Owner Standings'!$D$4:$D$70,0)),99,MATCH(A450,'Current Owner Standings'!$D$4:$D$70,0))","v":99}]
[371,{"$f":"IF(ISNA(MATCH(A451,'Current Owner Standings'!$D$4:$D$70,0)),99,MATCH(A451,'Current Owner Standings'!$D$4:$D$70,0))","v":99}]
[372,{"$f":"IF(ISNA(MATCH(A452,'Current Owner Standings'!$D$4:$D$70,0)),99,MATCH(A452,'Current Owner Standings'!$D$4:$D$70,0))","v":99}]
[373,{"$f":"IF(ISNA(MATCH(A453,'Current Owner Standings'!$D$4:$D$70,0)),99,MATCH(A453,'Current Owner Standings'!$D$4:$D$70,0))","v":99}]
[374,{"$f":"IF(ISNA(MATCH(A454,'Current Owner Standings'!$D$4:$D$70,0)),99,MATCH(A454,'Current Owner Standings'!$D$4:$D$70,0))","v":99}]
[375,{"$f":"IF(ISNA(MATCH(A455,'Current Owner Standings'!$D$4:$D$70,0)),99,MATCH(A455,'Current Owner Standings'!$D$4:$D$70,0))","v":99}]
[376,{"$f":"IF(ISNA(MATCH(A456,'Current Owner Standings'!$D$4:$D$70,0)),99,MATCH(A456,'Current Owner Standings'!$D$4:$D$70,0))","v":99}]
[377,{"$f":"IF(ISNA(MATCH(A457,'Current Owner Standings'!$D$4:$D$70,0)),99,MATCH(A457,'Current Owner Standings'!$D$4:$D$70,0))","v":99}]
[378,{"$f":"IF(ISNA(MATCH(A458,'Current Owner Standings'!$D$4:$D$70,0)),99,MATCH(A458,'Current Owner Standings'!$D$4:$D$70,0))","v":99}]
[379,{"$f":"IF(ISNA(MATCH(A459,'Current Owner Standings'!$D$4:$D$70,0)),99,MATCH(A459,'Current Owner Standings'!$D$4:$D$70,0))","v":99}]
[380,{"$f":"IF(ISNA(MATCH(A460,'Current Owner Standings'!$D$4:$D$70,0)),99,MATCH(A460,'Current Owner Standings'!$D$4:$D$70,0))","v":99}]
[381,{"$f":"IF(ISNA(MATCH(A461,'Current Owner Standings'!$D$4:$D$70,0)),99,MATCH(A461,'Current Owner Standings'!$D$4:$D$70,0))","v":99}]
[382,{"$f":"IF(ISNA(MATCH(A462,'Current Owner Standings'!$D$4:$D$70,0)),99,MATCH(A462,'Current Owner Standings'!$D$4:$D$70,0))","v":99}]
[383,{"$f":"IF(ISNA(MATCH(A463,'Current Owner Standings'!$D$4:$D$70,0)),99,MATCH(A463,'Current Owner Standings'!$D$4:$D$70,0))","v":99}]
[384,{"$f":"IF(ISNA(MATCH(A464,'Current Owner Standings'!$D$4:$D$70,0)),99,MATCH(A464,'Current Owner Standings'!$D$4:$D$70,0))","v":99}]
[385,{"$f":"IF(ISNA(MATCH(A465,'Current Owner Standings'!$D$4:$D$70,0)),99,MATCH(A465,'Current Owner Standings'!$D$4:$D$70,0))","v":99}]
[386,{"$f":"IF(ISNA(MATCH(A466,'Current Owner Standings'!$D$4:$D$70,0)),99,MATCH(A466,'Current Owner Standings'!$D$4:$D$70,0))","v":99}]
[387,{"$f":"IF(ISNA(MATCH(A467,'Current Owner Standings'!$D$4:$D$70,0)),99,MATCH(A467,'Current Owner Standings'!$D$4:$D$70,0))","v":99}]
[388,{"$f":"IF(ISNA(MATCH(A468,'Current Owner Standings'!$D$4:$D$70,0)),99,MATCH(A468,'Current Owner Standings'!$D$4:$D$70,0))","v":99}]
[389,{"$f":"IF(ISNA(MATCH(A469,'Current Owner Standings'!$D$4:$D$70,0)),99,MATCH(A469,'Current Owner Standings'!$D$4:$D$70,0))","v":99}]
[390,{"$f":"IF(ISNA(MATCH(A470,'Current Owner Standings'!$D$4:$D$70,0)),99,MATCH(A470,'Current Owner Standings'!$D$4:$D$70,0))","v":99}]
[391,{"$f":"IF(ISNA(MATCH(A471,'Current Owner Standings'!$D$4:$D$70,0)),99,MATCH(A471,'Current Owner Standings'!$D$4:$D$70,0))","v":99}]
[392,{"$f":"IF(ISNA(MATCH(A472,'Current Owner Standings'!$D$4:$D$70,0)),99,MATCH(A472,'Current Owner Standings'!$D$4:$D$70,0))","v":99}]
[393,{"$f":"IF(ISNA(MATCH(A473,'Current Owner Standings'!$D$4:$D$70,0)),99,MATCH(A473,'Current Owner Standings'!$D$4:$D$70,0))","v":99}]
[394,{"$f":"IF(ISNA(MATCH(A474,'Current Owner Standings'!$D$4:$D$70,0)),99,MATCH(A474,'Current Owner Standings'!$D$4:$D$70,0))","v":99}]
[395,{"$f":"IF(ISNA(MATCH(A475,'Current Owner Standings'!$D$4:$D$70,0)),99,MATCH(A475,'Current Owner Standings'!$D$4:$D$70,0))","v":99}]
[396,{"$f":"IF(ISNA(MATCH(A476,'Current Owner Standings'!$D$4:$D$70,0)),99,MATCH(A476,'Current Owner Standings'!$D$4:$D$70,0))","v":99}]
[397,{"$f":"IF(ISNA(MATCH(A477,'Current Owner Standings'!$D$4:$D$70,0)),99,MATCH(A477,'Current Owner Standings'!$D$4:$D$70,0))","v":99}]
[398,{"$f":"IF(ISNA(MATCH(A478,'Current Owner Standings'!$D$4:$D$70,0)),99,MATCH(A478,'Current Owner Standings'!$D$4:$D$70,0))","v":99}]
[399,{"$f":"IF(ISNA(MATCH(A479,'Current Owner Standings'!$D$4:$D$70,0)),99,MATCH(A479,'Current Owner Standings'!$D$4:$D$70,0))","v":99}]
[400,{"$f":"IF(ISNA(MATCH(A480,'Current Owner Standings'!$D$4:$D$70,0)),99,MATCH(A480,'Current Owner Standings'!$D$4:$D$70,0))","v":99}]

{"sheet":"Cars & Results","index":7,"n_rows":321,"n_cols":78,"rows_kept":321,"cut":false,"hidden":false,"merged":[[4,64,4,65],[4,66,4,67],[4,68,4,69],[4,70,4,71],[3,76,3,77],[2,72,2,73],[2,74,2,75],[4,72,4,73],[4,74,4,75],[4,76,4,77],[0,74,0,75],[0,76,0,77],[3,64,3,65],[3,66,3,67],[3,68,3,69],[3,70,3,71],[3,72,3,73],[3,74,3,75],[2,64,2,65],[2,66,2,67],[0,68,0,69],[0,66,0,67],[0,72,0,73],[2,62,2,63],[2,76,2,77],[1,76,1,77],[1,64,1,65],[1,66,1,67],[1,68,1,69],[1,70,1,71],[1,72,1,73],[2,68,2,69],[2,70,2,71],[1,16,1,17],[0,6,0,7],[0,8,0,9],[0,26,0,27],[1,26,1,27],[0,40,0,41],[1,40,1,41],[1,74,1,75],[2,10,2,11],[2,12,2,13],[0,70,0,71],[0,64,0,65],[0,18,0,19],[1,18,1,19],[0,20,0,21],[1,20,1,21],[2,20,2,21],[2,8,2,9],[0,10,0,11],[0,12,0,13],[0,14,0,15],[0,16,0,17],[2,40,2,41],[0,38,0,39],[3,6,3,7],[3,8,3,9],[3,10,3,11],[3,12,3,13],[1,6,1,7],[1,8,1,9],[1,10,1,11],[1,12,1,13],[4,20,4,21],[4,14,4,15],[4,16,4,17],[3,14,3,15],[3,16,3,17],[1,14,1,15],[4,6,4,7],[4,8,4,9],[4,10,4,11],[4,12,4,13],[2,18,2,19],[3,18,3,19],[2,14,2,15],[2,16,2,17],[4,18,4,19],[2,6,2,7],[3,20,3,21],[0,32,0,33],[1,32,1,33],[2,32,2,33],[3,32,3,33],[0,30,0,31],[1,30,1,31],[2,30,2,31],[3,30,3,31],[2,26,2,27],[0,28,0,29],[1,28,1,29],[2,28,2,29],[4,22,4,23],[0,24,0,25],[1,24,1,25],[2,24,2,25],[3,24,3,25],[0,22,0,23],[1,22,1,23],[2,22,2,23],[3,22,3,23],[4,24,4,25],[4,26,4,27],[3,26,3,27],[4,28,4,29],[3,28,3,29],[3,46,3,47],[4,46,4,47],[4,36,4,37],[4,32,4,33],[4,30,4,31],[4,34,4,35],[4,44,4,45],[4,42,4,43],[4,38,4,39],[4,40,4,41],[0,42,0,43],[3,42,3,43],[1,42,1,43],[2,46,2,47],[3,34,3,35],[2,42,2,43],[3,40,3,41],[2,38,2,39],[0,34,0,35],[1,38,1,39],[3,38,3,39],[1,34,1,35],[2,34,2,35],[0,48,0,49],[1,48,1,49],[2,48,2,49],[3,48,3,49],[2,44,2,45],[3,44,3,45],[0,44,0,45],[1,44,1,45],[0,46,0,47],[1,46,1,47],[4,62,4,63],[0,60,0,61],[1,60,1,61],[2,60,2,61],[3,60,3,61],[0,36,0,37],[1,36,1,37],[2,36,2,37],[3,36,3,37],[3,62,3,63],[0,52,0,53],[1,52,1,53],[2,52,2,53],[3,52,3,53],[0,50,0,51],[4,48,4,49],[3,50,3,51],[1,50,1,51],[2,50,2,51],[4,50,4,51],[4,60,4,61],[0,62,0,63],[1,62,1,63],[4,58,4,59],[3,58,3,59],[0,58,0,59],[1,58,1,59],[2,58,2,59],[4,54,4,55],[4,52,4,53],[0,54,0,55],[1,54,1,55],[2,54,2,55],[3,54,3,55],[4,56,4,57],[0,56,0,57],[1,56,1,57],[2,56,2,57],[3,56,3,57]]}
[null,null,null,null,null,null,{"$f":"VLOOKUP(G$5,Schedule!$A$7:$J$42,2,FALSE)","v":"2019-02-17"},null,{"$f":"VLOOKUP(I$5,Schedule!$A$7:$J$42,2,FALSE)","v":"2019-02-24"},null,{"$f":"VLOOKUP(K$5,Schedule!$A$7:$J$42,2,FALSE)","v":"2019-03-03"},null,{"$f":"VLOOKUP(M$5,Schedule!$A$7:$J$42,2,FALSE)","v":"2019-03-10"},null,{"$f":"VLOOKUP(O$5,Schedule!$A$7:$J$42,2,FALSE)","v":"2019-03-17"},null,{"$f":"VLOOKUP(Q$5,Schedule!$A$7:$J$42,2,FALSE)","v":"2019-03-24"},null,{"$f":"VLOOKUP(S$5,Schedule!$A$7:$J$42,2,FALSE)","v":"2019-03-31"},null,{"$f":"VLOOKUP(U$5,Schedule!$A$7:$J$42,2,FALSE)","v":"2019-04-07"},null,{"$f":"VLOOKUP(W$5,Schedule!$A$7:$J$42,2,FALSE)","v":"2019-04-13"},null,{"$f":"VLOOKUP(Y$5,Schedule!$A$7:$J$42,2,FALSE)","v":"2019-04-28"},null,{"$f":"VLOOKUP(AA$5,Schedule!$A$7:$J$42,2,FALSE)","v":"2019-05-05"},null,{"$f":"VLOOKUP(AC$5,Schedule!$A$7:$J$42,2,FALSE)","v":"2019-05-11"},null,{"$f":"VLOOKUP(AE$5,Schedule!$A$7:$J$42,2,FALSE)","v":"2019-05-26"},null,{"$f":"VLOOKUP(AG$5,Schedule!$A$7:$J$42,2,FALSE)","v":"2019-06-02"},null,{"$f":"VLOOKUP(AI$5,Schedule!$A$7:$J$42,2,FALSE)","v":"2019-06-09"},null,{"$f":"VLOOKUP(AK$5,Schedule!$A$7:$J$42,2,FALSE)","v":"2019-06-23"},null,{"$f":"VLOOKUP(AM$5,Schedule!$A$7:$J$42,2,FALSE)","v":"2019-06-30"},null,{"$f":"VLOOKUP(AO$5,Schedule!$A$7:$J$42,2,FALSE)","v":"2019-07-06"},null,{"$f":"VLOOKUP(AQ$5,[4]Schedule!$A$7:$G$43,2,FALSE)","v":"2018-07-14"},null,{"$f":"VLOOKUP(AS$5,[4]Schedule!$A$7:$G$43,2,FALSE)","v":"2018-07-22"},null,{"$f":"VLOOKUP(AU$5,[4]Schedule!$A$7:$G$43,2,FALSE)","v":"2018-07-29"},null,{"$f":"VLOOKUP(AW$5,[4]Schedule!$A$7:$G$43,2,FALSE)","v":"2018-08-05"},null,{"$f":"VLOOKUP(AY$5,[4]Schedule!$A$7:$G$43,2,FALSE)","v":"2018-08-12"},null,{"$f":"VLOOKUP(BA$5,[4]Schedule!$A$7:$G$43,2,FALSE)","v":"2018-08-18"},null,{"$f":"VLOOKUP(BC$5,[4]Schedule!$A$7:$G$43,2,FALSE)","v":"2018-09-02"},null,{"$f":"VLOOKUP(BE$5,[4]Schedule!$A$7:$G$43,2,FALSE)","v":"2018-09-09"},null,{"$f":"VLOOKUP(BG$5,Schedule!$A$7:$J$42,2,FALSE)","v":"2019-09-15"},null,{"$f":"VLOOKUP(BI$5,Schedule!$A$7:$J$42,2,FALSE)","v":"2019-09-21"},null,{"$f":"VLOOKUP(BK$5,Schedule!$A$7:$J$42,2,FALSE)","v":"2019-09-29"},null,{"$f":"VLOOKUP(BM$5,Schedule!$A$7:$J$42,2,FALSE)","v":"2019-10-06"},null,{"$f":"VLOOKUP(BO$5,Schedule!$A$7:$J$42,2,FALSE)","v":"2019-10-13"},null,{"$f":"VLOOKUP(BQ$5,Schedule!$A$7:$J$42,2,FALSE)","v":"2019-10-20"},null,{"$f":"VLOOKUP(BS$5,Schedule!$A$7:$J$42,2,FALSE)","v":"2019-10-27"},null,{"$f":"VLOOKUP(BU$5,Schedule!$A$7:$J$42,2,FALSE)","v":"2019-11-03"},null,{"$f":"VLOOKUP(BW$5,Schedule!$A$7:$J$42,2,FALSE)","v":"2019-11-10"},null,{"$f":"VLOOKUP(BY$5,Schedule!$A$7:$J$43,2,FALSE)","v":"2019-11-17"}]
[null,null,null,null,null,null,{"$f":"VLOOKUP(G$5,Schedule!$A$7:$J$42,3,FALSE)","v":"Daytona 500"},null,{"$f":"VLOOKUP(I$5,Schedule!$A$7:$J$42,3,FALSE)","v":"Folds of Honor QuikTrip 500"},null,{"$f":"VLOOKUP(K$5,Schedule!$A$7:$J$42,3,FALSE)","v":"Pennzoil 400 presented by Jiffy Lube"},null,{"$f":"VLOOKUP(M$5,Schedule!$A$7:$J$42,3,FALSE)","v":"TicketGuardian 500"},null,{"$f":"VLOOKUP(O$5,Schedule!$A$7:$J$42,3,FALSE)","v":"Auto Club 400"},null,{"$f":"VLOOKUP(Q$5,Schedule!$A$7:$J$42,3,FALSE)","v":"STP 500"},null,{"$f":"VLOOKUP(S$5,Schedule!$A$7:$J$42,3,FALSE)","v":"O'Reilly Auto Parts 500"},null,{"$f":"VLOOKUP(U$5,Schedule!$A$7:$J$42,3,FALSE)","v":"Food City 500"},null,{"$f":"VLOOKUP(W$5,Schedule!$A$7:$J$42,3,FALSE)","v":"Toyota Owners 400"},null,{"$f":"VLOOKUP(Y$5,Schedule!$A$7:$J$42,3,FALSE)","v":"GEICO 500"},null,{"$f":"VLOOKUP(AA$5,Schedule!$A$7:$J$42,3,FALSE)","v":"MENCS Race at Dover"},null,{"$f":"VLOOKUP(AC$5,Schedule!$A$7:$J$42,3,FALSE)","v":"MENCS Race at Kansas"},null,{"$f":"VLOOKUP(AE$5,Schedule!$A$7:$J$42,3,FALSE)","v":"Coca-Cola 600"},null,{"$f":"VLOOKUP(AG$5,Schedule!$A$7:$J$42,3,FALSE)","v":"Pocono 400"},null,{"$f":"VLOOKUP(AI$5,Schedule!$A$7:$J$42,3,FALSE)","v":"FireKeepers Casino 400"},null,{"$f":"VLOOKUP(AK$5,Schedule!$A$7:$J$42,3,FALSE)","v":"Toyota/Save Mart 350"},null,{"$f":"VLOOKUP(AM$5,Schedule!$A$7:$J$42,3,FALSE)","v":"Camping World 400"},null,{"$f":"VLOOKUP(AO$5,Schedule!$A$7:$J$42,3,FALSE)","v":"Coke Zero Sugar 400"},null,{"$f":"VLOOKUP(AQ$5,[4]Schedule!$A$7:$G$43,3,FALSE)","v":"Quaker State 400"},null,{"$f":"VLOOKUP(AS$5,[4]Schedule!$A$7:$G$43,3,FALSE)","v":"New Hampshire 301"},null,{"$f":"VLOOKUP(AU$5,[4]Schedule!$A$7:$G$43,3,FALSE)","v":"Gander Outdoors 400"},null,{"$f":"VLOOKUP(AW$5,[4]Schedule!$A$7:$G$43,3,FALSE)","v":"Go Bowling at The Glen"},null,{"$f":"VLOOKUP(AY$5,[4]Schedule!$A$7:$G$43,3,FALSE)","v":"Pure Michigan 400"},null,{"$f":"VLOOKUP(BA$5,[4]Schedule!$A$7:$G$43,3,FALSE)","v":"Bass Pro Shops NRA Night Race"},null,{"$f":"VLOOKUP(BC$5,[4]Schedule!$A$7:$G$43,3,FALSE)","v":"Bojangles' Southern 500"},null,{"$f":"VLOOKUP(BE$5,[4]Schedule!$A$7:$G$43,3,FALSE)","v":"Big Machine Vodka 400 at the Brickyard"},null,{"$f":"VLOOKUP(BG$5,Schedule!$A$7:$J$42,3,FALSE)","v":"South Point 400"},null,{"$f":"VLOOKUP(BI$5,Schedule!$A$7:$J$42,3,FALSE)","v":"Federated Auto Parts 400"},null,{"$f":"VLOOKUP(BK$5,Schedule!$A$7:$J$42,3,FALSE)","v":"Bank of America Roval 400"},null,{"$f":"VLOOKUP(BM$5,Schedule!$A$7:$J$42,3,FALSE)","v":"MENCS Race at Dover"},null,{"$f":"VLOOKUP(BO$5,Schedule!$A$7:$J$42,3,FALSE)","v":"1000Bulbs.com 500"},null,{"$f":"VLOOKUP(BQ$5,Schedule!$A$7:$J$42,3,FALSE)","v":"Hollywood Casino 400"},null,{"$f":"VLOOKUP(BS$5,Schedule!$A$7:$J$42,3,FALSE)","v":"First Data 500"},null,{"$f":"VLOOKUP(BU$5,Schedule!$A$7:$J$42,3,FALSE)","v":"AAA Texas 500"},null,{"$f":"VLOOKUP(BW$5,Schedule!$A$7:$J$42,3,FALSE)","v":"MENCS Race at ISM Raceway"},null,{"$f":"VLOOKUP(BY$5,Schedule!$A$7:$J$43,3,FALSE)","v":"Ford EcoBoost 400"}]
[null,null,null,null,null,null,{"$f":"VLOOKUP(G$5,Schedule!$A$7:$J$42,4,FALSE)","v":"Daytona International Speedway, Daytona Beach, Florida"},null,{"$f":"VLOOKUP(I$5,Schedule!$A$7:$J$42,4,FALSE)","v":"Atlanta Motor Speedway, Hampton, Georgia"},null,{"$f":"VLOOKUP(K$5,Schedule!$A$7:$J$42,4,FALSE)","v":"Las Vegas Motor Speedway, Las Vegas, Nevada"},null,{"$f":"VLOOKUP(M$5,Schedule!$A$7:$J$42,4,FALSE)","v":"ISM Raceway, Avondale, Arizona"},null,{"$f":"VLOOKUP(O$5,Schedule!$A$7:$J$42,4,FALSE)","v":"Auto Club Speedway, Fontana, California"},null,{"$f":"VLOOKUP(Q$5,Schedule!$A$7:$J$42,4,FALSE)","v":"Martinsville Speedway, Ridgeway, Virginia"},null,{"$f":"VLOOKUP(S$5,Schedule!$A$7:$J$42,4,FALSE)","v":"Texas Motor Speedway, Fort Worth, Texas"},null,{"$f":"VLOOKUP(U$5,Schedule!$A$7:$J$42,4,FALSE)","v":"Bristol Motor Speedway, Bristol, Tennessee"},null,{"$f":"VLOOKUP(W$5,Schedule!$A$7:$J$42,4,FALSE)","v":"Richmond Raceway, Richmond, Virginia"},null,{"$f":"VLOOKUP(Y$5,Schedule!$A$7:$J$42,4,FALSE)","v":"Talladega Superspeedway, Lincoln, Alabama"},null,{"$f":"VLOOKUP(AA$5,Schedule!$A$7:$J$42,4,FALSE)","v":"Dover International Speedway, Dover, Delaware"},null,{"$f":"VLOOKUP(AC$5,Schedule!$A$7:$J$42,4,FALSE)","v":"Kansas Speedway, Kansas City, Kansas"},null,{"$f":"VLOOKUP(AE$5,Schedule!$A$7:$J$42,4,FALSE)","v":"Charlotte Motor Speedway, Concord, North Carolina"},null,{"$f":"VLOOKUP(AG$5,Schedule!$A$7:$J$42,4,FALSE)","v":"Pocono Raceway, Long Pond, Pennsylvania"},null,{"$f":"VLOOKUP(AI$5,Schedule!$A$7:$J$42,4,FALSE)","v":"Michigan International Speedway, Brooklyn, Michigan"},null,{"$f":"VLOOKUP(AK$5,Schedule!$A$7:$J$42,4,FALSE)","v":"Sonoma Raceway, Sonoma, California"},null,{"$f":"VLOOKUP(AM$5,Schedule!$A$7:$J$42,4,FALSE)","v":"Chicagoland Speedway, Joliet, Illinois"},null,{"$f":"VLOOKUP(AO$5,Schedule!$A$7:$J$42,4,FALSE)","v":"Daytona International Speedway, Daytona Beach, Florida"},null,{"$f":"VLOOKUP(AQ$5,[4]Schedule!$A$7:$G$43,4,FALSE)","v":"Kentucky Speedway"},null,{"$f":"VLOOKUP(AS$5,[4]Schedule!$A$7:$G$43,4,FALSE)","v":"New Hampshire Motor Speedway"},null,{"$f":"VLOOKUP(AU$5,[4]Schedule!$A$7:$G$43,4,FALSE)","v":"Pocono Raceway"},null,{"$f":"VLOOKUP(AW$5,[4]Schedule!$A$7:$G$43,4,FALSE)","v":"Watkins Glen International"},null,{"$f":"VLOOKUP(AY$5,[4]Schedule!$A$7:$G$43,4,FALSE)","v":"Michigan International Speedway"},null,{"$f":"VLOOKUP(BA$5,[4]Schedule!$A$7:$G$43,4,FALSE)","v":"Bristol Motor Speedway"},null,{"$f":"VLOOKUP(BC$5,[4]Schedule!$A$7:$G$43,4,FALSE)","v":"Darlington Raceway"},null,{"$f":"VLOOKUP(BE$5,[4]Schedule!$A$7:$G$43,4,FALSE)","v":"Indianapolis Motor Speedway"},null,{"$f":"VLOOKUP(BG$5,Schedule!$A$7:$J$42,4,FALSE)","v":"Las Vegas Motor Speedway, Las Vegas, Nevada"},null,{"$f":"VLOOKUP(BI$5,Schedule!$A$7:$J$42,4,FALSE)","v":"Richmond Raceway, Richmond, Virginia"},null,{"$f":"VLOOKUP(BK$5,Schedule!$A$7:$J$42,4,FALSE)","v":"Charlotte Motor Speedway, Concord, North Carolina, (Roval)"},null,{"$f":"VLOOKUP(BM$5,Schedule!$A$7:$J$42,4,FALSE)","v":"Dover International Speedway, Dover, Delaware"},null,{"$f":"VLOOKUP(BO$5,Schedule!$A$7:$J$42,4,FALSE)","v":"Talladega Superspeedway, Lincoln, Alabama"},null,{"$f":"VLOOKUP(BQ$5,Schedule!$A$7:$J$42,4,FALSE)","v":"Kansas Speedway, Kansas City, Kansas"},null,{"$f":"VLOOKUP(BS$5,Schedule!$A$7:$J$42,4,FALSE)","v":"Martinsville Speedway, Ridgeway, Virginia"},null,{"$f":"VLOOKUP(BU$5,Schedule!$A$7:$J$42,4,FALSE)","v":"Texas Motor Speedway, Fort Worth, Texas"},null,{"$f":"VLOOKUP(BW$5,Schedule!$A$7:$J$42,4,FALSE)","v":"ISM Raceway, Avondale, Arizona"},null,{"$f":"VLOOKUP(BY$5,Schedule!$A$7:$J$43,4,FALSE)","v":"Homestead–Miami Speedway, Homestead, Florida"}]
[null,null,null,null,null,null,{"$f":"VLOOKUP(G$5,Schedule!$A$7:$J$42,7,FALSE)","v":"1900-04-29"},null,{"$f":"VLOOKUP(I$5,Schedule!$A$7:$J$42,7,FALSE)","v":"1900-06-18"},null,{"$f":"VLOOKUP(K$5,Schedule!$A$7:$J$42,7,FALSE)","v":"1900-06-08"},null,{"$f":"VLOOKUP(M$5,Schedule!$A$7:$J$42,7,FALSE)","v":"1900-05-29"},null,{"$f":"VLOOKUP(O$5,Schedule!$A$7:$J$42,7,FALSE)","v":"1900-04-29"},null,{"$f":"VLOOKUP(Q$5,Schedule!$A$7:$J$42,7,FALSE)","v":"1900-09-16"},null,{"$f":"VLOOKUP(S$5,Schedule!$A$7:$J$42,7,FALSE)","v":"1900-06-18"},null,{"$f":"VLOOKUP(U$5,Schedule!$A$7:$J$42,7,FALSE)","v":"1900-09-06"},null,{"$f":"VLOOKUP(W$5,Schedule!$A$7:$J$42,7,FALSE)","v":"1900-07-18"},null,{"$f":"VLOOKUP(Y$5,Schedule!$A$7:$J$42,7,FALSE)","v":"1900-04-19"},null,{"$f":"VLOOKUP(AA$5,Schedule!$A$7:$J$42,7,FALSE)","v":"1900-08-27"},null,{"$f":"VLOOKUP(AC$5,Schedule!$A$7:$J$42,7,FALSE)","v":"1900-06-08"},null,{"$f":"VLOOKUP(AE$5,Schedule!$A$7:$J$42,7,FALSE)","v":"1900-07-18"},null,{"$f":"VLOOKUP(AG$5,Schedule!$A$7:$J$42,7,FALSE)","v":"1900-04-09"},null,{"$f":"VLOOKUP(AI$5,Schedule!$A$7:$J$42,7,FALSE)","v":"1900-04-29"},null,{"$f":"VLOOKUP(AK$5,Schedule!$A$7:$J$42,7,FALSE)","v":"1900-02-19"},null,{"$f":"VLOOKUP(AM$5,Schedule!$A$7:$J$42,7,FALSE)","v":"1900-06-08"},null,{"$f":"VLOOKUP(AO$5,Schedule!$A$7:$J$42,7,FALSE)","v":"1900-03-20"},null,{"$f":"VLOOKUP(AQ$5,[4]Schedule!$A$7:$G$43,7,FALSE)","v":"1900-06-08"},null,{"$f":"VLOOKUP(AS$5,[4]Schedule!$A$7:$G$43,7,FALSE)","v":"1900-05-29"},null,{"$f":"VLOOKUP(AU$5,[4]Schedule!$A$7:$G$43,7,FALSE)","v":"1900-04-09"},null,{"$f":"VLOOKUP(AW$5,[4]Schedule!$A$7:$G$43,7,FALSE)","v":"1900-02-09"},null,{"$f":"VLOOKUP(AY$5,[4]Schedule!$A$7:$G$43,7,FALSE)","v":"1900-04-29"},null,{"$f":"VLOOKUP(BA$5,[4]Schedule!$A$7:$G$43,7,FALSE)","v":"1900-09-06"},null,{"$f":"VLOOKUP(BC$5,[4]Schedule!$A$7:$G$43,7,FALSE)","v":"1900-07-18"},null,{"$f":"VLOOKUP(BE$5,[4]Schedule!$A$7:$G$43,7,FALSE)","v":"1900-04-09"},null,{"$f":"VLOOKUP(BG$5,Schedule!$A$7:$J$42,7,FALSE)","v":"1900-06-08"},null,{"$f":"VLOOKUP(BI$5,Schedule!$A$7:$J$42,7,FALSE)","v":"1900-07-18"},null,{"$f":"VLOOKUP(BK$5,Schedule!$A$7:$J$42,7,FALSE)","v":60},null,{"$f":"VLOOKUP(BM$5,Schedule!$A$7:$J$42,7,FALSE)","v":"1900-08-27"},null,{"$f":"VLOOKUP(BO$5,Schedule!$A$7:$J$42,7,FALSE)","v":"1900-04-19"},null,{"$f":"VLOOKUP(BQ$5,Schedule!$A$7:$J$42,7,FALSE)","v":"1900-06-08"},null,{"$f":"VLOOKUP(BS$5,Schedule!$A$7:$J$42,7,FALSE)","v":"1900-09-16"},null,{"$f":"VLOOKUP(BU$5,Schedule!$A$7:$J$42,7,FALSE)","v":"1900-06-18"},null,{"$f":"VLOOKUP(BW$5,Schedule!$A$7:$J$42,7,FALSE)","v":"1900-05-29"},null,{"$f":"VLOOKUP(BY$5,Schedule!$A$7:$J$43,7,FALSE)","v":"1900-06-08"}]
[null,4,6,5,5,4,1,null,2,null,3,null,4,null,5,null,6,null,7,null,8,null,9,null,10,null,11,null,12,null,13,null,14,null,15,null,16,null,17,null,18,null,19,null,20,null,21,null,22,null,23,null,24,null,25,null,26,null,27,null,28,null,29,null,30,null,31,null,32,null,33,null,34,null,35,null,36]
["Car","Driver","Make","Sponsor","Team","Home Town","Finishing Position","Points","Finishing Position","Points","Finishing Position","Lead (Y/N)","Finishing Position","Lead (Y/N)","Finishing Position","Lead (Y/N)","Finishing Position","Lead (Y/N)","Finishing Position","Lead (Y/N)","Finishing Position","Lead (Y/N)","Finishing Position","Lead (Y/N)","Finishing Position","Lead (Y/N)","Finishing Position","Lead (Y/N)","Finishing Position","Lead (Y/N)","Finishing Position","Lead (Y/N)","Finishing Position","Lead (Y/N)","Finishing Position","Lead (Y/N)","Finishing Position","Lead (Y/N)","Finishing Position","Lead (Y/N)","Finishing Position","Lead (Y/N)","Finishing Position","Lead (Y/N)","Finishing Position","Lead (Y/N)","Finishing Position","Lead (Y/N)","Finishing Position","Lead (Y/N)","Finishing Position","Lead (Y/N)","Finishing Position","Lead (Y/N)","Finishing Position","Lead (Y/N)","Finishing Position","Lead (Y/N)","Finishing Position","Lead (Y/N)","Finishing Position","Lead (Y/N)","Finishing Position","Lead (Y/N)","Finishing Position","Lead (Y/N)","Finishing Position","Lead (Y/N)","Finishing Position","Lead (Y/N)","Finishing Position","Lead (Y/N)","Finishing Position","Lead (Y/N)","Finishing Position","Lead (Y/N)","Finishing Position","Lead (Y/N)"]
["00",{"$f":"IF(ISNA(VLOOKUP($A7,'Entry List'!$A$1:$F$61,B$5,FALSE)),\"\",VLOOKUP($A7,'Entry List'!$A$1:$F$61,B$5,FALSE))","v":"Landon Cassill (i)"},{"$f":"IF(ISNA(VLOOKUP($A7,'Entry List'!$A$1:$F$61,C$5,FALSE)),\"\",VLOOKUP($A7,'Entry List'!$A$1:$F$61,C$5,FALSE))","v":"Chevrolet"},{"$f":"IF(ISNA(VLOOKUP($A7,'Entry List'!$A$1:$F$61,D$5,FALSE)),\"\",VLOOKUP($A7,'Entry List'!$A$1:$F$61,D$5,FALSE))","v":"StarCom Racing"},{"$f":"IF(ISNA(VLOOKUP($A7,'Entry List'!$A$1:$F$61,E$5,FALSE)),\"\",VLOOKUP($A7,'Entry List'!$A$1:$F$61,E$5,FALSE))","v":"StarCom Racing"},{"$f":"IF(ISNA(VLOOKUP($A7,'[3]Entry List'!$A$1:$F$61,F$5,FALSE)),\"\",VLOOKUP($A7,'[3]Entry List'!$A$1:$F$61,F$5,FALSE))","v":"Landon Cassill (i)"},20,17,34,3,32,5,33,4,29,8,28,9,30,7,26,11,35,2,34,3,31,6,37,1,37,1,31,6,29,8,31,6,31,6,11,26,"DNS",0,"DNS",0,28,9,29,8,"DNS",0,25,12,25,12,25,12,29,8,28,9,28,9,26,11,14,23,26,11,26,11,27,10,33,4,{"$f":"IF('Last Race Results'!$B$5=0,0,IF(ISNA(VLOOKUP($A7,'Last Race Results'!$A$5:$J$44,2,FALSE)),\"DNS\",VLOOKUP($A7,'Last Race Results'!$A$5:$J$44,2,FALSE)))","v":28},{"$f":"IF('Last Race Results'!$B$5=0,0,IF(ISNA(VLOOKUP($A7,'Last Race Results'!$A$5:$K$44,11,FALSE)),0,VLOOKUP($A7,'Last Race Results'!$A$5:$K$44,11,FALSE)))","v":9}]
[1,{"$f":"IF(ISNA(VLOOKUP($A8,'Entry List'!$A$1:$F$61,B$5,FALSE)),\"\",VLOOKUP($A8,'Entry List'!$A$1:$F$61,B$5,FALSE))","v":"Kurt Busch"},{"$f":"IF(ISNA(VLOOKUP($A8,'Entry List'!$A$1:$F$61,C$5,FALSE)),\"\",VLOOKUP($A8,'Entry List'!$A$1:$F$61,C$5,FALSE))","v":"Chevrolet"},{"$f":"IF(ISNA(VLOOKUP($A8,'Entry List'!$A$1:$F$61,D$5,FALSE)),\"\",VLOOKUP($A8,'Entry List'!$A$1:$F$61,D$5,FALSE))","v":"Chip Ganassi Racing"},{"$f":"IF(ISNA(VLOOKUP($A8,'Entry List'!$A$1:$F$61,E$5,FALSE)),\"\",VLOOKUP($A8,'Entry List'!$A$1:$F$61,E$5,FALSE))","v":"Chip Ganassi Racing"},null,25,12,3,45,5,32,7,31,6,34,12,29,9,28,2,40,11,34,6,36,13,24,7,40,27,19,11,31,2,48,13,24,13,28,10,27,1,54,18,20,27,10,10,29,23,22,9,40,7,49,7,30,39,8,18,19,20,17,9,28,28,13,6,31,6,31,9,32,11,28,{"$f":"IF('Last Race Results'!$B$5=0,0,IF(ISNA(VLOOKUP($A8,'Last Race Results'!$A$5:$J$44,2,FALSE)),\"DNS\",VLOOKUP($A8,'Last Race Results'!$A$5:$J$44,2,FALSE)))","v":21},{"$f":"IF('Last Race Results'!$B$5=0,0,IF(ISNA(VLOOKUP($A8,'Last Race Results'!$A$5:$K$44,11,FALSE)),0,VLOOKUP($A8,'Last Race Results'!$A$5:$K$44,11,FALSE)))","v":16}]
[2,{"$f":"IF(ISNA(VLOOKUP($A9,'Entry List'!$A$1:$F$61,B$5,FALSE)),\"\",VLOOKUP($A9,'Entry List'!$A$1:$F$61,B$5,FALSE))","v":"Brad Keselowski"},{"$f":"IF(ISNA(VLOOKUP($A9,'Entry List'!$A$1:$F$61,C$5,FALSE)),\"\",VLOOKUP($A9,'Entry List'!$A$1:$F$61,C$5,FALSE))","v":"Ford"},{"$f":"IF(ISNA(VLOOKUP($A9,'Entry List'!$A$1:$F$61,D$5,FALSE)),\"\",VLOOKUP($A9,'Entry List'!$A$1:$F$61,D$5,FALSE))","v":"Team Penske"},{"$f":"IF(ISNA(VLOOKUP($A9,'Entry List'!$A$1:$F$61,E$5,FALSE)),\"\",VLOOKUP($A9,'Entry List'!$A$1:$F$61,E$5,FALSE))","v":"Team Penske"},null,12,29,1,40,2,43,19,18,3,43,1,60,36,1,18,34,7,42,13,24,12,29,1,44,19,38,2,50,6,32,18,28,5,41,39,3,20,17,10,33,8,32,9,33,19,18,3,40,5,38,1,49,3,34,4,48,5,46,11,28,25,26,3,35,3,35,39,1,10,34,{"$f":"IF('Last Race Results'!$B$5=0,0,IF(ISNA(VLOOKUP($A9,'Last Race Results'!$A$5:$J$44,2,FALSE)),\"DNS\",VLOOKUP($A9,'Last Race Results'!$A$5:$J$44,2,FALSE)))","v":18},{"$f":"IF('Last Race Results'!$B$5=0,0,IF(ISNA(VLOOKUP($A9,'Last Race Results'!$A$5:$K$44,11,FALSE)),0,VLOOKUP($A9,'Last Race Results'!$A$5:$K$44,11,FALSE)))","v":19}]
[3,{"$f":"IF(ISNA(VLOOKUP($A10,'Entry List'!$A$1:$F$61,B$5,FALSE)),\"\",VLOOKUP($A10,'Entry List'!$A$1:$F$61,B$5,FALSE))","v":"Austin Dillon"},{"$f":"IF(ISNA(VLOOKUP($A10,'Entry List'!$A$1:$F$61,C$5,FALSE)),\"\",VLOOKUP($A10,'Entry List'!$A$1:$F$61,C$5,FALSE))","v":"Chevrolet"},{"$f":"IF(ISNA(VLOOKUP($A10,'Entry List'!$A$1:$F$61,D$5,FALSE)),\"\",VLOOKUP($A10,'Entry List'!$A$1:$F$61,D$5,FALSE))","v":"Richard Childress Racing"},{"$f":"IF(ISNA(VLOOKUP($A10,'Entry List'!$A$1:$F$61,E$5,FALSE)),\"\",VLOOKUP($A10,'Entry List'!$A$1:$F$61,E$5,FALSE))","v":"Richard Childress Racing"},null,16,21,21,16,20,17,21,20,10,27,11,27,14,23,14,23,6,31,14,23,19,18,17,20,34,3,37,1,26,21,24,13,10,33,33,14,35,10,32,5,19,18,31,6,13,24,34,3,10,27,22,15,12,29,22,15,23,14,18,19,6,38,22,15,22,15,13,29,24,13,{"$f":"IF('Last Race Results'!$B$5=0,0,IF(ISNA(VLOOKUP($A10,'Last Race Results'!$A$5:$J$44,2,FALSE)),\"DNS\",VLOOKUP($A10,'Last Race Results'!$A$5:$J$44,2,FALSE)))","v":8},{"$f":"IF('Last Race Results'!$B$5=0,0,IF(ISNA(VLOOKUP($A10,'Last Race Results'!$A$5:$K$44,11,FALSE)),0,VLOOKUP($A10,'Last Race Results'!$A$5:$K$44,11,FALSE)))","v":30}]
[4,{"$f":"IF(ISNA(VLOOKUP($A11,'Entry List'!$A$1:$F$61,B$5,FALSE)),\"\",VLOOKUP($A11,'Entry List'!$A$1:$F$61,B$5,FALSE))","v":"Kevin Harvick"},{"$f":"IF(ISNA(VLOOKUP($A11,'Entry List'!$A$1:$F$61,C$5,FALSE)),\"\",VLOOKUP($A11,'Entry List'!$A$1:$F$61,C$5,FALSE))","v":"Ford"},{"$f":"IF(ISNA(VLOOKUP($A11,'Entry List'!$A$1:$F$61,D$5,FALSE)),\"\",VLOOKUP($A11,'Entry List'!$A$1:$F$61,D$5,FALSE))","v":"Stewart-Haas Racing"},{"$f":"IF(ISNA(VLOOKUP($A11,'Entry List'!$A$1:$F$61,E$5,FALSE)),\"\",VLOOKUP($A11,'Entry List'!$A$1:$F$61,E$5,FALSE))","v":"Stewart-Haas Racing"},null,26,17,4,52,4,52,9,37,4,45,6,35,8,29,13,24,4,48,38,1,4,47,13,43,10,38,22,22,7,39,6,34,14,23,29,15,22,20,1,46,6,48,7,38,1,45,39,8,4,34,4,33,2,51,7,41,3,43,4,46,17,20,7,30,7,30,1,55,5,38,{"$f":"IF('Last Race Results'!$B$5=0,0,IF(ISNA(VLOOKUP($A11,'Last Race Results'!$A$5:$J$44,2,FALSE)),\"DNS\",VLOOKUP($A11,'Last Race Results'!$A$5:$J$44,2,FALSE)))","v":4},{"$f":"IF('Last Race Results'!$B$5=0,0,IF(ISNA(VLOOKUP($A11,'Last Race Results'!$A$5:$K$44,11,FALSE)),0,VLOOKUP($A11,'Last Race Results'!$A$5:$K$44,11,FALSE)))","v":33}]
[5,{"$f":"IF(ISNA(VLOOKUP($A12,'Entry List'!$A$1:$F$61,B$5,FALSE)),\"\",VLOOKUP($A12,'Entry List'!$A$1:$F$61,B$5,FALSE))","v":""},{"$f":"IF(ISNA(VLOOKUP($A12,'Entry List'!$A$1:$F$61,C$5,FALSE)),\"\",VLOOKUP($A12,'Entry List'!$A$1:$F$61,C$5,FALSE))","v":""},{"$f":"IF(ISNA(VLOOKUP($A12,'Entry List'!$A$1:$F$61,D$5,FALSE)),\"\",VLOOKUP($A12,'Entry List'!$A$1:$F$61,D$5,FALSE))","v":""},{"$f":"IF(ISNA(VLOOKUP($A12,'Entry List'!$A$1:$F$61,E$5,FALSE)),\"\",VLOOKUP($A12,'Entry List'!$A$1:$F$61,E$5,FALSE))","v":""},null,"DNS",0,"DNS",0,"DNS",0,"DNS",0,"DNS",0,"DNS",0,"DNS",0,"DNS",0,"DNS",0,"DNS",0,"DNS",0,"DNS",0,"DNS",0,"DNS",0,"DNS",0,"DNS",0,"DNS",0,"DNS",0,"DNS",0,"DNS",0,"DNS",0,"DNS",0,"DNS",0,"DNS",0,"DNS",0,"DNS",0,"DNS",0,"DNS",0,"DNS",0,"DNS",0,"DNS",0,"DNS",0,"DNS",0,"DNS",0,"DNS",0,{"$f":"IF('Last Race Results'!$B$5=0,0,IF(ISNA(VLOOKUP($A12,'Last Race Results'!$A$5:$J$44,2,FALSE)),\"DNS\",VLOOKUP($A12,'Last Race Results'!$A$5:$J$44,2,FALSE)))","v":"DNS"},{"$f":"IF('Last Race Results'!$B$5=0,0,IF(ISNA(VLOOKUP($A12,'Last Race Results'!$A$5:$K$44,11,FALSE)),0,VLOOKUP($A12,'Last Race Results'!$A$5:$K$44,11,FALSE)))","v":0}]
[6,{"$f":"IF(ISNA(VLOOKUP($A13,'Entry List'!$A$1:$F$61,B$5,FALSE)),\"\",VLOOKUP($A13,'Entry List'!$A$1:$F$61,B$5,FALSE))","v":"Ryan Newman"},{"$f":"IF(ISNA(VLOOKUP($A13,'Entry List'!$A$1:$F$61,C$5,FALSE)),\"\",VLOOKUP($A13,'Entry List'!$A$1:$F$61,C$5,FALSE))","v":"Ford"},{"$f":"IF(ISNA(VLOOKUP($A13,'Entry List'!$A$1:$F$61,D$5,FALSE)),\"\",VLOOKUP($A13,'Entry List'!$A$1:$F$61,D$5,FALSE))","v":"Roush Fenway Racing"},{"$f":"IF(ISNA(VLOOKUP($A13,'Entry List'!$A$1:$F$61,E$5,FALSE)),\"\",VLOOKUP($A13,'Entry List'!$A$1:$F$61,E$5,FALSE))","v":"Roush Fenway Racing"},null,14,23,13,24,24,13,12,29,22,15,23,14,11,31,9,36,9,28,7,35,18,19,23,14,16,21,16,27,8,29,7,30,17,20,5,32,9,28,7,38,14,23,25,12,12,25,11,34,23,14,12,29,10,27,5,38,32,5,22,15,2,35,10,27,10,27,15,22,18,19,{"$f":"IF('Last Race Results'!$B$5=0,0,IF(ISNA(VLOOKUP($A13,'Last Race Results'!$A$5:$J$44,2,FALSE)),\"DNS\",VLOOKUP($A13,'Last Race Results'!$A$5:$J$44,2,FALSE)))","v":7},{"$f":"IF('Last Race Results'!$B$5=0,0,IF(ISNA(VLOOKUP($A13,'Last Race Results'!$A$5:$K$44,11,FALSE)),0,VLOOKUP($A13,'Last Race Results'!$A$5:$K$44,11,FALSE)))","v":30}]
[7,{"$f":"IF(ISNA(VLOOKUP($A14,'Entry List'!$A$1:$F$61,B$5,FALSE)),\"\",VLOOKUP($A14,'Entry List'!$A$1:$F$61,B$5,FALSE))","v":""},{"$f":"IF(ISNA(VLOOKUP($A14,'Entry List'!$A$1:$F$61,C$5,FALSE)),\"\",VLOOKUP($A14,'Entry List'!$A$1:$F$61,C$5,FALSE))","v":""},{"$f":"IF(ISNA(VLOOKUP($A14,'Entry List'!$A$1:$F$61,D$5,FALSE)),\"\",VLOOKUP($A14,'Entry List'!$A$1:$F$61,D$5,FALSE))","v":""},{"$f":"IF(ISNA(VLOOKUP($A14,'Entry List'!$A$1:$F$61,E$5,FALSE)),\"\",VLOOKUP($A14,'Entry List'!$A$1:$F$61,E$5,FALSE))","v":""},null,"DNS",0,"DNS",0,"DNS",0,"DNS",0,"DNS",0,"DNS",0,"DNS",0,"DNS",0,"DNS",0,"DNS",0,"DNS",0,"DNS",0,"DNS",0,"DNS",0,"DNS",0,"DNS",0,"DNS",0,"DNS",0,"DNS",0,"DNS",0,"DNS",0,"DNS",0,"DNS",0,"DNS",0,"DNS",0,28,9,"DNS",0,"DNS",0,"DNS",0,"DNS",0,"DNS",0,"DNS",0,"DNS",0,"DNS",0,"DNS",0,{"$f":"IF('Last Race Results'!$B$5=0,0,IF(ISNA(VLOOKUP($A14,'Last Race Results'!$A$5:$J$44,2,FALSE)),\"DNS\",VLOOKUP($A14,'Last Race Results'!$A$5:$J$44,2,FALSE)))","v":"DNS"},{"$f":"IF('Last Race Results'!$B$5=0,0,IF(ISNA(VLOOKUP($A14,'Last Race Results'!$A$5:$K$44,11,FALSE)),0,VLOOKUP($A14,'Last Race Results'!$A$5:$K$44,11,FALSE)))","v":0}]
[8,{"$f":"IF(ISNA(VLOOKUP($A15,'Entry List'!$A$1:$F$61,B$5,FALSE)),\"\",VLOOKUP($A15,'Entry List'!$A$1:$F$61,B$5,FALSE))","v":"Daniel Hemric (R)"},{"$f":"IF(ISNA(VLOOKUP($A15,'Entry List'!$A$1:$F$61,C$5,FALSE)),\"\",VLOOKUP($A15,'Entry List'!$A$1:$F$61,C$5,FALSE))","v":"Chevrolet"},{"$f":"IF(ISNA(VLOOKUP($A15,'Entry List'!$A$1:$F$61,D$5,FALSE)),\"\",VLOOKUP($A15,'Entry List'!$A$1:$F$61,D$5,FALSE))","v":"Richard Childress Racing"},{"$f":"IF(ISNA(VLOOKUP($A15,'Entry List'!$A$1:$F$61,E$5,FALSE)),\"\",VLOOKUP($A15,'Entry List'!$A$1:$F$61,E$5,FALSE))","v":"Richard Childress Racing"},null,34,3,20,17,23,14,18,19,33,5,27,10,33,4,30,7,19,18,5,35,25,12,18,19,21,16,13,26,12,29,15,22,19,18,18,19,24,15,37,1,7,30,35,2,26,11,12,27,37,1,"DNS",0,17,20,25,12,33,4,21,16,21,16,17,20,17,20,16,22,21,16,{"$f":"IF('Last Race Results'!$B$5=0,0,IF(ISNA(VLOOKUP($A15,'Last Race Results'!$A$5:$J$44,2,FALSE)),\"DNS\",VLOOKUP($A15,'Last Race Results'!$A$5:$J$44,2,FALSE)))","v":12},{"$f":"IF('Last Race Results'!$B$5=0,0,IF(ISNA(VLOOKUP($A15,'Last Race Results'!$A$5:$K$44,11,FALSE)),0,VLOOKUP($A15,'Last Race Results'!$A$5:$K$44,11,FALSE)))","v":29}]
[9,{"$f":"IF(ISNA(VLOOKUP($A16,'Entry List'!$A$1:$F$61,B$5,FALSE)),\"\",VLOOKUP($A16,'Entry List'!$A$1:$F$61,B$5,FALSE))","v":"Chase Elliott"},{"$f":"IF(ISNA(VLOOKUP($A16,'Entry List'!$A$1:$F$61,C$5,FALSE)),\"\",VLOOKUP($A16,'Entry List'!$A$1:$F$61,C$5,FALSE))","v":"Chevrolet"},{"$f":"IF(ISNA(VLOOKUP($A16,'Entry List'!$A$1:$F$61,D$5,FALSE)),\"\",VLOOKUP($A16,'Entry List'!$A$1:$F$61,D$5,FALSE))","v":"Hendrick Motorsports"},{"$f":"IF(ISNA(VLOOKUP($A16,'Entry List'!$A$1:$F$61,E$5,FALSE)),\"\",VLOOKUP($A16,'Entry List'!$A$1:$F$61,E$5,FALSE))","v":"Hendrick Motorsports"},null,17,24,19,18,9,36,14,23,11,27,2,51,13,32,11,27,15,22,1,57,5,47,4,52,4,55,4,33,20,20,37,4,11,35,35,15,15,22,29,8,38,1,1,60,9,35,5,46,19,18,15,33,4,39,13,31,1,52,38,1,8,29,36,4,36,4,32,5,39,18,{"$f":"IF('Last Race Results'!$B$5=0,0,IF(ISNA(VLOOKUP($A16,'Last Race Results'!$A$5:$J$44,2,FALSE)),\"DNS\",VLOOKUP($A16,'Last Race Results'!$A$5:$J$44,2,FALSE)))","v":15},{"$f":"IF('Last Race Results'!$B$5=0,0,IF(ISNA(VLOOKUP($A16,'Last Race Results'!$A$5:$K$44,11,FALSE)),0,VLOOKUP($A16,'Last Race Results'!$A$5:$K$44,11,FALSE)))","v":22}]
[10,{"$f":"IF(ISNA(VLOOKUP($A17,'Entry List'!$A$1:$F$61,B$5,FALSE)),\"\",VLOOKUP($A17,'Entry List'!$A$1:$F$61,B$5,FALSE))","v":"Aric Almirola"},{"$f":"IF(ISNA(VLOOKUP($A17,'Entry List'!$A$1:$F$61,C$5,FALSE)),\"\",VLOOKUP($A17,'Entry List'!$A$1:$F$61,C$5,FALSE))","v":"Ford"},{"$f":"IF(ISNA(VLOOKUP($A17,'Entry List'!$A$1:$F$61,D$5,FALSE)),\"\",VLOOKUP($A17,'Entry List'!$A$1:$F$61,D$5,FALSE))","v":"Stewart-Haas Racing"},{"$f":"IF(ISNA(VLOOKUP($A17,'Entry List'!$A$1:$F$61,E$5,FALSE)),\"\",VLOOKUP($A17,'Entry List'!$A$1:$F$61,E$5,FALSE))","v":"Stewart-Haas Racing"},null,32,13,8,37,7,34,4,42,9,40,9,41,7,30,"DNS",0,23,14,9,28,16,21,12,29,11,26,10,33,17,33,9,34,16,22,7,30,14,30,11,44,12,28,12,26,33,4,29,9,17,20,23,18,13,32,16,21,14,23,17,20,4,33,37,11,37,11,2,45,22,15,{"$f":"IF('Last Race Results'!$B$5=0,0,IF(ISNA(VLOOKUP($A17,'Last Race Results'!$A$5:$J$44,2,FALSE)),\"DNS\",VLOOKUP($A17,'Last Race Results'!$A$5:$J$44,2,FALSE)))","v":22},{"$f":"IF('Last Race Results'!$B$5=0,0,IF(ISNA(VLOOKUP($A17,'Last Race Results'!$A$5:$K$44,11,FALSE)),0,VLOOKUP($A17,'Last Race Results'!$A$5:$K$44,11,FALSE)))","v":15}]
[11,{"$f":"IF(ISNA(VLOOKUP($A18,'Entry List'!$A$1:$F$61,B$5,FALSE)),\"\",VLOOKUP($A18,'Entry List'!$A$1:$F$61,B$5,FALSE))","v":"Denny Hamlin"},{"$f":"IF(ISNA(VLOOKUP($A18,'Entry List'!$A$1:$F$61,C$5,FALSE)),\"\",VLOOKUP($A18,'Entry List'!$A$1:$F$61,C$5,FALSE))","v":"Toyota"},{"$f":"IF(ISNA(VLOOKUP($A18,'Entry List'!$A$1:$F$61,D$5,FALSE)),\"\",VLOOKUP($A18,'Entry List'!$A$1:$F$61,D$5,FALSE))","v":"Joe Gibbs Racing"},{"$f":"IF(ISNA(VLOOKUP($A18,'Entry List'!$A$1:$F$61,E$5,FALSE)),\"\",VLOOKUP($A18,'Entry List'!$A$1:$F$61,E$5,FALSE))","v":"Joe Gibbs Racing"},null,1,45,11,35,10,40,5,38,7,40,5,47,1,50,5,32,5,32,36,1,21,16,16,21,17,30,6,31,11,26,5,51,15,32,26,14,5,39,2,42,1,53,3,49,2,44,1,40,29,22,3,42,15,26,3,49,19,18,5,50,3,34,4,45,4,45,28,9,1,59,{"$f":"IF('Last Race Results'!$B$5=0,0,IF(ISNA(VLOOKUP($A18,'Last Race Results'!$A$5:$J$44,2,FALSE)),\"DNS\",VLOOKUP($A18,'Last Race Results'!$A$5:$J$44,2,FALSE)))","v":10},{"$f":"IF('Last Race Results'!$B$5=0,0,IF(ISNA(VLOOKUP($A18,'Last Race Results'!$A$5:$K$44,11,FALSE)),0,VLOOKUP($A18,'Last Race Results'!$A$5:$K$44,11,FALSE)))","v":27}]
[12,{"$f":"IF(ISNA(VLOOKUP($A19,'Entry List'!$A$1:$F$61,B$5,FALSE)),\"\",VLOOKUP($A19,'Entry List'!$A$1:$F$61,B$5,FALSE))","v":"Ryan Blaney"},{"$f":"IF(ISNA(VLOOKUP($A19,'Entry List'!$A$1:$F$61,C$5,FALSE)),\"\",VLOOKUP($A19,'Entry List'!$A$1:$F$61,C$5,FALSE))","v":"Ford"},{"$f":"IF(ISNA(VLOOKUP($A19,'Entry List'!$A$1:$F$61,D$5,FALSE)),\"\",VLOOKUP($A19,'Entry List'!$A$1:$F$61,D$5,FALSE))","v":"Team Penske"},{"$f":"IF(ISNA(VLOOKUP($A19,'Entry List'!$A$1:$F$61,E$5,FALSE)),\"\",VLOOKUP($A19,'Entry List'!$A$1:$F$61,E$5,FALSE))","v":"Team Penske"},null,31,22,22,27,22,15,3,44,5,42,4,48,"DNS",0,4,46,25,12,15,29,15,29,32,5,13,36,12,29,9,28,3,34,6,31,36,9,13,27,4,37,10,27,5,34,24,21,10,32,13,24,11,26,5,35,17,20,8,34,35,6,1,46,5,48,5,48,8,31,3,44,{"$f":"IF('Last Race Results'!$B$5=0,0,IF(ISNA(VLOOKUP($A19,'Last Race Results'!$A$5:$J$44,2,FALSE)),\"DNS\",VLOOKUP($A19,'Last Race Results'!$A$5:$J$44,2,FALSE)))","v":11},{"$f":"IF('Last Race Results'!$B$5=0,0,IF(ISNA(VLOOKUP($A19,'Last Race Results'!$A$5:$K$44,11,FALSE)),0,VLOOKUP($A19,'Last Race Results'!$A$5:$K$44,11,FALSE)))","v":36}]
[13,{"$f":"IF(ISNA(VLOOKUP($A20,'Entry List'!$A$1:$F$61,B$5,FALSE)),\"\",VLOOKUP($A20,'Entry List'!$A$1:$F$61,B$5,FALSE))","v":"Ty Dillon"},{"$f":"IF(ISNA(VLOOKUP($A20,'Entry List'!$A$1:$F$61,C$5,FALSE)),\"\",VLOOKUP($A20,'Entry List'!$A$1:$F$61,C$5,FALSE))","v":"Chevrolet"},{"$f":"IF(ISNA(VLOOKUP($A20,'Entry List'!$A$1:$F$61,D$5,FALSE)),\"\",VLOOKUP($A20,'Entry List'!$A$1:$F$61,D$5,FALSE))","v":"Germain Racing"},{"$f":"IF(ISNA(VLOOKUP($A20,'Entry List'!$A$1:$F$61,E$5,FALSE)),\"\",VLOOKUP($A20,'Entry List'!$A$1:$F$61,E$5,FALSE))","v":"Germain Racing"},null,6,31,25,12,29,8,15,22,27,10,13,24,21,16,15,32,21,16,17,30,22,15,28,9,23,14,27,10,22,15,27,10,35,2,4,33,26,11,16,21,29,8,30,7,11,26,20,17,20,17,21,16,16,21,26,11,15,22,23,14,10,27,24,13,24,13,18,19,20,17,{"$f":"IF('Last Race Results'!$B$5=0,0,IF(ISNA(VLOOKUP($A20,'Last Race Results'!$A$5:$J$44,2,FALSE)),\"DNS\",VLOOKUP($A20,'Last Race Results'!$A$5:$J$44,2,FALSE)))","v":24},{"$f":"IF('Last Race Results'!$B$5=0,0,IF(ISNA(VLOOKUP($A20,'Last Race Results'!$A$5:$K$44,11,FALSE)),0,VLOOKUP($A20,'Last Race Results'!$A$5:$K$44,11,FALSE)))","v":13}]
[14,{"$f":"IF(ISNA(VLOOKUP($A21,'Entry List'!$A$1:$F$61,B$5,FALSE)),\"\",VLOOKUP($A21,'Entry List'!$A$1:$F$61,B$5,FALSE))","v":"Clint Bowyer"},{"$f":"IF(ISNA(VLOOKUP($A21,'Entry List'!$A$1:$F$61,C$5,FALSE)),\"\",VLOOKUP($A21,'Entry List'!$A$1:$F$61,C$5,FALSE))","v":"Ford"},{"$f":"IF(ISNA(VLOOKUP($A21,'Entry List'!$A$1:$F$61,D$5,FALSE)),\"\",VLOOKUP($A21,'Entry List'!$A$1:$F$61,D$5,FALSE))","v":"Stewart-Haas Racing"},{"$f":"IF(ISNA(VLOOKUP($A21,'Entry List'!$A$1:$F$61,E$5,FALSE)),\"\",VLOOKUP($A21,'Entry List'!$A$1:$F$61,E$5,FALSE))","v":"Stewart-Haas Racing"},null,"DNS",0,5,34,14,23,11,35,38,1,7,38,2,35,7,42,3,46,29,8,9,31,5,38,24,13,5,32,35,2,11,26,37,1,34,13,6,37,20,24,11,27,20,24,37,3,7,30,6,36,5,42,25,12,8,37,4,49,10,28,23,24,35,9,35,9,11,35,8,29,{"$f":"IF('Last Race Results'!$B$5=0,0,IF(ISNA(VLOOKUP($A21,'Last Race Results'!$A$5:$J$44,2,FALSE)),\"DNS\",VLOOKUP($A21,'Last Race Results'!$A$5:$J$44,2,FALSE)))","v":6},{"$f":"IF('Last Race Results'!$B$5=0,0,IF(ISNA(VLOOKUP($A21,'Last Race Results'!$A$5:$K$44,11,FALSE)),0,VLOOKUP($A21,'Last Race Results'!$A$5:$K$44,11,FALSE)))","v":36}]
[15,{"$f":"IF(ISNA(VLOOKUP($A22,'Entry List'!$A$1:$F$61,B$5,FALSE)),\"\",VLOOKUP($A22,'Entry List'!$A$1:$F$61,B$5,FALSE))","v":"Joe Nemechek (i)"},{"$f":"IF(ISNA(VLOOKUP($A22,'Entry List'!$A$1:$F$61,C$5,FALSE)),\"\",VLOOKUP($A22,'Entry List'!$A$1:$F$61,C$5,FALSE))","v":"Chevrolet"},{"$f":"IF(ISNA(VLOOKUP($A22,'Entry List'!$A$1:$F$61,D$5,FALSE)),\"\",VLOOKUP($A22,'Entry List'!$A$1:$F$61,D$5,FALSE))","v":"Premium Motorsports"},{"$f":"IF(ISNA(VLOOKUP($A22,'Entry List'!$A$1:$F$61,E$5,FALSE)),\"\",VLOOKUP($A22,'Entry List'!$A$1:$F$61,E$5,FALSE))","v":"Premium Motorsports"},null,10,27,31,6,33,4,27,10,28,9,34,3,29,8,29,8,30,7,26,11,30,7,31,6,36,1,24,13,30,7,33,4,26,11,37,1,31,6,25,12,30,7,27,10,29,8,26,11,28,9,26,11,31,6,36,1,22,15,31,6,12,29,29,8,29,8,29,8,28,9,{"$f":"IF('Last Race Results'!$B$5=0,0,IF(ISNA(VLOOKUP($A22,'Last Race Results'!$A$5:$J$44,2,FALSE)),\"DNS\",VLOOKUP($A22,'Last Race Results'!$A$5:$J$44,2,FALSE)))","v":38},{"$f":"IF('Last Race Results'!$B$5=0,0,IF(ISNA(VLOOKUP($A22,'Last Race Results'!$A$5:$K$44,11,FALSE)),0,VLOOKUP($A22,'Last Race Results'!$A$5:$K$44,11,FALSE)))","v":1}]
[16,{"$f":"IF(ISNA(VLOOKUP($A23,'Entry List'!$A$1:$F$61,B$5,FALSE)),\"\",VLOOKUP($A23,'Entry List'!$A$1:$F$61,B$5,FALSE))","v":""},{"$f":"IF(ISNA(VLOOKUP($A23,'Entry List'!$A$1:$F$61,C$5,FALSE)),\"\",VLOOKUP($A23,'Entry List'!$A$1:$F$61,C$5,FALSE))","v":""},{"$f":"IF(ISNA(VLOOKUP($A23,'Entry List'!$A$1:$F$61,D$5,FALSE)),\"\",VLOOKUP($A23,'Entry List'!$A$1:$F$61,D$5,FALSE))","v":""},{"$f":"IF(ISNA(VLOOKUP($A23,'Entry List'!$A$1:$F$61,E$5,FALSE)),\"\",VLOOKUP($A23,'Entry List'!$A$1:$F$61,E$5,FALSE))","v":""},null,"DNS",0,"DNS",0,"DNS",0,"DNS",0,"DNS",0,"DNS",0,"DNS",0,"DNS",0,"DNS",0,"DNS",0,"DNS",0,"DNS",0,"DNS",0,"DNS",0,"DNS",0,"DNS",0,"DNS",0,"DNS",0,"DNS",0,"DNS",0,"DNS",0,"DNS",0,"DNS",0,"DNS",0,"DNS",0,"DNS",0,"DNS",0,"DNS",0,"DNS",0,"DNS",0,"DNS",0,"DNS",0,"DNS",0,"DNS",0,"DNS",0,{"$f":"IF('Last Race Results'!$B$5=0,0,IF(ISNA(VLOOKUP($A23,'Last Race Results'!$A$5:$J$44,2,FALSE)),\"DNS\",VLOOKUP($A23,'Last Race Results'!$A$5:$J$44,2,FALSE)))","v":"DNS"},{"$f":"IF('Last Race Results'!$B$5=0,0,IF(ISNA(VLOOKUP($A23,'Last Race Results'!$A$5:$K$44,11,FALSE)),0,VLOOKUP($A23,'Last Race Results'!$A$5:$K$44,11,FALSE)))","v":0}]
[17,{"$f":"IF(ISNA(VLOOKUP($A24,'Entry List'!$A$1:$F$61,B$5,FALSE)),\"\",VLOOKUP($A24,'Entry List'!$A$1:$F$61,B$5,FALSE))","v":"Ricky Stenhouse Jr."},{"$f":"IF(ISNA(VLOOKUP($A24,'Entry List'!$A$1:$F$61,C$5,FALSE)),\"\",VLOOKUP($A24,'Entry List'!$A$1:$F$61,C$5,FALSE))","v":"Ford"},{"$f":"IF(ISNA(VLOOKUP($A24,'Entry List'!$A$1:$F$61,D$5,FALSE)),\"\",VLOOKUP($A24,'Entry List'!$A$1:$F$61,D$5,FALSE))","v":"Roush Fenway Racing"},{"$f":"IF(ISNA(VLOOKUP($A24,'Entry List'!$A$1:$F$61,E$5,FALSE)),\"\",VLOOKUP($A24,'Entry List'!$A$1:$F$61,E$5,FALSE))","v":"Roush Fenway Racing"},null,13,30,18,21,6,39,13,24,14,23,25,12,16,25,33,4,16,21,25,15,33,4,11,40,5,36,32,5,19,18,21,22,12,29,24,25,12,29,36,1,21,16,15,22,28,9,33,4,33,4,34,3,26,11,15,22,17,20,16,21,9,35,15,22,15,22,"DNS",0,19,18,{"$f":"IF('Last Race Results'!$B$5=0,0,IF(ISNA(VLOOKUP($A24,'Last Race Results'!$A$5:$J$44,2,FALSE)),\"DNS\",VLOOKUP($A24,'Last Race Results'!$A$5:$J$44,2,FALSE)))","v":19},{"$f":"IF('Last Race Results'!$B$5=0,0,IF(ISNA(VLOOKUP($A24,'Last Race Results'!$A$5:$K$44,11,FALSE)),0,VLOOKUP($A24,'Last Race Results'!$A$5:$K$44,11,FALSE)))","v":18}]
[18,{"$f":"IF(ISNA(VLOOKUP($A25,'Entry List'!$A$1:$F$61,B$5,FALSE)),\"\",VLOOKUP($A25,'Entry List'!$A$1:$F$61,B$5,FALSE))","v":"Kyle Busch"},{"$f":"IF(ISNA(VLOOKUP($A25,'Entry List'!$A$1:$F$61,C$5,FALSE)),\"\",VLOOKUP($A25,'Entry List'!$A$1:$F$61,C$5,FALSE))","v":"Toyota"},{"$f":"IF(ISNA(VLOOKUP($A25,'Entry List'!$A$1:$F$61,D$5,FALSE)),\"\",VLOOKUP($A25,'Entry List'!$A$1:$F$61,D$5,FALSE))","v":"Joe Gibbs Racing"},{"$f":"IF(ISNA(VLOOKUP($A25,'Entry List'!$A$1:$F$61,E$5,FALSE)),\"\",VLOOKUP($A25,'Entry List'!$A$1:$F$61,E$5,FALSE))","v":"Joe Gibbs Racing"},null,2,45,6,33,3,43,1,56,1,60,3,36,10,37,1,51,8,39,10,30,10,30,30,9,3,59,1,40,5,37,2,37,22,17,14,23,2,53,8,45,9,38,11,33,6,41,4,40,3,51,8,35,19,18,2,54,37,1,6,34,19,19,14,23,14,23,7,38,2,50,{"$f":"IF('Last Race Results'!$B$5=0,0,IF(ISNA(VLOOKUP($A25,'Last Race Results'!$A$5:$J$44,2,FALSE)),\"DNS\",VLOOKUP($A25,'Last Race Results'!$A$5:$J$44,2,FALSE)))","v":1},{"$f":"IF('Last Race Results'!$B$5=0,0,IF(ISNA(VLOOKUP($A25,'Last Race Results'!$A$5:$K$44,11,FALSE)),0,VLOOKUP($A25,'Last Race Results'!$A$5:$K$44,11,FALSE)))","v":40}]
[19,{"$f":"IF(ISNA(VLOOKUP($A26,'Entry List'!$A$1:$F$61,B$5,FALSE)),\"\",VLOOKUP($A26,'Entry List'!$A$1:$F$61,B$5,FALSE))","v":"Martin Truex Jr."},{"$f":"IF(ISNA(VLOOKUP($A26,'Entry List'!$A$1:$F$61,C$5,FALSE)),\"\",VLOOKUP($A26,'Entry List'!$A$1:$F$61,C$5,FALSE))","v":"Toyota"},{"$f":"IF(ISNA(VLOOKUP($A26,'Entry List'!$A$1:$F$61,D$5,FALSE)),\"\",VLOOKUP($A26,'Entry List'!$A$1:$F$61,D$5,FALSE))","v":"Joe Gibbs Racing"},{"$f":"IF(ISNA(VLOOKUP($A26,'Entry List'!$A$1:$F$61,E$5,FALSE)),\"\",VLOOKUP($A26,'Entry List'!$A$1:$F$61,E$5,FALSE))","v":"Joe Gibbs Racing"},null,35,2,2,49,8,41,2,42,8,29,8,38,12,29,17,22,1,57,20,17,1,50,19,18,1,52,35,4,3,47,1,44,9,38,22,16,19,18,6,36,3,47,2,52,4,52,13,33,15,24,18,24,1,53,1,59,7,34,2,54,26,11,1,60,1,60,6,31,6,36,{"$f":"IF('Last Race Results'!$B$5=0,0,IF(ISNA(VLOOKUP($A26,'Last Race Results'!$A$5:$J$44,2,FALSE)),\"DNS\",VLOOKUP($A26,'Last Race Results'!$A$5:$J$44,2,FALSE)))","v":2},{"$f":"IF('Last Race Results'!$B$5=0,0,IF(ISNA(VLOOKUP($A26,'Last Race Results'!$A$5:$K$44,11,FALSE)),0,VLOOKUP($A26,'Last Race Results'!$A$5:$K$44,11,FALSE)))","v":35}]
[20,{"$f":"IF(ISNA(VLOOKUP($A27,'Entry List'!$A$1:$F$61,B$5,FALSE)),\"\",VLOOKUP($A27,'Entry List'!$A$1:$F$61,B$5,FALSE))","v":"Erik Jones"},{"$f":"IF(ISNA(VLOOKUP($A27,'Entry List'!$A$1:$F$61,C$5,FALSE)),\"\",VLOOKUP($A27,'Entry List'!$A$1:$F$61,C$5,FALSE))","v":"Toyota"},{"$f":"IF(ISNA(VLOOKUP($A27,'Entry List'!$A$1:$F$61,D$5,FALSE)),\"\",VLOOKUP($A27,'Entry List'!$A$1:$F$61,D$5,FALSE))","v":"Joe Gibbs Racing"},{"$f":"IF(ISNA(VLOOKUP($A27,'Entry List'!$A$1:$F$61,E$5,FALSE)),\"\",VLOOKUP($A27,'Entry List'!$A$1:$F$61,E$5,FALSE))","v":"Joe Gibbs Racing"},null,3,35,7,33,13,30,29,8,19,27,30,7,4,33,24,13,14,23,19,18,6,34,3,44,40,1,3,34,31,14,8,29,7,30,23,14,3,43,3,43,2,43,4,39,18,25,22,23,1,48,2,44,36,1,38,1,"DNS",0,15,28,34,3,20,19,20,19,10,36,7,30,{"$f":"IF('Last Race Results'!$B$5=0,0,IF(ISNA(VLOOKUP($A27,'Last Race Results'!$A$5:$J$44,2,FALSE)),\"DNS\",VLOOKUP($A27,'Last Race Results'!$A$5:$J$44,2,FALSE)))","v":3},{"$f":"IF('Last Race Results'!$B$5=0,0,IF(ISNA(VLOOKUP($A27,'Last Race Results'!$A$5:$K$44,11,FALSE)),0,VLOOKUP($A27,'Last Race Results'!$A$5:$K$44,11,FALSE)))","v":37}]
[21,{"$f":"IF(ISNA(VLOOKUP($A28,'Entry List'!$A$1:$F$61,B$5,FALSE)),\"\",VLOOKUP($A28,'Entry List'!$A$1:$F$61,B$5,FALSE))","v":"Paul Menard"},{"$f":"IF(ISNA(VLOOKUP($A28,'Entry List'!$A$1:$F$61,C$5,FALSE)),\"\",VLOOKUP($A28,'Entry List'!$A$1:$F$61,C$5,FALSE))","v":"Ford"},{"$f":"IF(ISNA(VLOOKUP($A28,'Entry List'!$A$1:$F$61,D$5,FALSE)),\"\",VLOOKUP($A28,'Entry List'!$A$1:$F$61,D$5,FALSE))","v":"Wood Brothers Racing"},{"$f":"IF(ISNA(VLOOKUP($A28,'Entry List'!$A$1:$F$61,E$5,FALSE)),\"\",VLOOKUP($A28,'Entry List'!$A$1:$F$61,E$5,FALSE))","v":"Wood Brothers Racing"},null,29,8,14,23,15,22,17,20,20,17,15,22,19,29,6,34,10,30,16,21,17,20,24,13,14,23,18,20,13,26,22,17,21,16,16,21,11,29,13,26,18,19,18,19,15,23,23,14,9,28,9,31,14,23,27,10,16,23,12,29,16,21,21,16,21,16,20,17,12,29,{"$f":"IF('Last Race Results'!$B$5=0,0,IF(ISNA(VLOOKUP($A28,'Last Race Results'!$A$5:$J$44,2,FALSE)),\"DNS\",VLOOKUP($A28,'Last Race Results'!$A$5:$J$44,2,FALSE)))","v":17},{"$f":"IF('Last Race Results'!$B$5=0,0,IF(ISNA(VLOOKUP($A28,'Last Race Results'!$A$5:$K$44,11,FALSE)),0,VLOOKUP($A28,'Last Race Results'!$A$5:$K$44,11,FALSE)))","v":20}]
[22,{"$f":"IF(ISNA(VLOOKUP($A29,'Entry List'!$A$1:$F$61,B$5,FALSE)),\"\",VLOOKUP($A29,'Entry List'!$A$1:$F$61,B$5,FALSE))","v":"Joey Logano"},{"$f":"IF(ISNA(VLOOKUP($A29,'Entry List'!$A$1:$F$61,C$5,FALSE)),\"\",VLOOKUP($A29,'Entry List'!$A$1:$F$61,C$5,FALSE))","v":"Ford"},{"$f":"IF(ISNA(VLOOKUP($A29,'Entry List'!$A$1:$F$61,D$5,FALSE)),\"\",VLOOKUP($A29,'Entry List'!$A$1:$F$61,D$5,FALSE))","v":"Team Penske"},{"$f":"IF(ISNA(VLOOKUP($A29,'Entry List'!$A$1:$F$61,E$5,FALSE)),\"\",VLOOKUP($A29,'Entry List'!$A$1:$F$61,E$5,FALSE))","v":"Team Penske"},null,4,42,23,23,1,58,10,38,2,51,19,23,17,30,3,51,2,54,4,35,7,40,15,23,2,44,7,42,1,50,23,29,3,34,25,23,7,46,9,37,13,41,23,14,17,34,16,21,14,26,13,31,9,47,11,26,10,34,34,3,11,44,8,42,8,42,4,39,9,45,{"$f":"IF('Last Race Results'!$B$5=0,0,IF(ISNA(VLOOKUP($A29,'Last Race Results'!$A$5:$J$44,2,FALSE)),\"DNS\",VLOOKUP($A29,'Last Race Results'!$A$5:$J$44,2,FALSE)))","v":5},{"$f":"IF('Last Race Results'!$B$5=0,0,IF(ISNA(VLOOKUP($A29,'Last Race Results'!$A$5:$K$44,11,FALSE)),0,VLOOKUP($A29,'Last Race Results'!$A$5:$K$44,11,FALSE)))","v":36}]
[23,{"$f":"IF(ISNA(VLOOKUP($A30,'Entry List'!$A$1:$F$61,B$5,FALSE)),\"\",VLOOKUP($A30,'Entry List'!$A$1:$F$61,B$5,FALSE))","v":""},{"$f":"IF(ISNA(VLOOKUP($A30,'Entry List'!$A$1:$F$61,C$5,FALSE)),\"\",VLOOKUP($A30,'Entry List'!$A$1:$F$61,C$5,FALSE))","v":""},{"$f":"IF(ISNA(VLOOKUP($A30,'Entry List'!$A$1:$F$61,D$5,FALSE)),\"\",VLOOKUP($A30,'Entry List'!$A$1:$F$61,D$5,FALSE))","v":""},{"$f":"IF(ISNA(VLOOKUP($A30,'Entry List'!$A$1:$F$61,E$5,FALSE)),\"\",VLOOKUP($A30,'Entry List'!$A$1:$F$61,E$5,FALSE))","v":""},null,"DNS",0,"DNS",0,"DNS",0,"DNS",0,"DNS",0,"DNS",0,"DNS",0,"DNS",0,"DNS",0,"DNS",0,"DNS",0,"DNS",0,"DNS",0,"DNS",0,"DNS",0,"DNS",0,"DNS",0,"DNS",0,"DNS",0,"DNS",0,"DNS",0,"DNS",0,"DNS",0,"DNS",0,"DNS",0,29,8,"DNS",0,"DNS",0,"DNS",0,"DNS",0,"DNS",0,"DNS",0,"DNS",0,"DNS",0,"DNS",0,{"$f":"IF('Last Race Results'!$B$5=0,0,IF(ISNA(VLOOKUP($A30,'Last Race Results'!$A$5:$J$44,2,FALSE)),\"DNS\",VLOOKUP($A30,'Last Race Results'!$A$5:$J$44,2,FALSE)))","v":"DNS"},{"$f":"IF('Last Race Results'!$B$5=0,0,IF(ISNA(VLOOKUP($A30,'Last Race Results'!$A$5:$K$44,11,FALSE)),0,VLOOKUP($A30,'Last Race Results'!$A$5:$K$44,11,FALSE)))","v":0}]
[24,{"$f":"IF(ISNA(VLOOKUP($A31,'Entry List'!$A$1:$F$61,B$5,FALSE)),\"\",VLOOKUP($A31,'Entry List'!$A$1:$F$61,B$5,FALSE))","v":"William Byron"},{"$f":"IF(ISNA(VLOOKUP($A31,'Entry List'!$A$1:$F$61,C$5,FALSE)),\"\",VLOOKUP($A31,'Entry List'!$A$1:$F$61,C$5,FALSE))","v":"Chevrolet"},{"$f":"IF(ISNA(VLOOKUP($A31,'Entry List'!$A$1:$F$61,D$5,FALSE)),\"\",VLOOKUP($A31,'Entry List'!$A$1:$F$61,D$5,FALSE))","v":"Hendrick Motorsports"},{"$f":"IF(ISNA(VLOOKUP($A31,'Entry List'!$A$1:$F$61,E$5,FALSE)),\"\",VLOOKUP($A31,'Entry List'!$A$1:$F$61,E$5,FALSE))","v":"Hendrick Motorsports"},null,21,25,17,20,16,21,24,16,15,22,22,15,6,34,16,21,13,24,21,28,8,34,20,17,9,39,9,45,18,22,19,36,8,36,2,43,18,19,12,32,4,33,21,22,8,38,21,22,21,19,19,21,7,39,24,13,6,41,13,31,33,17,2,45,2,45,17,21,17,23,{"$f":"IF('Last Race Results'!$B$5=0,0,IF(ISNA(VLOOKUP($A31,'Last Race Results'!$A$5:$J$44,2,FALSE)),\"DNS\",VLOOKUP($A31,'Last Race Results'!$A$5:$J$44,2,FALSE)))","v":39},{"$f":"IF('Last Race Results'!$B$5=0,0,IF(ISNA(VLOOKUP($A31,'Last Race Results'!$A$5:$K$44,11,FALSE)),0,VLOOKUP($A31,'Last Race Results'!$A$5:$K$44,11,FALSE)))","v":1}]
[25,{"$f":"IF(ISNA(VLOOKUP($A32,'Entry List'!$A$1:$F$61,B$5,FALSE)),\"\",VLOOKUP($A32,'Entry List'!$A$1:$F$61,B$5,FALSE))","v":""},{"$f":"IF(ISNA(VLOOKUP($A32,'Entry List'!$A$1:$F$61,C$5,FALSE)),\"\",VLOOKUP($A32,'Entry List'!$A$1:$F$61,C$5,FALSE))","v":""},{"$f":"IF(ISNA(VLOOKUP($A32,'Entry List'!$A$1:$F$61,D$5,FALSE)),\"\",VLOOKUP($A32,'Entry List'!$A$1:$F$61,D$5,FALSE))","v":""},{"$f":"IF(ISNA(VLOOKUP($A32,'Entry List'!$A$1:$F$61,E$5,FALSE)),\"\",VLOOKUP($A32,'Entry List'!$A$1:$F$61,E$5,FALSE))","v":""},null,"DNS",0,"DNS",0,"DNS",0,"DNS",0,"DNS",0,"DNS",0,"DNS",0,"DNS",0,"DNS",0,"DNS",0,"DNS",0,"DNS",0,"DNS",0,"DNS",0,"DNS",0,"DNS",0,"DNS",0,"DNS",0,"DNS",0,"DNS",0,"DNS",0,"DNS",0,"DNS",0,"DNS",0,"DNS",0,"DNS",0,"DNS",0,"DNS",0,"DNS",0,"DNS",0,"DNS",0,"DNS",0,"DNS",0,"DNS",0,"DNS",0,{"$f":"IF('Last Race Results'!$B$5=0,0,IF(ISNA(VLOOKUP($A32,'Last Race Results'!$A$5:$J$44,2,FALSE)),\"DNS\",VLOOKUP($A32,'Last Race Results'!$A$5:$J$44,2,FALSE)))","v":"DNS"},{"$f":"IF('Last Race Results'!$B$5=0,0,IF(ISNA(VLOOKUP($A32,'Last Race Results'!$A$5:$K$44,11,FALSE)),0,VLOOKUP($A32,'Last Race Results'!$A$5:$K$44,11,FALSE)))","v":0}]
[26,{"$f":"IF(ISNA(VLOOKUP($A33,'Entry List'!$A$1:$F$61,B$5,FALSE)),\"\",VLOOKUP($A33,'Entry List'!$A$1:$F$61,B$5,FALSE))","v":""},{"$f":"IF(ISNA(VLOOKUP($A33,'Entry List'!$A$1:$F$61,C$5,FALSE)),\"\",VLOOKUP($A33,'Entry List'!$A$1:$F$61,C$5,FALSE))","v":""},{"$f":"IF(ISNA(VLOOKUP($A33,'Entry List'!$A$1:$F$61,D$5,FALSE)),\"\",VLOOKUP($A33,'Entry List'!$A$1:$F$61,D$5,FALSE))","v":""},{"$f":"IF(ISNA(VLOOKUP($A33,'Entry List'!$A$1:$F$61,E$5,FALSE)),\"\",VLOOKUP($A33,'Entry List'!$A$1:$F$61,E$5,FALSE))","v":""},null,"DNS",0,"DNS",0,"DNS",0,"DNS",0,"DNS",0,"DNS",0,"DNS",0,"DNS",0,"DNS",0,"DNS",0,"DNS",0,"DNS",0,"DNS",0,"DNS",0,"DNS",0,"DNS",0,"DNS",0,"DNS",0,"DNS",0,"DNS",0,"DNS",0,"DNS",0,"DNS",0,"DNS",0,"DNS",0,"DNS",0,"DNS",0,"DNS",0,"DNS",0,"DNS",0,"DNS",0,"DNS",0,"DNS",0,"DNS",0,"DNS",0,{"$f":"IF('Last Race Results'!$B$5=0,0,IF(ISNA(VLOOKUP($A33,'Last Race Results'!$A$5:$J$44,2,FALSE)),\"DNS\",VLOOKUP($A33,'Last Race Results'!$A$5:$J$44,2,FALSE)))","v":"DNS"},{"$f":"IF('Last Race Results'!$B$5=0,0,IF(ISNA(VLOOKUP($A33,'Last Race Results'!$A$5:$K$44,11,FALSE)),0,VLOOKUP($A33,'Last Race Results'!$A$5:$K$44,11,FALSE)))","v":0}]
[27,{"$f":"IF(ISNA(VLOOKUP($A34,'Entry List'!$A$1:$F$61,B$5,FALSE)),\"\",VLOOKUP($A34,'Entry List'!$A$1:$F$61,B$5,FALSE))","v":"Ross Chastain (i)"},{"$f":"IF(ISNA(VLOOKUP($A34,'Entry List'!$A$1:$F$61,C$5,FALSE)),\"\",VLOOKUP($A34,'Entry List'!$A$1:$F$61,C$5,FALSE))","v":"Chevrolet"},{"$f":"IF(ISNA(VLOOKUP($A34,'Entry List'!$A$1:$F$61,D$5,FALSE)),\"\",VLOOKUP($A34,'Entry List'!$A$1:$F$61,D$5,FALSE))","v":"Premium Motorsports"},{"$f":"IF(ISNA(VLOOKUP($A34,'Entry List'!$A$1:$F$61,E$5,FALSE)),\"\",VLOOKUP($A34,'Entry List'!$A$1:$F$61,E$5,FALSE))","v":"Premium Motorsports"},null,"DNS",0,"DNS",0,"DNS",0,"DNS",0,34,3,"DNS",0,34,3,"DNS",0,"DNS",0,18,19,35,2,35,2,30,7,28,9,"DNS",0,35,2,34,3,30,7,"DNS",0,27,10,32,5,"DNS",0,31,6,30,7,31,6,"DNS",0,34,3,35,2,31,6,30,7,22,15,33,4,33,4,31,6,34,3,{"$f":"IF('Last Race Results'!$B$5=0,0,IF(ISNA(VLOOKUP($A34,'Last Race Results'!$A$5:$J$44,2,FALSE)),\"DNS\",VLOOKUP($A34,'Last Race Results'!$A$5:$J$44,2,FALSE)))","v":35},{"$f":"IF('Last Race Results'!$B$5=0,0,IF(ISNA(VLOOKUP($A34,'Last Race Results'!$A$5:$K$44,11,FALSE)),0,VLOOKUP($A34,'Last Race Results'!$A$5:$K$44,11,FALSE)))","v":2}]
[28,{"$f":"IF(ISNA(VLOOKUP($A35,'Entry List'!$A$1:$F$61,B$5,FALSE)),\"\",VLOOKUP($A35,'Entry List'!$A$1:$F$61,B$5,FALSE))","v":""},{"$f":"IF(ISNA(VLOOKUP($A35,'Entry List'!$A$1:$F$61,C$5,FALSE)),\"\",VLOOKUP($A35,'Entry List'!$A$1:$F$61,C$5,FALSE))","v":""},{"$f":"IF(ISNA(VLOOKUP($A35,'Entry List'!$A$1:$F$61,D$5,FALSE)),\"\",VLOOKUP($A35,'Entry List'!$A$1:$F$61,D$5,FALSE))","v":""},{"$f":"IF(ISNA(VLOOKUP($A35,'Entry List'!$A$1:$F$61,E$5,FALSE)),\"\",VLOOKUP($A35,'Entry List'!$A$1:$F$61,E$5,FALSE))","v":""},null,"DNS",0,"DNS",0,"DNS",0,"DNS",0,"DNS",0,"DNS",0,"DNS",0,"DNS",0,"DNS",0,"DNS",0,"DNS",0,"DNS",0,"DNS",0,"DNS",0,"DNS",0,"DNS",0,"DNS",0,"DNS",0,"DNS",0,"DNS",0,"DNS",0,"DNS",0,"DNS",0,"DNS",0,"DNS",0,"DNS",0,"DNS",0,"DNS",0,"DNS",0,"DNS",0,"DNS",0,"DNS",0,"DNS",0,"DNS",0,"DNS",0,{"$f":"IF('Last Race Results'!$B$5=0,0,IF(ISNA(VLOOKUP($A35,'Last Race Results'!$A$5:$J$44,2,FALSE)),\"DNS\",VLOOKUP($A35,'Last Race Results'!$A$5:$J$44,2,FALSE)))","v":"DNS"},{"$f":"IF('Last Race Results'!$B$5=0,0,IF(ISNA(VLOOKUP($A35,'Last Race Results'!$A$5:$K$44,11,FALSE)),0,VLOOKUP($A35,'Last Race Results'!$A$5:$K$44,11,FALSE)))","v":0}]
[29,{"$f":"IF(ISNA(VLOOKUP($A36,'Entry List'!$A$1:$F$61,B$5,FALSE)),\"\",VLOOKUP($A36,'Entry List'!$A$1:$F$61,B$5,FALSE))","v":""},{"$f":"IF(ISNA(VLOOKUP($A36,'Entry List'!$A$1:$F$61,C$5,FALSE)),\"\",VLOOKUP($A36,'Entry List'!$A$1:$F$61,C$5,FALSE))","v":""},{"$f":"IF(ISNA(VLOOKUP($A36,'Entry List'!$A$1:$F$61,D$5,FALSE)),\"\",VLOOKUP($A36,'Entry List'!$A$1:$F$61,D$5,FALSE))","v":""},{"$f":"IF(ISNA(VLOOKUP($A36,'Entry List'!$A$1:$F$61,E$5,FALSE)),\"\",VLOOKUP($A36,'Entry List'!$A$1:$F$61,E$5,FALSE))","v":""},null,"DNS",0,"DNS",0,"DNS",0,"DNS",0,"DNS",0,"DNS",0,"DNS",0,"DNS",0,"DNS",0,"DNS",0,"DNS",0,"DNS",0,"DNS",0,"DNS",0,"DNS",0,"DNS",0,"DNS",0,"DNS",0,"DNS",0,"DNS",0,"DNS",0,"DNS",0,"DNS",0,"DNS",0,"DNS",0,"DNS",0,"DNS",0,"DNS",0,"DNS",0,"DNS",0,"DNS",0,"DNS",0,"DNS",0,"DNS",0,"DNS",0,{"$f":"IF('Last Race Results'!$B$5=0,0,IF(ISNA(VLOOKUP($A36,'Last Race Results'!$A$5:$J$44,2,FALSE)),\"DNS\",VLOOKUP($A36,'Last Race Results'!$A$5:$J$44,2,FALSE)))","v":"DNS"},{"$f":"IF('Last Race Results'!$B$5=0,0,IF(ISNA(VLOOKUP($A36,'Last Race Results'!$A$5:$K$44,11,FALSE)),0,VLOOKUP($A36,'Last Race Results'!$A$5:$K$44,11,FALSE)))","v":0}]
[30,{"$f":"IF(ISNA(VLOOKUP($A37,'Entry List'!$A$1:$F$61,B$5,FALSE)),\"\",VLOOKUP($A37,'Entry List'!$A$1:$F$61,B$5,FALSE))","v":""},{"$f":"IF(ISNA(VLOOKUP($A37,'Entry List'!$A$1:$F$61,C$5,FALSE)),\"\",VLOOKUP($A37,'Entry List'!$A$1:$F$61,C$5,FALSE))","v":""},{"$f":"IF(ISNA(VLOOKUP($A37,'Entry List'!$A$1:$F$61,D$5,FALSE)),\"\",VLOOKUP($A37,'Entry List'!$A$1:$F$61,D$5,FALSE))","v":""},{"$f":"IF(ISNA(VLOOKUP($A37,'Entry List'!$A$1:$F$61,E$5,FALSE)),\"\",VLOOKUP($A37,'Entry List'!$A$1:$F$61,E$5,FALSE))","v":""},null,"DNS",0,"DNS",0,"DNS",0,"DNS",0,"DNS",0,"DNS",0,"DNS",0,"DNS",0,"DNS",0,"DNS",0,"DNS",0,"DNS",0,"DNS",0,"DNS",0,"DNS",0,"DNS",0,"DNS",0,"DNS",0,"DNS",0,"DNS",0,"DNS",0,"DNS",0,"DNS",0,"DNS",0,"DNS",0,"DNS",0,"DNS",0,"DNS",0,"DNS",0,"DNS",0,"DNS",0,"DNS",0,"DNS",0,"DNS",0,"DNS",0,{"$f":"IF('Last Race Results'!$B$5=0,0,IF(ISNA(VLOOKUP($A37,'Last Race Results'!$A$5:$J$44,2,FALSE)),\"DNS\",VLOOKUP($A37,'Last Race Results'!$A$5:$J$44,2,FALSE)))","v":"DNS"},{"$f":"IF('Last Race Results'!$B$5=0,0,IF(ISNA(VLOOKUP($A37,'Last Race Results'!$A$5:$K$44,11,FALSE)),0,VLOOKUP($A37,'Last Race Results'!$A$5:$K$44,11,FALSE)))","v":0}]
[31,{"$f":"IF(ISNA(VLOOKUP($A38,'Entry List'!$A$1:$F$61,B$5,FALSE)),\"\",VLOOKUP($A38,'Entry List'!$A$1:$F$61,B$5,FALSE))","v":""},{"$f":"IF(ISNA(VLOOKUP($A38,'Entry List'!$A$1:$F$61,C$5,FALSE)),\"\",VLOOKUP($A38,'Entry List'!$A$1:$F$61,C$5,FALSE))","v":""},{"$f":"IF(ISNA(VLOOKUP($A38,'Entry List'!$A$1:$F$61,D$5,FALSE)),\"\",VLOOKUP($A38,'Entry List'!$A$1:$F$61,D$5,FALSE))","v":""},{"$f":"IF(ISNA(VLOOKUP($A38,'Entry List'!$A$1:$F$61,E$5,FALSE)),\"\",VLOOKUP($A38,'Entry List'!$A$1:$F$61,E$5,FALSE))","v":""},null,27,10,"DNS",0,"DNS",0,"DNS",0,"DNS",0,"DNS",0,"DNS",0,"DNS",0,"DNS",0,"DNS",0,"DNS",0,9,28,"DNS",0,"DNS",0,"DNS",0,"DNS",0,"DNS",0,"DNS",0,"DNS",0,"DNS",0,"DNS",0,"DNS",0,"DNS",0,"DNS",0,"DNS",0,10,29,"DNS",0,"DNS",0,"DNS",0,"DNS",0,"DNS",0,"DNS",0,"DNS",0,"DNS",0,"DNS",0,{"$f":"IF('Last Race Results'!$B$5=0,0,IF(ISNA(VLOOKUP($A38,'Last Race Results'!$A$5:$J$44,2,FALSE)),\"DNS\",VLOOKUP($A38,'Last Race Results'!$A$5:$J$44,2,FALSE)))","v":"DNS"},{"$f":"IF('Last Race Results'!$B$5=0,0,IF(ISNA(VLOOKUP($A38,'Last Race Results'!$A$5:$K$44,11,FALSE)),0,VLOOKUP($A38,'Last Race Results'!$A$5:$K$44,11,FALSE)))","v":0}]
[32,{"$f":"IF(ISNA(VLOOKUP($A39,'Entry List'!$A$1:$F$61,B$5,FALSE)),\"\",VLOOKUP($A39,'Entry List'!$A$1:$F$61,B$5,FALSE))","v":"Corey LaJoie"},{"$f":"IF(ISNA(VLOOKUP($A39,'Entry List'!$A$1:$F$61,C$5,FALSE)),\"\",VLOOKUP($A39,'Entry List'!$A$1:$F$61,C$5,FALSE))","v":"Ford"},{"$f":"IF(ISNA(VLOOKUP($A39,'Entry List'!$A$1:$F$61,D$5,FALSE)),\"\",VLOOKUP($A39,'Entry List'!$A$1:$F$61,D$5,FALSE))","v":"Go Fas Racing"},{"$f":"IF(ISNA(VLOOKUP($A39,'Entry List'!$A$1:$F$61,E$5,FALSE)),\"\",VLOOKUP($A39,'Entry List'!$A$1:$F$61,E$5,FALSE))","v":"Go Fas Racing"},null,18,19,29,8,27,10,26,11,31,6,33,4,28,9,34,3,26,11,11,26,29,8,22,15,12,29,"DNS",0,23,14,32,5,30,7,6,31,28,9,23,14,26,11,34,3,21,16,24,13,36,1,36,1,28,9,29,8,27,10,28,9,7,30,18,19,18,19,38,1,35,2,{"$f":"IF('Last Race Results'!$B$5=0,0,IF(ISNA(VLOOKUP($A39,'Last Race Results'!$A$5:$J$44,2,FALSE)),\"DNS\",VLOOKUP($A39,'Last Race Results'!$A$5:$J$44,2,FALSE)))","v":31},{"$f":"IF('Last Race Results'!$B$5=0,0,IF(ISNA(VLOOKUP($A39,'Last Race Results'!$A$5:$K$44,11,FALSE)),0,VLOOKUP($A39,'Last Race Results'!$A$5:$K$44,11,FALSE)))","v":6}]
[33,{"$f":"IF(ISNA(VLOOKUP($A40,'Entry List'!$A$1:$F$61,B$5,FALSE)),\"\",VLOOKUP($A40,'Entry List'!$A$1:$F$61,B$5,FALSE))","v":""},{"$f":"IF(ISNA(VLOOKUP($A40,'Entry List'!$A$1:$F$61,C$5,FALSE)),\"\",VLOOKUP($A40,'Entry List'!$A$1:$F$61,C$5,FALSE))","v":""},{"$f":"IF(ISNA(VLOOKUP($A40,'Entry List'!$A$1:$F$61,D$5,FALSE)),\"\",VLOOKUP($A40,'Entry List'!$A$1:$F$61,D$5,FALSE))","v":""},{"$f":"IF(ISNA(VLOOKUP($A40,'Entry List'!$A$1:$F$61,E$5,FALSE)),\"\",VLOOKUP($A40,'Entry List'!$A$1:$F$61,E$5,FALSE))","v":""},null,"DNS",0,"DNS",0,"DNS",0,"DNS",0,"DNS",0,"DNS",0,"DNS",0,"DNS",0,"DNS",0,"DNS",0,"DNS",0,"DNS",0,"DNS",0,"DNS",0,"DNS",0,"DNS",0,"DNS",0,"DNS",0,"DNS",0,"DNS",0,"DNS",0,"DNS",0,"DNS",0,"DNS",0,"DNS",0,"DNS",0,"DNS",0,"DNS",0,"DNS",0,"DNS",0,"DNS",0,"DNS",0,"DNS",0,"DNS",0,"DNS",0,{"$f":"IF('Last Race Results'!$B$5=0,0,IF(ISNA(VLOOKUP($A40,'Last Race Results'!$A$5:$J$44,2,FALSE)),\"DNS\",VLOOKUP($A40,'Last Race Results'!$A$5:$J$44,2,FALSE)))","v":"DNS"},{"$f":"IF('Last Race Results'!$B$5=0,0,IF(ISNA(VLOOKUP($A40,'Last Race Results'!$A$5:$K$44,11,FALSE)),0,VLOOKUP($A40,'Last Race Results'!$A$5:$K$44,11,FALSE)))","v":0}]
[34,{"$f":"IF(ISNA(VLOOKUP($A41,'Entry List'!$A$1:$F$61,B$5,FALSE)),\"\",VLOOKUP($A41,'Entry List'!$A$1:$F$61,B$5,FALSE))","v":"Michael McDowell"},{"$f":"IF(ISNA(VLOOKUP($A41,'Entry List'!$A$1:$F$61,C$5,FALSE)),\"\",VLOOKUP($A41,'Entry List'!$A$1:$F$61,C$5,FALSE))","v":"Ford"},{"$f":"IF(ISNA(VLOOKUP($A41,'Entry List'!$A$1:$F$61,D$5,FALSE)),\"\",VLOOKUP($A41,'Entry List'!$A$1:$F$61,D$5,FALSE))","v":"Front Row Motorsports"},{"$f":"IF(ISNA(VLOOKUP($A41,'Entry List'!$A$1:$F$61,E$5,FALSE)),\"\",VLOOKUP($A41,'Entry List'!$A$1:$F$61,E$5,FALSE))","v":"Front Row Motorsports"},null,5,32,37,1,30,7,36,1,24,13,31,6,15,24,28,9,36,1,40,1,24,13,26,11,22,15,20,17,27,10,25,12,20,25,13,24,25,12,17,20,25,12,16,21,22,15,37,1,38,1,17,20,24,13,21,16,12,29,24,13,5,32,23,14,23,14,25,12,30,7,{"$f":"IF('Last Race Results'!$B$5=0,0,IF(ISNA(VLOOKUP($A41,'Last Race Results'!$A$5:$J$44,2,FALSE)),\"DNS\",VLOOKUP($A41,'Last Race Results'!$A$5:$J$44,2,FALSE)))","v":26},{"$f":"IF('Last Race Results'!$B$5=0,0,IF(ISNA(VLOOKUP($A41,'Last Race Results'!$A$5:$K$44,11,FALSE)),0,VLOOKUP($A41,'Last Race Results'!$A$5:$K$44,11,FALSE)))","v":11}]
[35,{"$f":"IF(ISNA(VLOOKUP($A42,'Entry List'!$A$1:$F$61,B$5,FALSE)),\"\",VLOOKUP($A42,'Entry List'!$A$1:$F$61,B$5,FALSE))","v":""},{"$f":"IF(ISNA(VLOOKUP($A42,'Entry List'!$A$1:$F$61,C$5,FALSE)),\"\",VLOOKUP($A42,'Entry List'!$A$1:$F$61,C$5,FALSE))","v":""},{"$f":"IF(ISNA(VLOOKUP($A42,'Entry List'!$A$1:$F$61,D$5,FALSE)),\"\",VLOOKUP($A42,'Entry List'!$A$1:$F$61,D$5,FALSE))","v":""},{"$f":"IF(ISNA(VLOOKUP($A42,'Entry List'!$A$1:$F$61,E$5,FALSE)),\"\",VLOOKUP($A42,'Entry List'!$A$1:$F$61,E$5,FALSE))","v":""},null,"DNS",0,"DNS",0,"DNS",0,"DNS",0,"DNS",0,"DNS",0,"DNS",0,"DNS",0,"DNS",0,"DNS",0,"DNS",0,"DNS",0,"DNS",0,"DNS",0,"DNS",0,"DNS",0,"DNS",0,"DNS",0,"DNS",0,"DNS",0,"DNS",0,"DNS",0,"DNS",0,"DNS",0,"DNS",0,"DNS",0,"DNS",0,"DNS",0,"DNS",0,"DNS",0,"DNS",0,"DNS",0,"DNS",0,"DNS",0,"DNS",0,{"$f":"IF('Last Race Results'!$B$5=0,0,IF(ISNA(VLOOKUP($A42,'Last Race Results'!$A$5:$J$44,2,FALSE)),\"DNS\",VLOOKUP($A42,'Last Race Results'!$A$5:$J$44,2,FALSE)))","v":"DNS"},{"$f":"IF('Last Race Results'!$B$5=0,0,IF(ISNA(VLOOKUP($A42,'Last Race Results'!$A$5:$K$44,11,FALSE)),0,VLOOKUP($A42,'Last Race Results'!$A$5:$K$44,11,FALSE)))","v":0}]
[36,{"$f":"IF(ISNA(VLOOKUP($A43,'Entry List'!$A$1:$F$61,B$5,FALSE)),\"\",VLOOKUP($A43,'Entry List'!$A$1:$F$61,B$5,FALSE))","v":"John Hunter Nemechek (i)"},{"$f":"IF(ISNA(VLOOKUP($A43,'Entry List'!$A$1:$F$61,C$5,FALSE)),\"\",VLOOKUP($A43,'Entry List'!$A$1:$F$61,C$5,FALSE))","v":"Ford"},{"$f":"IF(ISNA(VLOOKUP($A43,'Entry List'!$A$1:$F$61,D$5,FALSE)),\"\",VLOOKUP($A43,'Entry List'!$A$1:$F$61,D$5,FALSE))","v":"Front Row Motorsports"},{"$f":"IF(ISNA(VLOOKUP($A43,'Entry List'!$A$1:$F$61,E$5,FALSE)),\"\",VLOOKUP($A43,'Entry List'!$A$1:$F$61,E$5,FALSE))","v":"Front Row Motorsports"},null,36,1,28,9,34,3,20,17,26,11,29,8,24,13,27,10,29,8,37,1,32,5,21,16,20,17,33,4,24,13,28,9,29,8,9,28,27,10,24,13,23,14,24,13,25,12,27,10,27,10,"DNS",0,30,7,20,17,25,12,25,12,13,24,25,12,25,12,21,16,27,10,{"$f":"IF('Last Race Results'!$B$5=0,0,IF(ISNA(VLOOKUP($A43,'Last Race Results'!$A$5:$J$44,2,FALSE)),\"DNS\",VLOOKUP($A43,'Last Race Results'!$A$5:$J$44,2,FALSE)))","v":23},{"$f":"IF('Last Race Results'!$B$5=0,0,IF(ISNA(VLOOKUP($A43,'Last Race Results'!$A$5:$K$44,11,FALSE)),0,VLOOKUP($A43,'Last Race Results'!$A$5:$K$44,11,FALSE)))","v":14}]
[37,{"$f":"IF(ISNA(VLOOKUP($A44,'Entry List'!$A$1:$F$61,B$5,FALSE)),\"\",VLOOKUP($A44,'Entry List'!$A$1:$F$61,B$5,FALSE))","v":"Chris Buescher"},{"$f":"IF(ISNA(VLOOKUP($A44,'Entry List'!$A$1:$F$61,C$5,FALSE)),\"\",VLOOKUP($A44,'Entry List'!$A$1:$F$61,C$5,FALSE))","v":"Chevrolet"},{"$f":"IF(ISNA(VLOOKUP($A44,'Entry List'!$A$1:$F$61,D$5,FALSE)),\"\",VLOOKUP($A44,'Entry List'!$A$1:$F$61,D$5,FALSE))","v":"JTG Daugherty Racing"},{"$f":"IF(ISNA(VLOOKUP($A44,'Entry List'!$A$1:$F$61,E$5,FALSE)),\"\",VLOOKUP($A44,'Entry List'!$A$1:$F$61,E$5,FALSE))","v":"JTG Daugherty Racing"},null,37,1,9,28,18,19,16,21,16,21,21,16,20,18,22,19,22,20,30,7,23,14,10,37,6,31,14,23,16,22,16,26,18,19,17,20,10,27,15,22,16,21,13,24,14,23,17,20,12,25,"DNS",0,18,19,31,6,18,19,36,1,20,21,12,29,12,29,19,18,16,21,{"$f":"IF('Last Race Results'!$B$5=0,0,IF(ISNA(VLOOKUP($A44,'Last Race Results'!$A$5:$J$44,2,FALSE)),\"DNS\",VLOOKUP($A44,'Last Race Results'!$A$5:$J$44,2,FALSE)))","v":16},{"$f":"IF('Last Race Results'!$B$5=0,0,IF(ISNA(VLOOKUP($A44,'Last Race Results'!$A$5:$K$44,11,FALSE)),0,VLOOKUP($A44,'Last Race Results'!$A$5:$K$44,11,FALSE)))","v":21}]
[38,{"$f":"IF(ISNA(VLOOKUP($A45,'Entry List'!$A$1:$F$61,B$5,FALSE)),\"\",VLOOKUP($A45,'Entry List'!$A$1:$F$61,B$5,FALSE))","v":"David Ragan"},{"$f":"IF(ISNA(VLOOKUP($A45,'Entry List'!$A$1:$F$61,C$5,FALSE)),\"\",VLOOKUP($A45,'Entry List'!$A$1:$F$61,C$5,FALSE))","v":"Ford"},{"$f":"IF(ISNA(VLOOKUP($A45,'Entry List'!$A$1:$F$61,D$5,FALSE)),\"\",VLOOKUP($A45,'Entry List'!$A$1:$F$61,D$5,FALSE))","v":"Front Row Motorsports"},{"$f":"IF(ISNA(VLOOKUP($A45,'Entry List'!$A$1:$F$61,E$5,FALSE)),\"\",VLOOKUP($A45,'Entry List'!$A$1:$F$61,E$5,FALSE))","v":"Front Row Motorsports"},null,30,7,16,21,28,9,25,12,25,12,26,11,25,12,21,16,28,9,23,14,26,11,27,10,15,22,30,7,34,3,20,17,23,14,38,1,29,8,34,3,36,1,22,15,16,21,36,1,26,11,24,13,22,15,19,18,35,2,27,10,29,8,11,26,11,26,35,2,36,1,{"$f":"IF('Last Race Results'!$B$5=0,0,IF(ISNA(VLOOKUP($A45,'Last Race Results'!$A$5:$J$44,2,FALSE)),\"DNS\",VLOOKUP($A45,'Last Race Results'!$A$5:$J$44,2,FALSE)))","v":27},{"$f":"IF('Last Race Results'!$B$5=0,0,IF(ISNA(VLOOKUP($A45,'Last Race Results'!$A$5:$K$44,11,FALSE)),0,VLOOKUP($A45,'Last Race Results'!$A$5:$K$44,11,FALSE)))","v":10}]
[39,{"$f":"IF(ISNA(VLOOKUP($A46,'Entry List'!$A$1:$F$61,B$5,FALSE)),\"\",VLOOKUP($A46,'Entry List'!$A$1:$F$61,B$5,FALSE))","v":""},{"$f":"IF(ISNA(VLOOKUP($A46,'Entry List'!$A$1:$F$61,C$5,FALSE)),\"\",VLOOKUP($A46,'Entry List'!$A$1:$F$61,C$5,FALSE))","v":""},{"$f":"IF(ISNA(VLOOKUP($A46,'Entry List'!$A$1:$F$61,D$5,FALSE)),\"\",VLOOKUP($A46,'Entry List'!$A$1:$F$61,D$5,FALSE))","v":""},{"$f":"IF(ISNA(VLOOKUP($A46,'Entry List'!$A$1:$F$61,E$5,FALSE)),\"\",VLOOKUP($A46,'Entry List'!$A$1:$F$61,E$5,FALSE))","v":""},null,"DNS",0,"DNS",0,"DNS",0,"DNS",0,"DNS",0,"DNS",0,"DNS",0,"DNS",0,"DNS",0,"DNS",0,"DNS",0,"DNS",0,"DNS",0,"DNS",0,"DNS",0,"DNS",0,"DNS",0,"DNS",0,"DNS",0,"DNS",0,"DNS",0,"DNS",0,"DNS",0,"DNS",0,"DNS",0,"DNS",0,"DNS",0,"DNS",0,"DNS",0,"DNS",0,"DNS",0,"DNS",0,"DNS",0,"DNS",0,"DNS",0,{"$f":"IF('Last Race Results'!$B$5=0,0,IF(ISNA(VLOOKUP($A46,'Last Race Results'!$A$5:$J$44,2,FALSE)),\"DNS\",VLOOKUP($A46,'Last Race Results'!$A$5:$J$44,2,FALSE)))","v":"DNS"},{"$f":"IF('Last Race Results'!$B$5=0,0,IF(ISNA(VLOOKUP($A46,'Last Race Results'!$A$5:$K$44,11,FALSE)),0,VLOOKUP($A46,'Last Race Results'!$A$5:$K$44,11,FALSE)))","v":0}]
[40,{"$f":"IF(ISNA(VLOOKUP($A47,'Entry List'!$A$1:$F$61,B$5,FALSE)),\"\",VLOOKUP($A47,'Entry List'!$A$1:$F$61,B$5,FALSE))","v":""},{"$f":"IF(ISNA(VLOOKUP($A47,'Entry List'!$A$1:$F$61,C$5,FALSE)),\"\",VLOOKUP($A47,'Entry List'!$A$1:$F$61,C$5,FALSE))","v":""},{"$f":"IF(ISNA(VLOOKUP($A47,'Entry List'!$A$1:$F$61,D$5,FALSE)),\"\",VLOOKUP($A47,'Entry List'!$A$1:$F$61,D$5,FALSE))","v":""},{"$f":"IF(ISNA(VLOOKUP($A47,'Entry List'!$A$1:$F$61,E$5,FALSE)),\"\",VLOOKUP($A47,'Entry List'!$A$1:$F$61,E$5,FALSE))","v":""},null,22,15,"DNS",0,"DNS",0,"DNS",0,"DNS",0,"DNS",0,"DNS",0,"DNS",0,"DNS",0,"DNS",0,"DNS",0,"DNS",0,"DNS",0,"DNS",0,"DNS",0,"DNS",0,"DNS",0,"DNS",0,"DNS",0,"DNS",0,"DNS",0,"DNS",0,"DNS",0,"DNS",0,"DNS",0,"DNS",0,"DNS",0,"DNS",0,"DNS",0,"DNS",0,"DNS",0,"DNS",0,"DNS",0,"DNS",0,"DNS",0,{"$f":"IF('Last Race Results'!$B$5=0,0,IF(ISNA(VLOOKUP($A47,'Last Race Results'!$A$5:$J$44,2,FALSE)),\"DNS\",VLOOKUP($A47,'Last Race Results'!$A$5:$J$44,2,FALSE)))","v":"DNS"},{"$f":"IF('Last Race Results'!$B$5=0,0,IF(ISNA(VLOOKUP($A47,'Last Race Results'!$A$5:$K$44,11,FALSE)),0,VLOOKUP($A47,'Last Race Results'!$A$5:$K$44,11,FALSE)))","v":0}]
[41,{"$f":"IF(ISNA(VLOOKUP($A48,'Entry List'!$A$1:$F$61,B$5,FALSE)),\"\",VLOOKUP($A48,'Entry List'!$A$1:$F$61,B$5,FALSE))","v":"Daniel Suárez"},{"$f":"IF(ISNA(VLOOKUP($A48,'Entry List'!$A$1:$F$61,C$5,FALSE)),\"\",VLOOKUP($A48,'Entry List'!$A$1:$F$61,C$5,FALSE))","v":"Ford"},{"$f":"IF(ISNA(VLOOKUP($A48,'Entry List'!$A$1:$F$61,D$5,FALSE)),\"\",VLOOKUP($A48,'Entry List'!$A$1:$F$61,D$5,FALSE))","v":"Stewart-Haas Racing"},{"$f":"IF(ISNA(VLOOKUP($A48,'Entry List'!$A$1:$F$61,E$5,FALSE)),\"\",VLOOKUP($A48,'Entry List'!$A$1:$F$61,E$5,FALSE))","v":"Stewart-Haas Racing"},null,33,14,10,27,17,22,23,14,13,28,10,29,3,46,8,30,18,25,12,29,11,26,14,23,18,19,8,34,4,33,17,20,24,13,40,6,8,29,19,18,24,13,17,20,5,32,8,38,11,26,6,46,20,24,9,28,34,7,14,23,32,14,31,7,31,7,3,37,15,22,{"$f":"IF('Last Race Results'!$B$5=0,0,IF(ISNA(VLOOKUP($A48,'Last Race Results'!$A$5:$J$44,2,FALSE)),\"DNS\",VLOOKUP($A48,'Last Race Results'!$A$5:$J$44,2,FALSE)))","v":14},{"$f":"IF('Last Race Results'!$B$5=0,0,IF(ISNA(VLOOKUP($A48,'Last Race Results'!$A$5:$K$44,11,FALSE)),0,VLOOKUP($A48,'Last Race Results'!$A$5:$K$44,11,FALSE)))","v":23}]
[42,{"$f":"IF(ISNA(VLOOKUP($A49,'Entry List'!$A$1:$F$61,B$5,FALSE)),\"\",VLOOKUP($A49,'Entry List'!$A$1:$F$61,B$5,FALSE))","v":"Kyle Larson"},{"$f":"IF(ISNA(VLOOKUP($A49,'Entry List'!$A$1:$F$61,C$5,FALSE)),\"\",VLOOKUP($A49,'Entry List'!$A$1:$F$61,C$5,FALSE))","v":"Chevrolet"},{"$f":"IF(ISNA(VLOOKUP($A49,'Entry List'!$A$1:$F$61,D$5,FALSE)),\"\",VLOOKUP($A49,'Entry List'!$A$1:$F$61,D$5,FALSE))","v":"Chip Ganassi Racing"},{"$f":"IF(ISNA(VLOOKUP($A49,'Entry List'!$A$1:$F$61,E$5,FALSE)),\"\",VLOOKUP($A49,'Entry List'!$A$1:$F$61,E$5,FALSE))","v":"Chip Ganassi Racing"},null,7,33,12,29,12,29,6,36,12,29,18,19,"DNS",0,19,18,37,1,24,17,3,46,8,37,33,7,26,31,14,23,10,39,2,43,20,22,4,38,33,4,5,38,8,33,3,34,6,41,2,49,14,23,8,39,6,32,13,34,1,57,39,6,9,37,9,37,12,29,4,42,{"$f":"IF('Last Race Results'!$B$5=0,0,IF(ISNA(VLOOKUP($A49,'Last Race Results'!$A$5:$J$44,2,FALSE)),\"DNS\",VLOOKUP($A49,'Last Race Results'!$A$5:$J$44,2,FALSE)))","v":"DNS"},{"$f":"IF('Last Race Results'!$B$5=0,0,IF(ISNA(VLOOKUP($A49,'Last Race Results'!$A$5:$K$44,11,FALSE)),0,VLOOKUP($A49,'Last Race Results'!$A$5:$K$44,11,FALSE)))","v":0}]
[43,{"$f":"IF(ISNA(VLOOKUP($A50,'Entry List'!$A$1:$F$61,B$5,FALSE)),\"\",VLOOKUP($A50,'Entry List'!$A$1:$F$61,B$5,FALSE))","v":"Darrell Wallace Jr."},{"$f":"IF(ISNA(VLOOKUP($A50,'Entry List'!$A$1:$F$61,C$5,FALSE)),\"\",VLOOKUP($A50,'Entry List'!$A$1:$F$61,C$5,FALSE))","v":"Chevrolet"},{"$f":"IF(ISNA(VLOOKUP($A50,'Entry List'!$A$1:$F$61,D$5,FALSE)),\"\",VLOOKUP($A50,'Entry List'!$A$1:$F$61,D$5,FALSE))","v":"Richard Petty Motorsports"},{"$f":"IF(ISNA(VLOOKUP($A50,'Entry List'!$A$1:$F$61,E$5,FALSE)),\"\",VLOOKUP($A50,'Entry List'!$A$1:$F$61,E$5,FALSE))","v":"Richard Petty Motorsports"},null,38,1,27,10,26,11,22,15,30,7,17,20,23,14,20,17,27,10,39,1,27,10,29,8,25,12,21,20,28,9,26,12,25,12,15,24,23,14,22,15,22,15,28,9,27,10,14,23,24,13,38,1,23,14,12,29,24,13,20,17,24,13,13,24,13,24,24,13,25,12,{"$f":"IF('Last Race Results'!$B$5=0,0,IF(ISNA(VLOOKUP($A50,'Last Race Results'!$A$5:$J$44,2,FALSE)),\"DNS\",VLOOKUP($A50,'Last Race Results'!$A$5:$J$44,2,FALSE)))","v":34},{"$f":"IF('Last Race Results'!$B$5=0,0,IF(ISNA(VLOOKUP($A50,'Last Race Results'!$A$5:$K$44,11,FALSE)),0,VLOOKUP($A50,'Last Race Results'!$A$5:$K$44,11,FALSE)))","v":3}]
[44,{"$f":"IF(ISNA(VLOOKUP($A51,'Entry List'!$A$1:$F$61,B$5,FALSE)),\"\",VLOOKUP($A51,'Entry List'!$A$1:$F$61,B$5,FALSE))","v":""},{"$f":"IF(ISNA(VLOOKUP($A51,'Entry List'!$A$1:$F$61,C$5,FALSE)),\"\",VLOOKUP($A51,'Entry List'!$A$1:$F$61,C$5,FALSE))","v":""},{"$f":"IF(ISNA(VLOOKUP($A51,'Entry List'!$A$1:$F$61,D$5,FALSE)),\"\",VLOOKUP($A51,'Entry List'!$A$1:$F$61,D$5,FALSE))","v":""},{"$f":"IF(ISNA(VLOOKUP($A51,'Entry List'!$A$1:$F$61,E$5,FALSE)),\"\",VLOOKUP($A51,'Entry List'!$A$1:$F$61,E$5,FALSE))","v":""},null,"DNS",0,"DNS",0,"DNS",0,"DNS",0,"DNS",0,"DNS",0,"DNS",0,"DNS",0,"DNS",0,"DNS",0,"DNS",0,"DNS",0,"DNS",0,"DNS",0,"DNS",0,"DNS",0,"DNS",0,"DNS",0,"DNS",0,"DNS",0,"DNS",0,"DNS",0,"DNS",0,"DNS",0,"DNS",0,"DNS",0,"DNS",0,"DNS",0,"DNS",0,"DNS",0,"DNS",0,"DNS",0,"DNS",0,"DNS",0,"DNS",0,{"$f":"IF('Last Race Results'!$B$5=0,0,IF(ISNA(VLOOKUP($A51,'Last Race Results'!$A$5:$J$44,2,FALSE)),\"DNS\",VLOOKUP($A51,'Last Race Results'!$A$5:$J$44,2,FALSE)))","v":"DNS"},{"$f":"IF('Last Race Results'!$B$5=0,0,IF(ISNA(VLOOKUP($A51,'Last Race Results'!$A$5:$K$44,11,FALSE)),0,VLOOKUP($A51,'Last Race Results'!$A$5:$K$44,11,FALSE)))","v":0}]
[45,{"$f":"IF(ISNA(VLOOKUP($A52,'Entry List'!$A$1:$F$61,B$5,FALSE)),\"\",VLOOKUP($A52,'Entry List'!$A$1:$F$61,B$5,FALSE))","v":""},{"$f":"IF(ISNA(VLOOKUP($A52,'Entry List'!$A$1:$F$61,C$5,FALSE)),\"\",VLOOKUP($A52,'Entry List'!$A$1:$F$61,C$5,FALSE))","v":""},{"$f":"IF(ISNA(VLOOKUP($A52,'Entry List'!$A$1:$F$61,D$5,FALSE)),\"\",VLOOKUP($A52,'Entry List'!$A$1:$F$61,D$5,FALSE))","v":""},{"$f":"IF(ISNA(VLOOKUP($A52,'Entry List'!$A$1:$F$61,E$5,FALSE)),\"\",VLOOKUP($A52,'Entry List'!$A$1:$F$61,E$5,FALSE))","v":""},null,"DNS",0,"DNS",0,"DNS",0,"DNS",0,"DNS",0,"DNS",0,"DNS",0,"DNS",0,"DNS",0,"DNS",0,"DNS",0,"DNS",0,"DNS",0,"DNS",0,"DNS",0,"DNS",0,"DNS",0,"DNS",0,"DNS",0,"DNS",0,"DNS",0,"DNS",0,"DNS",0,"DNS",0,"DNS",0,"DNS",0,"DNS",0,"DNS",0,"DNS",0,"DNS",0,"DNS",0,"DNS",0,"DNS",0,"DNS",0,"DNS",0,{"$f":"IF('Last Race Results'!$B$5=0,0,IF(ISNA(VLOOKUP($A52,'Last Race Results'!$A$5:$J$44,2,FALSE)),\"DNS\",VLOOKUP($A52,'Last Race Results'!$A$5:$J$44,2,FALSE)))","v":"DNS"},{"$f":"IF('Last Race Results'!$B$5=0,0,IF(ISNA(VLOOKUP($A52,'Last Race Results'!$A$5:$K$44,11,FALSE)),0,VLOOKUP($A52,'Last Race Results'!$A$5:$K$44,11,FALSE)))","v":0}]
[46,{"$f":"IF(ISNA(VLOOKUP($A53,'Entry List'!$A$1:$F$61,B$5,FALSE)),\"\",VLOOKUP($A53,'Entry List'!$A$1:$F$61,B$5,FALSE))","v":""},{"$f":"IF(ISNA(VLOOKUP($A53,'Entry List'!$A$1:$F$61,C$5,FALSE)),\"\",VLOOKUP($A53,'Entry List'!$A$1:$F$61,C$5,FALSE))","v":""},{"$f":"IF(ISNA(VLOOKUP($A53,'Entry List'!$A$1:$F$61,D$5,FALSE)),\"\",VLOOKUP($A53,'Entry List'!$A$1:$F$61,D$5,FALSE))","v":""},{"$f":"IF(ISNA(VLOOKUP($A53,'Entry List'!$A$1:$F$61,E$5,FALSE)),\"\",VLOOKUP($A53,'Entry List'!$A$1:$F$61,E$5,FALSE))","v":""},null,"DNS",0,"DNS",0,"DNS",0,"DNS",0,"DNS",0,"DNS",0,"DNS",0,"DNS",0,"DNS",0,"DNS",0,"DNS",0,38,1,"DNS",0,"DNS",0,"DNS",0,"DNS",0,"DNS",0,"DNS",0,"DNS",0,"DNS",0,"DNS",0,"DNS",0,"DNS",0,"DNS",0,"DNS",0,"DNS",0,"DNS",0,"DNS",0,"DNS",0,"DNS",0,"DNS",0,"DNS",0,"DNS",0,"DNS",0,"DNS",0,{"$f":"IF('Last Race Results'!$B$5=0,0,IF(ISNA(VLOOKUP($A53,'Last Race Results'!$A$5:$J$44,2,FALSE)),\"DNS\",VLOOKUP($A53,'Last Race Results'!$A$5:$J$44,2,FALSE)))","v":"DNS"},{"$f":"IF('Last Race Results'!$B$5=0,0,IF(ISNA(VLOOKUP($A53,'Last Race Results'!$A$5:$K$44,11,FALSE)),0,VLOOKUP($A53,'Last Race Results'!$A$5:$K$44,11,FALSE)))","v":0}]
[47,{"$f":"IF(ISNA(VLOOKUP($A54,'Entry List'!$A$1:$F$61,B$5,FALSE)),\"\",VLOOKUP($A54,'Entry List'!$A$1:$F$61,B$5,FALSE))","v":"Ryan Preece (R)"},{"$f":"IF(ISNA(VLOOKUP($A54,'Entry List'!$A$1:$F$61,C$5,FALSE)),\"\",VLOOKUP($A54,'Entry List'!$A$1:$F$61,C$5,FALSE))","v":"Chevrolet"},{"$f":"IF(ISNA(VLOOKUP($A54,'Entry List'!$A$1:$F$61,D$5,FALSE)),\"\",VLOOKUP($A54,'Entry List'!$A$1:$F$61,D$5,FALSE))","v":"JTG Daugherty Racing"},{"$f":"IF(ISNA(VLOOKUP($A54,'Entry List'!$A$1:$F$61,E$5,FALSE)),\"\",VLOOKUP($A54,'Entry List'!$A$1:$F$61,E$5,FALSE))","v":"JTG Daugherty Racing"},null,8,29,35,2,25,12,34,3,23,14,16,21,22,15,25,12,20,17,3,34,28,9,25,12,31,6,23,14,25,12,29,8,28,9,32,5,21,16,21,16,37,1,36,1,7,30,18,19,22,15,37,1,27,10,30,7,21,16,19,18,18,19,19,18,19,18,23,17,26,11,{"$f":"IF('Last Race Results'!$B$5=0,0,IF(ISNA(VLOOKUP($A54,'Last Race Results'!$A$5:$J$44,2,FALSE)),\"DNS\",VLOOKUP($A54,'Last Race Results'!$A$5:$J$44,2,FALSE)))","v":25},{"$f":"IF('Last Race Results'!$B$5=0,0,IF(ISNA(VLOOKUP($A54,'Last Race Results'!$A$5:$K$44,11,FALSE)),0,VLOOKUP($A54,'Last Race Results'!$A$5:$K$44,11,FALSE)))","v":12}]
[48,{"$f":"IF(ISNA(VLOOKUP($A55,'Entry List'!$A$1:$F$61,B$5,FALSE)),\"\",VLOOKUP($A55,'Entry List'!$A$1:$F$61,B$5,FALSE))","v":"Jimmie Johnson"},{"$f":"IF(ISNA(VLOOKUP($A55,'Entry List'!$A$1:$F$61,C$5,FALSE)),\"\",VLOOKUP($A55,'Entry List'!$A$1:$F$61,C$5,FALSE))","v":"Chevrolet"},{"$f":"IF(ISNA(VLOOKUP($A55,'Entry List'!$A$1:$F$61,D$5,FALSE)),\"\",VLOOKUP($A55,'Entry List'!$A$1:$F$61,D$5,FALSE))","v":"Hendrick Motorsports"},{"$f":"IF(ISNA(VLOOKUP($A55,'Entry List'!$A$1:$F$61,E$5,FALSE)),\"\",VLOOKUP($A55,'Entry List'!$A$1:$F$61,E$5,FALSE))","v":"Hendrick Motorsports"},null,9,30,24,13,19,19,8,33,17,23,24,13,5,42,10,33,12,29,33,4,14,23,6,31,8,32,19,18,15,22,12,29,4,46,3,38,30,7,30,7,15,32,19,18,34,3,19,18,16,34,16,22,11,26,10,31,9,35,8,39,38,5,38,1,38,1,34,11,14,23,{"$f":"IF('Last Race Results'!$B$5=0,0,IF(ISNA(VLOOKUP($A55,'Last Race Results'!$A$5:$J$44,2,FALSE)),\"DNS\",VLOOKUP($A55,'Last Race Results'!$A$5:$J$44,2,FALSE)))","v":13},{"$f":"IF('Last Race Results'!$B$5=0,0,IF(ISNA(VLOOKUP($A55,'Last Race Results'!$A$5:$K$44,11,FALSE)),0,VLOOKUP($A55,'Last Race Results'!$A$5:$K$44,11,FALSE)))","v":28}]
[49,{"$f":"IF(ISNA(VLOOKUP($A56,'Entry List'!$A$1:$F$61,B$5,FALSE)),\"\",VLOOKUP($A56,'Entry List'!$A$1:$F$61,B$5,FALSE))","v":""},{"$f":"IF(ISNA(VLOOKUP($A56,'Entry List'!$A$1:$F$61,C$5,FALSE)),\"\",VLOOKUP($A56,'Entry List'!$A$1:$F$61,C$5,FALSE))","v":""},{"$f":"IF(ISNA(VLOOKUP($A56,'Entry List'!$A$1:$F$61,D$5,FALSE)),\"\",VLOOKUP($A56,'Entry List'!$A$1:$F$61,D$5,FALSE))","v":""},{"$f":"IF(ISNA(VLOOKUP($A56,'Entry List'!$A$1:$F$61,E$5,FALSE)),\"\",VLOOKUP($A56,'Entry List'!$A$1:$F$61,E$5,FALSE))","v":""},null,"DNS",0,"DNS",0,"DNS",0,"DNS",0,"DNS",0,"DNS",0,"DNS",0,"DNS",0,"DNS",0,"DNS",0,"DNS",0,"DNS",0,"DNS",0,"DNS",0,"DNS",0,"DNS",0,"DNS",0,"DNS",0,"DNS",0,"DNS",0,"DNS",0,"DNS",0,"DNS",0,"DNS",0,"DNS",0,"DNS",0,"DNS",0,"DNS",0,"DNS",0,"DNS",0,"DNS",0,"DNS",0,"DNS",0,"DNS",0,"DNS",0,{"$f":"IF('Last Race Results'!$B$5=0,0,IF(ISNA(VLOOKUP($A56,'Last Race Results'!$A$5:$J$44,2,FALSE)),\"DNS\",VLOOKUP($A56,'Last Race Results'!$A$5:$J$44,2,FALSE)))","v":"DNS"},{"$f":"IF('Last Race Results'!$B$5=0,0,IF(ISNA(VLOOKUP($A56,'Last Race Results'!$A$5:$K$44,11,FALSE)),0,VLOOKUP($A56,'Last Race Results'!$A$5:$K$44,11,FALSE)))","v":0}]
[50,{"$f":"IF(ISNA(VLOOKUP($A57,'Entry List'!$A$1:$F$61,B$5,FALSE)),\"\",VLOOKUP($A57,'Entry List'!$A$1:$F$61,B$5,FALSE))","v":""},{"$f":"IF(ISNA(VLOOKUP($A57,'Entry List'!$A$1:$F$61,C$5,FALSE)),\"\",VLOOKUP($A57,'Entry List'!$A$1:$F$61,C$5,FALSE))","v":""},{"$f":"IF(ISNA(VLOOKUP($A57,'Entry List'!$A$1:$F$61,D$5,FALSE)),\"\",VLOOKUP($A57,'Entry List'!$A$1:$F$61,D$5,FALSE))","v":""},{"$f":"IF(ISNA(VLOOKUP($A57,'Entry List'!$A$1:$F$61,E$5,FALSE)),\"\",VLOOKUP($A57,'Entry List'!$A$1:$F$61,E$5,FALSE))","v":""},null,"DNS",0,"DNS",0,"DNS",0,"DNS",0,"DNS",0,"DNS",0,"DNS",0,"DNS",0,"DNS",0,"DNS",0,"DNS",0,"DNS",0,"DNS",0,"DNS",0,"DNS",0,"DNS",0,"DNS",0,"DNS",0,"DNS",0,"DNS",0,"DNS",0,"DNS",0,"DNS",0,"DNS",0,"DNS",0,"DNS",0,"DNS",0,"DNS",0,"DNS",0,"DNS",0,"DNS",0,"DNS",0,"DNS",0,"DNS",0,"DNS",0,{"$f":"IF('Last Race Results'!$B$5=0,0,IF(ISNA(VLOOKUP($A57,'Last Race Results'!$A$5:$J$44,2,FALSE)),\"DNS\",VLOOKUP($A57,'Last Race Results'!$A$5:$J$44,2,FALSE)))","v":"DNS"},{"$f":"IF('Last Race Results'!$B$5=0,0,IF(ISNA(VLOOKUP($A57,'Last Race Results'!$A$5:$K$44,11,FALSE)),0,VLOOKUP($A57,'Last Race Results'!$A$5:$K$44,11,FALSE)))","v":0}]
[51,{"$f":"IF(ISNA(VLOOKUP($A58,'Entry List'!$A$1:$F$61,B$5,FALSE)),\"\",VLOOKUP($A58,'Entry List'!$A$1:$F$61,B$5,FALSE))","v":"J. J. Yeley (i)"},{"$f":"IF(ISNA(VLOOKUP($A58,'Entry List'!$A$1:$F$61,C$5,FALSE)),\"\",VLOOKUP($A58,'Entry List'!$A$1:$F$61,C$5,FALSE))","v":"Ford"},{"$f":"IF(ISNA(VLOOKUP($A58,'Entry List'!$A$1:$F$61,D$5,FALSE)),\"\",VLOOKUP($A58,'Entry List'!$A$1:$F$61,D$5,FALSE))","v":"Petty Ware Racing"},{"$f":"IF(ISNA(VLOOKUP($A58,'Entry List'!$A$1:$F$61,E$5,FALSE)),\"\",VLOOKUP($A58,'Entry List'!$A$1:$F$61,E$5,FALSE))","v":"Petty Ware Racing"},null,19,18,33,4,35,2,32,5,32,5,36,1,31,6,36,1,31,6,28,9,34,3,40,1,38,1,25,12,36,1,38,1,36,1,28,9,33,4,28,9,33,4,33,4,36,1,32,5,39,1,39,1,33,4,32,5,29,8,29,8,35,2,27,10,27,10,30,7,31,6,{"$f":"IF('Last Race Results'!$B$5=0,0,IF(ISNA(VLOOKUP($A58,'Last Race Results'!$A$5:$J$44,2,FALSE)),\"DNS\",VLOOKUP($A58,'Last Race Results'!$A$5:$J$44,2,FALSE)))","v":30},{"$f":"IF('Last Race Results'!$B$5=0,0,IF(ISNA(VLOOKUP($A58,'Last Race Results'!$A$5:$K$44,11,FALSE)),0,VLOOKUP($A58,'Last Race Results'!$A$5:$K$44,11,FALSE)))","v":7}]
[52,{"$f":"IF(ISNA(VLOOKUP($A59,'Entry List'!$A$1:$F$61,B$5,FALSE)),\"\",VLOOKUP($A59,'Entry List'!$A$1:$F$61,B$5,FALSE))","v":"Josh Bilicki (i)"},{"$f":"IF(ISNA(VLOOKUP($A59,'Entry List'!$A$1:$F$61,C$5,FALSE)),\"\",VLOOKUP($A59,'Entry List'!$A$1:$F$61,C$5,FALSE))","v":"Ford"},{"$f":"IF(ISNA(VLOOKUP($A59,'Entry List'!$A$1:$F$61,D$5,FALSE)),\"\",VLOOKUP($A59,'Entry List'!$A$1:$F$61,D$5,FALSE))","v":"Rick Ware Racing"},{"$f":"IF(ISNA(VLOOKUP($A59,'Entry List'!$A$1:$F$61,E$5,FALSE)),\"\",VLOOKUP($A59,'Entry List'!$A$1:$F$61,E$5,FALSE))","v":"Rick Ware Racing"},null,39,1,32,5,37,1,31,6,37,1,35,2,35,2,31,6,32,5,35,2,37,1,33,4,35,2,34,3,33,4,36,1,32,5,12,29,36,1,35,2,34,3,32,5,32,5,31,6,32,5,30,7,35,2,33,4,36,1,32,5,"DNS",0,32,5,32,5,36,1,32,5,{"$f":"IF('Last Race Results'!$B$5=0,0,IF(ISNA(VLOOKUP($A59,'Last Race Results'!$A$5:$J$44,2,FALSE)),\"DNS\",VLOOKUP($A59,'Last Race Results'!$A$5:$J$44,2,FALSE)))","v":36},{"$f":"IF('Last Race Results'!$B$5=0,0,IF(ISNA(VLOOKUP($A59,'Last Race Results'!$A$5:$K$44,11,FALSE)),0,VLOOKUP($A59,'Last Race Results'!$A$5:$K$44,11,FALSE)))","v":1}]
[53,{"$f":"IF(ISNA(VLOOKUP($A60,'Entry List'!$A$1:$F$61,B$5,FALSE)),\"\",VLOOKUP($A60,'Entry List'!$A$1:$F$61,B$5,FALSE))","v":"B. J. McLeod (i)"},{"$f":"IF(ISNA(VLOOKUP($A60,'Entry List'!$A$1:$F$61,C$5,FALSE)),\"\",VLOOKUP($A60,'Entry List'!$A$1:$F$61,C$5,FALSE))","v":"Chevrolet"},{"$f":"IF(ISNA(VLOOKUP($A60,'Entry List'!$A$1:$F$61,D$5,FALSE)),\"\",VLOOKUP($A60,'Entry List'!$A$1:$F$61,D$5,FALSE))","v":"Rick Ware Racing"},{"$f":"IF(ISNA(VLOOKUP($A60,'Entry List'!$A$1:$F$61,E$5,FALSE)),\"\",VLOOKUP($A60,'Entry List'!$A$1:$F$61,E$5,FALSE))","v":"Rick Ware Racing"},null,"DNS",0,"DNS",0,"DNS",0,"DNS",0,"DNS",0,"DNS",0,"DNS",0,"DNS",0,"DNS",0,"DNS",0,"DNS",0,"DNS",0,29,8,"DNS",0,"DNS",0,"DNS",0,33,4,27,10,"DNS",0,"DNS",0,35,2,"DNS",0,38,1,35,2,"DNS",0,"DNS",0,32,5,34,3,38,1,"DNS",0,"DNS",0,28,9,28,9,26,11,29,8,{"$f":"IF('Last Race Results'!$B$5=0,0,IF(ISNA(VLOOKUP($A60,'Last Race Results'!$A$5:$J$44,2,FALSE)),\"DNS\",VLOOKUP($A60,'Last Race Results'!$A$5:$J$44,2,FALSE)))","v":32},{"$f":"IF('Last Race Results'!$B$5=0,0,IF(ISNA(VLOOKUP($A60,'Last Race Results'!$A$5:$K$44,11,FALSE)),0,VLOOKUP($A60,'Last Race Results'!$A$5:$K$44,11,FALSE)))","v":5}]
[54,{"$f":"IF(ISNA(VLOOKUP($A61,'Entry List'!$A$1:$F$61,B$5,FALSE)),\"\",VLOOKUP($A61,'Entry List'!$A$1:$F$61,B$5,FALSE))","v":""},{"$f":"IF(ISNA(VLOOKUP($A61,'Entry List'!$A$1:$F$61,C$5,FALSE)),\"\",VLOOKUP($A61,'Entry List'!$A$1:$F$61,C$5,FALSE))","v":""},{"$f":"IF(ISNA(VLOOKUP($A61,'Entry List'!$A$1:$F$61,D$5,FALSE)),\"\",VLOOKUP($A61,'Entry List'!$A$1:$F$61,D$5,FALSE))","v":""},{"$f":"IF(ISNA(VLOOKUP($A61,'Entry List'!$A$1:$F$61,E$5,FALSE)),\"\",VLOOKUP($A61,'Entry List'!$A$1:$F$61,E$5,FALSE))","v":""},null,"DNS",0,"DNS",0,"DNS",0,"DNS",0,"DNS",0,"DNS",0,"DNS",0,"DNS",0,"DNS",0,"DNS",0,"DNS",0,"DNS",0,"DNS",0,"DNS",0,"DNS",0,"DNS",0,"DNS",0,"DNS",0,"DNS",0,"DNS",0,"DNS",0,"DNS",0,"DNS",0,28,9,35,2,"DNS",0,"DNS",0,"DNS",0,"DNS",0,33,4,"DNS",0,"DNS",0,"DNS",0,"DNS",0,"DNS",0,{"$f":"IF('Last Race Results'!$B$5=0,0,IF(ISNA(VLOOKUP($A61,'Last Race Results'!$A$5:$J$44,2,FALSE)),\"DNS\",VLOOKUP($A61,'Last Race Results'!$A$5:$J$44,2,FALSE)))","v":"DNS"},{"$f":"IF('Last Race Results'!$B$5=0,0,IF(ISNA(VLOOKUP($A61,'Last Race Results'!$A$5:$K$44,11,FALSE)),0,VLOOKUP($A61,'Last Race Results'!$A$5:$K$44,11,FALSE)))","v":0}]
[55,{"$f":"IF(ISNA(VLOOKUP($A62,'Entry List'!$A$1:$F$61,B$5,FALSE)),\"\",VLOOKUP($A62,'Entry List'!$A$1:$F$61,B$5,FALSE))","v":""},{"$f":"IF(ISNA(VLOOKUP($A62,'Entry List'!$A$1:$F$61,C$5,FALSE)),\"\",VLOOKUP($A62,'Entry List'!$A$1:$F$61,C$5,FALSE))","v":""},{"$f":"IF(ISNA(VLOOKUP($A62,'Entry List'!$A$1:$F$61,D$5,FALSE)),\"\",VLOOKUP($A62,'Entry List'!$A$1:$F$61,D$5,FALSE))","v":""},{"$f":"IF(ISNA(VLOOKUP($A62,'Entry List'!$A$1:$F$61,E$5,FALSE)),\"\",VLOOKUP($A62,'Entry List'!$A$1:$F$61,E$5,FALSE))","v":""},null,"DNS",0,"DNS",0,"DNS",0,"DNS",0,"DNS",0,"DNS",0,"DNS",0,"DNS",0,"DNS",0,"DNS",0,"DNS",0,"DNS",0,"DNS",0,"DNS",0,"DNS",0,"DNS",0,"DNS",0,"DNS",0,"DNS",0,"DNS",0,"DNS",0,"DNS",0,"DNS",0,"DNS",0,"DNS",0,"DNS",0,"DNS",0,"DNS",0,"DNS",0,"DNS",0,"DNS",0,"DNS",0,"DNS",0,"DNS",0,"DNS",0,{"$f":"IF('Last Race Results'!$B$5=0,0,IF(ISNA(VLOOKUP($A62,'Last Race Results'!$A$5:$J$44,2,FALSE)),\"DNS\",VLOOKUP($A62,'Last Race Results'!$A$5:$J$44,2,FALSE)))","v":"DNS"},{"$f":"IF('Last Race Results'!$B$5=0,0,IF(ISNA(VLOOKUP($A62,'Last Race Results'!$A$5:$K$44,11,FALSE)),0,VLOOKUP($A62,'Last Race Results'!$A$5:$K$44,11,FALSE)))","v":0}]
[56,{"$f":"IF(ISNA(VLOOKUP($A63,'Entry List'!$A$1:$F$61,B$5,FALSE)),\"\",VLOOKUP($A63,'Entry List'!$A$1:$F$61,B$5,FALSE))","v":""},{"$f":"IF(ISNA(VLOOKUP($A63,'Entry List'!$A$1:$F$61,C$5,FALSE)),\"\",VLOOKUP($A63,'Entry List'!$A$1:$F$61,C$5,FALSE))","v":""},{"$f":"IF(ISNA(VLOOKUP($A63,'Entry List'!$A$1:$F$61,D$5,FALSE)),\"\",VLOOKUP($A63,'Entry List'!$A$1:$F$61,D$5,FALSE))","v":""},{"$f":"IF(ISNA(VLOOKUP($A63,'Entry List'!$A$1:$F$61,E$5,FALSE)),\"\",VLOOKUP($A63,'Entry List'!$A$1:$F$61,E$5,FALSE))","v":""},null,"DNS",0,"DNS",0,"DNS",0,"DNS",0,"DNS",0,"DNS",0,"DNS",0,"DNS",0,"DNS",0,"DNS",0,"DNS",0,"DNS",0,"DNS",0,"DNS",0,"DNS",0,"DNS",0,"DNS",0,"DNS",0,"DNS",0,"DNS",0,"DNS",0,"DNS",0,"DNS",0,"DNS",0,"DNS",0,"DNS",0,"DNS",0,"DNS",0,"DNS",0,"DNS",0,"DNS",0,"DNS",0,"DNS",0,"DNS",0,"DNS",0,{"$f":"IF('Last Race Results'!$B$5=0,0,IF(ISNA(VLOOKUP($A63,'Last Race Results'!$A$5:$J$44,2,FALSE)),\"DNS\",VLOOKUP($A63,'Last Race Results'!$A$5:$J$44,2,FALSE)))","v":"DNS"},{"$f":"IF('Last Race Results'!$B$5=0,0,IF(ISNA(VLOOKUP($A63,'Last Race Results'!$A$5:$K$44,11,FALSE)),0,VLOOKUP($A63,'Last Race Results'!$A$5:$K$44,11,FALSE)))","v":0}]
[57,{"$f":"IF(ISNA(VLOOKUP($A64,'Entry List'!$A$1:$F$61,B$5,FALSE)),\"\",VLOOKUP($A64,'Entry List'!$A$1:$F$61,B$5,FALSE))","v":""},{"$f":"IF(ISNA(VLOOKUP($A64,'Entry List'!$A$1:$F$61,C$5,FALSE)),\"\",VLOOKUP($A64,'Entry List'!$A$1:$F$61,C$5,FALSE))","v":""},{"$f":"IF(ISNA(VLOOKUP($A64,'Entry List'!$A$1:$F$61,D$5,FALSE)),\"\",VLOOKUP($A64,'Entry List'!$A$1:$F$61,D$5,FALSE))","v":""},{"$f":"IF(ISNA(VLOOKUP($A64,'Entry List'!$A$1:$F$61,E$5,FALSE)),\"\",VLOOKUP($A64,'Entry List'!$A$1:$F$61,E$5,FALSE))","v":""},null,"DNS",0,"DNS",0,"DNS",0,"DNS",0,"DNS",0,"DNS",0,"DNS",0,"DNS",0,"DNS",0,"DNS",0,"DNS",0,"DNS",0,"DNS",0,"DNS",0,"DNS",0,"DNS",0,"DNS",0,"DNS",0,"DNS",0,"DNS",0,"DNS",0,"DNS",0,"DNS",0,"DNS",0,"DNS",0,"DNS",0,"DNS",0,"DNS",0,"DNS",0,"DNS",0,"DNS",0,"DNS",0,"DNS",0,"DNS",0,"DNS",0,{"$f":"IF('Last Race Results'!$B$5=0,0,IF(ISNA(VLOOKUP($A64,'Last Race Results'!$A$5:$J$44,2,FALSE)),\"DNS\",VLOOKUP($A64,'Last Race Results'!$A$5:$J$44,2,FALSE)))","v":"DNS"},{"$f":"IF('Last Race Results'!$B$5=0,0,IF(ISNA(VLOOKUP($A64,'Last Race Results'!$A$5:$K$44,11,FALSE)),0,VLOOKUP($A64,'Last Race Results'!$A$5:$K$44,11,FALSE)))","v":0}]
[58,{"$f":"IF(ISNA(VLOOKUP($A65,'Entry List'!$A$1:$F$61,B$5,FALSE)),\"\",VLOOKUP($A65,'Entry List'!$A$1:$F$61,B$5,FALSE))","v":""},{"$f":"IF(ISNA(VLOOKUP($A65,'Entry List'!$A$1:$F$61,C$5,FALSE)),\"\",VLOOKUP($A65,'Entry List'!$A$1:$F$61,C$5,FALSE))","v":""},{"$f":"IF(ISNA(VLOOKUP($A65,'Entry List'!$A$1:$F$61,D$5,FALSE)),\"\",VLOOKUP($A65,'Entry List'!$A$1:$F$61,D$5,FALSE))","v":""},{"$f":"IF(ISNA(VLOOKUP($A65,'Entry List'!$A$1:$F$61,E$5,FALSE)),\"\",VLOOKUP($A65,'Entry List'!$A$1:$F$61,E$5,FALSE))","v":""},null,"DNS",0,"DNS",0,"DNS",0,"DNS",0,"DNS",0,"DNS",0,"DNS",0,"DNS",0,"DNS",0,"DNS",0,"DNS",0,"DNS",0,"DNS",0,"DNS",0,"DNS",0,"DNS",0,"DNS",0,"DNS",0,"DNS",0,"DNS",0,"DNS",0,"DNS",0,"DNS",0,"DNS",0,"DNS",0,"DNS",0,"DNS",0,"DNS",0,"DNS",0,"DNS",0,"DNS",0,"DNS",0,"DNS",0,"DNS",0,"DNS",0,{"$f":"IF('Last Race Results'!$B$5=0,0,IF(ISNA(VLOOKUP($A65,'Last Race Results'!$A$5:$J$44,2,FALSE)),\"DNS\",VLOOKUP($A65,'Last Race Results'!$A$5:$J$44,2,FALSE)))","v":"DNS"},{"$f":"IF('Last Race Results'!$B$5=0,0,IF(ISNA(VLOOKUP($A65,'Last Race Results'!$A$5:$K$44,11,FALSE)),0,VLOOKUP($A65,'Last Race Results'!$A$5:$K$44,11,FALSE)))","v":0}]
[59,{"$f":"IF(ISNA(VLOOKUP($A66,'Entry List'!$A$1:$F$61,B$5,FALSE)),\"\",VLOOKUP($A66,'Entry List'!$A$1:$F$61,B$5,FALSE))","v":""},{"$f":"IF(ISNA(VLOOKUP($A66,'Entry List'!$A$1:$F$61,C$5,FALSE)),\"\",VLOOKUP($A66,'Entry List'!$A$1:$F$61,C$5,FALSE))","v":""},{"$f":"IF(ISNA(VLOOKUP($A66,'Entry List'!$A$1:$F$61,D$5,FALSE)),\"\",VLOOKUP($A66,'Entry List'!$A$1:$F$61,D$5,FALSE))","v":""},{"$f":"IF(ISNA(VLOOKUP($A66,'Entry List'!$A$1:$F$61,E$5,FALSE)),\"\",VLOOKUP($A66,'Entry List'!$A$1:$F$61,E$5,FALSE))","v":""},null,"DNS",0,"DNS",0,"DNS",0,"DNS",0,"DNS",0,"DNS",0,"DNS",0,"DNS",0,"DNS",0,"DNS",0,"DNS",0,"DNS",0,"DNS",0,"DNS",0,"DNS",0,"DNS",0,"DNS",0,"DNS",0,"DNS",0,"DNS",0,"DNS",0,"DNS",0,"DNS",0,"DNS",0,"DNS",0,"DNS",0,"DNS",0,"DNS",0,"DNS",0,"DNS",0,"DNS",0,"DNS",0,"DNS",0,"DNS",0,"DNS",0,{"$f":"IF('Last Race Results'!$B$5=0,0,IF(ISNA(VLOOKUP($A66,'Last Race Results'!$A$5:$J$44,2,FALSE)),\"DNS\",VLOOKUP($A66,'Last Race Results'!$A$5:$J$44,2,FALSE)))","v":"DNS"},{"$f":"IF('Last Race Results'!$B$5=0,0,IF(ISNA(VLOOKUP($A66,'Last Race Results'!$A$5:$K$44,11,FALSE)),0,VLOOKUP($A66,'Last Race Results'!$A$5:$K$44,11,FALSE)))","v":0}]
[60,{"$f":"IF(ISNA(VLOOKUP($A67,'Entry List'!$A$1:$F$61,B$5,FALSE)),\"\",VLOOKUP($A67,'Entry List'!$A$1:$F$61,B$5,FALSE))","v":""},{"$f":"IF(ISNA(VLOOKUP($A67,'Entry List'!$A$1:$F$61,C$5,FALSE)),\"\",VLOOKUP($A67,'Entry List'!$A$1:$F$61,C$5,FALSE))","v":""},{"$f":"IF(ISNA(VLOOKUP($A67,'Entry List'!$A$1:$F$61,D$5,FALSE)),\"\",VLOOKUP($A67,'Entry List'!$A$1:$F$61,D$5,FALSE))","v":""},{"$f":"IF(ISNA(VLOOKUP($A67,'Entry List'!$A$1:$F$61,E$5,FALSE)),\"\",VLOOKUP($A67,'Entry List'!$A$1:$F$61,E$5,FALSE))","v":""},null,"DNS",0,"DNS",0,"DNS",0,"DNS",0,"DNS",0,"DNS",0,"DNS",0,"DNS",0,"DNS",0,"DNS",0,"DNS",0,"DNS",0,"DNS",0,"DNS",0,"DNS",0,"DNS",0,"DNS",0,"DNS",0,"DNS",0,"DNS",0,"DNS",0,"DNS",0,"DNS",0,"DNS",0,"DNS",0,"DNS",0,"DNS",0,"DNS",0,"DNS",0,"DNS",0,"DNS",0,"DNS",0,"DNS",0,"DNS",0,"DNS",0,{"$f":"IF('Last Race Results'!$B$5=0,0,IF(ISNA(VLOOKUP($A67,'Last Race Results'!$A$5:$J$44,2,FALSE)),\"DNS\",VLOOKUP($A67,'Last Race Results'!$A$5:$J$44,2,FALSE)))","v":"DNS"},{"$f":"IF('Last Race Results'!$B$5=0,0,IF(ISNA(VLOOKUP($A67,'Last Race Results'!$A$5:$K$44,11,FALSE)),0,VLOOKUP($A67,'Last Race Results'!$A$5:$K$44,11,FALSE)))","v":0}]
[61,{"$f":"IF(ISNA(VLOOKUP($A68,'Entry List'!$A$1:$F$61,B$5,FALSE)),\"\",VLOOKUP($A68,'Entry List'!$A$1:$F$61,B$5,FALSE))","v":""},{"$f":"IF(ISNA(VLOOKUP($A68,'Entry List'!$A$1:$F$61,C$5,FALSE)),\"\",VLOOKUP($A68,'Entry List'!$A$1:$F$61,C$5,FALSE))","v":""},{"$f":"IF(ISNA(VLOOKUP($A68,'Entry List'!$A$1:$F$61,D$5,FALSE)),\"\",VLOOKUP($A68,'Entry List'!$A$1:$F$61,D$5,FALSE))","v":""},{"$f":"IF(ISNA(VLOOKUP($A68,'Entry List'!$A$1:$F$61,E$5,FALSE)),\"\",VLOOKUP($A68,'Entry List'!$A$1:$F$61,E$5,FALSE))","v":""},null,"DNS",0,"DNS",0,"DNS",0,"DNS",0,"DNS",0,"DNS",0,"DNS",0,"DNS",0,"DNS",0,"DNS",0,"DNS",0,"DNS",0,"DNS",0,"DNS",0,"DNS",0,"DNS",0,"DNS",0,"DNS",0,"DNS",0,"DNS",0,"DNS",0,"DNS",0,"DNS",0,"DNS",0,"DNS",0,"DNS",0,"DNS",0,"DNS",0,"DNS",0,"DNS",0,"DNS",0,"DNS",0,"DNS",0,"DNS",0,"DNS",0,{"$f":"IF('Last Race Results'!$B$5=0,0,IF(ISNA(VLOOKUP($A68,'Last Race Results'!$A$5:$J$44,2,FALSE)),\"DNS\",VLOOKUP($A68,'Last Race Results'!$A$5:$J$44,2,FALSE)))","v":"DNS"},{"$f":"IF('Last Race Results'!$B$5=0,0,IF(ISNA(VLOOKUP($A68,'Last Race Results'!$A$5:$K$44,11,FALSE)),0,VLOOKUP($A68,'Last Race Results'!$A$5:$K$44,11,FALSE)))","v":0}]
[62,{"$f":"IF(ISNA(VLOOKUP($A69,'Entry List'!$A$1:$F$61,B$5,FALSE)),\"\",VLOOKUP($A69,'Entry List'!$A$1:$F$61,B$5,FALSE))","v":""},{"$f":"IF(ISNA(VLOOKUP($A69,'Entry List'!$A$1:$F$61,C$5,FALSE)),\"\",VLOOKUP($A69,'Entry List'!$A$1:$F$61,C$5,FALSE))","v":""},{"$f":"IF(ISNA(VLOOKUP($A69,'Entry List'!$A$1:$F$61,D$5,FALSE)),\"\",VLOOKUP($A69,'Entry List'!$A$1:$F$61,D$5,FALSE))","v":""},{"$f":"IF(ISNA(VLOOKUP($A69,'Entry List'!$A$1:$F$61,E$5,FALSE)),\"\",VLOOKUP($A69,'Entry List'!$A$1:$F$61,E$5,FALSE))","v":""},null,23,14,"DNS",0,"DNS",0,"DNS",0,"DNS",0,"DNS",0,"DNS",0,"DNS",0,"DNS",0,8,29,"DNS",0,"DNS",0,"DNS",0,"DNS",0,"DNS",0,"DNS",0,"DNS",0,19,18,"DNS",0,"DNS",0,"DNS",0,"DNS",0,"DNS",0,"DNS",0,"DNS",0,"DNS",0,"DNS",0,"DNS",0,"DNS",0,"DNS",0,27,10,"DNS",0,"DNS",0,"DNS",0,"DNS",0,{"$f":"IF('Last Race Results'!$B$5=0,0,IF(ISNA(VLOOKUP($A69,'Last Race Results'!$A$5:$J$44,2,FALSE)),\"DNS\",VLOOKUP($A69,'Last Race Results'!$A$5:$J$44,2,FALSE)))","v":"DNS"},{"$f":"IF('Last Race Results'!$B$5=0,0,IF(ISNA(VLOOKUP($A69,'Last Race Results'!$A$5:$K$44,11,FALSE)),0,VLOOKUP($A69,'Last Race Results'!$A$5:$K$44,11,FALSE)))","v":0}]
[63,{"$f":"IF(ISNA(VLOOKUP($A70,'Entry List'!$A$1:$F$61,B$5,FALSE)),\"\",VLOOKUP($A70,'Entry List'!$A$1:$F$61,B$5,FALSE))","v":""},{"$f":"IF(ISNA(VLOOKUP($A70,'Entry List'!$A$1:$F$61,C$5,FALSE)),\"\",VLOOKUP($A70,'Entry List'!$A$1:$F$61,C$5,FALSE))","v":""},{"$f":"IF(ISNA(VLOOKUP($A70,'Entry List'!$A$1:$F$61,D$5,FALSE)),\"\",VLOOKUP($A70,'Entry List'!$A$1:$F$61,D$5,FALSE))","v":""},{"$f":"IF(ISNA(VLOOKUP($A70,'Entry List'!$A$1:$F$61,E$5,FALSE)),\"\",VLOOKUP($A70,'Entry List'!$A$1:$F$61,E$5,FALSE))","v":""},null,"DNS",0,"DNS",0,"DNS",0,"DNS",0,"DNS",0,"DNS",0,"DNS",0,"DNS",0,"DNS",0,"DNS",0,"DNS",0,"DNS",0,"DNS",0,"DNS",0,"DNS",0,"DNS",0,"DNS",0,"DNS",0,"DNS",0,"DNS",0,"DNS",0,"DNS",0,"DNS",0,"DNS",0,"DNS",0,"DNS",0,"DNS",0,"DNS",0,"DNS",0,"DNS",0,"DNS",0,"DNS",0,"DNS",0,"DNS",0,"DNS",0,{"$f":"IF('Last Race Results'!$B$5=0,0,IF(ISNA(VLOOKUP($A70,'Last Race Results'!$A$5:$J$44,2,FALSE)),\"DNS\",VLOOKUP($A70,'Last Race Results'!$A$5:$J$44,2,FALSE)))","v":"DNS"},{"$f":"IF('Last Race Results'!$B$5=0,0,IF(ISNA(VLOOKUP($A70,'Last Race Results'!$A$5:$K$44,11,FALSE)),0,VLOOKUP($A70,'Last Race Results'!$A$5:$K$44,11,FALSE)))","v":0}]
[64,{"$f":"IF(ISNA(VLOOKUP($A71,'Entry List'!$A$1:$F$61,B$5,FALSE)),\"\",VLOOKUP($A71,'Entry List'!$A$1:$F$61,B$5,FALSE))","v":""},{"$f":"IF(ISNA(VLOOKUP($A71,'Entry List'!$A$1:$F$61,C$5,FALSE)),\"\",VLOOKUP($A71,'Entry List'!$A$1:$F$61,C$5,FALSE))","v":""},{"$f":"IF(ISNA(VLOOKUP($A71,'Entry List'!$A$1:$F$61,D$5,FALSE)),\"\",VLOOKUP($A71,'Entry List'!$A$1:$F$61,D$5,FALSE))","v":""},{"$f":"IF(ISNA(VLOOKUP($A71,'Entry List'!$A$1:$F$61,E$5,FALSE)),\"\",VLOOKUP($A71,'Entry List'!$A$1:$F$61,E$5,FALSE))","v":""},null,"DNS",0,"DNS",0,"DNS",0,"DNS",0,"DNS",0,"DNS",0,"DNS",0,"DNS",0,"DNS",0,"DNS",0,"DNS",0,"DNS",0,"DNS",0,"DNS",0,"DNS",0,"DNS",0,"DNS",0,"DNS",0,"DNS",0,"DNS",0,"DNS",0,"DNS",0,"DNS",0,"DNS",0,"DNS",0,"DNS",0,"DNS",0,"DNS",0,"DNS",0,"DNS",0,"DNS",0,"DNS",0,"DNS",0,"DNS",0,"DNS",0,{"$f":"IF('Last Race Results'!$B$5=0,0,IF(ISNA(VLOOKUP($A71,'Last Race Results'!$A$5:$J$44,2,FALSE)),\"DNS\",VLOOKUP($A71,'Last Race Results'!$A$5:$J$44,2,FALSE)))","v":"DNS"},{"$f":"IF('Last Race Results'!$B$5=0,0,IF(ISNA(VLOOKUP($A71,'Last Race Results'!$A$5:$K$44,11,FALSE)),0,VLOOKUP($A71,'Last Race Results'!$A$5:$K$44,11,FALSE)))","v":0}]
[65,{"$f":"IF(ISNA(VLOOKUP($A72,'Entry List'!$A$1:$F$61,B$5,FALSE)),\"\",VLOOKUP($A72,'Entry List'!$A$1:$F$61,B$5,FALSE))","v":""},{"$f":"IF(ISNA(VLOOKUP($A72,'Entry List'!$A$1:$F$61,C$5,FALSE)),\"\",VLOOKUP($A72,'Entry List'!$A$1:$F$61,C$5,FALSE))","v":""},{"$f":"IF(ISNA(VLOOKUP($A72,'Entry List'!$A$1:$F$61,D$5,FALSE)),\"\",VLOOKUP($A72,'Entry List'!$A$1:$F$61,D$5,FALSE))","v":""},{"$f":"IF(ISNA(VLOOKUP($A72,'Entry List'!$A$1:$F$61,E$5,FALSE)),\"\",VLOOKUP($A72,'Entry List'!$A$1:$F$61,E$5,FALSE))","v":""},null,"DNS",0,"DNS",0,"DNS",0,"DNS",0,"DNS",0,"DNS",0,"DNS",0,"DNS",0,"DNS",0,"DNS",0,"DNS",0,"DNS",0,"DNS",0,"DNS",0,"DNS",0,"DNS",0,"DNS",0,"DNS",0,"DNS",0,"DNS",0,"DNS",0,"DNS",0,"DNS",0,"DNS",0,"DNS",0,"DNS",0,"DNS",0,"DNS",0,"DNS",0,"DNS",0,"DNS",0,"DNS",0,"DNS",0,"DNS",0,"DNS",0,{"$f":"IF('Last Race Results'!$B$5=0,0,IF(ISNA(VLOOKUP($A72,'Last Race Results'!$A$5:$J$44,2,FALSE)),\"DNS\",VLOOKUP($A72,'Last Race Results'!$A$5:$J$44,2,FALSE)))","v":"DNS"},{"$f":"IF('Last Race Results'!$B$5=0,0,IF(ISNA(VLOOKUP($A72,'Last Race Results'!$A$5:$K$44,11,FALSE)),0,VLOOKUP($A72,'Last Race Results'!$A$5:$K$44,11,FALSE)))","v":0}]
[66,{"$f":"IF(ISNA(VLOOKUP($A73,'Entry List'!$A$1:$F$61,B$5,FALSE)),\"\",VLOOKUP($A73,'Entry List'!$A$1:$F$61,B$5,FALSE))","v":"Timmy Hill (i)"},{"$f":"IF(ISNA(VLOOKUP($A73,'Entry List'!$A$1:$F$61,C$5,FALSE)),\"\",VLOOKUP($A73,'Entry List'!$A$1:$F$61,C$5,FALSE))","v":"Toyota"},{"$f":"IF(ISNA(VLOOKUP($A73,'Entry List'!$A$1:$F$61,D$5,FALSE)),\"\",VLOOKUP($A73,'Entry List'!$A$1:$F$61,D$5,FALSE))","v":"MBM Motorsports"},{"$f":"IF(ISNA(VLOOKUP($A73,'Entry List'!$A$1:$F$61,E$5,FALSE)),\"\",VLOOKUP($A73,'Entry List'!$A$1:$F$61,E$5,FALSE))","v":"MBM Motorsports"},null,"DNS",0,"DNS",0,38,1,"DNS",0,35,2,"DNS",0,"DNS",0,35,2,33,4,"DNS",0,"DNS",0,39,1,32,5,"DNS",0,"DNS",0,"DNS",0,"DNS",0,"DNS",0,"DNS",0,"DNS",0,"DNS",0,"DNS",0,"DNS",0,"DNS",0,34,3,35,2,38,1,"DNS",0,30,7,"DNS",0,36,1,"DNS",0,"DNS",0,37,1,38,1,{"$f":"IF('Last Race Results'!$B$5=0,0,IF(ISNA(VLOOKUP($A73,'Last Race Results'!$A$5:$J$44,2,FALSE)),\"DNS\",VLOOKUP($A73,'Last Race Results'!$A$5:$J$44,2,FALSE)))","v":33},{"$f":"IF('Last Race Results'!$B$5=0,0,IF(ISNA(VLOOKUP($A73,'Last Race Results'!$A$5:$K$44,11,FALSE)),0,VLOOKUP($A73,'Last Race Results'!$A$5:$K$44,11,FALSE)))","v":4}]
[67,{"$f":"IF(ISNA(VLOOKUP($A74,'Entry List'!$A$1:$F$61,B$5,FALSE)),\"\",VLOOKUP($A74,'Entry List'!$A$1:$F$61,B$5,FALSE))","v":""},{"$f":"IF(ISNA(VLOOKUP($A74,'Entry List'!$A$1:$F$61,C$5,FALSE)),\"\",VLOOKUP($A74,'Entry List'!$A$1:$F$61,C$5,FALSE))","v":""},{"$f":"IF(ISNA(VLOOKUP($A74,'Entry List'!$A$1:$F$61,D$5,FALSE)),\"\",VLOOKUP($A74,'Entry List'!$A$1:$F$61,D$5,FALSE))","v":""},{"$f":"IF(ISNA(VLOOKUP($A74,'Entry List'!$A$1:$F$61,E$5,FALSE)),\"\",VLOOKUP($A74,'Entry List'!$A$1:$F$61,E$5,FALSE))","v":""},null,"DNS",0,"DNS",0,"DNS",0,"DNS",0,"DNS",0,"DNS",0,"DNS",0,"DNS",0,"DNS",0,"DNS",0,"DNS",0,"DNS",0,"DNS",0,"DNS",0,"DNS",0,"DNS",0,"DNS",0,"DNS",0,"DNS",0,"DNS",0,"DNS",0,"DNS",0,"DNS",0,"DNS",0,"DNS",0,"DNS",0,"DNS",0,"DNS",0,"DNS",0,"DNS",0,"DNS",0,"DNS",0,"DNS",0,"DNS",0,"DNS",0,{"$f":"IF('Last Race Results'!$B$5=0,0,IF(ISNA(VLOOKUP($A74,'Last Race Results'!$A$5:$J$44,2,FALSE)),\"DNS\",VLOOKUP($A74,'Last Race Results'!$A$5:$J$44,2,FALSE)))","v":"DNS"},{"$f":"IF('Last Race Results'!$B$5=0,0,IF(ISNA(VLOOKUP($A74,'Last Race Results'!$A$5:$K$44,11,FALSE)),0,VLOOKUP($A74,'Last Race Results'!$A$5:$K$44,11,FALSE)))","v":0}]
[68,{"$f":"IF(ISNA(VLOOKUP($A75,'Entry List'!$A$1:$F$61,B$5,FALSE)),\"\",VLOOKUP($A75,'Entry List'!$A$1:$F$61,B$5,FALSE))","v":""},{"$f":"IF(ISNA(VLOOKUP($A75,'Entry List'!$A$1:$F$61,C$5,FALSE)),\"\",VLOOKUP($A75,'Entry List'!$A$1:$F$61,C$5,FALSE))","v":""},{"$f":"IF(ISNA(VLOOKUP($A75,'Entry List'!$A$1:$F$61,D$5,FALSE)),\"\",VLOOKUP($A75,'Entry List'!$A$1:$F$61,D$5,FALSE))","v":""},{"$f":"IF(ISNA(VLOOKUP($A75,'Entry List'!$A$1:$F$61,E$5,FALSE)),\"\",VLOOKUP($A75,'Entry List'!$A$1:$F$61,E$5,FALSE))","v":""},null,"DNS",0,"DNS",0,"DNS",0,"DNS",0,"DNS",0,"DNS",0,"DNS",0,"DNS",0,"DNS",0,"DNS",0,"DNS",0,"DNS",0,"DNS",0,"DNS",0,"DNS",0,"DNS",0,"DNS",0,"DNS",0,"DNS",0,"DNS",0,"DNS",0,"DNS",0,"DNS",0,"DNS",0,"DNS",0,"DNS",0,"DNS",0,"DNS",0,"DNS",0,"DNS",0,"DNS",0,"DNS",0,"DNS",0,"DNS",0,"DNS",0,{"$f":"IF('Last Race Results'!$B$5=0,0,IF(ISNA(VLOOKUP($A75,'Last Race Results'!$A$5:$J$44,2,FALSE)),\"DNS\",VLOOKUP($A75,'Last Race Results'!$A$5:$J$44,2,FALSE)))","v":"DNS"},{"$f":"IF('Last Race Results'!$B$5=0,0,IF(ISNA(VLOOKUP($A75,'Last Race Results'!$A$5:$K$44,11,FALSE)),0,VLOOKUP($A75,'Last Race Results'!$A$5:$K$44,11,FALSE)))","v":0}]
[69,{"$f":"IF(ISNA(VLOOKUP($A76,'Entry List'!$A$1:$F$61,B$5,FALSE)),\"\",VLOOKUP($A76,'Entry List'!$A$1:$F$61,B$5,FALSE))","v":""},{"$f":"IF(ISNA(VLOOKUP($A76,'Entry List'!$A$1:$F$61,C$5,FALSE)),\"\",VLOOKUP($A76,'Entry List'!$A$1:$F$61,C$5,FALSE))","v":""},{"$f":"IF(ISNA(VLOOKUP($A76,'Entry List'!$A$1:$F$61,D$5,FALSE)),\"\",VLOOKUP($A76,'Entry List'!$A$1:$F$61,D$5,FALSE))","v":""},{"$f":"IF(ISNA(VLOOKUP($A76,'Entry List'!$A$1:$F$61,E$5,FALSE)),\"\",VLOOKUP($A76,'Entry List'!$A$1:$F$61,E$5,FALSE))","v":""},null,"DNS",0,"DNS",0,"DNS",0,"DNS",0,"DNS",0,"DNS",0,"DNS",0,"DNS",0,"DNS",0,"DNS",0,"DNS",0,"DNS",0,"DNS",0,"DNS",0,"DNS",0,"DNS",0,"DNS",0,"DNS",0,"DNS",0,"DNS",0,"DNS",0,"DNS",0,"DNS",0,"DNS",0,"DNS",0,"DNS",0,"DNS",0,"DNS",0,"DNS",0,"DNS",0,"DNS",0,"DNS",0,"DNS",0,"DNS",0,"DNS",0,{"$f":"IF('Last Race Results'!$B$5=0,0,IF(ISNA(VLOOKUP($A76,'Last Race Results'!$A$5:$J$44,2,FALSE)),\"DNS\",VLOOKUP($A76,'Last Race Results'!$A$5:$J$44,2,FALSE)))","v":"DNS"},{"$f":"IF('Last Race Results'!$B$5=0,0,IF(ISNA(VLOOKUP($A76,'Last Race Results'!$A$5:$K$44,11,FALSE)),0,VLOOKUP($A76,'Last Race Results'!$A$5:$K$44,11,FALSE)))","v":0}]
[70,{"$f":"IF(ISNA(VLOOKUP($A77,'Entry List'!$A$1:$F$61,B$5,FALSE)),\"\",VLOOKUP($A77,'Entry List'!$A$1:$F$61,B$5,FALSE))","v":""},{"$f":"IF(ISNA(VLOOKUP($A77,'Entry List'!$A$1:$F$61,C$5,FALSE)),\"\",VLOOKUP($A77,'Entry List'!$A$1:$F$61,C$5,FALSE))","v":""},{"$f":"IF(ISNA(VLOOKUP($A77,'Entry List'!$A$1:$F$61,D$5,FALSE)),\"\",VLOOKUP($A77,'Entry List'!$A$1:$F$61,D$5,FALSE))","v":""},{"$f":"IF(ISNA(VLOOKUP($A77,'Entry List'!$A$1:$F$61,E$5,FALSE)),\"\",VLOOKUP($A77,'Entry List'!$A$1:$F$61,E$5,FALSE))","v":""},null,"DNS",0,"DNS",0,"DNS",0,"DNS",0,"DNS",0,"DNS",0,"DNS",0,"DNS",0,"DNS",0,"DNS",0,"DNS",0,"DNS",0,"DNS",0,"DNS",0,"DNS",0,"DNS",0,"DNS",0,"DNS",0,"DNS",0,"DNS",0,"DNS",0,"DNS",0,"DNS",0,"DNS",0,"DNS",0,"DNS",0,"DNS",0,"DNS",0,"DNS",0,"DNS",0,"DNS",0,"DNS",0,"DNS",0,"DNS",0,"DNS",0,{"$f":"IF('Last Race Results'!$B$5=0,0,IF(ISNA(VLOOKUP($A77,'Last Race Results'!$A$5:$J$44,2,FALSE)),\"DNS\",VLOOKUP($A77,'Last Race Results'!$A$5:$J$44,2,FALSE)))","v":"DNS"},{"$f":"IF('Last Race Results'!$B$5=0,0,IF(ISNA(VLOOKUP($A77,'Last Race Results'!$A$5:$K$44,11,FALSE)),0,VLOOKUP($A77,'Last Race Results'!$A$5:$K$44,11,FALSE)))","v":0}]
[71,{"$f":"IF(ISNA(VLOOKUP($A78,'Entry List'!$A$1:$F$61,B$5,FALSE)),\"\",VLOOKUP($A78,'Entry List'!$A$1:$F$61,B$5,FALSE))","v":""},{"$f":"IF(ISNA(VLOOKUP($A78,'Entry List'!$A$1:$F$61,C$5,FALSE)),\"\",VLOOKUP($A78,'Entry List'!$A$1:$F$61,C$5,FALSE))","v":""},{"$f":"IF(ISNA(VLOOKUP($A78,'Entry List'!$A$1:$F$61,D$5,FALSE)),\"\",VLOOKUP($A78,'Entry List'!$A$1:$F$61,D$5,FALSE))","v":""},{"$f":"IF(ISNA(VLOOKUP($A78,'Entry List'!$A$1:$F$61,E$5,FALSE)),\"\",VLOOKUP($A78,'Entry List'!$A$1:$F$61,E$5,FALSE))","v":""},null,"DNS",0,"DNS",0,"DNS",0,"DNS",0,"DNS",0,"DNS",0,"DNS",0,"DNS",0,"DNS",0,"DNS",0,"DNS",0,"DNS",0,"DNS",0,"DNS",0,"DNS",0,"DNS",0,"DNS",0,"DNS",0,"DNS",0,"DNS",0,"DNS",0,"DNS",0,"DNS",0,"DNS",0,"DNS",0,"DNS",0,"DNS",0,"DNS",0,"DNS",0,"DNS",0,"DNS",0,"DNS",0,"DNS",0,"DNS",0,"DNS",0,{"$f":"IF('Last Race Results'!$B$5=0,0,IF(ISNA(VLOOKUP($A78,'Last Race Results'!$A$5:$J$44,2,FALSE)),\"DNS\",VLOOKUP($A78,'Last Race Results'!$A$5:$J$44,2,FALSE)))","v":"DNS"},{"$f":"IF('Last Race Results'!$B$5=0,0,IF(ISNA(VLOOKUP($A78,'Last Race Results'!$A$5:$K$44,11,FALSE)),0,VLOOKUP($A78,'Last Race Results'!$A$5:$K$44,11,FALSE)))","v":0}]
[72,{"$f":"IF(ISNA(VLOOKUP($A79,'Entry List'!$A$1:$F$61,B$5,FALSE)),\"\",VLOOKUP($A79,'Entry List'!$A$1:$F$61,B$5,FALSE))","v":""},{"$f":"IF(ISNA(VLOOKUP($A79,'Entry List'!$A$1:$F$61,C$5,FALSE)),\"\",VLOOKUP($A79,'Entry List'!$A$1:$F$61,C$5,FALSE))","v":""},{"$f":"IF(ISNA(VLOOKUP($A79,'Entry List'!$A$1:$F$61,D$5,FALSE)),\"\",VLOOKUP($A79,'Entry List'!$A$1:$F$61,D$5,FALSE))","v":""},{"$f":"IF(ISNA(VLOOKUP($A79,'Entry List'!$A$1:$F$61,E$5,FALSE)),\"\",VLOOKUP($A79,'Entry List'!$A$1:$F$61,E$5,FALSE))","v":""},null,"DNS",0,"DNS",0,"DNS",0,"DNS",0,"DNS",0,"DNS",0,"DNS",0,"DNS",0,"DNS",0,"DNS",0,"DNS",0,"DNS",0,"DNS",0,"DNS",0,"DNS",0,"DNS",0,"DNS",0,"DNS",0,"DNS",0,"DNS",0,"DNS",0,"DNS",0,"DNS",0,"DNS",0,"DNS",0,27,10,"DNS",0,"DNS",0,"DNS",0,"DNS",0,"DNS",0,"DNS",0,"DNS",0,"DNS",0,"DNS",0,{"$f":"IF('Last Race Results'!$B$5=0,0,IF(ISNA(VLOOKUP($A79,'Last Race Results'!$A$5:$J$44,2,FALSE)),\"DNS\",VLOOKUP($A79,'Last Race Results'!$A$5:$J$44,2,FALSE)))","v":"DNS"},{"$f":"IF('Last Race Results'!$B$5=0,0,IF(ISNA(VLOOKUP($A79,'Last Race Results'!$A$5:$K$44,11,FALSE)),0,VLOOKUP($A79,'Last Race Results'!$A$5:$K$44,11,FALSE)))","v":0}]
[73,{"$f":"IF(ISNA(VLOOKUP($A80,'Entry List'!$A$1:$F$61,B$5,FALSE)),\"\",VLOOKUP($A80,'Entry List'!$A$1:$F$61,B$5,FALSE))","v":""},{"$f":"IF(ISNA(VLOOKUP($A80,'Entry List'!$A$1:$F$61,C$5,FALSE)),\"\",VLOOKUP($A80,'Entry List'!$A$1:$F$61,C$5,FALSE))","v":""},{"$f":"IF(ISNA(VLOOKUP($A80,'Entry List'!$A$1:$F$61,D$5,FALSE)),\"\",VLOOKUP($A80,'Entry List'!$A$1:$F$61,D$5,FALSE))","v":""},{"$f":"IF(ISNA(VLOOKUP($A80,'Entry List'!$A$1:$F$61,E$5,FALSE)),\"\",VLOOKUP($A80,'Entry List'!$A$1:$F$61,E$5,FALSE))","v":""},null,"DNS",0,"DNS",0,"DNS",0,"DNS",0,"DNS",0,"DNS",0,"DNS",0,"DNS",0,"DNS",0,"DNS",0,"DNS",0,"DNS",0,"DNS",0,"DNS",0,"DNS",0,"DNS",0,"DNS",0,"DNS",0,"DNS",0,"DNS",0,"DNS",0,"DNS",0,"DNS",0,"DNS",0,"DNS",0,"DNS",0,"DNS",0,"DNS",0,"DNS",0,"DNS",0,"DNS",0,"DNS",0,"DNS",0,"DNS",0,"DNS",0,{"$f":"IF('Last Race Results'!$B$5=0,0,IF(ISNA(VLOOKUP($A80,'Last Race Results'!$A$5:$J$44,2,FALSE)),\"DNS\",VLOOKUP($A80,'Last Race Results'!$A$5:$J$44,2,FALSE)))","v":"DNS"},{"$f":"IF('Last Race Results'!$B$5=0,0,IF(ISNA(VLOOKUP($A80,'Last Race Results'!$A$5:$K$44,11,FALSE)),0,VLOOKUP($A80,'Last Race Results'!$A$5:$K$44,11,FALSE)))","v":0}]
[74,{"$f":"IF(ISNA(VLOOKUP($A81,'Entry List'!$A$1:$F$61,B$5,FALSE)),\"\",VLOOKUP($A81,'Entry List'!$A$1:$F$61,B$5,FALSE))","v":""},{"$f":"IF(ISNA(VLOOKUP($A81,'Entry List'!$A$1:$F$61,C$5,FALSE)),\"\",VLOOKUP($A81,'Entry List'!$A$1:$F$61,C$5,FALSE))","v":""},{"$f":"IF(ISNA(VLOOKUP($A81,'Entry List'!$A$1:$F$61,D$5,FALSE)),\"\",VLOOKUP($A81,'Entry List'!$A$1:$F$61,D$5,FALSE))","v":""},{"$f":"IF(ISNA(VLOOKUP($A81,'Entry List'!$A$1:$F$61,E$5,FALSE)),\"\",VLOOKUP($A81,'Entry List'!$A$1:$F$61,E$5,FALSE))","v":""},null,"DNS",0,"DNS",0,"DNS",0,"DNS",0,"DNS",0,"DNS",0,"DNS",0,"DNS",0,"DNS",0,"DNS",0,"DNS",0,"DNS",0,"DNS",0,"DNS",0,"DNS",0,"DNS",0,"DNS",0,"DNS",0,"DNS",0,"DNS",0,"DNS",0,"DNS",0,"DNS",0,"DNS",0,"DNS",0,"DNS",0,"DNS",0,"DNS",0,"DNS",0,"DNS",0,"DNS",0,"DNS",0,"DNS",0,"DNS",0,"DNS",0,{"$f":"IF('Last Race Results'!$B$5=0,0,IF(ISNA(VLOOKUP($A81,'Last Race Results'!$A$5:$J$44,2,FALSE)),\"DNS\",VLOOKUP($A81,'Last Race Results'!$A$5:$J$44,2,FALSE)))","v":"DNS"},{"$f":"IF('Last Race Results'!$B$5=0,0,IF(ISNA(VLOOKUP($A81,'Last Race Results'!$A$5:$K$44,11,FALSE)),0,VLOOKUP($A81,'Last Race Results'!$A$5:$K$44,11,FALSE)))","v":0}]
[75,{"$f":"IF(ISNA(VLOOKUP($A82,'Entry List'!$A$1:$F$61,B$5,FALSE)),\"\",VLOOKUP($A82,'Entry List'!$A$1:$F$61,B$5,FALSE))","v":""},{"$f":"IF(ISNA(VLOOKUP($A82,'Entry List'!$A$1:$F$61,C$5,FALSE)),\"\",VLOOKUP($A82,'Entry List'!$A$1:$F$61,C$5,FALSE))","v":""},{"$f":"IF(ISNA(VLOOKUP($A82,'Entry List'!$A$1:$F$61,D$5,FALSE)),\"\",VLOOKUP($A82,'Entry List'!$A$1:$F$61,D$5,FALSE))","v":""},{"$f":"IF(ISNA(VLOOKUP($A82,'Entry List'!$A$1:$F$61,E$5,FALSE)),\"\",VLOOKUP($A82,'Entry List'!$A$1:$F$61,E$5,FALSE))","v":""},null,"DNS",0,"DNS",0,"DNS",0,"DNS",0,"DNS",0,"DNS",0,"DNS",0,"DNS",0,"DNS",0,"DNS",0,"DNS",0,"DNS",0,"DNS",0,"DNS",0,"DNS",0,"DNS",0,"DNS",0,"DNS",0,"DNS",0,"DNS",0,"DNS",0,"DNS",0,"DNS",0,"DNS",0,"DNS",0,"DNS",0,"DNS",0,"DNS",0,"DNS",0,"DNS",0,"DNS",0,"DNS",0,"DNS",0,"DNS",0,"DNS",0,{"$f":"IF('Last Race Results'!$B$5=0,0,IF(ISNA(VLOOKUP($A82,'Last Race Results'!$A$5:$J$44,2,FALSE)),\"DNS\",VLOOKUP($A82,'Last Race Results'!$A$5:$J$44,2,FALSE)))","v":"DNS"},{"$f":"IF('Last Race Results'!$B$5=0,0,IF(ISNA(VLOOKUP($A82,'Last Race Results'!$A$5:$K$44,11,FALSE)),0,VLOOKUP($A82,'Last Race Results'!$A$5:$K$44,11,FALSE)))","v":0}]
[76,{"$f":"IF(ISNA(VLOOKUP($A83,'Entry List'!$A$1:$F$61,B$5,FALSE)),\"\",VLOOKUP($A83,'Entry List'!$A$1:$F$61,B$5,FALSE))","v":""},{"$f":"IF(ISNA(VLOOKUP($A83,'Entry List'!$A$1:$F$61,C$5,FALSE)),\"\",VLOOKUP($A83,'Entry List'!$A$1:$F$61,C$5,FALSE))","v":""},{"$f":"IF(ISNA(VLOOKUP($A83,'Entry List'!$A$1:$F$61,D$5,FALSE)),\"\",VLOOKUP($A83,'Entry List'!$A$1:$F$61,D$5,FALSE))","v":""},{"$f":"IF(ISNA(VLOOKUP($A83,'Entry List'!$A$1:$F$61,E$5,FALSE)),\"\",VLOOKUP($A83,'Entry List'!$A$1:$F$61,E$5,FALSE))","v":""},null,"DNS",0,"DNS",0,"DNS",0,"DNS",0,"DNS",0,"DNS",0,"DNS",0,"DNS",0,"DNS",0,"DNS",0,"DNS",0,"DNS",0,"DNS",0,"DNS",0,"DNS",0,"DNS",0,"DNS",0,"DNS",0,"DNS",0,"DNS",0,"DNS",0,"DNS",0,"DNS",0,"DNS",0,"DNS",0,"DNS",0,"DNS",0,"DNS",0,"DNS",0,"DNS",0,"DNS",0,"DNS",0,"DNS",0,"DNS",0,"DNS",0,{"$f":"IF('Last Race Results'!$B$5=0,0,IF(ISNA(VLOOKUP($A83,'Last Race Results'!$A$5:$J$44,2,FALSE)),\"DNS\",VLOOKUP($A83,'Last Race Results'!$A$5:$J$44,2,FALSE)))","v":"DNS"},{"$f":"IF('Last Race Results'!$B$5=0,0,IF(ISNA(VLOOKUP($A83,'Last Race Results'!$A$5:$K$44,11,FALSE)),0,VLOOKUP($A83,'Last Race Results'!$A$5:$K$44,11,FALSE)))","v":0}]
[77,{"$f":"IF(ISNA(VLOOKUP($A84,'Entry List'!$A$1:$F$61,B$5,FALSE)),\"\",VLOOKUP($A84,'Entry List'!$A$1:$F$61,B$5,FALSE))","v":"Reed Sorenson"},{"$f":"IF(ISNA(VLOOKUP($A84,'Entry List'!$A$1:$F$61,C$5,FALSE)),\"\",VLOOKUP($A84,'Entry List'!$A$1:$F$61,C$5,FALSE))","v":"Chevrolet"},{"$f":"IF(ISNA(VLOOKUP($A84,'Entry List'!$A$1:$F$61,D$5,FALSE)),\"\",VLOOKUP($A84,'Entry List'!$A$1:$F$61,D$5,FALSE))","v":"Spire Motorsports"},{"$f":"IF(ISNA(VLOOKUP($A84,'Entry List'!$A$1:$F$61,E$5,FALSE)),\"\",VLOOKUP($A84,'Entry List'!$A$1:$F$61,E$5,FALSE))","v":"Spire Motorsports"},null,"DNS",0,36,1,36,1,30,7,36,1,32,5,32,5,32,5,34,3,32,5,36,1,34,3,28,9,29,8,32,5,34,3,38,1,1,40,34,3,31,6,31,6,37,1,35,2,38,1,30,7,"DNS",0,37,1,37,1,39,1,37,1,31,6,34,3,34,3,33,4,37,1,{"$f":"IF('Last Race Results'!$B$5=0,0,IF(ISNA(VLOOKUP($A84,'Last Race Results'!$A$5:$J$44,2,FALSE)),\"DNS\",VLOOKUP($A84,'Last Race Results'!$A$5:$J$44,2,FALSE)))","v":37},{"$f":"IF('Last Race Results'!$B$5=0,0,IF(ISNA(VLOOKUP($A84,'Last Race Results'!$A$5:$K$44,11,FALSE)),0,VLOOKUP($A84,'Last Race Results'!$A$5:$K$44,11,FALSE)))","v":1}]
[78,{"$f":"IF(ISNA(VLOOKUP($A85,'Entry List'!$A$1:$F$61,B$5,FALSE)),\"\",VLOOKUP($A85,'Entry List'!$A$1:$F$61,B$5,FALSE))","v":""},{"$f":"IF(ISNA(VLOOKUP($A85,'Entry List'!$A$1:$F$61,C$5,FALSE)),\"\",VLOOKUP($A85,'Entry List'!$A$1:$F$61,C$5,FALSE))","v":""},{"$f":"IF(ISNA(VLOOKUP($A85,'Entry List'!$A$1:$F$61,D$5,FALSE)),\"\",VLOOKUP($A85,'Entry List'!$A$1:$F$61,D$5,FALSE))","v":""},{"$f":"IF(ISNA(VLOOKUP($A85,'Entry List'!$A$1:$F$61,E$5,FALSE)),\"\",VLOOKUP($A85,'Entry List'!$A$1:$F$61,E$5,FALSE))","v":""},null,"DNS",0,"DNS",0,"DNS",0,"DNS",0,"DNS",0,"DNS",0,"DNS",0,"DNS",0,"DNS",0,"DNS",0,"DNS",0,"DNS",0,"DNS",0,"DNS",0,"DNS",0,"DNS",0,"DNS",0,"DNS",0,"DNS",0,"DNS",0,"DNS",0,"DNS",0,"DNS",0,"DNS",0,"DNS",0,"DNS",0,"DNS",0,"DNS",0,"DNS",0,"DNS",0,"DNS",0,"DNS",0,"DNS",0,"DNS",0,"DNS",0,{"$f":"IF('Last Race Results'!$B$5=0,0,IF(ISNA(VLOOKUP($A85,'Last Race Results'!$A$5:$J$44,2,FALSE)),\"DNS\",VLOOKUP($A85,'Last Race Results'!$A$5:$J$44,2,FALSE)))","v":"DNS"},{"$f":"IF('Last Race Results'!$B$5=0,0,IF(ISNA(VLOOKUP($A85,'Last Race Results'!$A$5:$K$44,11,FALSE)),0,VLOOKUP($A85,'Last Race Results'!$A$5:$K$44,11,FALSE)))","v":0}]
[79,{"$f":"IF(ISNA(VLOOKUP($A86,'Entry List'!$A$1:$F$61,B$5,FALSE)),\"\",VLOOKUP($A86,'Entry List'!$A$1:$F$61,B$5,FALSE))","v":""},{"$f":"IF(ISNA(VLOOKUP($A86,'Entry List'!$A$1:$F$61,C$5,FALSE)),\"\",VLOOKUP($A86,'Entry List'!$A$1:$F$61,C$5,FALSE))","v":""},{"$f":"IF(ISNA(VLOOKUP($A86,'Entry List'!$A$1:$F$61,D$5,FALSE)),\"\",VLOOKUP($A86,'Entry List'!$A$1:$F$61,D$5,FALSE))","v":""},{"$f":"IF(ISNA(VLOOKUP($A86,'Entry List'!$A$1:$F$61,E$5,FALSE)),\"\",VLOOKUP($A86,'Entry List'!$A$1:$F$61,E$5,FALSE))","v":""},null,"DNS",0,"DNS",0,"DNS",0,"DNS",0,"DNS",0,"DNS",0,"DNS",0,"DNS",0,"DNS",0,"DNS",0,"DNS",0,"DNS",0,"DNS",0,"DNS",0,"DNS",0,"DNS",0,"DNS",0,"DNS",0,"DNS",0,"DNS",0,"DNS",0,"DNS",0,"DNS",0,"DNS",0,"DNS",0,"DNS",0,"DNS",0,"DNS",0,"DNS",0,"DNS",0,"DNS",0,"DNS",0,"DNS",0,"DNS",0,"DNS",0,{"$f":"IF('Last Race Results'!$B$5=0,0,IF(ISNA(VLOOKUP($A86,'Last Race Results'!$A$5:$J$44,2,FALSE)),\"DNS\",VLOOKUP($A86,'Last Race Results'!$A$5:$J$44,2,FALSE)))","v":"DNS"},{"$f":"IF('Last Race Results'!$B$5=0,0,IF(ISNA(VLOOKUP($A86,'Last Race Results'!$A$5:$K$44,11,FALSE)),0,VLOOKUP($A86,'Last Race Results'!$A$5:$K$44,11,FALSE)))","v":0}]
[80,{"$f":"IF(ISNA(VLOOKUP($A87,'Entry List'!$A$1:$F$61,B$5,FALSE)),\"\",VLOOKUP($A87,'Entry List'!$A$1:$F$61,B$5,FALSE))","v":""},{"$f":"IF(ISNA(VLOOKUP($A87,'Entry List'!$A$1:$F$61,C$5,FALSE)),\"\",VLOOKUP($A87,'Entry List'!$A$1:$F$61,C$5,FALSE))","v":""},{"$f":"IF(ISNA(VLOOKUP($A87,'Entry List'!$A$1:$F$61,D$5,FALSE)),\"\",VLOOKUP($A87,'Entry List'!$A$1:$F$61,D$5,FALSE))","v":""},{"$f":"IF(ISNA(VLOOKUP($A87,'Entry List'!$A$1:$F$61,E$5,FALSE)),\"\",VLOOKUP($A87,'Entry List'!$A$1:$F$61,E$5,FALSE))","v":""},null,"DNS",0,"DNS",0,"DNS",0,"DNS",0,"DNS",0,"DNS",0,"DNS",0,"DNS",0,"DNS",0,"DNS",0,"DNS",0,"DNS",0,"DNS",0,"DNS",0,"DNS",0,"DNS",0,"DNS",0,"DNS",0,"DNS",0,"DNS",0,"DNS",0,"DNS",0,"DNS",0,"DNS",0,"DNS",0,"DNS",0,"DNS",0,"DNS",0,"DNS",0,"DNS",0,"DNS",0,"DNS",0,"DNS",0,"DNS",0,"DNS",0,{"$f":"IF('Last Race Results'!$B$5=0,0,IF(ISNA(VLOOKUP($A87,'Last Race Results'!$A$5:$J$44,2,FALSE)),\"DNS\",VLOOKUP($A87,'Last Race Results'!$A$5:$J$44,2,FALSE)))","v":"DNS"},{"$f":"IF('Last Race Results'!$B$5=0,0,IF(ISNA(VLOOKUP($A87,'Last Race Results'!$A$5:$K$44,11,FALSE)),0,VLOOKUP($A87,'Last Race Results'!$A$5:$K$44,11,FALSE)))","v":0}]
[81,{"$f":"IF(ISNA(VLOOKUP($A88,'Entry List'!$A$1:$F$61,B$5,FALSE)),\"\",VLOOKUP($A88,'Entry List'!$A$1:$F$61,B$5,FALSE))","v":""},{"$f":"IF(ISNA(VLOOKUP($A88,'Entry List'!$A$1:$F$61,C$5,FALSE)),\"\",VLOOKUP($A88,'Entry List'!$A$1:$F$61,C$5,FALSE))","v":""},{"$f":"IF(ISNA(VLOOKUP($A88,'Entry List'!$A$1:$F$61,D$5,FALSE)),\"\",VLOOKUP($A88,'Entry List'!$A$1:$F$61,D$5,FALSE))","v":""},{"$f":"IF(ISNA(VLOOKUP($A88,'Entry List'!$A$1:$F$61,E$5,FALSE)),\"\",VLOOKUP($A88,'Entry List'!$A$1:$F$61,E$5,FALSE))","v":""},null,"DNS",0,"DNS",0,"DNS",0,"DNS",0,"DNS",0,"DNS",0,"DNS",0,"DNS",0,"DNS",0,22,15,"DNS",0,"DNS",0,"DNS",0,"DNS",0,"DNS",0,"DNS",0,"DNS",0,"DNS",0,"DNS",0,"DNS",0,"DNS",0,"DNS",0,"DNS",0,"DNS",0,"DNS",0,"DNS",0,"DNS",0,"DNS",0,"DNS",0,"DNS",0,"DNS",0,"DNS",0,"DNS",0,"DNS",0,"DNS",0,{"$f":"IF('Last Race Results'!$B$5=0,0,IF(ISNA(VLOOKUP($A88,'Last Race Results'!$A$5:$J$44,2,FALSE)),\"DNS\",VLOOKUP($A88,'Last Race Results'!$A$5:$J$44,2,FALSE)))","v":"DNS"},{"$f":"IF('Last Race Results'!$B$5=0,0,IF(ISNA(VLOOKUP($A88,'Last Race Results'!$A$5:$K$44,11,FALSE)),0,VLOOKUP($A88,'Last Race Results'!$A$5:$K$44,11,FALSE)))","v":0}]
[82,{"$f":"IF(ISNA(VLOOKUP($A89,'Entry List'!$A$1:$F$61,B$5,FALSE)),\"\",VLOOKUP($A89,'Entry List'!$A$1:$F$61,B$5,FALSE))","v":""},{"$f":"IF(ISNA(VLOOKUP($A89,'Entry List'!$A$1:$F$61,C$5,FALSE)),\"\",VLOOKUP($A89,'Entry List'!$A$1:$F$61,C$5,FALSE))","v":""},{"$f":"IF(ISNA(VLOOKUP($A89,'Entry List'!$A$1:$F$61,D$5,FALSE)),\"\",VLOOKUP($A89,'Entry List'!$A$1:$F$61,D$5,FALSE))","v":""},{"$f":"IF(ISNA(VLOOKUP($A89,'Entry List'!$A$1:$F$61,E$5,FALSE)),\"\",VLOOKUP($A89,'Entry List'!$A$1:$F$61,E$5,FALSE))","v":""},null,"DNS",0,"DNS",0,"DNS",0,"DNS",0,"DNS",0,"DNS",0,"DNS",0,"DNS",0,"DNS",0,"DNS",0,"DNS",0,"DNS",0,"DNS",0,"DNS",0,"DNS",0,"DNS",0,"DNS",0,"DNS",0,"DNS",0,"DNS",0,"DNS",0,"DNS",0,"DNS",0,"DNS",0,"DNS",0,"DNS",0,"DNS",0,"DNS",0,"DNS",0,"DNS",0,"DNS",0,"DNS",0,"DNS",0,"DNS",0,"DNS",0,{"$f":"IF('Last Race Results'!$B$5=0,0,IF(ISNA(VLOOKUP($A89,'Last Race Results'!$A$5:$J$44,2,FALSE)),\"DNS\",VLOOKUP($A89,'Last Race Results'!$A$5:$J$44,2,FALSE)))","v":"DNS"},{"$f":"IF('Last Race Results'!$B$5=0,0,IF(ISNA(VLOOKUP($A89,'Last Race Results'!$A$5:$K$44,11,FALSE)),0,VLOOKUP($A89,'Last Race Results'!$A$5:$K$44,11,FALSE)))","v":0}]
[83,{"$f":"IF(ISNA(VLOOKUP($A90,'Entry List'!$A$1:$F$61,B$5,FALSE)),\"\",VLOOKUP($A90,'Entry List'!$A$1:$F$61,B$5,FALSE))","v":""},{"$f":"IF(ISNA(VLOOKUP($A90,'Entry List'!$A$1:$F$61,C$5,FALSE)),\"\",VLOOKUP($A90,'Entry List'!$A$1:$F$61,C$5,FALSE))","v":""},{"$f":"IF(ISNA(VLOOKUP($A90,'Entry List'!$A$1:$F$61,D$5,FALSE)),\"\",VLOOKUP($A90,'Entry List'!$A$1:$F$61,D$5,FALSE))","v":""},{"$f":"IF(ISNA(VLOOKUP($A90,'Entry List'!$A$1:$F$61,E$5,FALSE)),\"\",VLOOKUP($A90,'Entry List'!$A$1:$F$61,E$5,FALSE))","v":""},null,"DNS",0,"DNS",0,"DNS",0,"DNS",0,"DNS",0,"DNS",0,"DNS",0,"DNS",0,"DNS",0,"DNS",0,"DNS",0,"DNS",0,"DNS",0,"DNS",0,"DNS",0,"DNS",0,"DNS",0,"DNS",0,"DNS",0,"DNS",0,"DNS",0,"DNS",0,"DNS",0,"DNS",0,"DNS",0,"DNS",0,"DNS",0,"DNS",0,"DNS",0,"DNS",0,"DNS",0,"DNS",0,"DNS",0,"DNS",0,"DNS",0,{"$f":"IF('Last Race Results'!$B$5=0,0,IF(ISNA(VLOOKUP($A90,'Last Race Results'!$A$5:$J$44,2,FALSE)),\"DNS\",VLOOKUP($A90,'Last Race Results'!$A$5:$J$44,2,FALSE)))","v":"DNS"},{"$f":"IF('Last Race Results'!$B$5=0,0,IF(ISNA(VLOOKUP($A90,'Last Race Results'!$A$5:$K$44,11,FALSE)),0,VLOOKUP($A90,'Last Race Results'!$A$5:$K$44,11,FALSE)))","v":0}]
[84,{"$f":"IF(ISNA(VLOOKUP($A91,'Entry List'!$A$1:$F$61,B$5,FALSE)),\"\",VLOOKUP($A91,'Entry List'!$A$1:$F$61,B$5,FALSE))","v":""},{"$f":"IF(ISNA(VLOOKUP($A91,'Entry List'!$A$1:$F$61,C$5,FALSE)),\"\",VLOOKUP($A91,'Entry List'!$A$1:$F$61,C$5,FALSE))","v":""},{"$f":"IF(ISNA(VLOOKUP($A91,'Entry List'!$A$1:$F$61,D$5,FALSE)),\"\",VLOOKUP($A91,'Entry List'!$A$1:$F$61,D$5,FALSE))","v":""},{"$f":"IF(ISNA(VLOOKUP($A91,'Entry List'!$A$1:$F$61,E$5,FALSE)),\"\",VLOOKUP($A91,'Entry List'!$A$1:$F$61,E$5,FALSE))","v":""},null,"DNS",0,"DNS",0,"DNS",0,"DNS",0,"DNS",0,"DNS",0,"DNS",0,"DNS",0,"DNS",0,"DNS",0,"DNS",0,"DNS",0,"DNS",0,"DNS",0,"DNS",0,"DNS",0,"DNS",0,"DNS",0,"DNS",0,"DNS",0,"DNS",0,"DNS",0,"DNS",0,"DNS",0,"DNS",0,"DNS",0,"DNS",0,"DNS",0,"DNS",0,"DNS",0,"DNS",0,"DNS",0,"DNS",0,"DNS",0,"DNS",0,{"$f":"IF('Last Race Results'!$B$5=0,0,IF(ISNA(VLOOKUP($A91,'Last Race Results'!$A$5:$J$44,2,FALSE)),\"DNS\",VLOOKUP($A91,'Last Race Results'!$A$5:$J$44,2,FALSE)))","v":"DNS"},{"$f":"IF('Last Race Results'!$B$5=0,0,IF(ISNA(VLOOKUP($A91,'Last Race Results'!$A$5:$K$44,11,FALSE)),0,VLOOKUP($A91,'Last Race Results'!$A$5:$K$44,11,FALSE)))","v":0}]
[85,{"$f":"IF(ISNA(VLOOKUP($A92,'Entry List'!$A$1:$F$61,B$5,FALSE)),\"\",VLOOKUP($A92,'Entry List'!$A$1:$F$61,B$5,FALSE))","v":""},{"$f":"IF(ISNA(VLOOKUP($A92,'Entry List'!$A$1:$F$61,C$5,FALSE)),\"\",VLOOKUP($A92,'Entry List'!$A$1:$F$61,C$5,FALSE))","v":""},{"$f":"IF(ISNA(VLOOKUP($A92,'Entry List'!$A$1:$F$61,D$5,FALSE)),\"\",VLOOKUP($A92,'Entry List'!$A$1:$F$61,D$5,FALSE))","v":""},{"$f":"IF(ISNA(VLOOKUP($A92,'Entry List'!$A$1:$F$61,E$5,FALSE)),\"\",VLOOKUP($A92,'Entry List'!$A$1:$F$61,E$5,FALSE))","v":""},null,"DNS",0,"DNS",0,"DNS",0,"DNS",0,"DNS",0,"DNS",0,"DNS",0,"DNS",0,"DNS",0,"DNS",0,"DNS",0,"DNS",0,"DNS",0,"DNS",0,"DNS",0,"DNS",0,"DNS",0,"DNS",0,"DNS",0,"DNS",0,"DNS",0,"DNS",0,"DNS",0,"DNS",0,"DNS",0,"DNS",0,"DNS",0,"DNS",0,"DNS",0,"DNS",0,"DNS",0,"DNS",0,"DNS",0,"DNS",0,"DNS",0,{"$f":"IF('Last Race Results'!$B$5=0,0,IF(ISNA(VLOOKUP($A92,'Last Race Results'!$A$5:$J$44,2,FALSE)),\"DNS\",VLOOKUP($A92,'Last Race Results'!$A$5:$J$44,2,FALSE)))","v":"DNS"},{"$f":"IF('Last Race Results'!$B$5=0,0,IF(ISNA(VLOOKUP($A92,'Last Race Results'!$A$5:$K$44,11,FALSE)),0,VLOOKUP($A92,'Last Race Results'!$A$5:$K$44,11,FALSE)))","v":0}]
[86,{"$f":"IF(ISNA(VLOOKUP($A93,'Entry List'!$A$1:$F$61,B$5,FALSE)),\"\",VLOOKUP($A93,'Entry List'!$A$1:$F$61,B$5,FALSE))","v":""},{"$f":"IF(ISNA(VLOOKUP($A93,'Entry List'!$A$1:$F$61,C$5,FALSE)),\"\",VLOOKUP($A93,'Entry List'!$A$1:$F$61,C$5,FALSE))","v":""},{"$f":"IF(ISNA(VLOOKUP($A93,'Entry List'!$A$1:$F$61,D$5,FALSE)),\"\",VLOOKUP($A93,'Entry List'!$A$1:$F$61,D$5,FALSE))","v":""},{"$f":"IF(ISNA(VLOOKUP($A93,'Entry List'!$A$1:$F$61,E$5,FALSE)),\"\",VLOOKUP($A93,'Entry List'!$A$1:$F$61,E$5,FALSE))","v":""},null,"DNS",0,"DNS",0,"DNS",0,"DNS",0,"DNS",0,"DNS",0,"DNS",0,"DNS",0,"DNS",0,"DNS",0,"DNS",0,"DNS",0,"DNS",0,"DNS",0,"DNS",0,"DNS",0,"DNS",0,"DNS",0,"DNS",0,"DNS",0,"DNS",0,"DNS",0,"DNS",0,"DNS",0,"DNS",0,"DNS",0,"DNS",0,"DNS",0,"DNS",0,"DNS",0,"DNS",0,"DNS",0,"DNS",0,"DNS",0,"DNS",0,{"$f":"IF('Last Race Results'!$B$5=0,0,IF(ISNA(VLOOKUP($A93,'Last Race Results'!$A$5:$J$44,2,FALSE)),\"DNS\",VLOOKUP($A93,'Last Race Results'!$A$5:$J$44,2,FALSE)))","v":"DNS"},{"$f":"IF('Last Race Results'!$B$5=0,0,IF(ISNA(VLOOKUP($A93,'Last Race Results'!$A$5:$K$44,11,FALSE)),0,VLOOKUP($A93,'Last Race Results'!$A$5:$K$44,11,FALSE)))","v":0}]
[87,{"$f":"IF(ISNA(VLOOKUP($A94,'Entry List'!$A$1:$F$61,B$5,FALSE)),\"\",VLOOKUP($A94,'Entry List'!$A$1:$F$61,B$5,FALSE))","v":""},{"$f":"IF(ISNA(VLOOKUP($A94,'Entry List'!$A$1:$F$61,C$5,FALSE)),\"\",VLOOKUP($A94,'Entry List'!$A$1:$F$61,C$5,FALSE))","v":""},{"$f":"IF(ISNA(VLOOKUP($A94,'Entry List'!$A$1:$F$61,D$5,FALSE)),\"\",VLOOKUP($A94,'Entry List'!$A$1:$F$61,D$5,FALSE))","v":""},{"$f":"IF(ISNA(VLOOKUP($A94,'Entry List'!$A$1:$F$61,E$5,FALSE)),\"\",VLOOKUP($A94,'Entry List'!$A$1:$F$61,E$5,FALSE))","v":""},null,"DNS",0,"DNS",0,"DNS",0,"DNS",0,"DNS",0,"DNS",0,"DNS",0,"DNS",0,"DNS",0,"DNS",0,"DNS",0,"DNS",0,"DNS",0,"DNS",0,"DNS",0,"DNS",0,"DNS",0,"DNS",0,"DNS",0,"DNS",0,"DNS",0,"DNS",0,"DNS",0,"DNS",0,"DNS",0,"DNS",0,"DNS",0,"DNS",0,"DNS",0,"DNS",0,"DNS",0,"DNS",0,"DNS",0,"DNS",0,"DNS",0,{"$f":"IF('Last Race Results'!$B$5=0,0,IF(ISNA(VLOOKUP($A94,'Last Race Results'!$A$5:$J$44,2,FALSE)),\"DNS\",VLOOKUP($A94,'Last Race Results'!$A$5:$J$44,2,FALSE)))","v":"DNS"},{"$f":"IF('Last Race Results'!$B$5=0,0,IF(ISNA(VLOOKUP($A94,'Last Race Results'!$A$5:$K$44,11,FALSE)),0,VLOOKUP($A94,'Last Race Results'!$A$5:$K$44,11,FALSE)))","v":0}]
[88,{"$f":"IF(ISNA(VLOOKUP($A95,'Entry List'!$A$1:$F$61,B$5,FALSE)),\"\",VLOOKUP($A95,'Entry List'!$A$1:$F$61,B$5,FALSE))","v":"Alex Bowman"},{"$f":"IF(ISNA(VLOOKUP($A95,'Entry List'!$A$1:$F$61,C$5,FALSE)),\"\",VLOOKUP($A95,'Entry List'!$A$1:$F$61,C$5,FALSE))","v":"Chevrolet"},{"$f":"IF(ISNA(VLOOKUP($A95,'Entry List'!$A$1:$F$61,D$5,FALSE)),\"\",VLOOKUP($A95,'Entry List'!$A$1:$F$61,D$5,FALSE))","v":"Hendrick Motorsports"},{"$f":"IF(ISNA(VLOOKUP($A95,'Entry List'!$A$1:$F$61,E$5,FALSE)),\"\",VLOOKUP($A95,'Entry List'!$A$1:$F$61,E$5,FALSE))","v":"Hendrick Motorsports"},null,11,35,15,22,11,28,35,9,21,16,14,23,18,19,23,14,17,20,2,53,2,48,2,42,7,44,15,22,10,38,14,23,1,49,21,25,17,20,14,23,20,19,14,27,10,30,15,22,18,19,33,4,6,32,23,14,2,35,3,44,37,9,30,7,30,7,5,43,23,14,{"$f":"IF('Last Race Results'!$B$5=0,0,IF(ISNA(VLOOKUP($A95,'Last Race Results'!$A$5:$J$44,2,FALSE)),\"DNS\",VLOOKUP($A95,'Last Race Results'!$A$5:$J$44,2,FALSE)))","v":9},{"$f":"IF('Last Race Results'!$B$5=0,0,IF(ISNA(VLOOKUP($A95,'Last Race Results'!$A$5:$K$44,11,FALSE)),0,VLOOKUP($A95,'Last Race Results'!$A$5:$K$44,11,FALSE)))","v":28}]
[89,{"$f":"IF(ISNA(VLOOKUP($A96,'Entry List'!$A$1:$F$61,B$5,FALSE)),\"\",VLOOKUP($A96,'Entry List'!$A$1:$F$61,B$5,FALSE))","v":""},{"$f":"IF(ISNA(VLOOKUP($A96,'Entry List'!$A$1:$F$61,C$5,FALSE)),\"\",VLOOKUP($A96,'Entry List'!$A$1:$F$61,C$5,FALSE))","v":""},{"$f":"IF(ISNA(VLOOKUP($A96,'Entry List'!$A$1:$F$61,D$5,FALSE)),\"\",VLOOKUP($A96,'Entry List'!$A$1:$F$61,D$5,FALSE))","v":""},{"$f":"IF(ISNA(VLOOKUP($A96,'Entry List'!$A$1:$F$61,E$5,FALSE)),\"\",VLOOKUP($A96,'Entry List'!$A$1:$F$61,E$5,FALSE))","v":""},null,"DNS",0,"DNS",0,"DNS",0,"DNS",0,"DNS",0,"DNS",0,"DNS",0,"DNS",0,"DNS",0,"DNS",0,"DNS",0,"DNS",0,"DNS",0,"DNS",0,"DNS",0,"DNS",0,"DNS",0,"DNS",0,"DNS",0,"DNS",0,"DNS",0,"DNS",0,"DNS",0,"DNS",0,"DNS",0,"DNS",0,"DNS",0,"DNS",0,"DNS",0,"DNS",0,"DNS",0,"DNS",0,"DNS",0,"DNS",0,"DNS",0,{"$f":"IF('Last Race Results'!$B$5=0,0,IF(ISNA(VLOOKUP($A96,'Last Race Results'!$A$5:$J$44,2,FALSE)),\"DNS\",VLOOKUP($A96,'Last Race Results'!$A$5:$J$44,2,FALSE)))","v":"DNS"},{"$f":"IF('Last Race Results'!$B$5=0,0,IF(ISNA(VLOOKUP($A96,'Last Race Results'!$A$5:$K$44,11,FALSE)),0,VLOOKUP($A96,'Last Race Results'!$A$5:$K$44,11,FALSE)))","v":0}]
[90,{"$f":"IF(ISNA(VLOOKUP($A97,'Entry List'!$A$1:$F$61,B$5,FALSE)),\"\",VLOOKUP($A97,'Entry List'!$A$1:$F$61,B$5,FALSE))","v":""},{"$f":"IF(ISNA(VLOOKUP($A97,'Entry List'!$A$1:$F$61,C$5,FALSE)),\"\",VLOOKUP($A97,'Entry List'!$A$1:$F$61,C$5,FALSE))","v":""},{"$f":"IF(ISNA(VLOOKUP($A97,'Entry List'!$A$1:$F$61,D$5,FALSE)),\"\",VLOOKUP($A97,'Entry List'!$A$1:$F$61,D$5,FALSE))","v":""},{"$f":"IF(ISNA(VLOOKUP($A97,'Entry List'!$A$1:$F$61,E$5,FALSE)),\"\",VLOOKUP($A97,'Entry List'!$A$1:$F$61,E$5,FALSE))","v":""},null,"DNS",0,"DNS",0,"DNS",0,"DNS",0,"DNS",0,"DNS",0,"DNS",0,"DNS",0,"DNS",0,"DNS",0,"DNS",0,"DNS",0,"DNS",0,"DNS",0,"DNS",0,"DNS",0,"DNS",0,"DNS",0,"DNS",0,"DNS",0,"DNS",0,"DNS",0,"DNS",0,"DNS",0,"DNS",0,"DNS",0,"DNS",0,"DNS",0,"DNS",0,"DNS",0,"DNS",0,"DNS",0,"DNS",0,"DNS",0,"DNS",0,{"$f":"IF('Last Race Results'!$B$5=0,0,IF(ISNA(VLOOKUP($A97,'Last Race Results'!$A$5:$J$44,2,FALSE)),\"DNS\",VLOOKUP($A97,'Last Race Results'!$A$5:$J$44,2,FALSE)))","v":"DNS"},{"$f":"IF('Last Race Results'!$B$5=0,0,IF(ISNA(VLOOKUP($A97,'Last Race Results'!$A$5:$K$44,11,FALSE)),0,VLOOKUP($A97,'Last Race Results'!$A$5:$K$44,11,FALSE)))","v":0}]
[91,{"$f":"IF(ISNA(VLOOKUP($A98,'Entry List'!$A$1:$F$61,B$5,FALSE)),\"\",VLOOKUP($A98,'Entry List'!$A$1:$F$61,B$5,FALSE))","v":""},{"$f":"IF(ISNA(VLOOKUP($A98,'Entry List'!$A$1:$F$61,C$5,FALSE)),\"\",VLOOKUP($A98,'Entry List'!$A$1:$F$61,C$5,FALSE))","v":""},{"$f":"IF(ISNA(VLOOKUP($A98,'Entry List'!$A$1:$F$61,D$5,FALSE)),\"\",VLOOKUP($A98,'Entry List'!$A$1:$F$61,D$5,FALSE))","v":""},{"$f":"IF(ISNA(VLOOKUP($A98,'Entry List'!$A$1:$F$61,E$5,FALSE)),\"\",VLOOKUP($A98,'Entry List'!$A$1:$F$61,E$5,FALSE))","v":""},null,"DNS",0,"DNS",0,"DNS",0,"DNS",0,"DNS",0,"DNS",0,"DNS",0,"DNS",0,"DNS",0,"DNS",0,"DNS",0,"DNS",0,"DNS",0,"DNS",0,"DNS",0,"DNS",0,"DNS",0,"DNS",0,"DNS",0,"DNS",0,"DNS",0,"DNS",0,"DNS",0,"DNS",0,"DNS",0,"DNS",0,"DNS",0,"DNS",0,"DNS",0,"DNS",0,"DNS",0,"DNS",0,"DNS",0,"DNS",0,"DNS",0,{"$f":"IF('Last Race Results'!$B$5=0,0,IF(ISNA(VLOOKUP($A98,'Last Race Results'!$A$5:$J$44,2,FALSE)),\"DNS\",VLOOKUP($A98,'Last Race Results'!$A$5:$J$44,2,FALSE)))","v":"DNS"},{"$f":"IF('Last Race Results'!$B$5=0,0,IF(ISNA(VLOOKUP($A98,'Last Race Results'!$A$5:$K$44,11,FALSE)),0,VLOOKUP($A98,'Last Race Results'!$A$5:$K$44,11,FALSE)))","v":0}]
[92,{"$f":"IF(ISNA(VLOOKUP($A99,'Entry List'!$A$1:$F$61,B$5,FALSE)),\"\",VLOOKUP($A99,'Entry List'!$A$1:$F$61,B$5,FALSE))","v":""},{"$f":"IF(ISNA(VLOOKUP($A99,'Entry List'!$A$1:$F$61,C$5,FALSE)),\"\",VLOOKUP($A99,'Entry List'!$A$1:$F$61,C$5,FALSE))","v":""},{"$f":"IF(ISNA(VLOOKUP($A99,'Entry List'!$A$1:$F$61,D$5,FALSE)),\"\",VLOOKUP($A99,'Entry List'!$A$1:$F$61,D$5,FALSE))","v":""},{"$f":"IF(ISNA(VLOOKUP($A99,'Entry List'!$A$1:$F$61,E$5,FALSE)),\"\",VLOOKUP($A99,'Entry List'!$A$1:$F$61,E$5,FALSE))","v":""},null,"DNS",0,"DNS",0,"DNS",0,"DNS",0,"DNS",0,"DNS",0,"DNS",0,"DNS",0,"DNS",0,"DNS",0,"DNS",0,"DNS",0,"DNS",0,"DNS",0,"DNS",0,"DNS",0,"DNS",0,"DNS",0,"DNS",0,"DNS",0,"DNS",0,"DNS",0,"DNS",0,"DNS",0,"DNS",0,"DNS",0,"DNS",0,"DNS",0,"DNS",0,"DNS",0,"DNS",0,"DNS",0,"DNS",0,"DNS",0,"DNS",0,{"$f":"IF('Last Race Results'!$B$5=0,0,IF(ISNA(VLOOKUP($A99,'Last Race Results'!$A$5:$J$44,2,FALSE)),\"DNS\",VLOOKUP($A99,'Last Race Results'!$A$5:$J$44,2,FALSE)))","v":"DNS"},{"$f":"IF('Last Race Results'!$B$5=0,0,IF(ISNA(VLOOKUP($A99,'Last Race Results'!$A$5:$K$44,11,FALSE)),0,VLOOKUP($A99,'Last Race Results'!$A$5:$K$44,11,FALSE)))","v":0}]
[93,{"$f":"IF(ISNA(VLOOKUP($A100,'Entry List'!$A$1:$F$61,B$5,FALSE)),\"\",VLOOKUP($A100,'Entry List'!$A$1:$F$61,B$5,FALSE))","v":""},{"$f":"IF(ISNA(VLOOKUP($A100,'Entry List'!$A$1:$F$61,C$5,FALSE)),\"\",VLOOKUP($A100,'Entry List'!$A$1:$F$61,C$5,FALSE))","v":""},{"$f":"IF(ISNA(VLOOKUP($A100,'Entry List'!$A$1:$F$61,D$5,FALSE)),\"\",VLOOKUP($A100,'Entry List'!$A$1:$F$61,D$5,FALSE))","v":""},{"$f":"IF(ISNA(VLOOKUP($A100,'Entry List'!$A$1:$F$61,E$5,FALSE)),\"\",VLOOKUP($A100,'Entry List'!$A$1:$F$61,E$5,FALSE))","v":""},null,"DNS",0,"DNS",0,"DNS",0,"DNS",0,"DNS",0,"DNS",0,"DNS",0,"DNS",0,"DNS",0,"DNS",0,"DNS",0,"DNS",0,"DNS",0,"DNS",0,"DNS",0,"DNS",0,"DNS",0,"DNS",0,"DNS",0,"DNS",0,"DNS",0,"DNS",0,"DNS",0,"DNS",0,"DNS",0,"DNS",0,"DNS",0,"DNS",0,"DNS",0,"DNS",0,"DNS",0,"DNS",0,"DNS",0,"DNS",0,"DNS",0,{"$f":"IF('Last Race Results'!$B$5=0,0,IF(ISNA(VLOOKUP($A100,'Last Race Results'!$A$5:$J$44,2,FALSE)),\"DNS\",VLOOKUP($A100,'Last Race Results'!$A$5:$J$44,2,FALSE)))","v":"DNS"},{"$f":"IF('Last Race Results'!$B$5=0,0,IF(ISNA(VLOOKUP($A100,'Last Race Results'!$A$5:$K$44,11,FALSE)),0,VLOOKUP($A100,'Last Race Results'!$A$5:$K$44,11,FALSE)))","v":0}]
[94,{"$f":"IF(ISNA(VLOOKUP($A101,'Entry List'!$A$1:$F$61,B$5,FALSE)),\"\",VLOOKUP($A101,'Entry List'!$A$1:$F$61,B$5,FALSE))","v":""},{"$f":"IF(ISNA(VLOOKUP($A101,'Entry List'!$A$1:$F$61,C$5,FALSE)),\"\",VLOOKUP($A101,'Entry List'!$A$1:$F$61,C$5,FALSE))","v":""},{"$f":"IF(ISNA(VLOOKUP($A101,'Entry List'!$A$1:$F$61,D$5,FALSE)),\"\",VLOOKUP($A101,'Entry List'!$A$1:$F$61,D$5,FALSE))","v":""},{"$f":"IF(ISNA(VLOOKUP($A101,'Entry List'!$A$1:$F$61,E$5,FALSE)),\"\",VLOOKUP($A101,'Entry List'!$A$1:$F$61,E$5,FALSE))","v":""},null,"DNS",0,"DNS",0,"DNS",0,"DNS",0,"DNS",0,"DNS",0,"DNS",0,"DNS",0,"DNS",0,"DNS",0,"DNS",0,"DNS",0,"DNS",0,"DNS",0,"DNS",0,"DNS",0,"DNS",0,"DNS",0,"DNS",0,"DNS",0,"DNS",0,"DNS",0,"DNS",0,"DNS",0,"DNS",0,"DNS",0,"DNS",0,"DNS",0,"DNS",0,"DNS",0,"DNS",0,"DNS",0,"DNS",0,"DNS",0,"DNS",0,{"$f":"IF('Last Race Results'!$B$5=0,0,IF(ISNA(VLOOKUP($A101,'Last Race Results'!$A$5:$J$44,2,FALSE)),\"DNS\",VLOOKUP($A101,'Last Race Results'!$A$5:$J$44,2,FALSE)))","v":"DNS"},{"$f":"IF('Last Race Results'!$B$5=0,0,IF(ISNA(VLOOKUP($A101,'Last Race Results'!$A$5:$K$44,11,FALSE)),0,VLOOKUP($A101,'Last Race Results'!$A$5:$K$44,11,FALSE)))","v":0}]
[95,{"$f":"IF(ISNA(VLOOKUP($A102,'Entry List'!$A$1:$F$61,B$5,FALSE)),\"\",VLOOKUP($A102,'Entry List'!$A$1:$F$61,B$5,FALSE))","v":"Matt DiBenedetto"},{"$f":"IF(ISNA(VLOOKUP($A102,'Entry List'!$A$1:$F$61,C$5,FALSE)),\"\",VLOOKUP($A102,'Entry List'!$A$1:$F$61,C$5,FALSE))","v":"Toyota"},{"$f":"IF(ISNA(VLOOKUP($A102,'Entry List'!$A$1:$F$61,D$5,FALSE)),\"\",VLOOKUP($A102,'Entry List'!$A$1:$F$61,D$5,FALSE))","v":"Leavine Family Racing"},{"$f":"IF(ISNA(VLOOKUP($A102,'Entry List'!$A$1:$F$61,E$5,FALSE)),\"\",VLOOKUP($A102,'Entry List'!$A$1:$F$61,E$5,FALSE))","v":"Leavine Family Racing"},null,28,14,26,11,21,16,28,9,18,19,20,17,26,11,12,29,24,13,31,7,20,17,36,1,39,1,17,20,21,16,4,33,27,10,8,29,16,21,5,32,17,20,6,31,20,17,2,41,8,29,20,17,21,16,14,23,11,26,7,30,30,7,16,21,16,21,14,23,13,24,{"$f":"IF('Last Race Results'!$B$5=0,0,IF(ISNA(VLOOKUP($A102,'Last Race Results'!$A$5:$J$44,2,FALSE)),\"DNS\",VLOOKUP($A102,'Last Race Results'!$A$5:$J$44,2,FALSE)))","v":20},{"$f":"IF('Last Race Results'!$B$5=0,0,IF(ISNA(VLOOKUP($A102,'Last Race Results'!$A$5:$K$44,11,FALSE)),0,VLOOKUP($A102,'Last Race Results'!$A$5:$K$44,11,FALSE)))","v":17}]
[96,{"$f":"IF(ISNA(VLOOKUP($A103,'Entry List'!$A$1:$F$61,B$5,FALSE)),\"\",VLOOKUP($A103,'Entry List'!$A$1:$F$61,B$5,FALSE))","v":"Drew Herring"},{"$f":"IF(ISNA(VLOOKUP($A103,'Entry List'!$A$1:$F$61,C$5,FALSE)),\"\",VLOOKUP($A103,'Entry List'!$A$1:$F$61,C$5,FALSE))","v":"Toyota"},{"$f":"IF(ISNA(VLOOKUP($A103,'Entry List'!$A$1:$F$61,D$5,FALSE)),\"\",VLOOKUP($A103,'Entry List'!$A$1:$F$61,D$5,FALSE))","v":"Gaunt Brothers Racing"},{"$f":"IF(ISNA(VLOOKUP($A103,'Entry List'!$A$1:$F$61,E$5,FALSE)),\"\",VLOOKUP($A103,'Entry List'!$A$1:$F$61,E$5,FALSE))","v":"Gaunt Brothers Racing"},null,15,22,30,7,31,6,"DNS",0,"DNS",0,"DNS",0,27,10,"DNS",0,"DNS",0,27,10,"DNS",0,"DNS",0,26,11,"DNS",0,"DNS",0,30,7,"DNS",0,31,6,"DNS",0,"DNS",0,"DNS",0,26,11,"DNS",0,"DNS",0,"DNS",0,32,5,"DNS",0,"DNS",0,26,11,"DNS",0,15,22,"DNS",0,"DNS",0,22,15,"DNS",0,{"$f":"IF('Last Race Results'!$B$5=0,0,IF(ISNA(VLOOKUP($A103,'Last Race Results'!$A$5:$J$44,2,FALSE)),\"DNS\",VLOOKUP($A103,'Last Race Results'!$A$5:$J$44,2,FALSE)))","v":29},{"$f":"IF('Last Race Results'!$B$5=0,0,IF(ISNA(VLOOKUP($A103,'Last Race Results'!$A$5:$K$44,11,FALSE)),0,VLOOKUP($A103,'Last Race Results'!$A$5:$K$44,11,FALSE)))","v":8}]
[97,{"$f":"IF(ISNA(VLOOKUP($A104,'Entry List'!$A$1:$F$61,B$5,FALSE)),\"\",VLOOKUP($A104,'Entry List'!$A$1:$F$61,B$5,FALSE))","v":""},{"$f":"IF(ISNA(VLOOKUP($A104,'Entry List'!$A$1:$F$61,C$5,FALSE)),\"\",VLOOKUP($A104,'Entry List'!$A$1:$F$61,C$5,FALSE))","v":""},{"$f":"IF(ISNA(VLOOKUP($A104,'Entry List'!$A$1:$F$61,D$5,FALSE)),\"\",VLOOKUP($A104,'Entry List'!$A$1:$F$61,D$5,FALSE))","v":""},{"$f":"IF(ISNA(VLOOKUP($A104,'Entry List'!$A$1:$F$61,E$5,FALSE)),\"\",VLOOKUP($A104,'Entry List'!$A$1:$F$61,E$5,FALSE))","v":""},null,"DNS",0,"DNS",0,"DNS",0,"DNS",0,"DNS",0,"DNS",0,"DNS",0,"DNS",0,"DNS",0,"DNS",0,"DNS",0,"DNS",0,"DNS",0,"DNS",0,"DNS",0,"DNS",0,"DNS",0,"DNS",0,"DNS",0,"DNS",0,"DNS",0,"DNS",0,"DNS",0,"DNS",0,"DNS",0,"DNS",0,"DNS",0,"DNS",0,"DNS",0,"DNS",0,"DNS",0,"DNS",0,"DNS",0,"DNS",0,"DNS",0,{"$f":"IF('Last Race Results'!$B$5=0,0,IF(ISNA(VLOOKUP($A104,'Last Race Results'!$A$5:$J$44,2,FALSE)),\"DNS\",VLOOKUP($A104,'Last Race Results'!$A$5:$J$44,2,FALSE)))","v":"DNS"},{"$f":"IF('Last Race Results'!$B$5=0,0,IF(ISNA(VLOOKUP($A104,'Last Race Results'!$A$5:$K$44,11,FALSE)),0,VLOOKUP($A104,'Last Race Results'!$A$5:$K$44,11,FALSE)))","v":0}]
[98,{"$f":"IF(ISNA(VLOOKUP($A105,'Entry List'!$A$1:$F$61,B$5,FALSE)),\"\",VLOOKUP($A105,'Entry List'!$A$1:$F$61,B$5,FALSE))","v":""},{"$f":"IF(ISNA(VLOOKUP($A105,'Entry List'!$A$1:$F$61,C$5,FALSE)),\"\",VLOOKUP($A105,'Entry List'!$A$1:$F$61,C$5,FALSE))","v":""},{"$f":"IF(ISNA(VLOOKUP($A105,'Entry List'!$A$1:$F$61,D$5,FALSE)),\"\",VLOOKUP($A105,'Entry List'!$A$1:$F$61,D$5,FALSE))","v":""},{"$f":"IF(ISNA(VLOOKUP($A105,'Entry List'!$A$1:$F$61,E$5,FALSE)),\"\",VLOOKUP($A105,'Entry List'!$A$1:$F$61,E$5,FALSE))","v":""},null,"DNS",0,"DNS",0,"DNS",0,"DNS",0,"DNS",0,"DNS",0,"DNS",0,"DNS",0,"DNS",0,"DNS",0,"DNS",0,"DNS",0,"DNS",0,"DNS",0,"DNS",0,"DNS",0,"DNS",0,"DNS",0,"DNS",0,"DNS",0,"DNS",0,"DNS",0,"DNS",0,"DNS",0,"DNS",0,"DNS",0,"DNS",0,"DNS",0,"DNS",0,"DNS",0,"DNS",0,"DNS",0,"DNS",0,"DNS",0,"DNS",0,{"$f":"IF('Last Race Results'!$B$5=0,0,IF(ISNA(VLOOKUP($A105,'Last Race Results'!$A$5:$J$44,2,FALSE)),\"DNS\",VLOOKUP($A105,'Last Race Results'!$A$5:$J$44,2,FALSE)))","v":"DNS"},{"$f":"IF('Last Race Results'!$B$5=0,0,IF(ISNA(VLOOKUP($A105,'Last Race Results'!$A$5:$K$44,11,FALSE)),0,VLOOKUP($A105,'Last Race Results'!$A$5:$K$44,11,FALSE)))","v":0}]
[99,{"$f":"IF(ISNA(VLOOKUP($A106,'Entry List'!$A$1:$F$61,B$5,FALSE)),\"\",VLOOKUP($A106,'Entry List'!$A$1:$F$61,B$5,FALSE))","v":""},{"$f":"IF(ISNA(VLOOKUP($A106,'Entry List'!$A$1:$F$61,C$5,FALSE)),\"\",VLOOKUP($A106,'Entry List'!$A$1:$F$61,C$5,FALSE))","v":""},{"$f":"IF(ISNA(VLOOKUP($A106,'Entry List'!$A$1:$F$61,D$5,FALSE)),\"\",VLOOKUP($A106,'Entry List'!$A$1:$F$61,D$5,FALSE))","v":""},{"$f":"IF(ISNA(VLOOKUP($A106,'Entry List'!$A$1:$F$61,E$5,FALSE)),\"\",VLOOKUP($A106,'Entry List'!$A$1:$F$61,E$5,FALSE))","v":""},null,"DNS",0,"DNS",0,"DNS",0,"DNS",0,"DNS",0,"DNS",0,"DNS",0,"DNS",0,"DNS",0,"DNS",0,"DNS",0,"DNS",0,"DNS",0,"DNS",0,"DNS",0,"DNS",0,"DNS",0,"DNS",0,"DNS",0,"DNS",0,"DNS",0,"DNS",0,"DNS",0,"DNS",0,"DNS",0,"DNS",0,"DNS",0,"DNS",0,"DNS",0,"DNS",0,"DNS",0,"DNS",0,"DNS",0,"DNS",0,"DNS",0,{"$f":"IF('Last Race Results'!$B$5=0,0,IF(ISNA(VLOOKUP($A106,'Last Race Results'!$A$5:$J$44,2,FALSE)),\"DNS\",VLOOKUP($A106,'Last Race Results'!$A$5:$J$44,2,FALSE)))","v":"DNS"},{"$f":"IF('Last Race Results'!$B$5=0,0,IF(ISNA(VLOOKUP($A106,'Last Race Results'!$A$5:$K$44,11,FALSE)),0,VLOOKUP($A106,'Last Race Results'!$A$5:$K$44,11,FALSE)))","v":0}]
["00",{"$f":"IF(ISNA(VLOOKUP($A107,'Entry List'!$A$1:$F$61,B$5,FALSE)),\"\",VLOOKUP($A107,'Entry List'!$A$1:$F$61,B$5,FALSE))","v":"Landon Cassill (i)"},{"$f":"IF(ISNA(VLOOKUP($A107,'Entry List'!$A$1:$F$61,C$5,FALSE)),\"\",VLOOKUP($A107,'Entry List'!$A$1:$F$61,C$5,FALSE))","v":"Chevrolet"},{"$f":"IF(ISNA(VLOOKUP($A107,'Entry List'!$A$1:$F$61,D$5,FALSE)),\"\",VLOOKUP($A107,'Entry List'!$A$1:$F$61,D$5,FALSE))","v":"StarCom Racing"},{"$f":"IF(ISNA(VLOOKUP($A107,'Entry List'!$A$1:$F$61,E$5,FALSE)),\"\",VLOOKUP($A107,'Entry List'!$A$1:$F$61,E$5,FALSE))","v":"StarCom Racing"},null,20,17,34,3,32,5,33,4,29,8,28,9,30,7,26,11,35,2,34,3,31,6,37,1,37,1,31,6,29,8,31,6,31,6,11,26,"DNS",0,"DNS",0,28,9,29,8,"DNS",0,25,12,25,12,25,12,29,8,28,9,28,9,26,11,14,23,26,11,26,11,27,10,33,4,{"$f":"IF('Last Race Results'!$B$5=0,0,IF(ISNA(VLOOKUP($A107,'Last Race Results'!$A$5:$J$44,2,FALSE)),\"DNS\",VLOOKUP($A107,'Last Race Results'!$A$5:$J$44,2,FALSE)))","v":28},{"$f":"IF('Last Race Results'!$B$5=0,0,IF(ISNA(VLOOKUP($A107,'Last Race Results'!$A$5:$K$44,11,FALSE)),0,VLOOKUP($A107,'Last Race Results'!$A$5:$K$44,11,FALSE)))","v":9}]
["01",{"$f":"IF(ISNA(VLOOKUP($A108,'Entry List'!$A$1:$F$61,B$5,FALSE)),\"\",VLOOKUP($A108,'Entry List'!$A$1:$F$61,B$5,FALSE))","v":""},{"$f":"IF(ISNA(VLOOKUP($A108,'Entry List'!$A$1:$F$61,C$5,FALSE)),\"\",VLOOKUP($A108,'Entry List'!$A$1:$F$61,C$5,FALSE))","v":""},{"$f":"IF(ISNA(VLOOKUP($A108,'Entry List'!$A$1:$F$61,D$5,FALSE)),\"\",VLOOKUP($A108,'Entry List'!$A$1:$F$61,D$5,FALSE))","v":""},{"$f":"IF(ISNA(VLOOKUP($A108,'Entry List'!$A$1:$F$61,E$5,FALSE)),\"\",VLOOKUP($A108,'Entry List'!$A$1:$F$61,E$5,FALSE))","v":""},null,"DNS",0,"DNS",0,"DNS",0,"DNS",0,"DNS",0,"DNS",0,"DNS",0,"DNS",0,"DNS",0,"DNS",0,"DNS",0,"DNS",0,"DNS",0,"DNS",0,"DNS",0,"DNS",0,"DNS",0,"DNS",0,"DNS",0,"DNS",0,"DNS",0,"DNS",0,"DNS",0,"DNS",0,"DNS",0,"DNS",0,"DNS",0,"DNS",0,"DNS",0,"DNS",0,"DNS",0,"DNS",0,"DNS",0,"DNS",0,"DNS",0,{"$f":"IF('Last Race Results'!$B$5=0,0,IF(ISNA(VLOOKUP($A108,'Last Race Results'!$A$5:$J$44,2,FALSE)),\"DNS\",VLOOKUP($A108,'Last Race Results'!$A$5:$J$44,2,FALSE)))","v":"DNS"},{"$f":"IF('Last Race Results'!$B$5=0,0,IF(ISNA(VLOOKUP($A108,'Last Race Results'!$A$5:$K$44,11,FALSE)),0,VLOOKUP($A108,'Last Race Results'!$A$5:$K$44,11,FALSE)))","v":0}]
["02",{"$f":"IF(ISNA(VLOOKUP($A109,'Entry List'!$A$1:$F$61,B$5,FALSE)),\"\",VLOOKUP($A109,'Entry List'!$A$1:$F$61,B$5,FALSE))","v":""},{"$f":"IF(ISNA(VLOOKUP($A109,'Entry List'!$A$1:$F$61,C$5,FALSE)),\"\",VLOOKUP($A109,'Entry List'!$A$1:$F$61,C$5,FALSE))","v":""},{"$f":"IF(ISNA(VLOOKUP($A109,'Entry List'!$A$1:$F$61,D$5,FALSE)),\"\",VLOOKUP($A109,'Entry List'!$A$1:$F$61,D$5,FALSE))","v":""},{"$f":"IF(ISNA(VLOOKUP($A109,'Entry List'!$A$1:$F$61,E$5,FALSE)),\"\",VLOOKUP($A109,'Entry List'!$A$1:$F$61,E$5,FALSE))","v":""},null,"DNS",0,"DNS",0,"DNS",0,"DNS",0,"DNS",0,"DNS",0,"DNS",0,"DNS",0,"DNS",0,"DNS",0,"DNS",0,"DNS",0,"DNS",0,"DNS",0,"DNS",0,"DNS",0,"DNS",0,"DNS",0,"DNS",0,"DNS",0,"DNS",0,"DNS",0,"DNS",0,"DNS",0,"DNS",0,"DNS",0,"DNS",0,"DNS",0,"DNS",0,"DNS",0,"DNS",0,"DNS",0,"DNS",0,"DNS",0,"DNS",0,{"$f":"IF('Last Race Results'!$B$5=0,0,IF(ISNA(VLOOKUP($A109,'Last Race Results'!$A$5:$J$44,2,FALSE)),\"DNS\",VLOOKUP($A109,'Last Race Results'!$A$5:$J$44,2,FALSE)))","v":"DNS"},{"$f":"IF('Last Race Results'!$B$5=0,0,IF(ISNA(VLOOKUP($A109,'Last Race Results'!$A$5:$K$44,11,FALSE)),0,VLOOKUP($A109,'Last Race Results'!$A$5:$K$44,11,FALSE)))","v":0}]
["03",{"$f":"IF(ISNA(VLOOKUP($A110,'Entry List'!$A$1:$F$61,B$5,FALSE)),\"\",VLOOKUP($A110,'Entry List'!$A$1:$F$61,B$5,FALSE))","v":""},{"$f":"IF(ISNA(VLOOKUP($A110,'Entry List'!$A$1:$F$61,C$5,FALSE)),\"\",VLOOKUP($A110,'Entry List'!$A$1:$F$61,C$5,FALSE))","v":""},{"$f":"IF(ISNA(VLOOKUP($A110,'Entry List'!$A$1:$F$61,D$5,FALSE)),\"\",VLOOKUP($A110,'Entry List'!$A$1:$F$61,D$5,FALSE))","v":""},{"$f":"IF(ISNA(VLOOKUP($A110,'Entry List'!$A$1:$F$61,E$5,FALSE)),\"\",VLOOKUP($A110,'Entry List'!$A$1:$F$61,E$5,FALSE))","v":""},null,"DNS",0,"DNS",0,"DNS",0,"DNS",0,"DNS",0,"DNS",0,"DNS",0,"DNS",0,"DNS",0,"DNS",0,"DNS",0,"DNS",0,"DNS",0,"DNS",0,"DNS",0,"DNS",0,"DNS",0,"DNS",0,"DNS",0,"DNS",0,"DNS",0,"DNS",0,"DNS",0,"DNS",0,"DNS",0,"DNS",0,"DNS",0,"DNS",0,"DNS",0,"DNS",0,"DNS",0,"DNS",0,"DNS",0,"DNS",0,"DNS",0,{"$f":"IF('Last Race Results'!$B$5=0,0,IF(ISNA(VLOOKUP($A110,'Last Race Results'!$A$5:$J$44,2,FALSE)),\"DNS\",VLOOKUP($A110,'Last Race Results'!$A$5:$J$44,2,FALSE)))","v":"DNS"},{"$f":"IF('Last Race Results'!$B$5=0,0,IF(ISNA(VLOOKUP($A110,'Last Race Results'!$A$5:$K$44,11,FALSE)),0,VLOOKUP($A110,'Last Race Results'!$A$5:$K$44,11,FALSE)))","v":0}]
["04",{"$f":"IF(ISNA(VLOOKUP($A111,'Entry List'!$A$1:$F$61,B$5,FALSE)),\"\",VLOOKUP($A111,'Entry List'!$A$1:$F$61,B$5,FALSE))","v":""},{"$f":"IF(ISNA(VLOOKUP($A111,'Entry List'!$A$1:$F$61,C$5,FALSE)),\"\",VLOOKUP($A111,'Entry List'!$A$1:$F$61,C$5,FALSE))","v":""},{"$f":"IF(ISNA(VLOOKUP($A111,'Entry List'!$A$1:$F$61,D$5,FALSE)),\"\",VLOOKUP($A111,'Entry List'!$A$1:$F$61,D$5,FALSE))","v":""},{"$f":"IF(ISNA(VLOOKUP($A111,'Entry List'!$A$1:$F$61,E$5,FALSE)),\"\",VLOOKUP($A111,'Entry List'!$A$1:$F$61,E$5,FALSE))","v":""},null,"DNS",0,"DNS",0,"DNS",0,"DNS",0,"DNS",0,"DNS",0,"DNS",0,"DNS",0,"DNS",0,"DNS",0,"DNS",0,"DNS",0,"DNS",0,"DNS",0,"DNS",0,"DNS",0,"DNS",0,"DNS",0,"DNS",0,"DNS",0,"DNS",0,"DNS",0,"DNS",0,"DNS",0,"DNS",0,"DNS",0,"DNS",0,"DNS",0,"DNS",0,"DNS",0,"DNS",0,"DNS",0,"DNS",0,"DNS",0,"DNS",0,{"$f":"IF('Last Race Results'!$B$5=0,0,IF(ISNA(VLOOKUP($A111,'Last Race Results'!$A$5:$J$44,2,FALSE)),\"DNS\",VLOOKUP($A111,'Last Race Results'!$A$5:$J$44,2,FALSE)))","v":"DNS"},{"$f":"IF('Last Race Results'!$B$5=0,0,IF(ISNA(VLOOKUP($A111,'Last Race Results'!$A$5:$K$44,11,FALSE)),0,VLOOKUP($A111,'Last Race Results'!$A$5:$K$44,11,FALSE)))","v":0}]
["05",{"$f":"IF(ISNA(VLOOKUP($A112,'Entry List'!$A$1:$F$61,B$5,FALSE)),\"\",VLOOKUP($A112,'Entry List'!$A$1:$F$61,B$5,FALSE))","v":""},{"$f":"IF(ISNA(VLOOKUP($A112,'Entry List'!$A$1:$F$61,C$5,FALSE)),\"\",VLOOKUP($A112,'Entry List'!$A$1:$F$61,C$5,FALSE))","v":""},{"$f":"IF(ISNA(VLOOKUP($A112,'Entry List'!$A$1:$F$61,D$5,FALSE)),\"\",VLOOKUP($A112,'Entry List'!$A$1:$F$61,D$5,FALSE))","v":""},{"$f":"IF(ISNA(VLOOKUP($A112,'Entry List'!$A$1:$F$61,E$5,FALSE)),\"\",VLOOKUP($A112,'Entry List'!$A$1:$F$61,E$5,FALSE))","v":""},null,"DNS",0,"DNS",0,"DNS",0,"DNS",0,"DNS",0,"DNS",0,"DNS",0,"DNS",0,"DNS",0,"DNS",0,"DNS",0,"DNS",0,"DNS",0,"DNS",0,"DNS",0,"DNS",0,"DNS",0,"DNS",0,"DNS",0,"DNS",0,"DNS",0,"DNS",0,"DNS",0,"DNS",0,"DNS",0,"DNS",0,"DNS",0,"DNS",0,"DNS",0,"DNS",0,"DNS",0,"DNS",0,"DNS",0,"DNS",0,"DNS",0,{"$f":"IF('Last Race Results'!$B$5=0,0,IF(ISNA(VLOOKUP($A112,'Last Race Results'!$A$5:$J$44,2,FALSE)),\"DNS\",VLOOKUP($A112,'Last Race Results'!$A$5:$J$44,2,FALSE)))","v":"DNS"},{"$f":"IF('Last Race Results'!$B$5=0,0,IF(ISNA(VLOOKUP($A112,'Last Race Results'!$A$5:$K$44,11,FALSE)),0,VLOOKUP($A112,'Last Race Results'!$A$5:$K$44,11,FALSE)))","v":0}]
["06",{"$f":"IF(ISNA(VLOOKUP($A113,'Entry List'!$A$1:$F$61,B$5,FALSE)),\"\",VLOOKUP($A113,'Entry List'!$A$1:$F$61,B$5,FALSE))","v":""},{"$f":"IF(ISNA(VLOOKUP($A113,'Entry List'!$A$1:$F$61,C$5,FALSE)),\"\",VLOOKUP($A113,'Entry List'!$A$1:$F$61,C$5,FALSE))","v":""},{"$f":"IF(ISNA(VLOOKUP($A113,'Entry List'!$A$1:$F$61,D$5,FALSE)),\"\",VLOOKUP($A113,'Entry List'!$A$1:$F$61,D$5,FALSE))","v":""},{"$f":"IF(ISNA(VLOOKUP($A113,'Entry List'!$A$1:$F$61,E$5,FALSE)),\"\",VLOOKUP($A113,'Entry List'!$A$1:$F$61,E$5,FALSE))","v":""},null,"DNS",0,"DNS",0,"DNS",0,"DNS",0,"DNS",0,"DNS",0,"DNS",0,"DNS",0,"DNS",0,"DNS",0,"DNS",0,"DNS",0,"DNS",0,"DNS",0,"DNS",0,"DNS",0,"DNS",0,"DNS",0,"DNS",0,"DNS",0,"DNS",0,"DNS",0,"DNS",0,"DNS",0,"DNS",0,"DNS",0,"DNS",0,"DNS",0,"DNS",0,"DNS",0,"DNS",0,"DNS",0,"DNS",0,"DNS",0,"DNS",0,{"$f":"IF('Last Race Results'!$B$5=0,0,IF(ISNA(VLOOKUP($A113,'Last Race Results'!$A$5:$J$44,2,FALSE)),\"DNS\",VLOOKUP($A113,'Last Race Results'!$A$5:$J$44,2,FALSE)))","v":"DNS"},{"$f":"IF('Last Race Results'!$B$5=0,0,IF(ISNA(VLOOKUP($A113,'Last Race Results'!$A$5:$K$44,11,FALSE)),0,VLOOKUP($A113,'Last Race Results'!$A$5:$K$44,11,FALSE)))","v":0}]
["07",{"$f":"IF(ISNA(VLOOKUP($A114,'Entry List'!$A$1:$F$61,B$5,FALSE)),\"\",VLOOKUP($A114,'Entry List'!$A$1:$F$61,B$5,FALSE))","v":""},{"$f":"IF(ISNA(VLOOKUP($A114,'Entry List'!$A$1:$F$61,C$5,FALSE)),\"\",VLOOKUP($A114,'Entry List'!$A$1:$F$61,C$5,FALSE))","v":""},{"$f":"IF(ISNA(VLOOKUP($A114,'Entry List'!$A$1:$F$61,D$5,FALSE)),\"\",VLOOKUP($A114,'Entry List'!$A$1:$F$61,D$5,FALSE))","v":""},{"$f":"IF(ISNA(VLOOKUP($A114,'Entry List'!$A$1:$F$61,E$5,FALSE)),\"\",VLOOKUP($A114,'Entry List'!$A$1:$F$61,E$5,FALSE))","v":""},null,"DNS",0,"DNS",0,"DNS",0,"DNS",0,"DNS",0,"DNS",0,"DNS",0,"DNS",0,"DNS",0,"DNS",0,"DNS",0,"DNS",0,"DNS",0,"DNS",0,"DNS",0,"DNS",0,"DNS",0,"DNS",0,"DNS",0,"DNS",0,"DNS",0,"DNS",0,"DNS",0,"DNS",0,"DNS",0,"DNS",0,"DNS",0,"DNS",0,"DNS",0,"DNS",0,"DNS",0,"DNS",0,"DNS",0,"DNS",0,"DNS",0,{"$f":"IF('Last Race Results'!$B$5=0,0,IF(ISNA(VLOOKUP($A114,'Last Race Results'!$A$5:$J$44,2,FALSE)),\"DNS\",VLOOKUP($A114,'Last Race Results'!$A$5:$J$44,2,FALSE)))","v":"DNS"},{"$f":"IF('Last Race Results'!$B$5=0,0,IF(ISNA(VLOOKUP($A114,'Last Race Results'!$A$5:$K$44,11,FALSE)),0,VLOOKUP($A114,'Last Race Results'!$A$5:$K$44,11,FALSE)))","v":0}]
["08",{"$f":"IF(ISNA(VLOOKUP($A115,'Entry List'!$A$1:$F$61,B$5,FALSE)),\"\",VLOOKUP($A115,'Entry List'!$A$1:$F$61,B$5,FALSE))","v":""},{"$f":"IF(ISNA(VLOOKUP($A115,'Entry List'!$A$1:$F$61,C$5,FALSE)),\"\",VLOOKUP($A115,'Entry List'!$A$1:$F$61,C$5,FALSE))","v":""},{"$f":"IF(ISNA(VLOOKUP($A115,'Entry List'!$A$1:$F$61,D$5,FALSE)),\"\",VLOOKUP($A115,'Entry List'!$A$1:$F$61,D$5,FALSE))","v":""},{"$f":"IF(ISNA(VLOOKUP($A115,'Entry List'!$A$1:$F$61,E$5,FALSE)),\"\",VLOOKUP($A115,'Entry List'!$A$1:$F$61,E$5,FALSE))","v":""},null,"DNS",0,"DNS",0,"DNS",0,"DNS",0,"DNS",0,"DNS",0,"DNS",0,"DNS",0,"DNS",0,"DNS",0,"DNS",0,"DNS",0,"DNS",0,"DNS",0,"DNS",0,"DNS",0,"DNS",0,"DNS",0,"DNS",0,"DNS",0,"DNS",0,"DNS",0,"DNS",0,"DNS",0,"DNS",0,"DNS",0,"DNS",0,"DNS",0,"DNS",0,"DNS",0,"DNS",0,"DNS",0,"DNS",0,"DNS",0,"DNS",0,{"$f":"IF('Last Race Results'!$B$5=0,0,IF(ISNA(VLOOKUP($A115,'Last Race Results'!$A$5:$J$44,2,FALSE)),\"DNS\",VLOOKUP($A115,'Last Race Results'!$A$5:$J$44,2,FALSE)))","v":"DNS"},{"$f":"IF('Last Race Results'!$B$5=0,0,IF(ISNA(VLOOKUP($A115,'Last Race Results'!$A$5:$K$44,11,FALSE)),0,VLOOKUP($A115,'Last Race Results'!$A$5:$K$44,11,FALSE)))","v":0}]
["09",{"$f":"IF(ISNA(VLOOKUP($A116,'Entry List'!$A$1:$F$61,B$5,FALSE)),\"\",VLOOKUP($A116,'Entry List'!$A$1:$F$61,B$5,FALSE))","v":""},{"$f":"IF(ISNA(VLOOKUP($A116,'Entry List'!$A$1:$F$61,C$5,FALSE)),\"\",VLOOKUP($A116,'Entry List'!$A$1:$F$61,C$5,FALSE))","v":""},{"$f":"IF(ISNA(VLOOKUP($A116,'Entry List'!$A$1:$F$61,D$5,FALSE)),\"\",VLOOKUP($A116,'Entry List'!$A$1:$F$61,D$5,FALSE))","v":""},{"$f":"IF(ISNA(VLOOKUP($A116,'Entry List'!$A$1:$F$61,E$5,FALSE)),\"\",VLOOKUP($A116,'Entry List'!$A$1:$F$61,E$5,FALSE))","v":""},null,"DNS",0,"DNS",0,"DNS",0,"DNS",0,"DNS",0,"DNS",0,"DNS",0,"DNS",0,"DNS",0,"DNS",0,"DNS",0,"DNS",0,"DNS",0,"DNS",0,"DNS",0,"DNS",0,"DNS",0,"DNS",0,"DNS",0,"DNS",0,"DNS",0,"DNS",0,"DNS",0,"DNS",0,"DNS",0,"DNS",0,"DNS",0,"DNS",0,"DNS",0,"DNS",0,"DNS",0,"DNS",0,"DNS",0,"DNS",0,"DNS",0,{"$f":"IF('Last Race Results'!$B$5=0,0,IF(ISNA(VLOOKUP($A116,'Last Race Results'!$A$5:$J$44,2,FALSE)),\"DNS\",VLOOKUP($A116,'Last Race Results'!$A$5:$J$44,2,FALSE)))","v":"DNS"},{"$f":"IF('Last Race Results'!$B$5=0,0,IF(ISNA(VLOOKUP($A116,'Last Race Results'!$A$5:$K$44,11,FALSE)),0,VLOOKUP($A116,'Last Race Results'!$A$5:$K$44,11,FALSE)))","v":0}]
[100,{"$f":"IF(ISNA(VLOOKUP($A117,'Entry List'!$A$1:$F$61,B$5,FALSE)),\"\",VLOOKUP($A117,'Entry List'!$A$1:$F$61,B$5,FALSE))","v":""},{"$f":"IF(ISNA(VLOOKUP($A117,'Entry List'!$A$1:$F$61,C$5,FALSE)),\"\",VLOOKUP($A117,'Entry List'!$A$1:$F$61,C$5,FALSE))","v":""},{"$f":"IF(ISNA(VLOOKUP($A117,'Entry List'!$A$1:$F$61,D$5,FALSE)),\"\",VLOOKUP($A117,'Entry List'!$A$1:$F$61,D$5,FALSE))","v":""},{"$f":"IF(ISNA(VLOOKUP($A117,'Entry List'!$A$1:$F$61,E$5,FALSE)),\"\",VLOOKUP($A117,'Entry List'!$A$1:$F$61,E$5,FALSE))","v":""},null,"DNS",0,"DNS",0,"DNS",0,"DNS",0,"DNS",0,"DNS",0,"DNS",0,"DNS",0,"DNS",0,"DNS",0,"DNS",0,"DNS",0,"DNS",0,"DNS",0,"DNS",0,"DNS",0,"DNS",0,"DNS",0,"DNS",0,"DNS",0,"DNS",0,"DNS",0,"DNS",0,"DNS",0,"DNS",0,"DNS",0,"DNS",0,"DNS",0,"DNS",0,"DNS",0,"DNS",0,"DNS",0,"DNS",0,"DNS",0,"DNS",0,{"$f":"IF('Last Race Results'!$B$5=0,0,IF(ISNA(VLOOKUP($A117,'Last Race Results'!$A$5:$J$44,2,FALSE)),\"DNS\",VLOOKUP($A117,'Last Race Results'!$A$5:$J$44,2,FALSE)))","v":"DNS"},{"$f":"IF('Last Race Results'!$B$5=0,0,IF(ISNA(VLOOKUP($A117,'Last Race Results'!$A$5:$K$44,11,FALSE)),0,VLOOKUP($A117,'Last Race Results'!$A$5:$K$44,11,FALSE)))","v":0}]
[101,{"$f":"IF(ISNA(VLOOKUP($A118,'Entry List'!$A$1:$F$61,B$5,FALSE)),\"\",VLOOKUP($A118,'Entry List'!$A$1:$F$61,B$5,FALSE))","v":""},{"$f":"IF(ISNA(VLOOKUP($A118,'Entry List'!$A$1:$F$61,C$5,FALSE)),\"\",VLOOKUP($A118,'Entry List'!$A$1:$F$61,C$5,FALSE))","v":""},{"$f":"IF(ISNA(VLOOKUP($A118,'Entry List'!$A$1:$F$61,D$5,FALSE)),\"\",VLOOKUP($A118,'Entry List'!$A$1:$F$61,D$5,FALSE))","v":""},{"$f":"IF(ISNA(VLOOKUP($A118,'Entry List'!$A$1:$F$61,E$5,FALSE)),\"\",VLOOKUP($A118,'Entry List'!$A$1:$F$61,E$5,FALSE))","v":""},null,"DNS",0,"DNS",0,"DNS",0,"DNS",0,"DNS",0,"DNS",0,"DNS",0,"DNS",0,"DNS",0,"DNS",0,"DNS",0,"DNS",0,"DNS",0,"DNS",0,"DNS",0,"DNS",0,"DNS",0,"DNS",0,"DNS",0,"DNS",0,"DNS",0,"DNS",0,"DNS",0,"DNS",0,"DNS",0,"DNS",0,"DNS",0,"DNS",0,"DNS",0,"DNS",0,"DNS",0,"DNS",0,"DNS",0,"DNS",0,"DNS",0,{"$f":"IF('Last Race Results'!$B$5=0,0,IF(ISNA(VLOOKUP($A118,'Last Race Results'!$A$5:$J$44,2,FALSE)),\"DNS\",VLOOKUP($A118,'Last Race Results'!$A$5:$J$44,2,FALSE)))","v":"DNS"},{"$f":"IF('Last Race Results'!$B$5=0,0,IF(ISNA(VLOOKUP($A118,'Last Race Results'!$A$5:$K$44,11,FALSE)),0,VLOOKUP($A118,'Last Race Results'!$A$5:$K$44,11,FALSE)))","v":0}]
[102,{"$f":"IF(ISNA(VLOOKUP($A119,'Entry List'!$A$1:$F$61,B$5,FALSE)),\"\",VLOOKUP($A119,'Entry List'!$A$1:$F$61,B$5,FALSE))","v":""},{"$f":"IF(ISNA(VLOOKUP($A119,'Entry List'!$A$1:$F$61,C$5,FALSE)),\"\",VLOOKUP($A119,'Entry List'!$A$1:$F$61,C$5,FALSE))","v":""},{"$f":"IF(ISNA(VLOOKUP($A119,'Entry List'!$A$1:$F$61,D$5,FALSE)),\"\",VLOOKUP($A119,'Entry List'!$A$1:$F$61,D$5,FALSE))","v":""},{"$f":"IF(ISNA(VLOOKUP($A119,'Entry List'!$A$1:$F$61,E$5,FALSE)),\"\",VLOOKUP($A119,'Entry List'!$A$1:$F$61,E$5,FALSE))","v":""},null,"DNS",0,"DNS",0,"DNS",0,"DNS",0,"DNS",0,"DNS",0,"DNS",0,"DNS",0,"DNS",0,"DNS",0,"DNS",0,"DNS",0,"DNS",0,"DNS",0,"DNS",0,"DNS",0,"DNS",0,"DNS",0,"DNS",0,"DNS",0,"DNS",0,"DNS",0,"DNS",0,"DNS",0,"DNS",0,"DNS",0,"DNS",0,"DNS",0,"DNS",0,"DNS",0,"DNS",0,"DNS",0,"DNS",0,"DNS",0,"DNS",0,{"$f":"IF('Last Race Results'!$B$5=0,0,IF(ISNA(VLOOKUP($A119,'Last Race Results'!$A$5:$J$44,2,FALSE)),\"DNS\",VLOOKUP($A119,'Last Race Results'!$A$5:$J$44,2,FALSE)))","v":"DNS"},{"$f":"IF('Last Race Results'!$B$5=0,0,IF(ISNA(VLOOKUP($A119,'Last Race Results'!$A$5:$K$44,11,FALSE)),0,VLOOKUP($A119,'Last Race Results'!$A$5:$K$44,11,FALSE)))","v":0}]
[103,{"$f":"IF(ISNA(VLOOKUP($A120,'Entry List'!$A$1:$F$61,B$5,FALSE)),\"\",VLOOKUP($A120,'Entry List'!$A$1:$F$61,B$5,FALSE))","v":""},{"$f":"IF(ISNA(VLOOKUP($A120,'Entry List'!$A$1:$F$61,C$5,FALSE)),\"\",VLOOKUP($A120,'Entry List'!$A$1:$F$61,C$5,FALSE))","v":""},{"$f":"IF(ISNA(VLOOKUP($A120,'Entry List'!$A$1:$F$61,D$5,FALSE)),\"\",VLOOKUP($A120,'Entry List'!$A$1:$F$61,D$5,FALSE))","v":""},{"$f":"IF(ISNA(VLOOKUP($A120,'Entry List'!$A$1:$F$61,E$5,FALSE)),\"\",VLOOKUP($A120,'Entry List'!$A$1:$F$61,E$5,FALSE))","v":""},null,"DNS",0,"DNS",0,"DNS",0,"DNS",0,"DNS",0,"DNS",0,"DNS",0,"DNS",0,"DNS",0,"DNS",0,"DNS",0,"DNS",0,"DNS",0,"DNS",0,"DNS",0,"DNS",0,"DNS",0,"DNS",0,"DNS",0,"DNS",0,"DNS",0,"DNS",0,"DNS",0,"DNS",0,"DNS",0,"DNS",0,"DNS",0,"DNS",0,"DNS",0,"DNS",0,"DNS",0,"DNS",0,"DNS",0,"DNS",0,"DNS",0,{"$f":"IF('Last Race Results'!$B$5=0,0,IF(ISNA(VLOOKUP($A120,'Last Race Results'!$A$5:$J$44,2,FALSE)),\"DNS\",VLOOKUP($A120,'Last Race Results'!$A$5:$J$44,2,FALSE)))","v":"DNS"},{"$f":"IF('Last Race Results'!$B$5=0,0,IF(ISNA(VLOOKUP($A120,'Last Race Results'!$A$5:$K$44,11,FALSE)),0,VLOOKUP($A120,'Last Race Results'!$A$5:$K$44,11,FALSE)))","v":0}]
[104,{"$f":"IF(ISNA(VLOOKUP($A121,'Entry List'!$A$1:$F$61,B$5,FALSE)),\"\",VLOOKUP($A121,'Entry List'!$A$1:$F$61,B$5,FALSE))","v":""},{"$f":"IF(ISNA(VLOOKUP($A121,'Entry List'!$A$1:$F$61,C$5,FALSE)),\"\",VLOOKUP($A121,'Entry List'!$A$1:$F$61,C$5,FALSE))","v":""},{"$f":"IF(ISNA(VLOOKUP($A121,'Entry List'!$A$1:$F$61,D$5,FALSE)),\"\",VLOOKUP($A121,'Entry List'!$A$1:$F$61,D$5,FALSE))","v":""},{"$f":"IF(ISNA(VLOOKUP($A121,'Entry List'!$A$1:$F$61,E$5,FALSE)),\"\",VLOOKUP($A121,'Entry List'!$A$1:$F$61,E$5,FALSE))","v":""},null,"DNS",0,"DNS",0,"DNS",0,"DNS",0,"DNS",0,"DNS",0,"DNS",0,"DNS",0,"DNS",0,"DNS",0,"DNS",0,"DNS",0,"DNS",0,"DNS",0,"DNS",0,"DNS",0,"DNS",0,"DNS",0,"DNS",0,"DNS",0,"DNS",0,"DNS",0,"DNS",0,"DNS",0,"DNS",0,"DNS",0,"DNS",0,"DNS",0,"DNS",0,"DNS",0,"DNS",0,"DNS",0,"DNS",0,"DNS",0,"DNS",0,{"$f":"IF('Last Race Results'!$B$5=0,0,IF(ISNA(VLOOKUP($A121,'Last Race Results'!$A$5:$J$44,2,FALSE)),\"DNS\",VLOOKUP($A121,'Last Race Results'!$A$5:$J$44,2,FALSE)))","v":"DNS"},{"$f":"IF('Last Race Results'!$B$5=0,0,IF(ISNA(VLOOKUP($A121,'Last Race Results'!$A$5:$K$44,11,FALSE)),0,VLOOKUP($A121,'Last Race Results'!$A$5:$K$44,11,FALSE)))","v":0}]
[105,{"$f":"IF(ISNA(VLOOKUP($A122,'Entry List'!$A$1:$F$61,B$5,FALSE)),\"\",VLOOKUP($A122,'Entry List'!$A$1:$F$61,B$5,FALSE))","v":""},{"$f":"IF(ISNA(VLOOKUP($A122,'Entry List'!$A$1:$F$61,C$5,FALSE)),\"\",VLOOKUP($A122,'Entry List'!$A$1:$F$61,C$5,FALSE))","v":""},{"$f":"IF(ISNA(VLOOKUP($A122,'Entry List'!$A$1:$F$61,D$5,FALSE)),\"\",VLOOKUP($A122,'Entry List'!$A$1:$F$61,D$5,FALSE))","v":""},{"$f":"IF(ISNA(VLOOKUP($A122,'Entry List'!$A$1:$F$61,E$5,FALSE)),\"\",VLOOKUP($A122,'Entry List'!$A$1:$F$61,E$5,FALSE))","v":""},null,"DNS",0,"DNS",0,"DNS",0,"DNS",0,"DNS",0,"DNS",0,"DNS",0,"DNS",0,"DNS",0,"DNS",0,"DNS",0,"DNS",0,"DNS",0,"DNS",0,"DNS",0,"DNS",0,"DNS",0,"DNS",0,"DNS",0,"DNS",0,"DNS",0,"DNS",0,"DNS",0,"DNS",0,"DNS",0,"DNS",0,"DNS",0,"DNS",0,"DNS",0,"DNS",0,"DNS",0,"DNS",0,"DNS",0,"DNS",0,"DNS",0,{"$f":"IF('Last Race Results'!$B$5=0,0,IF(ISNA(VLOOKUP($A122,'Last Race Results'!$A$5:$J$44,2,FALSE)),\"DNS\",VLOOKUP($A122,'Last Race Results'!$A$5:$J$44,2,FALSE)))","v":"DNS"},{"$f":"IF('Last Race Results'!$B$5=0,0,IF(ISNA(VLOOKUP($A122,'Last Race Results'!$A$5:$K$44,11,FALSE)),0,VLOOKUP($A122,'Last Race Results'!$A$5:$K$44,11,FALSE)))","v":0}]
[106,{"$f":"IF(ISNA(VLOOKUP($A123,'Entry List'!$A$1:$F$61,B$5,FALSE)),\"\",VLOOKUP($A123,'Entry List'!$A$1:$F$61,B$5,FALSE))","v":""},{"$f":"IF(ISNA(VLOOKUP($A123,'Entry List'!$A$1:$F$61,C$5,FALSE)),\"\",VLOOKUP($A123,'Entry List'!$A$1:$F$61,C$5,FALSE))","v":""},{"$f":"IF(ISNA(VLOOKUP($A123,'Entry List'!$A$1:$F$61,D$5,FALSE)),\"\",VLOOKUP($A123,'Entry List'!$A$1:$F$61,D$5,FALSE))","v":""},{"$f":"IF(ISNA(VLOOKUP($A123,'Entry List'!$A$1:$F$61,E$5,FALSE)),\"\",VLOOKUP($A123,'Entry List'!$A$1:$F$61,E$5,FALSE))","v":""},null,"DNS",0,"DNS",0,"DNS",0,"DNS",0,"DNS",0,"DNS",0,"DNS",0,"DNS",0,"DNS",0,"DNS",0,"DNS",0,"DNS",0,"DNS",0,"DNS",0,"DNS",0,"DNS",0,"DNS",0,"DNS",0,"DNS",0,"DNS",0,"DNS",0,"DNS",0,"DNS",0,"DNS",0,"DNS",0,"DNS",0,"DNS",0,"DNS",0,"DNS",0,"DNS",0,"DNS",0,"DNS",0,"DNS",0,"DNS",0,"DNS",0,{"$f":"IF('Last Race Results'!$B$5=0,0,IF(ISNA(VLOOKUP($A123,'Last Race Results'!$A$5:$J$44,2,FALSE)),\"DNS\",VLOOKUP($A123,'Last Race Results'!$A$5:$J$44,2,FALSE)))","v":"DNS"},{"$f":"IF('Last Race Results'!$B$5=0,0,IF(ISNA(VLOOKUP($A123,'Last Race Results'!$A$5:$K$44,11,FALSE)),0,VLOOKUP($A123,'Last Race Results'!$A$5:$K$44,11,FALSE)))","v":0}]
[107,{"$f":"IF(ISNA(VLOOKUP($A124,'Entry List'!$A$1:$F$61,B$5,FALSE)),\"\",VLOOKUP($A124,'Entry List'!$A$1:$F$61,B$5,FALSE))","v":""},{"$f":"IF(ISNA(VLOOKUP($A124,'Entry List'!$A$1:$F$61,C$5,FALSE)),\"\",VLOOKUP($A124,'Entry List'!$A$1:$F$61,C$5,FALSE))","v":""},{"$f":"IF(ISNA(VLOOKUP($A124,'Entry List'!$A$1:$F$61,D$5,FALSE)),\"\",VLOOKUP($A124,'Entry List'!$A$1:$F$61,D$5,FALSE))","v":""},{"$f":"IF(ISNA(VLOOKUP($A124,'Entry List'!$A$1:$F$61,E$5,FALSE)),\"\",VLOOKUP($A124,'Entry List'!$A$1:$F$61,E$5,FALSE))","v":""},null,"DNS",0,"DNS",0,"DNS",0,"DNS",0,"DNS",0,"DNS",0,"DNS",0,"DNS",0,"DNS",0,"DNS",0,"DNS",0,"DNS",0,"DNS",0,"DNS",0,"DNS",0,"DNS",0,"DNS",0,"DNS",0,"DNS",0,"DNS",0,"DNS",0,"DNS",0,"DNS",0,"DNS",0,"DNS",0,"DNS",0,"DNS",0,"DNS",0,"DNS",0,"DNS",0,"DNS",0,"DNS",0,"DNS",0,"DNS",0,"DNS",0,{"$f":"IF('Last Race Results'!$B$5=0,0,IF(ISNA(VLOOKUP($A124,'Last Race Results'!$A$5:$J$44,2,FALSE)),\"DNS\",VLOOKUP($A124,'Last Race Results'!$A$5:$J$44,2,FALSE)))","v":"DNS"},{"$f":"IF('Last Race Results'!$B$5=0,0,IF(ISNA(VLOOKUP($A124,'Last Race Results'!$A$5:$K$44,11,FALSE)),0,VLOOKUP($A124,'Last Race Results'!$A$5:$K$44,11,FALSE)))","v":0}]
[108,{"$f":"IF(ISNA(VLOOKUP($A125,'Entry List'!$A$1:$F$61,B$5,FALSE)),\"\",VLOOKUP($A125,'Entry List'!$A$1:$F$61,B$5,FALSE))","v":""},{"$f":"IF(ISNA(VLOOKUP($A125,'Entry List'!$A$1:$F$61,C$5,FALSE)),\"\",VLOOKUP($A125,'Entry List'!$A$1:$F$61,C$5,FALSE))","v":""},{"$f":"IF(ISNA(VLOOKUP($A125,'Entry List'!$A$1:$F$61,D$5,FALSE)),\"\",VLOOKUP($A125,'Entry List'!$A$1:$F$61,D$5,FALSE))","v":""},{"$f":"IF(ISNA(VLOOKUP($A125,'Entry List'!$A$1:$F$61,E$5,FALSE)),\"\",VLOOKUP($A125,'Entry List'!$A$1:$F$61,E$5,FALSE))","v":""},null,"DNS",0,"DNS",0,"DNS",0,"DNS",0,"DNS",0,"DNS",0,"DNS",0,"DNS",0,"DNS",0,"DNS",0,"DNS",0,"DNS",0,"DNS",0,"DNS",0,"DNS",0,"DNS",0,"DNS",0,"DNS",0,"DNS",0,"DNS",0,"DNS",0,"DNS",0,"DNS",0,"DNS",0,"DNS",0,"DNS",0,"DNS",0,"DNS",0,"DNS",0,"DNS",0,"DNS",0,"DNS",0,"DNS",0,"DNS",0,"DNS",0,{"$f":"IF('Last Race Results'!$B$5=0,0,IF(ISNA(VLOOKUP($A125,'Last Race Results'!$A$5:$J$44,2,FALSE)),\"DNS\",VLOOKUP($A125,'Last Race Results'!$A$5:$J$44,2,FALSE)))","v":"DNS"},{"$f":"IF('Last Race Results'!$B$5=0,0,IF(ISNA(VLOOKUP($A125,'Last Race Results'!$A$5:$K$44,11,FALSE)),0,VLOOKUP($A125,'Last Race Results'!$A$5:$K$44,11,FALSE)))","v":0}]
[109,{"$f":"IF(ISNA(VLOOKUP($A126,'Entry List'!$A$1:$F$61,B$5,FALSE)),\"\",VLOOKUP($A126,'Entry List'!$A$1:$F$61,B$5,FALSE))","v":""},{"$f":"IF(ISNA(VLOOKUP($A126,'Entry List'!$A$1:$F$61,C$5,FALSE)),\"\",VLOOKUP($A126,'Entry List'!$A$1:$F$61,C$5,FALSE))","v":""},{"$f":"IF(ISNA(VLOOKUP($A126,'Entry List'!$A$1:$F$61,D$5,FALSE)),\"\",VLOOKUP($A126,'Entry List'!$A$1:$F$61,D$5,FALSE))","v":""},{"$f":"IF(ISNA(VLOOKUP($A126,'Entry List'!$A$1:$F$61,E$5,FALSE)),\"\",VLOOKUP($A126,'Entry List'!$A$1:$F$61,E$5,FALSE))","v":""},null,"DNS",0,"DNS",0,"DNS",0,"DNS",0,"DNS",0,"DNS",0,"DNS",0,"DNS",0,"DNS",0,"DNS",0,"DNS",0,"DNS",0,"DNS",0,"DNS",0,"DNS",0,"DNS",0,"DNS",0,"DNS",0,"DNS",0,"DNS",0,"DNS",0,"DNS",0,"DNS",0,"DNS",0,"DNS",0,"DNS",0,"DNS",0,"DNS",0,"DNS",0,"DNS",0,"DNS",0,"DNS",0,"DNS",0,"DNS",0,"DNS",0,{"$f":"IF('Last Race Results'!$B$5=0,0,IF(ISNA(VLOOKUP($A126,'Last Race Results'!$A$5:$J$44,2,FALSE)),\"DNS\",VLOOKUP($A126,'Last Race Results'!$A$5:$J$44,2,FALSE)))","v":"DNS"},{"$f":"IF('Last Race Results'!$B$5=0,0,IF(ISNA(VLOOKUP($A126,'Last Race Results'!$A$5:$K$44,11,FALSE)),0,VLOOKUP($A126,'Last Race Results'!$A$5:$K$44,11,FALSE)))","v":0}]
[110,{"$f":"IF(ISNA(VLOOKUP($A127,'Entry List'!$A$1:$F$61,B$5,FALSE)),\"\",VLOOKUP($A127,'Entry List'!$A$1:$F$61,B$5,FALSE))","v":""},{"$f":"IF(ISNA(VLOOKUP($A127,'Entry List'!$A$1:$F$61,C$5,FALSE)),\"\",VLOOKUP($A127,'Entry List'!$A$1:$F$61,C$5,FALSE))","v":""},{"$f":"IF(ISNA(VLOOKUP($A127,'Entry List'!$A$1:$F$61,D$5,FALSE)),\"\",VLOOKUP($A127,'Entry List'!$A$1:$F$61,D$5,FALSE))","v":""},{"$f":"IF(ISNA(VLOOKUP($A127,'Entry List'!$A$1:$F$61,E$5,FALSE)),\"\",VLOOKUP($A127,'Entry List'!$A$1:$F$61,E$5,FALSE))","v":""},null,"DNS",0,"DNS",0,"DNS",0,"DNS",0,"DNS",0,"DNS",0,"DNS",0,"DNS",0,"DNS",0,"DNS",0,"DNS",0,"DNS",0,"DNS",0,"DNS",0,"DNS",0,"DNS",0,"DNS",0,"DNS",0,"DNS",0,"DNS",0,"DNS",0,"DNS",0,"DNS",0,"DNS",0,"DNS",0,"DNS",0,"DNS",0,"DNS",0,"DNS",0,"DNS",0,"DNS",0,"DNS",0,"DNS",0,"DNS",0,"DNS",0,{"$f":"IF('Last Race Results'!$B$5=0,0,IF(ISNA(VLOOKUP($A127,'Last Race Results'!$A$5:$J$44,2,FALSE)),\"DNS\",VLOOKUP($A127,'Last Race Results'!$A$5:$J$44,2,FALSE)))","v":"DNS"},{"$f":"IF('Last Race Results'!$B$5=0,0,IF(ISNA(VLOOKUP($A127,'Last Race Results'!$A$5:$K$44,11,FALSE)),0,VLOOKUP($A127,'Last Race Results'!$A$5:$K$44,11,FALSE)))","v":0}]
[111,{"$f":"IF(ISNA(VLOOKUP($A128,'Entry List'!$A$1:$F$61,B$5,FALSE)),\"\",VLOOKUP($A128,'Entry List'!$A$1:$F$61,B$5,FALSE))","v":""},{"$f":"IF(ISNA(VLOOKUP($A128,'Entry List'!$A$1:$F$61,C$5,FALSE)),\"\",VLOOKUP($A128,'Entry List'!$A$1:$F$61,C$5,FALSE))","v":""},{"$f":"IF(ISNA(VLOOKUP($A128,'Entry List'!$A$1:$F$61,D$5,FALSE)),\"\",VLOOKUP($A128,'Entry List'!$A$1:$F$61,D$5,FALSE))","v":""},{"$f":"IF(ISNA(VLOOKUP($A128,'Entry List'!$A$1:$F$61,E$5,FALSE)),\"\",VLOOKUP($A128,'Entry List'!$A$1:$F$61,E$5,FALSE))","v":""},null,"DNS",0,"DNS",0,"DNS",0,"DNS",0,"DNS",0,"DNS",0,"DNS",0,"DNS",0,"DNS",0,"DNS",0,"DNS",0,"DNS",0,"DNS",0,"DNS",0,"DNS",0,"DNS",0,"DNS",0,"DNS",0,"DNS",0,"DNS",0,"DNS",0,"DNS",0,"DNS",0,"DNS",0,"DNS",0,"DNS",0,"DNS",0,"DNS",0,"DNS",0,"DNS",0,"DNS",0,"DNS",0,"DNS",0,"DNS",0,"DNS",0,{"$f":"IF('Last Race Results'!$B$5=0,0,IF(ISNA(VLOOKUP($A128,'Last Race Results'!$A$5:$J$44,2,FALSE)),\"DNS\",VLOOKUP($A128,'Last Race Results'!$A$5:$J$44,2,FALSE)))","v":"DNS"},{"$f":"IF('Last Race Results'!$B$5=0,0,IF(ISNA(VLOOKUP($A128,'Last Race Results'!$A$5:$K$44,11,FALSE)),0,VLOOKUP($A128,'Last Race Results'!$A$5:$K$44,11,FALSE)))","v":0}]
[112,{"$f":"IF(ISNA(VLOOKUP($A129,'Entry List'!$A$1:$F$61,B$5,FALSE)),\"\",VLOOKUP($A129,'Entry List'!$A$1:$F$61,B$5,FALSE))","v":""},{"$f":"IF(ISNA(VLOOKUP($A129,'Entry List'!$A$1:$F$61,C$5,FALSE)),\"\",VLOOKUP($A129,'Entry List'!$A$1:$F$61,C$5,FALSE))","v":""},{"$f":"IF(ISNA(VLOOKUP($A129,'Entry List'!$A$1:$F$61,D$5,FALSE)),\"\",VLOOKUP($A129,'Entry List'!$A$1:$F$61,D$5,FALSE))","v":""},{"$f":"IF(ISNA(VLOOKUP($A129,'Entry List'!$A$1:$F$61,E$5,FALSE)),\"\",VLOOKUP($A129,'Entry List'!$A$1:$F$61,E$5,FALSE))","v":""},null,"DNS",0,"DNS",0,"DNS",0,"DNS",0,"DNS",0,"DNS",0,"DNS",0,"DNS",0,"DNS",0,"DNS",0,"DNS",0,"DNS",0,"DNS",0,"DNS",0,"DNS",0,"DNS",0,"DNS",0,"DNS",0,"DNS",0,"DNS",0,"DNS",0,"DNS",0,"DNS",0,"DNS",0,"DNS",0,"DNS",0,"DNS",0,"DNS",0,"DNS",0,"DNS",0,"DNS",0,"DNS",0,"DNS",0,"DNS",0,"DNS",0,{"$f":"IF('Last Race Results'!$B$5=0,0,IF(ISNA(VLOOKUP($A129,'Last Race Results'!$A$5:$J$44,2,FALSE)),\"DNS\",VLOOKUP($A129,'Last Race Results'!$A$5:$J$44,2,FALSE)))","v":"DNS"},{"$f":"IF('Last Race Results'!$B$5=0,0,IF(ISNA(VLOOKUP($A129,'Last Race Results'!$A$5:$K$44,11,FALSE)),0,VLOOKUP($A129,'Last Race Results'!$A$5:$K$44,11,FALSE)))","v":0}]
[113,{"$f":"IF(ISNA(VLOOKUP($A130,'Entry List'!$A$1:$F$61,B$5,FALSE)),\"\",VLOOKUP($A130,'Entry List'!$A$1:$F$61,B$5,FALSE))","v":""},{"$f":"IF(ISNA(VLOOKUP($A130,'Entry List'!$A$1:$F$61,C$5,FALSE)),\"\",VLOOKUP($A130,'Entry List'!$A$1:$F$61,C$5,FALSE))","v":""},{"$f":"IF(ISNA(VLOOKUP($A130,'Entry List'!$A$1:$F$61,D$5,FALSE)),\"\",VLOOKUP($A130,'Entry List'!$A$1:$F$61,D$5,FALSE))","v":""},{"$f":"IF(ISNA(VLOOKUP($A130,'Entry List'!$A$1:$F$61,E$5,FALSE)),\"\",VLOOKUP($A130,'Entry List'!$A$1:$F$61,E$5,FALSE))","v":""},null,"DNS",0,"DNS",0,"DNS",0,"DNS",0,"DNS",0,"DNS",0,"DNS",0,"DNS",0,"DNS",0,"DNS",0,"DNS",0,"DNS",0,"DNS",0,"DNS",0,"DNS",0,"DNS",0,"DNS",0,"DNS",0,"DNS",0,"DNS",0,"DNS",0,"DNS",0,"DNS",0,"DNS",0,"DNS",0,"DNS",0,"DNS",0,"DNS",0,"DNS",0,"DNS",0,"DNS",0,"DNS",0,"DNS",0,"DNS",0,"DNS",0,{"$f":"IF('Last Race Results'!$B$5=0,0,IF(ISNA(VLOOKUP($A130,'Last Race Results'!$A$5:$J$44,2,FALSE)),\"DNS\",VLOOKUP($A130,'Last Race Results'!$A$5:$J$44,2,FALSE)))","v":"DNS"},{"$f":"IF('Last Race Results'!$B$5=0,0,IF(ISNA(VLOOKUP($A130,'Last Race Results'!$A$5:$K$44,11,FALSE)),0,VLOOKUP($A130,'Last Race Results'!$A$5:$K$44,11,FALSE)))","v":0}]
[114,{"$f":"IF(ISNA(VLOOKUP($A131,'Entry List'!$A$1:$F$61,B$5,FALSE)),\"\",VLOOKUP($A131,'Entry List'!$A$1:$F$61,B$5,FALSE))","v":""},{"$f":"IF(ISNA(VLOOKUP($A131,'Entry List'!$A$1:$F$61,C$5,FALSE)),\"\",VLOOKUP($A131,'Entry List'!$A$1:$F$61,C$5,FALSE))","v":""},{"$f":"IF(ISNA(VLOOKUP($A131,'Entry List'!$A$1:$F$61,D$5,FALSE)),\"\",VLOOKUP($A131,'Entry List'!$A$1:$F$61,D$5,FALSE))","v":""},{"$f":"IF(ISNA(VLOOKUP($A131,'Entry List'!$A$1:$F$61,E$5,FALSE)),\"\",VLOOKUP($A131,'Entry List'!$A$1:$F$61,E$5,FALSE))","v":""},null,"DNS",0,"DNS",0,"DNS",0,"DNS",0,"DNS",0,"DNS",0,"DNS",0,"DNS",0,"DNS",0,"DNS",0,"DNS",0,"DNS",0,"DNS",0,"DNS",0,"DNS",0,"DNS",0,"DNS",0,"DNS",0,"DNS",0,"DNS",0,"DNS",0,"DNS",0,"DNS",0,"DNS",0,"DNS",0,"DNS",0,"DNS",0,"DNS",0,"DNS",0,"DNS",0,"DNS",0,"DNS",0,"DNS",0,"DNS",0,"DNS",0,{"$f":"IF('Last Race Results'!$B$5=0,0,IF(ISNA(VLOOKUP($A131,'Last Race Results'!$A$5:$J$44,2,FALSE)),\"DNS\",VLOOKUP($A131,'Last Race Results'!$A$5:$J$44,2,FALSE)))","v":"DNS"},{"$f":"IF('Last Race Results'!$B$5=0,0,IF(ISNA(VLOOKUP($A131,'Last Race Results'!$A$5:$K$44,11,FALSE)),0,VLOOKUP($A131,'Last Race Results'!$A$5:$K$44,11,FALSE)))","v":0}]
[115,{"$f":"IF(ISNA(VLOOKUP($A132,'Entry List'!$A$1:$F$61,B$5,FALSE)),\"\",VLOOKUP($A132,'Entry List'!$A$1:$F$61,B$5,FALSE))","v":""},{"$f":"IF(ISNA(VLOOKUP($A132,'Entry List'!$A$1:$F$61,C$5,FALSE)),\"\",VLOOKUP($A132,'Entry List'!$A$1:$F$61,C$5,FALSE))","v":""},{"$f":"IF(ISNA(VLOOKUP($A132,'Entry List'!$A$1:$F$61,D$5,FALSE)),\"\",VLOOKUP($A132,'Entry List'!$A$1:$F$61,D$5,FALSE))","v":""},{"$f":"IF(ISNA(VLOOKUP($A132,'Entry List'!$A$1:$F$61,E$5,FALSE)),\"\",VLOOKUP($A132,'Entry List'!$A$1:$F$61,E$5,FALSE))","v":""},null,"DNS",0,"DNS",0,"DNS",0,"DNS",0,"DNS",0,"DNS",0,"DNS",0,"DNS",0,"DNS",0,"DNS",0,"DNS",0,"DNS",0,"DNS",0,"DNS",0,"DNS",0,"DNS",0,"DNS",0,"DNS",0,"DNS",0,"DNS",0,"DNS",0,"DNS",0,"DNS",0,"DNS",0,"DNS",0,"DNS",0,"DNS",0,"DNS",0,"DNS",0,"DNS",0,"DNS",0,"DNS",0,"DNS",0,"DNS",0,"DNS",0,{"$f":"IF('Last Race Results'!$B$5=0,0,IF(ISNA(VLOOKUP($A132,'Last Race Results'!$A$5:$J$44,2,FALSE)),\"DNS\",VLOOKUP($A132,'Last Race Results'!$A$5:$J$44,2,FALSE)))","v":"DNS"},{"$f":"IF('Last Race Results'!$B$5=0,0,IF(ISNA(VLOOKUP($A132,'Last Race Results'!$A$5:$K$44,11,FALSE)),0,VLOOKUP($A132,'Last Race Results'!$A$5:$K$44,11,FALSE)))","v":0}]
[116,{"$f":"IF(ISNA(VLOOKUP($A133,'Entry List'!$A$1:$F$61,B$5,FALSE)),\"\",VLOOKUP($A133,'Entry List'!$A$1:$F$61,B$5,FALSE))","v":""},{"$f":"IF(ISNA(VLOOKUP($A133,'Entry List'!$A$1:$F$61,C$5,FALSE)),\"\",VLOOKUP($A133,'Entry List'!$A$1:$F$61,C$5,FALSE))","v":""},{"$f":"IF(ISNA(VLOOKUP($A133,'Entry List'!$A$1:$F$61,D$5,FALSE)),\"\",VLOOKUP($A133,'Entry List'!$A$1:$F$61,D$5,FALSE))","v":""},{"$f":"IF(ISNA(VLOOKUP($A133,'Entry List'!$A$1:$F$61,E$5,FALSE)),\"\",VLOOKUP($A133,'Entry List'!$A$1:$F$61,E$5,FALSE))","v":""},null,"DNS",0,"DNS",0,"DNS",0,"DNS",0,"DNS",0,"DNS",0,"DNS",0,"DNS",0,"DNS",0,"DNS",0,"DNS",0,"DNS",0,"DNS",0,"DNS",0,"DNS",0,"DNS",0,"DNS",0,"DNS",0,"DNS",0,"DNS",0,"DNS",0,"DNS",0,"DNS",0,"DNS",0,"DNS",0,"DNS",0,"DNS",0,"DNS",0,"DNS",0,"DNS",0,"DNS",0,"DNS",0,"DNS",0,"DNS",0,"DNS",0,{"$f":"IF('Last Race Results'!$B$5=0,0,IF(ISNA(VLOOKUP($A133,'Last Race Results'!$A$5:$J$44,2,FALSE)),\"DNS\",VLOOKUP($A133,'Last Race Results'!$A$5:$J$44,2,FALSE)))","v":"DNS"},{"$f":"IF('Last Race Results'!$B$5=0,0,IF(ISNA(VLOOKUP($A133,'Last Race Results'!$A$5:$K$44,11,FALSE)),0,VLOOKUP($A133,'Last Race Results'!$A$5:$K$44,11,FALSE)))","v":0}]
[117,{"$f":"IF(ISNA(VLOOKUP($A134,'Entry List'!$A$1:$F$61,B$5,FALSE)),\"\",VLOOKUP($A134,'Entry List'!$A$1:$F$61,B$5,FALSE))","v":""},{"$f":"IF(ISNA(VLOOKUP($A134,'Entry List'!$A$1:$F$61,C$5,FALSE)),\"\",VLOOKUP($A134,'Entry List'!$A$1:$F$61,C$5,FALSE))","v":""},{"$f":"IF(ISNA(VLOOKUP($A134,'Entry List'!$A$1:$F$61,D$5,FALSE)),\"\",VLOOKUP($A134,'Entry List'!$A$1:$F$61,D$5,FALSE))","v":""},{"$f":"IF(ISNA(VLOOKUP($A134,'Entry List'!$A$1:$F$61,E$5,FALSE)),\"\",VLOOKUP($A134,'Entry List'!$A$1:$F$61,E$5,FALSE))","v":""},null,"DNS",0,"DNS",0,"DNS",0,"DNS",0,"DNS",0,"DNS",0,"DNS",0,"DNS",0,"DNS",0,"DNS",0,"DNS",0,"DNS",0,"DNS",0,"DNS",0,"DNS",0,"DNS",0,"DNS",0,"DNS",0,"DNS",0,"DNS",0,"DNS",0,"DNS",0,"DNS",0,"DNS",0,"DNS",0,"DNS",0,"DNS",0,"DNS",0,"DNS",0,"DNS",0,"DNS",0,"DNS",0,"DNS",0,"DNS",0,"DNS",0,{"$f":"IF('Last Race Results'!$B$5=0,0,IF(ISNA(VLOOKUP($A134,'Last Race Results'!$A$5:$J$44,2,FALSE)),\"DNS\",VLOOKUP($A134,'Last Race Results'!$A$5:$J$44,2,FALSE)))","v":"DNS"},{"$f":"IF('Last Race Results'!$B$5=0,0,IF(ISNA(VLOOKUP($A134,'Last Race Results'!$A$5:$K$44,11,FALSE)),0,VLOOKUP($A134,'Last Race Results'!$A$5:$K$44,11,FALSE)))","v":0}]
[118,{"$f":"IF(ISNA(VLOOKUP($A135,'Entry List'!$A$1:$F$61,B$5,FALSE)),\"\",VLOOKUP($A135,'Entry List'!$A$1:$F$61,B$5,FALSE))","v":""},{"$f":"IF(ISNA(VLOOKUP($A135,'Entry List'!$A$1:$F$61,C$5,FALSE)),\"\",VLOOKUP($A135,'Entry List'!$A$1:$F$61,C$5,FALSE))","v":""},{"$f":"IF(ISNA(VLOOKUP($A135,'Entry List'!$A$1:$F$61,D$5,FALSE)),\"\",VLOOKUP($A135,'Entry List'!$A$1:$F$61,D$5,FALSE))","v":""},{"$f":"IF(ISNA(VLOOKUP($A135,'Entry List'!$A$1:$F$61,E$5,FALSE)),\"\",VLOOKUP($A135,'Entry List'!$A$1:$F$61,E$5,FALSE))","v":""},null,"DNS",0,"DNS",0,"DNS",0,"DNS",0,"DNS",0,"DNS",0,"DNS",0,"DNS",0,"DNS",0,"DNS",0,"DNS",0,"DNS",0,"DNS",0,"DNS",0,"DNS",0,"DNS",0,"DNS",0,"DNS",0,"DNS",0,"DNS",0,"DNS",0,"DNS",0,"DNS",0,"DNS",0,"DNS",0,"DNS",0,"DNS",0,"DNS",0,"DNS",0,"DNS",0,"DNS",0,"DNS",0,"DNS",0,"DNS",0,"DNS",0,{"$f":"IF('Last Race Results'!$B$5=0,0,IF(ISNA(VLOOKUP($A135,'Last Race Results'!$A$5:$J$44,2,FALSE)),\"DNS\",VLOOKUP($A135,'Last Race Results'!$A$5:$J$44,2,FALSE)))","v":"DNS"},{"$f":"IF('Last Race Results'!$B$5=0,0,IF(ISNA(VLOOKUP($A135,'Last Race Results'!$A$5:$K$44,11,FALSE)),0,VLOOKUP($A135,'Last Race Results'!$A$5:$K$44,11,FALSE)))","v":0}]
[119,{"$f":"IF(ISNA(VLOOKUP($A136,'Entry List'!$A$1:$F$61,B$5,FALSE)),\"\",VLOOKUP($A136,'Entry List'!$A$1:$F$61,B$5,FALSE))","v":""},{"$f":"IF(ISNA(VLOOKUP($A136,'Entry List'!$A$1:$F$61,C$5,FALSE)),\"\",VLOOKUP($A136,'Entry List'!$A$1:$F$61,C$5,FALSE))","v":""},{"$f":"IF(ISNA(VLOOKUP($A136,'Entry List'!$A$1:$F$61,D$5,FALSE)),\"\",VLOOKUP($A136,'Entry List'!$A$1:$F$61,D$5,FALSE))","v":""},{"$f":"IF(ISNA(VLOOKUP($A136,'Entry List'!$A$1:$F$61,E$5,FALSE)),\"\",VLOOKUP($A136,'Entry List'!$A$1:$F$61,E$5,FALSE))","v":""},null,"DNS",0,"DNS",0,"DNS",0,"DNS",0,"DNS",0,"DNS",0,"DNS",0,"DNS",0,"DNS",0,"DNS",0,"DNS",0,"DNS",0,"DNS",0,"DNS",0,"DNS",0,"DNS",0,"DNS",0,"DNS",0,"DNS",0,"DNS",0,"DNS",0,"DNS",0,"DNS",0,"DNS",0,"DNS",0,"DNS",0,"DNS",0,"DNS",0,"DNS",0,"DNS",0,"DNS",0,"DNS",0,"DNS",0,"DNS",0,"DNS",0,{"$f":"IF('Last Race Results'!$B$5=0,0,IF(ISNA(VLOOKUP($A136,'Last Race Results'!$A$5:$J$44,2,FALSE)),\"DNS\",VLOOKUP($A136,'Last Race Results'!$A$5:$J$44,2,FALSE)))","v":"DNS"},{"$f":"IF('Last Race Results'!$B$5=0,0,IF(ISNA(VLOOKUP($A136,'Last Race Results'!$A$5:$K$44,11,FALSE)),0,VLOOKUP($A136,'Last Race Results'!$A$5:$K$44,11,FALSE)))","v":0}]
[120,{"$f":"IF(ISNA(VLOOKUP($A137,'Entry List'!$A$1:$F$61,B$5,FALSE)),\"\",VLOOKUP($A137,'Entry List'!$A$1:$F$61,B$5,FALSE))","v":""},{"$f":"IF(ISNA(VLOOKUP($A137,'Entry List'!$A$1:$F$61,C$5,FALSE)),\"\",VLOOKUP($A137,'Entry List'!$A$1:$F$61,C$5,FALSE))","v":""},{"$f":"IF(ISNA(VLOOKUP($A137,'Entry List'!$A$1:$F$61,D$5,FALSE)),\"\",VLOOKUP($A137,'Entry List'!$A$1:$F$61,D$5,FALSE))","v":""},{"$f":"IF(ISNA(VLOOKUP($A137,'Entry List'!$A$1:$F$61,E$5,FALSE)),\"\",VLOOKUP($A137,'Entry List'!$A$1:$F$61,E$5,FALSE))","v":""},null,"DNS",0,"DNS",0,"DNS",0,"DNS",0,"DNS",0,"DNS",0,"DNS",0,"DNS",0,"DNS",0,"DNS",0,"DNS",0,"DNS",0,"DNS",0,"DNS",0,"DNS",0,"DNS",0,"DNS",0,"DNS",0,"DNS",0,"DNS",0,"DNS",0,"DNS",0,"DNS",0,"DNS",0,"DNS",0,"DNS",0,"DNS",0,"DNS",0,"DNS",0,"DNS",0,"DNS",0,"DNS",0,"DNS",0,"DNS",0,"DNS",0,{"$f":"IF('Last Race Results'!$B$5=0,0,IF(ISNA(VLOOKUP($A137,'Last Race Results'!$A$5:$J$44,2,FALSE)),\"DNS\",VLOOKUP($A137,'Last Race Results'!$A$5:$J$44,2,FALSE)))","v":"DNS"},{"$f":"IF('Last Race Results'!$B$5=0,0,IF(ISNA(VLOOKUP($A137,'Last Race Results'!$A$5:$K$44,11,FALSE)),0,VLOOKUP($A137,'Last Race Results'!$A$5:$K$44,11,FALSE)))","v":0}]
[121,{"$f":"IF(ISNA(VLOOKUP($A138,'Entry List'!$A$1:$F$61,B$5,FALSE)),\"\",VLOOKUP($A138,'Entry List'!$A$1:$F$61,B$5,FALSE))","v":""},{"$f":"IF(ISNA(VLOOKUP($A138,'Entry List'!$A$1:$F$61,C$5,FALSE)),\"\",VLOOKUP($A138,'Entry List'!$A$1:$F$61,C$5,FALSE))","v":""},{"$f":"IF(ISNA(VLOOKUP($A138,'Entry List'!$A$1:$F$61,D$5,FALSE)),\"\",VLOOKUP($A138,'Entry List'!$A$1:$F$61,D$5,FALSE))","v":""},{"$f":"IF(ISNA(VLOOKUP($A138,'Entry List'!$A$1:$F$61,E$5,FALSE)),\"\",VLOOKUP($A138,'Entry List'!$A$1:$F$61,E$5,FALSE))","v":""},null,"DNS",0,"DNS",0,"DNS",0,"DNS",0,"DNS",0,"DNS",0,"DNS",0,"DNS",0,"DNS",0,"DNS",0,"DNS",0,"DNS",0,"DNS",0,"DNS",0,"DNS",0,"DNS",0,"DNS",0,"DNS",0,"DNS",0,"DNS",0,"DNS",0,"DNS",0,"DNS",0,"DNS",0,"DNS",0,"DNS",0,"DNS",0,"DNS",0,"DNS",0,"DNS",0,"DNS",0,"DNS",0,"DNS",0,"DNS",0,"DNS",0,{"$f":"IF('Last Race Results'!$B$5=0,0,IF(ISNA(VLOOKUP($A138,'Last Race Results'!$A$5:$J$44,2,FALSE)),\"DNS\",VLOOKUP($A138,'Last Race Results'!$A$5:$J$44,2,FALSE)))","v":"DNS"},{"$f":"IF('Last Race Results'!$B$5=0,0,IF(ISNA(VLOOKUP($A138,'Last Race Results'!$A$5:$K$44,11,FALSE)),0,VLOOKUP($A138,'Last Race Results'!$A$5:$K$44,11,FALSE)))","v":0}]
[122,{"$f":"IF(ISNA(VLOOKUP($A139,'Entry List'!$A$1:$F$61,B$5,FALSE)),\"\",VLOOKUP($A139,'Entry List'!$A$1:$F$61,B$5,FALSE))","v":""},{"$f":"IF(ISNA(VLOOKUP($A139,'Entry List'!$A$1:$F$61,C$5,FALSE)),\"\",VLOOKUP($A139,'Entry List'!$A$1:$F$61,C$5,FALSE))","v":""},{"$f":"IF(ISNA(VLOOKUP($A139,'Entry List'!$A$1:$F$61,D$5,FALSE)),\"\",VLOOKUP($A139,'Entry List'!$A$1:$F$61,D$5,FALSE))","v":""},{"$f":"IF(ISNA(VLOOKUP($A139,'Entry List'!$A$1:$F$61,E$5,FALSE)),\"\",VLOOKUP($A139,'Entry List'!$A$1:$F$61,E$5,FALSE))","v":""},null,"DNS",0,"DNS",0,"DNS",0,"DNS",0,"DNS",0,"DNS",0,"DNS",0,"DNS",0,"DNS",0,"DNS",0,"DNS",0,"DNS",0,"DNS",0,"DNS",0,"DNS",0,"DNS",0,"DNS",0,"DNS",0,"DNS",0,"DNS",0,"DNS",0,"DNS",0,"DNS",0,"DNS",0,"DNS",0,"DNS",0,"DNS",0,"DNS",0,"DNS",0,"DNS",0,"DNS",0,"DNS",0,"DNS",0,"DNS",0,"DNS",0,{"$f":"IF('Last Race Results'!$B$5=0,0,IF(ISNA(VLOOKUP($A139,'Last Race Results'!$A$5:$J$44,2,FALSE)),\"DNS\",VLOOKUP($A139,'Last Race Results'!$A$5:$J$44,2,FALSE)))","v":"DNS"},{"$f":"IF('Last Race Results'!$B$5=0,0,IF(ISNA(VLOOKUP($A139,'Last Race Results'!$A$5:$K$44,11,FALSE)),0,VLOOKUP($A139,'Last Race Results'!$A$5:$K$44,11,FALSE)))","v":0}]
[123,{"$f":"IF(ISNA(VLOOKUP($A140,'Entry List'!$A$1:$F$61,B$5,FALSE)),\"\",VLOOKUP($A140,'Entry List'!$A$1:$F$61,B$5,FALSE))","v":""},{"$f":"IF(ISNA(VLOOKUP($A140,'Entry List'!$A$1:$F$61,C$5,FALSE)),\"\",VLOOKUP($A140,'Entry List'!$A$1:$F$61,C$5,FALSE))","v":""},{"$f":"IF(ISNA(VLOOKUP($A140,'Entry List'!$A$1:$F$61,D$5,FALSE)),\"\",VLOOKUP($A140,'Entry List'!$A$1:$F$61,D$5,FALSE))","v":""},{"$f":"IF(ISNA(VLOOKUP($A140,'Entry List'!$A$1:$F$61,E$5,FALSE)),\"\",VLOOKUP($A140,'Entry List'!$A$1:$F$61,E$5,FALSE))","v":""},null,"DNS",0,"DNS",0,"DNS",0,"DNS",0,"DNS",0,"DNS",0,"DNS",0,"DNS",0,"DNS",0,"DNS",0,"DNS",0,"DNS",0,"DNS",0,"DNS",0,"DNS",0,"DNS",0,"DNS",0,"DNS",0,"DNS",0,"DNS",0,"DNS",0,"DNS",0,"DNS",0,"DNS",0,"DNS",0,"DNS",0,"DNS",0,"DNS",0,"DNS",0,"DNS",0,"DNS",0,"DNS",0,"DNS",0,"DNS",0,"DNS",0,{"$f":"IF('Last Race Results'!$B$5=0,0,IF(ISNA(VLOOKUP($A140,'Last Race Results'!$A$5:$J$44,2,FALSE)),\"DNS\",VLOOKUP($A140,'Last Race Results'!$A$5:$J$44,2,FALSE)))","v":"DNS"},{"$f":"IF('Last Race Results'!$B$5=0,0,IF(ISNA(VLOOKUP($A140,'Last Race Results'!$A$5:$K$44,11,FALSE)),0,VLOOKUP($A140,'Last Race Results'!$A$5:$K$44,11,FALSE)))","v":0}]
[124,{"$f":"IF(ISNA(VLOOKUP($A141,'Entry List'!$A$1:$F$61,B$5,FALSE)),\"\",VLOOKUP($A141,'Entry List'!$A$1:$F$61,B$5,FALSE))","v":""},{"$f":"IF(ISNA(VLOOKUP($A141,'Entry List'!$A$1:$F$61,C$5,FALSE)),\"\",VLOOKUP($A141,'Entry List'!$A$1:$F$61,C$5,FALSE))","v":""},{"$f":"IF(ISNA(VLOOKUP($A141,'Entry List'!$A$1:$F$61,D$5,FALSE)),\"\",VLOOKUP($A141,'Entry List'!$A$1:$F$61,D$5,FALSE))","v":""},{"$f":"IF(ISNA(VLOOKUP($A141,'Entry List'!$A$1:$F$61,E$5,FALSE)),\"\",VLOOKUP($A141,'Entry List'!$A$1:$F$61,E$5,FALSE))","v":""},null,"DNS",0,"DNS",0,"DNS",0,"DNS",0,"DNS",0,"DNS",0,"DNS",0,"DNS",0,"DNS",0,"DNS",0,"DNS",0,"DNS",0,"DNS",0,"DNS",0,"DNS",0,"DNS",0,"DNS",0,"DNS",0,"DNS",0,"DNS",0,"DNS",0,"DNS",0,"DNS",0,"DNS",0,"DNS",0,"DNS",0,"DNS",0,"DNS",0,"DNS",0,"DNS",0,"DNS",0,"DNS",0,"DNS",0,"DNS",0,"DNS",0,{"$f":"IF('Last Race Results'!$B$5=0,0,IF(ISNA(VLOOKUP($A141,'Last Race Results'!$A$5:$J$44,2,FALSE)),\"DNS\",VLOOKUP($A141,'Last Race Results'!$A$5:$J$44,2,FALSE)))","v":"DNS"},{"$f":"IF('Last Race Results'!$B$5=0,0,IF(ISNA(VLOOKUP($A141,'Last Race Results'!$A$5:$K$44,11,FALSE)),0,VLOOKUP($A141,'Last Race Results'!$A$5:$K$44,11,FALSE)))","v":0}]
[125,{"$f":"IF(ISNA(VLOOKUP($A142,'Entry List'!$A$1:$F$61,B$5,FALSE)),\"\",VLOOKUP($A142,'Entry List'!$A$1:$F$61,B$5,FALSE))","v":""},{"$f":"IF(ISNA(VLOOKUP($A142,'Entry List'!$A$1:$F$61,C$5,FALSE)),\"\",VLOOKUP($A142,'Entry List'!$A$1:$F$61,C$5,FALSE))","v":""},{"$f":"IF(ISNA(VLOOKUP($A142,'Entry List'!$A$1:$F$61,D$5,FALSE)),\"\",VLOOKUP($A142,'Entry List'!$A$1:$F$61,D$5,FALSE))","v":""},{"$f":"IF(ISNA(VLOOKUP($A142,'Entry List'!$A$1:$F$61,E$5,FALSE)),\"\",VLOOKUP($A142,'Entry List'!$A$1:$F$61,E$5,FALSE))","v":""},null,"DNS",0,"DNS",0,"DNS",0,"DNS",0,"DNS",0,"DNS",0,"DNS",0,"DNS",0,"DNS",0,"DNS",0,"DNS",0,"DNS",0,"DNS",0,"DNS",0,"DNS",0,"DNS",0,"DNS",0,"DNS",0,"DNS",0,"DNS",0,"DNS",0,"DNS",0,"DNS",0,"DNS",0,"DNS",0,"DNS",0,"DNS",0,"DNS",0,"DNS",0,"DNS",0,"DNS",0,"DNS",0,"DNS",0,"DNS",0,"DNS",0,{"$f":"IF('Last Race Results'!$B$5=0,0,IF(ISNA(VLOOKUP($A142,'Last Race Results'!$A$5:$J$44,2,FALSE)),\"DNS\",VLOOKUP($A142,'Last Race Results'!$A$5:$J$44,2,FALSE)))","v":"DNS"},{"$f":"IF('Last Race Results'!$B$5=0,0,IF(ISNA(VLOOKUP($A142,'Last Race Results'!$A$5:$K$44,11,FALSE)),0,VLOOKUP($A142,'Last Race Results'!$A$5:$K$44,11,FALSE)))","v":0}]
[126,{"$f":"IF(ISNA(VLOOKUP($A143,'Entry List'!$A$1:$F$61,B$5,FALSE)),\"\",VLOOKUP($A143,'Entry List'!$A$1:$F$61,B$5,FALSE))","v":""},{"$f":"IF(ISNA(VLOOKUP($A143,'Entry List'!$A$1:$F$61,C$5,FALSE)),\"\",VLOOKUP($A143,'Entry List'!$A$1:$F$61,C$5,FALSE))","v":""},{"$f":"IF(ISNA(VLOOKUP($A143,'Entry List'!$A$1:$F$61,D$5,FALSE)),\"\",VLOOKUP($A143,'Entry List'!$A$1:$F$61,D$5,FALSE))","v":""},{"$f":"IF(ISNA(VLOOKUP($A143,'Entry List'!$A$1:$F$61,E$5,FALSE)),\"\",VLOOKUP($A143,'Entry List'!$A$1:$F$61,E$5,FALSE))","v":""},null,"DNS",0,"DNS",0,"DNS",0,"DNS",0,"DNS",0,"DNS",0,"DNS",0,"DNS",0,"DNS",0,"DNS",0,"DNS",0,"DNS",0,"DNS",0,"DNS",0,"DNS",0,"DNS",0,"DNS",0,"DNS",0,"DNS",0,"DNS",0,"DNS",0,"DNS",0,"DNS",0,"DNS",0,"DNS",0,"DNS",0,"DNS",0,"DNS",0,"DNS",0,"DNS",0,"DNS",0,"DNS",0,"DNS",0,"DNS",0,"DNS",0,{"$f":"IF('Last Race Results'!$B$5=0,0,IF(ISNA(VLOOKUP($A143,'Last Race Results'!$A$5:$J$44,2,FALSE)),\"DNS\",VLOOKUP($A143,'Last Race Results'!$A$5:$J$44,2,FALSE)))","v":"DNS"},{"$f":"IF('Last Race Results'!$B$5=0,0,IF(ISNA(VLOOKUP($A143,'Last Race Results'!$A$5:$K$44,11,FALSE)),0,VLOOKUP($A143,'Last Race Results'!$A$5:$K$44,11,FALSE)))","v":0}]
[127,{"$f":"IF(ISNA(VLOOKUP($A144,'Entry List'!$A$1:$F$61,B$5,FALSE)),\"\",VLOOKUP($A144,'Entry List'!$A$1:$F$61,B$5,FALSE))","v":""},{"$f":"IF(ISNA(VLOOKUP($A144,'Entry List'!$A$1:$F$61,C$5,FALSE)),\"\",VLOOKUP($A144,'Entry List'!$A$1:$F$61,C$5,FALSE))","v":""},{"$f":"IF(ISNA(VLOOKUP($A144,'Entry List'!$A$1:$F$61,D$5,FALSE)),\"\",VLOOKUP($A144,'Entry List'!$A$1:$F$61,D$5,FALSE))","v":""},{"$f":"IF(ISNA(VLOOKUP($A144,'Entry List'!$A$1:$F$61,E$5,FALSE)),\"\",VLOOKUP($A144,'Entry List'!$A$1:$F$61,E$5,FALSE))","v":""},null,"DNS",0,"DNS",0,"DNS",0,"DNS",0,"DNS",0,"DNS",0,"DNS",0,"DNS",0,"DNS",0,"DNS",0,"DNS",0,"DNS",0,"DNS",0,"DNS",0,"DNS",0,"DNS",0,"DNS",0,"DNS",0,"DNS",0,"DNS",0,"DNS",0,"DNS",0,"DNS",0,"DNS",0,"DNS",0,"DNS",0,"DNS",0,"DNS",0,"DNS",0,"DNS",0,"DNS",0,"DNS",0,"DNS",0,"DNS",0,"DNS",0,{"$f":"IF('Last Race Results'!$B$5=0,0,IF(ISNA(VLOOKUP($A144,'Last Race Results'!$A$5:$J$44,2,FALSE)),\"DNS\",VLOOKUP($A144,'Last Race Results'!$A$5:$J$44,2,FALSE)))","v":"DNS"},{"$f":"IF('Last Race Results'!$B$5=0,0,IF(ISNA(VLOOKUP($A144,'Last Race Results'!$A$5:$K$44,11,FALSE)),0,VLOOKUP($A144,'Last Race Results'!$A$5:$K$44,11,FALSE)))","v":0}]
[128,{"$f":"IF(ISNA(VLOOKUP($A145,'Entry List'!$A$1:$F$61,B$5,FALSE)),\"\",VLOOKUP($A145,'Entry List'!$A$1:$F$61,B$5,FALSE))","v":""},{"$f":"IF(ISNA(VLOOKUP($A145,'Entry List'!$A$1:$F$61,C$5,FALSE)),\"\",VLOOKUP($A145,'Entry List'!$A$1:$F$61,C$5,FALSE))","v":""},{"$f":"IF(ISNA(VLOOKUP($A145,'Entry List'!$A$1:$F$61,D$5,FALSE)),\"\",VLOOKUP($A145,'Entry List'!$A$1:$F$61,D$5,FALSE))","v":""},{"$f":"IF(ISNA(VLOOKUP($A145,'Entry List'!$A$1:$F$61,E$5,FALSE)),\"\",VLOOKUP($A145,'Entry List'!$A$1:$F$61,E$5,FALSE))","v":""},null,"DNS",0,"DNS",0,"DNS",0,"DNS",0,"DNS",0,"DNS",0,"DNS",0,"DNS",0,"DNS",0,"DNS",0,"DNS",0,"DNS",0,"DNS",0,"DNS",0,"DNS",0,"DNS",0,"DNS",0,"DNS",0,"DNS",0,"DNS",0,"DNS",0,"DNS",0,"DNS",0,"DNS",0,"DNS",0,"DNS",0,"DNS",0,"DNS",0,"DNS",0,"DNS",0,"DNS",0,"DNS",0,"DNS",0,"DNS",0,"DNS",0,{"$f":"IF('Last Race Results'!$B$5=0,0,IF(ISNA(VLOOKUP($A145,'Last Race Results'!$A$5:$J$44,2,FALSE)),\"DNS\",VLOOKUP($A145,'Last Race Results'!$A$5:$J$44,2,FALSE)))","v":"DNS"},{"$f":"IF('Last Race Results'!$B$5=0,0,IF(ISNA(VLOOKUP($A145,'Last Race Results'!$A$5:$K$44,11,FALSE)),0,VLOOKUP($A145,'Last Race Results'!$A$5:$K$44,11,FALSE)))","v":0}]
[129,{"$f":"IF(ISNA(VLOOKUP($A146,'Entry List'!$A$1:$F$61,B$5,FALSE)),\"\",VLOOKUP($A146,'Entry List'!$A$1:$F$61,B$5,FALSE))","v":""},{"$f":"IF(ISNA(VLOOKUP($A146,'Entry List'!$A$1:$F$61,C$5,FALSE)),\"\",VLOOKUP($A146,'Entry List'!$A$1:$F$61,C$5,FALSE))","v":""},{"$f":"IF(ISNA(VLOOKUP($A146,'Entry List'!$A$1:$F$61,D$5,FALSE)),\"\",VLOOKUP($A146,'Entry List'!$A$1:$F$61,D$5,FALSE))","v":""},{"$f":"IF(ISNA(VLOOKUP($A146,'Entry List'!$A$1:$F$61,E$5,FALSE)),\"\",VLOOKUP($A146,'Entry List'!$A$1:$F$61,E$5,FALSE))","v":""},null,"DNS",0,"DNS",0,"DNS",0,"DNS",0,"DNS",0,"DNS",0,"DNS",0,"DNS",0,"DNS",0,"DNS",0,"DNS",0,"DNS",0,"DNS",0,"DNS",0,"DNS",0,"DNS",0,"DNS",0,"DNS",0,"DNS",0,"DNS",0,"DNS",0,"DNS",0,"DNS",0,"DNS",0,"DNS",0,"DNS",0,"DNS",0,"DNS",0,"DNS",0,"DNS",0,"DNS",0,"DNS",0,"DNS",0,"DNS",0,"DNS",0,{"$f":"IF('Last Race Results'!$B$5=0,0,IF(ISNA(VLOOKUP($A146,'Last Race Results'!$A$5:$J$44,2,FALSE)),\"DNS\",VLOOKUP($A146,'Last Race Results'!$A$5:$J$44,2,FALSE)))","v":"DNS"},{"$f":"IF('Last Race Results'!$B$5=0,0,IF(ISNA(VLOOKUP($A146,'Last Race Results'!$A$5:$K$44,11,FALSE)),0,VLOOKUP($A146,'Last Race Results'!$A$5:$K$44,11,FALSE)))","v":0}]
[130,{"$f":"IF(ISNA(VLOOKUP($A147,'Entry List'!$A$1:$F$61,B$5,FALSE)),\"\",VLOOKUP($A147,'Entry List'!$A$1:$F$61,B$5,FALSE))","v":""},{"$f":"IF(ISNA(VLOOKUP($A147,'Entry List'!$A$1:$F$61,C$5,FALSE)),\"\",VLOOKUP($A147,'Entry List'!$A$1:$F$61,C$5,FALSE))","v":""},{"$f":"IF(ISNA(VLOOKUP($A147,'Entry List'!$A$1:$F$61,D$5,FALSE)),\"\",VLOOKUP($A147,'Entry List'!$A$1:$F$61,D$5,FALSE))","v":""},{"$f":"IF(ISNA(VLOOKUP($A147,'Entry List'!$A$1:$F$61,E$5,FALSE)),\"\",VLOOKUP($A147,'Entry List'!$A$1:$F$61,E$5,FALSE))","v":""},null,"DNS",0,"DNS",0,"DNS",0,"DNS",0,"DNS",0,"DNS",0,"DNS",0,"DNS",0,"DNS",0,"DNS",0,"DNS",0,"DNS",0,"DNS",0,"DNS",0,"DNS",0,"DNS",0,"DNS",0,"DNS",0,"DNS",0,"DNS",0,"DNS",0,"DNS",0,"DNS",0,"DNS",0,"DNS",0,"DNS",0,"DNS",0,"DNS",0,"DNS",0,"DNS",0,"DNS",0,"DNS",0,"DNS",0,"DNS",0,"DNS",0,{"$f":"IF('Last Race Results'!$B$5=0,0,IF(ISNA(VLOOKUP($A147,'Last Race Results'!$A$5:$J$44,2,FALSE)),\"DNS\",VLOOKUP($A147,'Last Race Results'!$A$5:$J$44,2,FALSE)))","v":"DNS"},{"$f":"IF('Last Race Results'!$B$5=0,0,IF(ISNA(VLOOKUP($A147,'Last Race Results'!$A$5:$K$44,11,FALSE)),0,VLOOKUP($A147,'Last Race Results'!$A$5:$K$44,11,FALSE)))","v":0}]
[131,{"$f":"IF(ISNA(VLOOKUP($A148,'Entry List'!$A$1:$F$61,B$5,FALSE)),\"\",VLOOKUP($A148,'Entry List'!$A$1:$F$61,B$5,FALSE))","v":""},{"$f":"IF(ISNA(VLOOKUP($A148,'Entry List'!$A$1:$F$61,C$5,FALSE)),\"\",VLOOKUP($A148,'Entry List'!$A$1:$F$61,C$5,FALSE))","v":""},{"$f":"IF(ISNA(VLOOKUP($A148,'Entry List'!$A$1:$F$61,D$5,FALSE)),\"\",VLOOKUP($A148,'Entry List'!$A$1:$F$61,D$5,FALSE))","v":""},{"$f":"IF(ISNA(VLOOKUP($A148,'Entry List'!$A$1:$F$61,E$5,FALSE)),\"\",VLOOKUP($A148,'Entry List'!$A$1:$F$61,E$5,FALSE))","v":""},null,"DNS",0,"DNS",0,"DNS",0,"DNS",0,"DNS",0,"DNS",0,"DNS",0,"DNS",0,"DNS",0,"DNS",0,"DNS",0,"DNS",0,"DNS",0,"DNS",0,"DNS",0,"DNS",0,"DNS",0,"DNS",0,"DNS",0,"DNS",0,"DNS",0,"DNS",0,"DNS",0,"DNS",0,"DNS",0,"DNS",0,"DNS",0,"DNS",0,"DNS",0,"DNS",0,"DNS",0,"DNS",0,"DNS",0,"DNS",0,"DNS",0,{"$f":"IF('Last Race Results'!$B$5=0,0,IF(ISNA(VLOOKUP($A148,'Last Race Results'!$A$5:$J$44,2,FALSE)),\"DNS\",VLOOKUP($A148,'Last Race Results'!$A$5:$J$44,2,FALSE)))","v":"DNS"},{"$f":"IF('Last Race Results'!$B$5=0,0,IF(ISNA(VLOOKUP($A148,'Last Race Results'!$A$5:$K$44,11,FALSE)),0,VLOOKUP($A148,'Last Race Results'!$A$5:$K$44,11,FALSE)))","v":0}]
[132,{"$f":"IF(ISNA(VLOOKUP($A149,'Entry List'!$A$1:$F$61,B$5,FALSE)),\"\",VLOOKUP($A149,'Entry List'!$A$1:$F$61,B$5,FALSE))","v":""},{"$f":"IF(ISNA(VLOOKUP($A149,'Entry List'!$A$1:$F$61,C$5,FALSE)),\"\",VLOOKUP($A149,'Entry List'!$A$1:$F$61,C$5,FALSE))","v":""},{"$f":"IF(ISNA(VLOOKUP($A149,'Entry List'!$A$1:$F$61,D$5,FALSE)),\"\",VLOOKUP($A149,'Entry List'!$A$1:$F$61,D$5,FALSE))","v":""},{"$f":"IF(ISNA(VLOOKUP($A149,'Entry List'!$A$1:$F$61,E$5,FALSE)),\"\",VLOOKUP($A149,'Entry List'!$A$1:$F$61,E$5,FALSE))","v":""},null,"DNS",0,"DNS",0,"DNS",0,"DNS",0,"DNS",0,"DNS",0,"DNS",0,"DNS",0,"DNS",0,"DNS",0,"DNS",0,"DNS",0,"DNS",0,"DNS",0,"DNS",0,"DNS",0,"DNS",0,"DNS",0,"DNS",0,"DNS",0,"DNS",0,"DNS",0,"DNS",0,"DNS",0,"DNS",0,"DNS",0,"DNS",0,"DNS",0,"DNS",0,"DNS",0,"DNS",0,"DNS",0,"DNS",0,"DNS",0,"DNS",0,{"$f":"IF('Last Race Results'!$B$5=0,0,IF(ISNA(VLOOKUP($A149,'Last Race Results'!$A$5:$J$44,2,FALSE)),\"DNS\",VLOOKUP($A149,'Last Race Results'!$A$5:$J$44,2,FALSE)))","v":"DNS"},{"$f":"IF('Last Race Results'!$B$5=0,0,IF(ISNA(VLOOKUP($A149,'Last Race Results'!$A$5:$K$44,11,FALSE)),0,VLOOKUP($A149,'Last Race Results'!$A$5:$K$44,11,FALSE)))","v":0}]
[133,{"$f":"IF(ISNA(VLOOKUP($A150,'Entry List'!$A$1:$F$61,B$5,FALSE)),\"\",VLOOKUP($A150,'Entry List'!$A$1:$F$61,B$5,FALSE))","v":""},{"$f":"IF(ISNA(VLOOKUP($A150,'Entry List'!$A$1:$F$61,C$5,FALSE)),\"\",VLOOKUP($A150,'Entry List'!$A$1:$F$61,C$5,FALSE))","v":""},{"$f":"IF(ISNA(VLOOKUP($A150,'Entry List'!$A$1:$F$61,D$5,FALSE)),\"\",VLOOKUP($A150,'Entry List'!$A$1:$F$61,D$5,FALSE))","v":""},{"$f":"IF(ISNA(VLOOKUP($A150,'Entry List'!$A$1:$F$61,E$5,FALSE)),\"\",VLOOKUP($A150,'Entry List'!$A$1:$F$61,E$5,FALSE))","v":""},null,"DNS",0,"DNS",0,"DNS",0,"DNS",0,"DNS",0,"DNS",0,"DNS",0,"DNS",0,"DNS",0,"DNS",0,"DNS",0,"DNS",0,"DNS",0,"DNS",0,"DNS",0,"DNS",0,"DNS",0,"DNS",0,"DNS",0,"DNS",0,"DNS",0,"DNS",0,"DNS",0,"DNS",0,"DNS",0,"DNS",0,"DNS",0,"DNS",0,"DNS",0,"DNS",0,"DNS",0,"DNS",0,"DNS",0,"DNS",0,"DNS",0,{"$f":"IF('Last Race Results'!$B$5=0,0,IF(ISNA(VLOOKUP($A150,'Last Race Results'!$A$5:$J$44,2,FALSE)),\"DNS\",VLOOKUP($A150,'Last Race Results'!$A$5:$J$44,2,FALSE)))","v":"DNS"},{"$f":"IF('Last Race Results'!$B$5=0,0,IF(ISNA(VLOOKUP($A150,'Last Race Results'!$A$5:$K$44,11,FALSE)),0,VLOOKUP($A150,'Last Race Results'!$A$5:$K$44,11,FALSE)))","v":0}]
[134,{"$f":"IF(ISNA(VLOOKUP($A151,'Entry List'!$A$1:$F$61,B$5,FALSE)),\"\",VLOOKUP($A151,'Entry List'!$A$1:$F$61,B$5,FALSE))","v":""},{"$f":"IF(ISNA(VLOOKUP($A151,'Entry List'!$A$1:$F$61,C$5,FALSE)),\"\",VLOOKUP($A151,'Entry List'!$A$1:$F$61,C$5,FALSE))","v":""},{"$f":"IF(ISNA(VLOOKUP($A151,'Entry List'!$A$1:$F$61,D$5,FALSE)),\"\",VLOOKUP($A151,'Entry List'!$A$1:$F$61,D$5,FALSE))","v":""},{"$f":"IF(ISNA(VLOOKUP($A151,'Entry List'!$A$1:$F$61,E$5,FALSE)),\"\",VLOOKUP($A151,'Entry List'!$A$1:$F$61,E$5,FALSE))","v":""},null,"DNS",0,"DNS",0,"DNS",0,"DNS",0,"DNS",0,"DNS",0,"DNS",0,"DNS",0,"DNS",0,"DNS",0,"DNS",0,"DNS",0,"DNS",0,"DNS",0,"DNS",0,"DNS",0,"DNS",0,"DNS",0,"DNS",0,"DNS",0,"DNS",0,"DNS",0,"DNS",0,"DNS",0,"DNS",0,"DNS",0,"DNS",0,"DNS",0,"DNS",0,"DNS",0,"DNS",0,"DNS",0,"DNS",0,"DNS",0,"DNS",0,{"$f":"IF('Last Race Results'!$B$5=0,0,IF(ISNA(VLOOKUP($A151,'Last Race Results'!$A$5:$J$44,2,FALSE)),\"DNS\",VLOOKUP($A151,'Last Race Results'!$A$5:$J$44,2,FALSE)))","v":"DNS"},{"$f":"IF('Last Race Results'!$B$5=0,0,IF(ISNA(VLOOKUP($A151,'Last Race Results'!$A$5:$K$44,11,FALSE)),0,VLOOKUP($A151,'Last Race Results'!$A$5:$K$44,11,FALSE)))","v":0}]
[135,{"$f":"IF(ISNA(VLOOKUP($A152,'Entry List'!$A$1:$F$61,B$5,FALSE)),\"\",VLOOKUP($A152,'Entry List'!$A$1:$F$61,B$5,FALSE))","v":""},{"$f":"IF(ISNA(VLOOKUP($A152,'Entry List'!$A$1:$F$61,C$5,FALSE)),\"\",VLOOKUP($A152,'Entry List'!$A$1:$F$61,C$5,FALSE))","v":""},{"$f":"IF(ISNA(VLOOKUP($A152,'Entry List'!$A$1:$F$61,D$5,FALSE)),\"\",VLOOKUP($A152,'Entry List'!$A$1:$F$61,D$5,FALSE))","v":""},{"$f":"IF(ISNA(VLOOKUP($A152,'Entry List'!$A$1:$F$61,E$5,FALSE)),\"\",VLOOKUP($A152,'Entry List'!$A$1:$F$61,E$5,FALSE))","v":""},null,"DNS",0,"DNS",0,"DNS",0,"DNS",0,"DNS",0,"DNS",0,"DNS",0,"DNS",0,"DNS",0,"DNS",0,"DNS",0,"DNS",0,"DNS",0,"DNS",0,"DNS",0,"DNS",0,"DNS",0,"DNS",0,"DNS",0,"DNS",0,"DNS",0,"DNS",0,"DNS",0,"DNS",0,"DNS",0,"DNS",0,"DNS",0,"DNS",0,"DNS",0,"DNS",0,"DNS",0,"DNS",0,"DNS",0,"DNS",0,"DNS",0,{"$f":"IF('Last Race Results'!$B$5=0,0,IF(ISNA(VLOOKUP($A152,'Last Race Results'!$A$5:$J$44,2,FALSE)),\"DNS\",VLOOKUP($A152,'Last Race Results'!$A$5:$J$44,2,FALSE)))","v":"DNS"},{"$f":"IF('Last Race Results'!$B$5=0,0,IF(ISNA(VLOOKUP($A152,'Last Race Results'!$A$5:$K$44,11,FALSE)),0,VLOOKUP($A152,'Last Race Results'!$A$5:$K$44,11,FALSE)))","v":0}]
[136,{"$f":"IF(ISNA(VLOOKUP($A153,'Entry List'!$A$1:$F$61,B$5,FALSE)),\"\",VLOOKUP($A153,'Entry List'!$A$1:$F$61,B$5,FALSE))","v":""},{"$f":"IF(ISNA(VLOOKUP($A153,'Entry List'!$A$1:$F$61,C$5,FALSE)),\"\",VLOOKUP($A153,'Entry List'!$A$1:$F$61,C$5,FALSE))","v":""},{"$f":"IF(ISNA(VLOOKUP($A153,'Entry List'!$A$1:$F$61,D$5,FALSE)),\"\",VLOOKUP($A153,'Entry List'!$A$1:$F$61,D$5,FALSE))","v":""},{"$f":"IF(ISNA(VLOOKUP($A153,'Entry List'!$A$1:$F$61,E$5,FALSE)),\"\",VLOOKUP($A153,'Entry List'!$A$1:$F$61,E$5,FALSE))","v":""},null,"DNS",0,"DNS",0,"DNS",0,"DNS",0,"DNS",0,"DNS",0,"DNS",0,"DNS",0,"DNS",0,"DNS",0,"DNS",0,"DNS",0,"DNS",0,"DNS",0,"DNS",0,"DNS",0,"DNS",0,"DNS",0,"DNS",0,"DNS",0,"DNS",0,"DNS",0,"DNS",0,"DNS",0,"DNS",0,"DNS",0,"DNS",0,"DNS",0,"DNS",0,"DNS",0,"DNS",0,"DNS",0,"DNS",0,"DNS",0,"DNS",0,{"$f":"IF('Last Race Results'!$B$5=0,0,IF(ISNA(VLOOKUP($A153,'Last Race Results'!$A$5:$J$44,2,FALSE)),\"DNS\",VLOOKUP($A153,'Last Race Results'!$A$5:$J$44,2,FALSE)))","v":"DNS"},{"$f":"IF('Last Race Results'!$B$5=0,0,IF(ISNA(VLOOKUP($A153,'Last Race Results'!$A$5:$K$44,11,FALSE)),0,VLOOKUP($A153,'Last Race Results'!$A$5:$K$44,11,FALSE)))","v":0}]
[137,{"$f":"IF(ISNA(VLOOKUP($A154,'Entry List'!$A$1:$F$61,B$5,FALSE)),\"\",VLOOKUP($A154,'Entry List'!$A$1:$F$61,B$5,FALSE))","v":""},{"$f":"IF(ISNA(VLOOKUP($A154,'Entry List'!$A$1:$F$61,C$5,FALSE)),\"\",VLOOKUP($A154,'Entry List'!$A$1:$F$61,C$5,FALSE))","v":""},{"$f":"IF(ISNA(VLOOKUP($A154,'Entry List'!$A$1:$F$61,D$5,FALSE)),\"\",VLOOKUP($A154,'Entry List'!$A$1:$F$61,D$5,FALSE))","v":""},{"$f":"IF(ISNA(VLOOKUP($A154,'Entry List'!$A$1:$F$61,E$5,FALSE)),\"\",VLOOKUP($A154,'Entry List'!$A$1:$F$61,E$5,FALSE))","v":""},null,"DNS",0,"DNS",0,"DNS",0,"DNS",0,"DNS",0,"DNS",0,"DNS",0,"DNS",0,"DNS",0,"DNS",0,"DNS",0,"DNS",0,"DNS",0,"DNS",0,"DNS",0,"DNS",0,"DNS",0,"DNS",0,"DNS",0,"DNS",0,"DNS",0,"DNS",0,"DNS",0,"DNS",0,"DNS",0,"DNS",0,"DNS",0,"DNS",0,"DNS",0,"DNS",0,"DNS",0,"DNS",0,"DNS",0,"DNS",0,"DNS",0,{"$f":"IF('Last Race Results'!$B$5=0,0,IF(ISNA(VLOOKUP($A154,'Last Race Results'!$A$5:$J$44,2,FALSE)),\"DNS\",VLOOKUP($A154,'Last Race Results'!$A$5:$J$44,2,FALSE)))","v":"DNS"},{"$f":"IF('Last Race Results'!$B$5=0,0,IF(ISNA(VLOOKUP($A154,'Last Race Results'!$A$5:$K$44,11,FALSE)),0,VLOOKUP($A154,'Last Race Results'!$A$5:$K$44,11,FALSE)))","v":0}]
[138,{"$f":"IF(ISNA(VLOOKUP($A155,'Entry List'!$A$1:$F$61,B$5,FALSE)),\"\",VLOOKUP($A155,'Entry List'!$A$1:$F$61,B$5,FALSE))","v":""},{"$f":"IF(ISNA(VLOOKUP($A155,'Entry List'!$A$1:$F$61,C$5,FALSE)),\"\",VLOOKUP($A155,'Entry List'!$A$1:$F$61,C$5,FALSE))","v":""},{"$f":"IF(ISNA(VLOOKUP($A155,'Entry List'!$A$1:$F$61,D$5,FALSE)),\"\",VLOOKUP($A155,'Entry List'!$A$1:$F$61,D$5,FALSE))","v":""},{"$f":"IF(ISNA(VLOOKUP($A155,'Entry List'!$A$1:$F$61,E$5,FALSE)),\"\",VLOOKUP($A155,'Entry List'!$A$1:$F$61,E$5,FALSE))","v":""},null,"DNS",0,"DNS",0,"DNS",0,"DNS",0,"DNS",0,"DNS",0,"DNS",0,"DNS",0,"DNS",0,"DNS",0,"DNS",0,"DNS",0,"DNS",0,"DNS",0,"DNS",0,"DNS",0,"DNS",0,"DNS",0,"DNS",0,"DNS",0,"DNS",0,"DNS",0,"DNS",0,"DNS",0,"DNS",0,"DNS",0,"DNS",0,"DNS",0,"DNS",0,"DNS",0,"DNS",0,"DNS",0,"DNS",0,"DNS",0,"DNS",0,{"$f":"IF('Last Race Results'!$B$5=0,0,IF(ISNA(VLOOKUP($A155,'Last Race Results'!$A$5:$J$44,2,FALSE)),\"DNS\",VLOOKUP($A155,'Last Race Results'!$A$5:$J$44,2,FALSE)))","v":"DNS"},{"$f":"IF('Last Race Results'!$B$5=0,0,IF(ISNA(VLOOKUP($A155,'Last Race Results'!$A$5:$K$44,11,FALSE)),0,VLOOKUP($A155,'Last Race Results'!$A$5:$K$44,11,FALSE)))","v":0}]
[139,{"$f":"IF(ISNA(VLOOKUP($A156,'Entry List'!$A$1:$F$61,B$5,FALSE)),\"\",VLOOKUP($A156,'Entry List'!$A$1:$F$61,B$5,FALSE))","v":""},{"$f":"IF(ISNA(VLOOKUP($A156,'Entry List'!$A$1:$F$61,C$5,FALSE)),\"\",VLOOKUP($A156,'Entry List'!$A$1:$F$61,C$5,FALSE))","v":""},{"$f":"IF(ISNA(VLOOKUP($A156,'Entry List'!$A$1:$F$61,D$5,FALSE)),\"\",VLOOKUP($A156,'Entry List'!$A$1:$F$61,D$5,FALSE))","v":""},{"$f":"IF(ISNA(VLOOKUP($A156,'Entry List'!$A$1:$F$61,E$5,FALSE)),\"\",VLOOKUP($A156,'Entry List'!$A$1:$F$61,E$5,FALSE))","v":""},null,"DNS",0,"DNS",0,"DNS",0,"DNS",0,"DNS",0,"DNS",0,"DNS",0,"DNS",0,"DNS",0,"DNS",0,"DNS",0,"DNS",0,"DNS",0,"DNS",0,"DNS",0,"DNS",0,"DNS",0,"DNS",0,"DNS",0,"DNS",0,"DNS",0,"DNS",0,"DNS",0,"DNS",0,"DNS",0,"DNS",0,"DNS",0,"DNS",0,"DNS",0,"DNS",0,"DNS",0,"DNS",0,"DNS",0,"DNS",0,"DNS",0,{"$f":"IF('Last Race Results'!$B$5=0,0,IF(ISNA(VLOOKUP($A156,'Last Race Results'!$A$5:$J$44,2,FALSE)),\"DNS\",VLOOKUP($A156,'Last Race Results'!$A$5:$J$44,2,FALSE)))","v":"DNS"},{"$f":"IF('Last Race Results'!$B$5=0,0,IF(ISNA(VLOOKUP($A156,'Last Race Results'!$A$5:$K$44,11,FALSE)),0,VLOOKUP($A156,'Last Race Results'!$A$5:$K$44,11,FALSE)))","v":0}]
[140,{"$f":"IF(ISNA(VLOOKUP($A157,'Entry List'!$A$1:$F$61,B$5,FALSE)),\"\",VLOOKUP($A157,'Entry List'!$A$1:$F$61,B$5,FALSE))","v":""},{"$f":"IF(ISNA(VLOOKUP($A157,'Entry List'!$A$1:$F$61,C$5,FALSE)),\"\",VLOOKUP($A157,'Entry List'!$A$1:$F$61,C$5,FALSE))","v":""},{"$f":"IF(ISNA(VLOOKUP($A157,'Entry List'!$A$1:$F$61,D$5,FALSE)),\"\",VLOOKUP($A157,'Entry List'!$A$1:$F$61,D$5,FALSE))","v":""},{"$f":"IF(ISNA(VLOOKUP($A157,'Entry List'!$A$1:$F$61,E$5,FALSE)),\"\",VLOOKUP($A157,'Entry List'!$A$1:$F$61,E$5,FALSE))","v":""},null,"DNS",0,"DNS",0,"DNS",0,"DNS",0,"DNS",0,"DNS",0,"DNS",0,"DNS",0,"DNS",0,"DNS",0,"DNS",0,"DNS",0,"DNS",0,"DNS",0,"DNS",0,"DNS",0,"DNS",0,"DNS",0,"DNS",0,"DNS",0,"DNS",0,"DNS",0,"DNS",0,"DNS",0,"DNS",0,"DNS",0,"DNS",0,"DNS",0,"DNS",0,"DNS",0,"DNS",0,"DNS",0,"DNS",0,"DNS",0,"DNS",0,{"$f":"IF('Last Race Results'!$B$5=0,0,IF(ISNA(VLOOKUP($A157,'Last Race Results'!$A$5:$J$44,2,FALSE)),\"DNS\",VLOOKUP($A157,'Last Race Results'!$A$5:$J$44,2,FALSE)))","v":"DNS"},{"$f":"IF('Last Race Results'!$B$5=0,0,IF(ISNA(VLOOKUP($A157,'Last Race Results'!$A$5:$K$44,11,FALSE)),0,VLOOKUP($A157,'Last Race Results'!$A$5:$K$44,11,FALSE)))","v":0}]
[141,{"$f":"IF(ISNA(VLOOKUP($A158,'Entry List'!$A$1:$F$61,B$5,FALSE)),\"\",VLOOKUP($A158,'Entry List'!$A$1:$F$61,B$5,FALSE))","v":""},{"$f":"IF(ISNA(VLOOKUP($A158,'Entry List'!$A$1:$F$61,C$5,FALSE)),\"\",VLOOKUP($A158,'Entry List'!$A$1:$F$61,C$5,FALSE))","v":""},{"$f":"IF(ISNA(VLOOKUP($A158,'Entry List'!$A$1:$F$61,D$5,FALSE)),\"\",VLOOKUP($A158,'Entry List'!$A$1:$F$61,D$5,FALSE))","v":""},{"$f":"IF(ISNA(VLOOKUP($A158,'Entry List'!$A$1:$F$61,E$5,FALSE)),\"\",VLOOKUP($A158,'Entry List'!$A$1:$F$61,E$5,FALSE))","v":""},null,"DNS",0,"DNS",0,"DNS",0,"DNS",0,"DNS",0,"DNS",0,"DNS",0,"DNS",0,"DNS",0,"DNS",0,"DNS",0,"DNS",0,"DNS",0,"DNS",0,"DNS",0,"DNS",0,"DNS",0,"DNS",0,"DNS",0,"DNS",0,"DNS",0,"DNS",0,"DNS",0,"DNS",0,"DNS",0,"DNS",0,"DNS",0,"DNS",0,"DNS",0,"DNS",0,"DNS",0,"DNS",0,"DNS",0,"DNS",0,"DNS",0,{"$f":"IF('Last Race Results'!$B$5=0,0,IF(ISNA(VLOOKUP($A158,'Last Race Results'!$A$5:$J$44,2,FALSE)),\"DNS\",VLOOKUP($A158,'Last Race Results'!$A$5:$J$44,2,FALSE)))","v":"DNS"},{"$f":"IF('Last Race Results'!$B$5=0,0,IF(ISNA(VLOOKUP($A158,'Last Race Results'!$A$5:$K$44,11,FALSE)),0,VLOOKUP($A158,'Last Race Results'!$A$5:$K$44,11,FALSE)))","v":0}]
[142,{"$f":"IF(ISNA(VLOOKUP($A159,'Entry List'!$A$1:$F$61,B$5,FALSE)),\"\",VLOOKUP($A159,'Entry List'!$A$1:$F$61,B$5,FALSE))","v":""},{"$f":"IF(ISNA(VLOOKUP($A159,'Entry List'!$A$1:$F$61,C$5,FALSE)),\"\",VLOOKUP($A159,'Entry List'!$A$1:$F$61,C$5,FALSE))","v":""},{"$f":"IF(ISNA(VLOOKUP($A159,'Entry List'!$A$1:$F$61,D$5,FALSE)),\"\",VLOOKUP($A159,'Entry List'!$A$1:$F$61,D$5,FALSE))","v":""},{"$f":"IF(ISNA(VLOOKUP($A159,'Entry List'!$A$1:$F$61,E$5,FALSE)),\"\",VLOOKUP($A159,'Entry List'!$A$1:$F$61,E$5,FALSE))","v":""},null,"DNS",0,"DNS",0,"DNS",0,"DNS",0,"DNS",0,"DNS",0,"DNS",0,"DNS",0,"DNS",0,"DNS",0,"DNS",0,"DNS",0,"DNS",0,"DNS",0,"DNS",0,"DNS",0,"DNS",0,"DNS",0,"DNS",0,"DNS",0,"DNS",0,"DNS",0,"DNS",0,"DNS",0,"DNS",0,"DNS",0,"DNS",0,"DNS",0,"DNS",0,"DNS",0,"DNS",0,"DNS",0,"DNS",0,"DNS",0,"DNS",0,{"$f":"IF('Last Race Results'!$B$5=0,0,IF(ISNA(VLOOKUP($A159,'Last Race Results'!$A$5:$J$44,2,FALSE)),\"DNS\",VLOOKUP($A159,'Last Race Results'!$A$5:$J$44,2,FALSE)))","v":"DNS"},{"$f":"IF('Last Race Results'!$B$5=0,0,IF(ISNA(VLOOKUP($A159,'Last Race Results'!$A$5:$K$44,11,FALSE)),0,VLOOKUP($A159,'Last Race Results'!$A$5:$K$44,11,FALSE)))","v":0}]
[143,{"$f":"IF(ISNA(VLOOKUP($A160,'Entry List'!$A$1:$F$61,B$5,FALSE)),\"\",VLOOKUP($A160,'Entry List'!$A$1:$F$61,B$5,FALSE))","v":""},{"$f":"IF(ISNA(VLOOKUP($A160,'Entry List'!$A$1:$F$61,C$5,FALSE)),\"\",VLOOKUP($A160,'Entry List'!$A$1:$F$61,C$5,FALSE))","v":""},{"$f":"IF(ISNA(VLOOKUP($A160,'Entry List'!$A$1:$F$61,D$5,FALSE)),\"\",VLOOKUP($A160,'Entry List'!$A$1:$F$61,D$5,FALSE))","v":""},{"$f":"IF(ISNA(VLOOKUP($A160,'Entry List'!$A$1:$F$61,E$5,FALSE)),\"\",VLOOKUP($A160,'Entry List'!$A$1:$F$61,E$5,FALSE))","v":""},null,"DNS",0,"DNS",0,"DNS",0,"DNS",0,"DNS",0,"DNS",0,"DNS",0,"DNS",0,"DNS",0,"DNS",0,"DNS",0,"DNS",0,"DNS",0,"DNS",0,"DNS",0,"DNS",0,"DNS",0,"DNS",0,"DNS",0,"DNS",0,"DNS",0,"DNS",0,"DNS",0,"DNS",0,"DNS",0,"DNS",0,"DNS",0,"DNS",0,"DNS",0,"DNS",0,"DNS",0,"DNS",0,"DNS",0,"DNS",0,"DNS",0,{"$f":"IF('Last Race Results'!$B$5=0,0,IF(ISNA(VLOOKUP($A160,'Last Race Results'!$A$5:$J$44,2,FALSE)),\"DNS\",VLOOKUP($A160,'Last Race Results'!$A$5:$J$44,2,FALSE)))","v":"DNS"},{"$f":"IF('Last Race Results'!$B$5=0,0,IF(ISNA(VLOOKUP($A160,'Last Race Results'!$A$5:$K$44,11,FALSE)),0,VLOOKUP($A160,'Last Race Results'!$A$5:$K$44,11,FALSE)))","v":0}]
[144,{"$f":"IF(ISNA(VLOOKUP($A161,'Entry List'!$A$1:$F$61,B$5,FALSE)),\"\",VLOOKUP($A161,'Entry List'!$A$1:$F$61,B$5,FALSE))","v":""},{"$f":"IF(ISNA(VLOOKUP($A161,'Entry List'!$A$1:$F$61,C$5,FALSE)),\"\",VLOOKUP($A161,'Entry List'!$A$1:$F$61,C$5,FALSE))","v":""},{"$f":"IF(ISNA(VLOOKUP($A161,'Entry List'!$A$1:$F$61,D$5,FALSE)),\"\",VLOOKUP($A161,'Entry List'!$A$1:$F$61,D$5,FALSE))","v":""},{"$f":"IF(ISNA(VLOOKUP($A161,'Entry List'!$A$1:$F$61,E$5,FALSE)),\"\",VLOOKUP($A161,'Entry List'!$A$1:$F$61,E$5,FALSE))","v":""},null,"DNS",0,"DNS",0,"DNS",0,"DNS",0,"DNS",0,"DNS",0,"DNS",0,"DNS",0,"DNS",0,"DNS",0,"DNS",0,"DNS",0,"DNS",0,"DNS",0,"DNS",0,"DNS",0,"DNS",0,"DNS",0,"DNS",0,"DNS",0,"DNS",0,"DNS",0,"DNS",0,"DNS",0,"DNS",0,"DNS",0,"DNS",0,"DNS",0,"DNS",0,"DNS",0,"DNS",0,"DNS",0,"DNS",0,"DNS",0,"DNS",0,{"$f":"IF('Last Race Results'!$B$5=0,0,IF(ISNA(VLOOKUP($A161,'Last Race Results'!$A$5:$J$44,2,FALSE)),\"DNS\",VLOOKUP($A161,'Last Race Results'!$A$5:$J$44,2,FALSE)))","v":"DNS"},{"$f":"IF('Last Race Results'!$B$5=0,0,IF(ISNA(VLOOKUP($A161,'Last Race Results'!$A$5:$K$44,11,FALSE)),0,VLOOKUP($A161,'Last Race Results'!$A$5:$K$44,11,FALSE)))","v":0}]
[145,{"$f":"IF(ISNA(VLOOKUP($A162,'Entry List'!$A$1:$F$61,B$5,FALSE)),\"\",VLOOKUP($A162,'Entry List'!$A$1:$F$61,B$5,FALSE))","v":""},{"$f":"IF(ISNA(VLOOKUP($A162,'Entry List'!$A$1:$F$61,C$5,FALSE)),\"\",VLOOKUP($A162,'Entry List'!$A$1:$F$61,C$5,FALSE))","v":""},{"$f":"IF(ISNA(VLOOKUP($A162,'Entry List'!$A$1:$F$61,D$5,FALSE)),\"\",VLOOKUP($A162,'Entry List'!$A$1:$F$61,D$5,FALSE))","v":""},{"$f":"IF(ISNA(VLOOKUP($A162,'Entry List'!$A$1:$F$61,E$5,FALSE)),\"\",VLOOKUP($A162,'Entry List'!$A$1:$F$61,E$5,FALSE))","v":""},null,"DNS",0,"DNS",0,"DNS",0,"DNS",0,"DNS",0,"DNS",0,"DNS",0,"DNS",0,"DNS",0,"DNS",0,"DNS",0,"DNS",0,"DNS",0,"DNS",0,"DNS",0,"DNS",0,"DNS",0,"DNS",0,"DNS",0,"DNS",0,"DNS",0,"DNS",0,"DNS",0,"DNS",0,"DNS",0,"DNS",0,"DNS",0,"DNS",0,"DNS",0,"DNS",0,"DNS",0,"DNS",0,"DNS",0,"DNS",0,"DNS",0,{"$f":"IF('Last Race Results'!$B$5=0,0,IF(ISNA(VLOOKUP($A162,'Last Race Results'!$A$5:$J$44,2,FALSE)),\"DNS\",VLOOKUP($A162,'Last Race Results'!$A$5:$J$44,2,FALSE)))","v":"DNS"},{"$f":"IF('Last Race Results'!$B$5=0,0,IF(ISNA(VLOOKUP($A162,'Last Race Results'!$A$5:$K$44,11,FALSE)),0,VLOOKUP($A162,'Last Race Results'!$A$5:$K$44,11,FALSE)))","v":0}]
[146,{"$f":"IF(ISNA(VLOOKUP($A163,'Entry List'!$A$1:$F$61,B$5,FALSE)),\"\",VLOOKUP($A163,'Entry List'!$A$1:$F$61,B$5,FALSE))","v":""},{"$f":"IF(ISNA(VLOOKUP($A163,'Entry List'!$A$1:$F$61,C$5,FALSE)),\"\",VLOOKUP($A163,'Entry List'!$A$1:$F$61,C$5,FALSE))","v":""},{"$f":"IF(ISNA(VLOOKUP($A163,'Entry List'!$A$1:$F$61,D$5,FALSE)),\"\",VLOOKUP($A163,'Entry List'!$A$1:$F$61,D$5,FALSE))","v":""},{"$f":"IF(ISNA(VLOOKUP($A163,'Entry List'!$A$1:$F$61,E$5,FALSE)),\"\",VLOOKUP($A163,'Entry List'!$A$1:$F$61,E$5,FALSE))","v":""},null,"DNS",0,"DNS",0,"DNS",0,"DNS",0,"DNS",0,"DNS",0,"DNS",0,"DNS",0,"DNS",0,"DNS",0,"DNS",0,"DNS",0,"DNS",0,"DNS",0,"DNS",0,"DNS",0,"DNS",0,"DNS",0,"DNS",0,"DNS",0,"DNS",0,"DNS",0,"DNS",0,"DNS",0,"DNS",0,"DNS",0,"DNS",0,"DNS",0,"DNS",0,"DNS",0,"DNS",0,"DNS",0,"DNS",0,"DNS",0,"DNS",0,{"$f":"IF('Last Race Results'!$B$5=0,0,IF(ISNA(VLOOKUP($A163,'Last Race Results'!$A$5:$J$44,2,FALSE)),\"DNS\",VLOOKUP($A163,'Last Race Results'!$A$5:$J$44,2,FALSE)))","v":"DNS"},{"$f":"IF('Last Race Results'!$B$5=0,0,IF(ISNA(VLOOKUP($A163,'Last Race Results'!$A$5:$K$44,11,FALSE)),0,VLOOKUP($A163,'Last Race Results'!$A$5:$K$44,11,FALSE)))","v":0}]
[147,{"$f":"IF(ISNA(VLOOKUP($A164,'Entry List'!$A$1:$F$61,B$5,FALSE)),\"\",VLOOKUP($A164,'Entry List'!$A$1:$F$61,B$5,FALSE))","v":""},{"$f":"IF(ISNA(VLOOKUP($A164,'Entry List'!$A$1:$F$61,C$5,FALSE)),\"\",VLOOKUP($A164,'Entry List'!$A$1:$F$61,C$5,FALSE))","v":""},{"$f":"IF(ISNA(VLOOKUP($A164,'Entry List'!$A$1:$F$61,D$5,FALSE)),\"\",VLOOKUP($A164,'Entry List'!$A$1:$F$61,D$5,FALSE))","v":""},{"$f":"IF(ISNA(VLOOKUP($A164,'Entry List'!$A$1:$F$61,E$5,FALSE)),\"\",VLOOKUP($A164,'Entry List'!$A$1:$F$61,E$5,FALSE))","v":""},null,"DNS",0,"DNS",0,"DNS",0,"DNS",0,"DNS",0,"DNS",0,"DNS",0,"DNS",0,"DNS",0,"DNS",0,"DNS",0,"DNS",0,"DNS",0,"DNS",0,"DNS",0,"DNS",0,"DNS",0,"DNS",0,"DNS",0,"DNS",0,"DNS",0,"DNS",0,"DNS",0,"DNS",0,"DNS",0,"DNS",0,"DNS",0,"DNS",0,"DNS",0,"DNS",0,"DNS",0,"DNS",0,"DNS",0,"DNS",0,"DNS",0,{"$f":"IF('Last Race Results'!$B$5=0,0,IF(ISNA(VLOOKUP($A164,'Last Race Results'!$A$5:$J$44,2,FALSE)),\"DNS\",VLOOKUP($A164,'Last Race Results'!$A$5:$J$44,2,FALSE)))","v":"DNS"},{"$f":"IF('Last Race Results'!$B$5=0,0,IF(ISNA(VLOOKUP($A164,'Last Race Results'!$A$5:$K$44,11,FALSE)),0,VLOOKUP($A164,'Last Race Results'!$A$5:$K$44,11,FALSE)))","v":0}]
[148,{"$f":"IF(ISNA(VLOOKUP($A165,'Entry List'!$A$1:$F$61,B$5,FALSE)),\"\",VLOOKUP($A165,'Entry List'!$A$1:$F$61,B$5,FALSE))","v":""},{"$f":"IF(ISNA(VLOOKUP($A165,'Entry List'!$A$1:$F$61,C$5,FALSE)),\"\",VLOOKUP($A165,'Entry List'!$A$1:$F$61,C$5,FALSE))","v":""},{"$f":"IF(ISNA(VLOOKUP($A165,'Entry List'!$A$1:$F$61,D$5,FALSE)),\"\",VLOOKUP($A165,'Entry List'!$A$1:$F$61,D$5,FALSE))","v":""},{"$f":"IF(ISNA(VLOOKUP($A165,'Entry List'!$A$1:$F$61,E$5,FALSE)),\"\",VLOOKUP($A165,'Entry List'!$A$1:$F$61,E$5,FALSE))","v":""},null,"DNS",0,"DNS",0,"DNS",0,"DNS",0,"DNS",0,"DNS",0,"DNS",0,"DNS",0,"DNS",0,"DNS",0,"DNS",0,"DNS",0,"DNS",0,"DNS",0,"DNS",0,"DNS",0,"DNS",0,"DNS",0,"DNS",0,"DNS",0,"DNS",0,"DNS",0,"DNS",0,"DNS",0,"DNS",0,"DNS",0,"DNS",0,"DNS",0,"DNS",0,"DNS",0,"DNS",0,"DNS",0,"DNS",0,"DNS",0,"DNS",0,{"$f":"IF('Last Race Results'!$B$5=0,0,IF(ISNA(VLOOKUP($A165,'Last Race Results'!$A$5:$J$44,2,FALSE)),\"DNS\",VLOOKUP($A165,'Last Race Results'!$A$5:$J$44,2,FALSE)))","v":"DNS"},{"$f":"IF('Last Race Results'!$B$5=0,0,IF(ISNA(VLOOKUP($A165,'Last Race Results'!$A$5:$K$44,11,FALSE)),0,VLOOKUP($A165,'Last Race Results'!$A$5:$K$44,11,FALSE)))","v":0}]
[149,{"$f":"IF(ISNA(VLOOKUP($A166,'Entry List'!$A$1:$F$61,B$5,FALSE)),\"\",VLOOKUP($A166,'Entry List'!$A$1:$F$61,B$5,FALSE))","v":""},{"$f":"IF(ISNA(VLOOKUP($A166,'Entry List'!$A$1:$F$61,C$5,FALSE)),\"\",VLOOKUP($A166,'Entry List'!$A$1:$F$61,C$5,FALSE))","v":""},{"$f":"IF(ISNA(VLOOKUP($A166,'Entry List'!$A$1:$F$61,D$5,FALSE)),\"\",VLOOKUP($A166,'Entry List'!$A$1:$F$61,D$5,FALSE))","v":""},{"$f":"IF(ISNA(VLOOKUP($A166,'Entry List'!$A$1:$F$61,E$5,FALSE)),\"\",VLOOKUP($A166,'Entry List'!$A$1:$F$61,E$5,FALSE))","v":""},null,"DNS",0,"DNS",0,"DNS",0,"DNS",0,"DNS",0,"DNS",0,"DNS",0,"DNS",0,"DNS",0,"DNS",0,"DNS",0,"DNS",0,"DNS",0,"DNS",0,"DNS",0,"DNS",0,"DNS",0,"DNS",0,"DNS",0,"DNS",0,"DNS",0,"DNS",0,"DNS",0,"DNS",0,"DNS",0,"DNS",0,"DNS",0,"DNS",0,"DNS",0,"DNS",0,"DNS",0,"DNS",0,"DNS",0,"DNS",0,"DNS",0,{"$f":"IF('Last Race Results'!$B$5=0,0,IF(ISNA(VLOOKUP($A166,'Last Race Results'!$A$5:$J$44,2,FALSE)),\"DNS\",VLOOKUP($A166,'Last Race Results'!$A$5:$J$44,2,FALSE)))","v":"DNS"},{"$f":"IF('Last Race Results'!$B$5=0,0,IF(ISNA(VLOOKUP($A166,'Last Race Results'!$A$5:$K$44,11,FALSE)),0,VLOOKUP($A166,'Last Race Results'!$A$5:$K$44,11,FALSE)))","v":0}]
[150,{"$f":"IF(ISNA(VLOOKUP($A167,'Entry List'!$A$1:$F$61,B$5,FALSE)),\"\",VLOOKUP($A167,'Entry List'!$A$1:$F$61,B$5,FALSE))","v":""},{"$f":"IF(ISNA(VLOOKUP($A167,'Entry List'!$A$1:$F$61,C$5,FALSE)),\"\",VLOOKUP($A167,'Entry List'!$A$1:$F$61,C$5,FALSE))","v":""},{"$f":"IF(ISNA(VLOOKUP($A167,'Entry List'!$A$1:$F$61,D$5,FALSE)),\"\",VLOOKUP($A167,'Entry List'!$A$1:$F$61,D$5,FALSE))","v":""},{"$f":"IF(ISNA(VLOOKUP($A167,'Entry List'!$A$1:$F$61,E$5,FALSE)),\"\",VLOOKUP($A167,'Entry List'!$A$1:$F$61,E$5,FALSE))","v":""},null,"DNS",0,"DNS",0,"DNS",0,"DNS",0,"DNS",0,"DNS",0,"DNS",0,"DNS",0,"DNS",0,"DNS",0,"DNS",0,"DNS",0,"DNS",0,"DNS",0,"DNS",0,"DNS",0,"DNS",0,"DNS",0,"DNS",0,"DNS",0,"DNS",0,"DNS",0,"DNS",0,"DNS",0,"DNS",0,"DNS",0,"DNS",0,"DNS",0,"DNS",0,"DNS",0,"DNS",0,"DNS",0,"DNS",0,"DNS",0,"DNS",0,{"$f":"IF('Last Race Results'!$B$5=0,0,IF(ISNA(VLOOKUP($A167,'Last Race Results'!$A$5:$J$44,2,FALSE)),\"DNS\",VLOOKUP($A167,'Last Race Results'!$A$5:$J$44,2,FALSE)))","v":"DNS"},{"$f":"IF('Last Race Results'!$B$5=0,0,IF(ISNA(VLOOKUP($A167,'Last Race Results'!$A$5:$K$44,11,FALSE)),0,VLOOKUP($A167,'Last Race Results'!$A$5:$K$44,11,FALSE)))","v":0}]
[151,{"$f":"IF(ISNA(VLOOKUP($A168,'Entry List'!$A$1:$F$61,B$5,FALSE)),\"\",VLOOKUP($A168,'Entry List'!$A$1:$F$61,B$5,FALSE))","v":""},{"$f":"IF(ISNA(VLOOKUP($A168,'Entry List'!$A$1:$F$61,C$5,FALSE)),\"\",VLOOKUP($A168,'Entry List'!$A$1:$F$61,C$5,FALSE))","v":""},{"$f":"IF(ISNA(VLOOKUP($A168,'Entry List'!$A$1:$F$61,D$5,FALSE)),\"\",VLOOKUP($A168,'Entry List'!$A$1:$F$61,D$5,FALSE))","v":""},{"$f":"IF(ISNA(VLOOKUP($A168,'Entry List'!$A$1:$F$61,E$5,FALSE)),\"\",VLOOKUP($A168,'Entry List'!$A$1:$F$61,E$5,FALSE))","v":""},null,"DNS",0,"DNS",0,"DNS",0,"DNS",0,"DNS",0,"DNS",0,"DNS",0,"DNS",0,"DNS",0,"DNS",0,"DNS",0,"DNS",0,"DNS",0,"DNS",0,"DNS",0,"DNS",0,"DNS",0,"DNS",0,"DNS",0,"DNS",0,"DNS",0,"DNS",0,"DNS",0,"DNS",0,"DNS",0,"DNS",0,"DNS",0,"DNS",0,"DNS",0,"DNS",0,"DNS",0,"DNS",0,"DNS",0,"DNS",0,"DNS",0,{"$f":"IF('Last Race Results'!$B$5=0,0,IF(ISNA(VLOOKUP($A168,'Last Race Results'!$A$5:$J$44,2,FALSE)),\"DNS\",VLOOKUP($A168,'Last Race Results'!$A$5:$J$44,2,FALSE)))","v":"DNS"},{"$f":"IF('Last Race Results'!$B$5=0,0,IF(ISNA(VLOOKUP($A168,'Last Race Results'!$A$5:$K$44,11,FALSE)),0,VLOOKUP($A168,'Last Race Results'!$A$5:$K$44,11,FALSE)))","v":0}]
[152,{"$f":"IF(ISNA(VLOOKUP($A169,'Entry List'!$A$1:$F$61,B$5,FALSE)),\"\",VLOOKUP($A169,'Entry List'!$A$1:$F$61,B$5,FALSE))","v":""},{"$f":"IF(ISNA(VLOOKUP($A169,'Entry List'!$A$1:$F$61,C$5,FALSE)),\"\",VLOOKUP($A169,'Entry List'!$A$1:$F$61,C$5,FALSE))","v":""},{"$f":"IF(ISNA(VLOOKUP($A169,'Entry List'!$A$1:$F$61,D$5,FALSE)),\"\",VLOOKUP($A169,'Entry List'!$A$1:$F$61,D$5,FALSE))","v":""},{"$f":"IF(ISNA(VLOOKUP($A169,'Entry List'!$A$1:$F$61,E$5,FALSE)),\"\",VLOOKUP($A169,'Entry List'!$A$1:$F$61,E$5,FALSE))","v":""},null,"DNS",0,"DNS",0,"DNS",0,"DNS",0,"DNS",0,"DNS",0,"DNS",0,"DNS",0,"DNS",0,"DNS",0,"DNS",0,"DNS",0,"DNS",0,"DNS",0,"DNS",0,"DNS",0,"DNS",0,"DNS",0,"DNS",0,"DNS",0,"DNS",0,"DNS",0,"DNS",0,"DNS",0,"DNS",0,"DNS",0,"DNS",0,"DNS",0,"DNS",0,"DNS",0,"DNS",0,"DNS",0,"DNS",0,"DNS",0,"DNS",0,{"$f":"IF('Last Race Results'!$B$5=0,0,IF(ISNA(VLOOKUP($A169,'Last Race Results'!$A$5:$J$44,2,FALSE)),\"DNS\",VLOOKUP($A169,'Last Race Results'!$A$5:$J$44,2,FALSE)))","v":"DNS"},{"$f":"IF('Last Race Results'!$B$5=0,0,IF(ISNA(VLOOKUP($A169,'Last Race Results'!$A$5:$K$44,11,FALSE)),0,VLOOKUP($A169,'Last Race Results'!$A$5:$K$44,11,FALSE)))","v":0}]
[153,{"$f":"IF(ISNA(VLOOKUP($A170,'Entry List'!$A$1:$F$61,B$5,FALSE)),\"\",VLOOKUP($A170,'Entry List'!$A$1:$F$61,B$5,FALSE))","v":""},{"$f":"IF(ISNA(VLOOKUP($A170,'Entry List'!$A$1:$F$61,C$5,FALSE)),\"\",VLOOKUP($A170,'Entry List'!$A$1:$F$61,C$5,FALSE))","v":""},{"$f":"IF(ISNA(VLOOKUP($A170,'Entry List'!$A$1:$F$61,D$5,FALSE)),\"\",VLOOKUP($A170,'Entry List'!$A$1:$F$61,D$5,FALSE))","v":""},{"$f":"IF(ISNA(VLOOKUP($A170,'Entry List'!$A$1:$F$61,E$5,FALSE)),\"\",VLOOKUP($A170,'Entry List'!$A$1:$F$61,E$5,FALSE))","v":""},null,"DNS",0,"DNS",0,"DNS",0,"DNS",0,"DNS",0,"DNS",0,"DNS",0,"DNS",0,"DNS",0,"DNS",0,"DNS",0,"DNS",0,"DNS",0,"DNS",0,"DNS",0,"DNS",0,"DNS",0,"DNS",0,"DNS",0,"DNS",0,"DNS",0,"DNS",0,"DNS",0,"DNS",0,"DNS",0,"DNS",0,"DNS",0,"DNS",0,"DNS",0,"DNS",0,"DNS",0,"DNS",0,"DNS",0,"DNS",0,"DNS",0,{"$f":"IF('Last Race Results'!$B$5=0,0,IF(ISNA(VLOOKUP($A170,'Last Race Results'!$A$5:$J$44,2,FALSE)),\"DNS\",VLOOKUP($A170,'Last Race Results'!$A$5:$J$44,2,FALSE)))","v":"DNS"},{"$f":"IF('Last Race Results'!$B$5=0,0,IF(ISNA(VLOOKUP($A170,'Last Race Results'!$A$5:$K$44,11,FALSE)),0,VLOOKUP($A170,'Last Race Results'!$A$5:$K$44,11,FALSE)))","v":0}]
[154,{"$f":"IF(ISNA(VLOOKUP($A171,'Entry List'!$A$1:$F$61,B$5,FALSE)),\"\",VLOOKUP($A171,'Entry List'!$A$1:$F$61,B$5,FALSE))","v":""},{"$f":"IF(ISNA(VLOOKUP($A171,'Entry List'!$A$1:$F$61,C$5,FALSE)),\"\",VLOOKUP($A171,'Entry List'!$A$1:$F$61,C$5,FALSE))","v":""},{"$f":"IF(ISNA(VLOOKUP($A171,'Entry List'!$A$1:$F$61,D$5,FALSE)),\"\",VLOOKUP($A171,'Entry List'!$A$1:$F$61,D$5,FALSE))","v":""},{"$f":"IF(ISNA(VLOOKUP($A171,'Entry List'!$A$1:$F$61,E$5,FALSE)),\"\",VLOOKUP($A171,'Entry List'!$A$1:$F$61,E$5,FALSE))","v":""},null,"DNS",0,"DNS",0,"DNS",0,"DNS",0,"DNS",0,"DNS",0,"DNS",0,"DNS",0,"DNS",0,"DNS",0,"DNS",0,"DNS",0,"DNS",0,"DNS",0,"DNS",0,"DNS",0,"DNS",0,"DNS",0,"DNS",0,"DNS",0,"DNS",0,"DNS",0,"DNS",0,"DNS",0,"DNS",0,"DNS",0,"DNS",0,"DNS",0,"DNS",0,"DNS",0,"DNS",0,"DNS",0,"DNS",0,"DNS",0,"DNS",0,{"$f":"IF('Last Race Results'!$B$5=0,0,IF(ISNA(VLOOKUP($A171,'Last Race Results'!$A$5:$J$44,2,FALSE)),\"DNS\",VLOOKUP($A171,'Last Race Results'!$A$5:$J$44,2,FALSE)))","v":"DNS"},{"$f":"IF('Last Race Results'!$B$5=0,0,IF(ISNA(VLOOKUP($A171,'Last Race Results'!$A$5:$K$44,11,FALSE)),0,VLOOKUP($A171,'Last Race Results'!$A$5:$K$44,11,FALSE)))","v":0}]
[155,{"$f":"IF(ISNA(VLOOKUP($A172,'Entry List'!$A$1:$F$61,B$5,FALSE)),\"\",VLOOKUP($A172,'Entry List'!$A$1:$F$61,B$5,FALSE))","v":""},{"$f":"IF(ISNA(VLOOKUP($A172,'Entry List'!$A$1:$F$61,C$5,FALSE)),\"\",VLOOKUP($A172,'Entry List'!$A$1:$F$61,C$5,FALSE))","v":""},{"$f":"IF(ISNA(VLOOKUP($A172,'Entry List'!$A$1:$F$61,D$5,FALSE)),\"\",VLOOKUP($A172,'Entry List'!$A$1:$F$61,D$5,FALSE))","v":""},{"$f":"IF(ISNA(VLOOKUP($A172,'Entry List'!$A$1:$F$61,E$5,FALSE)),\"\",VLOOKUP($A172,'Entry List'!$A$1:$F$61,E$5,FALSE))","v":""},null,"DNS",0,"DNS",0,"DNS",0,"DNS",0,"DNS",0,"DNS",0,"DNS",0,"DNS",0,"DNS",0,"DNS",0,"DNS",0,"DNS",0,"DNS",0,"DNS",0,"DNS",0,"DNS",0,"DNS",0,"DNS",0,"DNS",0,"DNS",0,"DNS",0,"DNS",0,"DNS",0,"DNS",0,"DNS",0,"DNS",0,"DNS",0,"DNS",0,"DNS",0,"DNS",0,"DNS",0,"DNS",0,"DNS",0,"DNS",0,"DNS",0,{"$f":"IF('Last Race Results'!$B$5=0,0,IF(ISNA(VLOOKUP($A172,'Last Race Results'!$A$5:$J$44,2,FALSE)),\"DNS\",VLOOKUP($A172,'Last Race Results'!$A$5:$J$44,2,FALSE)))","v":"DNS"},{"$f":"IF('Last Race Results'!$B$5=0,0,IF(ISNA(VLOOKUP($A172,'Last Race Results'!$A$5:$K$44,11,FALSE)),0,VLOOKUP($A172,'Last Race Results'!$A$5:$K$44,11,FALSE)))","v":0}]
[156,{"$f":"IF(ISNA(VLOOKUP($A173,'Entry List'!$A$1:$F$61,B$5,FALSE)),\"\",VLOOKUP($A173,'Entry List'!$A$1:$F$61,B$5,FALSE))","v":""},{"$f":"IF(ISNA(VLOOKUP($A173,'Entry List'!$A$1:$F$61,C$5,FALSE)),\"\",VLOOKUP($A173,'Entry List'!$A$1:$F$61,C$5,FALSE))","v":""},{"$f":"IF(ISNA(VLOOKUP($A173,'Entry List'!$A$1:$F$61,D$5,FALSE)),\"\",VLOOKUP($A173,'Entry List'!$A$1:$F$61,D$5,FALSE))","v":""},{"$f":"IF(ISNA(VLOOKUP($A173,'Entry List'!$A$1:$F$61,E$5,FALSE)),\"\",VLOOKUP($A173,'Entry List'!$A$1:$F$61,E$5,FALSE))","v":""},null,"DNS",0,"DNS",0,"DNS",0,"DNS",0,"DNS",0,"DNS",0,"DNS",0,"DNS",0,"DNS",0,"DNS",0,"DNS",0,"DNS",0,"DNS",0,"DNS",0,"DNS",0,"DNS",0,"DNS",0,"DNS",0,"DNS",0,"DNS",0,"DNS",0,"DNS",0,"DNS",0,"DNS",0,"DNS",0,"DNS",0,"DNS",0,"DNS",0,"DNS",0,"DNS",0,"DNS",0,"DNS",0,"DNS",0,"DNS",0,"DNS",0,{"$f":"IF('Last Race Results'!$B$5=0,0,IF(ISNA(VLOOKUP($A173,'Last Race Results'!$A$5:$J$44,2,FALSE)),\"DNS\",VLOOKUP($A173,'Last Race Results'!$A$5:$J$44,2,FALSE)))","v":"DNS"},{"$f":"IF('Last Race Results'!$B$5=0,0,IF(ISNA(VLOOKUP($A173,'Last Race Results'!$A$5:$K$44,11,FALSE)),0,VLOOKUP($A173,'Last Race Results'!$A$5:$K$44,11,FALSE)))","v":0}]
[157,{"$f":"IF(ISNA(VLOOKUP($A174,'Entry List'!$A$1:$F$61,B$5,FALSE)),\"\",VLOOKUP($A174,'Entry List'!$A$1:$F$61,B$5,FALSE))","v":""},{"$f":"IF(ISNA(VLOOKUP($A174,'Entry List'!$A$1:$F$61,C$5,FALSE)),\"\",VLOOKUP($A174,'Entry List'!$A$1:$F$61,C$5,FALSE))","v":""},{"$f":"IF(ISNA(VLOOKUP($A174,'Entry List'!$A$1:$F$61,D$5,FALSE)),\"\",VLOOKUP($A174,'Entry List'!$A$1:$F$61,D$5,FALSE))","v":""},{"$f":"IF(ISNA(VLOOKUP($A174,'Entry List'!$A$1:$F$61,E$5,FALSE)),\"\",VLOOKUP($A174,'Entry List'!$A$1:$F$61,E$5,FALSE))","v":""},null,"DNS",0,"DNS",0,"DNS",0,"DNS",0,"DNS",0,"DNS",0,"DNS",0,"DNS",0,"DNS",0,"DNS",0,"DNS",0,"DNS",0,"DNS",0,"DNS",0,"DNS",0,"DNS",0,"DNS",0,"DNS",0,"DNS",0,"DNS",0,"DNS",0,"DNS",0,"DNS",0,"DNS",0,"DNS",0,"DNS",0,"DNS",0,"DNS",0,"DNS",0,"DNS",0,"DNS",0,"DNS",0,"DNS",0,"DNS",0,"DNS",0,{"$f":"IF('Last Race Results'!$B$5=0,0,IF(ISNA(VLOOKUP($A174,'Last Race Results'!$A$5:$J$44,2,FALSE)),\"DNS\",VLOOKUP($A174,'Last Race Results'!$A$5:$J$44,2,FALSE)))","v":"DNS"},{"$f":"IF('Last Race Results'!$B$5=0,0,IF(ISNA(VLOOKUP($A174,'Last Race Results'!$A$5:$K$44,11,FALSE)),0,VLOOKUP($A174,'Last Race Results'!$A$5:$K$44,11,FALSE)))","v":0}]
[158,{"$f":"IF(ISNA(VLOOKUP($A175,'Entry List'!$A$1:$F$61,B$5,FALSE)),\"\",VLOOKUP($A175,'Entry List'!$A$1:$F$61,B$5,FALSE))","v":""},{"$f":"IF(ISNA(VLOOKUP($A175,'Entry List'!$A$1:$F$61,C$5,FALSE)),\"\",VLOOKUP($A175,'Entry List'!$A$1:$F$61,C$5,FALSE))","v":""},{"$f":"IF(ISNA(VLOOKUP($A175,'Entry List'!$A$1:$F$61,D$5,FALSE)),\"\",VLOOKUP($A175,'Entry List'!$A$1:$F$61,D$5,FALSE))","v":""},{"$f":"IF(ISNA(VLOOKUP($A175,'Entry List'!$A$1:$F$61,E$5,FALSE)),\"\",VLOOKUP($A175,'Entry List'!$A$1:$F$61,E$5,FALSE))","v":""},null,"DNS",0,"DNS",0,"DNS",0,"DNS",0,"DNS",0,"DNS",0,"DNS",0,"DNS",0,"DNS",0,"DNS",0,"DNS",0,"DNS",0,"DNS",0,"DNS",0,"DNS",0,"DNS",0,"DNS",0,"DNS",0,"DNS",0,"DNS",0,"DNS",0,"DNS",0,"DNS",0,"DNS",0,"DNS",0,"DNS",0,"DNS",0,"DNS",0,"DNS",0,"DNS",0,"DNS",0,"DNS",0,"DNS",0,"DNS",0,"DNS",0,{"$f":"IF('Last Race Results'!$B$5=0,0,IF(ISNA(VLOOKUP($A175,'Last Race Results'!$A$5:$J$44,2,FALSE)),\"DNS\",VLOOKUP($A175,'Last Race Results'!$A$5:$J$44,2,FALSE)))","v":"DNS"},{"$f":"IF('Last Race Results'!$B$5=0,0,IF(ISNA(VLOOKUP($A175,'Last Race Results'!$A$5:$K$44,11,FALSE)),0,VLOOKUP($A175,'Last Race Results'!$A$5:$K$44,11,FALSE)))","v":0}]
[159,{"$f":"IF(ISNA(VLOOKUP($A176,'Entry List'!$A$1:$F$61,B$5,FALSE)),\"\",VLOOKUP($A176,'Entry List'!$A$1:$F$61,B$5,FALSE))","v":""},{"$f":"IF(ISNA(VLOOKUP($A176,'Entry List'!$A$1:$F$61,C$5,FALSE)),\"\",VLOOKUP($A176,'Entry List'!$A$1:$F$61,C$5,FALSE))","v":""},{"$f":"IF(ISNA(VLOOKUP($A176,'Entry List'!$A$1:$F$61,D$5,FALSE)),\"\",VLOOKUP($A176,'Entry List'!$A$1:$F$61,D$5,FALSE))","v":""},{"$f":"IF(ISNA(VLOOKUP($A176,'Entry List'!$A$1:$F$61,E$5,FALSE)),\"\",VLOOKUP($A176,'Entry List'!$A$1:$F$61,E$5,FALSE))","v":""},null,"DNS",0,"DNS",0,"DNS",0,"DNS",0,"DNS",0,"DNS",0,"DNS",0,"DNS",0,"DNS",0,"DNS",0,"DNS",0,"DNS",0,"DNS",0,"DNS",0,"DNS",0,"DNS",0,"DNS",0,"DNS",0,"DNS",0,"DNS",0,"DNS",0,"DNS",0,"DNS",0,"DNS",0,"DNS",0,"DNS",0,"DNS",0,"DNS",0,"DNS",0,"DNS",0,"DNS",0,"DNS",0,"DNS",0,"DNS",0,"DNS",0,{"$f":"IF('Last Race Results'!$B$5=0,0,IF(ISNA(VLOOKUP($A176,'Last Race Results'!$A$5:$J$44,2,FALSE)),\"DNS\",VLOOKUP($A176,'Last Race Results'!$A$5:$J$44,2,FALSE)))","v":"DNS"},{"$f":"IF('Last Race Results'!$B$5=0,0,IF(ISNA(VLOOKUP($A176,'Last Race Results'!$A$5:$K$44,11,FALSE)),0,VLOOKUP($A176,'Last Race Results'!$A$5:$K$44,11,FALSE)))","v":0}]
[160,{"$f":"IF(ISNA(VLOOKUP($A177,'Entry List'!$A$1:$F$61,B$5,FALSE)),\"\",VLOOKUP($A177,'Entry List'!$A$1:$F$61,B$5,FALSE))","v":""},{"$f":"IF(ISNA(VLOOKUP($A177,'Entry List'!$A$1:$F$61,C$5,FALSE)),\"\",VLOOKUP($A177,'Entry List'!$A$1:$F$61,C$5,FALSE))","v":""},{"$f":"IF(ISNA(VLOOKUP($A177,'Entry List'!$A$1:$F$61,D$5,FALSE)),\"\",VLOOKUP($A177,'Entry List'!$A$1:$F$61,D$5,FALSE))","v":""},{"$f":"IF(ISNA(VLOOKUP($A177,'Entry List'!$A$1:$F$61,E$5,FALSE)),\"\",VLOOKUP($A177,'Entry List'!$A$1:$F$61,E$5,FALSE))","v":""},null,"DNS",0,"DNS",0,"DNS",0,"DNS",0,"DNS",0,"DNS",0,"DNS",0,"DNS",0,"DNS",0,"DNS",0,"DNS",0,"DNS",0,"DNS",0,"DNS",0,"DNS",0,"DNS",0,"DNS",0,"DNS",0,"DNS",0,"DNS",0,"DNS",0,"DNS",0,"DNS",0,"DNS",0,"DNS",0,"DNS",0,"DNS",0,"DNS",0,"DNS",0,"DNS",0,"DNS",0,"DNS",0,"DNS",0,"DNS",0,"DNS",0,{"$f":"IF('Last Race Results'!$B$5=0,0,IF(ISNA(VLOOKUP($A177,'Last Race Results'!$A$5:$J$44,2,FALSE)),\"DNS\",VLOOKUP($A177,'Last Race Results'!$A$5:$J$44,2,FALSE)))","v":"DNS"},{"$f":"IF('Last Race Results'!$B$5=0,0,IF(ISNA(VLOOKUP($A177,'Last Race Results'!$A$5:$K$44,11,FALSE)),0,VLOOKUP($A177,'Last Race Results'!$A$5:$K$44,11,FALSE)))","v":0}]
[161,{"$f":"IF(ISNA(VLOOKUP($A178,'Entry List'!$A$1:$F$61,B$5,FALSE)),\"\",VLOOKUP($A178,'Entry List'!$A$1:$F$61,B$5,FALSE))","v":""},{"$f":"IF(ISNA(VLOOKUP($A178,'Entry List'!$A$1:$F$61,C$5,FALSE)),\"\",VLOOKUP($A178,'Entry List'!$A$1:$F$61,C$5,FALSE))","v":""},{"$f":"IF(ISNA(VLOOKUP($A178,'Entry List'!$A$1:$F$61,D$5,FALSE)),\"\",VLOOKUP($A178,'Entry List'!$A$1:$F$61,D$5,FALSE))","v":""},{"$f":"IF(ISNA(VLOOKUP($A178,'Entry List'!$A$1:$F$61,E$5,FALSE)),\"\",VLOOKUP($A178,'Entry List'!$A$1:$F$61,E$5,FALSE))","v":""},null,"DNS",0,"DNS",0,"DNS",0,"DNS",0,"DNS",0,"DNS",0,"DNS",0,"DNS",0,"DNS",0,"DNS",0,"DNS",0,"DNS",0,"DNS",0,"DNS",0,"DNS",0,"DNS",0,"DNS",0,"DNS",0,"DNS",0,"DNS",0,"DNS",0,"DNS",0,"DNS",0,"DNS",0,"DNS",0,"DNS",0,"DNS",0,"DNS",0,"DNS",0,"DNS",0,"DNS",0,"DNS",0,"DNS",0,"DNS",0,"DNS",0,{"$f":"IF('Last Race Results'!$B$5=0,0,IF(ISNA(VLOOKUP($A178,'Last Race Results'!$A$5:$J$44,2,FALSE)),\"DNS\",VLOOKUP($A178,'Last Race Results'!$A$5:$J$44,2,FALSE)))","v":"DNS"},{"$f":"IF('Last Race Results'!$B$5=0,0,IF(ISNA(VLOOKUP($A178,'Last Race Results'!$A$5:$K$44,11,FALSE)),0,VLOOKUP($A178,'Last Race Results'!$A$5:$K$44,11,FALSE)))","v":0}]
[162,{"$f":"IF(ISNA(VLOOKUP($A179,'Entry List'!$A$1:$F$61,B$5,FALSE)),\"\",VLOOKUP($A179,'Entry List'!$A$1:$F$61,B$5,FALSE))","v":""},{"$f":"IF(ISNA(VLOOKUP($A179,'Entry List'!$A$1:$F$61,C$5,FALSE)),\"\",VLOOKUP($A179,'Entry List'!$A$1:$F$61,C$5,FALSE))","v":""},{"$f":"IF(ISNA(VLOOKUP($A179,'Entry List'!$A$1:$F$61,D$5,FALSE)),\"\",VLOOKUP($A179,'Entry List'!$A$1:$F$61,D$5,FALSE))","v":""},{"$f":"IF(ISNA(VLOOKUP($A179,'Entry List'!$A$1:$F$61,E$5,FALSE)),\"\",VLOOKUP($A179,'Entry List'!$A$1:$F$61,E$5,FALSE))","v":""},null,"DNS",0,"DNS",0,"DNS",0,"DNS",0,"DNS",0,"DNS",0,"DNS",0,"DNS",0,"DNS",0,"DNS",0,"DNS",0,"DNS",0,"DNS",0,"DNS",0,"DNS",0,"DNS",0,"DNS",0,"DNS",0,"DNS",0,"DNS",0,"DNS",0,"DNS",0,"DNS",0,"DNS",0,"DNS",0,"DNS",0,"DNS",0,"DNS",0,"DNS",0,"DNS",0,"DNS",0,"DNS",0,"DNS",0,"DNS",0,"DNS",0,{"$f":"IF('Last Race Results'!$B$5=0,0,IF(ISNA(VLOOKUP($A179,'Last Race Results'!$A$5:$J$44,2,FALSE)),\"DNS\",VLOOKUP($A179,'Last Race Results'!$A$5:$J$44,2,FALSE)))","v":"DNS"},{"$f":"IF('Last Race Results'!$B$5=0,0,IF(ISNA(VLOOKUP($A179,'Last Race Results'!$A$5:$K$44,11,FALSE)),0,VLOOKUP($A179,'Last Race Results'!$A$5:$K$44,11,FALSE)))","v":0}]
[163,{"$f":"IF(ISNA(VLOOKUP($A180,'Entry List'!$A$1:$F$61,B$5,FALSE)),\"\",VLOOKUP($A180,'Entry List'!$A$1:$F$61,B$5,FALSE))","v":""},{"$f":"IF(ISNA(VLOOKUP($A180,'Entry List'!$A$1:$F$61,C$5,FALSE)),\"\",VLOOKUP($A180,'Entry List'!$A$1:$F$61,C$5,FALSE))","v":""},{"$f":"IF(ISNA(VLOOKUP($A180,'Entry List'!$A$1:$F$61,D$5,FALSE)),\"\",VLOOKUP($A180,'Entry List'!$A$1:$F$61,D$5,FALSE))","v":""},{"$f":"IF(ISNA(VLOOKUP($A180,'Entry List'!$A$1:$F$61,E$5,FALSE)),\"\",VLOOKUP($A180,'Entry List'!$A$1:$F$61,E$5,FALSE))","v":""},null,"DNS",0,"DNS",0,"DNS",0,"DNS",0,"DNS",0,"DNS",0,"DNS",0,"DNS",0,"DNS",0,"DNS",0,"DNS",0,"DNS",0,"DNS",0,"DNS",0,"DNS",0,"DNS",0,"DNS",0,"DNS",0,"DNS",0,"DNS",0,"DNS",0,"DNS",0,"DNS",0,"DNS",0,"DNS",0,"DNS",0,"DNS",0,"DNS",0,"DNS",0,"DNS",0,"DNS",0,"DNS",0,"DNS",0,"DNS",0,"DNS",0,{"$f":"IF('Last Race Results'!$B$5=0,0,IF(ISNA(VLOOKUP($A180,'Last Race Results'!$A$5:$J$44,2,FALSE)),\"DNS\",VLOOKUP($A180,'Last Race Results'!$A$5:$J$44,2,FALSE)))","v":"DNS"},{"$f":"IF('Last Race Results'!$B$5=0,0,IF(ISNA(VLOOKUP($A180,'Last Race Results'!$A$5:$K$44,11,FALSE)),0,VLOOKUP($A180,'Last Race Results'!$A$5:$K$44,11,FALSE)))","v":0}]
[164,{"$f":"IF(ISNA(VLOOKUP($A181,'Entry List'!$A$1:$F$61,B$5,FALSE)),\"\",VLOOKUP($A181,'Entry List'!$A$1:$F$61,B$5,FALSE))","v":""},{"$f":"IF(ISNA(VLOOKUP($A181,'Entry List'!$A$1:$F$61,C$5,FALSE)),\"\",VLOOKUP($A181,'Entry List'!$A$1:$F$61,C$5,FALSE))","v":""},{"$f":"IF(ISNA(VLOOKUP($A181,'Entry List'!$A$1:$F$61,D$5,FALSE)),\"\",VLOOKUP($A181,'Entry List'!$A$1:$F$61,D$5,FALSE))","v":""},{"$f":"IF(ISNA(VLOOKUP($A181,'Entry List'!$A$1:$F$61,E$5,FALSE)),\"\",VLOOKUP($A181,'Entry List'!$A$1:$F$61,E$5,FALSE))","v":""},null,"DNS",0,"DNS",0,"DNS",0,"DNS",0,"DNS",0,"DNS",0,"DNS",0,"DNS",0,"DNS",0,"DNS",0,"DNS",0,"DNS",0,"DNS",0,"DNS",0,"DNS",0,"DNS",0,"DNS",0,"DNS",0,"DNS",0,"DNS",0,"DNS",0,"DNS",0,"DNS",0,"DNS",0,"DNS",0,"DNS",0,"DNS",0,"DNS",0,"DNS",0,"DNS",0,"DNS",0,"DNS",0,"DNS",0,"DNS",0,"DNS",0,{"$f":"IF('Last Race Results'!$B$5=0,0,IF(ISNA(VLOOKUP($A181,'Last Race Results'!$A$5:$J$44,2,FALSE)),\"DNS\",VLOOKUP($A181,'Last Race Results'!$A$5:$J$44,2,FALSE)))","v":"DNS"},{"$f":"IF('Last Race Results'!$B$5=0,0,IF(ISNA(VLOOKUP($A181,'Last Race Results'!$A$5:$K$44,11,FALSE)),0,VLOOKUP($A181,'Last Race Results'!$A$5:$K$44,11,FALSE)))","v":0}]
[165,{"$f":"IF(ISNA(VLOOKUP($A182,'Entry List'!$A$1:$F$61,B$5,FALSE)),\"\",VLOOKUP($A182,'Entry List'!$A$1:$F$61,B$5,FALSE))","v":""},{"$f":"IF(ISNA(VLOOKUP($A182,'Entry List'!$A$1:$F$61,C$5,FALSE)),\"\",VLOOKUP($A182,'Entry List'!$A$1:$F$61,C$5,FALSE))","v":""},{"$f":"IF(ISNA(VLOOKUP($A182,'Entry List'!$A$1:$F$61,D$5,FALSE)),\"\",VLOOKUP($A182,'Entry List'!$A$1:$F$61,D$5,FALSE))","v":""},{"$f":"IF(ISNA(VLOOKUP($A182,'Entry List'!$A$1:$F$61,E$5,FALSE)),\"\",VLOOKUP($A182,'Entry List'!$A$1:$F$61,E$5,FALSE))","v":""},null,"DNS",0,"DNS",0,"DNS",0,"DNS",0,"DNS",0,"DNS",0,"DNS",0,"DNS",0,"DNS",0,"DNS",0,"DNS",0,"DNS",0,"DNS",0,"DNS",0,"DNS",0,"DNS",0,"DNS",0,"DNS",0,"DNS",0,"DNS",0,"DNS",0,"DNS",0,"DNS",0,"DNS",0,"DNS",0,"DNS",0,"DNS",0,"DNS",0,"DNS",0,"DNS",0,"DNS",0,"DNS",0,"DNS",0,"DNS",0,"DNS",0,{"$f":"IF('Last Race Results'!$B$5=0,0,IF(ISNA(VLOOKUP($A182,'Last Race Results'!$A$5:$J$44,2,FALSE)),\"DNS\",VLOOKUP($A182,'Last Race Results'!$A$5:$J$44,2,FALSE)))","v":"DNS"},{"$f":"IF('Last Race Results'!$B$5=0,0,IF(ISNA(VLOOKUP($A182,'Last Race Results'!$A$5:$K$44,11,FALSE)),0,VLOOKUP($A182,'Last Race Results'!$A$5:$K$44,11,FALSE)))","v":0}]
[166,{"$f":"IF(ISNA(VLOOKUP($A183,'Entry List'!$A$1:$F$61,B$5,FALSE)),\"\",VLOOKUP($A183,'Entry List'!$A$1:$F$61,B$5,FALSE))","v":""},{"$f":"IF(ISNA(VLOOKUP($A183,'Entry List'!$A$1:$F$61,C$5,FALSE)),\"\",VLOOKUP($A183,'Entry List'!$A$1:$F$61,C$5,FALSE))","v":""},{"$f":"IF(ISNA(VLOOKUP($A183,'Entry List'!$A$1:$F$61,D$5,FALSE)),\"\",VLOOKUP($A183,'Entry List'!$A$1:$F$61,D$5,FALSE))","v":""},{"$f":"IF(ISNA(VLOOKUP($A183,'Entry List'!$A$1:$F$61,E$5,FALSE)),\"\",VLOOKUP($A183,'Entry List'!$A$1:$F$61,E$5,FALSE))","v":""},null,"DNS",0,"DNS",0,"DNS",0,"DNS",0,"DNS",0,"DNS",0,"DNS",0,"DNS",0,"DNS",0,"DNS",0,"DNS",0,"DNS",0,"DNS",0,"DNS",0,"DNS",0,"DNS",0,"DNS",0,"DNS",0,"DNS",0,"DNS",0,"DNS",0,"DNS",0,"DNS",0,"DNS",0,"DNS",0,"DNS",0,"DNS",0,"DNS",0,"DNS",0,"DNS",0,"DNS",0,"DNS",0,"DNS",0,"DNS",0,"DNS",0,{"$f":"IF('Last Race Results'!$B$5=0,0,IF(ISNA(VLOOKUP($A183,'Last Race Results'!$A$5:$J$44,2,FALSE)),\"DNS\",VLOOKUP($A183,'Last Race Results'!$A$5:$J$44,2,FALSE)))","v":"DNS"},{"$f":"IF('Last Race Results'!$B$5=0,0,IF(ISNA(VLOOKUP($A183,'Last Race Results'!$A$5:$K$44,11,FALSE)),0,VLOOKUP($A183,'Last Race Results'!$A$5:$K$44,11,FALSE)))","v":0}]
[167,{"$f":"IF(ISNA(VLOOKUP($A184,'Entry List'!$A$1:$F$61,B$5,FALSE)),\"\",VLOOKUP($A184,'Entry List'!$A$1:$F$61,B$5,FALSE))","v":""},{"$f":"IF(ISNA(VLOOKUP($A184,'Entry List'!$A$1:$F$61,C$5,FALSE)),\"\",VLOOKUP($A184,'Entry List'!$A$1:$F$61,C$5,FALSE))","v":""},{"$f":"IF(ISNA(VLOOKUP($A184,'Entry List'!$A$1:$F$61,D$5,FALSE)),\"\",VLOOKUP($A184,'Entry List'!$A$1:$F$61,D$5,FALSE))","v":""},{"$f":"IF(ISNA(VLOOKUP($A184,'Entry List'!$A$1:$F$61,E$5,FALSE)),\"\",VLOOKUP($A184,'Entry List'!$A$1:$F$61,E$5,FALSE))","v":""},null,"DNS",0,"DNS",0,"DNS",0,"DNS",0,"DNS",0,"DNS",0,"DNS",0,"DNS",0,"DNS",0,"DNS",0,"DNS",0,"DNS",0,"DNS",0,"DNS",0,"DNS",0,"DNS",0,"DNS",0,"DNS",0,"DNS",0,"DNS",0,"DNS",0,"DNS",0,"DNS",0,"DNS",0,"DNS",0,"DNS",0,"DNS",0,"DNS",0,"DNS",0,"DNS",0,"DNS",0,"DNS",0,"DNS",0,"DNS",0,"DNS",0,{"$f":"IF('Last Race Results'!$B$5=0,0,IF(ISNA(VLOOKUP($A184,'Last Race Results'!$A$5:$J$44,2,FALSE)),\"DNS\",VLOOKUP($A184,'Last Race Results'!$A$5:$J$44,2,FALSE)))","v":"DNS"},{"$f":"IF('Last Race Results'!$B$5=0,0,IF(ISNA(VLOOKUP($A184,'Last Race Results'!$A$5:$K$44,11,FALSE)),0,VLOOKUP($A184,'Last Race Results'!$A$5:$K$44,11,FALSE)))","v":0}]
[168,{"$f":"IF(ISNA(VLOOKUP($A185,'Entry List'!$A$1:$F$61,B$5,FALSE)),\"\",VLOOKUP($A185,'Entry List'!$A$1:$F$61,B$5,FALSE))","v":""},{"$f":"IF(ISNA(VLOOKUP($A185,'Entry List'!$A$1:$F$61,C$5,FALSE)),\"\",VLOOKUP($A185,'Entry List'!$A$1:$F$61,C$5,FALSE))","v":""},{"$f":"IF(ISNA(VLOOKUP($A185,'Entry List'!$A$1:$F$61,D$5,FALSE)),\"\",VLOOKUP($A185,'Entry List'!$A$1:$F$61,D$5,FALSE))","v":""},{"$f":"IF(ISNA(VLOOKUP($A185,'Entry List'!$A$1:$F$61,E$5,FALSE)),\"\",VLOOKUP($A185,'Entry List'!$A$1:$F$61,E$5,FALSE))","v":""},null,"DNS",0,"DNS",0,"DNS",0,"DNS",0,"DNS",0,"DNS",0,"DNS",0,"DNS",0,"DNS",0,"DNS",0,"DNS",0,"DNS",0,"DNS",0,"DNS",0,"DNS",0,"DNS",0,"DNS",0,"DNS",0,"DNS",0,"DNS",0,"DNS",0,"DNS",0,"DNS",0,"DNS",0,"DNS",0,"DNS",0,"DNS",0,"DNS",0,"DNS",0,"DNS",0,"DNS",0,"DNS",0,"DNS",0,"DNS",0,"DNS",0,{"$f":"IF('Last Race Results'!$B$5=0,0,IF(ISNA(VLOOKUP($A185,'Last Race Results'!$A$5:$J$44,2,FALSE)),\"DNS\",VLOOKUP($A185,'Last Race Results'!$A$5:$J$44,2,FALSE)))","v":"DNS"},{"$f":"IF('Last Race Results'!$B$5=0,0,IF(ISNA(VLOOKUP($A185,'Last Race Results'!$A$5:$K$44,11,FALSE)),0,VLOOKUP($A185,'Last Race Results'!$A$5:$K$44,11,FALSE)))","v":0}]
[169,{"$f":"IF(ISNA(VLOOKUP($A186,'Entry List'!$A$1:$F$61,B$5,FALSE)),\"\",VLOOKUP($A186,'Entry List'!$A$1:$F$61,B$5,FALSE))","v":""},{"$f":"IF(ISNA(VLOOKUP($A186,'Entry List'!$A$1:$F$61,C$5,FALSE)),\"\",VLOOKUP($A186,'Entry List'!$A$1:$F$61,C$5,FALSE))","v":""},{"$f":"IF(ISNA(VLOOKUP($A186,'Entry List'!$A$1:$F$61,D$5,FALSE)),\"\",VLOOKUP($A186,'Entry List'!$A$1:$F$61,D$5,FALSE))","v":""},{"$f":"IF(ISNA(VLOOKUP($A186,'Entry List'!$A$1:$F$61,E$5,FALSE)),\"\",VLOOKUP($A186,'Entry List'!$A$1:$F$61,E$5,FALSE))","v":""},null,"DNS",0,"DNS",0,"DNS",0,"DNS",0,"DNS",0,"DNS",0,"DNS",0,"DNS",0,"DNS",0,"DNS",0,"DNS",0,"DNS",0,"DNS",0,"DNS",0,"DNS",0,"DNS",0,"DNS",0,"DNS",0,"DNS",0,"DNS",0,"DNS",0,"DNS",0,"DNS",0,"DNS",0,"DNS",0,"DNS",0,"DNS",0,"DNS",0,"DNS",0,"DNS",0,"DNS",0,"DNS",0,"DNS",0,"DNS",0,"DNS",0,{"$f":"IF('Last Race Results'!$B$5=0,0,IF(ISNA(VLOOKUP($A186,'Last Race Results'!$A$5:$J$44,2,FALSE)),\"DNS\",VLOOKUP($A186,'Last Race Results'!$A$5:$J$44,2,FALSE)))","v":"DNS"},{"$f":"IF('Last Race Results'!$B$5=0,0,IF(ISNA(VLOOKUP($A186,'Last Race Results'!$A$5:$K$44,11,FALSE)),0,VLOOKUP($A186,'Last Race Results'!$A$5:$K$44,11,FALSE)))","v":0}]
[170,{"$f":"IF(ISNA(VLOOKUP($A187,'Entry List'!$A$1:$F$61,B$5,FALSE)),\"\",VLOOKUP($A187,'Entry List'!$A$1:$F$61,B$5,FALSE))","v":""},{"$f":"IF(ISNA(VLOOKUP($A187,'Entry List'!$A$1:$F$61,C$5,FALSE)),\"\",VLOOKUP($A187,'Entry List'!$A$1:$F$61,C$5,FALSE))","v":""},{"$f":"IF(ISNA(VLOOKUP($A187,'Entry List'!$A$1:$F$61,D$5,FALSE)),\"\",VLOOKUP($A187,'Entry List'!$A$1:$F$61,D$5,FALSE))","v":""},{"$f":"IF(ISNA(VLOOKUP($A187,'Entry List'!$A$1:$F$61,E$5,FALSE)),\"\",VLOOKUP($A187,'Entry List'!$A$1:$F$61,E$5,FALSE))","v":""},null,"DNS",0,"DNS",0,"DNS",0,"DNS",0,"DNS",0,"DNS",0,"DNS",0,"DNS",0,"DNS",0,"DNS",0,"DNS",0,"DNS",0,"DNS",0,"DNS",0,"DNS",0,"DNS",0,"DNS",0,"DNS",0,"DNS",0,"DNS",0,"DNS",0,"DNS",0,"DNS",0,"DNS",0,"DNS",0,"DNS",0,"DNS",0,"DNS",0,"DNS",0,"DNS",0,"DNS",0,"DNS",0,"DNS",0,"DNS",0,"DNS",0,{"$f":"IF('Last Race Results'!$B$5=0,0,IF(ISNA(VLOOKUP($A187,'Last Race Results'!$A$5:$J$44,2,FALSE)),\"DNS\",VLOOKUP($A187,'Last Race Results'!$A$5:$J$44,2,FALSE)))","v":"DNS"},{"$f":"IF('Last Race Results'!$B$5=0,0,IF(ISNA(VLOOKUP($A187,'Last Race Results'!$A$5:$K$44,11,FALSE)),0,VLOOKUP($A187,'Last Race Results'!$A$5:$K$44,11,FALSE)))","v":0}]
[171,{"$f":"IF(ISNA(VLOOKUP($A188,'Entry List'!$A$1:$F$61,B$5,FALSE)),\"\",VLOOKUP($A188,'Entry List'!$A$1:$F$61,B$5,FALSE))","v":""},{"$f":"IF(ISNA(VLOOKUP($A188,'Entry List'!$A$1:$F$61,C$5,FALSE)),\"\",VLOOKUP($A188,'Entry List'!$A$1:$F$61,C$5,FALSE))","v":""},{"$f":"IF(ISNA(VLOOKUP($A188,'Entry List'!$A$1:$F$61,D$5,FALSE)),\"\",VLOOKUP($A188,'Entry List'!$A$1:$F$61,D$5,FALSE))","v":""},{"$f":"IF(ISNA(VLOOKUP($A188,'Entry List'!$A$1:$F$61,E$5,FALSE)),\"\",VLOOKUP($A188,'Entry List'!$A$1:$F$61,E$5,FALSE))","v":""},null,"DNS",0,"DNS",0,"DNS",0,"DNS",0,"DNS",0,"DNS",0,"DNS",0,"DNS",0,"DNS",0,"DNS",0,"DNS",0,"DNS",0,"DNS",0,"DNS",0,"DNS",0,"DNS",0,"DNS",0,"DNS",0,"DNS",0,"DNS",0,"DNS",0,"DNS",0,"DNS",0,"DNS",0,"DNS",0,"DNS",0,"DNS",0,"DNS",0,"DNS",0,"DNS",0,"DNS",0,"DNS",0,"DNS",0,"DNS",0,"DNS",0,{"$f":"IF('Last Race Results'!$B$5=0,0,IF(ISNA(VLOOKUP($A188,'Last Race Results'!$A$5:$J$44,2,FALSE)),\"DNS\",VLOOKUP($A188,'Last Race Results'!$A$5:$J$44,2,FALSE)))","v":"DNS"},{"$f":"IF('Last Race Results'!$B$5=0,0,IF(ISNA(VLOOKUP($A188,'Last Race Results'!$A$5:$K$44,11,FALSE)),0,VLOOKUP($A188,'Last Race Results'!$A$5:$K$44,11,FALSE)))","v":0}]
[172,{"$f":"IF(ISNA(VLOOKUP($A189,'Entry List'!$A$1:$F$61,B$5,FALSE)),\"\",VLOOKUP($A189,'Entry List'!$A$1:$F$61,B$5,FALSE))","v":""},{"$f":"IF(ISNA(VLOOKUP($A189,'Entry List'!$A$1:$F$61,C$5,FALSE)),\"\",VLOOKUP($A189,'Entry List'!$A$1:$F$61,C$5,FALSE))","v":""},{"$f":"IF(ISNA(VLOOKUP($A189,'Entry List'!$A$1:$F$61,D$5,FALSE)),\"\",VLOOKUP($A189,'Entry List'!$A$1:$F$61,D$5,FALSE))","v":""},{"$f":"IF(ISNA(VLOOKUP($A189,'Entry List'!$A$1:$F$61,E$5,FALSE)),\"\",VLOOKUP($A189,'Entry List'!$A$1:$F$61,E$5,FALSE))","v":""},null,"DNS",0,"DNS",0,"DNS",0,"DNS",0,"DNS",0,"DNS",0,"DNS",0,"DNS",0,"DNS",0,"DNS",0,"DNS",0,"DNS",0,"DNS",0,"DNS",0,"DNS",0,"DNS",0,"DNS",0,"DNS",0,"DNS",0,"DNS",0,"DNS",0,"DNS",0,"DNS",0,"DNS",0,"DNS",0,"DNS",0,"DNS",0,"DNS",0,"DNS",0,"DNS",0,"DNS",0,"DNS",0,"DNS",0,"DNS",0,"DNS",0,{"$f":"IF('Last Race Results'!$B$5=0,0,IF(ISNA(VLOOKUP($A189,'Last Race Results'!$A$5:$J$44,2,FALSE)),\"DNS\",VLOOKUP($A189,'Last Race Results'!$A$5:$J$44,2,FALSE)))","v":"DNS"},{"$f":"IF('Last Race Results'!$B$5=0,0,IF(ISNA(VLOOKUP($A189,'Last Race Results'!$A$5:$K$44,11,FALSE)),0,VLOOKUP($A189,'Last Race Results'!$A$5:$K$44,11,FALSE)))","v":0}]
[173,{"$f":"IF(ISNA(VLOOKUP($A190,'Entry List'!$A$1:$F$61,B$5,FALSE)),\"\",VLOOKUP($A190,'Entry List'!$A$1:$F$61,B$5,FALSE))","v":""},{"$f":"IF(ISNA(VLOOKUP($A190,'Entry List'!$A$1:$F$61,C$5,FALSE)),\"\",VLOOKUP($A190,'Entry List'!$A$1:$F$61,C$5,FALSE))","v":""},{"$f":"IF(ISNA(VLOOKUP($A190,'Entry List'!$A$1:$F$61,D$5,FALSE)),\"\",VLOOKUP($A190,'Entry List'!$A$1:$F$61,D$5,FALSE))","v":""},{"$f":"IF(ISNA(VLOOKUP($A190,'Entry List'!$A$1:$F$61,E$5,FALSE)),\"\",VLOOKUP($A190,'Entry List'!$A$1:$F$61,E$5,FALSE))","v":""},null,"DNS",0,"DNS",0,"DNS",0,"DNS",0,"DNS",0,"DNS",0,"DNS",0,"DNS",0,"DNS",0,"DNS",0,"DNS",0,"DNS",0,"DNS",0,"DNS",0,"DNS",0,"DNS",0,"DNS",0,"DNS",0,"DNS",0,"DNS",0,"DNS",0,"DNS",0,"DNS",0,"DNS",0,"DNS",0,"DNS",0,"DNS",0,"DNS",0,"DNS",0,"DNS",0,"DNS",0,"DNS",0,"DNS",0,"DNS",0,"DNS",0,{"$f":"IF('Last Race Results'!$B$5=0,0,IF(ISNA(VLOOKUP($A190,'Last Race Results'!$A$5:$J$44,2,FALSE)),\"DNS\",VLOOKUP($A190,'Last Race Results'!$A$5:$J$44,2,FALSE)))","v":"DNS"},{"$f":"IF('Last Race Results'!$B$5=0,0,IF(ISNA(VLOOKUP($A190,'Last Race Results'!$A$5:$K$44,11,FALSE)),0,VLOOKUP($A190,'Last Race Results'!$A$5:$K$44,11,FALSE)))","v":0}]
[174,{"$f":"IF(ISNA(VLOOKUP($A191,'Entry List'!$A$1:$F$61,B$5,FALSE)),\"\",VLOOKUP($A191,'Entry List'!$A$1:$F$61,B$5,FALSE))","v":""},{"$f":"IF(ISNA(VLOOKUP($A191,'Entry List'!$A$1:$F$61,C$5,FALSE)),\"\",VLOOKUP($A191,'Entry List'!$A$1:$F$61,C$5,FALSE))","v":""},{"$f":"IF(ISNA(VLOOKUP($A191,'Entry List'!$A$1:$F$61,D$5,FALSE)),\"\",VLOOKUP($A191,'Entry List'!$A$1:$F$61,D$5,FALSE))","v":""},{"$f":"IF(ISNA(VLOOKUP($A191,'Entry List'!$A$1:$F$61,E$5,FALSE)),\"\",VLOOKUP($A191,'Entry List'!$A$1:$F$61,E$5,FALSE))","v":""},null,"DNS",0,"DNS",0,"DNS",0,"DNS",0,"DNS",0,"DNS",0,"DNS",0,"DNS",0,"DNS",0,"DNS",0,"DNS",0,"DNS",0,"DNS",0,"DNS",0,"DNS",0,"DNS",0,"DNS",0,"DNS",0,"DNS",0,"DNS",0,"DNS",0,"DNS",0,"DNS",0,"DNS",0,"DNS",0,"DNS",0,"DNS",0,"DNS",0,"DNS",0,"DNS",0,"DNS",0,"DNS",0,"DNS",0,"DNS",0,"DNS",0,{"$f":"IF('Last Race Results'!$B$5=0,0,IF(ISNA(VLOOKUP($A191,'Last Race Results'!$A$5:$J$44,2,FALSE)),\"DNS\",VLOOKUP($A191,'Last Race Results'!$A$5:$J$44,2,FALSE)))","v":"DNS"},{"$f":"IF('Last Race Results'!$B$5=0,0,IF(ISNA(VLOOKUP($A191,'Last Race Results'!$A$5:$K$44,11,FALSE)),0,VLOOKUP($A191,'Last Race Results'!$A$5:$K$44,11,FALSE)))","v":0}]
[175,{"$f":"IF(ISNA(VLOOKUP($A192,'Entry List'!$A$1:$F$61,B$5,FALSE)),\"\",VLOOKUP($A192,'Entry List'!$A$1:$F$61,B$5,FALSE))","v":""},{"$f":"IF(ISNA(VLOOKUP($A192,'Entry List'!$A$1:$F$61,C$5,FALSE)),\"\",VLOOKUP($A192,'Entry List'!$A$1:$F$61,C$5,FALSE))","v":""},{"$f":"IF(ISNA(VLOOKUP($A192,'Entry List'!$A$1:$F$61,D$5,FALSE)),\"\",VLOOKUP($A192,'Entry List'!$A$1:$F$61,D$5,FALSE))","v":""},{"$f":"IF(ISNA(VLOOKUP($A192,'Entry List'!$A$1:$F$61,E$5,FALSE)),\"\",VLOOKUP($A192,'Entry List'!$A$1:$F$61,E$5,FALSE))","v":""},null,"DNS",0,"DNS",0,"DNS",0,"DNS",0,"DNS",0,"DNS",0,"DNS",0,"DNS",0,"DNS",0,"DNS",0,"DNS",0,"DNS",0,"DNS",0,"DNS",0,"DNS",0,"DNS",0,"DNS",0,"DNS",0,"DNS",0,"DNS",0,"DNS",0,"DNS",0,"DNS",0,"DNS",0,"DNS",0,"DNS",0,"DNS",0,"DNS",0,"DNS",0,"DNS",0,"DNS",0,"DNS",0,"DNS",0,"DNS",0,"DNS",0,{"$f":"IF('Last Race Results'!$B$5=0,0,IF(ISNA(VLOOKUP($A192,'Last Race Results'!$A$5:$J$44,2,FALSE)),\"DNS\",VLOOKUP($A192,'Last Race Results'!$A$5:$J$44,2,FALSE)))","v":"DNS"},{"$f":"IF('Last Race Results'!$B$5=0,0,IF(ISNA(VLOOKUP($A192,'Last Race Results'!$A$5:$K$44,11,FALSE)),0,VLOOKUP($A192,'Last Race Results'!$A$5:$K$44,11,FALSE)))","v":0}]
[176,{"$f":"IF(ISNA(VLOOKUP($A193,'Entry List'!$A$1:$F$61,B$5,FALSE)),\"\",VLOOKUP($A193,'Entry List'!$A$1:$F$61,B$5,FALSE))","v":""},{"$f":"IF(ISNA(VLOOKUP($A193,'Entry List'!$A$1:$F$61,C$5,FALSE)),\"\",VLOOKUP($A193,'Entry List'!$A$1:$F$61,C$5,FALSE))","v":""},{"$f":"IF(ISNA(VLOOKUP($A193,'Entry List'!$A$1:$F$61,D$5,FALSE)),\"\",VLOOKUP($A193,'Entry List'!$A$1:$F$61,D$5,FALSE))","v":""},{"$f":"IF(ISNA(VLOOKUP($A193,'Entry List'!$A$1:$F$61,E$5,FALSE)),\"\",VLOOKUP($A193,'Entry List'!$A$1:$F$61,E$5,FALSE))","v":""},null,"DNS",0,"DNS",0,"DNS",0,"DNS",0,"DNS",0,"DNS",0,"DNS",0,"DNS",0,"DNS",0,"DNS",0,"DNS",0,"DNS",0,"DNS",0,"DNS",0,"DNS",0,"DNS",0,"DNS",0,"DNS",0,"DNS",0,"DNS",0,"DNS",0,"DNS",0,"DNS",0,"DNS",0,"DNS",0,"DNS",0,"DNS",0,"DNS",0,"DNS",0,"DNS",0,"DNS",0,"DNS",0,"DNS",0,"DNS",0,"DNS",0,{"$f":"IF('Last Race Results'!$B$5=0,0,IF(ISNA(VLOOKUP($A193,'Last Race Results'!$A$5:$J$44,2,FALSE)),\"DNS\",VLOOKUP($A193,'Last Race Results'!$A$5:$J$44,2,FALSE)))","v":"DNS"},{"$f":"IF('Last Race Results'!$B$5=0,0,IF(ISNA(VLOOKUP($A193,'Last Race Results'!$A$5:$K$44,11,FALSE)),0,VLOOKUP($A193,'Last Race Results'!$A$5:$K$44,11,FALSE)))","v":0}]
[177,{"$f":"IF(ISNA(VLOOKUP($A194,'Entry List'!$A$1:$F$61,B$5,FALSE)),\"\",VLOOKUP($A194,'Entry List'!$A$1:$F$61,B$5,FALSE))","v":""},{"$f":"IF(ISNA(VLOOKUP($A194,'Entry List'!$A$1:$F$61,C$5,FALSE)),\"\",VLOOKUP($A194,'Entry List'!$A$1:$F$61,C$5,FALSE))","v":""},{"$f":"IF(ISNA(VLOOKUP($A194,'Entry List'!$A$1:$F$61,D$5,FALSE)),\"\",VLOOKUP($A194,'Entry List'!$A$1:$F$61,D$5,FALSE))","v":""},{"$f":"IF(ISNA(VLOOKUP($A194,'Entry List'!$A$1:$F$61,E$5,FALSE)),\"\",VLOOKUP($A194,'Entry List'!$A$1:$F$61,E$5,FALSE))","v":""},null,"DNS",0,"DNS",0,"DNS",0,"DNS",0,"DNS",0,"DNS",0,"DNS",0,"DNS",0,"DNS",0,"DNS",0,"DNS",0,"DNS",0,"DNS",0,"DNS",0,"DNS",0,"DNS",0,"DNS",0,"DNS",0,"DNS",0,"DNS",0,"DNS",0,"DNS",0,"DNS",0,"DNS",0,"DNS",0,"DNS",0,"DNS",0,"DNS",0,"DNS",0,"DNS",0,"DNS",0,"DNS",0,"DNS",0,"DNS",0,"DNS",0,{"$f":"IF('Last Race Results'!$B$5=0,0,IF(ISNA(VLOOKUP($A194,'Last Race Results'!$A$5:$J$44,2,FALSE)),\"DNS\",VLOOKUP($A194,'Last Race Results'!$A$5:$J$44,2,FALSE)))","v":"DNS"},{"$f":"IF('Last Race Results'!$B$5=0,0,IF(ISNA(VLOOKUP($A194,'Last Race Results'!$A$5:$K$44,11,FALSE)),0,VLOOKUP($A194,'Last Race Results'!$A$5:$K$44,11,FALSE)))","v":0}]
[178,{"$f":"IF(ISNA(VLOOKUP($A195,'Entry List'!$A$1:$F$61,B$5,FALSE)),\"\",VLOOKUP($A195,'Entry List'!$A$1:$F$61,B$5,FALSE))","v":""},{"$f":"IF(ISNA(VLOOKUP($A195,'Entry List'!$A$1:$F$61,C$5,FALSE)),\"\",VLOOKUP($A195,'Entry List'!$A$1:$F$61,C$5,FALSE))","v":""},{"$f":"IF(ISNA(VLOOKUP($A195,'Entry List'!$A$1:$F$61,D$5,FALSE)),\"\",VLOOKUP($A195,'Entry List'!$A$1:$F$61,D$5,FALSE))","v":""},{"$f":"IF(ISNA(VLOOKUP($A195,'Entry List'!$A$1:$F$61,E$5,FALSE)),\"\",VLOOKUP($A195,'Entry List'!$A$1:$F$61,E$5,FALSE))","v":""},null,"DNS",0,"DNS",0,"DNS",0,"DNS",0,"DNS",0,"DNS",0,"DNS",0,"DNS",0,"DNS",0,"DNS",0,"DNS",0,"DNS",0,"DNS",0,"DNS",0,"DNS",0,"DNS",0,"DNS",0,"DNS",0,"DNS",0,"DNS",0,"DNS",0,"DNS",0,"DNS",0,"DNS",0,"DNS",0,"DNS",0,"DNS",0,"DNS",0,"DNS",0,"DNS",0,"DNS",0,"DNS",0,"DNS",0,"DNS",0,"DNS",0,{"$f":"IF('Last Race Results'!$B$5=0,0,IF(ISNA(VLOOKUP($A195,'Last Race Results'!$A$5:$J$44,2,FALSE)),\"DNS\",VLOOKUP($A195,'Last Race Results'!$A$5:$J$44,2,FALSE)))","v":"DNS"},{"$f":"IF('Last Race Results'!$B$5=0,0,IF(ISNA(VLOOKUP($A195,'Last Race Results'!$A$5:$K$44,11,FALSE)),0,VLOOKUP($A195,'Last Race Results'!$A$5:$K$44,11,FALSE)))","v":0}]
[179,{"$f":"IF(ISNA(VLOOKUP($A196,'Entry List'!$A$1:$F$61,B$5,FALSE)),\"\",VLOOKUP($A196,'Entry List'!$A$1:$F$61,B$5,FALSE))","v":""},{"$f":"IF(ISNA(VLOOKUP($A196,'Entry List'!$A$1:$F$61,C$5,FALSE)),\"\",VLOOKUP($A196,'Entry List'!$A$1:$F$61,C$5,FALSE))","v":""},{"$f":"IF(ISNA(VLOOKUP($A196,'Entry List'!$A$1:$F$61,D$5,FALSE)),\"\",VLOOKUP($A196,'Entry List'!$A$1:$F$61,D$5,FALSE))","v":""},{"$f":"IF(ISNA(VLOOKUP($A196,'Entry List'!$A$1:$F$61,E$5,FALSE)),\"\",VLOOKUP($A196,'Entry List'!$A$1:$F$61,E$5,FALSE))","v":""},null,"DNS",0,"DNS",0,"DNS",0,"DNS",0,"DNS",0,"DNS",0,"DNS",0,"DNS",0,"DNS",0,"DNS",0,"DNS",0,"DNS",0,"DNS",0,"DNS",0,"DNS",0,"DNS",0,"DNS",0,"DNS",0,"DNS",0,"DNS",0,"DNS",0,"DNS",0,"DNS",0,"DNS",0,"DNS",0,"DNS",0,"DNS",0,"DNS",0,"DNS",0,"DNS",0,"DNS",0,"DNS",0,"DNS",0,"DNS",0,"DNS",0,{"$f":"IF('Last Race Results'!$B$5=0,0,IF(ISNA(VLOOKUP($A196,'Last Race Results'!$A$5:$J$44,2,FALSE)),\"DNS\",VLOOKUP($A196,'Last Race Results'!$A$5:$J$44,2,FALSE)))","v":"DNS"},{"$f":"IF('Last Race Results'!$B$5=0,0,IF(ISNA(VLOOKUP($A196,'Last Race Results'!$A$5:$K$44,11,FALSE)),0,VLOOKUP($A196,'Last Race Results'!$A$5:$K$44,11,FALSE)))","v":0}]
[180,{"$f":"IF(ISNA(VLOOKUP($A197,'Entry List'!$A$1:$F$61,B$5,FALSE)),\"\",VLOOKUP($A197,'Entry List'!$A$1:$F$61,B$5,FALSE))","v":""},{"$f":"IF(ISNA(VLOOKUP($A197,'Entry List'!$A$1:$F$61,C$5,FALSE)),\"\",VLOOKUP($A197,'Entry List'!$A$1:$F$61,C$5,FALSE))","v":""},{"$f":"IF(ISNA(VLOOKUP($A197,'Entry List'!$A$1:$F$61,D$5,FALSE)),\"\",VLOOKUP($A197,'Entry List'!$A$1:$F$61,D$5,FALSE))","v":""},{"$f":"IF(ISNA(VLOOKUP($A197,'Entry List'!$A$1:$F$61,E$5,FALSE)),\"\",VLOOKUP($A197,'Entry List'!$A$1:$F$61,E$5,FALSE))","v":""},null,"DNS",0,"DNS",0,"DNS",0,"DNS",0,"DNS",0,"DNS",0,"DNS",0,"DNS",0,"DNS",0,"DNS",0,"DNS",0,"DNS",0,"DNS",0,"DNS",0,"DNS",0,"DNS",0,"DNS",0,"DNS",0,"DNS",0,"DNS",0,"DNS",0,"DNS",0,"DNS",0,"DNS",0,"DNS",0,"DNS",0,"DNS",0,"DNS",0,"DNS",0,"DNS",0,"DNS",0,"DNS",0,"DNS",0,"DNS",0,"DNS",0,{"$f":"IF('Last Race Results'!$B$5=0,0,IF(ISNA(VLOOKUP($A197,'Last Race Results'!$A$5:$J$44,2,FALSE)),\"DNS\",VLOOKUP($A197,'Last Race Results'!$A$5:$J$44,2,FALSE)))","v":"DNS"},{"$f":"IF('Last Race Results'!$B$5=0,0,IF(ISNA(VLOOKUP($A197,'Last Race Results'!$A$5:$K$44,11,FALSE)),0,VLOOKUP($A197,'Last Race Results'!$A$5:$K$44,11,FALSE)))","v":0}]
[181,{"$f":"IF(ISNA(VLOOKUP($A198,'Entry List'!$A$1:$F$61,B$5,FALSE)),\"\",VLOOKUP($A198,'Entry List'!$A$1:$F$61,B$5,FALSE))","v":""},{"$f":"IF(ISNA(VLOOKUP($A198,'Entry List'!$A$1:$F$61,C$5,FALSE)),\"\",VLOOKUP($A198,'Entry List'!$A$1:$F$61,C$5,FALSE))","v":""},{"$f":"IF(ISNA(VLOOKUP($A198,'Entry List'!$A$1:$F$61,D$5,FALSE)),\"\",VLOOKUP($A198,'Entry List'!$A$1:$F$61,D$5,FALSE))","v":""},{"$f":"IF(ISNA(VLOOKUP($A198,'Entry List'!$A$1:$F$61,E$5,FALSE)),\"\",VLOOKUP($A198,'Entry List'!$A$1:$F$61,E$5,FALSE))","v":""},null,"DNS",0,"DNS",0,"DNS",0,"DNS",0,"DNS",0,"DNS",0,"DNS",0,"DNS",0,"DNS",0,"DNS",0,"DNS",0,"DNS",0,"DNS",0,"DNS",0,"DNS",0,"DNS",0,"DNS",0,"DNS",0,"DNS",0,"DNS",0,"DNS",0,"DNS",0,"DNS",0,"DNS",0,"DNS",0,"DNS",0,"DNS",0,"DNS",0,"DNS",0,"DNS",0,"DNS",0,"DNS",0,"DNS",0,"DNS",0,"DNS",0,{"$f":"IF('Last Race Results'!$B$5=0,0,IF(ISNA(VLOOKUP($A198,'Last Race Results'!$A$5:$J$44,2,FALSE)),\"DNS\",VLOOKUP($A198,'Last Race Results'!$A$5:$J$44,2,FALSE)))","v":"DNS"},{"$f":"IF('Last Race Results'!$B$5=0,0,IF(ISNA(VLOOKUP($A198,'Last Race Results'!$A$5:$K$44,11,FALSE)),0,VLOOKUP($A198,'Last Race Results'!$A$5:$K$44,11,FALSE)))","v":0}]
[182,{"$f":"IF(ISNA(VLOOKUP($A199,'Entry List'!$A$1:$F$61,B$5,FALSE)),\"\",VLOOKUP($A199,'Entry List'!$A$1:$F$61,B$5,FALSE))","v":""},{"$f":"IF(ISNA(VLOOKUP($A199,'Entry List'!$A$1:$F$61,C$5,FALSE)),\"\",VLOOKUP($A199,'Entry List'!$A$1:$F$61,C$5,FALSE))","v":""},{"$f":"IF(ISNA(VLOOKUP($A199,'Entry List'!$A$1:$F$61,D$5,FALSE)),\"\",VLOOKUP($A199,'Entry List'!$A$1:$F$61,D$5,FALSE))","v":""},{"$f":"IF(ISNA(VLOOKUP($A199,'Entry List'!$A$1:$F$61,E$5,FALSE)),\"\",VLOOKUP($A199,'Entry List'!$A$1:$F$61,E$5,FALSE))","v":""},null,"DNS",0,"DNS",0,"DNS",0,"DNS",0,"DNS",0,"DNS",0,"DNS",0,"DNS",0,"DNS",0,"DNS",0,"DNS",0,"DNS",0,"DNS",0,"DNS",0,"DNS",0,"DNS",0,"DNS",0,"DNS",0,"DNS",0,"DNS",0,"DNS",0,"DNS",0,"DNS",0,"DNS",0,"DNS",0,"DNS",0,"DNS",0,"DNS",0,"DNS",0,"DNS",0,"DNS",0,"DNS",0,"DNS",0,"DNS",0,"DNS",0,{"$f":"IF('Last Race Results'!$B$5=0,0,IF(ISNA(VLOOKUP($A199,'Last Race Results'!$A$5:$J$44,2,FALSE)),\"DNS\",VLOOKUP($A199,'Last Race Results'!$A$5:$J$44,2,FALSE)))","v":"DNS"},{"$f":"IF('Last Race Results'!$B$5=0,0,IF(ISNA(VLOOKUP($A199,'Last Race Results'!$A$5:$K$44,11,FALSE)),0,VLOOKUP($A199,'Last Race Results'!$A$5:$K$44,11,FALSE)))","v":0}]
[183,{"$f":"IF(ISNA(VLOOKUP($A200,'Entry List'!$A$1:$F$61,B$5,FALSE)),\"\",VLOOKUP($A200,'Entry List'!$A$1:$F$61,B$5,FALSE))","v":""},{"$f":"IF(ISNA(VLOOKUP($A200,'Entry List'!$A$1:$F$61,C$5,FALSE)),\"\",VLOOKUP($A200,'Entry List'!$A$1:$F$61,C$5,FALSE))","v":""},{"$f":"IF(ISNA(VLOOKUP($A200,'Entry List'!$A$1:$F$61,D$5,FALSE)),\"\",VLOOKUP($A200,'Entry List'!$A$1:$F$61,D$5,FALSE))","v":""},{"$f":"IF(ISNA(VLOOKUP($A200,'Entry List'!$A$1:$F$61,E$5,FALSE)),\"\",VLOOKUP($A200,'Entry List'!$A$1:$F$61,E$5,FALSE))","v":""},null,"DNS",0,"DNS",0,"DNS",0,"DNS",0,"DNS",0,"DNS",0,"DNS",0,"DNS",0,"DNS",0,"DNS",0,"DNS",0,"DNS",0,"DNS",0,"DNS",0,"DNS",0,"DNS",0,"DNS",0,"DNS",0,"DNS",0,"DNS",0,"DNS",0,"DNS",0,"DNS",0,"DNS",0,"DNS",0,"DNS",0,"DNS",0,"DNS",0,"DNS",0,"DNS",0,"DNS",0,"DNS",0,"DNS",0,"DNS",0,"DNS",0,{"$f":"IF('Last Race Results'!$B$5=0,0,IF(ISNA(VLOOKUP($A200,'Last Race Results'!$A$5:$J$44,2,FALSE)),\"DNS\",VLOOKUP($A200,'Last Race Results'!$A$5:$J$44,2,FALSE)))","v":"DNS"},{"$f":"IF('Last Race Results'!$B$5=0,0,IF(ISNA(VLOOKUP($A200,'Last Race Results'!$A$5:$K$44,11,FALSE)),0,VLOOKUP($A200,'Last Race Results'!$A$5:$K$44,11,FALSE)))","v":0}]
[184,{"$f":"IF(ISNA(VLOOKUP($A201,'Entry List'!$A$1:$F$61,B$5,FALSE)),\"\",VLOOKUP($A201,'Entry List'!$A$1:$F$61,B$5,FALSE))","v":""},{"$f":"IF(ISNA(VLOOKUP($A201,'Entry List'!$A$1:$F$61,C$5,FALSE)),\"\",VLOOKUP($A201,'Entry List'!$A$1:$F$61,C$5,FALSE))","v":""},{"$f":"IF(ISNA(VLOOKUP($A201,'Entry List'!$A$1:$F$61,D$5,FALSE)),\"\",VLOOKUP($A201,'Entry List'!$A$1:$F$61,D$5,FALSE))","v":""},{"$f":"IF(ISNA(VLOOKUP($A201,'Entry List'!$A$1:$F$61,E$5,FALSE)),\"\",VLOOKUP($A201,'Entry List'!$A$1:$F$61,E$5,FALSE))","v":""},null,"DNS",0,"DNS",0,"DNS",0,"DNS",0,"DNS",0,"DNS",0,"DNS",0,"DNS",0,"DNS",0,"DNS",0,"DNS",0,"DNS",0,"DNS",0,"DNS",0,"DNS",0,"DNS",0,"DNS",0,"DNS",0,"DNS",0,"DNS",0,"DNS",0,"DNS",0,"DNS",0,"DNS",0,"DNS",0,"DNS",0,"DNS",0,"DNS",0,"DNS",0,"DNS",0,"DNS",0,"DNS",0,"DNS",0,"DNS",0,"DNS",0,{"$f":"IF('Last Race Results'!$B$5=0,0,IF(ISNA(VLOOKUP($A201,'Last Race Results'!$A$5:$J$44,2,FALSE)),\"DNS\",VLOOKUP($A201,'Last Race Results'!$A$5:$J$44,2,FALSE)))","v":"DNS"},{"$f":"IF('Last Race Results'!$B$5=0,0,IF(ISNA(VLOOKUP($A201,'Last Race Results'!$A$5:$K$44,11,FALSE)),0,VLOOKUP($A201,'Last Race Results'!$A$5:$K$44,11,FALSE)))","v":0}]
[185,{"$f":"IF(ISNA(VLOOKUP($A202,'Entry List'!$A$1:$F$61,B$5,FALSE)),\"\",VLOOKUP($A202,'Entry List'!$A$1:$F$61,B$5,FALSE))","v":""},{"$f":"IF(ISNA(VLOOKUP($A202,'Entry List'!$A$1:$F$61,C$5,FALSE)),\"\",VLOOKUP($A202,'Entry List'!$A$1:$F$61,C$5,FALSE))","v":""},{"$f":"IF(ISNA(VLOOKUP($A202,'Entry List'!$A$1:$F$61,D$5,FALSE)),\"\",VLOOKUP($A202,'Entry List'!$A$1:$F$61,D$5,FALSE))","v":""},{"$f":"IF(ISNA(VLOOKUP($A202,'Entry List'!$A$1:$F$61,E$5,FALSE)),\"\",VLOOKUP($A202,'Entry List'!$A$1:$F$61,E$5,FALSE))","v":""},null,"DNS",0,"DNS",0,"DNS",0,"DNS",0,"DNS",0,"DNS",0,"DNS",0,"DNS",0,"DNS",0,"DNS",0,"DNS",0,"DNS",0,"DNS",0,"DNS",0,"DNS",0,"DNS",0,"DNS",0,"DNS",0,"DNS",0,"DNS",0,"DNS",0,"DNS",0,"DNS",0,"DNS",0,"DNS",0,"DNS",0,"DNS",0,"DNS",0,"DNS",0,"DNS",0,"DNS",0,"DNS",0,"DNS",0,"DNS",0,"DNS",0,{"$f":"IF('Last Race Results'!$B$5=0,0,IF(ISNA(VLOOKUP($A202,'Last Race Results'!$A$5:$J$44,2,FALSE)),\"DNS\",VLOOKUP($A202,'Last Race Results'!$A$5:$J$44,2,FALSE)))","v":"DNS"},{"$f":"IF('Last Race Results'!$B$5=0,0,IF(ISNA(VLOOKUP($A202,'Last Race Results'!$A$5:$K$44,11,FALSE)),0,VLOOKUP($A202,'Last Race Results'!$A$5:$K$44,11,FALSE)))","v":0}]
[186,{"$f":"IF(ISNA(VLOOKUP($A203,'Entry List'!$A$1:$F$61,B$5,FALSE)),\"\",VLOOKUP($A203,'Entry List'!$A$1:$F$61,B$5,FALSE))","v":""},{"$f":"IF(ISNA(VLOOKUP($A203,'Entry List'!$A$1:$F$61,C$5,FALSE)),\"\",VLOOKUP($A203,'Entry List'!$A$1:$F$61,C$5,FALSE))","v":""},{"$f":"IF(ISNA(VLOOKUP($A203,'Entry List'!$A$1:$F$61,D$5,FALSE)),\"\",VLOOKUP($A203,'Entry List'!$A$1:$F$61,D$5,FALSE))","v":""},{"$f":"IF(ISNA(VLOOKUP($A203,'Entry List'!$A$1:$F$61,E$5,FALSE)),\"\",VLOOKUP($A203,'Entry List'!$A$1:$F$61,E$5,FALSE))","v":""},null,"DNS",0,"DNS",0,"DNS",0,"DNS",0,"DNS",0,"DNS",0,"DNS",0,"DNS",0,"DNS",0,"DNS",0,"DNS",0,"DNS",0,"DNS",0,"DNS",0,"DNS",0,"DNS",0,"DNS",0,"DNS",0,"DNS",0,"DNS",0,"DNS",0,"DNS",0,"DNS",0,"DNS",0,"DNS",0,"DNS",0,"DNS",0,"DNS",0,"DNS",0,"DNS",0,"DNS",0,"DNS",0,"DNS",0,"DNS",0,"DNS",0,{"$f":"IF('Last Race Results'!$B$5=0,0,IF(ISNA(VLOOKUP($A203,'Last Race Results'!$A$5:$J$44,2,FALSE)),\"DNS\",VLOOKUP($A203,'Last Race Results'!$A$5:$J$44,2,FALSE)))","v":"DNS"},{"$f":"IF('Last Race Results'!$B$5=0,0,IF(ISNA(VLOOKUP($A203,'Last Race Results'!$A$5:$K$44,11,FALSE)),0,VLOOKUP($A203,'Last Race Results'!$A$5:$K$44,11,FALSE)))","v":0}]
[187,{"$f":"IF(ISNA(VLOOKUP($A204,'Entry List'!$A$1:$F$61,B$5,FALSE)),\"\",VLOOKUP($A204,'Entry List'!$A$1:$F$61,B$5,FALSE))","v":""},{"$f":"IF(ISNA(VLOOKUP($A204,'Entry List'!$A$1:$F$61,C$5,FALSE)),\"\",VLOOKUP($A204,'Entry List'!$A$1:$F$61,C$5,FALSE))","v":""},{"$f":"IF(ISNA(VLOOKUP($A204,'Entry List'!$A$1:$F$61,D$5,FALSE)),\"\",VLOOKUP($A204,'Entry List'!$A$1:$F$61,D$5,FALSE))","v":""},{"$f":"IF(ISNA(VLOOKUP($A204,'Entry List'!$A$1:$F$61,E$5,FALSE)),\"\",VLOOKUP($A204,'Entry List'!$A$1:$F$61,E$5,FALSE))","v":""},null,"DNS",0,"DNS",0,"DNS",0,"DNS",0,"DNS",0,"DNS",0,"DNS",0,"DNS",0,"DNS",0,"DNS",0,"DNS",0,"DNS",0,"DNS",0,"DNS",0,"DNS",0,"DNS",0,"DNS",0,"DNS",0,"DNS",0,"DNS",0,"DNS",0,"DNS",0,"DNS",0,"DNS",0,"DNS",0,"DNS",0,"DNS",0,"DNS",0,"DNS",0,"DNS",0,"DNS",0,"DNS",0,"DNS",0,"DNS",0,"DNS",0,{"$f":"IF('Last Race Results'!$B$5=0,0,IF(ISNA(VLOOKUP($A204,'Last Race Results'!$A$5:$J$44,2,FALSE)),\"DNS\",VLOOKUP($A204,'Last Race Results'!$A$5:$J$44,2,FALSE)))","v":"DNS"},{"$f":"IF('Last Race Results'!$B$5=0,0,IF(ISNA(VLOOKUP($A204,'Last Race Results'!$A$5:$K$44,11,FALSE)),0,VLOOKUP($A204,'Last Race Results'!$A$5:$K$44,11,FALSE)))","v":0}]
[188,{"$f":"IF(ISNA(VLOOKUP($A205,'Entry List'!$A$1:$F$61,B$5,FALSE)),\"\",VLOOKUP($A205,'Entry List'!$A$1:$F$61,B$5,FALSE))","v":""},{"$f":"IF(ISNA(VLOOKUP($A205,'Entry List'!$A$1:$F$61,C$5,FALSE)),\"\",VLOOKUP($A205,'Entry List'!$A$1:$F$61,C$5,FALSE))","v":""},{"$f":"IF(ISNA(VLOOKUP($A205,'Entry List'!$A$1:$F$61,D$5,FALSE)),\"\",VLOOKUP($A205,'Entry List'!$A$1:$F$61,D$5,FALSE))","v":""},{"$f":"IF(ISNA(VLOOKUP($A205,'Entry List'!$A$1:$F$61,E$5,FALSE)),\"\",VLOOKUP($A205,'Entry List'!$A$1:$F$61,E$5,FALSE))","v":""},null,"DNS",0,"DNS",0,"DNS",0,"DNS",0,"DNS",0,"DNS",0,"DNS",0,"DNS",0,"DNS",0,"DNS",0,"DNS",0,"DNS",0,"DNS",0,"DNS",0,"DNS",0,"DNS",0,"DNS",0,"DNS",0,"DNS",0,"DNS",0,"DNS",0,"DNS",0,"DNS",0,"DNS",0,"DNS",0,"DNS",0,"DNS",0,"DNS",0,"DNS",0,"DNS",0,"DNS",0,"DNS",0,"DNS",0,"DNS",0,"DNS",0,{"$f":"IF('Last Race Results'!$B$5=0,0,IF(ISNA(VLOOKUP($A205,'Last Race Results'!$A$5:$J$44,2,FALSE)),\"DNS\",VLOOKUP($A205,'Last Race Results'!$A$5:$J$44,2,FALSE)))","v":"DNS"},{"$f":"IF('Last Race Results'!$B$5=0,0,IF(ISNA(VLOOKUP($A205,'Last Race Results'!$A$5:$K$44,11,FALSE)),0,VLOOKUP($A205,'Last Race Results'!$A$5:$K$44,11,FALSE)))","v":0}]
[189,{"$f":"IF(ISNA(VLOOKUP($A206,'Entry List'!$A$1:$F$61,B$5,FALSE)),\"\",VLOOKUP($A206,'Entry List'!$A$1:$F$61,B$5,FALSE))","v":""},{"$f":"IF(ISNA(VLOOKUP($A206,'Entry List'!$A$1:$F$61,C$5,FALSE)),\"\",VLOOKUP($A206,'Entry List'!$A$1:$F$61,C$5,FALSE))","v":""},{"$f":"IF(ISNA(VLOOKUP($A206,'Entry List'!$A$1:$F$61,D$5,FALSE)),\"\",VLOOKUP($A206,'Entry List'!$A$1:$F$61,D$5,FALSE))","v":""},{"$f":"IF(ISNA(VLOOKUP($A206,'Entry List'!$A$1:$F$61,E$5,FALSE)),\"\",VLOOKUP($A206,'Entry List'!$A$1:$F$61,E$5,FALSE))","v":""},null,"DNS",0,"DNS",0,"DNS",0,"DNS",0,"DNS",0,"DNS",0,"DNS",0,"DNS",0,"DNS",0,"DNS",0,"DNS",0,"DNS",0,"DNS",0,"DNS",0,"DNS",0,"DNS",0,"DNS",0,"DNS",0,"DNS",0,"DNS",0,"DNS",0,"DNS",0,"DNS",0,"DNS",0,"DNS",0,"DNS",0,"DNS",0,"DNS",0,"DNS",0,"DNS",0,"DNS",0,"DNS",0,"DNS",0,"DNS",0,"DNS",0,{"$f":"IF('Last Race Results'!$B$5=0,0,IF(ISNA(VLOOKUP($A206,'Last Race Results'!$A$5:$J$44,2,FALSE)),\"DNS\",VLOOKUP($A206,'Last Race Results'!$A$5:$J$44,2,FALSE)))","v":"DNS"},{"$f":"IF('Last Race Results'!$B$5=0,0,IF(ISNA(VLOOKUP($A206,'Last Race Results'!$A$5:$K$44,11,FALSE)),0,VLOOKUP($A206,'Last Race Results'!$A$5:$K$44,11,FALSE)))","v":0}]
[190,{"$f":"IF(ISNA(VLOOKUP($A207,'Entry List'!$A$1:$F$61,B$5,FALSE)),\"\",VLOOKUP($A207,'Entry List'!$A$1:$F$61,B$5,FALSE))","v":""},{"$f":"IF(ISNA(VLOOKUP($A207,'Entry List'!$A$1:$F$61,C$5,FALSE)),\"\",VLOOKUP($A207,'Entry List'!$A$1:$F$61,C$5,FALSE))","v":""},{"$f":"IF(ISNA(VLOOKUP($A207,'Entry List'!$A$1:$F$61,D$5,FALSE)),\"\",VLOOKUP($A207,'Entry List'!$A$1:$F$61,D$5,FALSE))","v":""},{"$f":"IF(ISNA(VLOOKUP($A207,'Entry List'!$A$1:$F$61,E$5,FALSE)),\"\",VLOOKUP($A207,'Entry List'!$A$1:$F$61,E$5,FALSE))","v":""},null,"DNS",0,"DNS",0,"DNS",0,"DNS",0,"DNS",0,"DNS",0,"DNS",0,"DNS",0,"DNS",0,"DNS",0,"DNS",0,"DNS",0,"DNS",0,"DNS",0,"DNS",0,"DNS",0,"DNS",0,"DNS",0,"DNS",0,"DNS",0,"DNS",0,"DNS",0,"DNS",0,"DNS",0,"DNS",0,"DNS",0,"DNS",0,"DNS",0,"DNS",0,"DNS",0,"DNS",0,"DNS",0,"DNS",0,"DNS",0,"DNS",0,{"$f":"IF('Last Race Results'!$B$5=0,0,IF(ISNA(VLOOKUP($A207,'Last Race Results'!$A$5:$J$44,2,FALSE)),\"DNS\",VLOOKUP($A207,'Last Race Results'!$A$5:$J$44,2,FALSE)))","v":"DNS"},{"$f":"IF('Last Race Results'!$B$5=0,0,IF(ISNA(VLOOKUP($A207,'Last Race Results'!$A$5:$K$44,11,FALSE)),0,VLOOKUP($A207,'Last Race Results'!$A$5:$K$44,11,FALSE)))","v":0}]
[191,{"$f":"IF(ISNA(VLOOKUP($A208,'Entry List'!$A$1:$F$61,B$5,FALSE)),\"\",VLOOKUP($A208,'Entry List'!$A$1:$F$61,B$5,FALSE))","v":""},{"$f":"IF(ISNA(VLOOKUP($A208,'Entry List'!$A$1:$F$61,C$5,FALSE)),\"\",VLOOKUP($A208,'Entry List'!$A$1:$F$61,C$5,FALSE))","v":""},{"$f":"IF(ISNA(VLOOKUP($A208,'Entry List'!$A$1:$F$61,D$5,FALSE)),\"\",VLOOKUP($A208,'Entry List'!$A$1:$F$61,D$5,FALSE))","v":""},{"$f":"IF(ISNA(VLOOKUP($A208,'Entry List'!$A$1:$F$61,E$5,FALSE)),\"\",VLOOKUP($A208,'Entry List'!$A$1:$F$61,E$5,FALSE))","v":""},null,"DNS",0,"DNS",0,"DNS",0,"DNS",0,"DNS",0,"DNS",0,"DNS",0,"DNS",0,"DNS",0,"DNS",0,"DNS",0,"DNS",0,"DNS",0,"DNS",0,"DNS",0,"DNS",0,"DNS",0,"DNS",0,"DNS",0,"DNS",0,"DNS",0,"DNS",0,"DNS",0,"DNS",0,"DNS",0,"DNS",0,"DNS",0,"DNS",0,"DNS",0,"DNS",0,"DNS",0,"DNS",0,"DNS",0,"DNS",0,"DNS",0,{"$f":"IF('Last Race Results'!$B$5=0,0,IF(ISNA(VLOOKUP($A208,'Last Race Results'!$A$5:$J$44,2,FALSE)),\"DNS\",VLOOKUP($A208,'Last Race Results'!$A$5:$J$44,2,FALSE)))","v":"DNS"},{"$f":"IF('Last Race Results'!$B$5=0,0,IF(ISNA(VLOOKUP($A208,'Last Race Results'!$A$5:$K$44,11,FALSE)),0,VLOOKUP($A208,'Last Race Results'!$A$5:$K$44,11,FALSE)))","v":0}]
[192,{"$f":"IF(ISNA(VLOOKUP($A209,'Entry List'!$A$1:$F$61,B$5,FALSE)),\"\",VLOOKUP($A209,'Entry List'!$A$1:$F$61,B$5,FALSE))","v":""},{"$f":"IF(ISNA(VLOOKUP($A209,'Entry List'!$A$1:$F$61,C$5,FALSE)),\"\",VLOOKUP($A209,'Entry List'!$A$1:$F$61,C$5,FALSE))","v":""},{"$f":"IF(ISNA(VLOOKUP($A209,'Entry List'!$A$1:$F$61,D$5,FALSE)),\"\",VLOOKUP($A209,'Entry List'!$A$1:$F$61,D$5,FALSE))","v":""},{"$f":"IF(ISNA(VLOOKUP($A209,'Entry List'!$A$1:$F$61,E$5,FALSE)),\"\",VLOOKUP($A209,'Entry List'!$A$1:$F$61,E$5,FALSE))","v":""},null,"DNS",0,"DNS",0,"DNS",0,"DNS",0,"DNS",0,"DNS",0,"DNS",0,"DNS",0,"DNS",0,"DNS",0,"DNS",0,"DNS",0,"DNS",0,"DNS",0,"DNS",0,"DNS",0,"DNS",0,"DNS",0,"DNS",0,"DNS",0,"DNS",0,"DNS",0,"DNS",0,"DNS",0,"DNS",0,"DNS",0,"DNS",0,"DNS",0,"DNS",0,"DNS",0,"DNS",0,"DNS",0,"DNS",0,"DNS",0,"DNS",0,{"$f":"IF('Last Race Results'!$B$5=0,0,IF(ISNA(VLOOKUP($A209,'Last Race Results'!$A$5:$J$44,2,FALSE)),\"DNS\",VLOOKUP($A209,'Last Race Results'!$A$5:$J$44,2,FALSE)))","v":"DNS"},{"$f":"IF('Last Race Results'!$B$5=0,0,IF(ISNA(VLOOKUP($A209,'Last Race Results'!$A$5:$K$44,11,FALSE)),0,VLOOKUP($A209,'Last Race Results'!$A$5:$K$44,11,FALSE)))","v":0}]
[193,{"$f":"IF(ISNA(VLOOKUP($A210,'Entry List'!$A$1:$F$61,B$5,FALSE)),\"\",VLOOKUP($A210,'Entry List'!$A$1:$F$61,B$5,FALSE))","v":""},{"$f":"IF(ISNA(VLOOKUP($A210,'Entry List'!$A$1:$F$61,C$5,FALSE)),\"\",VLOOKUP($A210,'Entry List'!$A$1:$F$61,C$5,FALSE))","v":""},{"$f":"IF(ISNA(VLOOKUP($A210,'Entry List'!$A$1:$F$61,D$5,FALSE)),\"\",VLOOKUP($A210,'Entry List'!$A$1:$F$61,D$5,FALSE))","v":""},{"$f":"IF(ISNA(VLOOKUP($A210,'Entry List'!$A$1:$F$61,E$5,FALSE)),\"\",VLOOKUP($A210,'Entry List'!$A$1:$F$61,E$5,FALSE))","v":""},null,"DNS",0,"DNS",0,"DNS",0,"DNS",0,"DNS",0,"DNS",0,"DNS",0,"DNS",0,"DNS",0,"DNS",0,"DNS",0,"DNS",0,"DNS",0,"DNS",0,"DNS",0,"DNS",0,"DNS",0,"DNS",0,"DNS",0,"DNS",0,"DNS",0,"DNS",0,"DNS",0,"DNS",0,"DNS",0,"DNS",0,"DNS",0,"DNS",0,"DNS",0,"DNS",0,"DNS",0,"DNS",0,"DNS",0,"DNS",0,"DNS",0,{"$f":"IF('Last Race Results'!$B$5=0,0,IF(ISNA(VLOOKUP($A210,'Last Race Results'!$A$5:$J$44,2,FALSE)),\"DNS\",VLOOKUP($A210,'Last Race Results'!$A$5:$J$44,2,FALSE)))","v":"DNS"},{"$f":"IF('Last Race Results'!$B$5=0,0,IF(ISNA(VLOOKUP($A210,'Last Race Results'!$A$5:$K$44,11,FALSE)),0,VLOOKUP($A210,'Last Race Results'!$A$5:$K$44,11,FALSE)))","v":0}]
[194,{"$f":"IF(ISNA(VLOOKUP($A211,'Entry List'!$A$1:$F$61,B$5,FALSE)),\"\",VLOOKUP($A211,'Entry List'!$A$1:$F$61,B$5,FALSE))","v":""},{"$f":"IF(ISNA(VLOOKUP($A211,'Entry List'!$A$1:$F$61,C$5,FALSE)),\"\",VLOOKUP($A211,'Entry List'!$A$1:$F$61,C$5,FALSE))","v":""},{"$f":"IF(ISNA(VLOOKUP($A211,'Entry List'!$A$1:$F$61,D$5,FALSE)),\"\",VLOOKUP($A211,'Entry List'!$A$1:$F$61,D$5,FALSE))","v":""},{"$f":"IF(ISNA(VLOOKUP($A211,'Entry List'!$A$1:$F$61,E$5,FALSE)),\"\",VLOOKUP($A211,'Entry List'!$A$1:$F$61,E$5,FALSE))","v":""},null,"DNS",0,"DNS",0,"DNS",0,"DNS",0,"DNS",0,"DNS",0,"DNS",0,"DNS",0,"DNS",0,"DNS",0,"DNS",0,"DNS",0,"DNS",0,"DNS",0,"DNS",0,"DNS",0,"DNS",0,"DNS",0,"DNS",0,"DNS",0,"DNS",0,"DNS",0,"DNS",0,"DNS",0,"DNS",0,"DNS",0,"DNS",0,"DNS",0,"DNS",0,"DNS",0,"DNS",0,"DNS",0,"DNS",0,"DNS",0,"DNS",0,{"$f":"IF('Last Race Results'!$B$5=0,0,IF(ISNA(VLOOKUP($A211,'Last Race Results'!$A$5:$J$44,2,FALSE)),\"DNS\",VLOOKUP($A211,'Last Race Results'!$A$5:$J$44,2,FALSE)))","v":"DNS"},{"$f":"IF('Last Race Results'!$B$5=0,0,IF(ISNA(VLOOKUP($A211,'Last Race Results'!$A$5:$K$44,11,FALSE)),0,VLOOKUP($A211,'Last Race Results'!$A$5:$K$44,11,FALSE)))","v":0}]
[195,{"$f":"IF(ISNA(VLOOKUP($A212,'Entry List'!$A$1:$F$61,B$5,FALSE)),\"\",VLOOKUP($A212,'Entry List'!$A$1:$F$61,B$5,FALSE))","v":""},{"$f":"IF(ISNA(VLOOKUP($A212,'Entry List'!$A$1:$F$61,C$5,FALSE)),\"\",VLOOKUP($A212,'Entry List'!$A$1:$F$61,C$5,FALSE))","v":""},{"$f":"IF(ISNA(VLOOKUP($A212,'Entry List'!$A$1:$F$61,D$5,FALSE)),\"\",VLOOKUP($A212,'Entry List'!$A$1:$F$61,D$5,FALSE))","v":""},{"$f":"IF(ISNA(VLOOKUP($A212,'Entry List'!$A$1:$F$61,E$5,FALSE)),\"\",VLOOKUP($A212,'Entry List'!$A$1:$F$61,E$5,FALSE))","v":""},null,"DNS",0,"DNS",0,"DNS",0,"DNS",0,"DNS",0,"DNS",0,"DNS",0,"DNS",0,"DNS",0,"DNS",0,"DNS",0,"DNS",0,"DNS",0,"DNS",0,"DNS",0,"DNS",0,"DNS",0,"DNS",0,"DNS",0,"DNS",0,"DNS",0,"DNS",0,"DNS",0,"DNS",0,"DNS",0,"DNS",0,"DNS",0,"DNS",0,"DNS",0,"DNS",0,"DNS",0,"DNS",0,"DNS",0,"DNS",0,"DNS",0,{"$f":"IF('Last Race Results'!$B$5=0,0,IF(ISNA(VLOOKUP($A212,'Last Race Results'!$A$5:$J$44,2,FALSE)),\"DNS\",VLOOKUP($A212,'Last Race Results'!$A$5:$J$44,2,FALSE)))","v":"DNS"},{"$f":"IF('Last Race Results'!$B$5=0,0,IF(ISNA(VLOOKUP($A212,'Last Race Results'!$A$5:$K$44,11,FALSE)),0,VLOOKUP($A212,'Last Race Results'!$A$5:$K$44,11,FALSE)))","v":0}]
[196,{"$f":"IF(ISNA(VLOOKUP($A213,'Entry List'!$A$1:$F$61,B$5,FALSE)),\"\",VLOOKUP($A213,'Entry List'!$A$1:$F$61,B$5,FALSE))","v":""},{"$f":"IF(ISNA(VLOOKUP($A213,'Entry List'!$A$1:$F$61,C$5,FALSE)),\"\",VLOOKUP($A213,'Entry List'!$A$1:$F$61,C$5,FALSE))","v":""},{"$f":"IF(ISNA(VLOOKUP($A213,'Entry List'!$A$1:$F$61,D$5,FALSE)),\"\",VLOOKUP($A213,'Entry List'!$A$1:$F$61,D$5,FALSE))","v":""},{"$f":"IF(ISNA(VLOOKUP($A213,'Entry List'!$A$1:$F$61,E$5,FALSE)),\"\",VLOOKUP($A213,'Entry List'!$A$1:$F$61,E$5,FALSE))","v":""},null,"DNS",0,"DNS",0,"DNS",0,"DNS",0,"DNS",0,"DNS",0,"DNS",0,"DNS",0,"DNS",0,"DNS",0,"DNS",0,"DNS",0,"DNS",0,"DNS",0,"DNS",0,"DNS",0,"DNS",0,"DNS",0,"DNS",0,"DNS",0,"DNS",0,"DNS",0,"DNS",0,"DNS",0,"DNS",0,"DNS",0,"DNS",0,"DNS",0,"DNS",0,"DNS",0,"DNS",0,"DNS",0,"DNS",0,"DNS",0,"DNS",0,{"$f":"IF('Last Race Results'!$B$5=0,0,IF(ISNA(VLOOKUP($A213,'Last Race Results'!$A$5:$J$44,2,FALSE)),\"DNS\",VLOOKUP($A213,'Last Race Results'!$A$5:$J$44,2,FALSE)))","v":"DNS"},{"$f":"IF('Last Race Results'!$B$5=0,0,IF(ISNA(VLOOKUP($A213,'Last Race Results'!$A$5:$K$44,11,FALSE)),0,VLOOKUP($A213,'Last Race Results'!$A$5:$K$44,11,FALSE)))","v":0}]
[197,{"$f":"IF(ISNA(VLOOKUP($A214,'Entry List'!$A$1:$F$61,B$5,FALSE)),\"\",VLOOKUP($A214,'Entry List'!$A$1:$F$61,B$5,FALSE))","v":""},{"$f":"IF(ISNA(VLOOKUP($A214,'Entry List'!$A$1:$F$61,C$5,FALSE)),\"\",VLOOKUP($A214,'Entry List'!$A$1:$F$61,C$5,FALSE))","v":""},{"$f":"IF(ISNA(VLOOKUP($A214,'Entry List'!$A$1:$F$61,D$5,FALSE)),\"\",VLOOKUP($A214,'Entry List'!$A$1:$F$61,D$5,FALSE))","v":""},{"$f":"IF(ISNA(VLOOKUP($A214,'Entry List'!$A$1:$F$61,E$5,FALSE)),\"\",VLOOKUP($A214,'Entry List'!$A$1:$F$61,E$5,FALSE))","v":""},null,"DNS",0,"DNS",0,"DNS",0,"DNS",0,"DNS",0,"DNS",0,"DNS",0,"DNS",0,"DNS",0,"DNS",0,"DNS",0,"DNS",0,"DNS",0,"DNS",0,"DNS",0,"DNS",0,"DNS",0,"DNS",0,"DNS",0,"DNS",0,"DNS",0,"DNS",0,"DNS",0,"DNS",0,"DNS",0,"DNS",0,"DNS",0,"DNS",0,"DNS",0,"DNS",0,"DNS",0,"DNS",0,"DNS",0,"DNS",0,"DNS",0,{"$f":"IF('Last Race Results'!$B$5=0,0,IF(ISNA(VLOOKUP($A214,'Last Race Results'!$A$5:$J$44,2,FALSE)),\"DNS\",VLOOKUP($A214,'Last Race Results'!$A$5:$J$44,2,FALSE)))","v":"DNS"},{"$f":"IF('Last Race Results'!$B$5=0,0,IF(ISNA(VLOOKUP($A214,'Last Race Results'!$A$5:$K$44,11,FALSE)),0,VLOOKUP($A214,'Last Race Results'!$A$5:$K$44,11,FALSE)))","v":0}]
[198,{"$f":"IF(ISNA(VLOOKUP($A215,'Entry List'!$A$1:$F$61,B$5,FALSE)),\"\",VLOOKUP($A215,'Entry List'!$A$1:$F$61,B$5,FALSE))","v":""},{"$f":"IF(ISNA(VLOOKUP($A215,'Entry List'!$A$1:$F$61,C$5,FALSE)),\"\",VLOOKUP($A215,'Entry List'!$A$1:$F$61,C$5,FALSE))","v":""},{"$f":"IF(ISNA(VLOOKUP($A215,'Entry List'!$A$1:$F$61,D$5,FALSE)),\"\",VLOOKUP($A215,'Entry List'!$A$1:$F$61,D$5,FALSE))","v":""},{"$f":"IF(ISNA(VLOOKUP($A215,'Entry List'!$A$1:$F$61,E$5,FALSE)),\"\",VLOOKUP($A215,'Entry List'!$A$1:$F$61,E$5,FALSE))","v":""},null,"DNS",0,"DNS",0,"DNS",0,"DNS",0,"DNS",0,"DNS",0,"DNS",0,"DNS",0,"DNS",0,"DNS",0,"DNS",0,"DNS",0,"DNS",0,"DNS",0,"DNS",0,"DNS",0,"DNS",0,"DNS",0,"DNS",0,"DNS",0,"DNS",0,"DNS",0,"DNS",0,"DNS",0,"DNS",0,"DNS",0,"DNS",0,"DNS",0,"DNS",0,"DNS",0,"DNS",0,"DNS",0,"DNS",0,"DNS",0,"DNS",0,{"$f":"IF('Last Race Results'!$B$5=0,0,IF(ISNA(VLOOKUP($A215,'Last Race Results'!$A$5:$J$44,2,FALSE)),\"DNS\",VLOOKUP($A215,'Last Race Results'!$A$5:$J$44,2,FALSE)))","v":"DNS"},{"$f":"IF('Last Race Results'!$B$5=0,0,IF(ISNA(VLOOKUP($A215,'Last Race Results'!$A$5:$K$44,11,FALSE)),0,VLOOKUP($A215,'Last Race Results'!$A$5:$K$44,11,FALSE)))","v":0}]
[199,{"$f":"IF(ISNA(VLOOKUP($A216,'Entry List'!$A$1:$F$61,B$5,FALSE)),\"\",VLOOKUP($A216,'Entry List'!$A$1:$F$61,B$5,FALSE))","v":""},{"$f":"IF(ISNA(VLOOKUP($A216,'Entry List'!$A$1:$F$61,C$5,FALSE)),\"\",VLOOKUP($A216,'Entry List'!$A$1:$F$61,C$5,FALSE))","v":""},{"$f":"IF(ISNA(VLOOKUP($A216,'Entry List'!$A$1:$F$61,D$5,FALSE)),\"\",VLOOKUP($A216,'Entry List'!$A$1:$F$61,D$5,FALSE))","v":""},{"$f":"IF(ISNA(VLOOKUP($A216,'Entry List'!$A$1:$F$61,E$5,FALSE)),\"\",VLOOKUP($A216,'Entry List'!$A$1:$F$61,E$5,FALSE))","v":""},null,"DNS",0,"DNS",0,"DNS",0,"DNS",0,"DNS",0,"DNS",0,"DNS",0,"DNS",0,"DNS",0,"DNS",0,"DNS",0,"DNS",0,"DNS",0,"DNS",0,"DNS",0,"DNS",0,"DNS",0,"DNS",0,"DNS",0,"DNS",0,"DNS",0,"DNS",0,"DNS",0,"DNS",0,"DNS",0,"DNS",0,"DNS",0,"DNS",0,"DNS",0,"DNS",0,"DNS",0,"DNS",0,"DNS",0,"DNS",0,"DNS",0,{"$f":"IF('Last Race Results'!$B$5=0,0,IF(ISNA(VLOOKUP($A216,'Last Race Results'!$A$5:$J$44,2,FALSE)),\"DNS\",VLOOKUP($A216,'Last Race Results'!$A$5:$J$44,2,FALSE)))","v":"DNS"},{"$f":"IF('Last Race Results'!$B$5=0,0,IF(ISNA(VLOOKUP($A216,'Last Race Results'!$A$5:$K$44,11,FALSE)),0,VLOOKUP($A216,'Last Race Results'!$A$5:$K$44,11,FALSE)))","v":0}]
[200,{"$f":"IF(ISNA(VLOOKUP($A217,'Entry List'!$A$1:$F$61,B$5,FALSE)),\"\",VLOOKUP($A217,'Entry List'!$A$1:$F$61,B$5,FALSE))","v":""},{"$f":"IF(ISNA(VLOOKUP($A217,'Entry List'!$A$1:$F$61,C$5,FALSE)),\"\",VLOOKUP($A217,'Entry List'!$A$1:$F$61,C$5,FALSE))","v":""},{"$f":"IF(ISNA(VLOOKUP($A217,'Entry List'!$A$1:$F$61,D$5,FALSE)),\"\",VLOOKUP($A217,'Entry List'!$A$1:$F$61,D$5,FALSE))","v":""},{"$f":"IF(ISNA(VLOOKUP($A217,'Entry List'!$A$1:$F$61,E$5,FALSE)),\"\",VLOOKUP($A217,'Entry List'!$A$1:$F$61,E$5,FALSE))","v":""},null,"DNS",0,"DNS",0,"DNS",0,"DNS",0,"DNS",0,"DNS",0,"DNS",0,"DNS",0,"DNS",0,"DNS",0,"DNS",0,"DNS",0,"DNS",0,"DNS",0,"DNS",0,"DNS",0,"DNS",0,"DNS",0,"DNS",0,"DNS",0,"DNS",0,"DNS",0,"DNS",0,"DNS",0,"DNS",0,"DNS",0,"DNS",0,"DNS",0,"DNS",0,"DNS",0,"DNS",0,"DNS",0,"DNS",0,"DNS",0,"DNS",0,{"$f":"IF('Last Race Results'!$B$5=0,0,IF(ISNA(VLOOKUP($A217,'Last Race Results'!$A$5:$J$44,2,FALSE)),\"DNS\",VLOOKUP($A217,'Last Race Results'!$A$5:$J$44,2,FALSE)))","v":"DNS"},{"$f":"IF('Last Race Results'!$B$5=0,0,IF(ISNA(VLOOKUP($A217,'Last Race Results'!$A$5:$K$44,11,FALSE)),0,VLOOKUP($A217,'Last Race Results'!$A$5:$K$44,11,FALSE)))","v":0}]
[201,{"$f":"IF(ISNA(VLOOKUP($A218,'Entry List'!$A$1:$F$61,B$5,FALSE)),\"\",VLOOKUP($A218,'Entry List'!$A$1:$F$61,B$5,FALSE))","v":""},{"$f":"IF(ISNA(VLOOKUP($A218,'Entry List'!$A$1:$F$61,C$5,FALSE)),\"\",VLOOKUP($A218,'Entry List'!$A$1:$F$61,C$5,FALSE))","v":""},{"$f":"IF(ISNA(VLOOKUP($A218,'Entry List'!$A$1:$F$61,D$5,FALSE)),\"\",VLOOKUP($A218,'Entry List'!$A$1:$F$61,D$5,FALSE))","v":""},{"$f":"IF(ISNA(VLOOKUP($A218,'Entry List'!$A$1:$F$61,E$5,FALSE)),\"\",VLOOKUP($A218,'Entry List'!$A$1:$F$61,E$5,FALSE))","v":""},null,"DNS",0,"DNS",0,"DNS",0,"DNS",0,"DNS",0,"DNS",0,"DNS",0,"DNS",0,"DNS",0,"DNS",0,"DNS",0,"DNS",0,"DNS",0,"DNS",0,"DNS",0,"DNS",0,"DNS",0,"DNS",0,"DNS",0,"DNS",0,"DNS",0,"DNS",0,"DNS",0,"DNS",0,"DNS",0,"DNS",0,"DNS",0,"DNS",0,"DNS",0,"DNS",0,"DNS",0,"DNS",0,"DNS",0,"DNS",0,"DNS",0,{"$f":"IF('Last Race Results'!$B$5=0,0,IF(ISNA(VLOOKUP($A218,'Last Race Results'!$A$5:$J$44,2,FALSE)),\"DNS\",VLOOKUP($A218,'Last Race Results'!$A$5:$J$44,2,FALSE)))","v":"DNS"},{"$f":"IF('Last Race Results'!$B$5=0,0,IF(ISNA(VLOOKUP($A218,'Last Race Results'!$A$5:$K$44,11,FALSE)),0,VLOOKUP($A218,'Last Race Results'!$A$5:$K$44,11,FALSE)))","v":0}]
[202,{"$f":"IF(ISNA(VLOOKUP($A219,'Entry List'!$A$1:$F$61,B$5,FALSE)),\"\",VLOOKUP($A219,'Entry List'!$A$1:$F$61,B$5,FALSE))","v":""},{"$f":"IF(ISNA(VLOOKUP($A219,'Entry List'!$A$1:$F$61,C$5,FALSE)),\"\",VLOOKUP($A219,'Entry List'!$A$1:$F$61,C$5,FALSE))","v":""},{"$f":"IF(ISNA(VLOOKUP($A219,'Entry List'!$A$1:$F$61,D$5,FALSE)),\"\",VLOOKUP($A219,'Entry List'!$A$1:$F$61,D$5,FALSE))","v":""},{"$f":"IF(ISNA(VLOOKUP($A219,'Entry List'!$A$1:$F$61,E$5,FALSE)),\"\",VLOOKUP($A219,'Entry List'!$A$1:$F$61,E$5,FALSE))","v":""},null,"DNS",0,"DNS",0,"DNS",0,"DNS",0,"DNS",0,"DNS",0,"DNS",0,"DNS",0,"DNS",0,"DNS",0,"DNS",0,"DNS",0,"DNS",0,"DNS",0,"DNS",0,"DNS",0,"DNS",0,"DNS",0,"DNS",0,"DNS",0,"DNS",0,"DNS",0,"DNS",0,"DNS",0,"DNS",0,"DNS",0,"DNS",0,"DNS",0,"DNS",0,"DNS",0,"DNS",0,"DNS",0,"DNS",0,"DNS",0,"DNS",0,{"$f":"IF('Last Race Results'!$B$5=0,0,IF(ISNA(VLOOKUP($A219,'Last Race Results'!$A$5:$J$44,2,FALSE)),\"DNS\",VLOOKUP($A219,'Last Race Results'!$A$5:$J$44,2,FALSE)))","v":"DNS"},{"$f":"IF('Last Race Results'!$B$5=0,0,IF(ISNA(VLOOKUP($A219,'Last Race Results'!$A$5:$K$44,11,FALSE)),0,VLOOKUP($A219,'Last Race Results'!$A$5:$K$44,11,FALSE)))","v":0}]
[203,{"$f":"IF(ISNA(VLOOKUP($A220,'Entry List'!$A$1:$F$61,B$5,FALSE)),\"\",VLOOKUP($A220,'Entry List'!$A$1:$F$61,B$5,FALSE))","v":""},{"$f":"IF(ISNA(VLOOKUP($A220,'Entry List'!$A$1:$F$61,C$5,FALSE)),\"\",VLOOKUP($A220,'Entry List'!$A$1:$F$61,C$5,FALSE))","v":""},{"$f":"IF(ISNA(VLOOKUP($A220,'Entry List'!$A$1:$F$61,D$5,FALSE)),\"\",VLOOKUP($A220,'Entry List'!$A$1:$F$61,D$5,FALSE))","v":""},{"$f":"IF(ISNA(VLOOKUP($A220,'Entry List'!$A$1:$F$61,E$5,FALSE)),\"\",VLOOKUP($A220,'Entry List'!$A$1:$F$61,E$5,FALSE))","v":""},null,"DNS",0,"DNS",0,"DNS",0,"DNS",0,"DNS",0,"DNS",0,"DNS",0,"DNS",0,"DNS",0,"DNS",0,"DNS",0,"DNS",0,"DNS",0,"DNS",0,"DNS",0,"DNS",0,"DNS",0,"DNS",0,"DNS",0,"DNS",0,"DNS",0,"DNS",0,"DNS",0,"DNS",0,"DNS",0,"DNS",0,"DNS",0,"DNS",0,"DNS",0,"DNS",0,"DNS",0,"DNS",0,"DNS",0,"DNS",0,"DNS",0,{"$f":"IF('Last Race Results'!$B$5=0,0,IF(ISNA(VLOOKUP($A220,'Last Race Results'!$A$5:$J$44,2,FALSE)),\"DNS\",VLOOKUP($A220,'Last Race Results'!$A$5:$J$44,2,FALSE)))","v":"DNS"},{"$f":"IF('Last Race Results'!$B$5=0,0,IF(ISNA(VLOOKUP($A220,'Last Race Results'!$A$5:$K$44,11,FALSE)),0,VLOOKUP($A220,'Last Race Results'!$A$5:$K$44,11,FALSE)))","v":0}]
[204,{"$f":"IF(ISNA(VLOOKUP($A221,'Entry List'!$A$1:$F$61,B$5,FALSE)),\"\",VLOOKUP($A221,'Entry List'!$A$1:$F$61,B$5,FALSE))","v":""},{"$f":"IF(ISNA(VLOOKUP($A221,'Entry List'!$A$1:$F$61,C$5,FALSE)),\"\",VLOOKUP($A221,'Entry List'!$A$1:$F$61,C$5,FALSE))","v":""},{"$f":"IF(ISNA(VLOOKUP($A221,'Entry List'!$A$1:$F$61,D$5,FALSE)),\"\",VLOOKUP($A221,'Entry List'!$A$1:$F$61,D$5,FALSE))","v":""},{"$f":"IF(ISNA(VLOOKUP($A221,'Entry List'!$A$1:$F$61,E$5,FALSE)),\"\",VLOOKUP($A221,'Entry List'!$A$1:$F$61,E$5,FALSE))","v":""},null,"DNS",0,"DNS",0,"DNS",0,"DNS",0,"DNS",0,"DNS",0,"DNS",0,"DNS",0,"DNS",0,"DNS",0,"DNS",0,"DNS",0,"DNS",0,"DNS",0,"DNS",0,"DNS",0,"DNS",0,"DNS",0,"DNS",0,"DNS",0,"DNS",0,"DNS",0,"DNS",0,"DNS",0,"DNS",0,"DNS",0,"DNS",0,"DNS",0,"DNS",0,"DNS",0,"DNS",0,"DNS",0,"DNS",0,"DNS",0,"DNS",0,{"$f":"IF('Last Race Results'!$B$5=0,0,IF(ISNA(VLOOKUP($A221,'Last Race Results'!$A$5:$J$44,2,FALSE)),\"DNS\",VLOOKUP($A221,'Last Race Results'!$A$5:$J$44,2,FALSE)))","v":"DNS"},{"$f":"IF('Last Race Results'!$B$5=0,0,IF(ISNA(VLOOKUP($A221,'Last Race Results'!$A$5:$K$44,11,FALSE)),0,VLOOKUP($A221,'Last Race Results'!$A$5:$K$44,11,FALSE)))","v":0}]
[205,{"$f":"IF(ISNA(VLOOKUP($A222,'Entry List'!$A$1:$F$61,B$5,FALSE)),\"\",VLOOKUP($A222,'Entry List'!$A$1:$F$61,B$5,FALSE))","v":""},{"$f":"IF(ISNA(VLOOKUP($A222,'Entry List'!$A$1:$F$61,C$5,FALSE)),\"\",VLOOKUP($A222,'Entry List'!$A$1:$F$61,C$5,FALSE))","v":""},{"$f":"IF(ISNA(VLOOKUP($A222,'Entry List'!$A$1:$F$61,D$5,FALSE)),\"\",VLOOKUP($A222,'Entry List'!$A$1:$F$61,D$5,FALSE))","v":""},{"$f":"IF(ISNA(VLOOKUP($A222,'Entry List'!$A$1:$F$61,E$5,FALSE)),\"\",VLOOKUP($A222,'Entry List'!$A$1:$F$61,E$5,FALSE))","v":""},null,"DNS",0,"DNS",0,"DNS",0,"DNS",0,"DNS",0,"DNS",0,"DNS",0,"DNS",0,"DNS",0,"DNS",0,"DNS",0,"DNS",0,"DNS",0,"DNS",0,"DNS",0,"DNS",0,"DNS",0,"DNS",0,"DNS",0,"DNS",0,"DNS",0,"DNS",0,"DNS",0,"DNS",0,"DNS",0,"DNS",0,"DNS",0,"DNS",0,"DNS",0,"DNS",0,"DNS",0,"DNS",0,"DNS",0,"DNS",0,"DNS",0,{"$f":"IF('Last Race Results'!$B$5=0,0,IF(ISNA(VLOOKUP($A222,'Last Race Results'!$A$5:$J$44,2,FALSE)),\"DNS\",VLOOKUP($A222,'Last Race Results'!$A$5:$J$44,2,FALSE)))","v":"DNS"},{"$f":"IF('Last Race Results'!$B$5=0,0,IF(ISNA(VLOOKUP($A222,'Last Race Results'!$A$5:$K$44,11,FALSE)),0,VLOOKUP($A222,'Last Race Results'!$A$5:$K$44,11,FALSE)))","v":0}]
[206,{"$f":"IF(ISNA(VLOOKUP($A223,'Entry List'!$A$1:$F$61,B$5,FALSE)),\"\",VLOOKUP($A223,'Entry List'!$A$1:$F$61,B$5,FALSE))","v":""},{"$f":"IF(ISNA(VLOOKUP($A223,'Entry List'!$A$1:$F$61,C$5,FALSE)),\"\",VLOOKUP($A223,'Entry List'!$A$1:$F$61,C$5,FALSE))","v":""},{"$f":"IF(ISNA(VLOOKUP($A223,'Entry List'!$A$1:$F$61,D$5,FALSE)),\"\",VLOOKUP($A223,'Entry List'!$A$1:$F$61,D$5,FALSE))","v":""},{"$f":"IF(ISNA(VLOOKUP($A223,'Entry List'!$A$1:$F$61,E$5,FALSE)),\"\",VLOOKUP($A223,'Entry List'!$A$1:$F$61,E$5,FALSE))","v":""},null,"DNS",0,"DNS",0,"DNS",0,"DNS",0,"DNS",0,"DNS",0,"DNS",0,"DNS",0,"DNS",0,"DNS",0,"DNS",0,"DNS",0,"DNS",0,"DNS",0,"DNS",0,"DNS",0,"DNS",0,"DNS",0,"DNS",0,"DNS",0,"DNS",0,"DNS",0,"DNS",0,"DNS",0,"DNS",0,"DNS",0,"DNS",0,"DNS",0,"DNS",0,"DNS",0,"DNS",0,"DNS",0,"DNS",0,"DNS",0,"DNS",0,{"$f":"IF('Last Race Results'!$B$5=0,0,IF(ISNA(VLOOKUP($A223,'Last Race Results'!$A$5:$J$44,2,FALSE)),\"DNS\",VLOOKUP($A223,'Last Race Results'!$A$5:$J$44,2,FALSE)))","v":"DNS"},{"$f":"IF('Last Race Results'!$B$5=0,0,IF(ISNA(VLOOKUP($A223,'Last Race Results'!$A$5:$K$44,11,FALSE)),0,VLOOKUP($A223,'Last Race Results'!$A$5:$K$44,11,FALSE)))","v":0}]
[207,{"$f":"IF(ISNA(VLOOKUP($A224,'Entry List'!$A$1:$F$61,B$5,FALSE)),\"\",VLOOKUP($A224,'Entry List'!$A$1:$F$61,B$5,FALSE))","v":""},{"$f":"IF(ISNA(VLOOKUP($A224,'Entry List'!$A$1:$F$61,C$5,FALSE)),\"\",VLOOKUP($A224,'Entry List'!$A$1:$F$61,C$5,FALSE))","v":""},{"$f":"IF(ISNA(VLOOKUP($A224,'Entry List'!$A$1:$F$61,D$5,FALSE)),\"\",VLOOKUP($A224,'Entry List'!$A$1:$F$61,D$5,FALSE))","v":""},{"$f":"IF(ISNA(VLOOKUP($A224,'Entry List'!$A$1:$F$61,E$5,FALSE)),\"\",VLOOKUP($A224,'Entry List'!$A$1:$F$61,E$5,FALSE))","v":""},null,"DNS",0,"DNS",0,"DNS",0,"DNS",0,"DNS",0,"DNS",0,"DNS",0,"DNS",0,"DNS",0,"DNS",0,"DNS",0,"DNS",0,"DNS",0,"DNS",0,"DNS",0,"DNS",0,"DNS",0,"DNS",0,"DNS",0,"DNS",0,"DNS",0,"DNS",0,"DNS",0,"DNS",0,"DNS",0,"DNS",0,"DNS",0,"DNS",0,"DNS",0,"DNS",0,"DNS",0,"DNS",0,"DNS",0,"DNS",0,"DNS",0,{"$f":"IF('Last Race Results'!$B$5=0,0,IF(ISNA(VLOOKUP($A224,'Last Race Results'!$A$5:$J$44,2,FALSE)),\"DNS\",VLOOKUP($A224,'Last Race Results'!$A$5:$J$44,2,FALSE)))","v":"DNS"},{"$f":"IF('Last Race Results'!$B$5=0,0,IF(ISNA(VLOOKUP($A224,'Last Race Results'!$A$5:$K$44,11,FALSE)),0,VLOOKUP($A224,'Last Race Results'!$A$5:$K$44,11,FALSE)))","v":0}]
[208,{"$f":"IF(ISNA(VLOOKUP($A225,'Entry List'!$A$1:$F$61,B$5,FALSE)),\"\",VLOOKUP($A225,'Entry List'!$A$1:$F$61,B$5,FALSE))","v":""},{"$f":"IF(ISNA(VLOOKUP($A225,'Entry List'!$A$1:$F$61,C$5,FALSE)),\"\",VLOOKUP($A225,'Entry List'!$A$1:$F$61,C$5,FALSE))","v":""},{"$f":"IF(ISNA(VLOOKUP($A225,'Entry List'!$A$1:$F$61,D$5,FALSE)),\"\",VLOOKUP($A225,'Entry List'!$A$1:$F$61,D$5,FALSE))","v":""},{"$f":"IF(ISNA(VLOOKUP($A225,'Entry List'!$A$1:$F$61,E$5,FALSE)),\"\",VLOOKUP($A225,'Entry List'!$A$1:$F$61,E$5,FALSE))","v":""},null,"DNS",0,"DNS",0,"DNS",0,"DNS",0,"DNS",0,"DNS",0,"DNS",0,"DNS",0,"DNS",0,"DNS",0,"DNS",0,"DNS",0,"DNS",0,"DNS",0,"DNS",0,"DNS",0,"DNS",0,"DNS",0,"DNS",0,"DNS",0,"DNS",0,"DNS",0,"DNS",0,"DNS",0,"DNS",0,"DNS",0,"DNS",0,"DNS",0,"DNS",0,"DNS",0,"DNS",0,"DNS",0,"DNS",0,"DNS",0,"DNS",0,{"$f":"IF('Last Race Results'!$B$5=0,0,IF(ISNA(VLOOKUP($A225,'Last Race Results'!$A$5:$J$44,2,FALSE)),\"DNS\",VLOOKUP($A225,'Last Race Results'!$A$5:$J$44,2,FALSE)))","v":"DNS"},{"$f":"IF('Last Race Results'!$B$5=0,0,IF(ISNA(VLOOKUP($A225,'Last Race Results'!$A$5:$K$44,11,FALSE)),0,VLOOKUP($A225,'Last Race Results'!$A$5:$K$44,11,FALSE)))","v":0}]
[209,{"$f":"IF(ISNA(VLOOKUP($A226,'Entry List'!$A$1:$F$61,B$5,FALSE)),\"\",VLOOKUP($A226,'Entry List'!$A$1:$F$61,B$5,FALSE))","v":""},{"$f":"IF(ISNA(VLOOKUP($A226,'Entry List'!$A$1:$F$61,C$5,FALSE)),\"\",VLOOKUP($A226,'Entry List'!$A$1:$F$61,C$5,FALSE))","v":""},{"$f":"IF(ISNA(VLOOKUP($A226,'Entry List'!$A$1:$F$61,D$5,FALSE)),\"\",VLOOKUP($A226,'Entry List'!$A$1:$F$61,D$5,FALSE))","v":""},{"$f":"IF(ISNA(VLOOKUP($A226,'Entry List'!$A$1:$F$61,E$5,FALSE)),\"\",VLOOKUP($A226,'Entry List'!$A$1:$F$61,E$5,FALSE))","v":""},null,"DNS",0,"DNS",0,"DNS",0,"DNS",0,"DNS",0,"DNS",0,"DNS",0,"DNS",0,"DNS",0,"DNS",0,"DNS",0,"DNS",0,"DNS",0,"DNS",0,"DNS",0,"DNS",0,"DNS",0,"DNS",0,"DNS",0,"DNS",0,"DNS",0,"DNS",0,"DNS",0,"DNS",0,"DNS",0,"DNS",0,"DNS",0,"DNS",0,"DNS",0,"DNS",0,"DNS",0,"DNS",0,"DNS",0,"DNS",0,"DNS",0,{"$f":"IF('Last Race Results'!$B$5=0,0,IF(ISNA(VLOOKUP($A226,'Last Race Results'!$A$5:$J$44,2,FALSE)),\"DNS\",VLOOKUP($A226,'Last Race Results'!$A$5:$J$44,2,FALSE)))","v":"DNS"},{"$f":"IF('Last Race Results'!$B$5=0,0,IF(ISNA(VLOOKUP($A226,'Last Race Results'!$A$5:$K$44,11,FALSE)),0,VLOOKUP($A226,'Last Race Results'!$A$5:$K$44,11,FALSE)))","v":0}]
[210,{"$f":"IF(ISNA(VLOOKUP($A227,'Entry List'!$A$1:$F$61,B$5,FALSE)),\"\",VLOOKUP($A227,'Entry List'!$A$1:$F$61,B$5,FALSE))","v":""},{"$f":"IF(ISNA(VLOOKUP($A227,'Entry List'!$A$1:$F$61,C$5,FALSE)),\"\",VLOOKUP($A227,'Entry List'!$A$1:$F$61,C$5,FALSE))","v":""},{"$f":"IF(ISNA(VLOOKUP($A227,'Entry List'!$A$1:$F$61,D$5,FALSE)),\"\",VLOOKUP($A227,'Entry List'!$A$1:$F$61,D$5,FALSE))","v":""},{"$f":"IF(ISNA(VLOOKUP($A227,'Entry List'!$A$1:$F$61,E$5,FALSE)),\"\",VLOOKUP($A227,'Entry List'!$A$1:$F$61,E$5,FALSE))","v":""},null,"DNS",0,"DNS",0,"DNS",0,"DNS",0,"DNS",0,"DNS",0,"DNS",0,"DNS",0,"DNS",0,"DNS",0,"DNS",0,"DNS",0,"DNS",0,"DNS",0,"DNS",0,"DNS",0,"DNS",0,"DNS",0,"DNS",0,"DNS",0,"DNS",0,"DNS",0,"DNS",0,"DNS",0,"DNS",0,"DNS",0,"DNS",0,"DNS",0,"DNS",0,"DNS",0,"DNS",0,"DNS",0,"DNS",0,"DNS",0,"DNS",0,{"$f":"IF('Last Race Results'!$B$5=0,0,IF(ISNA(VLOOKUP($A227,'Last Race Results'!$A$5:$J$44,2,FALSE)),\"DNS\",VLOOKUP($A227,'Last Race Results'!$A$5:$J$44,2,FALSE)))","v":"DNS"},{"$f":"IF('Last Race Results'!$B$5=0,0,IF(ISNA(VLOOKUP($A227,'Last Race Results'!$A$5:$K$44,11,FALSE)),0,VLOOKUP($A227,'Last Race Results'!$A$5:$K$44,11,FALSE)))","v":0}]
[211,{"$f":"IF(ISNA(VLOOKUP($A228,'Entry List'!$A$1:$F$61,B$5,FALSE)),\"\",VLOOKUP($A228,'Entry List'!$A$1:$F$61,B$5,FALSE))","v":""},{"$f":"IF(ISNA(VLOOKUP($A228,'Entry List'!$A$1:$F$61,C$5,FALSE)),\"\",VLOOKUP($A228,'Entry List'!$A$1:$F$61,C$5,FALSE))","v":""},{"$f":"IF(ISNA(VLOOKUP($A228,'Entry List'!$A$1:$F$61,D$5,FALSE)),\"\",VLOOKUP($A228,'Entry List'!$A$1:$F$61,D$5,FALSE))","v":""},{"$f":"IF(ISNA(VLOOKUP($A228,'Entry List'!$A$1:$F$61,E$5,FALSE)),\"\",VLOOKUP($A228,'Entry List'!$A$1:$F$61,E$5,FALSE))","v":""},null,"DNS",0,"DNS",0,"DNS",0,"DNS",0,"DNS",0,"DNS",0,"DNS",0,"DNS",0,"DNS",0,"DNS",0,"DNS",0,"DNS",0,"DNS",0,"DNS",0,"DNS",0,"DNS",0,"DNS",0,"DNS",0,"DNS",0,"DNS",0,"DNS",0,"DNS",0,"DNS",0,"DNS",0,"DNS",0,"DNS",0,"DNS",0,"DNS",0,"DNS",0,"DNS",0,"DNS",0,"DNS",0,"DNS",0,"DNS",0,"DNS",0,{"$f":"IF('Last Race Results'!$B$5=0,0,IF(ISNA(VLOOKUP($A228,'Last Race Results'!$A$5:$J$44,2,FALSE)),\"DNS\",VLOOKUP($A228,'Last Race Results'!$A$5:$J$44,2,FALSE)))","v":"DNS"},{"$f":"IF('Last Race Results'!$B$5=0,0,IF(ISNA(VLOOKUP($A228,'Last Race Results'!$A$5:$K$44,11,FALSE)),0,VLOOKUP($A228,'Last Race Results'!$A$5:$K$44,11,FALSE)))","v":0}]
[212,{"$f":"IF(ISNA(VLOOKUP($A229,'Entry List'!$A$1:$F$61,B$5,FALSE)),\"\",VLOOKUP($A229,'Entry List'!$A$1:$F$61,B$5,FALSE))","v":""},{"$f":"IF(ISNA(VLOOKUP($A229,'Entry List'!$A$1:$F$61,C$5,FALSE)),\"\",VLOOKUP($A229,'Entry List'!$A$1:$F$61,C$5,FALSE))","v":""},{"$f":"IF(ISNA(VLOOKUP($A229,'Entry List'!$A$1:$F$61,D$5,FALSE)),\"\",VLOOKUP($A229,'Entry List'!$A$1:$F$61,D$5,FALSE))","v":""},{"$f":"IF(ISNA(VLOOKUP($A229,'Entry List'!$A$1:$F$61,E$5,FALSE)),\"\",VLOOKUP($A229,'Entry List'!$A$1:$F$61,E$5,FALSE))","v":""},null,"DNS",0,"DNS",0,"DNS",0,"DNS",0,"DNS",0,"DNS",0,"DNS",0,"DNS",0,"DNS",0,"DNS",0,"DNS",0,"DNS",0,"DNS",0,"DNS",0,"DNS",0,"DNS",0,"DNS",0,"DNS",0,"DNS",0,"DNS",0,"DNS",0,"DNS",0,"DNS",0,"DNS",0,"DNS",0,"DNS",0,"DNS",0,"DNS",0,"DNS",0,"DNS",0,"DNS",0,"DNS",0,"DNS",0,"DNS",0,"DNS",0,{"$f":"IF('Last Race Results'!$B$5=0,0,IF(ISNA(VLOOKUP($A229,'Last Race Results'!$A$5:$J$44,2,FALSE)),\"DNS\",VLOOKUP($A229,'Last Race Results'!$A$5:$J$44,2,FALSE)))","v":"DNS"},{"$f":"IF('Last Race Results'!$B$5=0,0,IF(ISNA(VLOOKUP($A229,'Last Race Results'!$A$5:$K$44,11,FALSE)),0,VLOOKUP($A229,'Last Race Results'!$A$5:$K$44,11,FALSE)))","v":0}]
[213,{"$f":"IF(ISNA(VLOOKUP($A230,'Entry List'!$A$1:$F$61,B$5,FALSE)),\"\",VLOOKUP($A230,'Entry List'!$A$1:$F$61,B$5,FALSE))","v":""},{"$f":"IF(ISNA(VLOOKUP($A230,'Entry List'!$A$1:$F$61,C$5,FALSE)),\"\",VLOOKUP($A230,'Entry List'!$A$1:$F$61,C$5,FALSE))","v":""},{"$f":"IF(ISNA(VLOOKUP($A230,'Entry List'!$A$1:$F$61,D$5,FALSE)),\"\",VLOOKUP($A230,'Entry List'!$A$1:$F$61,D$5,FALSE))","v":""},{"$f":"IF(ISNA(VLOOKUP($A230,'Entry List'!$A$1:$F$61,E$5,FALSE)),\"\",VLOOKUP($A230,'Entry List'!$A$1:$F$61,E$5,FALSE))","v":""},null,"DNS",0,"DNS",0,"DNS",0,"DNS",0,"DNS",0,"DNS",0,"DNS",0,"DNS",0,"DNS",0,"DNS",0,"DNS",0,"DNS",0,"DNS",0,"DNS",0,"DNS",0,"DNS",0,"DNS",0,"DNS",0,"DNS",0,"DNS",0,"DNS",0,"DNS",0,"DNS",0,"DNS",0,"DNS",0,"DNS",0,"DNS",0,"DNS",0,"DNS",0,"DNS",0,"DNS",0,"DNS",0,"DNS",0,"DNS",0,"DNS",0,{"$f":"IF('Last Race Results'!$B$5=0,0,IF(ISNA(VLOOKUP($A230,'Last Race Results'!$A$5:$J$44,2,FALSE)),\"DNS\",VLOOKUP($A230,'Last Race Results'!$A$5:$J$44,2,FALSE)))","v":"DNS"},{"$f":"IF('Last Race Results'!$B$5=0,0,IF(ISNA(VLOOKUP($A230,'Last Race Results'!$A$5:$K$44,11,FALSE)),0,VLOOKUP($A230,'Last Race Results'!$A$5:$K$44,11,FALSE)))","v":0}]
[214,{"$f":"IF(ISNA(VLOOKUP($A231,'Entry List'!$A$1:$F$61,B$5,FALSE)),\"\",VLOOKUP($A231,'Entry List'!$A$1:$F$61,B$5,FALSE))","v":""},{"$f":"IF(ISNA(VLOOKUP($A231,'Entry List'!$A$1:$F$61,C$5,FALSE)),\"\",VLOOKUP($A231,'Entry List'!$A$1:$F$61,C$5,FALSE))","v":""},{"$f":"IF(ISNA(VLOOKUP($A231,'Entry List'!$A$1:$F$61,D$5,FALSE)),\"\",VLOOKUP($A231,'Entry List'!$A$1:$F$61,D$5,FALSE))","v":""},{"$f":"IF(ISNA(VLOOKUP($A231,'Entry List'!$A$1:$F$61,E$5,FALSE)),\"\",VLOOKUP($A231,'Entry List'!$A$1:$F$61,E$5,FALSE))","v":""},null,"DNS",0,"DNS",0,"DNS",0,"DNS",0,"DNS",0,"DNS",0,"DNS",0,"DNS",0,"DNS",0,"DNS",0,"DNS",0,"DNS",0,"DNS",0,"DNS",0,"DNS",0,"DNS",0,"DNS",0,"DNS",0,"DNS",0,"DNS",0,"DNS",0,"DNS",0,"DNS",0,"DNS",0,"DNS",0,"DNS",0,"DNS",0,"DNS",0,"DNS",0,"DNS",0,"DNS",0,"DNS",0,"DNS",0,"DNS",0,"DNS",0,{"$f":"IF('Last Race Results'!$B$5=0,0,IF(ISNA(VLOOKUP($A231,'Last Race Results'!$A$5:$J$44,2,FALSE)),\"DNS\",VLOOKUP($A231,'Last Race Results'!$A$5:$J$44,2,FALSE)))","v":"DNS"},{"$f":"IF('Last Race Results'!$B$5=0,0,IF(ISNA(VLOOKUP($A231,'Last Race Results'!$A$5:$K$44,11,FALSE)),0,VLOOKUP($A231,'Last Race Results'!$A$5:$K$44,11,FALSE)))","v":0}]
[215,{"$f":"IF(ISNA(VLOOKUP($A232,'Entry List'!$A$1:$F$61,B$5,FALSE)),\"\",VLOOKUP($A232,'Entry List'!$A$1:$F$61,B$5,FALSE))","v":""},{"$f":"IF(ISNA(VLOOKUP($A232,'Entry List'!$A$1:$F$61,C$5,FALSE)),\"\",VLOOKUP($A232,'Entry List'!$A$1:$F$61,C$5,FALSE))","v":""},{"$f":"IF(ISNA(VLOOKUP($A232,'Entry List'!$A$1:$F$61,D$5,FALSE)),\"\",VLOOKUP($A232,'Entry List'!$A$1:$F$61,D$5,FALSE))","v":""},{"$f":"IF(ISNA(VLOOKUP($A232,'Entry List'!$A$1:$F$61,E$5,FALSE)),\"\",VLOOKUP($A232,'Entry List'!$A$1:$F$61,E$5,FALSE))","v":""},null,"DNS",0,"DNS",0,"DNS",0,"DNS",0,"DNS",0,"DNS",0,"DNS",0,"DNS",0,"DNS",0,"DNS",0,"DNS",0,"DNS",0,"DNS",0,"DNS",0,"DNS",0,"DNS",0,"DNS",0,"DNS",0,"DNS",0,"DNS",0,"DNS",0,"DNS",0,"DNS",0,"DNS",0,"DNS",0,"DNS",0,"DNS",0,"DNS",0,"DNS",0,"DNS",0,"DNS",0,"DNS",0,"DNS",0,"DNS",0,"DNS",0,{"$f":"IF('Last Race Results'!$B$5=0,0,IF(ISNA(VLOOKUP($A232,'Last Race Results'!$A$5:$J$44,2,FALSE)),\"DNS\",VLOOKUP($A232,'Last Race Results'!$A$5:$J$44,2,FALSE)))","v":"DNS"},{"$f":"IF('Last Race Results'!$B$5=0,0,IF(ISNA(VLOOKUP($A232,'Last Race Results'!$A$5:$K$44,11,FALSE)),0,VLOOKUP($A232,'Last Race Results'!$A$5:$K$44,11,FALSE)))","v":0}]
[216,{"$f":"IF(ISNA(VLOOKUP($A233,'Entry List'!$A$1:$F$61,B$5,FALSE)),\"\",VLOOKUP($A233,'Entry List'!$A$1:$F$61,B$5,FALSE))","v":""},{"$f":"IF(ISNA(VLOOKUP($A233,'Entry List'!$A$1:$F$61,C$5,FALSE)),\"\",VLOOKUP($A233,'Entry List'!$A$1:$F$61,C$5,FALSE))","v":""},{"$f":"IF(ISNA(VLOOKUP($A233,'Entry List'!$A$1:$F$61,D$5,FALSE)),\"\",VLOOKUP($A233,'Entry List'!$A$1:$F$61,D$5,FALSE))","v":""},{"$f":"IF(ISNA(VLOOKUP($A233,'Entry List'!$A$1:$F$61,E$5,FALSE)),\"\",VLOOKUP($A233,'Entry List'!$A$1:$F$61,E$5,FALSE))","v":""},null,"DNS",0,"DNS",0,"DNS",0,"DNS",0,"DNS",0,"DNS",0,"DNS",0,"DNS",0,"DNS",0,"DNS",0,"DNS",0,"DNS",0,"DNS",0,"DNS",0,"DNS",0,"DNS",0,"DNS",0,"DNS",0,"DNS",0,"DNS",0,"DNS",0,"DNS",0,"DNS",0,"DNS",0,"DNS",0,"DNS",0,"DNS",0,"DNS",0,"DNS",0,"DNS",0,"DNS",0,"DNS",0,"DNS",0,"DNS",0,"DNS",0,{"$f":"IF('Last Race Results'!$B$5=0,0,IF(ISNA(VLOOKUP($A233,'Last Race Results'!$A$5:$J$44,2,FALSE)),\"DNS\",VLOOKUP($A233,'Last Race Results'!$A$5:$J$44,2,FALSE)))","v":"DNS"},{"$f":"IF('Last Race Results'!$B$5=0,0,IF(ISNA(VLOOKUP($A233,'Last Race Results'!$A$5:$K$44,11,FALSE)),0,VLOOKUP($A233,'Last Race Results'!$A$5:$K$44,11,FALSE)))","v":0}]
[217,{"$f":"IF(ISNA(VLOOKUP($A234,'Entry List'!$A$1:$F$61,B$5,FALSE)),\"\",VLOOKUP($A234,'Entry List'!$A$1:$F$61,B$5,FALSE))","v":""},{"$f":"IF(ISNA(VLOOKUP($A234,'Entry List'!$A$1:$F$61,C$5,FALSE)),\"\",VLOOKUP($A234,'Entry List'!$A$1:$F$61,C$5,FALSE))","v":""},{"$f":"IF(ISNA(VLOOKUP($A234,'Entry List'!$A$1:$F$61,D$5,FALSE)),\"\",VLOOKUP($A234,'Entry List'!$A$1:$F$61,D$5,FALSE))","v":""},{"$f":"IF(ISNA(VLOOKUP($A234,'Entry List'!$A$1:$F$61,E$5,FALSE)),\"\",VLOOKUP($A234,'Entry List'!$A$1:$F$61,E$5,FALSE))","v":""},null,"DNS",0,"DNS",0,"DNS",0,"DNS",0,"DNS",0,"DNS",0,"DNS",0,"DNS",0,"DNS",0,"DNS",0,"DNS",0,"DNS",0,"DNS",0,"DNS",0,"DNS",0,"DNS",0,"DNS",0,"DNS",0,"DNS",0,"DNS",0,"DNS",0,"DNS",0,"DNS",0,"DNS",0,"DNS",0,"DNS",0,"DNS",0,"DNS",0,"DNS",0,"DNS",0,"DNS",0,"DNS",0,"DNS",0,"DNS",0,"DNS",0,{"$f":"IF('Last Race Results'!$B$5=0,0,IF(ISNA(VLOOKUP($A234,'Last Race Results'!$A$5:$J$44,2,FALSE)),\"DNS\",VLOOKUP($A234,'Last Race Results'!$A$5:$J$44,2,FALSE)))","v":"DNS"},{"$f":"IF('Last Race Results'!$B$5=0,0,IF(ISNA(VLOOKUP($A234,'Last Race Results'!$A$5:$K$44,11,FALSE)),0,VLOOKUP($A234,'Last Race Results'!$A$5:$K$44,11,FALSE)))","v":0}]
[218,{"$f":"IF(ISNA(VLOOKUP($A235,'Entry List'!$A$1:$F$61,B$5,FALSE)),\"\",VLOOKUP($A235,'Entry List'!$A$1:$F$61,B$5,FALSE))","v":""},{"$f":"IF(ISNA(VLOOKUP($A235,'Entry List'!$A$1:$F$61,C$5,FALSE)),\"\",VLOOKUP($A235,'Entry List'!$A$1:$F$61,C$5,FALSE))","v":""},{"$f":"IF(ISNA(VLOOKUP($A235,'Entry List'!$A$1:$F$61,D$5,FALSE)),\"\",VLOOKUP($A235,'Entry List'!$A$1:$F$61,D$5,FALSE))","v":""},{"$f":"IF(ISNA(VLOOKUP($A235,'Entry List'!$A$1:$F$61,E$5,FALSE)),\"\",VLOOKUP($A235,'Entry List'!$A$1:$F$61,E$5,FALSE))","v":""},null,"DNS",0,"DNS",0,"DNS",0,"DNS",0,"DNS",0,"DNS",0,"DNS",0,"DNS",0,"DNS",0,"DNS",0,"DNS",0,"DNS",0,"DNS",0,"DNS",0,"DNS",0,"DNS",0,"DNS",0,"DNS",0,"DNS",0,"DNS",0,"DNS",0,"DNS",0,"DNS",0,"DNS",0,"DNS",0,"DNS",0,"DNS",0,"DNS",0,"DNS",0,"DNS",0,"DNS",0,"DNS",0,"DNS",0,"DNS",0,"DNS",0,{"$f":"IF('Last Race Results'!$B$5=0,0,IF(ISNA(VLOOKUP($A235,'Last Race Results'!$A$5:$J$44,2,FALSE)),\"DNS\",VLOOKUP($A235,'Last Race Results'!$A$5:$J$44,2,FALSE)))","v":"DNS"},{"$f":"IF('Last Race Results'!$B$5=0,0,IF(ISNA(VLOOKUP($A235,'Last Race Results'!$A$5:$K$44,11,FALSE)),0,VLOOKUP($A235,'Last Race Results'!$A$5:$K$44,11,FALSE)))","v":0}]
[219,{"$f":"IF(ISNA(VLOOKUP($A236,'Entry List'!$A$1:$F$61,B$5,FALSE)),\"\",VLOOKUP($A236,'Entry List'!$A$1:$F$61,B$5,FALSE))","v":""},{"$f":"IF(ISNA(VLOOKUP($A236,'Entry List'!$A$1:$F$61,C$5,FALSE)),\"\",VLOOKUP($A236,'Entry List'!$A$1:$F$61,C$5,FALSE))","v":""},{"$f":"IF(ISNA(VLOOKUP($A236,'Entry List'!$A$1:$F$61,D$5,FALSE)),\"\",VLOOKUP($A236,'Entry List'!$A$1:$F$61,D$5,FALSE))","v":""},{"$f":"IF(ISNA(VLOOKUP($A236,'Entry List'!$A$1:$F$61,E$5,FALSE)),\"\",VLOOKUP($A236,'Entry List'!$A$1:$F$61,E$5,FALSE))","v":""},null,"DNS",0,"DNS",0,"DNS",0,"DNS",0,"DNS",0,"DNS",0,"DNS",0,"DNS",0,"DNS",0,"DNS",0,"DNS",0,"DNS",0,"DNS",0,"DNS",0,"DNS",0,"DNS",0,"DNS",0,"DNS",0,"DNS",0,"DNS",0,"DNS",0,"DNS",0,"DNS",0,"DNS",0,"DNS",0,"DNS",0,"DNS",0,"DNS",0,"DNS",0,"DNS",0,"DNS",0,"DNS",0,"DNS",0,"DNS",0,"DNS",0,{"$f":"IF('Last Race Results'!$B$5=0,0,IF(ISNA(VLOOKUP($A236,'Last Race Results'!$A$5:$J$44,2,FALSE)),\"DNS\",VLOOKUP($A236,'Last Race Results'!$A$5:$J$44,2,FALSE)))","v":"DNS"},{"$f":"IF('Last Race Results'!$B$5=0,0,IF(ISNA(VLOOKUP($A236,'Last Race Results'!$A$5:$K$44,11,FALSE)),0,VLOOKUP($A236,'Last Race Results'!$A$5:$K$44,11,FALSE)))","v":0}]
[220,{"$f":"IF(ISNA(VLOOKUP($A237,'Entry List'!$A$1:$F$61,B$5,FALSE)),\"\",VLOOKUP($A237,'Entry List'!$A$1:$F$61,B$5,FALSE))","v":""},{"$f":"IF(ISNA(VLOOKUP($A237,'Entry List'!$A$1:$F$61,C$5,FALSE)),\"\",VLOOKUP($A237,'Entry List'!$A$1:$F$61,C$5,FALSE))","v":""},{"$f":"IF(ISNA(VLOOKUP($A237,'Entry List'!$A$1:$F$61,D$5,FALSE)),\"\",VLOOKUP($A237,'Entry List'!$A$1:$F$61,D$5,FALSE))","v":""},{"$f":"IF(ISNA(VLOOKUP($A237,'Entry List'!$A$1:$F$61,E$5,FALSE)),\"\",VLOOKUP($A237,'Entry List'!$A$1:$F$61,E$5,FALSE))","v":""},null,"DNS",0,"DNS",0,"DNS",0,"DNS",0,"DNS",0,"DNS",0,"DNS",0,"DNS",0,"DNS",0,"DNS",0,"DNS",0,"DNS",0,"DNS",0,"DNS",0,"DNS",0,"DNS",0,"DNS",0,"DNS",0,"DNS",0,"DNS",0,"DNS",0,"DNS",0,"DNS",0,"DNS",0,"DNS",0,"DNS",0,"DNS",0,"DNS",0,"DNS",0,"DNS",0,"DNS",0,"DNS",0,"DNS",0,"DNS",0,"DNS",0,{"$f":"IF('Last Race Results'!$B$5=0,0,IF(ISNA(VLOOKUP($A237,'Last Race Results'!$A$5:$J$44,2,FALSE)),\"DNS\",VLOOKUP($A237,'Last Race Results'!$A$5:$J$44,2,FALSE)))","v":"DNS"},{"$f":"IF('Last Race Results'!$B$5=0,0,IF(ISNA(VLOOKUP($A237,'Last Race Results'!$A$5:$K$44,11,FALSE)),0,VLOOKUP($A237,'Last Race Results'!$A$5:$K$44,11,FALSE)))","v":0}]
[221,{"$f":"IF(ISNA(VLOOKUP($A238,'Entry List'!$A$1:$F$61,B$5,FALSE)),\"\",VLOOKUP($A238,'Entry List'!$A$1:$F$61,B$5,FALSE))","v":""},{"$f":"IF(ISNA(VLOOKUP($A238,'Entry List'!$A$1:$F$61,C$5,FALSE)),\"\",VLOOKUP($A238,'Entry List'!$A$1:$F$61,C$5,FALSE))","v":""},{"$f":"IF(ISNA(VLOOKUP($A238,'Entry List'!$A$1:$F$61,D$5,FALSE)),\"\",VLOOKUP($A238,'Entry List'!$A$1:$F$61,D$5,FALSE))","v":""},{"$f":"IF(ISNA(VLOOKUP($A238,'Entry List'!$A$1:$F$61,E$5,FALSE)),\"\",VLOOKUP($A238,'Entry List'!$A$1:$F$61,E$5,FALSE))","v":""},null,"DNS",0,"DNS",0,"DNS",0,"DNS",0,"DNS",0,"DNS",0,"DNS",0,"DNS",0,"DNS",0,"DNS",0,"DNS",0,"DNS",0,"DNS",0,"DNS",0,"DNS",0,"DNS",0,"DNS",0,"DNS",0,"DNS",0,"DNS",0,"DNS",0,"DNS",0,"DNS",0,"DNS",0,"DNS",0,"DNS",0,"DNS",0,"DNS",0,"DNS",0,"DNS",0,"DNS",0,"DNS",0,"DNS",0,"DNS",0,"DNS",0,{"$f":"IF('Last Race Results'!$B$5=0,0,IF(ISNA(VLOOKUP($A238,'Last Race Results'!$A$5:$J$44,2,FALSE)),\"DNS\",VLOOKUP($A238,'Last Race Results'!$A$5:$J$44,2,FALSE)))","v":"DNS"},{"$f":"IF('Last Race Results'!$B$5=0,0,IF(ISNA(VLOOKUP($A238,'Last Race Results'!$A$5:$K$44,11,FALSE)),0,VLOOKUP($A238,'Last Race Results'!$A$5:$K$44,11,FALSE)))","v":0}]
[222,{"$f":"IF(ISNA(VLOOKUP($A239,'Entry List'!$A$1:$F$61,B$5,FALSE)),\"\",VLOOKUP($A239,'Entry List'!$A$1:$F$61,B$5,FALSE))","v":""},{"$f":"IF(ISNA(VLOOKUP($A239,'Entry List'!$A$1:$F$61,C$5,FALSE)),\"\",VLOOKUP($A239,'Entry List'!$A$1:$F$61,C$5,FALSE))","v":""},{"$f":"IF(ISNA(VLOOKUP($A239,'Entry List'!$A$1:$F$61,D$5,FALSE)),\"\",VLOOKUP($A239,'Entry List'!$A$1:$F$61,D$5,FALSE))","v":""},{"$f":"IF(ISNA(VLOOKUP($A239,'Entry List'!$A$1:$F$61,E$5,FALSE)),\"\",VLOOKUP($A239,'Entry List'!$A$1:$F$61,E$5,FALSE))","v":""},null,"DNS",0,"DNS",0,"DNS",0,"DNS",0,"DNS",0,"DNS",0,"DNS",0,"DNS",0,"DNS",0,"DNS",0,"DNS",0,"DNS",0,"DNS",0,"DNS",0,"DNS",0,"DNS",0,"DNS",0,"DNS",0,"DNS",0,"DNS",0,"DNS",0,"DNS",0,"DNS",0,"DNS",0,"DNS",0,"DNS",0,"DNS",0,"DNS",0,"DNS",0,"DNS",0,"DNS",0,"DNS",0,"DNS",0,"DNS",0,"DNS",0,{"$f":"IF('Last Race Results'!$B$5=0,0,IF(ISNA(VLOOKUP($A239,'Last Race Results'!$A$5:$J$44,2,FALSE)),\"DNS\",VLOOKUP($A239,'Last Race Results'!$A$5:$J$44,2,FALSE)))","v":"DNS"},{"$f":"IF('Last Race Results'!$B$5=0,0,IF(ISNA(VLOOKUP($A239,'Last Race Results'!$A$5:$K$44,11,FALSE)),0,VLOOKUP($A239,'Last Race Results'!$A$5:$K$44,11,FALSE)))","v":0}]
[223,{"$f":"IF(ISNA(VLOOKUP($A240,'Entry List'!$A$1:$F$61,B$5,FALSE)),\"\",VLOOKUP($A240,'Entry List'!$A$1:$F$61,B$5,FALSE))","v":""},{"$f":"IF(ISNA(VLOOKUP($A240,'Entry List'!$A$1:$F$61,C$5,FALSE)),\"\",VLOOKUP($A240,'Entry List'!$A$1:$F$61,C$5,FALSE))","v":""},{"$f":"IF(ISNA(VLOOKUP($A240,'Entry List'!$A$1:$F$61,D$5,FALSE)),\"\",VLOOKUP($A240,'Entry List'!$A$1:$F$61,D$5,FALSE))","v":""},{"$f":"IF(ISNA(VLOOKUP($A240,'Entry List'!$A$1:$F$61,E$5,FALSE)),\"\",VLOOKUP($A240,'Entry List'!$A$1:$F$61,E$5,FALSE))","v":""},null,"DNS",0,"DNS",0,"DNS",0,"DNS",0,"DNS",0,"DNS",0,"DNS",0,"DNS",0,"DNS",0,"DNS",0,"DNS",0,"DNS",0,"DNS",0,"DNS",0,"DNS",0,"DNS",0,"DNS",0,"DNS",0,"DNS",0,"DNS",0,"DNS",0,"DNS",0,"DNS",0,"DNS",0,"DNS",0,"DNS",0,"DNS",0,"DNS",0,"DNS",0,"DNS",0,"DNS",0,"DNS",0,"DNS",0,"DNS",0,"DNS",0,{"$f":"IF('Last Race Results'!$B$5=0,0,IF(ISNA(VLOOKUP($A240,'Last Race Results'!$A$5:$J$44,2,FALSE)),\"DNS\",VLOOKUP($A240,'Last Race Results'!$A$5:$J$44,2,FALSE)))","v":"DNS"},{"$f":"IF('Last Race Results'!$B$5=0,0,IF(ISNA(VLOOKUP($A240,'Last Race Results'!$A$5:$K$44,11,FALSE)),0,VLOOKUP($A240,'Last Race Results'!$A$5:$K$44,11,FALSE)))","v":0}]
[224,{"$f":"IF(ISNA(VLOOKUP($A241,'Entry List'!$A$1:$F$61,B$5,FALSE)),\"\",VLOOKUP($A241,'Entry List'!$A$1:$F$61,B$5,FALSE))","v":""},{"$f":"IF(ISNA(VLOOKUP($A241,'Entry List'!$A$1:$F$61,C$5,FALSE)),\"\",VLOOKUP($A241,'Entry List'!$A$1:$F$61,C$5,FALSE))","v":""},{"$f":"IF(ISNA(VLOOKUP($A241,'Entry List'!$A$1:$F$61,D$5,FALSE)),\"\",VLOOKUP($A241,'Entry List'!$A$1:$F$61,D$5,FALSE))","v":""},{"$f":"IF(ISNA(VLOOKUP($A241,'Entry List'!$A$1:$F$61,E$5,FALSE)),\"\",VLOOKUP($A241,'Entry List'!$A$1:$F$61,E$5,FALSE))","v":""},null,"DNS",0,"DNS",0,"DNS",0,"DNS",0,"DNS",0,"DNS",0,"DNS",0,"DNS",0,"DNS",0,"DNS",0,"DNS",0,"DNS",0,"DNS",0,"DNS",0,"DNS",0,"DNS",0,"DNS",0,"DNS",0,"DNS",0,"DNS",0,"DNS",0,"DNS",0,"DNS",0,"DNS",0,"DNS",0,"DNS",0,"DNS",0,"DNS",0,"DNS",0,"DNS",0,"DNS",0,"DNS",0,"DNS",0,"DNS",0,"DNS",0,{"$f":"IF('Last Race Results'!$B$5=0,0,IF(ISNA(VLOOKUP($A241,'Last Race Results'!$A$5:$J$44,2,FALSE)),\"DNS\",VLOOKUP($A241,'Last Race Results'!$A$5:$J$44,2,FALSE)))","v":"DNS"},{"$f":"IF('Last Race Results'!$B$5=0,0,IF(ISNA(VLOOKUP($A241,'Last Race Results'!$A$5:$K$44,11,FALSE)),0,VLOOKUP($A241,'Last Race Results'!$A$5:$K$44,11,FALSE)))","v":0}]
[225,{"$f":"IF(ISNA(VLOOKUP($A242,'Entry List'!$A$1:$F$61,B$5,FALSE)),\"\",VLOOKUP($A242,'Entry List'!$A$1:$F$61,B$5,FALSE))","v":""},{"$f":"IF(ISNA(VLOOKUP($A242,'Entry List'!$A$1:$F$61,C$5,FALSE)),\"\",VLOOKUP($A242,'Entry List'!$A$1:$F$61,C$5,FALSE))","v":""},{"$f":"IF(ISNA(VLOOKUP($A242,'Entry List'!$A$1:$F$61,D$5,FALSE)),\"\",VLOOKUP($A242,'Entry List'!$A$1:$F$61,D$5,FALSE))","v":""},{"$f":"IF(ISNA(VLOOKUP($A242,'Entry List'!$A$1:$F$61,E$5,FALSE)),\"\",VLOOKUP($A242,'Entry List'!$A$1:$F$61,E$5,FALSE))","v":""},null,"DNS",0,"DNS",0,"DNS",0,"DNS",0,"DNS",0,"DNS",0,"DNS",0,"DNS",0,"DNS",0,"DNS",0,"DNS",0,"DNS",0,"DNS",0,"DNS",0,"DNS",0,"DNS",0,"DNS",0,"DNS",0,"DNS",0,"DNS",0,"DNS",0,"DNS",0,"DNS",0,"DNS",0,"DNS",0,"DNS",0,"DNS",0,"DNS",0,"DNS",0,"DNS",0,"DNS",0,"DNS",0,"DNS",0,"DNS",0,"DNS",0,{"$f":"IF('Last Race Results'!$B$5=0,0,IF(ISNA(VLOOKUP($A242,'Last Race Results'!$A$5:$J$44,2,FALSE)),\"DNS\",VLOOKUP($A242,'Last Race Results'!$A$5:$J$44,2,FALSE)))","v":"DNS"},{"$f":"IF('Last Race Results'!$B$5=0,0,IF(ISNA(VLOOKUP($A242,'Last Race Results'!$A$5:$K$44,11,FALSE)),0,VLOOKUP($A242,'Last Race Results'!$A$5:$K$44,11,FALSE)))","v":0}]
[226,{"$f":"IF(ISNA(VLOOKUP($A243,'Entry List'!$A$1:$F$61,B$5,FALSE)),\"\",VLOOKUP($A243,'Entry List'!$A$1:$F$61,B$5,FALSE))","v":""},{"$f":"IF(ISNA(VLOOKUP($A243,'Entry List'!$A$1:$F$61,C$5,FALSE)),\"\",VLOOKUP($A243,'Entry List'!$A$1:$F$61,C$5,FALSE))","v":""},{"$f":"IF(ISNA(VLOOKUP($A243,'Entry List'!$A$1:$F$61,D$5,FALSE)),\"\",VLOOKUP($A243,'Entry List'!$A$1:$F$61,D$5,FALSE))","v":""},{"$f":"IF(ISNA(VLOOKUP($A243,'Entry List'!$A$1:$F$61,E$5,FALSE)),\"\",VLOOKUP($A243,'Entry List'!$A$1:$F$61,E$5,FALSE))","v":""},null,"DNS",0,"DNS",0,"DNS",0,"DNS",0,"DNS",0,"DNS",0,"DNS",0,"DNS",0,"DNS",0,"DNS",0,"DNS",0,"DNS",0,"DNS",0,"DNS",0,"DNS",0,"DNS",0,"DNS",0,"DNS",0,"DNS",0,"DNS",0,"DNS",0,"DNS",0,"DNS",0,"DNS",0,"DNS",0,"DNS",0,"DNS",0,"DNS",0,"DNS",0,"DNS",0,"DNS",0,"DNS",0,"DNS",0,"DNS",0,"DNS",0,{"$f":"IF('Last Race Results'!$B$5=0,0,IF(ISNA(VLOOKUP($A243,'Last Race Results'!$A$5:$J$44,2,FALSE)),\"DNS\",VLOOKUP($A243,'Last Race Results'!$A$5:$J$44,2,FALSE)))","v":"DNS"},{"$f":"IF('Last Race Results'!$B$5=0,0,IF(ISNA(VLOOKUP($A243,'Last Race Results'!$A$5:$K$44,11,FALSE)),0,VLOOKUP($A243,'Last Race Results'!$A$5:$K$44,11,FALSE)))","v":0}]
[227,{"$f":"IF(ISNA(VLOOKUP($A244,'Entry List'!$A$1:$F$61,B$5,FALSE)),\"\",VLOOKUP($A244,'Entry List'!$A$1:$F$61,B$5,FALSE))","v":""},{"$f":"IF(ISNA(VLOOKUP($A244,'Entry List'!$A$1:$F$61,C$5,FALSE)),\"\",VLOOKUP($A244,'Entry List'!$A$1:$F$61,C$5,FALSE))","v":""},{"$f":"IF(ISNA(VLOOKUP($A244,'Entry List'!$A$1:$F$61,D$5,FALSE)),\"\",VLOOKUP($A244,'Entry List'!$A$1:$F$61,D$5,FALSE))","v":""},{"$f":"IF(ISNA(VLOOKUP($A244,'Entry List'!$A$1:$F$61,E$5,FALSE)),\"\",VLOOKUP($A244,'Entry List'!$A$1:$F$61,E$5,FALSE))","v":""},null,"DNS",0,"DNS",0,"DNS",0,"DNS",0,"DNS",0,"DNS",0,"DNS",0,"DNS",0,"DNS",0,"DNS",0,"DNS",0,"DNS",0,"DNS",0,"DNS",0,"DNS",0,"DNS",0,"DNS",0,"DNS",0,"DNS",0,"DNS",0,"DNS",0,"DNS",0,"DNS",0,"DNS",0,"DNS",0,"DNS",0,"DNS",0,"DNS",0,"DNS",0,"DNS",0,"DNS",0,"DNS",0,"DNS",0,"DNS",0,"DNS",0,{"$f":"IF('Last Race Results'!$B$5=0,0,IF(ISNA(VLOOKUP($A244,'Last Race Results'!$A$5:$J$44,2,FALSE)),\"DNS\",VLOOKUP($A244,'Last Race Results'!$A$5:$J$44,2,FALSE)))","v":"DNS"},{"$f":"IF('Last Race Results'!$B$5=0,0,IF(ISNA(VLOOKUP($A244,'Last Race Results'!$A$5:$K$44,11,FALSE)),0,VLOOKUP($A244,'Last Race Results'!$A$5:$K$44,11,FALSE)))","v":0}]
[228,{"$f":"IF(ISNA(VLOOKUP($A245,'Entry List'!$A$1:$F$61,B$5,FALSE)),\"\",VLOOKUP($A245,'Entry List'!$A$1:$F$61,B$5,FALSE))","v":""},{"$f":"IF(ISNA(VLOOKUP($A245,'Entry List'!$A$1:$F$61,C$5,FALSE)),\"\",VLOOKUP($A245,'Entry List'!$A$1:$F$61,C$5,FALSE))","v":""},{"$f":"IF(ISNA(VLOOKUP($A245,'Entry List'!$A$1:$F$61,D$5,FALSE)),\"\",VLOOKUP($A245,'Entry List'!$A$1:$F$61,D$5,FALSE))","v":""},{"$f":"IF(ISNA(VLOOKUP($A245,'Entry List'!$A$1:$F$61,E$5,FALSE)),\"\",VLOOKUP($A245,'Entry List'!$A$1:$F$61,E$5,FALSE))","v":""},null,"DNS",0,"DNS",0,"DNS",0,"DNS",0,"DNS",0,"DNS",0,"DNS",0,"DNS",0,"DNS",0,"DNS",0,"DNS",0,"DNS",0,"DNS",0,"DNS",0,"DNS",0,"DNS",0,"DNS",0,"DNS",0,"DNS",0,"DNS",0,"DNS",0,"DNS",0,"DNS",0,"DNS",0,"DNS",0,"DNS",0,"DNS",0,"DNS",0,"DNS",0,"DNS",0,"DNS",0,"DNS",0,"DNS",0,"DNS",0,"DNS",0,{"$f":"IF('Last Race Results'!$B$5=0,0,IF(ISNA(VLOOKUP($A245,'Last Race Results'!$A$5:$J$44,2,FALSE)),\"DNS\",VLOOKUP($A245,'Last Race Results'!$A$5:$J$44,2,FALSE)))","v":"DNS"},{"$f":"IF('Last Race Results'!$B$5=0,0,IF(ISNA(VLOOKUP($A245,'Last Race Results'!$A$5:$K$44,11,FALSE)),0,VLOOKUP($A245,'Last Race Results'!$A$5:$K$44,11,FALSE)))","v":0}]
[229,{"$f":"IF(ISNA(VLOOKUP($A246,'Entry List'!$A$1:$F$61,B$5,FALSE)),\"\",VLOOKUP($A246,'Entry List'!$A$1:$F$61,B$5,FALSE))","v":""},{"$f":"IF(ISNA(VLOOKUP($A246,'Entry List'!$A$1:$F$61,C$5,FALSE)),\"\",VLOOKUP($A246,'Entry List'!$A$1:$F$61,C$5,FALSE))","v":""},{"$f":"IF(ISNA(VLOOKUP($A246,'Entry List'!$A$1:$F$61,D$5,FALSE)),\"\",VLOOKUP($A246,'Entry List'!$A$1:$F$61,D$5,FALSE))","v":""},{"$f":"IF(ISNA(VLOOKUP($A246,'Entry List'!$A$1:$F$61,E$5,FALSE)),\"\",VLOOKUP($A246,'Entry List'!$A$1:$F$61,E$5,FALSE))","v":""},null,"DNS",0,"DNS",0,"DNS",0,"DNS",0,"DNS",0,"DNS",0,"DNS",0,"DNS",0,"DNS",0,"DNS",0,"DNS",0,"DNS",0,"DNS",0,"DNS",0,"DNS",0,"DNS",0,"DNS",0,"DNS",0,"DNS",0,"DNS",0,"DNS",0,"DNS",0,"DNS",0,"DNS",0,"DNS",0,"DNS",0,"DNS",0,"DNS",0,"DNS",0,"DNS",0,"DNS",0,"DNS",0,"DNS",0,"DNS",0,"DNS",0,{"$f":"IF('Last Race Results'!$B$5=0,0,IF(ISNA(VLOOKUP($A246,'Last Race Results'!$A$5:$J$44,2,FALSE)),\"DNS\",VLOOKUP($A246,'Last Race Results'!$A$5:$J$44,2,FALSE)))","v":"DNS"},{"$f":"IF('Last Race Results'!$B$5=0,0,IF(ISNA(VLOOKUP($A246,'Last Race Results'!$A$5:$K$44,11,FALSE)),0,VLOOKUP($A246,'Last Race Results'!$A$5:$K$44,11,FALSE)))","v":0}]
[230,{"$f":"IF(ISNA(VLOOKUP($A247,'Entry List'!$A$1:$F$61,B$5,FALSE)),\"\",VLOOKUP($A247,'Entry List'!$A$1:$F$61,B$5,FALSE))","v":""},{"$f":"IF(ISNA(VLOOKUP($A247,'Entry List'!$A$1:$F$61,C$5,FALSE)),\"\",VLOOKUP($A247,'Entry List'!$A$1:$F$61,C$5,FALSE))","v":""},{"$f":"IF(ISNA(VLOOKUP($A247,'Entry List'!$A$1:$F$61,D$5,FALSE)),\"\",VLOOKUP($A247,'Entry List'!$A$1:$F$61,D$5,FALSE))","v":""},{"$f":"IF(ISNA(VLOOKUP($A247,'Entry List'!$A$1:$F$61,E$5,FALSE)),\"\",VLOOKUP($A247,'Entry List'!$A$1:$F$61,E$5,FALSE))","v":""},null,"DNS",0,"DNS",0,"DNS",0,"DNS",0,"DNS",0,"DNS",0,"DNS",0,"DNS",0,"DNS",0,"DNS",0,"DNS",0,"DNS",0,"DNS",0,"DNS",0,"DNS",0,"DNS",0,"DNS",0,"DNS",0,"DNS",0,"DNS",0,"DNS",0,"DNS",0,"DNS",0,"DNS",0,"DNS",0,"DNS",0,"DNS",0,"DNS",0,"DNS",0,"DNS",0,"DNS",0,"DNS",0,"DNS",0,"DNS",0,"DNS",0,{"$f":"IF('Last Race Results'!$B$5=0,0,IF(ISNA(VLOOKUP($A247,'Last Race Results'!$A$5:$J$44,2,FALSE)),\"DNS\",VLOOKUP($A247,'Last Race Results'!$A$5:$J$44,2,FALSE)))","v":"DNS"},{"$f":"IF('Last Race Results'!$B$5=0,0,IF(ISNA(VLOOKUP($A247,'Last Race Results'!$A$5:$K$44,11,FALSE)),0,VLOOKUP($A247,'Last Race Results'!$A$5:$K$44,11,FALSE)))","v":0}]
[231,{"$f":"IF(ISNA(VLOOKUP($A248,'Entry List'!$A$1:$F$61,B$5,FALSE)),\"\",VLOOKUP($A248,'Entry List'!$A$1:$F$61,B$5,FALSE))","v":""},{"$f":"IF(ISNA(VLOOKUP($A248,'Entry List'!$A$1:$F$61,C$5,FALSE)),\"\",VLOOKUP($A248,'Entry List'!$A$1:$F$61,C$5,FALSE))","v":""},{"$f":"IF(ISNA(VLOOKUP($A248,'Entry List'!$A$1:$F$61,D$5,FALSE)),\"\",VLOOKUP($A248,'Entry List'!$A$1:$F$61,D$5,FALSE))","v":""},{"$f":"IF(ISNA(VLOOKUP($A248,'Entry List'!$A$1:$F$61,E$5,FALSE)),\"\",VLOOKUP($A248,'Entry List'!$A$1:$F$61,E$5,FALSE))","v":""},null,"DNS",0,"DNS",0,"DNS",0,"DNS",0,"DNS",0,"DNS",0,"DNS",0,"DNS",0,"DNS",0,"DNS",0,"DNS",0,"DNS",0,"DNS",0,"DNS",0,"DNS",0,"DNS",0,"DNS",0,"DNS",0,"DNS",0,"DNS",0,"DNS",0,"DNS",0,"DNS",0,"DNS",0,"DNS",0,"DNS",0,"DNS",0,"DNS",0,"DNS",0,"DNS",0,"DNS",0,"DNS",0,"DNS",0,"DNS",0,"DNS",0,{"$f":"IF('Last Race Results'!$B$5=0,0,IF(ISNA(VLOOKUP($A248,'Last Race Results'!$A$5:$J$44,2,FALSE)),\"DNS\",VLOOKUP($A248,'Last Race Results'!$A$5:$J$44,2,FALSE)))","v":"DNS"},{"$f":"IF('Last Race Results'!$B$5=0,0,IF(ISNA(VLOOKUP($A248,'Last Race Results'!$A$5:$K$44,11,FALSE)),0,VLOOKUP($A248,'Last Race Results'!$A$5:$K$44,11,FALSE)))","v":0}]
[232,{"$f":"IF(ISNA(VLOOKUP($A249,'Entry List'!$A$1:$F$61,B$5,FALSE)),\"\",VLOOKUP($A249,'Entry List'!$A$1:$F$61,B$5,FALSE))","v":""},{"$f":"IF(ISNA(VLOOKUP($A249,'Entry List'!$A$1:$F$61,C$5,FALSE)),\"\",VLOOKUP($A249,'Entry List'!$A$1:$F$61,C$5,FALSE))","v":""},{"$f":"IF(ISNA(VLOOKUP($A249,'Entry List'!$A$1:$F$61,D$5,FALSE)),\"\",VLOOKUP($A249,'Entry List'!$A$1:$F$61,D$5,FALSE))","v":""},{"$f":"IF(ISNA(VLOOKUP($A249,'Entry List'!$A$1:$F$61,E$5,FALSE)),\"\",VLOOKUP($A249,'Entry List'!$A$1:$F$61,E$5,FALSE))","v":""},null,"DNS",0,"DNS",0,"DNS",0,"DNS",0,"DNS",0,"DNS",0,"DNS",0,"DNS",0,"DNS",0,"DNS",0,"DNS",0,"DNS",0,"DNS",0,"DNS",0,"DNS",0,"DNS",0,"DNS",0,"DNS",0,"DNS",0,"DNS",0,"DNS",0,"DNS",0,"DNS",0,"DNS",0,"DNS",0,"DNS",0,"DNS",0,"DNS",0,"DNS",0,"DNS",0,"DNS",0,"DNS",0,"DNS",0,"DNS",0,"DNS",0,{"$f":"IF('Last Race Results'!$B$5=0,0,IF(ISNA(VLOOKUP($A249,'Last Race Results'!$A$5:$J$44,2,FALSE)),\"DNS\",VLOOKUP($A249,'Last Race Results'!$A$5:$J$44,2,FALSE)))","v":"DNS"},{"$f":"IF('Last Race Results'!$B$5=0,0,IF(ISNA(VLOOKUP($A249,'Last Race Results'!$A$5:$K$44,11,FALSE)),0,VLOOKUP($A249,'Last Race Results'!$A$5:$K$44,11,FALSE)))","v":0}]
[233,{"$f":"IF(ISNA(VLOOKUP($A250,'Entry List'!$A$1:$F$61,B$5,FALSE)),\"\",VLOOKUP($A250,'Entry List'!$A$1:$F$61,B$5,FALSE))","v":""},{"$f":"IF(ISNA(VLOOKUP($A250,'Entry List'!$A$1:$F$61,C$5,FALSE)),\"\",VLOOKUP($A250,'Entry List'!$A$1:$F$61,C$5,FALSE))","v":""},{"$f":"IF(ISNA(VLOOKUP($A250,'Entry List'!$A$1:$F$61,D$5,FALSE)),\"\",VLOOKUP($A250,'Entry List'!$A$1:$F$61,D$5,FALSE))","v":""},{"$f":"IF(ISNA(VLOOKUP($A250,'Entry List'!$A$1:$F$61,E$5,FALSE)),\"\",VLOOKUP($A250,'Entry List'!$A$1:$F$61,E$5,FALSE))","v":""},null,"DNS",0,"DNS",0,"DNS",0,"DNS",0,"DNS",0,"DNS",0,"DNS",0,"DNS",0,"DNS",0,"DNS",0,"DNS",0,"DNS",0,"DNS",0,"DNS",0,"DNS",0,"DNS",0,"DNS",0,"DNS",0,"DNS",0,"DNS",0,"DNS",0,"DNS",0,"DNS",0,"DNS",0,"DNS",0,"DNS",0,"DNS",0,"DNS",0,"DNS",0,"DNS",0,"DNS",0,"DNS",0,"DNS",0,"DNS",0,"DNS",0,{"$f":"IF('Last Race Results'!$B$5=0,0,IF(ISNA(VLOOKUP($A250,'Last Race Results'!$A$5:$J$44,2,FALSE)),\"DNS\",VLOOKUP($A250,'Last Race Results'!$A$5:$J$44,2,FALSE)))","v":"DNS"},{"$f":"IF('Last Race Results'!$B$5=0,0,IF(ISNA(VLOOKUP($A250,'Last Race Results'!$A$5:$K$44,11,FALSE)),0,VLOOKUP($A250,'Last Race Results'!$A$5:$K$44,11,FALSE)))","v":0}]
[234,{"$f":"IF(ISNA(VLOOKUP($A251,'Entry List'!$A$1:$F$61,B$5,FALSE)),\"\",VLOOKUP($A251,'Entry List'!$A$1:$F$61,B$5,FALSE))","v":""},{"$f":"IF(ISNA(VLOOKUP($A251,'Entry List'!$A$1:$F$61,C$5,FALSE)),\"\",VLOOKUP($A251,'Entry List'!$A$1:$F$61,C$5,FALSE))","v":""},{"$f":"IF(ISNA(VLOOKUP($A251,'Entry List'!$A$1:$F$61,D$5,FALSE)),\"\",VLOOKUP($A251,'Entry List'!$A$1:$F$61,D$5,FALSE))","v":""},{"$f":"IF(ISNA(VLOOKUP($A251,'Entry List'!$A$1:$F$61,E$5,FALSE)),\"\",VLOOKUP($A251,'Entry List'!$A$1:$F$61,E$5,FALSE))","v":""},null,"DNS",0,"DNS",0,"DNS",0,"DNS",0,"DNS",0,"DNS",0,"DNS",0,"DNS",0,"DNS",0,"DNS",0,"DNS",0,"DNS",0,"DNS",0,"DNS",0,"DNS",0,"DNS",0,"DNS",0,"DNS",0,"DNS",0,"DNS",0,"DNS",0,"DNS",0,"DNS",0,"DNS",0,"DNS",0,"DNS",0,"DNS",0,"DNS",0,"DNS",0,"DNS",0,"DNS",0,"DNS",0,"DNS",0,"DNS",0,"DNS",0,{"$f":"IF('Last Race Results'!$B$5=0,0,IF(ISNA(VLOOKUP($A251,'Last Race Results'!$A$5:$J$44,2,FALSE)),\"DNS\",VLOOKUP($A251,'Last Race Results'!$A$5:$J$44,2,FALSE)))","v":"DNS"},{"$f":"IF('Last Race Results'!$B$5=0,0,IF(ISNA(VLOOKUP($A251,'Last Race Results'!$A$5:$K$44,11,FALSE)),0,VLOOKUP($A251,'Last Race Results'!$A$5:$K$44,11,FALSE)))","v":0}]
[235,{"$f":"IF(ISNA(VLOOKUP($A252,'Entry List'!$A$1:$F$61,B$5,FALSE)),\"\",VLOOKUP($A252,'Entry List'!$A$1:$F$61,B$5,FALSE))","v":""},{"$f":"IF(ISNA(VLOOKUP($A252,'Entry List'!$A$1:$F$61,C$5,FALSE)),\"\",VLOOKUP($A252,'Entry List'!$A$1:$F$61,C$5,FALSE))","v":""},{"$f":"IF(ISNA(VLOOKUP($A252,'Entry List'!$A$1:$F$61,D$5,FALSE)),\"\",VLOOKUP($A252,'Entry List'!$A$1:$F$61,D$5,FALSE))","v":""},{"$f":"IF(ISNA(VLOOKUP($A252,'Entry List'!$A$1:$F$61,E$5,FALSE)),\"\",VLOOKUP($A252,'Entry List'!$A$1:$F$61,E$5,FALSE))","v":""},null,"DNS",0,"DNS",0,"DNS",0,"DNS",0,"DNS",0,"DNS",0,"DNS",0,"DNS",0,"DNS",0,"DNS",0,"DNS",0,"DNS",0,"DNS",0,"DNS",0,"DNS",0,"DNS",0,"DNS",0,"DNS",0,"DNS",0,"DNS",0,"DNS",0,"DNS",0,"DNS",0,"DNS",0,"DNS",0,"DNS",0,"DNS",0,"DNS",0,"DNS",0,"DNS",0,"DNS",0,"DNS",0,"DNS",0,"DNS",0,"DNS",0,{"$f":"IF('Last Race Results'!$B$5=0,0,IF(ISNA(VLOOKUP($A252,'Last Race Results'!$A$5:$J$44,2,FALSE)),\"DNS\",VLOOKUP($A252,'Last Race Results'!$A$5:$J$44,2,FALSE)))","v":"DNS"},{"$f":"IF('Last Race Results'!$B$5=0,0,IF(ISNA(VLOOKUP($A252,'Last Race Results'!$A$5:$K$44,11,FALSE)),0,VLOOKUP($A252,'Last Race Results'!$A$5:$K$44,11,FALSE)))","v":0}]
[236,{"$f":"IF(ISNA(VLOOKUP($A253,'Entry List'!$A$1:$F$61,B$5,FALSE)),\"\",VLOOKUP($A253,'Entry List'!$A$1:$F$61,B$5,FALSE))","v":""},{"$f":"IF(ISNA(VLOOKUP($A253,'Entry List'!$A$1:$F$61,C$5,FALSE)),\"\",VLOOKUP($A253,'Entry List'!$A$1:$F$61,C$5,FALSE))","v":""},{"$f":"IF(ISNA(VLOOKUP($A253,'Entry List'!$A$1:$F$61,D$5,FALSE)),\"\",VLOOKUP($A253,'Entry List'!$A$1:$F$61,D$5,FALSE))","v":""},{"$f":"IF(ISNA(VLOOKUP($A253,'Entry List'!$A$1:$F$61,E$5,FALSE)),\"\",VLOOKUP($A253,'Entry List'!$A$1:$F$61,E$5,FALSE))","v":""},null,"DNS",0,"DNS",0,"DNS",0,"DNS",0,"DNS",0,"DNS",0,"DNS",0,"DNS",0,"DNS",0,"DNS",0,"DNS",0,"DNS",0,"DNS",0,"DNS",0,"DNS",0,"DNS",0,"DNS",0,"DNS",0,"DNS",0,"DNS",0,"DNS",0,"DNS",0,"DNS",0,"DNS",0,"DNS",0,"DNS",0,"DNS",0,"DNS",0,"DNS",0,"DNS",0,"DNS",0,"DNS",0,"DNS",0,"DNS",0,"DNS",0,{"$f":"IF('Last Race Results'!$B$5=0,0,IF(ISNA(VLOOKUP($A253,'Last Race Results'!$A$5:$J$44,2,FALSE)),\"DNS\",VLOOKUP($A253,'Last Race Results'!$A$5:$J$44,2,FALSE)))","v":"DNS"},{"$f":"IF('Last Race Results'!$B$5=0,0,IF(ISNA(VLOOKUP($A253,'Last Race Results'!$A$5:$K$44,11,FALSE)),0,VLOOKUP($A253,'Last Race Results'!$A$5:$K$44,11,FALSE)))","v":0}]
[237,{"$f":"IF(ISNA(VLOOKUP($A254,'Entry List'!$A$1:$F$61,B$5,FALSE)),\"\",VLOOKUP($A254,'Entry List'!$A$1:$F$61,B$5,FALSE))","v":""},{"$f":"IF(ISNA(VLOOKUP($A254,'Entry List'!$A$1:$F$61,C$5,FALSE)),\"\",VLOOKUP($A254,'Entry List'!$A$1:$F$61,C$5,FALSE))","v":""},{"$f":"IF(ISNA(VLOOKUP($A254,'Entry List'!$A$1:$F$61,D$5,FALSE)),\"\",VLOOKUP($A254,'Entry List'!$A$1:$F$61,D$5,FALSE))","v":""},{"$f":"IF(ISNA(VLOOKUP($A254,'Entry List'!$A$1:$F$61,E$5,FALSE)),\"\",VLOOKUP($A254,'Entry List'!$A$1:$F$61,E$5,FALSE))","v":""},null,"DNS",0,"DNS",0,"DNS",0,"DNS",0,"DNS",0,"DNS",0,"DNS",0,"DNS",0,"DNS",0,"DNS",0,"DNS",0,"DNS",0,"DNS",0,"DNS",0,"DNS",0,"DNS",0,"DNS",0,"DNS",0,"DNS",0,"DNS",0,"DNS",0,"DNS",0,"DNS",0,"DNS",0,"DNS",0,"DNS",0,"DNS",0,"DNS",0,"DNS",0,"DNS",0,"DNS",0,"DNS",0,"DNS",0,"DNS",0,"DNS",0,{"$f":"IF('Last Race Results'!$B$5=0,0,IF(ISNA(VLOOKUP($A254,'Last Race Results'!$A$5:$J$44,2,FALSE)),\"DNS\",VLOOKUP($A254,'Last Race Results'!$A$5:$J$44,2,FALSE)))","v":"DNS"},{"$f":"IF('Last Race Results'!$B$5=0,0,IF(ISNA(VLOOKUP($A254,'Last Race Results'!$A$5:$K$44,11,FALSE)),0,VLOOKUP($A254,'Last Race Results'!$A$5:$K$44,11,FALSE)))","v":0}]
[238,{"$f":"IF(ISNA(VLOOKUP($A255,'Entry List'!$A$1:$F$61,B$5,FALSE)),\"\",VLOOKUP($A255,'Entry List'!$A$1:$F$61,B$5,FALSE))","v":""},{"$f":"IF(ISNA(VLOOKUP($A255,'Entry List'!$A$1:$F$61,C$5,FALSE)),\"\",VLOOKUP($A255,'Entry List'!$A$1:$F$61,C$5,FALSE))","v":""},{"$f":"IF(ISNA(VLOOKUP($A255,'Entry List'!$A$1:$F$61,D$5,FALSE)),\"\",VLOOKUP($A255,'Entry List'!$A$1:$F$61,D$5,FALSE))","v":""},{"$f":"IF(ISNA(VLOOKUP($A255,'Entry List'!$A$1:$F$61,E$5,FALSE)),\"\",VLOOKUP($A255,'Entry List'!$A$1:$F$61,E$5,FALSE))","v":""},null,"DNS",0,"DNS",0,"DNS",0,"DNS",0,"DNS",0,"DNS",0,"DNS",0,"DNS",0,"DNS",0,"DNS",0,"DNS",0,"DNS",0,"DNS",0,"DNS",0,"DNS",0,"DNS",0,"DNS",0,"DNS",0,"DNS",0,"DNS",0,"DNS",0,"DNS",0,"DNS",0,"DNS",0,"DNS",0,"DNS",0,"DNS",0,"DNS",0,"DNS",0,"DNS",0,"DNS",0,"DNS",0,"DNS",0,"DNS",0,"DNS",0,{"$f":"IF('Last Race Results'!$B$5=0,0,IF(ISNA(VLOOKUP($A255,'Last Race Results'!$A$5:$J$44,2,FALSE)),\"DNS\",VLOOKUP($A255,'Last Race Results'!$A$5:$J$44,2,FALSE)))","v":"DNS"},{"$f":"IF('Last Race Results'!$B$5=0,0,IF(ISNA(VLOOKUP($A255,'Last Race Results'!$A$5:$K$44,11,FALSE)),0,VLOOKUP($A255,'Last Race Results'!$A$5:$K$44,11,FALSE)))","v":0}]
[239,{"$f":"IF(ISNA(VLOOKUP($A256,'Entry List'!$A$1:$F$61,B$5,FALSE)),\"\",VLOOKUP($A256,'Entry List'!$A$1:$F$61,B$5,FALSE))","v":""},{"$f":"IF(ISNA(VLOOKUP($A256,'Entry List'!$A$1:$F$61,C$5,FALSE)),\"\",VLOOKUP($A256,'Entry List'!$A$1:$F$61,C$5,FALSE))","v":""},{"$f":"IF(ISNA(VLOOKUP($A256,'Entry List'!$A$1:$F$61,D$5,FALSE)),\"\",VLOOKUP($A256,'Entry List'!$A$1:$F$61,D$5,FALSE))","v":""},{"$f":"IF(ISNA(VLOOKUP($A256,'Entry List'!$A$1:$F$61,E$5,FALSE)),\"\",VLOOKUP($A256,'Entry List'!$A$1:$F$61,E$5,FALSE))","v":""},null,"DNS",0,"DNS",0,"DNS",0,"DNS",0,"DNS",0,"DNS",0,"DNS",0,"DNS",0,"DNS",0,"DNS",0,"DNS",0,"DNS",0,"DNS",0,"DNS",0,"DNS",0,"DNS",0,"DNS",0,"DNS",0,"DNS",0,"DNS",0,"DNS",0,"DNS",0,"DNS",0,"DNS",0,"DNS",0,"DNS",0,"DNS",0,"DNS",0,"DNS",0,"DNS",0,"DNS",0,"DNS",0,"DNS",0,"DNS",0,"DNS",0,{"$f":"IF('Last Race Results'!$B$5=0,0,IF(ISNA(VLOOKUP($A256,'Last Race Results'!$A$5:$J$44,2,FALSE)),\"DNS\",VLOOKUP($A256,'Last Race Results'!$A$5:$J$44,2,FALSE)))","v":"DNS"},{"$f":"IF('Last Race Results'!$B$5=0,0,IF(ISNA(VLOOKUP($A256,'Last Race Results'!$A$5:$K$44,11,FALSE)),0,VLOOKUP($A256,'Last Race Results'!$A$5:$K$44,11,FALSE)))","v":0}]
[240,{"$f":"IF(ISNA(VLOOKUP($A257,'Entry List'!$A$1:$F$61,B$5,FALSE)),\"\",VLOOKUP($A257,'Entry List'!$A$1:$F$61,B$5,FALSE))","v":""},{"$f":"IF(ISNA(VLOOKUP($A257,'Entry List'!$A$1:$F$61,C$5,FALSE)),\"\",VLOOKUP($A257,'Entry List'!$A$1:$F$61,C$5,FALSE))","v":""},{"$f":"IF(ISNA(VLOOKUP($A257,'Entry List'!$A$1:$F$61,D$5,FALSE)),\"\",VLOOKUP($A257,'Entry List'!$A$1:$F$61,D$5,FALSE))","v":""},{"$f":"IF(ISNA(VLOOKUP($A257,'Entry List'!$A$1:$F$61,E$5,FALSE)),\"\",VLOOKUP($A257,'Entry List'!$A$1:$F$61,E$5,FALSE))","v":""},null,"DNS",0,"DNS",0,"DNS",0,"DNS",0,"DNS",0,"DNS",0,"DNS",0,"DNS",0,"DNS",0,"DNS",0,"DNS",0,"DNS",0,"DNS",0,"DNS",0,"DNS",0,"DNS",0,"DNS",0,"DNS",0,"DNS",0,"DNS",0,"DNS",0,"DNS",0,"DNS",0,"DNS",0,"DNS",0,"DNS",0,"DNS",0,"DNS",0,"DNS",0,"DNS",0,"DNS",0,"DNS",0,"DNS",0,"DNS",0,"DNS",0,{"$f":"IF('Last Race Results'!$B$5=0,0,IF(ISNA(VLOOKUP($A257,'Last Race Results'!$A$5:$J$44,2,FALSE)),\"DNS\",VLOOKUP($A257,'Last Race Results'!$A$5:$J$44,2,FALSE)))","v":"DNS"},{"$f":"IF('Last Race Results'!$B$5=0,0,IF(ISNA(VLOOKUP($A257,'Last Race Results'!$A$5:$K$44,11,FALSE)),0,VLOOKUP($A257,'Last Race Results'!$A$5:$K$44,11,FALSE)))","v":0}]
[241,{"$f":"IF(ISNA(VLOOKUP($A258,'Entry List'!$A$1:$F$61,B$5,FALSE)),\"\",VLOOKUP($A258,'Entry List'!$A$1:$F$61,B$5,FALSE))","v":""},{"$f":"IF(ISNA(VLOOKUP($A258,'Entry List'!$A$1:$F$61,C$5,FALSE)),\"\",VLOOKUP($A258,'Entry List'!$A$1:$F$61,C$5,FALSE))","v":""},{"$f":"IF(ISNA(VLOOKUP($A258,'Entry List'!$A$1:$F$61,D$5,FALSE)),\"\",VLOOKUP($A258,'Entry List'!$A$1:$F$61,D$5,FALSE))","v":""},{"$f":"IF(ISNA(VLOOKUP($A258,'Entry List'!$A$1:$F$61,E$5,FALSE)),\"\",VLOOKUP($A258,'Entry List'!$A$1:$F$61,E$5,FALSE))","v":""},null,"DNS",0,"DNS",0,"DNS",0,"DNS",0,"DNS",0,"DNS",0,"DNS",0,"DNS",0,"DNS",0,"DNS",0,"DNS",0,"DNS",0,"DNS",0,"DNS",0,"DNS",0,"DNS",0,"DNS",0,"DNS",0,"DNS",0,"DNS",0,"DNS",0,"DNS",0,"DNS",0,"DNS",0,"DNS",0,"DNS",0,"DNS",0,"DNS",0,"DNS",0,"DNS",0,"DNS",0,"DNS",0,"DNS",0,"DNS",0,"DNS",0,{"$f":"IF('Last Race Results'!$B$5=0,0,IF(ISNA(VLOOKUP($A258,'Last Race Results'!$A$5:$J$44,2,FALSE)),\"DNS\",VLOOKUP($A258,'Last Race Results'!$A$5:$J$44,2,FALSE)))","v":"DNS"},{"$f":"IF('Last Race Results'!$B$5=0,0,IF(ISNA(VLOOKUP($A258,'Last Race Results'!$A$5:$K$44,11,FALSE)),0,VLOOKUP($A258,'Last Race Results'!$A$5:$K$44,11,FALSE)))","v":0}]
[242,{"$f":"IF(ISNA(VLOOKUP($A259,'Entry List'!$A$1:$F$61,B$5,FALSE)),\"\",VLOOKUP($A259,'Entry List'!$A$1:$F$61,B$5,FALSE))","v":""},{"$f":"IF(ISNA(VLOOKUP($A259,'Entry List'!$A$1:$F$61,C$5,FALSE)),\"\",VLOOKUP($A259,'Entry List'!$A$1:$F$61,C$5,FALSE))","v":""},{"$f":"IF(ISNA(VLOOKUP($A259,'Entry List'!$A$1:$F$61,D$5,FALSE)),\"\",VLOOKUP($A259,'Entry List'!$A$1:$F$61,D$5,FALSE))","v":""},{"$f":"IF(ISNA(VLOOKUP($A259,'Entry List'!$A$1:$F$61,E$5,FALSE)),\"\",VLOOKUP($A259,'Entry List'!$A$1:$F$61,E$5,FALSE))","v":""},null,"DNS",0,"DNS",0,"DNS",0,"DNS",0,"DNS",0,"DNS",0,"DNS",0,"DNS",0,"DNS",0,"DNS",0,"DNS",0,"DNS",0,"DNS",0,"DNS",0,"DNS",0,"DNS",0,"DNS",0,"DNS",0,"DNS",0,"DNS",0,"DNS",0,"DNS",0,"DNS",0,"DNS",0,"DNS",0,"DNS",0,"DNS",0,"DNS",0,"DNS",0,"DNS",0,"DNS",0,"DNS",0,"DNS",0,"DNS",0,"DNS",0,{"$f":"IF('Last Race Results'!$B$5=0,0,IF(ISNA(VLOOKUP($A259,'Last Race Results'!$A$5:$J$44,2,FALSE)),\"DNS\",VLOOKUP($A259,'Last Race Results'!$A$5:$J$44,2,FALSE)))","v":"DNS"},{"$f":"IF('Last Race Results'!$B$5=0,0,IF(ISNA(VLOOKUP($A259,'Last Race Results'!$A$5:$K$44,11,FALSE)),0,VLOOKUP($A259,'Last Race Results'!$A$5:$K$44,11,FALSE)))","v":0}]
[243,{"$f":"IF(ISNA(VLOOKUP($A260,'Entry List'!$A$1:$F$61,B$5,FALSE)),\"\",VLOOKUP($A260,'Entry List'!$A$1:$F$61,B$5,FALSE))","v":""},{"$f":"IF(ISNA(VLOOKUP($A260,'Entry List'!$A$1:$F$61,C$5,FALSE)),\"\",VLOOKUP($A260,'Entry List'!$A$1:$F$61,C$5,FALSE))","v":""},{"$f":"IF(ISNA(VLOOKUP($A260,'Entry List'!$A$1:$F$61,D$5,FALSE)),\"\",VLOOKUP($A260,'Entry List'!$A$1:$F$61,D$5,FALSE))","v":""},{"$f":"IF(ISNA(VLOOKUP($A260,'Entry List'!$A$1:$F$61,E$5,FALSE)),\"\",VLOOKUP($A260,'Entry List'!$A$1:$F$61,E$5,FALSE))","v":""},null,"DNS",0,"DNS",0,"DNS",0,"DNS",0,"DNS",0,"DNS",0,"DNS",0,"DNS",0,"DNS",0,"DNS",0,"DNS",0,"DNS",0,"DNS",0,"DNS",0,"DNS",0,"DNS",0,"DNS",0,"DNS",0,"DNS",0,"DNS",0,"DNS",0,"DNS",0,"DNS",0,"DNS",0,"DNS",0,"DNS",0,"DNS",0,"DNS",0,"DNS",0,"DNS",0,"DNS",0,"DNS",0,"DNS",0,"DNS",0,"DNS",0,{"$f":"IF('Last Race Results'!$B$5=0,0,IF(ISNA(VLOOKUP($A260,'Last Race Results'!$A$5:$J$44,2,FALSE)),\"DNS\",VLOOKUP($A260,'Last Race Results'!$A$5:$J$44,2,FALSE)))","v":"DNS"},{"$f":"IF('Last Race Results'!$B$5=0,0,IF(ISNA(VLOOKUP($A260,'Last Race Results'!$A$5:$K$44,11,FALSE)),0,VLOOKUP($A260,'Last Race Results'!$A$5:$K$44,11,FALSE)))","v":0}]
[244,{"$f":"IF(ISNA(VLOOKUP($A261,'Entry List'!$A$1:$F$61,B$5,FALSE)),\"\",VLOOKUP($A261,'Entry List'!$A$1:$F$61,B$5,FALSE))","v":""},{"$f":"IF(ISNA(VLOOKUP($A261,'Entry List'!$A$1:$F$61,C$5,FALSE)),\"\",VLOOKUP($A261,'Entry List'!$A$1:$F$61,C$5,FALSE))","v":""},{"$f":"IF(ISNA(VLOOKUP($A261,'Entry List'!$A$1:$F$61,D$5,FALSE)),\"\",VLOOKUP($A261,'Entry List'!$A$1:$F$61,D$5,FALSE))","v":""},{"$f":"IF(ISNA(VLOOKUP($A261,'Entry List'!$A$1:$F$61,E$5,FALSE)),\"\",VLOOKUP($A261,'Entry List'!$A$1:$F$61,E$5,FALSE))","v":""},null,"DNS",0,"DNS",0,"DNS",0,"DNS",0,"DNS",0,"DNS",0,"DNS",0,"DNS",0,"DNS",0,"DNS",0,"DNS",0,"DNS",0,"DNS",0,"DNS",0,"DNS",0,"DNS",0,"DNS",0,"DNS",0,"DNS",0,"DNS",0,"DNS",0,"DNS",0,"DNS",0,"DNS",0,"DNS",0,"DNS",0,"DNS",0,"DNS",0,"DNS",0,"DNS",0,"DNS",0,"DNS",0,"DNS",0,"DNS",0,"DNS",0,{"$f":"IF('Last Race Results'!$B$5=0,0,IF(ISNA(VLOOKUP($A261,'Last Race Results'!$A$5:$J$44,2,FALSE)),\"DNS\",VLOOKUP($A261,'Last Race Results'!$A$5:$J$44,2,FALSE)))","v":"DNS"},{"$f":"IF('Last Race Results'!$B$5=0,0,IF(ISNA(VLOOKUP($A261,'Last Race Results'!$A$5:$K$44,11,FALSE)),0,VLOOKUP($A261,'Last Race Results'!$A$5:$K$44,11,FALSE)))","v":0}]
[245,{"$f":"IF(ISNA(VLOOKUP($A262,'Entry List'!$A$1:$F$61,B$5,FALSE)),\"\",VLOOKUP($A262,'Entry List'!$A$1:$F$61,B$5,FALSE))","v":""},{"$f":"IF(ISNA(VLOOKUP($A262,'Entry List'!$A$1:$F$61,C$5,FALSE)),\"\",VLOOKUP($A262,'Entry List'!$A$1:$F$61,C$5,FALSE))","v":""},{"$f":"IF(ISNA(VLOOKUP($A262,'Entry List'!$A$1:$F$61,D$5,FALSE)),\"\",VLOOKUP($A262,'Entry List'!$A$1:$F$61,D$5,FALSE))","v":""},{"$f":"IF(ISNA(VLOOKUP($A262,'Entry List'!$A$1:$F$61,E$5,FALSE)),\"\",VLOOKUP($A262,'Entry List'!$A$1:$F$61,E$5,FALSE))","v":""},null,"DNS",0,"DNS",0,"DNS",0,"DNS",0,"DNS",0,"DNS",0,"DNS",0,"DNS",0,"DNS",0,"DNS",0,"DNS",0,"DNS",0,"DNS",0,"DNS",0,"DNS",0,"DNS",0,"DNS",0,"DNS",0,"DNS",0,"DNS",0,"DNS",0,"DNS",0,"DNS",0,"DNS",0,"DNS",0,"DNS",0,"DNS",0,"DNS",0,"DNS",0,"DNS",0,"DNS",0,"DNS",0,"DNS",0,"DNS",0,"DNS",0,{"$f":"IF('Last Race Results'!$B$5=0,0,IF(ISNA(VLOOKUP($A262,'Last Race Results'!$A$5:$J$44,2,FALSE)),\"DNS\",VLOOKUP($A262,'Last Race Results'!$A$5:$J$44,2,FALSE)))","v":"DNS"},{"$f":"IF('Last Race Results'!$B$5=0,0,IF(ISNA(VLOOKUP($A262,'Last Race Results'!$A$5:$K$44,11,FALSE)),0,VLOOKUP($A262,'Last Race Results'!$A$5:$K$44,11,FALSE)))","v":0}]
[246,{"$f":"IF(ISNA(VLOOKUP($A263,'Entry List'!$A$1:$F$61,B$5,FALSE)),\"\",VLOOKUP($A263,'Entry List'!$A$1:$F$61,B$5,FALSE))","v":""},{"$f":"IF(ISNA(VLOOKUP($A263,'Entry List'!$A$1:$F$61,C$5,FALSE)),\"\",VLOOKUP($A263,'Entry List'!$A$1:$F$61,C$5,FALSE))","v":""},{"$f":"IF(ISNA(VLOOKUP($A263,'Entry List'!$A$1:$F$61,D$5,FALSE)),\"\",VLOOKUP($A263,'Entry List'!$A$1:$F$61,D$5,FALSE))","v":""},{"$f":"IF(ISNA(VLOOKUP($A263,'Entry List'!$A$1:$F$61,E$5,FALSE)),\"\",VLOOKUP($A263,'Entry List'!$A$1:$F$61,E$5,FALSE))","v":""},null,"DNS",0,"DNS",0,"DNS",0,"DNS",0,"DNS",0,"DNS",0,"DNS",0,"DNS",0,"DNS",0,"DNS",0,"DNS",0,"DNS",0,"DNS",0,"DNS",0,"DNS",0,"DNS",0,"DNS",0,"DNS",0,"DNS",0,"DNS",0,"DNS",0,"DNS",0,"DNS",0,"DNS",0,"DNS",0,"DNS",0,"DNS",0,"DNS",0,"DNS",0,"DNS",0,"DNS",0,"DNS",0,"DNS",0,"DNS",0,"DNS",0,{"$f":"IF('Last Race Results'!$B$5=0,0,IF(ISNA(VLOOKUP($A263,'Last Race Results'!$A$5:$J$44,2,FALSE)),\"DNS\",VLOOKUP($A263,'Last Race Results'!$A$5:$J$44,2,FALSE)))","v":"DNS"},{"$f":"IF('Last Race Results'!$B$5=0,0,IF(ISNA(VLOOKUP($A263,'Last Race Results'!$A$5:$K$44,11,FALSE)),0,VLOOKUP($A263,'Last Race Results'!$A$5:$K$44,11,FALSE)))","v":0}]
[247,{"$f":"IF(ISNA(VLOOKUP($A264,'Entry List'!$A$1:$F$61,B$5,FALSE)),\"\",VLOOKUP($A264,'Entry List'!$A$1:$F$61,B$5,FALSE))","v":""},{"$f":"IF(ISNA(VLOOKUP($A264,'Entry List'!$A$1:$F$61,C$5,FALSE)),\"\",VLOOKUP($A264,'Entry List'!$A$1:$F$61,C$5,FALSE))","v":""},{"$f":"IF(ISNA(VLOOKUP($A264,'Entry List'!$A$1:$F$61,D$5,FALSE)),\"\",VLOOKUP($A264,'Entry List'!$A$1:$F$61,D$5,FALSE))","v":""},{"$f":"IF(ISNA(VLOOKUP($A264,'Entry List'!$A$1:$F$61,E$5,FALSE)),\"\",VLOOKUP($A264,'Entry List'!$A$1:$F$61,E$5,FALSE))","v":""},null,"DNS",0,"DNS",0,"DNS",0,"DNS",0,"DNS",0,"DNS",0,"DNS",0,"DNS",0,"DNS",0,"DNS",0,"DNS",0,"DNS",0,"DNS",0,"DNS",0,"DNS",0,"DNS",0,"DNS",0,"DNS",0,"DNS",0,"DNS",0,"DNS",0,"DNS",0,"DNS",0,"DNS",0,"DNS",0,"DNS",0,"DNS",0,"DNS",0,"DNS",0,"DNS",0,"DNS",0,"DNS",0,"DNS",0,"DNS",0,"DNS",0,{"$f":"IF('Last Race Results'!$B$5=0,0,IF(ISNA(VLOOKUP($A264,'Last Race Results'!$A$5:$J$44,2,FALSE)),\"DNS\",VLOOKUP($A264,'Last Race Results'!$A$5:$J$44,2,FALSE)))","v":"DNS"},{"$f":"IF('Last Race Results'!$B$5=0,0,IF(ISNA(VLOOKUP($A264,'Last Race Results'!$A$5:$K$44,11,FALSE)),0,VLOOKUP($A264,'Last Race Results'!$A$5:$K$44,11,FALSE)))","v":0}]
[248,{"$f":"IF(ISNA(VLOOKUP($A265,'Entry List'!$A$1:$F$61,B$5,FALSE)),\"\",VLOOKUP($A265,'Entry List'!$A$1:$F$61,B$5,FALSE))","v":""},{"$f":"IF(ISNA(VLOOKUP($A265,'Entry List'!$A$1:$F$61,C$5,FALSE)),\"\",VLOOKUP($A265,'Entry List'!$A$1:$F$61,C$5,FALSE))","v":""},{"$f":"IF(ISNA(VLOOKUP($A265,'Entry List'!$A$1:$F$61,D$5,FALSE)),\"\",VLOOKUP($A265,'Entry List'!$A$1:$F$61,D$5,FALSE))","v":""},{"$f":"IF(ISNA(VLOOKUP($A265,'Entry List'!$A$1:$F$61,E$5,FALSE)),\"\",VLOOKUP($A265,'Entry List'!$A$1:$F$61,E$5,FALSE))","v":""},null,"DNS",0,"DNS",0,"DNS",0,"DNS",0,"DNS",0,"DNS",0,"DNS",0,"DNS",0,"DNS",0,"DNS",0,"DNS",0,"DNS",0,"DNS",0,"DNS",0,"DNS",0,"DNS",0,"DNS",0,"DNS",0,"DNS",0,"DNS",0,"DNS",0,"DNS",0,"DNS",0,"DNS",0,"DNS",0,"DNS",0,"DNS",0,"DNS",0,"DNS",0,"DNS",0,"DNS",0,"DNS",0,"DNS",0,"DNS",0,"DNS",0,{"$f":"IF('Last Race Results'!$B$5=0,0,IF(ISNA(VLOOKUP($A265,'Last Race Results'!$A$5:$J$44,2,FALSE)),\"DNS\",VLOOKUP($A265,'Last Race Results'!$A$5:$J$44,2,FALSE)))","v":"DNS"},{"$f":"IF('Last Race Results'!$B$5=0,0,IF(ISNA(VLOOKUP($A265,'Last Race Results'!$A$5:$K$44,11,FALSE)),0,VLOOKUP($A265,'Last Race Results'!$A$5:$K$44,11,FALSE)))","v":0}]
[249,{"$f":"IF(ISNA(VLOOKUP($A266,'Entry List'!$A$1:$F$61,B$5,FALSE)),\"\",VLOOKUP($A266,'Entry List'!$A$1:$F$61,B$5,FALSE))","v":""},{"$f":"IF(ISNA(VLOOKUP($A266,'Entry List'!$A$1:$F$61,C$5,FALSE)),\"\",VLOOKUP($A266,'Entry List'!$A$1:$F$61,C$5,FALSE))","v":""},{"$f":"IF(ISNA(VLOOKUP($A266,'Entry List'!$A$1:$F$61,D$5,FALSE)),\"\",VLOOKUP($A266,'Entry List'!$A$1:$F$61,D$5,FALSE))","v":""},{"$f":"IF(ISNA(VLOOKUP($A266,'Entry List'!$A$1:$F$61,E$5,FALSE)),\"\",VLOOKUP($A266,'Entry List'!$A$1:$F$61,E$5,FALSE))","v":""},null,"DNS",0,"DNS",0,"DNS",0,"DNS",0,"DNS",0,"DNS",0,"DNS",0,"DNS",0,"DNS",0,"DNS",0,"DNS",0,"DNS",0,"DNS",0,"DNS",0,"DNS",0,"DNS",0,"DNS",0,"DNS",0,"DNS",0,"DNS",0,"DNS",0,"DNS",0,"DNS",0,"DNS",0,"DNS",0,"DNS",0,"DNS",0,"DNS",0,"DNS",0,"DNS",0,"DNS",0,"DNS",0,"DNS",0,"DNS",0,"DNS",0,{"$f":"IF('Last Race Results'!$B$5=0,0,IF(ISNA(VLOOKUP($A266,'Last Race Results'!$A$5:$J$44,2,FALSE)),\"DNS\",VLOOKUP($A266,'Last Race Results'!$A$5:$J$44,2,FALSE)))","v":"DNS"},{"$f":"IF('Last Race Results'!$B$5=0,0,IF(ISNA(VLOOKUP($A266,'Last Race Results'!$A$5:$K$44,11,FALSE)),0,VLOOKUP($A266,'Last Race Results'!$A$5:$K$44,11,FALSE)))","v":0}]
[250,{"$f":"IF(ISNA(VLOOKUP($A267,'Entry List'!$A$1:$F$61,B$5,FALSE)),\"\",VLOOKUP($A267,'Entry List'!$A$1:$F$61,B$5,FALSE))","v":""},{"$f":"IF(ISNA(VLOOKUP($A267,'Entry List'!$A$1:$F$61,C$5,FALSE)),\"\",VLOOKUP($A267,'Entry List'!$A$1:$F$61,C$5,FALSE))","v":""},{"$f":"IF(ISNA(VLOOKUP($A267,'Entry List'!$A$1:$F$61,D$5,FALSE)),\"\",VLOOKUP($A267,'Entry List'!$A$1:$F$61,D$5,FALSE))","v":""},{"$f":"IF(ISNA(VLOOKUP($A267,'Entry List'!$A$1:$F$61,E$5,FALSE)),\"\",VLOOKUP($A267,'Entry List'!$A$1:$F$61,E$5,FALSE))","v":""},null,"DNS",0,"DNS",0,"DNS",0,"DNS",0,"DNS",0,"DNS",0,"DNS",0,"DNS",0,"DNS",0,"DNS",0,"DNS",0,"DNS",0,"DNS",0,"DNS",0,"DNS",0,"DNS",0,"DNS",0,"DNS",0,"DNS",0,"DNS",0,"DNS",0,"DNS",0,"DNS",0,"DNS",0,"DNS",0,"DNS",0,"DNS",0,"DNS",0,"DNS",0,"DNS",0,"DNS",0,"DNS",0,"DNS",0,"DNS",0,"DNS",0,{"$f":"IF('Last Race Results'!$B$5=0,0,IF(ISNA(VLOOKUP($A267,'Last Race Results'!$A$5:$J$44,2,FALSE)),\"DNS\",VLOOKUP($A267,'Last Race Results'!$A$5:$J$44,2,FALSE)))","v":"DNS"},{"$f":"IF('Last Race Results'!$B$5=0,0,IF(ISNA(VLOOKUP($A267,'Last Race Results'!$A$5:$K$44,11,FALSE)),0,VLOOKUP($A267,'Last Race Results'!$A$5:$K$44,11,FALSE)))","v":0}]
[251,{"$f":"IF(ISNA(VLOOKUP($A268,'Entry List'!$A$1:$F$61,B$5,FALSE)),\"\",VLOOKUP($A268,'Entry List'!$A$1:$F$61,B$5,FALSE))","v":""},{"$f":"IF(ISNA(VLOOKUP($A268,'Entry List'!$A$1:$F$61,C$5,FALSE)),\"\",VLOOKUP($A268,'Entry List'!$A$1:$F$61,C$5,FALSE))","v":""},{"$f":"IF(ISNA(VLOOKUP($A268,'Entry List'!$A$1:$F$61,D$5,FALSE)),\"\",VLOOKUP($A268,'Entry List'!$A$1:$F$61,D$5,FALSE))","v":""},{"$f":"IF(ISNA(VLOOKUP($A268,'Entry List'!$A$1:$F$61,E$5,FALSE)),\"\",VLOOKUP($A268,'Entry List'!$A$1:$F$61,E$5,FALSE))","v":""},null,"DNS",0,"DNS",0,"DNS",0,"DNS",0,"DNS",0,"DNS",0,"DNS",0,"DNS",0,"DNS",0,"DNS",0,"DNS",0,"DNS",0,"DNS",0,"DNS",0,"DNS",0,"DNS",0,"DNS",0,"DNS",0,"DNS",0,"DNS",0,"DNS",0,"DNS",0,"DNS",0,"DNS",0,"DNS",0,"DNS",0,"DNS",0,"DNS",0,"DNS",0,"DNS",0,"DNS",0,"DNS",0,"DNS",0,"DNS",0,"DNS",0,{"$f":"IF('Last Race Results'!$B$5=0,0,IF(ISNA(VLOOKUP($A268,'Last Race Results'!$A$5:$J$44,2,FALSE)),\"DNS\",VLOOKUP($A268,'Last Race Results'!$A$5:$J$44,2,FALSE)))","v":"DNS"},{"$f":"IF('Last Race Results'!$B$5=0,0,IF(ISNA(VLOOKUP($A268,'Last Race Results'!$A$5:$K$44,11,FALSE)),0,VLOOKUP($A268,'Last Race Results'!$A$5:$K$44,11,FALSE)))","v":0}]
[252,{"$f":"IF(ISNA(VLOOKUP($A269,'Entry List'!$A$1:$F$61,B$5,FALSE)),\"\",VLOOKUP($A269,'Entry List'!$A$1:$F$61,B$5,FALSE))","v":""},{"$f":"IF(ISNA(VLOOKUP($A269,'Entry List'!$A$1:$F$61,C$5,FALSE)),\"\",VLOOKUP($A269,'Entry List'!$A$1:$F$61,C$5,FALSE))","v":""},{"$f":"IF(ISNA(VLOOKUP($A269,'Entry List'!$A$1:$F$61,D$5,FALSE)),\"\",VLOOKUP($A269,'Entry List'!$A$1:$F$61,D$5,FALSE))","v":""},{"$f":"IF(ISNA(VLOOKUP($A269,'Entry List'!$A$1:$F$61,E$5,FALSE)),\"\",VLOOKUP($A269,'Entry List'!$A$1:$F$61,E$5,FALSE))","v":""},null,"DNS",0,"DNS",0,"DNS",0,"DNS",0,"DNS",0,"DNS",0,"DNS",0,"DNS",0,"DNS",0,"DNS",0,"DNS",0,"DNS",0,"DNS",0,"DNS",0,"DNS",0,"DNS",0,"DNS",0,"DNS",0,"DNS",0,"DNS",0,"DNS",0,"DNS",0,"DNS",0,"DNS",0,"DNS",0,"DNS",0,"DNS",0,"DNS",0,"DNS",0,"DNS",0,"DNS",0,"DNS",0,"DNS",0,"DNS",0,"DNS",0,{"$f":"IF('Last Race Results'!$B$5=0,0,IF(ISNA(VLOOKUP($A269,'Last Race Results'!$A$5:$J$44,2,FALSE)),\"DNS\",VLOOKUP($A269,'Last Race Results'!$A$5:$J$44,2,FALSE)))","v":"DNS"},{"$f":"IF('Last Race Results'!$B$5=0,0,IF(ISNA(VLOOKUP($A269,'Last Race Results'!$A$5:$K$44,11,FALSE)),0,VLOOKUP($A269,'Last Race Results'!$A$5:$K$44,11,FALSE)))","v":0}]
[253,{"$f":"IF(ISNA(VLOOKUP($A270,'Entry List'!$A$1:$F$61,B$5,FALSE)),\"\",VLOOKUP($A270,'Entry List'!$A$1:$F$61,B$5,FALSE))","v":""},{"$f":"IF(ISNA(VLOOKUP($A270,'Entry List'!$A$1:$F$61,C$5,FALSE)),\"\",VLOOKUP($A270,'Entry List'!$A$1:$F$61,C$5,FALSE))","v":""},{"$f":"IF(ISNA(VLOOKUP($A270,'Entry List'!$A$1:$F$61,D$5,FALSE)),\"\",VLOOKUP($A270,'Entry List'!$A$1:$F$61,D$5,FALSE))","v":""},{"$f":"IF(ISNA(VLOOKUP($A270,'Entry List'!$A$1:$F$61,E$5,FALSE)),\"\",VLOOKUP($A270,'Entry List'!$A$1:$F$61,E$5,FALSE))","v":""},null,"DNS",0,"DNS",0,"DNS",0,"DNS",0,"DNS",0,"DNS",0,"DNS",0,"DNS",0,"DNS",0,"DNS",0,"DNS",0,"DNS",0,"DNS",0,"DNS",0,"DNS",0,"DNS",0,"DNS",0,"DNS",0,"DNS",0,"DNS",0,"DNS",0,"DNS",0,"DNS",0,"DNS",0,"DNS",0,"DNS",0,"DNS",0,"DNS",0,"DNS",0,"DNS",0,"DNS",0,"DNS",0,"DNS",0,"DNS",0,"DNS",0,{"$f":"IF('Last Race Results'!$B$5=0,0,IF(ISNA(VLOOKUP($A270,'Last Race Results'!$A$5:$J$44,2,FALSE)),\"DNS\",VLOOKUP($A270,'Last Race Results'!$A$5:$J$44,2,FALSE)))","v":"DNS"},{"$f":"IF('Last Race Results'!$B$5=0,0,IF(ISNA(VLOOKUP($A270,'Last Race Results'!$A$5:$K$44,11,FALSE)),0,VLOOKUP($A270,'Last Race Results'!$A$5:$K$44,11,FALSE)))","v":0}]
[254,{"$f":"IF(ISNA(VLOOKUP($A271,'Entry List'!$A$1:$F$61,B$5,FALSE)),\"\",VLOOKUP($A271,'Entry List'!$A$1:$F$61,B$5,FALSE))","v":""},{"$f":"IF(ISNA(VLOOKUP($A271,'Entry List'!$A$1:$F$61,C$5,FALSE)),\"\",VLOOKUP($A271,'Entry List'!$A$1:$F$61,C$5,FALSE))","v":""},{"$f":"IF(ISNA(VLOOKUP($A271,'Entry List'!$A$1:$F$61,D$5,FALSE)),\"\",VLOOKUP($A271,'Entry List'!$A$1:$F$61,D$5,FALSE))","v":""},{"$f":"IF(ISNA(VLOOKUP($A271,'Entry List'!$A$1:$F$61,E$5,FALSE)),\"\",VLOOKUP($A271,'Entry List'!$A$1:$F$61,E$5,FALSE))","v":""},null,"DNS",0,"DNS",0,"DNS",0,"DNS",0,"DNS",0,"DNS",0,"DNS",0,"DNS",0,"DNS",0,"DNS",0,"DNS",0,"DNS",0,"DNS",0,"DNS",0,"DNS",0,"DNS",0,"DNS",0,"DNS",0,"DNS",0,"DNS",0,"DNS",0,"DNS",0,"DNS",0,"DNS",0,"DNS",0,"DNS",0,"DNS",0,"DNS",0,"DNS",0,"DNS",0,"DNS",0,"DNS",0,"DNS",0,"DNS",0,"DNS",0,{"$f":"IF('Last Race Results'!$B$5=0,0,IF(ISNA(VLOOKUP($A271,'Last Race Results'!$A$5:$J$44,2,FALSE)),\"DNS\",VLOOKUP($A271,'Last Race Results'!$A$5:$J$44,2,FALSE)))","v":"DNS"},{"$f":"IF('Last Race Results'!$B$5=0,0,IF(ISNA(VLOOKUP($A271,'Last Race Results'!$A$5:$K$44,11,FALSE)),0,VLOOKUP($A271,'Last Race Results'!$A$5:$K$44,11,FALSE)))","v":0}]
[255,{"$f":"IF(ISNA(VLOOKUP($A272,'Entry List'!$A$1:$F$61,B$5,FALSE)),\"\",VLOOKUP($A272,'Entry List'!$A$1:$F$61,B$5,FALSE))","v":""},{"$f":"IF(ISNA(VLOOKUP($A272,'Entry List'!$A$1:$F$61,C$5,FALSE)),\"\",VLOOKUP($A272,'Entry List'!$A$1:$F$61,C$5,FALSE))","v":""},{"$f":"IF(ISNA(VLOOKUP($A272,'Entry List'!$A$1:$F$61,D$5,FALSE)),\"\",VLOOKUP($A272,'Entry List'!$A$1:$F$61,D$5,FALSE))","v":""},{"$f":"IF(ISNA(VLOOKUP($A272,'Entry List'!$A$1:$F$61,E$5,FALSE)),\"\",VLOOKUP($A272,'Entry List'!$A$1:$F$61,E$5,FALSE))","v":""},null,"DNS",0,"DNS",0,"DNS",0,"DNS",0,"DNS",0,"DNS",0,"DNS",0,"DNS",0,"DNS",0,"DNS",0,"DNS",0,"DNS",0,"DNS",0,"DNS",0,"DNS",0,"DNS",0,"DNS",0,"DNS",0,"DNS",0,"DNS",0,"DNS",0,"DNS",0,"DNS",0,"DNS",0,"DNS",0,"DNS",0,"DNS",0,"DNS",0,"DNS",0,"DNS",0,"DNS",0,"DNS",0,"DNS",0,"DNS",0,"DNS",0,{"$f":"IF('Last Race Results'!$B$5=0,0,IF(ISNA(VLOOKUP($A272,'Last Race Results'!$A$5:$J$44,2,FALSE)),\"DNS\",VLOOKUP($A272,'Last Race Results'!$A$5:$J$44,2,FALSE)))","v":"DNS"},{"$f":"IF('Last Race Results'!$B$5=0,0,IF(ISNA(VLOOKUP($A272,'Last Race Results'!$A$5:$K$44,11,FALSE)),0,VLOOKUP($A272,'Last Race Results'!$A$5:$K$44,11,FALSE)))","v":0}]
[256,{"$f":"IF(ISNA(VLOOKUP($A273,'Entry List'!$A$1:$F$61,B$5,FALSE)),\"\",VLOOKUP($A273,'Entry List'!$A$1:$F$61,B$5,FALSE))","v":""},{"$f":"IF(ISNA(VLOOKUP($A273,'Entry List'!$A$1:$F$61,C$5,FALSE)),\"\",VLOOKUP($A273,'Entry List'!$A$1:$F$61,C$5,FALSE))","v":""},{"$f":"IF(ISNA(VLOOKUP($A273,'Entry List'!$A$1:$F$61,D$5,FALSE)),\"\",VLOOKUP($A273,'Entry List'!$A$1:$F$61,D$5,FALSE))","v":""},{"$f":"IF(ISNA(VLOOKUP($A273,'Entry List'!$A$1:$F$61,E$5,FALSE)),\"\",VLOOKUP($A273,'Entry List'!$A$1:$F$61,E$5,FALSE))","v":""},null,"DNS",0,"DNS",0,"DNS",0,"DNS",0,"DNS",0,"DNS",0,"DNS",0,"DNS",0,"DNS",0,"DNS",0,"DNS",0,"DNS",0,"DNS",0,"DNS",0,"DNS",0,"DNS",0,"DNS",0,"DNS",0,"DNS",0,"DNS",0,"DNS",0,"DNS",0,"DNS",0,"DNS",0,"DNS",0,"DNS",0,"DNS",0,"DNS",0,"DNS",0,"DNS",0,"DNS",0,"DNS",0,"DNS",0,"DNS",0,"DNS",0,{"$f":"IF('Last Race Results'!$B$5=0,0,IF(ISNA(VLOOKUP($A273,'Last Race Results'!$A$5:$J$44,2,FALSE)),\"DNS\",VLOOKUP($A273,'Last Race Results'!$A$5:$J$44,2,FALSE)))","v":"DNS"},{"$f":"IF('Last Race Results'!$B$5=0,0,IF(ISNA(VLOOKUP($A273,'Last Race Results'!$A$5:$K$44,11,FALSE)),0,VLOOKUP($A273,'Last Race Results'!$A$5:$K$44,11,FALSE)))","v":0}]
[257,{"$f":"IF(ISNA(VLOOKUP($A274,'Entry List'!$A$1:$F$61,B$5,FALSE)),\"\",VLOOKUP($A274,'Entry List'!$A$1:$F$61,B$5,FALSE))","v":""},{"$f":"IF(ISNA(VLOOKUP($A274,'Entry List'!$A$1:$F$61,C$5,FALSE)),\"\",VLOOKUP($A274,'Entry List'!$A$1:$F$61,C$5,FALSE))","v":""},{"$f":"IF(ISNA(VLOOKUP($A274,'Entry List'!$A$1:$F$61,D$5,FALSE)),\"\",VLOOKUP($A274,'Entry List'!$A$1:$F$61,D$5,FALSE))","v":""},{"$f":"IF(ISNA(VLOOKUP($A274,'Entry List'!$A$1:$F$61,E$5,FALSE)),\"\",VLOOKUP($A274,'Entry List'!$A$1:$F$61,E$5,FALSE))","v":""},null,"DNS",0,"DNS",0,"DNS",0,"DNS",0,"DNS",0,"DNS",0,"DNS",0,"DNS",0,"DNS",0,"DNS",0,"DNS",0,"DNS",0,"DNS",0,"DNS",0,"DNS",0,"DNS",0,"DNS",0,"DNS",0,"DNS",0,"DNS",0,"DNS",0,"DNS",0,"DNS",0,"DNS",0,"DNS",0,"DNS",0,"DNS",0,"DNS",0,"DNS",0,"DNS",0,"DNS",0,"DNS",0,"DNS",0,"DNS",0,"DNS",0,{"$f":"IF('Last Race Results'!$B$5=0,0,IF(ISNA(VLOOKUP($A274,'Last Race Results'!$A$5:$J$44,2,FALSE)),\"DNS\",VLOOKUP($A274,'Last Race Results'!$A$5:$J$44,2,FALSE)))","v":"DNS"},{"$f":"IF('Last Race Results'!$B$5=0,0,IF(ISNA(VLOOKUP($A274,'Last Race Results'!$A$5:$K$44,11,FALSE)),0,VLOOKUP($A274,'Last Race Results'!$A$5:$K$44,11,FALSE)))","v":0}]
[258,{"$f":"IF(ISNA(VLOOKUP($A275,'Entry List'!$A$1:$F$61,B$5,FALSE)),\"\",VLOOKUP($A275,'Entry List'!$A$1:$F$61,B$5,FALSE))","v":""},{"$f":"IF(ISNA(VLOOKUP($A275,'Entry List'!$A$1:$F$61,C$5,FALSE)),\"\",VLOOKUP($A275,'Entry List'!$A$1:$F$61,C$5,FALSE))","v":""},{"$f":"IF(ISNA(VLOOKUP($A275,'Entry List'!$A$1:$F$61,D$5,FALSE)),\"\",VLOOKUP($A275,'Entry List'!$A$1:$F$61,D$5,FALSE))","v":""},{"$f":"IF(ISNA(VLOOKUP($A275,'Entry List'!$A$1:$F$61,E$5,FALSE)),\"\",VLOOKUP($A275,'Entry List'!$A$1:$F$61,E$5,FALSE))","v":""},null,"DNS",0,"DNS",0,"DNS",0,"DNS",0,"DNS",0,"DNS",0,"DNS",0,"DNS",0,"DNS",0,"DNS",0,"DNS",0,"DNS",0,"DNS",0,"DNS",0,"DNS",0,"DNS",0,"DNS",0,"DNS",0,"DNS",0,"DNS",0,"DNS",0,"DNS",0,"DNS",0,"DNS",0,"DNS",0,"DNS",0,"DNS",0,"DNS",0,"DNS",0,"DNS",0,"DNS",0,"DNS",0,"DNS",0,"DNS",0,"DNS",0,{"$f":"IF('Last Race Results'!$B$5=0,0,IF(ISNA(VLOOKUP($A275,'Last Race Results'!$A$5:$J$44,2,FALSE)),\"DNS\",VLOOKUP($A275,'Last Race Results'!$A$5:$J$44,2,FALSE)))","v":"DNS"},{"$f":"IF('Last Race Results'!$B$5=0,0,IF(ISNA(VLOOKUP($A275,'Last Race Results'!$A$5:$K$44,11,FALSE)),0,VLOOKUP($A275,'Last Race Results'!$A$5:$K$44,11,FALSE)))","v":0}]
[259,{"$f":"IF(ISNA(VLOOKUP($A276,'Entry List'!$A$1:$F$61,B$5,FALSE)),\"\",VLOOKUP($A276,'Entry List'!$A$1:$F$61,B$5,FALSE))","v":""},{"$f":"IF(ISNA(VLOOKUP($A276,'Entry List'!$A$1:$F$61,C$5,FALSE)),\"\",VLOOKUP($A276,'Entry List'!$A$1:$F$61,C$5,FALSE))","v":""},{"$f":"IF(ISNA(VLOOKUP($A276,'Entry List'!$A$1:$F$61,D$5,FALSE)),\"\",VLOOKUP($A276,'Entry List'!$A$1:$F$61,D$5,FALSE))","v":""},{"$f":"IF(ISNA(VLOOKUP($A276,'Entry List'!$A$1:$F$61,E$5,FALSE)),\"\",VLOOKUP($A276,'Entry List'!$A$1:$F$61,E$5,FALSE))","v":""},null,"DNS",0,"DNS",0,"DNS",0,"DNS",0,"DNS",0,"DNS",0,"DNS",0,"DNS",0,"DNS",0,"DNS",0,"DNS",0,"DNS",0,"DNS",0,"DNS",0,"DNS",0,"DNS",0,"DNS",0,"DNS",0,"DNS",0,"DNS",0,"DNS",0,"DNS",0,"DNS",0,"DNS",0,"DNS",0,"DNS",0,"DNS",0,"DNS",0,"DNS",0,"DNS",0,"DNS",0,"DNS",0,"DNS",0,"DNS",0,"DNS",0,{"$f":"IF('Last Race Results'!$B$5=0,0,IF(ISNA(VLOOKUP($A276,'Last Race Results'!$A$5:$J$44,2,FALSE)),\"DNS\",VLOOKUP($A276,'Last Race Results'!$A$5:$J$44,2,FALSE)))","v":"DNS"},{"$f":"IF('Last Race Results'!$B$5=0,0,IF(ISNA(VLOOKUP($A276,'Last Race Results'!$A$5:$K$44,11,FALSE)),0,VLOOKUP($A276,'Last Race Results'!$A$5:$K$44,11,FALSE)))","v":0}]
[260,{"$f":"IF(ISNA(VLOOKUP($A277,'Entry List'!$A$1:$F$61,B$5,FALSE)),\"\",VLOOKUP($A277,'Entry List'!$A$1:$F$61,B$5,FALSE))","v":""},{"$f":"IF(ISNA(VLOOKUP($A277,'Entry List'!$A$1:$F$61,C$5,FALSE)),\"\",VLOOKUP($A277,'Entry List'!$A$1:$F$61,C$5,FALSE))","v":""},{"$f":"IF(ISNA(VLOOKUP($A277,'Entry List'!$A$1:$F$61,D$5,FALSE)),\"\",VLOOKUP($A277,'Entry List'!$A$1:$F$61,D$5,FALSE))","v":""},{"$f":"IF(ISNA(VLOOKUP($A277,'Entry List'!$A$1:$F$61,E$5,FALSE)),\"\",VLOOKUP($A277,'Entry List'!$A$1:$F$61,E$5,FALSE))","v":""},null,"DNS",0,"DNS",0,"DNS",0,"DNS",0,"DNS",0,"DNS",0,"DNS",0,"DNS",0,"DNS",0,"DNS",0,"DNS",0,"DNS",0,"DNS",0,"DNS",0,"DNS",0,"DNS",0,"DNS",0,"DNS",0,"DNS",0,"DNS",0,"DNS",0,"DNS",0,"DNS",0,"DNS",0,"DNS",0,"DNS",0,"DNS",0,"DNS",0,"DNS",0,"DNS",0,"DNS",0,"DNS",0,"DNS",0,"DNS",0,"DNS",0,{"$f":"IF('Last Race Results'!$B$5=0,0,IF(ISNA(VLOOKUP($A277,'Last Race Results'!$A$5:$J$44,2,FALSE)),\"DNS\",VLOOKUP($A277,'Last Race Results'!$A$5:$J$44,2,FALSE)))","v":"DNS"},{"$f":"IF('Last Race Results'!$B$5=0,0,IF(ISNA(VLOOKUP($A277,'Last Race Results'!$A$5:$K$44,11,FALSE)),0,VLOOKUP($A277,'Last Race Results'!$A$5:$K$44,11,FALSE)))","v":0}]
[261,{"$f":"IF(ISNA(VLOOKUP($A278,'Entry List'!$A$1:$F$61,B$5,FALSE)),\"\",VLOOKUP($A278,'Entry List'!$A$1:$F$61,B$5,FALSE))","v":""},{"$f":"IF(ISNA(VLOOKUP($A278,'Entry List'!$A$1:$F$61,C$5,FALSE)),\"\",VLOOKUP($A278,'Entry List'!$A$1:$F$61,C$5,FALSE))","v":""},{"$f":"IF(ISNA(VLOOKUP($A278,'Entry List'!$A$1:$F$61,D$5,FALSE)),\"\",VLOOKUP($A278,'Entry List'!$A$1:$F$61,D$5,FALSE))","v":""},{"$f":"IF(ISNA(VLOOKUP($A278,'Entry List'!$A$1:$F$61,E$5,FALSE)),\"\",VLOOKUP($A278,'Entry List'!$A$1:$F$61,E$5,FALSE))","v":""},null,"DNS",0,"DNS",0,"DNS",0,"DNS",0,"DNS",0,"DNS",0,"DNS",0,"DNS",0,"DNS",0,"DNS",0,"DNS",0,"DNS",0,"DNS",0,"DNS",0,"DNS",0,"DNS",0,"DNS",0,"DNS",0,"DNS",0,"DNS",0,"DNS",0,"DNS",0,"DNS",0,"DNS",0,"DNS",0,"DNS",0,"DNS",0,"DNS",0,"DNS",0,"DNS",0,"DNS",0,"DNS",0,"DNS",0,"DNS",0,"DNS",0,{"$f":"IF('Last Race Results'!$B$5=0,0,IF(ISNA(VLOOKUP($A278,'Last Race Results'!$A$5:$J$44,2,FALSE)),\"DNS\",VLOOKUP($A278,'Last Race Results'!$A$5:$J$44,2,FALSE)))","v":"DNS"},{"$f":"IF('Last Race Results'!$B$5=0,0,IF(ISNA(VLOOKUP($A278,'Last Race Results'!$A$5:$K$44,11,FALSE)),0,VLOOKUP($A278,'Last Race Results'!$A$5:$K$44,11,FALSE)))","v":0}]
[262,{"$f":"IF(ISNA(VLOOKUP($A279,'Entry List'!$A$1:$F$61,B$5,FALSE)),\"\",VLOOKUP($A279,'Entry List'!$A$1:$F$61,B$5,FALSE))","v":""},{"$f":"IF(ISNA(VLOOKUP($A279,'Entry List'!$A$1:$F$61,C$5,FALSE)),\"\",VLOOKUP($A279,'Entry List'!$A$1:$F$61,C$5,FALSE))","v":""},{"$f":"IF(ISNA(VLOOKUP($A279,'Entry List'!$A$1:$F$61,D$5,FALSE)),\"\",VLOOKUP($A279,'Entry List'!$A$1:$F$61,D$5,FALSE))","v":""},{"$f":"IF(ISNA(VLOOKUP($A279,'Entry List'!$A$1:$F$61,E$5,FALSE)),\"\",VLOOKUP($A279,'Entry List'!$A$1:$F$61,E$5,FALSE))","v":""},null,"DNS",0,"DNS",0,"DNS",0,"DNS",0,"DNS",0,"DNS",0,"DNS",0,"DNS",0,"DNS",0,"DNS",0,"DNS",0,"DNS",0,"DNS",0,"DNS",0,"DNS",0,"DNS",0,"DNS",0,"DNS",0,"DNS",0,"DNS",0,"DNS",0,"DNS",0,"DNS",0,"DNS",0,"DNS",0,"DNS",0,"DNS",0,"DNS",0,"DNS",0,"DNS",0,"DNS",0,"DNS",0,"DNS",0,"DNS",0,"DNS",0,{"$f":"IF('Last Race Results'!$B$5=0,0,IF(ISNA(VLOOKUP($A279,'Last Race Results'!$A$5:$J$44,2,FALSE)),\"DNS\",VLOOKUP($A279,'Last Race Results'!$A$5:$J$44,2,FALSE)))","v":"DNS"},{"$f":"IF('Last Race Results'!$B$5=0,0,IF(ISNA(VLOOKUP($A279,'Last Race Results'!$A$5:$K$44,11,FALSE)),0,VLOOKUP($A279,'Last Race Results'!$A$5:$K$44,11,FALSE)))","v":0}]
[263,{"$f":"IF(ISNA(VLOOKUP($A280,'Entry List'!$A$1:$F$61,B$5,FALSE)),\"\",VLOOKUP($A280,'Entry List'!$A$1:$F$61,B$5,FALSE))","v":""},{"$f":"IF(ISNA(VLOOKUP($A280,'Entry List'!$A$1:$F$61,C$5,FALSE)),\"\",VLOOKUP($A280,'Entry List'!$A$1:$F$61,C$5,FALSE))","v":""},{"$f":"IF(ISNA(VLOOKUP($A280,'Entry List'!$A$1:$F$61,D$5,FALSE)),\"\",VLOOKUP($A280,'Entry List'!$A$1:$F$61,D$5,FALSE))","v":""},{"$f":"IF(ISNA(VLOOKUP($A280,'Entry List'!$A$1:$F$61,E$5,FALSE)),\"\",VLOOKUP($A280,'Entry List'!$A$1:$F$61,E$5,FALSE))","v":""},null,"DNS",0,"DNS",0,"DNS",0,"DNS",0,"DNS",0,"DNS",0,"DNS",0,"DNS",0,"DNS",0,"DNS",0,"DNS",0,"DNS",0,"DNS",0,"DNS",0,"DNS",0,"DNS",0,"DNS",0,"DNS",0,"DNS",0,"DNS",0,"DNS",0,"DNS",0,"DNS",0,"DNS",0,"DNS",0,"DNS",0,"DNS",0,"DNS",0,"DNS",0,"DNS",0,"DNS",0,"DNS",0,"DNS",0,"DNS",0,"DNS",0,{"$f":"IF('Last Race Results'!$B$5=0,0,IF(ISNA(VLOOKUP($A280,'Last Race Results'!$A$5:$J$44,2,FALSE)),\"DNS\",VLOOKUP($A280,'Last Race Results'!$A$5:$J$44,2,FALSE)))","v":"DNS"},{"$f":"IF('Last Race Results'!$B$5=0,0,IF(ISNA(VLOOKUP($A280,'Last Race Results'!$A$5:$K$44,11,FALSE)),0,VLOOKUP($A280,'Last Race Results'!$A$5:$K$44,11,FALSE)))","v":0}]
[264,{"$f":"IF(ISNA(VLOOKUP($A281,'Entry List'!$A$1:$F$61,B$5,FALSE)),\"\",VLOOKUP($A281,'Entry List'!$A$1:$F$61,B$5,FALSE))","v":""},{"$f":"IF(ISNA(VLOOKUP($A281,'Entry List'!$A$1:$F$61,C$5,FALSE)),\"\",VLOOKUP($A281,'Entry List'!$A$1:$F$61,C$5,FALSE))","v":""},{"$f":"IF(ISNA(VLOOKUP($A281,'Entry List'!$A$1:$F$61,D$5,FALSE)),\"\",VLOOKUP($A281,'Entry List'!$A$1:$F$61,D$5,FALSE))","v":""},{"$f":"IF(ISNA(VLOOKUP($A281,'Entry List'!$A$1:$F$61,E$5,FALSE)),\"\",VLOOKUP($A281,'Entry List'!$A$1:$F$61,E$5,FALSE))","v":""},null,"DNS",0,"DNS",0,"DNS",0,"DNS",0,"DNS",0,"DNS",0,"DNS",0,"DNS",0,"DNS",0,"DNS",0,"DNS",0,"DNS",0,"DNS",0,"DNS",0,"DNS",0,"DNS",0,"DNS",0,"DNS",0,"DNS",0,"DNS",0,"DNS",0,"DNS",0,"DNS",0,"DNS",0,"DNS",0,"DNS",0,"DNS",0,"DNS",0,"DNS",0,"DNS",0,"DNS",0,"DNS",0,"DNS",0,"DNS",0,"DNS",0,{"$f":"IF('Last Race Results'!$B$5=0,0,IF(ISNA(VLOOKUP($A281,'Last Race Results'!$A$5:$J$44,2,FALSE)),\"DNS\",VLOOKUP($A281,'Last Race Results'!$A$5:$J$44,2,FALSE)))","v":"DNS"},{"$f":"IF('Last Race Results'!$B$5=0,0,IF(ISNA(VLOOKUP($A281,'Last Race Results'!$A$5:$K$44,11,FALSE)),0,VLOOKUP($A281,'Last Race Results'!$A$5:$K$44,11,FALSE)))","v":0}]
[265,{"$f":"IF(ISNA(VLOOKUP($A282,'Entry List'!$A$1:$F$61,B$5,FALSE)),\"\",VLOOKUP($A282,'Entry List'!$A$1:$F$61,B$5,FALSE))","v":""},{"$f":"IF(ISNA(VLOOKUP($A282,'Entry List'!$A$1:$F$61,C$5,FALSE)),\"\",VLOOKUP($A282,'Entry List'!$A$1:$F$61,C$5,FALSE))","v":""},{"$f":"IF(ISNA(VLOOKUP($A282,'Entry List'!$A$1:$F$61,D$5,FALSE)),\"\",VLOOKUP($A282,'Entry List'!$A$1:$F$61,D$5,FALSE))","v":""},{"$f":"IF(ISNA(VLOOKUP($A282,'Entry List'!$A$1:$F$61,E$5,FALSE)),\"\",VLOOKUP($A282,'Entry List'!$A$1:$F$61,E$5,FALSE))","v":""},null,"DNS",0,"DNS",0,"DNS",0,"DNS",0,"DNS",0,"DNS",0,"DNS",0,"DNS",0,"DNS",0,"DNS",0,"DNS",0,"DNS",0,"DNS",0,"DNS",0,"DNS",0,"DNS",0,"DNS",0,"DNS",0,"DNS",0,"DNS",0,"DNS",0,"DNS",0,"DNS",0,"DNS",0,"DNS",0,"DNS",0,"DNS",0,"DNS",0,"DNS",0,"DNS",0,"DNS",0,"DNS",0,"DNS",0,"DNS",0,"DNS",0,{"$f":"IF('Last Race Results'!$B$5=0,0,IF(ISNA(VLOOKUP($A282,'Last Race Results'!$A$5:$J$44,2,FALSE)),\"DNS\",VLOOKUP($A282,'Last Race Results'!$A$5:$J$44,2,FALSE)))","v":"DNS"},{"$f":"IF('Last Race Results'!$B$5=0,0,IF(ISNA(VLOOKUP($A282,'Last Race Results'!$A$5:$K$44,11,FALSE)),0,VLOOKUP($A282,'Last Race Results'!$A$5:$K$44,11,FALSE)))","v":0}]
[266,{"$f":"IF(ISNA(VLOOKUP($A283,'Entry List'!$A$1:$F$61,B$5,FALSE)),\"\",VLOOKUP($A283,'Entry List'!$A$1:$F$61,B$5,FALSE))","v":""},{"$f":"IF(ISNA(VLOOKUP($A283,'Entry List'!$A$1:$F$61,C$5,FALSE)),\"\",VLOOKUP($A283,'Entry List'!$A$1:$F$61,C$5,FALSE))","v":""},{"$f":"IF(ISNA(VLOOKUP($A283,'Entry List'!$A$1:$F$61,D$5,FALSE)),\"\",VLOOKUP($A283,'Entry List'!$A$1:$F$61,D$5,FALSE))","v":""},{"$f":"IF(ISNA(VLOOKUP($A283,'Entry List'!$A$1:$F$61,E$5,FALSE)),\"\",VLOOKUP($A283,'Entry List'!$A$1:$F$61,E$5,FALSE))","v":""},null,"DNS",0,"DNS",0,"DNS",0,"DNS",0,"DNS",0,"DNS",0,"DNS",0,"DNS",0,"DNS",0,"DNS",0,"DNS",0,"DNS",0,"DNS",0,"DNS",0,"DNS",0,"DNS",0,"DNS",0,"DNS",0,"DNS",0,"DNS",0,"DNS",0,"DNS",0,"DNS",0,"DNS",0,"DNS",0,"DNS",0,"DNS",0,"DNS",0,"DNS",0,"DNS",0,"DNS",0,"DNS",0,"DNS",0,"DNS",0,"DNS",0,{"$f":"IF('Last Race Results'!$B$5=0,0,IF(ISNA(VLOOKUP($A283,'Last Race Results'!$A$5:$J$44,2,FALSE)),\"DNS\",VLOOKUP($A283,'Last Race Results'!$A$5:$J$44,2,FALSE)))","v":"DNS"},{"$f":"IF('Last Race Results'!$B$5=0,0,IF(ISNA(VLOOKUP($A283,'Last Race Results'!$A$5:$K$44,11,FALSE)),0,VLOOKUP($A283,'Last Race Results'!$A$5:$K$44,11,FALSE)))","v":0}]
[267,{"$f":"IF(ISNA(VLOOKUP($A284,'Entry List'!$A$1:$F$61,B$5,FALSE)),\"\",VLOOKUP($A284,'Entry List'!$A$1:$F$61,B$5,FALSE))","v":""},{"$f":"IF(ISNA(VLOOKUP($A284,'Entry List'!$A$1:$F$61,C$5,FALSE)),\"\",VLOOKUP($A284,'Entry List'!$A$1:$F$61,C$5,FALSE))","v":""},{"$f":"IF(ISNA(VLOOKUP($A284,'Entry List'!$A$1:$F$61,D$5,FALSE)),\"\",VLOOKUP($A284,'Entry List'!$A$1:$F$61,D$5,FALSE))","v":""},{"$f":"IF(ISNA(VLOOKUP($A284,'Entry List'!$A$1:$F$61,E$5,FALSE)),\"\",VLOOKUP($A284,'Entry List'!$A$1:$F$61,E$5,FALSE))","v":""},null,"DNS",0,"DNS",0,"DNS",0,"DNS",0,"DNS",0,"DNS",0,"DNS",0,"DNS",0,"DNS",0,"DNS",0,"DNS",0,"DNS",0,"DNS",0,"DNS",0,"DNS",0,"DNS",0,"DNS",0,"DNS",0,"DNS",0,"DNS",0,"DNS",0,"DNS",0,"DNS",0,"DNS",0,"DNS",0,"DNS",0,"DNS",0,"DNS",0,"DNS",0,"DNS",0,"DNS",0,"DNS",0,"DNS",0,"DNS",0,"DNS",0,{"$f":"IF('Last Race Results'!$B$5=0,0,IF(ISNA(VLOOKUP($A284,'Last Race Results'!$A$5:$J$44,2,FALSE)),\"DNS\",VLOOKUP($A284,'Last Race Results'!$A$5:$J$44,2,FALSE)))","v":"DNS"},{"$f":"IF('Last Race Results'!$B$5=0,0,IF(ISNA(VLOOKUP($A284,'Last Race Results'!$A$5:$K$44,11,FALSE)),0,VLOOKUP($A284,'Last Race Results'!$A$5:$K$44,11,FALSE)))","v":0}]
[268,{"$f":"IF(ISNA(VLOOKUP($A285,'Entry List'!$A$1:$F$61,B$5,FALSE)),\"\",VLOOKUP($A285,'Entry List'!$A$1:$F$61,B$5,FALSE))","v":""},{"$f":"IF(ISNA(VLOOKUP($A285,'Entry List'!$A$1:$F$61,C$5,FALSE)),\"\",VLOOKUP($A285,'Entry List'!$A$1:$F$61,C$5,FALSE))","v":""},{"$f":"IF(ISNA(VLOOKUP($A285,'Entry List'!$A$1:$F$61,D$5,FALSE)),\"\",VLOOKUP($A285,'Entry List'!$A$1:$F$61,D$5,FALSE))","v":""},{"$f":"IF(ISNA(VLOOKUP($A285,'Entry List'!$A$1:$F$61,E$5,FALSE)),\"\",VLOOKUP($A285,'Entry List'!$A$1:$F$61,E$5,FALSE))","v":""},null,"DNS",0,"DNS",0,"DNS",0,"DNS",0,"DNS",0,"DNS",0,"DNS",0,"DNS",0,"DNS",0,"DNS",0,"DNS",0,"DNS",0,"DNS",0,"DNS",0,"DNS",0,"DNS",0,"DNS",0,"DNS",0,"DNS",0,"DNS",0,"DNS",0,"DNS",0,"DNS",0,"DNS",0,"DNS",0,"DNS",0,"DNS",0,"DNS",0,"DNS",0,"DNS",0,"DNS",0,"DNS",0,"DNS",0,"DNS",0,"DNS",0,{"$f":"IF('Last Race Results'!$B$5=0,0,IF(ISNA(VLOOKUP($A285,'Last Race Results'!$A$5:$J$44,2,FALSE)),\"DNS\",VLOOKUP($A285,'Last Race Results'!$A$5:$J$44,2,FALSE)))","v":"DNS"},{"$f":"IF('Last Race Results'!$B$5=0,0,IF(ISNA(VLOOKUP($A285,'Last Race Results'!$A$5:$K$44,11,FALSE)),0,VLOOKUP($A285,'Last Race Results'!$A$5:$K$44,11,FALSE)))","v":0}]
[269,{"$f":"IF(ISNA(VLOOKUP($A286,'Entry List'!$A$1:$F$61,B$5,FALSE)),\"\",VLOOKUP($A286,'Entry List'!$A$1:$F$61,B$5,FALSE))","v":""},{"$f":"IF(ISNA(VLOOKUP($A286,'Entry List'!$A$1:$F$61,C$5,FALSE)),\"\",VLOOKUP($A286,'Entry List'!$A$1:$F$61,C$5,FALSE))","v":""},{"$f":"IF(ISNA(VLOOKUP($A286,'Entry List'!$A$1:$F$61,D$5,FALSE)),\"\",VLOOKUP($A286,'Entry List'!$A$1:$F$61,D$5,FALSE))","v":""},{"$f":"IF(ISNA(VLOOKUP($A286,'Entry List'!$A$1:$F$61,E$5,FALSE)),\"\",VLOOKUP($A286,'Entry List'!$A$1:$F$61,E$5,FALSE))","v":""},null,"DNS",0,"DNS",0,"DNS",0,"DNS",0,"DNS",0,"DNS",0,"DNS",0,"DNS",0,"DNS",0,"DNS",0,"DNS",0,"DNS",0,"DNS",0,"DNS",0,"DNS",0,"DNS",0,"DNS",0,"DNS",0,"DNS",0,"DNS",0,"DNS",0,"DNS",0,"DNS",0,"DNS",0,"DNS",0,"DNS",0,"DNS",0,"DNS",0,"DNS",0,"DNS",0,"DNS",0,"DNS",0,"DNS",0,"DNS",0,"DNS",0,{"$f":"IF('Last Race Results'!$B$5=0,0,IF(ISNA(VLOOKUP($A286,'Last Race Results'!$A$5:$J$44,2,FALSE)),\"DNS\",VLOOKUP($A286,'Last Race Results'!$A$5:$J$44,2,FALSE)))","v":"DNS"},{"$f":"IF('Last Race Results'!$B$5=0,0,IF(ISNA(VLOOKUP($A286,'Last Race Results'!$A$5:$K$44,11,FALSE)),0,VLOOKUP($A286,'Last Race Results'!$A$5:$K$44,11,FALSE)))","v":0}]
[270,{"$f":"IF(ISNA(VLOOKUP($A287,'Entry List'!$A$1:$F$61,B$5,FALSE)),\"\",VLOOKUP($A287,'Entry List'!$A$1:$F$61,B$5,FALSE))","v":""},{"$f":"IF(ISNA(VLOOKUP($A287,'Entry List'!$A$1:$F$61,C$5,FALSE)),\"\",VLOOKUP($A287,'Entry List'!$A$1:$F$61,C$5,FALSE))","v":""},{"$f":"IF(ISNA(VLOOKUP($A287,'Entry List'!$A$1:$F$61,D$5,FALSE)),\"\",VLOOKUP($A287,'Entry List'!$A$1:$F$61,D$5,FALSE))","v":""},{"$f":"IF(ISNA(VLOOKUP($A287,'Entry List'!$A$1:$F$61,E$5,FALSE)),\"\",VLOOKUP($A287,'Entry List'!$A$1:$F$61,E$5,FALSE))","v":""},null,"DNS",0,"DNS",0,"DNS",0,"DNS",0,"DNS",0,"DNS",0,"DNS",0,"DNS",0,"DNS",0,"DNS",0,"DNS",0,"DNS",0,"DNS",0,"DNS",0,"DNS",0,"DNS",0,"DNS",0,"DNS",0,"DNS",0,"DNS",0,"DNS",0,"DNS",0,"DNS",0,"DNS",0,"DNS",0,"DNS",0,"DNS",0,"DNS",0,"DNS",0,"DNS",0,"DNS",0,"DNS",0,"DNS",0,"DNS",0,"DNS",0,{"$f":"IF('Last Race Results'!$B$5=0,0,IF(ISNA(VLOOKUP($A287,'Last Race Results'!$A$5:$J$44,2,FALSE)),\"DNS\",VLOOKUP($A287,'Last Race Results'!$A$5:$J$44,2,FALSE)))","v":"DNS"},{"$f":"IF('Last Race Results'!$B$5=0,0,IF(ISNA(VLOOKUP($A287,'Last Race Results'!$A$5:$K$44,11,FALSE)),0,VLOOKUP($A287,'Last Race Results'!$A$5:$K$44,11,FALSE)))","v":0}]
[271,{"$f":"IF(ISNA(VLOOKUP($A288,'Entry List'!$A$1:$F$61,B$5,FALSE)),\"\",VLOOKUP($A288,'Entry List'!$A$1:$F$61,B$5,FALSE))","v":""},{"$f":"IF(ISNA(VLOOKUP($A288,'Entry List'!$A$1:$F$61,C$5,FALSE)),\"\",VLOOKUP($A288,'Entry List'!$A$1:$F$61,C$5,FALSE))","v":""},{"$f":"IF(ISNA(VLOOKUP($A288,'Entry List'!$A$1:$F$61,D$5,FALSE)),\"\",VLOOKUP($A288,'Entry List'!$A$1:$F$61,D$5,FALSE))","v":""},{"$f":"IF(ISNA(VLOOKUP($A288,'Entry List'!$A$1:$F$61,E$5,FALSE)),\"\",VLOOKUP($A288,'Entry List'!$A$1:$F$61,E$5,FALSE))","v":""},null,"DNS",0,"DNS",0,"DNS",0,"DNS",0,"DNS",0,"DNS",0,"DNS",0,"DNS",0,"DNS",0,"DNS",0,"DNS",0,"DNS",0,"DNS",0,"DNS",0,"DNS",0,"DNS",0,"DNS",0,"DNS",0,"DNS",0,"DNS",0,"DNS",0,"DNS",0,"DNS",0,"DNS",0,"DNS",0,"DNS",0,"DNS",0,"DNS",0,"DNS",0,"DNS",0,"DNS",0,"DNS",0,"DNS",0,"DNS",0,"DNS",0,{"$f":"IF('Last Race Results'!$B$5=0,0,IF(ISNA(VLOOKUP($A288,'Last Race Results'!$A$5:$J$44,2,FALSE)),\"DNS\",VLOOKUP($A288,'Last Race Results'!$A$5:$J$44,2,FALSE)))","v":"DNS"},{"$f":"IF('Last Race Results'!$B$5=0,0,IF(ISNA(VLOOKUP($A288,'Last Race Results'!$A$5:$K$44,11,FALSE)),0,VLOOKUP($A288,'Last Race Results'!$A$5:$K$44,11,FALSE)))","v":0}]
[272,{"$f":"IF(ISNA(VLOOKUP($A289,'Entry List'!$A$1:$F$61,B$5,FALSE)),\"\",VLOOKUP($A289,'Entry List'!$A$1:$F$61,B$5,FALSE))","v":""},{"$f":"IF(ISNA(VLOOKUP($A289,'Entry List'!$A$1:$F$61,C$5,FALSE)),\"\",VLOOKUP($A289,'Entry List'!$A$1:$F$61,C$5,FALSE))","v":""},{"$f":"IF(ISNA(VLOOKUP($A289,'Entry List'!$A$1:$F$61,D$5,FALSE)),\"\",VLOOKUP($A289,'Entry List'!$A$1:$F$61,D$5,FALSE))","v":""},{"$f":"IF(ISNA(VLOOKUP($A289,'Entry List'!$A$1:$F$61,E$5,FALSE)),\"\",VLOOKUP($A289,'Entry List'!$A$1:$F$61,E$5,FALSE))","v":""},null,"DNS",0,"DNS",0,"DNS",0,"DNS",0,"DNS",0,"DNS",0,"DNS",0,"DNS",0,"DNS",0,"DNS",0,"DNS",0,"DNS",0,"DNS",0,"DNS",0,"DNS",0,"DNS",0,"DNS",0,"DNS",0,"DNS",0,"DNS",0,"DNS",0,"DNS",0,"DNS",0,"DNS",0,"DNS",0,"DNS",0,"DNS",0,"DNS",0,"DNS",0,"DNS",0,"DNS",0,"DNS",0,"DNS",0,"DNS",0,"DNS",0,{"$f":"IF('Last Race Results'!$B$5=0,0,IF(ISNA(VLOOKUP($A289,'Last Race Results'!$A$5:$J$44,2,FALSE)),\"DNS\",VLOOKUP($A289,'Last Race Results'!$A$5:$J$44,2,FALSE)))","v":"DNS"},{"$f":"IF('Last Race Results'!$B$5=0,0,IF(ISNA(VLOOKUP($A289,'Last Race Results'!$A$5:$K$44,11,FALSE)),0,VLOOKUP($A289,'Last Race Results'!$A$5:$K$44,11,FALSE)))","v":0}]
[273,{"$f":"IF(ISNA(VLOOKUP($A290,'Entry List'!$A$1:$F$61,B$5,FALSE)),\"\",VLOOKUP($A290,'Entry List'!$A$1:$F$61,B$5,FALSE))","v":""},{"$f":"IF(ISNA(VLOOKUP($A290,'Entry List'!$A$1:$F$61,C$5,FALSE)),\"\",VLOOKUP($A290,'Entry List'!$A$1:$F$61,C$5,FALSE))","v":""},{"$f":"IF(ISNA(VLOOKUP($A290,'Entry List'!$A$1:$F$61,D$5,FALSE)),\"\",VLOOKUP($A290,'Entry List'!$A$1:$F$61,D$5,FALSE))","v":""},{"$f":"IF(ISNA(VLOOKUP($A290,'Entry List'!$A$1:$F$61,E$5,FALSE)),\"\",VLOOKUP($A290,'Entry List'!$A$1:$F$61,E$5,FALSE))","v":""},null,"DNS",0,"DNS",0,"DNS",0,"DNS",0,"DNS",0,"DNS",0,"DNS",0,"DNS",0,"DNS",0,"DNS",0,"DNS",0,"DNS",0,"DNS",0,"DNS",0,"DNS",0,"DNS",0,"DNS",0,"DNS",0,"DNS",0,"DNS",0,"DNS",0,"DNS",0,"DNS",0,"DNS",0,"DNS",0,"DNS",0,"DNS",0,"DNS",0,"DNS",0,"DNS",0,"DNS",0,"DNS",0,"DNS",0,"DNS",0,"DNS",0,{"$f":"IF('Last Race Results'!$B$5=0,0,IF(ISNA(VLOOKUP($A290,'Last Race Results'!$A$5:$J$44,2,FALSE)),\"DNS\",VLOOKUP($A290,'Last Race Results'!$A$5:$J$44,2,FALSE)))","v":"DNS"},{"$f":"IF('Last Race Results'!$B$5=0,0,IF(ISNA(VLOOKUP($A290,'Last Race Results'!$A$5:$K$44,11,FALSE)),0,VLOOKUP($A290,'Last Race Results'!$A$5:$K$44,11,FALSE)))","v":0}]
[274,{"$f":"IF(ISNA(VLOOKUP($A291,'Entry List'!$A$1:$F$61,B$5,FALSE)),\"\",VLOOKUP($A291,'Entry List'!$A$1:$F$61,B$5,FALSE))","v":""},{"$f":"IF(ISNA(VLOOKUP($A291,'Entry List'!$A$1:$F$61,C$5,FALSE)),\"\",VLOOKUP($A291,'Entry List'!$A$1:$F$61,C$5,FALSE))","v":""},{"$f":"IF(ISNA(VLOOKUP($A291,'Entry List'!$A$1:$F$61,D$5,FALSE)),\"\",VLOOKUP($A291,'Entry List'!$A$1:$F$61,D$5,FALSE))","v":""},{"$f":"IF(ISNA(VLOOKUP($A291,'Entry List'!$A$1:$F$61,E$5,FALSE)),\"\",VLOOKUP($A291,'Entry List'!$A$1:$F$61,E$5,FALSE))","v":""},null,"DNS",0,"DNS",0,"DNS",0,"DNS",0,"DNS",0,"DNS",0,"DNS",0,"DNS",0,"DNS",0,"DNS",0,"DNS",0,"DNS",0,"DNS",0,"DNS",0,"DNS",0,"DNS",0,"DNS",0,"DNS",0,"DNS",0,"DNS",0,"DNS",0,"DNS",0,"DNS",0,"DNS",0,"DNS",0,"DNS",0,"DNS",0,"DNS",0,"DNS",0,"DNS",0,"DNS",0,"DNS",0,"DNS",0,"DNS",0,"DNS",0,{"$f":"IF('Last Race Results'!$B$5=0,0,IF(ISNA(VLOOKUP($A291,'Last Race Results'!$A$5:$J$44,2,FALSE)),\"DNS\",VLOOKUP($A291,'Last Race Results'!$A$5:$J$44,2,FALSE)))","v":"DNS"},{"$f":"IF('Last Race Results'!$B$5=0,0,IF(ISNA(VLOOKUP($A291,'Last Race Results'!$A$5:$K$44,11,FALSE)),0,VLOOKUP($A291,'Last Race Results'!$A$5:$K$44,11,FALSE)))","v":0}]
[275,{"$f":"IF(ISNA(VLOOKUP($A292,'Entry List'!$A$1:$F$61,B$5,FALSE)),\"\",VLOOKUP($A292,'Entry List'!$A$1:$F$61,B$5,FALSE))","v":""},{"$f":"IF(ISNA(VLOOKUP($A292,'Entry List'!$A$1:$F$61,C$5,FALSE)),\"\",VLOOKUP($A292,'Entry List'!$A$1:$F$61,C$5,FALSE))","v":""},{"$f":"IF(ISNA(VLOOKUP($A292,'Entry List'!$A$1:$F$61,D$5,FALSE)),\"\",VLOOKUP($A292,'Entry List'!$A$1:$F$61,D$5,FALSE))","v":""},{"$f":"IF(ISNA(VLOOKUP($A292,'Entry List'!$A$1:$F$61,E$5,FALSE)),\"\",VLOOKUP($A292,'Entry List'!$A$1:$F$61,E$5,FALSE))","v":""},null,"DNS",0,"DNS",0,"DNS",0,"DNS",0,"DNS",0,"DNS",0,"DNS",0,"DNS",0,"DNS",0,"DNS",0,"DNS",0,"DNS",0,"DNS",0,"DNS",0,"DNS",0,"DNS",0,"DNS",0,"DNS",0,"DNS",0,"DNS",0,"DNS",0,"DNS",0,"DNS",0,"DNS",0,"DNS",0,"DNS",0,"DNS",0,"DNS",0,"DNS",0,"DNS",0,"DNS",0,"DNS",0,"DNS",0,"DNS",0,"DNS",0,{"$f":"IF('Last Race Results'!$B$5=0,0,IF(ISNA(VLOOKUP($A292,'Last Race Results'!$A$5:$J$44,2,FALSE)),\"DNS\",VLOOKUP($A292,'Last Race Results'!$A$5:$J$44,2,FALSE)))","v":"DNS"},{"$f":"IF('Last Race Results'!$B$5=0,0,IF(ISNA(VLOOKUP($A292,'Last Race Results'!$A$5:$K$44,11,FALSE)),0,VLOOKUP($A292,'Last Race Results'!$A$5:$K$44,11,FALSE)))","v":0}]
[276,{"$f":"IF(ISNA(VLOOKUP($A293,'Entry List'!$A$1:$F$61,B$5,FALSE)),\"\",VLOOKUP($A293,'Entry List'!$A$1:$F$61,B$5,FALSE))","v":""},{"$f":"IF(ISNA(VLOOKUP($A293,'Entry List'!$A$1:$F$61,C$5,FALSE)),\"\",VLOOKUP($A293,'Entry List'!$A$1:$F$61,C$5,FALSE))","v":""},{"$f":"IF(ISNA(VLOOKUP($A293,'Entry List'!$A$1:$F$61,D$5,FALSE)),\"\",VLOOKUP($A293,'Entry List'!$A$1:$F$61,D$5,FALSE))","v":""},{"$f":"IF(ISNA(VLOOKUP($A293,'Entry List'!$A$1:$F$61,E$5,FALSE)),\"\",VLOOKUP($A293,'Entry List'!$A$1:$F$61,E$5,FALSE))","v":""},null,"DNS",0,"DNS",0,"DNS",0,"DNS",0,"DNS",0,"DNS",0,"DNS",0,"DNS",0,"DNS",0,"DNS",0,"DNS",0,"DNS",0,"DNS",0,"DNS",0,"DNS",0,"DNS",0,"DNS",0,"DNS",0,"DNS",0,"DNS",0,"DNS",0,"DNS",0,"DNS",0,"DNS",0,"DNS",0,"DNS",0,"DNS",0,"DNS",0,"DNS",0,"DNS",0,"DNS",0,"DNS",0,"DNS",0,"DNS",0,"DNS",0,{"$f":"IF('Last Race Results'!$B$5=0,0,IF(ISNA(VLOOKUP($A293,'Last Race Results'!$A$5:$J$44,2,FALSE)),\"DNS\",VLOOKUP($A293,'Last Race Results'!$A$5:$J$44,2,FALSE)))","v":"DNS"},{"$f":"IF('Last Race Results'!$B$5=0,0,IF(ISNA(VLOOKUP($A293,'Last Race Results'!$A$5:$K$44,11,FALSE)),0,VLOOKUP($A293,'Last Race Results'!$A$5:$K$44,11,FALSE)))","v":0}]
[277,{"$f":"IF(ISNA(VLOOKUP($A294,'Entry List'!$A$1:$F$61,B$5,FALSE)),\"\",VLOOKUP($A294,'Entry List'!$A$1:$F$61,B$5,FALSE))","v":""},{"$f":"IF(ISNA(VLOOKUP($A294,'Entry List'!$A$1:$F$61,C$5,FALSE)),\"\",VLOOKUP($A294,'Entry List'!$A$1:$F$61,C$5,FALSE))","v":""},{"$f":"IF(ISNA(VLOOKUP($A294,'Entry List'!$A$1:$F$61,D$5,FALSE)),\"\",VLOOKUP($A294,'Entry List'!$A$1:$F$61,D$5,FALSE))","v":""},{"$f":"IF(ISNA(VLOOKUP($A294,'Entry List'!$A$1:$F$61,E$5,FALSE)),\"\",VLOOKUP($A294,'Entry List'!$A$1:$F$61,E$5,FALSE))","v":""},null,"DNS",0,"DNS",0,"DNS",0,"DNS",0,"DNS",0,"DNS",0,"DNS",0,"DNS",0,"DNS",0,"DNS",0,"DNS",0,"DNS",0,"DNS",0,"DNS",0,"DNS",0,"DNS",0,"DNS",0,"DNS",0,"DNS",0,"DNS",0,"DNS",0,"DNS",0,"DNS",0,"DNS",0,"DNS",0,"DNS",0,"DNS",0,"DNS",0,"DNS",0,"DNS",0,"DNS",0,"DNS",0,"DNS",0,"DNS",0,"DNS",0,{"$f":"IF('Last Race Results'!$B$5=0,0,IF(ISNA(VLOOKUP($A294,'Last Race Results'!$A$5:$J$44,2,FALSE)),\"DNS\",VLOOKUP($A294,'Last Race Results'!$A$5:$J$44,2,FALSE)))","v":"DNS"},{"$f":"IF('Last Race Results'!$B$5=0,0,IF(ISNA(VLOOKUP($A294,'Last Race Results'!$A$5:$K$44,11,FALSE)),0,VLOOKUP($A294,'Last Race Results'!$A$5:$K$44,11,FALSE)))","v":0}]
[278,{"$f":"IF(ISNA(VLOOKUP($A295,'Entry List'!$A$1:$F$61,B$5,FALSE)),\"\",VLOOKUP($A295,'Entry List'!$A$1:$F$61,B$5,FALSE))","v":""},{"$f":"IF(ISNA(VLOOKUP($A295,'Entry List'!$A$1:$F$61,C$5,FALSE)),\"\",VLOOKUP($A295,'Entry List'!$A$1:$F$61,C$5,FALSE))","v":""},{"$f":"IF(ISNA(VLOOKUP($A295,'Entry List'!$A$1:$F$61,D$5,FALSE)),\"\",VLOOKUP($A295,'Entry List'!$A$1:$F$61,D$5,FALSE))","v":""},{"$f":"IF(ISNA(VLOOKUP($A295,'Entry List'!$A$1:$F$61,E$5,FALSE)),\"\",VLOOKUP($A295,'Entry List'!$A$1:$F$61,E$5,FALSE))","v":""},null,"DNS",0,"DNS",0,"DNS",0,"DNS",0,"DNS",0,"DNS",0,"DNS",0,"DNS",0,"DNS",0,"DNS",0,"DNS",0,"DNS",0,"DNS",0,"DNS",0,"DNS",0,"DNS",0,"DNS",0,"DNS",0,"DNS",0,"DNS",0,"DNS",0,"DNS",0,"DNS",0,"DNS",0,"DNS",0,"DNS",0,"DNS",0,"DNS",0,"DNS",0,"DNS",0,"DNS",0,"DNS",0,"DNS",0,"DNS",0,"DNS",0,{"$f":"IF('Last Race Results'!$B$5=0,0,IF(ISNA(VLOOKUP($A295,'Last Race Results'!$A$5:$J$44,2,FALSE)),\"DNS\",VLOOKUP($A295,'Last Race Results'!$A$5:$J$44,2,FALSE)))","v":"DNS"},{"$f":"IF('Last Race Results'!$B$5=0,0,IF(ISNA(VLOOKUP($A295,'Last Race Results'!$A$5:$K$44,11,FALSE)),0,VLOOKUP($A295,'Last Race Results'!$A$5:$K$44,11,FALSE)))","v":0}]
[279,{"$f":"IF(ISNA(VLOOKUP($A296,'Entry List'!$A$1:$F$61,B$5,FALSE)),\"\",VLOOKUP($A296,'Entry List'!$A$1:$F$61,B$5,FALSE))","v":""},{"$f":"IF(ISNA(VLOOKUP($A296,'Entry List'!$A$1:$F$61,C$5,FALSE)),\"\",VLOOKUP($A296,'Entry List'!$A$1:$F$61,C$5,FALSE))","v":""},{"$f":"IF(ISNA(VLOOKUP($A296,'Entry List'!$A$1:$F$61,D$5,FALSE)),\"\",VLOOKUP($A296,'Entry List'!$A$1:$F$61,D$5,FALSE))","v":""},{"$f":"IF(ISNA(VLOOKUP($A296,'Entry List'!$A$1:$F$61,E$5,FALSE)),\"\",VLOOKUP($A296,'Entry List'!$A$1:$F$61,E$5,FALSE))","v":""},null,"DNS",0,"DNS",0,"DNS",0,"DNS",0,"DNS",0,"DNS",0,"DNS",0,"DNS",0,"DNS",0,"DNS",0,"DNS",0,"DNS",0,"DNS",0,"DNS",0,"DNS",0,"DNS",0,"DNS",0,"DNS",0,"DNS",0,"DNS",0,"DNS",0,"DNS",0,"DNS",0,"DNS",0,"DNS",0,"DNS",0,"DNS",0,"DNS",0,"DNS",0,"DNS",0,"DNS",0,"DNS",0,"DNS",0,"DNS",0,"DNS",0,{"$f":"IF('Last Race Results'!$B$5=0,0,IF(ISNA(VLOOKUP($A296,'Last Race Results'!$A$5:$J$44,2,FALSE)),\"DNS\",VLOOKUP($A296,'Last Race Results'!$A$5:$J$44,2,FALSE)))","v":"DNS"},{"$f":"IF('Last Race Results'!$B$5=0,0,IF(ISNA(VLOOKUP($A296,'Last Race Results'!$A$5:$K$44,11,FALSE)),0,VLOOKUP($A296,'Last Race Results'!$A$5:$K$44,11,FALSE)))","v":0}]
[280,{"$f":"IF(ISNA(VLOOKUP($A297,'Entry List'!$A$1:$F$61,B$5,FALSE)),\"\",VLOOKUP($A297,'Entry List'!$A$1:$F$61,B$5,FALSE))","v":""},{"$f":"IF(ISNA(VLOOKUP($A297,'Entry List'!$A$1:$F$61,C$5,FALSE)),\"\",VLOOKUP($A297,'Entry List'!$A$1:$F$61,C$5,FALSE))","v":""},{"$f":"IF(ISNA(VLOOKUP($A297,'Entry List'!$A$1:$F$61,D$5,FALSE)),\"\",VLOOKUP($A297,'Entry List'!$A$1:$F$61,D$5,FALSE))","v":""},{"$f":"IF(ISNA(VLOOKUP($A297,'Entry List'!$A$1:$F$61,E$5,FALSE)),\"\",VLOOKUP($A297,'Entry List'!$A$1:$F$61,E$5,FALSE))","v":""},null,"DNS",0,"DNS",0,"DNS",0,"DNS",0,"DNS",0,"DNS",0,"DNS",0,"DNS",0,"DNS",0,"DNS",0,"DNS",0,"DNS",0,"DNS",0,"DNS",0,"DNS",0,"DNS",0,"DNS",0,"DNS",0,"DNS",0,"DNS",0,"DNS",0,"DNS",0,"DNS",0,"DNS",0,"DNS",0,"DNS",0,"DNS",0,"DNS",0,"DNS",0,"DNS",0,"DNS",0,"DNS",0,"DNS",0,"DNS",0,"DNS",0,{"$f":"IF('Last Race Results'!$B$5=0,0,IF(ISNA(VLOOKUP($A297,'Last Race Results'!$A$5:$J$44,2,FALSE)),\"DNS\",VLOOKUP($A297,'Last Race Results'!$A$5:$J$44,2,FALSE)))","v":"DNS"},{"$f":"IF('Last Race Results'!$B$5=0,0,IF(ISNA(VLOOKUP($A297,'Last Race Results'!$A$5:$K$44,11,FALSE)),0,VLOOKUP($A297,'Last Race Results'!$A$5:$K$44,11,FALSE)))","v":0}]
[281,{"$f":"IF(ISNA(VLOOKUP($A298,'Entry List'!$A$1:$F$61,B$5,FALSE)),\"\",VLOOKUP($A298,'Entry List'!$A$1:$F$61,B$5,FALSE))","v":""},{"$f":"IF(ISNA(VLOOKUP($A298,'Entry List'!$A$1:$F$61,C$5,FALSE)),\"\",VLOOKUP($A298,'Entry List'!$A$1:$F$61,C$5,FALSE))","v":""},{"$f":"IF(ISNA(VLOOKUP($A298,'Entry List'!$A$1:$F$61,D$5,FALSE)),\"\",VLOOKUP($A298,'Entry List'!$A$1:$F$61,D$5,FALSE))","v":""},{"$f":"IF(ISNA(VLOOKUP($A298,'Entry List'!$A$1:$F$61,E$5,FALSE)),\"\",VLOOKUP($A298,'Entry List'!$A$1:$F$61,E$5,FALSE))","v":""},null,"DNS",0,"DNS",0,"DNS",0,"DNS",0,"DNS",0,"DNS",0,"DNS",0,"DNS",0,"DNS",0,"DNS",0,"DNS",0,"DNS",0,"DNS",0,"DNS",0,"DNS",0,"DNS",0,"DNS",0,"DNS",0,"DNS",0,"DNS",0,"DNS",0,"DNS",0,"DNS",0,"DNS",0,"DNS",0,"DNS",0,"DNS",0,"DNS",0,"DNS",0,"DNS",0,"DNS",0,"DNS",0,"DNS",0,"DNS",0,"DNS",0,{"$f":"IF('Last Race Results'!$B$5=0,0,IF(ISNA(VLOOKUP($A298,'Last Race Results'!$A$5:$J$44,2,FALSE)),\"DNS\",VLOOKUP($A298,'Last Race Results'!$A$5:$J$44,2,FALSE)))","v":"DNS"},{"$f":"IF('Last Race Results'!$B$5=0,0,IF(ISNA(VLOOKUP($A298,'Last Race Results'!$A$5:$K$44,11,FALSE)),0,VLOOKUP($A298,'Last Race Results'!$A$5:$K$44,11,FALSE)))","v":0}]
[282,{"$f":"IF(ISNA(VLOOKUP($A299,'Entry List'!$A$1:$F$61,B$5,FALSE)),\"\",VLOOKUP($A299,'Entry List'!$A$1:$F$61,B$5,FALSE))","v":""},{"$f":"IF(ISNA(VLOOKUP($A299,'Entry List'!$A$1:$F$61,C$5,FALSE)),\"\",VLOOKUP($A299,'Entry List'!$A$1:$F$61,C$5,FALSE))","v":""},{"$f":"IF(ISNA(VLOOKUP($A299,'Entry List'!$A$1:$F$61,D$5,FALSE)),\"\",VLOOKUP($A299,'Entry List'!$A$1:$F$61,D$5,FALSE))","v":""},{"$f":"IF(ISNA(VLOOKUP($A299,'Entry List'!$A$1:$F$61,E$5,FALSE)),\"\",VLOOKUP($A299,'Entry List'!$A$1:$F$61,E$5,FALSE))","v":""},null,"DNS",0,"DNS",0,"DNS",0,"DNS",0,"DNS",0,"DNS",0,"DNS",0,"DNS",0,"DNS",0,"DNS",0,"DNS",0,"DNS",0,"DNS",0,"DNS",0,"DNS",0,"DNS",0,"DNS",0,"DNS",0,"DNS",0,"DNS",0,"DNS",0,"DNS",0,"DNS",0,"DNS",0,"DNS",0,"DNS",0,"DNS",0,"DNS",0,"DNS",0,"DNS",0,"DNS",0,"DNS",0,"DNS",0,"DNS",0,"DNS",0,{"$f":"IF('Last Race Results'!$B$5=0,0,IF(ISNA(VLOOKUP($A299,'Last Race Results'!$A$5:$J$44,2,FALSE)),\"DNS\",VLOOKUP($A299,'Last Race Results'!$A$5:$J$44,2,FALSE)))","v":"DNS"},{"$f":"IF('Last Race Results'!$B$5=0,0,IF(ISNA(VLOOKUP($A299,'Last Race Results'!$A$5:$K$44,11,FALSE)),0,VLOOKUP($A299,'Last Race Results'!$A$5:$K$44,11,FALSE)))","v":0}]
[283,{"$f":"IF(ISNA(VLOOKUP($A300,'Entry List'!$A$1:$F$61,B$5,FALSE)),\"\",VLOOKUP($A300,'Entry List'!$A$1:$F$61,B$5,FALSE))","v":""},{"$f":"IF(ISNA(VLOOKUP($A300,'Entry List'!$A$1:$F$61,C$5,FALSE)),\"\",VLOOKUP($A300,'Entry List'!$A$1:$F$61,C$5,FALSE))","v":""},{"$f":"IF(ISNA(VLOOKUP($A300,'Entry List'!$A$1:$F$61,D$5,FALSE)),\"\",VLOOKUP($A300,'Entry List'!$A$1:$F$61,D$5,FALSE))","v":""},{"$f":"IF(ISNA(VLOOKUP($A300,'Entry List'!$A$1:$F$61,E$5,FALSE)),\"\",VLOOKUP($A300,'Entry List'!$A$1:$F$61,E$5,FALSE))","v":""},null,"DNS",0,"DNS",0,"DNS",0,"DNS",0,"DNS",0,"DNS",0,"DNS",0,"DNS",0,"DNS",0,"DNS",0,"DNS",0,"DNS",0,"DNS",0,"DNS",0,"DNS",0,"DNS",0,"DNS",0,"DNS",0,"DNS",0,"DNS",0,"DNS",0,"DNS",0,"DNS",0,"DNS",0,"DNS",0,"DNS",0,"DNS",0,"DNS",0,"DNS",0,"DNS",0,"DNS",0,"DNS",0,"DNS",0,"DNS",0,"DNS",0,{"$f":"IF('Last Race Results'!$B$5=0,0,IF(ISNA(VLOOKUP($A300,'Last Race Results'!$A$5:$J$44,2,FALSE)),\"DNS\",VLOOKUP($A300,'Last Race Results'!$A$5:$J$44,2,FALSE)))","v":"DNS"},{"$f":"IF('Last Race Results'!$B$5=0,0,IF(ISNA(VLOOKUP($A300,'Last Race Results'!$A$5:$K$44,11,FALSE)),0,VLOOKUP($A300,'Last Race Results'!$A$5:$K$44,11,FALSE)))","v":0}]
[284,{"$f":"IF(ISNA(VLOOKUP($A301,'Entry List'!$A$1:$F$61,B$5,FALSE)),\"\",VLOOKUP($A301,'Entry List'!$A$1:$F$61,B$5,FALSE))","v":""},{"$f":"IF(ISNA(VLOOKUP($A301,'Entry List'!$A$1:$F$61,C$5,FALSE)),\"\",VLOOKUP($A301,'Entry List'!$A$1:$F$61,C$5,FALSE))","v":""},{"$f":"IF(ISNA(VLOOKUP($A301,'Entry List'!$A$1:$F$61,D$5,FALSE)),\"\",VLOOKUP($A301,'Entry List'!$A$1:$F$61,D$5,FALSE))","v":""},{"$f":"IF(ISNA(VLOOKUP($A301,'Entry List'!$A$1:$F$61,E$5,FALSE)),\"\",VLOOKUP($A301,'Entry List'!$A$1:$F$61,E$5,FALSE))","v":""},null,"DNS",0,"DNS",0,"DNS",0,"DNS",0,"DNS",0,"DNS",0,"DNS",0,"DNS",0,"DNS",0,"DNS",0,"DNS",0,"DNS",0,"DNS",0,"DNS",0,"DNS",0,"DNS",0,"DNS",0,"DNS",0,"DNS",0,"DNS",0,"DNS",0,"DNS",0,"DNS",0,"DNS",0,"DNS",0,"DNS",0,"DNS",0,"DNS",0,"DNS",0,"DNS",0,"DNS",0,"DNS",0,"DNS",0,"DNS",0,"DNS",0,{"$f":"IF('Last Race Results'!$B$5=0,0,IF(ISNA(VLOOKUP($A301,'Last Race Results'!$A$5:$J$44,2,FALSE)),\"DNS\",VLOOKUP($A301,'Last Race Results'!$A$5:$J$44,2,FALSE)))","v":"DNS"},{"$f":"IF('Last Race Results'!$B$5=0,0,IF(ISNA(VLOOKUP($A301,'Last Race Results'!$A$5:$K$44,11,FALSE)),0,VLOOKUP($A301,'Last Race Results'!$A$5:$K$44,11,FALSE)))","v":0}]
[285,{"$f":"IF(ISNA(VLOOKUP($A302,'Entry List'!$A$1:$F$61,B$5,FALSE)),\"\",VLOOKUP($A302,'Entry List'!$A$1:$F$61,B$5,FALSE))","v":""},{"$f":"IF(ISNA(VLOOKUP($A302,'Entry List'!$A$1:$F$61,C$5,FALSE)),\"\",VLOOKUP($A302,'Entry List'!$A$1:$F$61,C$5,FALSE))","v":""},{"$f":"IF(ISNA(VLOOKUP($A302,'Entry List'!$A$1:$F$61,D$5,FALSE)),\"\",VLOOKUP($A302,'Entry List'!$A$1:$F$61,D$5,FALSE))","v":""},{"$f":"IF(ISNA(VLOOKUP($A302,'Entry List'!$A$1:$F$61,E$5,FALSE)),\"\",VLOOKUP($A302,'Entry List'!$A$1:$F$61,E$5,FALSE))","v":""},null,"DNS",0,"DNS",0,"DNS",0,"DNS",0,"DNS",0,"DNS",0,"DNS",0,"DNS",0,"DNS",0,"DNS",0,"DNS",0,"DNS",0,"DNS",0,"DNS",0,"DNS",0,"DNS",0,"DNS",0,"DNS",0,"DNS",0,"DNS",0,"DNS",0,"DNS",0,"DNS",0,"DNS",0,"DNS",0,"DNS",0,"DNS",0,"DNS",0,"DNS",0,"DNS",0,"DNS",0,"DNS",0,"DNS",0,"DNS",0,"DNS",0,{"$f":"IF('Last Race Results'!$B$5=0,0,IF(ISNA(VLOOKUP($A302,'Last Race Results'!$A$5:$J$44,2,FALSE)),\"DNS\",VLOOKUP($A302,'Last Race Results'!$A$5:$J$44,2,FALSE)))","v":"DNS"},{"$f":"IF('Last Race Results'!$B$5=0,0,IF(ISNA(VLOOKUP($A302,'Last Race Results'!$A$5:$K$44,11,FALSE)),0,VLOOKUP($A302,'Last Race Results'!$A$5:$K$44,11,FALSE)))","v":0}]
[286,{"$f":"IF(ISNA(VLOOKUP($A303,'Entry List'!$A$1:$F$61,B$5,FALSE)),\"\",VLOOKUP($A303,'Entry List'!$A$1:$F$61,B$5,FALSE))","v":""},{"$f":"IF(ISNA(VLOOKUP($A303,'Entry List'!$A$1:$F$61,C$5,FALSE)),\"\",VLOOKUP($A303,'Entry List'!$A$1:$F$61,C$5,FALSE))","v":""},{"$f":"IF(ISNA(VLOOKUP($A303,'Entry List'!$A$1:$F$61,D$5,FALSE)),\"\",VLOOKUP($A303,'Entry List'!$A$1:$F$61,D$5,FALSE))","v":""},{"$f":"IF(ISNA(VLOOKUP($A303,'Entry List'!$A$1:$F$61,E$5,FALSE)),\"\",VLOOKUP($A303,'Entry List'!$A$1:$F$61,E$5,FALSE))","v":""},null,"DNS",0,"DNS",0,"DNS",0,"DNS",0,"DNS",0,"DNS",0,"DNS",0,"DNS",0,"DNS",0,"DNS",0,"DNS",0,"DNS",0,"DNS",0,"DNS",0,"DNS",0,"DNS",0,"DNS",0,"DNS",0,"DNS",0,"DNS",0,"DNS",0,"DNS",0,"DNS",0,"DNS",0,"DNS",0,"DNS",0,"DNS",0,"DNS",0,"DNS",0,"DNS",0,"DNS",0,"DNS",0,"DNS",0,"DNS",0,"DNS",0,{"$f":"IF('Last Race Results'!$B$5=0,0,IF(ISNA(VLOOKUP($A303,'Last Race Results'!$A$5:$J$44,2,FALSE)),\"DNS\",VLOOKUP($A303,'Last Race Results'!$A$5:$J$44,2,FALSE)))","v":"DNS"},{"$f":"IF('Last Race Results'!$B$5=0,0,IF(ISNA(VLOOKUP($A303,'Last Race Results'!$A$5:$K$44,11,FALSE)),0,VLOOKUP($A303,'Last Race Results'!$A$5:$K$44,11,FALSE)))","v":0}]
[287,{"$f":"IF(ISNA(VLOOKUP($A304,'Entry List'!$A$1:$F$61,B$5,FALSE)),\"\",VLOOKUP($A304,'Entry List'!$A$1:$F$61,B$5,FALSE))","v":""},{"$f":"IF(ISNA(VLOOKUP($A304,'Entry List'!$A$1:$F$61,C$5,FALSE)),\"\",VLOOKUP($A304,'Entry List'!$A$1:$F$61,C$5,FALSE))","v":""},{"$f":"IF(ISNA(VLOOKUP($A304,'Entry List'!$A$1:$F$61,D$5,FALSE)),\"\",VLOOKUP($A304,'Entry List'!$A$1:$F$61,D$5,FALSE))","v":""},{"$f":"IF(ISNA(VLOOKUP($A304,'Entry List'!$A$1:$F$61,E$5,FALSE)),\"\",VLOOKUP($A304,'Entry List'!$A$1:$F$61,E$5,FALSE))","v":""},null,"DNS",0,"DNS",0,"DNS",0,"DNS",0,"DNS",0,"DNS",0,"DNS",0,"DNS",0,"DNS",0,"DNS",0,"DNS",0,"DNS",0,"DNS",0,"DNS",0,"DNS",0,"DNS",0,"DNS",0,"DNS",0,"DNS",0,"DNS",0,"DNS",0,"DNS",0,"DNS",0,"DNS",0,"DNS",0,"DNS",0,"DNS",0,"DNS",0,"DNS",0,"DNS",0,"DNS",0,"DNS",0,"DNS",0,"DNS",0,"DNS",0,{"$f":"IF('Last Race Results'!$B$5=0,0,IF(ISNA(VLOOKUP($A304,'Last Race Results'!$A$5:$J$44,2,FALSE)),\"DNS\",VLOOKUP($A304,'Last Race Results'!$A$5:$J$44,2,FALSE)))","v":"DNS"},{"$f":"IF('Last Race Results'!$B$5=0,0,IF(ISNA(VLOOKUP($A304,'Last Race Results'!$A$5:$K$44,11,FALSE)),0,VLOOKUP($A304,'Last Race Results'!$A$5:$K$44,11,FALSE)))","v":0}]
[288,{"$f":"IF(ISNA(VLOOKUP($A305,'Entry List'!$A$1:$F$61,B$5,FALSE)),\"\",VLOOKUP($A305,'Entry List'!$A$1:$F$61,B$5,FALSE))","v":""},{"$f":"IF(ISNA(VLOOKUP($A305,'Entry List'!$A$1:$F$61,C$5,FALSE)),\"\",VLOOKUP($A305,'Entry List'!$A$1:$F$61,C$5,FALSE))","v":""},{"$f":"IF(ISNA(VLOOKUP($A305,'Entry List'!$A$1:$F$61,D$5,FALSE)),\"\",VLOOKUP($A305,'Entry List'!$A$1:$F$61,D$5,FALSE))","v":""},{"$f":"IF(ISNA(VLOOKUP($A305,'Entry List'!$A$1:$F$61,E$5,FALSE)),\"\",VLOOKUP($A305,'Entry List'!$A$1:$F$61,E$5,FALSE))","v":""},null,"DNS",0,"DNS",0,"DNS",0,"DNS",0,"DNS",0,"DNS",0,"DNS",0,"DNS",0,"DNS",0,"DNS",0,"DNS",0,"DNS",0,"DNS",0,"DNS",0,"DNS",0,"DNS",0,"DNS",0,"DNS",0,"DNS",0,"DNS",0,"DNS",0,"DNS",0,"DNS",0,"DNS",0,"DNS",0,"DNS",0,"DNS",0,"DNS",0,"DNS",0,"DNS",0,"DNS",0,"DNS",0,"DNS",0,"DNS",0,"DNS",0,{"$f":"IF('Last Race Results'!$B$5=0,0,IF(ISNA(VLOOKUP($A305,'Last Race Results'!$A$5:$J$44,2,FALSE)),\"DNS\",VLOOKUP($A305,'Last Race Results'!$A$5:$J$44,2,FALSE)))","v":"DNS"},{"$f":"IF('Last Race Results'!$B$5=0,0,IF(ISNA(VLOOKUP($A305,'Last Race Results'!$A$5:$K$44,11,FALSE)),0,VLOOKUP($A305,'Last Race Results'!$A$5:$K$44,11,FALSE)))","v":0}]
[289,{"$f":"IF(ISNA(VLOOKUP($A306,'Entry List'!$A$1:$F$61,B$5,FALSE)),\"\",VLOOKUP($A306,'Entry List'!$A$1:$F$61,B$5,FALSE))","v":""},{"$f":"IF(ISNA(VLOOKUP($A306,'Entry List'!$A$1:$F$61,C$5,FALSE)),\"\",VLOOKUP($A306,'Entry List'!$A$1:$F$61,C$5,FALSE))","v":""},{"$f":"IF(ISNA(VLOOKUP($A306,'Entry List'!$A$1:$F$61,D$5,FALSE)),\"\",VLOOKUP($A306,'Entry List'!$A$1:$F$61,D$5,FALSE))","v":""},{"$f":"IF(ISNA(VLOOKUP($A306,'Entry List'!$A$1:$F$61,E$5,FALSE)),\"\",VLOOKUP($A306,'Entry List'!$A$1:$F$61,E$5,FALSE))","v":""},null,"DNS",0,"DNS",0,"DNS",0,"DNS",0,"DNS",0,"DNS",0,"DNS",0,"DNS",0,"DNS",0,"DNS",0,"DNS",0,"DNS",0,"DNS",0,"DNS",0,"DNS",0,"DNS",0,"DNS",0,"DNS",0,"DNS",0,"DNS",0,"DNS",0,"DNS",0,"DNS",0,"DNS",0,"DNS",0,"DNS",0,"DNS",0,"DNS",0,"DNS",0,"DNS",0,"DNS",0,"DNS",0,"DNS",0,"DNS",0,"DNS",0,{"$f":"IF('Last Race Results'!$B$5=0,0,IF(ISNA(VLOOKUP($A306,'Last Race Results'!$A$5:$J$44,2,FALSE)),\"DNS\",VLOOKUP($A306,'Last Race Results'!$A$5:$J$44,2,FALSE)))","v":"DNS"},{"$f":"IF('Last Race Results'!$B$5=0,0,IF(ISNA(VLOOKUP($A306,'Last Race Results'!$A$5:$K$44,11,FALSE)),0,VLOOKUP($A306,'Last Race Results'!$A$5:$K$44,11,FALSE)))","v":0}]
[290,{"$f":"IF(ISNA(VLOOKUP($A307,'Entry List'!$A$1:$F$61,B$5,FALSE)),\"\",VLOOKUP($A307,'Entry List'!$A$1:$F$61,B$5,FALSE))","v":""},{"$f":"IF(ISNA(VLOOKUP($A307,'Entry List'!$A$1:$F$61,C$5,FALSE)),\"\",VLOOKUP($A307,'Entry List'!$A$1:$F$61,C$5,FALSE))","v":""},{"$f":"IF(ISNA(VLOOKUP($A307,'Entry List'!$A$1:$F$61,D$5,FALSE)),\"\",VLOOKUP($A307,'Entry List'!$A$1:$F$61,D$5,FALSE))","v":""},{"$f":"IF(ISNA(VLOOKUP($A307,'Entry List'!$A$1:$F$61,E$5,FALSE)),\"\",VLOOKUP($A307,'Entry List'!$A$1:$F$61,E$5,FALSE))","v":""},null,"DNS",0,"DNS",0,"DNS",0,"DNS",0,"DNS",0,"DNS",0,"DNS",0,"DNS",0,"DNS",0,"DNS",0,"DNS",0,"DNS",0,"DNS",0,"DNS",0,"DNS",0,"DNS",0,"DNS",0,"DNS",0,"DNS",0,"DNS",0,"DNS",0,"DNS",0,"DNS",0,"DNS",0,"DNS",0,"DNS",0,"DNS",0,"DNS",0,"DNS",0,"DNS",0,"DNS",0,"DNS",0,"DNS",0,"DNS",0,"DNS",0,{"$f":"IF('Last Race Results'!$B$5=0,0,IF(ISNA(VLOOKUP($A307,'Last Race Results'!$A$5:$J$44,2,FALSE)),\"DNS\",VLOOKUP($A307,'Last Race Results'!$A$5:$J$44,2,FALSE)))","v":"DNS"},{"$f":"IF('Last Race Results'!$B$5=0,0,IF(ISNA(VLOOKUP($A307,'Last Race Results'!$A$5:$K$44,11,FALSE)),0,VLOOKUP($A307,'Last Race Results'!$A$5:$K$44,11,FALSE)))","v":0}]
[291,{"$f":"IF(ISNA(VLOOKUP($A308,'Entry List'!$A$1:$F$61,B$5,FALSE)),\"\",VLOOKUP($A308,'Entry List'!$A$1:$F$61,B$5,FALSE))","v":""},{"$f":"IF(ISNA(VLOOKUP($A308,'Entry List'!$A$1:$F$61,C$5,FALSE)),\"\",VLOOKUP($A308,'Entry List'!$A$1:$F$61,C$5,FALSE))","v":""},{"$f":"IF(ISNA(VLOOKUP($A308,'Entry List'!$A$1:$F$61,D$5,FALSE)),\"\",VLOOKUP($A308,'Entry List'!$A$1:$F$61,D$5,FALSE))","v":""},{"$f":"IF(ISNA(VLOOKUP($A308,'Entry List'!$A$1:$F$61,E$5,FALSE)),\"\",VLOOKUP($A308,'Entry List'!$A$1:$F$61,E$5,FALSE))","v":""},null,"DNS",0,"DNS",0,"DNS",0,"DNS",0,"DNS",0,"DNS",0,"DNS",0,"DNS",0,"DNS",0,"DNS",0,"DNS",0,"DNS",0,"DNS",0,"DNS",0,"DNS",0,"DNS",0,"DNS",0,"DNS",0,"DNS",0,"DNS",0,"DNS",0,"DNS",0,"DNS",0,"DNS",0,"DNS",0,"DNS",0,"DNS",0,"DNS",0,"DNS",0,"DNS",0,"DNS",0,"DNS",0,"DNS",0,"DNS",0,"DNS",0,{"$f":"IF('Last Race Results'!$B$5=0,0,IF(ISNA(VLOOKUP($A308,'Last Race Results'!$A$5:$J$44,2,FALSE)),\"DNS\",VLOOKUP($A308,'Last Race Results'!$A$5:$J$44,2,FALSE)))","v":"DNS"},{"$f":"IF('Last Race Results'!$B$5=0,0,IF(ISNA(VLOOKUP($A308,'Last Race Results'!$A$5:$K$44,11,FALSE)),0,VLOOKUP($A308,'Last Race Results'!$A$5:$K$44,11,FALSE)))","v":0}]
[292,{"$f":"IF(ISNA(VLOOKUP($A309,'Entry List'!$A$1:$F$61,B$5,FALSE)),\"\",VLOOKUP($A309,'Entry List'!$A$1:$F$61,B$5,FALSE))","v":""},{"$f":"IF(ISNA(VLOOKUP($A309,'Entry List'!$A$1:$F$61,C$5,FALSE)),\"\",VLOOKUP($A309,'Entry List'!$A$1:$F$61,C$5,FALSE))","v":""},{"$f":"IF(ISNA(VLOOKUP($A309,'Entry List'!$A$1:$F$61,D$5,FALSE)),\"\",VLOOKUP($A309,'Entry List'!$A$1:$F$61,D$5,FALSE))","v":""},{"$f":"IF(ISNA(VLOOKUP($A309,'Entry List'!$A$1:$F$61,E$5,FALSE)),\"\",VLOOKUP($A309,'Entry List'!$A$1:$F$61,E$5,FALSE))","v":""},null,"DNS",0,"DNS",0,"DNS",0,"DNS",0,"DNS",0,"DNS",0,"DNS",0,"DNS",0,"DNS",0,"DNS",0,"DNS",0,"DNS",0,"DNS",0,"DNS",0,"DNS",0,"DNS",0,"DNS",0,"DNS",0,"DNS",0,"DNS",0,"DNS",0,"DNS",0,"DNS",0,"DNS",0,"DNS",0,"DNS",0,"DNS",0,"DNS",0,"DNS",0,"DNS",0,"DNS",0,"DNS",0,"DNS",0,"DNS",0,"DNS",0,{"$f":"IF('Last Race Results'!$B$5=0,0,IF(ISNA(VLOOKUP($A309,'Last Race Results'!$A$5:$J$44,2,FALSE)),\"DNS\",VLOOKUP($A309,'Last Race Results'!$A$5:$J$44,2,FALSE)))","v":"DNS"},{"$f":"IF('Last Race Results'!$B$5=0,0,IF(ISNA(VLOOKUP($A309,'Last Race Results'!$A$5:$K$44,11,FALSE)),0,VLOOKUP($A309,'Last Race Results'!$A$5:$K$44,11,FALSE)))","v":0}]
[293,{"$f":"IF(ISNA(VLOOKUP($A310,'Entry List'!$A$1:$F$61,B$5,FALSE)),\"\",VLOOKUP($A310,'Entry List'!$A$1:$F$61,B$5,FALSE))","v":""},{"$f":"IF(ISNA(VLOOKUP($A310,'Entry List'!$A$1:$F$61,C$5,FALSE)),\"\",VLOOKUP($A310,'Entry List'!$A$1:$F$61,C$5,FALSE))","v":""},{"$f":"IF(ISNA(VLOOKUP($A310,'Entry List'!$A$1:$F$61,D$5,FALSE)),\"\",VLOOKUP($A310,'Entry List'!$A$1:$F$61,D$5,FALSE))","v":""},{"$f":"IF(ISNA(VLOOKUP($A310,'Entry List'!$A$1:$F$61,E$5,FALSE)),\"\",VLOOKUP($A310,'Entry List'!$A$1:$F$61,E$5,FALSE))","v":""},null,"DNS",0,"DNS",0,"DNS",0,"DNS",0,"DNS",0,"DNS",0,"DNS",0,"DNS",0,"DNS",0,"DNS",0,"DNS",0,"DNS",0,"DNS",0,"DNS",0,"DNS",0,"DNS",0,"DNS",0,"DNS",0,"DNS",0,"DNS",0,"DNS",0,"DNS",0,"DNS",0,"DNS",0,"DNS",0,"DNS",0,"DNS",0,"DNS",0,"DNS",0,"DNS",0,"DNS",0,"DNS",0,"DNS",0,"DNS",0,"DNS",0,{"$f":"IF('Last Race Results'!$B$5=0,0,IF(ISNA(VLOOKUP($A310,'Last Race Results'!$A$5:$J$44,2,FALSE)),\"DNS\",VLOOKUP($A310,'Last Race Results'!$A$5:$J$44,2,FALSE)))","v":"DNS"},{"$f":"IF('Last Race Results'!$B$5=0,0,IF(ISNA(VLOOKUP($A310,'Last Race Results'!$A$5:$K$44,11,FALSE)),0,VLOOKUP($A310,'Last Race Results'!$A$5:$K$44,11,FALSE)))","v":0}]
[294,{"$f":"IF(ISNA(VLOOKUP($A311,'Entry List'!$A$1:$F$61,B$5,FALSE)),\"\",VLOOKUP($A311,'Entry List'!$A$1:$F$61,B$5,FALSE))","v":""},{"$f":"IF(ISNA(VLOOKUP($A311,'Entry List'!$A$1:$F$61,C$5,FALSE)),\"\",VLOOKUP($A311,'Entry List'!$A$1:$F$61,C$5,FALSE))","v":""},{"$f":"IF(ISNA(VLOOKUP($A311,'Entry List'!$A$1:$F$61,D$5,FALSE)),\"\",VLOOKUP($A311,'Entry List'!$A$1:$F$61,D$5,FALSE))","v":""},{"$f":"IF(ISNA(VLOOKUP($A311,'Entry List'!$A$1:$F$61,E$5,FALSE)),\"\",VLOOKUP($A311,'Entry List'!$A$1:$F$61,E$5,FALSE))","v":""},null,"DNS",0,"DNS",0,"DNS",0,"DNS",0,"DNS",0,"DNS",0,"DNS",0,"DNS",0,"DNS",0,"DNS",0,"DNS",0,"DNS",0,"DNS",0,"DNS",0,"DNS",0,"DNS",0,"DNS",0,"DNS",0,"DNS",0,"DNS",0,"DNS",0,"DNS",0,"DNS",0,"DNS",0,"DNS",0,"DNS",0,"DNS",0,"DNS",0,"DNS",0,"DNS",0,"DNS",0,"DNS",0,"DNS",0,"DNS",0,"DNS",0,{"$f":"IF('Last Race Results'!$B$5=0,0,IF(ISNA(VLOOKUP($A311,'Last Race Results'!$A$5:$J$44,2,FALSE)),\"DNS\",VLOOKUP($A311,'Last Race Results'!$A$5:$J$44,2,FALSE)))","v":"DNS"},{"$f":"IF('Last Race Results'!$B$5=0,0,IF(ISNA(VLOOKUP($A311,'Last Race Results'!$A$5:$K$44,11,FALSE)),0,VLOOKUP($A311,'Last Race Results'!$A$5:$K$44,11,FALSE)))","v":0}]
[295,{"$f":"IF(ISNA(VLOOKUP($A312,'Entry List'!$A$1:$F$61,B$5,FALSE)),\"\",VLOOKUP($A312,'Entry List'!$A$1:$F$61,B$5,FALSE))","v":""},{"$f":"IF(ISNA(VLOOKUP($A312,'Entry List'!$A$1:$F$61,C$5,FALSE)),\"\",VLOOKUP($A312,'Entry List'!$A$1:$F$61,C$5,FALSE))","v":""},{"$f":"IF(ISNA(VLOOKUP($A312,'Entry List'!$A$1:$F$61,D$5,FALSE)),\"\",VLOOKUP($A312,'Entry List'!$A$1:$F$61,D$5,FALSE))","v":""},{"$f":"IF(ISNA(VLOOKUP($A312,'Entry List'!$A$1:$F$61,E$5,FALSE)),\"\",VLOOKUP($A312,'Entry List'!$A$1:$F$61,E$5,FALSE))","v":""},null,"DNS",0,"DNS",0,"DNS",0,"DNS",0,"DNS",0,"DNS",0,"DNS",0,"DNS",0,"DNS",0,"DNS",0,"DNS",0,"DNS",0,"DNS",0,"DNS",0,"DNS",0,"DNS",0,"DNS",0,"DNS",0,"DNS",0,"DNS",0,"DNS",0,"DNS",0,"DNS",0,"DNS",0,"DNS",0,"DNS",0,"DNS",0,"DNS",0,"DNS",0,"DNS",0,"DNS",0,"DNS",0,"DNS",0,"DNS",0,"DNS",0,{"$f":"IF('Last Race Results'!$B$5=0,0,IF(ISNA(VLOOKUP($A312,'Last Race Results'!$A$5:$J$44,2,FALSE)),\"DNS\",VLOOKUP($A312,'Last Race Results'!$A$5:$J$44,2,FALSE)))","v":"DNS"},{"$f":"IF('Last Race Results'!$B$5=0,0,IF(ISNA(VLOOKUP($A312,'Last Race Results'!$A$5:$K$44,11,FALSE)),0,VLOOKUP($A312,'Last Race Results'!$A$5:$K$44,11,FALSE)))","v":0}]
[296,{"$f":"IF(ISNA(VLOOKUP($A313,'Entry List'!$A$1:$F$61,B$5,FALSE)),\"\",VLOOKUP($A313,'Entry List'!$A$1:$F$61,B$5,FALSE))","v":""},{"$f":"IF(ISNA(VLOOKUP($A313,'Entry List'!$A$1:$F$61,C$5,FALSE)),\"\",VLOOKUP($A313,'Entry List'!$A$1:$F$61,C$5,FALSE))","v":""},{"$f":"IF(ISNA(VLOOKUP($A313,'Entry List'!$A$1:$F$61,D$5,FALSE)),\"\",VLOOKUP($A313,'Entry List'!$A$1:$F$61,D$5,FALSE))","v":""},{"$f":"IF(ISNA(VLOOKUP($A313,'Entry List'!$A$1:$F$61,E$5,FALSE)),\"\",VLOOKUP($A313,'Entry List'!$A$1:$F$61,E$5,FALSE))","v":""},null,"DNS",0,"DNS",0,"DNS",0,"DNS",0,"DNS",0,"DNS",0,"DNS",0,"DNS",0,"DNS",0,"DNS",0,"DNS",0,"DNS",0,"DNS",0,"DNS",0,"DNS",0,"DNS",0,"DNS",0,"DNS",0,"DNS",0,"DNS",0,"DNS",0,"DNS",0,"DNS",0,"DNS",0,"DNS",0,"DNS",0,"DNS",0,"DNS",0,"DNS",0,"DNS",0,"DNS",0,"DNS",0,"DNS",0,"DNS",0,"DNS",0,{"$f":"IF('Last Race Results'!$B$5=0,0,IF(ISNA(VLOOKUP($A313,'Last Race Results'!$A$5:$J$44,2,FALSE)),\"DNS\",VLOOKUP($A313,'Last Race Results'!$A$5:$J$44,2,FALSE)))","v":"DNS"},{"$f":"IF('Last Race Results'!$B$5=0,0,IF(ISNA(VLOOKUP($A313,'Last Race Results'!$A$5:$K$44,11,FALSE)),0,VLOOKUP($A313,'Last Race Results'!$A$5:$K$44,11,FALSE)))","v":0}]
[297,{"$f":"IF(ISNA(VLOOKUP($A314,'Entry List'!$A$1:$F$61,B$5,FALSE)),\"\",VLOOKUP($A314,'Entry List'!$A$1:$F$61,B$5,FALSE))","v":""},{"$f":"IF(ISNA(VLOOKUP($A314,'Entry List'!$A$1:$F$61,C$5,FALSE)),\"\",VLOOKUP($A314,'Entry List'!$A$1:$F$61,C$5,FALSE))","v":""},{"$f":"IF(ISNA(VLOOKUP($A314,'Entry List'!$A$1:$F$61,D$5,FALSE)),\"\",VLOOKUP($A314,'Entry List'!$A$1:$F$61,D$5,FALSE))","v":""},{"$f":"IF(ISNA(VLOOKUP($A314,'Entry List'!$A$1:$F$61,E$5,FALSE)),\"\",VLOOKUP($A314,'Entry List'!$A$1:$F$61,E$5,FALSE))","v":""},null,"DNS",0,"DNS",0,"DNS",0,"DNS",0,"DNS",0,"DNS",0,"DNS",0,"DNS",0,"DNS",0,"DNS",0,"DNS",0,"DNS",0,"DNS",0,"DNS",0,"DNS",0,"DNS",0,"DNS",0,"DNS",0,"DNS",0,"DNS",0,"DNS",0,"DNS",0,"DNS",0,"DNS",0,"DNS",0,"DNS",0,"DNS",0,"DNS",0,"DNS",0,"DNS",0,"DNS",0,"DNS",0,"DNS",0,"DNS",0,"DNS",0,{"$f":"IF('Last Race Results'!$B$5=0,0,IF(ISNA(VLOOKUP($A314,'Last Race Results'!$A$5:$J$44,2,FALSE)),\"DNS\",VLOOKUP($A314,'Last Race Results'!$A$5:$J$44,2,FALSE)))","v":"DNS"},{"$f":"IF('Last Race Results'!$B$5=0,0,IF(ISNA(VLOOKUP($A314,'Last Race Results'!$A$5:$K$44,11,FALSE)),0,VLOOKUP($A314,'Last Race Results'!$A$5:$K$44,11,FALSE)))","v":0}]
[298,{"$f":"IF(ISNA(VLOOKUP($A315,'Entry List'!$A$1:$F$61,B$5,FALSE)),\"\",VLOOKUP($A315,'Entry List'!$A$1:$F$61,B$5,FALSE))","v":""},{"$f":"IF(ISNA(VLOOKUP($A315,'Entry List'!$A$1:$F$61,C$5,FALSE)),\"\",VLOOKUP($A315,'Entry List'!$A$1:$F$61,C$5,FALSE))","v":""},{"$f":"IF(ISNA(VLOOKUP($A315,'Entry List'!$A$1:$F$61,D$5,FALSE)),\"\",VLOOKUP($A315,'Entry List'!$A$1:$F$61,D$5,FALSE))","v":""},{"$f":"IF(ISNA(VLOOKUP($A315,'Entry List'!$A$1:$F$61,E$5,FALSE)),\"\",VLOOKUP($A315,'Entry List'!$A$1:$F$61,E$5,FALSE))","v":""},null,"DNS",0,"DNS",0,"DNS",0,"DNS",0,"DNS",0,"DNS",0,"DNS",0,"DNS",0,"DNS",0,"DNS",0,"DNS",0,"DNS",0,"DNS",0,"DNS",0,"DNS",0,"DNS",0,"DNS",0,"DNS",0,"DNS",0,"DNS",0,"DNS",0,"DNS",0,"DNS",0,"DNS",0,"DNS",0,"DNS",0,"DNS",0,"DNS",0,"DNS",0,"DNS",0,"DNS",0,"DNS",0,"DNS",0,"DNS",0,"DNS",0,{"$f":"IF('Last Race Results'!$B$5=0,0,IF(ISNA(VLOOKUP($A315,'Last Race Results'!$A$5:$J$44,2,FALSE)),\"DNS\",VLOOKUP($A315,'Last Race Results'!$A$5:$J$44,2,FALSE)))","v":"DNS"},{"$f":"IF('Last Race Results'!$B$5=0,0,IF(ISNA(VLOOKUP($A315,'Last Race Results'!$A$5:$K$44,11,FALSE)),0,VLOOKUP($A315,'Last Race Results'!$A$5:$K$44,11,FALSE)))","v":0}]
[299,{"$f":"IF(ISNA(VLOOKUP($A316,'Entry List'!$A$1:$F$61,B$5,FALSE)),\"\",VLOOKUP($A316,'Entry List'!$A$1:$F$61,B$5,FALSE))","v":""},{"$f":"IF(ISNA(VLOOKUP($A316,'Entry List'!$A$1:$F$61,C$5,FALSE)),\"\",VLOOKUP($A316,'Entry List'!$A$1:$F$61,C$5,FALSE))","v":""},{"$f":"IF(ISNA(VLOOKUP($A316,'Entry List'!$A$1:$F$61,D$5,FALSE)),\"\",VLOOKUP($A316,'Entry List'!$A$1:$F$61,D$5,FALSE))","v":""},{"$f":"IF(ISNA(VLOOKUP($A316,'Entry List'!$A$1:$F$61,E$5,FALSE)),\"\",VLOOKUP($A316,'Entry List'!$A$1:$F$61,E$5,FALSE))","v":""},null,"DNS",0,"DNS",0,"DNS",0,"DNS",0,"DNS",0,"DNS",0,"DNS",0,"DNS",0,"DNS",0,"DNS",0,"DNS",0,"DNS",0,"DNS",0,"DNS",0,"DNS",0,"DNS",0,"DNS",0,"DNS",0,"DNS",0,"DNS",0,"DNS",0,"DNS",0,"DNS",0,"DNS",0,"DNS",0,"DNS",0,"DNS",0,"DNS",0,"DNS",0,"DNS",0,"DNS",0,"DNS",0,"DNS",0,"DNS",0,"DNS",0,{"$f":"IF('Last Race Results'!$B$5=0,0,IF(ISNA(VLOOKUP($A316,'Last Race Results'!$A$5:$J$44,2,FALSE)),\"DNS\",VLOOKUP($A316,'Last Race Results'!$A$5:$J$44,2,FALSE)))","v":"DNS"},{"$f":"IF('Last Race Results'!$B$5=0,0,IF(ISNA(VLOOKUP($A316,'Last Race Results'!$A$5:$K$44,11,FALSE)),0,VLOOKUP($A316,'Last Race Results'!$A$5:$K$44,11,FALSE)))","v":0}]
[300,{"$f":"IF(ISNA(VLOOKUP($A317,'Entry List'!$A$1:$F$61,B$5,FALSE)),\"\",VLOOKUP($A317,'Entry List'!$A$1:$F$61,B$5,FALSE))","v":""},{"$f":"IF(ISNA(VLOOKUP($A317,'Entry List'!$A$1:$F$61,C$5,FALSE)),\"\",VLOOKUP($A317,'Entry List'!$A$1:$F$61,C$5,FALSE))","v":""},{"$f":"IF(ISNA(VLOOKUP($A317,'Entry List'!$A$1:$F$61,D$5,FALSE)),\"\",VLOOKUP($A317,'Entry List'!$A$1:$F$61,D$5,FALSE))","v":""},{"$f":"IF(ISNA(VLOOKUP($A317,'Entry List'!$A$1:$F$61,E$5,FALSE)),\"\",VLOOKUP($A317,'Entry List'!$A$1:$F$61,E$5,FALSE))","v":""},null,"DNS",0,"DNS",0,"DNS",0,"DNS",0,"DNS",0,"DNS",0,"DNS",0,"DNS",0,"DNS",0,"DNS",0,"DNS",0,"DNS",0,"DNS",0,"DNS",0,"DNS",0,"DNS",0,"DNS",0,"DNS",0,"DNS",0,"DNS",0,"DNS",0,"DNS",0,"DNS",0,"DNS",0,"DNS",0,"DNS",0,"DNS",0,"DNS",0,"DNS",0,"DNS",0,"DNS",0,"DNS",0,"DNS",0,"DNS",0,"DNS",0,{"$f":"IF('Last Race Results'!$B$5=0,0,IF(ISNA(VLOOKUP($A317,'Last Race Results'!$A$5:$J$44,2,FALSE)),\"DNS\",VLOOKUP($A317,'Last Race Results'!$A$5:$J$44,2,FALSE)))","v":"DNS"},{"$f":"IF('Last Race Results'!$B$5=0,0,IF(ISNA(VLOOKUP($A317,'Last Race Results'!$A$5:$K$44,11,FALSE)),0,VLOOKUP($A317,'Last Race Results'!$A$5:$K$44,11,FALSE)))","v":0}]
[null,"Segment 1 Winner",null,null,null,null,18,null,42,null,4,null,12,null,18,null,2,null,22,null,13,null,18,null,13,null,22,null,4,null,2,null,42,null,22,null,24,null,11,null,22,null,1,null,18,null,18,null,9,null,19,null,42,null,1,null,14,null,22,null,19,null,42,null,11,null,24,null,19,null,19,null,4,null,11,null,{"$f":"VALUE(RIGHT(INDIRECT(ADDRESS(MATCH(10,'Last Race Results'!$I$5:$I$44,0)+4,1,1,1,\"last race results\")),LEN(INDIRECT(ADDRESS(MATCH(10,'Last Race Results'!$I$5:$I$44,0)+4,1,1,1,\"last race results\")))))","v":{"$error":"#N/A"}}]
[null,"Segment 2 Winner",null,null,null,null,12,null,4,null,22,null,18,null,18,null,2,null,11,null,22,null,22,null,9,null,19,null,9,null,2,null,42,null,3,null,11,null,4,null,3,null,18,null,10,null,48,null,9,null,18,null,1,null,18,null,6,null,19,null,18,null,9,null,19,null,14,null,19,null,19,null,10,null,22,null,{"$f":"VALUE(RIGHT(INDIRECT(ADDRESS(MATCH(10,'Last Race Results'!$J$5:$J$44,0)+4,1,1,1,\"last race results\")),LEN(INDIRECT(ADDRESS(MATCH(10,'Last Race Results'!$J$5:$J$44,0)+4,1,1,1,\"last race results\")))))","v":{"$error":"#N/A"}}]
[null,"Segment 3 Winner",null,null,null,null,11,null,2,null,22,null,18,null,18,null,2,null,11,null,18,null,19,null,9,null,19,null,2,null,19,null,18,null,22,null,"f",null,"f",null,"f",null,1,null,4,null,11,null,9,null,4,null,11,null,20,null,2,null,19,null,19,null,9,null,42,null,12,null,19,null,19,null,4,null,11,null,{"$f":"VALUE(RIGHT(INDIRECT(ADDRESS(MATCH(1,'Last Race Results'!$B$5:$B$44,0)+4,1,1,1,\"last race results\")),LEN(INDIRECT(ADDRESS(MATCH(1,'Last Race Results'!$B$5:$B$44,0)+4,1,1,1,\"last race results\")))))","v":18}]
[null,null,null,null,null,null,"Y",null,"Y",null,"Y",null,"Y",null,"Y",null,"Y",null,"Y",null,"Y",null,"Y",null,"Y",null,"Y",null,"Y",null,"Y",null,"Y",null,"Y",null,"Y",null,"Y",null,"Y",null,"Y",null,"Y",null,"Y",null,"Y",null,"Y",null,"Y",null,"Y",null,"Y",null,"Y",null,"Y",null,"Y",null,"Y",null,"Y",null,"Y",null,"Y",null,"Y",null,"Y",null,"Y"]

{"sheet":"Jeff Buehrle","index":8,"n_rows":28,"n_cols":35,"rows_kept":28,"cut":false,"hidden":false,"merged":[[4,32,4,33],[20,28,20,29],[20,30,20,31],[20,32,20,33],[3,22,3,23],[20,22,20,23],[4,28,4,29],[4,30,4,31],[4,26,4,27],[4,22,4,23],[4,24,4,25],[20,24,20,25],[20,26,20,27],[0,28,0,29],[0,30,0,31],[0,32,0,33],[1,28,1,29],[1,30,1,31],[1,32,1,33],[2,28,2,29],[2,30,2,31],[2,32,2,33],[3,28,3,29],[3,30,3,31],[3,32,3,33],[20,14,20,15],[20,16,20,17],[20,18,20,19],[20,20,20,21],[4,16,4,17],[4,18,4,19],[4,20,4,21],[4,14,4,15],[0,22,0,23],[0,24,0,25],[0,26,0,27],[1,14,1,15],[1,16,1,17],[1,18,1,19],[1,20,1,21],[1,22,1,23],[1,24,1,25],[1,26,1,27],[0,14,0,15],[0,16,0,17],[0,18,0,19],[0,20,0,21],[2,14,2,15],[2,16,2,17],[3,14,3,15],[3,16,3,17],[2,18,2,19],[3,18,3,19],[2,20,2,21],[2,22,2,23],[2,24,2,25],[2,26,2,27],[3,20,3,21],[3,24,3,25],[3,26,3,27]]}
[null,null,null,null,null,null,null,null,null,null,null,null,null,null,{"$f":"VLOOKUP(O$5,Schedule!$A$8:$J$43,2,FALSE)","v":"2019-09-15"},null,{"$f":"VLOOKUP(Q$5,Schedule!$A$8:$J$43,2,FALSE)","v":"2019-09-21"},null,{"$f":"VLOOKUP(S$5,Schedule!$A$8:$J$43,2,FALSE)","v":"2019-09-29"},null,{"$f":"VLOOKUP(U$5,Schedule!$A$8:$J$43,2,FALSE)","v":"2019-10-06"},null,{"$f":"VLOOKUP(W$5,Schedule!$A$8:$J$43,2,FALSE)","v":"2019-10-13"},null,{"$f":"VLOOKUP(Y$5,Schedule!$A$8:$J$43,2,FALSE)","v":"2019-10-20"},null,{"$f":"VLOOKUP(AA$5,Schedule!$A$8:$J$43,2,FALSE)","v":"2019-10-27"},null,{"$f":"VLOOKUP(AC$5,Schedule!$A$8:$J$43,2,FALSE)","v":"2019-11-03"},null,{"$f":"VLOOKUP(AE$5,Schedule!$A$8:$J$43,2,FALSE)","v":"2019-11-10"},null,{"$f":"VLOOKUP(AG$5,Schedule!$A$8:$J$43,2,FALSE)","v":"2019-11-17"}]
[null,null,null,null,null,null,null,null,null,null,null,null,null,null,{"$f":"LEFT(VLOOKUP(O$5,Schedule!$A$8:$J$43,3,FALSE),15)","v":"South Point 400"},null,{"$f":"LEFT(VLOOKUP(Q$5,Schedule!$A$8:$J$43,3,FALSE),15)","v":"Federated Auto "},null,{"$f":"LEFT(VLOOKUP(S$5,Schedule!$A$8:$J$43,3,FALSE),15)","v":"Bank of America"},null,{"$f":"LEFT(VLOOKUP(U$5,Schedule!$A$8:$J$43,3,FALSE),15)","v":"MENCS Race at D"},null,{"$f":"LEFT(VLOOKUP(W$5,Schedule!$A$8:$J$43,3,FALSE),15)","v":"1000Bulbs.com 5"},null,{"$f":"LEFT(VLOOKUP(Y$5,Schedule!$A$8:$J$43,3,FALSE),15)","v":"Hollywood Casin"},null,{"$f":"LEFT(VLOOKUP(AA$5,Schedule!$A$8:$J$43,3,FALSE),15)","v":"First Data 500"},null,{"$f":"LEFT(VLOOKUP(AC$5,Schedule!$A$8:$J$43,3,FALSE),15)","v":"AAA Texas 500"},null,{"$f":"LEFT(VLOOKUP(AE$5,Schedule!$A$8:$J$43,3,FALSE),15)","v":"MENCS Race at I"},null,{"$f":"LEFT(VLOOKUP(AG$5,Schedule!$A$8:$J$43,3,FALSE),15)","v":"Ford EcoBoost 4"}]
[null,null,null,null,null,null,null,null,null,null,null,null,null,null,{"$f":"VLOOKUP(O$5,Schedule!$A$8:$J$43,2,FALSE)","v":"2019-09-15"},null,{"$f":"VLOOKUP(Q$5,Schedule!$A$8:$J$43,2,FALSE)","v":"2019-09-21"},null,{"$f":"VLOOKUP(S$5,Schedule!$A$8:$J$43,2,FALSE)","v":"2019-09-29"},null,{"$f":"VLOOKUP(U$5,Schedule!$A$8:$J$43,2,FALSE)","v":"2019-10-06"},null,{"$f":"VLOOKUP(W$5,Schedule!$A$8:$J$43,2,FALSE)","v":"2019-10-13"},null,{"$f":"VLOOKUP(Y$5,Schedule!$A$8:$J$43,2,FALSE)","v":"2019-10-20"},null,{"$f":"VLOOKUP(AA$5,Schedule!$A$8:$J$43,2,FALSE)","v":"2019-10-27"},null,{"$f":"VLOOKUP(AC$5,Schedule!$A$8:$J$43,2,FALSE)","v":"2019-11-03"},null,{"$f":"VLOOKUP(AE$5,Schedule!$A$8:$J$43,2,FALSE)","v":"2019-11-10"},null,{"$f":"VLOOKUP(AG$5,Schedule!$A$8:$J$43,2,FALSE)","v":"2019-11-17"}]
[null,null,null,null,null,null,null,null,null,null,null,null,null,null,{"$f":"VLOOKUP(O$5,Schedule!$A$4:$J$43,5,FALSE)","v":"Las Vegas"},null,{"$f":"VLOOKUP(Q$5,Schedule!$A$4:$J$43,5,FALSE)","v":"Richmond "},null,{"$f":"VLOOKUP(S$5,Schedule!$A$4:$J$43,5,FALSE)","v":"Charlotte "},null,{"$f":"VLOOKUP(U$5,Schedule!$A$4:$J$43,5,FALSE)","v":"Dover "},null,{"$f":"VLOOKUP(W$5,Schedule!$A$4:$J$43,5,FALSE)","v":"Talladega "},null,{"$f":"VLOOKUP(Y$5,Schedule!$A$4:$J$43,5,FALSE)","v":"Kansas "},null,{"$f":"VLOOKUP(AA$5,Schedule!$A$4:$J$43,5,FALSE)","v":"Martinsville "},null,{"$f":"VLOOKUP(AC$5,Schedule!$A$4:$J$43,5,FALSE)","v":"Texas "},null,{"$f":"VLOOKUP(AE$5,Schedule!$A$4:$J$43,5,FALSE)","v":"Phoenix"},null,{"$f":"VLOOKUP(AG$5,Schedule!$A$4:$J$43,5,FALSE)","v":"Homestead–Miami "}]
["Owner","Week","Week","Week","Week","Week","Week","Week","Week","Week","Week",2,3,4,27,null,28,null,29,null,30,null,31,null,32,null,33,null,34,null,35,null,36,null,"Total"]
["Points",27,28,29,30,31,32,33,34,35,36,"Driver","Make","Sponsor","Points","Bonus","Points","Bonus","Points","Bonus","Points","Bonus","Points","Bonus","Points","Bonus","Points","Bonus","Points","Bonus","Points","Bonus","Points","Bonus","Points"]
[{"$f":"VLOOKUP(HLOOKUP('Pick Distribution'!$P$2,$B$6:$K$15,$L$5),'Current Owner Standings'!$A$71:$B$480,2,FALSE)","v":4},22,22,9,9,24,2,19,11,18,18,{"$f":"IF(ISNA(VLOOKUP($K7,'Cars & Results'!$A$6:$K$317,L$5,FALSE)),\"Invalid Number\",VLOOKUP($K7,'Cars & Results'!$A$6:$K$317,L$5,FALSE))","v":"Kyle Busch"},{"$f":"IF(ISNA(VLOOKUP($K7,'Cars & Results'!$A$6:$K$317,M$5,FALSE)),\"Invalid Number\",VLOOKUP($K7,'Cars & Results'!$A$6:$K$317,M$5,FALSE))","v":"Toyota"},{"$f":"IF(ISNA(VLOOKUP($K7,'Cars & Results'!$A$6:$K$317,N$5,FALSE)),\"Invalid Number\",VLOOKUP($K7,'Cars & Results'!$A$6:$K$317,N$5,FALSE))","v":"Joe Gibbs Racing"},{"$f":"IF(HLOOKUP(O$5,$B$6:$K$15,Points!$A3+1,FALSE)=\"TBD\",\"\",VLOOKUP(HLOOKUP(O$5,$B$6:$K$15,Points!$A3+1,FALSE),'Cars & Results'!$A$7:$BZ$317,2*O$5+6,FALSE))","v":47},{"$f":"IF(HLOOKUP(O$5,$B$6:$K$15,Points!$A3+1,FALSE)=\"TBD\",\"\",0)","v":0},{"$f":"IF(HLOOKUP(Q$5,$B$6:$K$15,Points!$A3+1,FALSE)=\"TBD\",\"\",VLOOKUP(HLOOKUP(Q$5,$B$6:$K$15,Points!$A3+1,FALSE),'Cars & Results'!$A$7:$BZ$317,2*Q$5+6,FALSE))","v":26},{"$f":"IF(HLOOKUP(Q$5,$B$6:$K$15,Points!$A3+1,FALSE)=\"TBD\",\"\",0)","v":0},{"$f":"IF(HLOOKUP(S$5,$B$6:$K$15,Points!$A3+1,FALSE)=\"TBD\",\"\",VLOOKUP(HLOOKUP(S$5,$B$6:$K$15,Points!$A3+1,FALSE),'Cars & Results'!$A$7:$BZ$317,2*S$5+6,FALSE))","v":52},{"$f":"IF(HLOOKUP(S$5,$B$6:$K$15,Points!$A3+1,FALSE)=\"TBD\",\"\",0)","v":0},{"$f":"IF(HLOOKUP(U$5,$B$6:$K$15,Points!$A3+1,FALSE)=\"TBD\",\"\",VLOOKUP(HLOOKUP(U$5,$B$6:$K$15,Points!$A3+1,FALSE),'Cars & Results'!$A$7:$BZ$317,2*U$5+6,FALSE))","v":1},{"$f":"IF(HLOOKUP(U$5,$B$6:$K$15,Points!$A3+1,FALSE)=\"TBD\",\"\",0)","v":0},{"$f":"IF(HLOOKUP(W$5,$B$6:$K$15,Points!$A3+1,FALSE)=\"TBD\",\"\",VLOOKUP(HLOOKUP(W$5,$B$6:$K$15,Points!$A3+1,FALSE),'Cars & Results'!$A$7:$BZ$317,2*W$5+6,FALSE))","v":17},{"$f":"IF(HLOOKUP(W$5,$B$6:$K$15,Points!$A3+1,FALSE)=\"TBD\",\"\",0)","v":0},{"$f":"IF(HLOOKUP(Y$5,$B$6:$K$15,Points!$A3+1,FALSE)=\"TBD\",\"\",VLOOKUP(HLOOKUP(Y$5,$B$6:$K$15,Points!$A3+1,FALSE),'Cars & Results'!$A$7:$BZ$317,2*Y$5+6,FALSE))","v":35},{"$f":"IF(HLOOKUP(Y$5,$B$6:$K$15,Points!$A3+1,FALSE)=\"TBD\",\"\",0)","v":0},{"$f":"IF(HLOOKUP(AA$5,$B$6:$K$15,Points!$A3+1,FALSE)=\"TBD\",\"\",VLOOKUP(HLOOKUP(AA$5,$B$6:$K$15,Points!$A3+1,FALSE),'Cars & Results'!$A$7:$BZ$317,2*AA$5+6,FALSE))","v":60},{"$f":"IF(HLOOKUP(AA$5,$B$6:$K$15,Points!$A3+1,FALSE)=\"TBD\",\"\",0)","v":0},{"$f":"IF(HLOOKUP(AC$5,$B$6:$K$15,Points!$A3+1,FALSE)=\"TBD\",\"\",VLOOKUP(HLOOKUP(AC$5,$B$6:$K$15,Points!$A3+1,FALSE),'Cars & Results'!$A$7:$BZ$317,2*AC$5+6,FALSE))","v":9},{"$f":"IF(HLOOKUP(AC$5,$B$6:$K$15,Points!$A3+1,FALSE)=\"TBD\",\"\",0)","v":0},{"$f":"IF(HLOOKUP(AE$5,$B$6:$K$15,Points!$A3+1,FALSE)=\"TBD\",\"\",VLOOKUP(HLOOKUP(AE$5,$B$6:$K$15,Points!$A3+1,FALSE),'Cars & Results'!$A$7:$BZ$317,2*AE$5+6,FALSE))","v":50},{"$f":"IF(HLOOKUP(AE$5,$B$6:$K$15,Points!$A3+1,FALSE)=\"TBD\",\"\",0)","v":0},{"$f":"IF(HLOOKUP(AG$5,$B$6:$K$15,Points!$A3+1,FALSE)=\"TBD\",\"\",VLOOKUP(HLOOKUP(AG$5,$B$6:$K$15,Points!$A3+1,FALSE),'Cars & Results'!$A$7:$BZ$317,2*AG$5+6,FALSE))","v":40},{"$f":"IF(HLOOKUP(AG$5,$B$6:$K$15,Points!$A3+1,FALSE)=\"TBD\",\"\",0)","v":0}]
[{"$f":"VLOOKUP(HLOOKUP('Pick Distribution'!$P$2,$B$6:$K$15,3),'Current Owner Standings'!$A$71:$B$480,2,FALSE)","v":11},42,20,12,20,22,9,14,20,10,9,{"$f":"IF(ISNA(VLOOKUP($K8,'Cars & Results'!$A$6:$K$317,L$5,FALSE)),\"Invalid Number\",VLOOKUP($K8,'Cars & Results'!$A$6:$K$317,L$5,FALSE))","v":"Chase Elliott"},{"$f":"IF(ISNA(VLOOKUP($K8,'Cars & Results'!$A$6:$K$317,M$5,FALSE)),\"Invalid Number\",VLOOKUP($K8,'Cars & Results'!$A$6:$K$317,M$5,FALSE))","v":"Chevrolet"},{"$f":"IF(ISNA(VLOOKUP($K8,'Cars & Results'!$A$6:$K$317,N$5,FALSE)),\"Invalid Number\",VLOOKUP($K8,'Cars & Results'!$A$6:$K$317,N$5,FALSE))","v":"Hendrick Motorsports"},{"$f":"IF(HLOOKUP(O$5,$B$6:$K$15,Points!$A4+1,FALSE)=\"TBD\",\"\",VLOOKUP(HLOOKUP(O$5,$B$6:$K$15,Points!$A4+1,FALSE),'Cars & Results'!$A$7:$BZ$317,2*O$5+6,FALSE))","v":39},{"$f":"IF(HLOOKUP(O$5,$B$6:$KI$15,Points!$A4+1,FALSE)=\"TBD\",\"\",IF(VLOOKUP(HLOOKUP(O$5,$B$6:$K$15,Points!$A4+1,FALSE),'Cars & Results'!$A$7:$BZ$317,2*O$5+5)=1,O8*0.25,0))","v":0},{"$f":"IF(HLOOKUP(Q$5,$B$6:$K$15,Points!$A4+1,FALSE)=\"TBD\",\"\",VLOOKUP(HLOOKUP(Q$5,$B$6:$K$15,Points!$A4+1,FALSE),'Cars & Results'!$A$7:$BZ$317,2*Q$5+6,FALSE))","v":1},{"$f":"IF(HLOOKUP(Q$5,$B$6:$KI$15,Points!$A4+1,FALSE)=\"TBD\",\"\",IF(VLOOKUP(HLOOKUP(Q$5,$B$6:$K$15,Points!$A4+1,FALSE),'Cars & Results'!$A$7:$BZ$317,2*Q$5+5)=1,Q8*0.25,0))","v":0},{"$f":"IF(HLOOKUP(S$5,$B$6:$K$15,Points!$A4+1,FALSE)=\"TBD\",\"\",VLOOKUP(HLOOKUP(S$5,$B$6:$K$15,Points!$A4+1,FALSE),'Cars & Results'!$A$7:$BZ$317,2*S$5+6,FALSE))","v":34},{"$f":"IF(HLOOKUP(S$5,$B$6:$KI$15,Points!$A4+1,FALSE)=\"TBD\",\"\",IF(VLOOKUP(HLOOKUP(S$5,$B$6:$K$15,Points!$A4+1,FALSE),'Cars & Results'!$A$7:$BZ$317,2*S$5+5)=1,S8*0.25,0))","v":0},{"$f":"IF(HLOOKUP(U$5,$B$6:$K$15,Points!$A4+1,FALSE)=\"TBD\",\"\",VLOOKUP(HLOOKUP(U$5,$B$6:$K$15,Points!$A4+1,FALSE),'Cars & Results'!$A$7:$BZ$317,2*U$5+6,FALSE))","v":28},{"$f":"IF(HLOOKUP(U$5,$B$6:$KI$15,Points!$A4+1,FALSE)=\"TBD\",\"\",IF(VLOOKUP(HLOOKUP(U$5,$B$6:$K$15,Points!$A4+1,FALSE),'Cars & Results'!$A$7:$BZ$317,2*U$5+5)=1,U8*0.25,0))","v":0},{"$f":"IF(HLOOKUP(W$5,$B$6:$K$15,Points!$A4+1,FALSE)=\"TBD\",\"\",VLOOKUP(HLOOKUP(W$5,$B$6:$K$15,Points!$A4+1,FALSE),'Cars & Results'!$A$7:$BZ$317,2*W$5+6,FALSE))","v":44},{"$f":"IF(HLOOKUP(W$5,$B$6:$KI$15,Points!$A4+1,FALSE)=\"TBD\",\"\",IF(VLOOKUP(HLOOKUP(W$5,$B$6:$K$15,Points!$A4+1,FALSE),'Cars & Results'!$A$7:$BZ$317,2*W$5+5)=1,W8*0.25,0))","v":0},{"$f":"IF(HLOOKUP(Y$5,$B$6:$K$15,Points!$A4+1,FALSE)=\"TBD\",\"\",VLOOKUP(HLOOKUP(Y$5,$B$6:$K$15,Points!$A4+1,FALSE),'Cars & Results'!$A$7:$BZ$317,2*Y$5+6,FALSE))","v":4},{"$f":"IF(HLOOKUP(Y$5,$B$6:$KI$15,Points!$A4+1,FALSE)=\"TBD\",\"\",IF(VLOOKUP(HLOOKUP(Y$5,$B$6:$K$15,Points!$A4+1,FALSE),'Cars & Results'!$A$7:$BZ$317,2*Y$5+5)=1,Y8*0.25,0))","v":0},{"$f":"IF(HLOOKUP(AA$5,$B$6:$K$15,Points!$A4+1,FALSE)=\"TBD\",\"\",VLOOKUP(HLOOKUP(AA$5,$B$6:$K$15,Points!$A4+1,FALSE),'Cars & Results'!$A$7:$BZ$317,2*AA$5+6,FALSE))","v":9},{"$f":"IF(HLOOKUP(AA$5,$B$6:$KI$15,Points!$A4+1,FALSE)=\"TBD\",\"\",IF(VLOOKUP(HLOOKUP(AA$5,$B$6:$K$15,Points!$A4+1,FALSE),'Cars & Results'!$A$7:$BZ$317,2*AA$5+5)=1,AA8*0.25,0))","v":0},{"$f":"IF(HLOOKUP(AC$5,$B$6:$K$15,Points!$A4+1,FALSE)=\"TBD\",\"\",VLOOKUP(HLOOKUP(AC$5,$B$6:$K$15,Points!$A4+1,FALSE),'Cars & Results'!$A$7:$BZ$317,2*AC$5+6,FALSE))","v":36},{"$f":"IF(HLOOKUP(AC$5,$B$6:$KI$15,Points!$A4+1,FALSE)=\"TBD\",\"\",IF(VLOOKUP(HLOOKUP(AC$5,$B$6:$K$15,Points!$A4+1,FALSE),'Cars & Results'!$A$7:$BZ$317,2*AC$5+5)=1,AC8*0.25,0))","v":0},{"$f":"IF(HLOOKUP(AE$5,$B$6:$K$15,Points!$A4+1,FALSE)=\"TBD\",\"\",VLOOKUP(HLOOKUP(AE$5,$B$6:$K$15,Points!$A4+1,FALSE),'Cars & Results'!$A$7:$BZ$317,2*AE$5+6,FALSE))","v":15},{"$f":"IF(HLOOKUP(AE$5,$B$6:$KI$15,Points!$A4+1,FALSE)=\"TBD\",\"\",IF(VLOOKUP(HLOOKUP(AE$5,$B$6:$K$15,Points!$A4+1,FALSE),'Cars & Results'!$A$7:$BZ$317,2*AE$5+5)=1,AE8*0.25,0))","v":0},{"$f":"IF(HLOOKUP(AG$5,$B$6:$K$15,Points!$A4+1,FALSE)=\"TBD\",\"\",VLOOKUP(HLOOKUP(AG$5,$B$6:$K$15,Points!$A4+1,FALSE),'Cars & Results'!$A$7:$BZ$317,2*AG$5+6,FALSE))","v":22},{"$f":"IF(HLOOKUP(AG$5,$B$6:$KI$15,Points!$A4+1,FALSE)=\"TBD\",\"\",IF(VLOOKUP(HLOOKUP(AG$5,$B$6:$K$15,Points!$A4+1,FALSE),'Cars & Results'!$A$7:$BZ$317,2*AG$5+5)=1,AG8*0.25,0))","v":0}]
[{"$f":"VLOOKUP(HLOOKUP('Pick Distribution'!$P$2,$B$6:$K$15,4),'Current Owner Standings'!$A$71:$B$480,2,FALSE)","v":21},48,48,48,48,48,48,48,48,48,95,{"$f":"IF(ISNA(VLOOKUP($K9,'Cars & Results'!$A$6:$K$317,L$5,FALSE)),\"Invalid Number\",VLOOKUP($K9,'Cars & Results'!$A$6:$K$317,L$5,FALSE))","v":"Matt DiBenedetto"},{"$f":"IF(ISNA(VLOOKUP($K9,'Cars & Results'!$A$6:$K$317,M$5,FALSE)),\"Invalid Number\",VLOOKUP($K9,'Cars & Results'!$A$6:$K$317,M$5,FALSE))","v":"Toyota"},{"$f":"IF(ISNA(VLOOKUP($K9,'Cars & Results'!$A$6:$K$317,N$5,FALSE)),\"Invalid Number\",VLOOKUP($K9,'Cars & Results'!$A$6:$K$317,N$5,FALSE))","v":"Leavine Family Racing"},{"$f":"IF(HLOOKUP(O$5,$B$6:$K$15,Points!$A5+1,FALSE)=\"TBD\",\"\",VLOOKUP(HLOOKUP(O$5,$B$6:$K$15,Points!$A5+1,FALSE),'Cars & Results'!$A$7:$BZ$317,2*O$5+6,FALSE))","v":26},{"$f":"IF(HLOOKUP(O$5,$B$6:$K$15,Points!$A5+1,FALSE)=\"TBD\",\"\",IF(VLOOKUP(HLOOKUP(O$5,$B$6:$K$15,Points!$A5+1,FALSE),'Cars & Results'!$A$7:$BZ$317,2*O$5+5)<=5,O9*0.5,0))","v":0},{"$f":"IF(HLOOKUP(Q$5,$B$6:$K$15,Points!$A5+1,FALSE)=\"TBD\",\"\",VLOOKUP(HLOOKUP(Q$5,$B$6:$K$15,Points!$A5+1,FALSE),'Cars & Results'!$A$7:$BZ$317,2*Q$5+6,FALSE))","v":31},{"$f":"IF(HLOOKUP(Q$5,$B$6:$K$15,Points!$A5+1,FALSE)=\"TBD\",\"\",IF(VLOOKUP(HLOOKUP(Q$5,$B$6:$K$15,Points!$A5+1,FALSE),'Cars & Results'!$A$7:$BZ$317,2*Q$5+5)<=5,Q9*0.5,0))","v":0},{"$f":"IF(HLOOKUP(S$5,$B$6:$K$15,Points!$A5+1,FALSE)=\"TBD\",\"\",VLOOKUP(HLOOKUP(S$5,$B$6:$K$15,Points!$A5+1,FALSE),'Cars & Results'!$A$7:$BZ$317,2*S$5+6,FALSE))","v":35},{"$f":"IF(HLOOKUP(S$5,$B$6:$K$15,Points!$A5+1,FALSE)=\"TBD\",\"\",IF(VLOOKUP(HLOOKUP(S$5,$B$6:$K$15,Points!$A5+1,FALSE),'Cars & Results'!$A$7:$BZ$317,2*S$5+5)<=5,S9*0.5,0))","v":0},{"$f":"IF(HLOOKUP(U$5,$B$6:$K$15,Points!$A5+1,FALSE)=\"TBD\",\"\",VLOOKUP(HLOOKUP(U$5,$B$6:$K$15,Points!$A5+1,FALSE),'Cars & Results'!$A$7:$BZ$317,2*U$5+6,FALSE))","v":39},{"$f":"IF(HLOOKUP(U$5,$B$6:$K$15,Points!$A5+1,FALSE)=\"TBD\",\"\",IF(VLOOKUP(HLOOKUP(U$5,$B$6:$K$15,Points!$A5+1,FALSE),'Cars & Results'!$A$7:$BZ$317,2*U$5+5)<=5,U9*0.5,0))","v":0},{"$f":"IF(HLOOKUP(W$5,$B$6:$K$15,Points!$A5+1,FALSE)=\"TBD\",\"\",VLOOKUP(HLOOKUP(W$5,$B$6:$K$15,Points!$A5+1,FALSE),'Cars & Results'!$A$7:$BZ$317,2*W$5+6,FALSE))","v":5},{"$f":"IF(HLOOKUP(W$5,$B$6:$K$15,Points!$A5+1,FALSE)=\"TBD\",\"\",IF(VLOOKUP(HLOOKUP(W$5,$B$6:$K$15,Points!$A5+1,FALSE),'Cars & Results'!$A$7:$BZ$317,2*W$5+5)<=5,W9*0.5,0))","v":0},{"$f":"IF(HLOOKUP(Y$5,$B$6:$K$15,Points!$A5+1,FALSE)=\"TBD\",\"\",VLOOKUP(HLOOKUP(Y$5,$B$6:$K$15,Points!$A5+1,FALSE),'Cars & Results'!$A$7:$BZ$317,2*Y$5+6,FALSE))","v":1},{"$f":"IF(HLOOKUP(Y$5,$B$6:$K$15,Points!$A5+1,FALSE)=\"TBD\",\"\",IF(VLOOKUP(HLOOKUP(Y$5,$B$6:$K$15,Points!$A5+1,FALSE),'Cars & Results'!$A$7:$BZ$317,2*Y$5+5)<=5,Y9*0.5,0))","v":0},{"$f":"IF(HLOOKUP(AA$5,$B$6:$K$15,Points!$A5+1,FALSE)=\"TBD\",\"\",VLOOKUP(HLOOKUP(AA$5,$B$6:$K$15,Points!$A5+1,FALSE),'Cars & Results'!$A$7:$BZ$317,2*AA$5+6,FALSE))","v":1},{"$f":"IF(HLOOKUP(AA$5,$B$6:$K$15,Points!$A5+1,FALSE)=\"TBD\",\"\",IF(VLOOKUP(HLOOKUP(AA$5,$B$6:$K$15,Points!$A5+1,FALSE),'Cars & Results'!$A$7:$BZ$317,2*AA$5+5)<=5,AA9*0.5,0))","v":0},{"$f":"IF(HLOOKUP(AC$5,$B$6:$K$15,Points!$A5+1,FALSE)=\"TBD\",\"\",VLOOKUP(HLOOKUP(AC$5,$B$6:$K$15,Points!$A5+1,FALSE),'Cars & Results'!$A$7:$BZ$317,2*AC$5+6,FALSE))","v":11},{"$f":"IF(HLOOKUP(AC$5,$B$6:$K$15,Points!$A5+1,FALSE)=\"TBD\",\"\",IF(VLOOKUP(HLOOKUP(AC$5,$B$6:$K$15,Points!$A5+1,FALSE),'Cars & Results'!$A$7:$BZ$317,2*AC$5+5)<=5,AC9*0.5,0))","v":0},{"$f":"IF(HLOOKUP(AE$5,$B$6:$K$15,Points!$A5+1,FALSE)=\"TBD\",\"\",VLOOKUP(HLOOKUP(AE$5,$B$6:$K$15,Points!$A5+1,FALSE),'Cars & Results'!$A$7:$BZ$317,2*AE$5+6,FALSE))","v":23},{"$f":"IF(HLOOKUP(AE$5,$B$6:$K$15,Points!$A5+1,FALSE)=\"TBD\",\"\",IF(VLOOKUP(HLOOKUP(AE$5,$B$6:$K$15,Points!$A5+1,FALSE),'Cars & Results'!$A$7:$BZ$317,2*AE$5+5)<=5,AE9*0.5,0))","v":0},{"$f":"IF(HLOOKUP(AG$5,$B$6:$K$15,Points!$A5+1,FALSE)=\"TBD\",\"\",VLOOKUP(HLOOKUP(AG$5,$B$6:$K$15,Points!$A5+1,FALSE),'Cars & Results'!$A$7:$BZ$317,2*AG$5+6,FALSE))","v":17},{"$f":"IF(HLOOKUP(AG$5,$B$6:$K$15,Points!$A5+1,FALSE)=\"TBD\",\"\",IF(VLOOKUP(HLOOKUP(AG$5,$B$6:$K$15,Points!$A5+1,FALSE),'Cars & Results'!$A$7:$BZ$317,2*AG$5+5)<=5,AG9*0.5,0))","v":0}]
[{"$f":"VLOOKUP(HLOOKUP('Pick Distribution'!$P$2,$B$6:$K$15,5),'Current Owner Standings'!$A$71:$B$480,2,FALSE)","v":17},41,41,41,41,41,3,17,17,41,41,{"$f":"IF(ISNA(VLOOKUP($K10,'Cars & Results'!$A$6:$K$317,L$5,FALSE)),\"Invalid Number\",VLOOKUP($K10,'Cars & Results'!$A$6:$K$317,L$5,FALSE))","v":"Daniel Suárez"},{"$f":"IF(ISNA(VLOOKUP($K10,'Cars & Results'!$A$6:$K$317,M$5,FALSE)),\"Invalid Number\",VLOOKUP($K10,'Cars & Results'!$A$6:$K$317,M$5,FALSE))","v":"Ford"},{"$f":"IF(ISNA(VLOOKUP($K10,'Cars & Results'!$A$6:$K$317,N$5,FALSE)),\"Invalid Number\",VLOOKUP($K10,'Cars & Results'!$A$6:$K$317,N$5,FALSE))","v":"Stewart-Haas Racing"},{"$f":"IF(HLOOKUP(O$5,$B$6:$K$15,Points!$A6+1,FALSE)=\"TBD\",\"\",VLOOKUP(HLOOKUP(O$5,$B$6:$K$15,Points!$A6+1,FALSE),'Cars & Results'!$A$7:$BZ$317,2*O$5+6,FALSE))","v":24},{"$f":"IF(HLOOKUP(O$5,$B$6:$K$15,Points!$A6+1,FALSE)=\"TBD\",\"\",IF(VLOOKUP(HLOOKUP(O$5,$B$6:$K$15,Points!$A6+1,FALSE),'Cars & Results'!$A$7:$BZ$317,2*O$5+5)<=5,O10*0.5,0))","v":0},{"$f":"IF(HLOOKUP(Q$5,$B$6:$K$15,Points!$A6+1,FALSE)=\"TBD\",\"\",VLOOKUP(HLOOKUP(Q$5,$B$6:$K$15,Points!$A6+1,FALSE),'Cars & Results'!$A$7:$BZ$317,2*Q$5+6,FALSE))","v":28},{"$f":"IF(HLOOKUP(Q$5,$B$6:$K$15,Points!$A6+1,FALSE)=\"TBD\",\"\",IF(VLOOKUP(HLOOKUP(Q$5,$B$6:$K$15,Points!$A6+1,FALSE),'Cars & Results'!$A$7:$BZ$317,2*Q$5+5)<=5,Q10*0.5,0))","v":0},{"$f":"IF(HLOOKUP(S$5,$B$6:$K$15,Points!$A6+1,FALSE)=\"TBD\",\"\",VLOOKUP(HLOOKUP(S$5,$B$6:$K$15,Points!$A6+1,FALSE),'Cars & Results'!$A$7:$BZ$317,2*S$5+6,FALSE))","v":7},{"$f":"IF(HLOOKUP(S$5,$B$6:$K$15,Points!$A6+1,FALSE)=\"TBD\",\"\",IF(VLOOKUP(HLOOKUP(S$5,$B$6:$K$15,Points!$A6+1,FALSE),'Cars & Results'!$A$7:$BZ$317,2*S$5+5)<=5,S10*0.5,0))","v":0},{"$f":"IF(HLOOKUP(U$5,$B$6:$K$15,Points!$A6+1,FALSE)=\"TBD\",\"\",VLOOKUP(HLOOKUP(U$5,$B$6:$K$15,Points!$A6+1,FALSE),'Cars & Results'!$A$7:$BZ$317,2*U$5+6,FALSE))","v":23},{"$f":"IF(HLOOKUP(U$5,$B$6:$K$15,Points!$A6+1,FALSE)=\"TBD\",\"\",IF(VLOOKUP(HLOOKUP(U$5,$B$6:$K$15,Points!$A6+1,FALSE),'Cars & Results'!$A$7:$BZ$317,2*U$5+5)<=5,U10*0.5,0))","v":0},{"$f":"IF(HLOOKUP(W$5,$B$6:$K$15,Points!$A6+1,FALSE)=\"TBD\",\"\",VLOOKUP(HLOOKUP(W$5,$B$6:$K$15,Points!$A6+1,FALSE),'Cars & Results'!$A$7:$BZ$317,2*W$5+6,FALSE))","v":14},{"$f":"IF(HLOOKUP(W$5,$B$6:$K$15,Points!$A6+1,FALSE)=\"TBD\",\"\",IF(VLOOKUP(HLOOKUP(W$5,$B$6:$K$15,Points!$A6+1,FALSE),'Cars & Results'!$A$7:$BZ$317,2*W$5+5)<=5,W10*0.5,0))","v":0},{"$f":"IF(HLOOKUP(Y$5,$B$6:$K$15,Points!$A6+1,FALSE)=\"TBD\",\"\",VLOOKUP(HLOOKUP(Y$5,$B$6:$K$15,Points!$A6+1,FALSE),'Cars & Results'!$A$7:$BZ$317,2*Y$5+6,FALSE))","v":15},{"$f":"IF(HLOOKUP(Y$5,$B$6:$K$15,Points!$A6+1,FALSE)=\"TBD\",\"\",IF(VLOOKUP(HLOOKUP(Y$5,$B$6:$K$15,Points!$A6+1,FALSE),'Cars & Results'!$A$7:$BZ$317,2*Y$5+5)<=5,Y10*0.5,0))","v":0},{"$f":"IF(HLOOKUP(AA$5,$B$6:$K$15,Points!$A6+1,FALSE)=\"TBD\",\"\",VLOOKUP(HLOOKUP(AA$5,$B$6:$K$15,Points!$A6+1,FALSE),'Cars & Results'!$A$7:$BZ$317,2*AA$5+6,FALSE))","v":22},{"$f":"IF(HLOOKUP(AA$5,$B$6:$K$15,Points!$A6+1,FALSE)=\"TBD\",\"\",IF(VLOOKUP(HLOOKUP(AA$5,$B$6:$K$15,Points!$A6+1,FALSE),'Cars & Results'!$A$7:$BZ$317,2*AA$5+5)<=5,AA10*0.5,0))","v":0},{"$f":"IF(HLOOKUP(AC$5,$B$6:$K$15,Points!$A6+1,FALSE)=\"TBD\",\"\",VLOOKUP(HLOOKUP(AC$5,$B$6:$K$15,Points!$A6+1,FALSE),'Cars & Results'!$A$7:$BZ$317,2*AC$5+6,FALSE))","v":0},{"$f":"IF(HLOOKUP(AC$5,$B$6:$K$15,Points!$A6+1,FALSE)=\"TBD\",\"\",IF(VLOOKUP(HLOOKUP(AC$5,$B$6:$K$15,Points!$A6+1,FALSE),'Cars & Results'!$A$7:$BZ$317,2*AC$5+5)<=5,AC10*0.5,0))","v":0},{"$f":"IF(HLOOKUP(AE$5,$B$6:$K$15,Points!$A6+1,FALSE)=\"TBD\",\"\",VLOOKUP(HLOOKUP(AE$5,$B$6:$K$15,Points!$A6+1,FALSE),'Cars & Results'!$A$7:$BZ$317,2*AE$5+6,FALSE))","v":22},{"$f":"IF(HLOOKUP(AE$5,$B$6:$K$15,Points!$A6+1,FALSE)=\"TBD\",\"\",IF(VLOOKUP(HLOOKUP(AE$5,$B$6:$K$15,Points!$A6+1,FALSE),'Cars & Results'!$A$7:$BZ$317,2*AE$5+5)<=5,AE10*0.5,0))","v":0},{"$f":"IF(HLOOKUP(AG$5,$B$6:$K$15,Points!$A6+1,FALSE)=\"TBD\",\"\",VLOOKUP(HLOOKUP(AG$5,$B$6:$K$15,Points!$A6+1,FALSE),'Cars & Results'!$A$7:$BZ$317,2*AG$5+6,FALSE))","v":23},{"$f":"IF(HLOOKUP(AG$5,$B$6:$K$15,Points!$A6+1,FALSE)=\"TBD\",\"\",IF(VLOOKUP(HLOOKUP(AG$5,$B$6:$K$15,Points!$A6+1,FALSE),'Cars & Results'!$A$7:$BZ$317,2*AG$5+5)<=5,AG10*0.5,0))","v":0}]
[{"$f":"VLOOKUP(HLOOKUP('Pick Distribution'!$P$2,$B$6:$K$15,6),'Current Owner Standings'!$A$71:$B$480,2,FALSE)","v":25},43,43,43,43,38,34,34,34,34,8,{"$f":"IF(ISNA(VLOOKUP($K11,'Cars & Results'!$A$6:$K$317,L$5,FALSE)),\"Invalid Number\",VLOOKUP($K11,'Cars & Results'!$A$6:$K$317,L$5,FALSE))","v":"Daniel Hemric (R)"},{"$f":"IF(ISNA(VLOOKUP($K11,'Cars & Results'!$A$6:$K$317,M$5,FALSE)),\"Invalid Number\",VLOOKUP($K11,'Cars & Results'!$A$6:$K$317,M$5,FALSE))","v":"Chevrolet"},{"$f":"IF(ISNA(VLOOKUP($K11,'Cars & Results'!$A$6:$K$317,N$5,FALSE)),\"Invalid Number\",VLOOKUP($K11,'Cars & Results'!$A$6:$K$317,N$5,FALSE))","v":"Richard Childress Racing"},{"$f":"IF(HLOOKUP(O$5,$B$6:$K$15,Points!$A7+1,FALSE)=\"TBD\",\"\",VLOOKUP(HLOOKUP(O$5,$B$6:$K$15,Points!$A7+1,FALSE),'Cars & Results'!$A$7:$BZ$317,2*O$5+6,FALSE))","v":14},{"$f":"IF(HLOOKUP(O$5,$B$6:$K$15,Points!$A7+1,FALSE)=\"TBD\",\"\",IF(VLOOKUP(HLOOKUP(O$5,$B$6:$K$15,Points!$A7+1,FALSE),'Cars & Results'!$A$7:$BZ$317,2*O$5+5)<=10,O11*1.5,0))","v":0},{"$f":"IF(HLOOKUP(Q$5,$B$6:$K$15,Points!$A7+1,FALSE)=\"TBD\",\"\",VLOOKUP(HLOOKUP(Q$5,$B$6:$K$15,Points!$A7+1,FALSE),'Cars & Results'!$A$7:$BZ$317,2*Q$5+6,FALSE))","v":29},{"$f":"IF(HLOOKUP(Q$5,$B$6:$K$15,Points!$A7+1,FALSE)=\"TBD\",\"\",IF(VLOOKUP(HLOOKUP(Q$5,$B$6:$K$15,Points!$A7+1,FALSE),'Cars & Results'!$A$7:$BZ$317,2*Q$5+5)<=10,Q11*1.5,0))","v":0},{"$f":"IF(HLOOKUP(S$5,$B$6:$K$15,Points!$A7+1,FALSE)=\"TBD\",\"\",VLOOKUP(HLOOKUP(S$5,$B$6:$K$15,Points!$A7+1,FALSE),'Cars & Results'!$A$7:$BZ$317,2*S$5+6,FALSE))","v":13},{"$f":"IF(HLOOKUP(S$5,$B$6:$K$15,Points!$A7+1,FALSE)=\"TBD\",\"\",IF(VLOOKUP(HLOOKUP(S$5,$B$6:$K$15,Points!$A7+1,FALSE),'Cars & Results'!$A$7:$BZ$317,2*S$5+5)<=10,S11*1.5,0))","v":0},{"$f":"IF(HLOOKUP(U$5,$B$6:$K$15,Points!$A7+1,FALSE)=\"TBD\",\"\",VLOOKUP(HLOOKUP(U$5,$B$6:$K$15,Points!$A7+1,FALSE),'Cars & Results'!$A$7:$BZ$317,2*U$5+6,FALSE))","v":17},{"$f":"IF(HLOOKUP(U$5,$B$6:$K$15,Points!$A7+1,FALSE)=\"TBD\",\"\",IF(VLOOKUP(HLOOKUP(U$5,$B$6:$K$15,Points!$A7+1,FALSE),'Cars & Results'!$A$7:$BZ$317,2*U$5+5)<=10,U11*1.5,0))","v":0},{"$f":"IF(HLOOKUP(W$5,$B$6:$K$15,Points!$A7+1,FALSE)=\"TBD\",\"\",VLOOKUP(HLOOKUP(W$5,$B$6:$K$15,Points!$A7+1,FALSE),'Cars & Results'!$A$7:$BZ$317,2*W$5+6,FALSE))","v":8},{"$f":"IF(HLOOKUP(W$5,$B$6:$K$15,Points!$A7+1,FALSE)=\"TBD\",\"\",IF(VLOOKUP(HLOOKUP(W$5,$B$6:$K$15,Points!$A7+1,FALSE),'Cars & Results'!$A$7:$BZ$317,2*W$5+5)<=10,W11*1.5,0))","v":0},{"$f":"IF(HLOOKUP(Y$5,$B$6:$K$15,Points!$A7+1,FALSE)=\"TBD\",\"\",VLOOKUP(HLOOKUP(Y$5,$B$6:$K$15,Points!$A7+1,FALSE),'Cars & Results'!$A$7:$BZ$317,2*Y$5+6,FALSE))","v":14},{"$f":"IF(HLOOKUP(Y$5,$B$6:$K$15,Points!$A7+1,FALSE)=\"TBD\",\"\",IF(VLOOKUP(HLOOKUP(Y$5,$B$6:$K$15,Points!$A7+1,FALSE),'Cars & Results'!$A$7:$BZ$317,2*Y$5+5)<=10,Y11*1.5,0))","v":0},{"$f":"IF(HLOOKUP(AA$5,$B$6:$K$15,Points!$A7+1,FALSE)=\"TBD\",\"\",VLOOKUP(HLOOKUP(AA$5,$B$6:$K$15,Points!$A7+1,FALSE),'Cars & Results'!$A$7:$BZ$317,2*AA$5+6,FALSE))","v":14},{"$f":"IF(HLOOKUP(AA$5,$B$6:$K$15,Points!$A7+1,FALSE)=\"TBD\",\"\",IF(VLOOKUP(HLOOKUP(AA$5,$B$6:$K$15,Points!$A7+1,FALSE),'Cars & Results'!$A$7:$BZ$317,2*AA$5+5)<=10,AA11*1.5,0))","v":0},{"$f":"IF(HLOOKUP(AC$5,$B$6:$K$15,Points!$A7+1,FALSE)=\"TBD\",\"\",VLOOKUP(HLOOKUP(AC$5,$B$6:$K$15,Points!$A7+1,FALSE),'Cars & Results'!$A$7:$BZ$317,2*AC$5+6,FALSE))","v":12},{"$f":"IF(HLOOKUP(AC$5,$B$6:$K$15,Points!$A7+1,FALSE)=\"TBD\",\"\",IF(VLOOKUP(HLOOKUP(AC$5,$B$6:$K$15,Points!$A7+1,FALSE),'Cars & Results'!$A$7:$BZ$317,2*AC$5+5)<=10,AC11*1.5,0))","v":0},{"$f":"IF(HLOOKUP(AE$5,$B$6:$K$15,Points!$A7+1,FALSE)=\"TBD\",\"\",VLOOKUP(HLOOKUP(AE$5,$B$6:$K$15,Points!$A7+1,FALSE),'Cars & Results'!$A$7:$BZ$317,2*AE$5+6,FALSE))","v":7},{"$f":"IF(HLOOKUP(AE$5,$B$6:$K$15,Points!$A7+1,FALSE)=\"TBD\",\"\",IF(VLOOKUP(HLOOKUP(AE$5,$B$6:$K$15,Points!$A7+1,FALSE),'Cars & Results'!$A$7:$BZ$317,2*AE$5+5)<=10,AE11*1.5,0))","v":0},{"$f":"IF(HLOOKUP(AG$5,$B$6:$K$15,Points!$A7+1,FALSE)=\"TBD\",\"\",VLOOKUP(HLOOKUP(AG$5,$B$6:$K$15,Points!$A7+1,FALSE),'Cars & Results'!$A$7:$BZ$317,2*AG$5+6,FALSE))","v":29},{"$f":"IF(HLOOKUP(AG$5,$B$6:$K$15,Points!$A7+1,FALSE)=\"TBD\",\"\",IF(VLOOKUP(HLOOKUP(AG$5,$B$6:$K$15,Points!$A7+1,FALSE),'Cars & Results'!$A$7:$BZ$317,2*AG$5+5)<=10,AG11*1.5,0))","v":0}]
[{"$f":"VLOOKUP(HLOOKUP('Pick Distribution'!$P$2,$B$6:$K$15,7),'Current Owner Standings'!$A$71:$B$480,2,FALSE)","v":24},13,13,13,13,13,13,13,13,13,13,{"$f":"IF(ISNA(VLOOKUP($K12,'Cars & Results'!$A$6:$K$317,L$5,FALSE)),\"Invalid Number\",VLOOKUP($K12,'Cars & Results'!$A$6:$K$317,L$5,FALSE))","v":"Ty Dillon"},{"$f":"IF(ISNA(VLOOKUP($K12,'Cars & Results'!$A$6:$K$317,M$5,FALSE)),\"Invalid Number\",VLOOKUP($K12,'Cars & Results'!$A$6:$K$317,M$5,FALSE))","v":"Chevrolet"},{"$f":"IF(ISNA(VLOOKUP($K12,'Cars & Results'!$A$6:$K$317,N$5,FALSE)),\"Invalid Number\",VLOOKUP($K12,'Cars & Results'!$A$6:$K$317,N$5,FALSE))","v":"Germain Racing"},{"$f":"IF(HLOOKUP(O$5,$B$6:$K$15,Points!$A8+1,FALSE)=\"TBD\",\"\",VLOOKUP(HLOOKUP(O$5,$B$6:$K$15,Points!$A8+1,FALSE),'Cars & Results'!$A$7:$BZ$317,2*O$5+6,FALSE))","v":21},{"$f":"IF(HLOOKUP(O$5,$B$6:$K$15,Points!$A8+1,FALSE)=\"TBD\",\"\",IF(VLOOKUP(HLOOKUP(O$5,$B$6:$K$15,Points!$A8+1,FALSE),'Cars & Results'!$A$7:$BZ$317,2*O$5+5)<=10,O12*1.5,0))","v":0},{"$f":"IF(HLOOKUP(Q$5,$B$6:$K$15,Points!$A8+1,FALSE)=\"TBD\",\"\",VLOOKUP(HLOOKUP(Q$5,$B$6:$K$15,Points!$A8+1,FALSE),'Cars & Results'!$A$7:$BZ$317,2*Q$5+6,FALSE))","v":11},{"$f":"IF(HLOOKUP(Q$5,$B$6:$K$15,Points!$A8+1,FALSE)=\"TBD\",\"\",IF(VLOOKUP(HLOOKUP(Q$5,$B$6:$K$15,Points!$A8+1,FALSE),'Cars & Results'!$A$7:$BZ$317,2*Q$5+5)<=10,Q12*1.5,0))","v":0},{"$f":"IF(HLOOKUP(S$5,$B$6:$K$15,Points!$A8+1,FALSE)=\"TBD\",\"\",VLOOKUP(HLOOKUP(S$5,$B$6:$K$15,Points!$A8+1,FALSE),'Cars & Results'!$A$7:$BZ$317,2*S$5+6,FALSE))","v":22},{"$f":"IF(HLOOKUP(S$5,$B$6:$K$15,Points!$A8+1,FALSE)=\"TBD\",\"\",IF(VLOOKUP(HLOOKUP(S$5,$B$6:$K$15,Points!$A8+1,FALSE),'Cars & Results'!$A$7:$BZ$317,2*S$5+5)<=10,S12*1.5,0))","v":0},{"$f":"IF(HLOOKUP(U$5,$B$6:$K$15,Points!$A8+1,FALSE)=\"TBD\",\"\",VLOOKUP(HLOOKUP(U$5,$B$6:$K$15,Points!$A8+1,FALSE),'Cars & Results'!$A$7:$BZ$317,2*U$5+6,FALSE))","v":14},{"$f":"IF(HLOOKUP(U$5,$B$6:$K$15,Points!$A8+1,FALSE)=\"TBD\",\"\",IF(VLOOKUP(HLOOKUP(U$5,$B$6:$K$15,Points!$A8+1,FALSE),'Cars & Results'!$A$7:$BZ$317,2*U$5+5)<=10,U12*1.5,0))","v":0},{"$f":"IF(HLOOKUP(W$5,$B$6:$K$15,Points!$A8+1,FALSE)=\"TBD\",\"\",VLOOKUP(HLOOKUP(W$5,$B$6:$K$15,Points!$A8+1,FALSE),'Cars & Results'!$A$7:$BZ$317,2*W$5+6,FALSE))","v":27},{"$f":"IF(HLOOKUP(W$5,$B$6:$K$15,Points!$A8+1,FALSE)=\"TBD\",\"\",IF(VLOOKUP(HLOOKUP(W$5,$B$6:$K$15,Points!$A8+1,FALSE),'Cars & Results'!$A$7:$BZ$317,2*W$5+5)<=10,W12*1.5,0))","v":40.5},{"$f":"IF(HLOOKUP(Y$5,$B$6:$K$15,Points!$A8+1,FALSE)=\"TBD\",\"\",VLOOKUP(HLOOKUP(Y$5,$B$6:$K$15,Points!$A8+1,FALSE),'Cars & Results'!$A$7:$BZ$317,2*Y$5+6,FALSE))","v":13},{"$f":"IF(HLOOKUP(Y$5,$B$6:$K$15,Points!$A8+1,FALSE)=\"TBD\",\"\",IF(VLOOKUP(HLOOKUP(Y$5,$B$6:$K$15,Points!$A8+1,FALSE),'Cars & Results'!$A$7:$BZ$317,2*Y$5+5)<=10,Y12*1.5,0))","v":0},{"$f":"IF(HLOOKUP(AA$5,$B$6:$K$15,Points!$A8+1,FALSE)=\"TBD\",\"\",VLOOKUP(HLOOKUP(AA$5,$B$6:$K$15,Points!$A8+1,FALSE),'Cars & Results'!$A$7:$BZ$317,2*AA$5+6,FALSE))","v":13},{"$f":"IF(HLOOKUP(AA$5,$B$6:$K$15,Points!$A8+1,FALSE)=\"TBD\",\"\",IF(VLOOKUP(HLOOKUP(AA$5,$B$6:$K$15,Points!$A8+1,FALSE),'Cars & Results'!$A$7:$BZ$317,2*AA$5+5)<=10,AA12*1.5,0))","v":0},{"$f":"IF(HLOOKUP(AC$5,$B$6:$K$15,Points!$A8+1,FALSE)=\"TBD\",\"\",VLOOKUP(HLOOKUP(AC$5,$B$6:$K$15,Points!$A8+1,FALSE),'Cars & Results'!$A$7:$BZ$317,2*AC$5+6,FALSE))","v":19},{"$f":"IF(HLOOKUP(AC$5,$B$6:$K$15,Points!$A8+1,FALSE)=\"TBD\",\"\",IF(VLOOKUP(HLOOKUP(AC$5,$B$6:$K$15,Points!$A8+1,FALSE),'Cars & Results'!$A$7:$BZ$317,2*AC$5+5)<=10,AC12*1.5,0))","v":0},{"$f":"IF(HLOOKUP(AE$5,$B$6:$K$15,Points!$A8+1,FALSE)=\"TBD\",\"\",VLOOKUP(HLOOKUP(AE$5,$B$6:$K$15,Points!$A8+1,FALSE),'Cars & Results'!$A$7:$BZ$317,2*AE$5+6,FALSE))","v":17},{"$f":"IF(HLOOKUP(AE$5,$B$6:$K$15,Points!$A8+1,FALSE)=\"TBD\",\"\",IF(VLOOKUP(HLOOKUP(AE$5,$B$6:$K$15,Points!$A8+1,FALSE),'Cars & Results'!$A$7:$BZ$317,2*AE$5+5)<=10,AE12*1.5,0))","v":0},{"$f":"IF(HLOOKUP(AG$5,$B$6:$K$15,Points!$A8+1,FALSE)=\"TBD\",\"\",VLOOKUP(HLOOKUP(AG$5,$B$6:$K$15,Points!$A8+1,FALSE),'Cars & Results'!$A$7:$BZ$317,2*AG$5+6,FALSE))","v":13},{"$f":"IF(HLOOKUP(AG$5,$B$6:$K$15,Points!$A8+1,FALSE)=\"TBD\",\"\",IF(VLOOKUP(HLOOKUP(AG$5,$B$6:$K$15,Points!$A8+1,FALSE),'Cars & Results'!$A$7:$BZ$317,2*AG$5+5)<=10,AG12*1.5,0))","v":0}]
[{"$f":"VLOOKUP(HLOOKUP('Pick Distribution'!$P$2,$B$6:$K$15,8),'Current Owner Standings'!$A$71:$B$480,2,FALSE)","v":32},36,36,36,36,36,15,15,15,15,15,{"$f":"IF(ISNA(VLOOKUP($K13,'Cars & Results'!$A$6:$K$317,L$5,FALSE)),\"Invalid Number\",VLOOKUP($K13,'Cars & Results'!$A$6:$K$317,L$5,FALSE))","v":"Joe Nemechek (i)"},{"$f":"IF(ISNA(VLOOKUP($K13,'Cars & Results'!$A$6:$K$317,M$5,FALSE)),\"Invalid Number\",VLOOKUP($K13,'Cars & Results'!$A$6:$K$317,M$5,FALSE))","v":"Chevrolet"},{"$f":"IF(ISNA(VLOOKUP($K13,'Cars & Results'!$A$6:$K$317,N$5,FALSE)),\"Invalid Number\",VLOOKUP($K13,'Cars & Results'!$A$6:$K$317,N$5,FALSE))","v":"Premium Motorsports"},{"$f":"IF(HLOOKUP(O$5,$B$6:$K$15,Points!$A9+1,FALSE)=\"TBD\",\"\",VLOOKUP(HLOOKUP(O$5,$B$6:$K$15,Points!$A9+1,FALSE),'Cars & Results'!$A$7:$BZ$317,2*O$5+6,FALSE))","v":7},{"$f":"IF(HLOOKUP(O$5,$B$6:$K$15,Points!$A9+1,FALSE)=\"TBD\",\"\",IF(VLOOKUP(HLOOKUP(O$5,$B$6:$K$15,Points!$A9+1,FALSE),'Cars & Results'!$A$7:$BZ$317,2*O$5+5)<=10,O13*2,0))","v":0},{"$f":"IF(HLOOKUP(Q$5,$B$6:$K$15,Points!$A9+1,FALSE)=\"TBD\",\"\",VLOOKUP(HLOOKUP(Q$5,$B$6:$K$15,Points!$A9+1,FALSE),'Cars & Results'!$A$7:$BZ$317,2*Q$5+6,FALSE))","v":17},{"$f":"IF(HLOOKUP(Q$5,$B$6:$K$15,Points!$A9+1,FALSE)=\"TBD\",\"\",IF(VLOOKUP(HLOOKUP(Q$5,$B$6:$K$15,Points!$A9+1,FALSE),'Cars & Results'!$A$7:$BZ$317,2*Q$5+5)<=10,Q13*2,0))","v":0},{"$f":"IF(HLOOKUP(S$5,$B$6:$K$15,Points!$A9+1,FALSE)=\"TBD\",\"\",VLOOKUP(HLOOKUP(S$5,$B$6:$K$15,Points!$A9+1,FALSE),'Cars & Results'!$A$7:$BZ$317,2*S$5+6,FALSE))","v":12},{"$f":"IF(HLOOKUP(S$5,$B$6:$K$15,Points!$A9+1,FALSE)=\"TBD\",\"\",IF(VLOOKUP(HLOOKUP(S$5,$B$6:$K$15,Points!$A9+1,FALSE),'Cars & Results'!$A$7:$BZ$317,2*S$5+5)<=10,S13*2,0))","v":0},{"$f":"IF(HLOOKUP(U$5,$B$6:$K$15,Points!$A9+1,FALSE)=\"TBD\",\"\",VLOOKUP(HLOOKUP(U$5,$B$6:$K$15,Points!$A9+1,FALSE),'Cars & Results'!$A$7:$BZ$317,2*U$5+6,FALSE))","v":12},{"$f":"IF(HLOOKUP(U$5,$B$6:$K$15,Points!$A9+1,FALSE)=\"TBD\",\"\",IF(VLOOKUP(HLOOKUP(U$5,$B$6:$K$15,Points!$A9+1,FALSE),'Cars & Results'!$A$7:$BZ$317,2*U$5+5)<=10,U13*2,0))","v":0},{"$f":"IF(HLOOKUP(W$5,$B$6:$K$15,Points!$A9+1,FALSE)=\"TBD\",\"\",VLOOKUP(HLOOKUP(W$5,$B$6:$K$15,Points!$A9+1,FALSE),'Cars & Results'!$A$7:$BZ$317,2*W$5+6,FALSE))","v":24},{"$f":"IF(HLOOKUP(W$5,$B$6:$K$15,Points!$A9+1,FALSE)=\"TBD\",\"\",IF(VLOOKUP(HLOOKUP(W$5,$B$6:$K$15,Points!$A9+1,FALSE),'Cars & Results'!$A$7:$BZ$317,2*W$5+5)<=10,W13*2,0))","v":0},{"$f":"IF(HLOOKUP(Y$5,$B$6:$K$15,Points!$A9+1,FALSE)=\"TBD\",\"\",VLOOKUP(HLOOKUP(Y$5,$B$6:$K$15,Points!$A9+1,FALSE),'Cars & Results'!$A$7:$BZ$317,2*Y$5+6,FALSE))","v":8},{"$f":"IF(HLOOKUP(Y$5,$B$6:$K$15,Points!$A9+1,FALSE)=\"TBD\",\"\",IF(VLOOKUP(HLOOKUP(Y$5,$B$6:$K$15,Points!$A9+1,FALSE),'Cars & Results'!$A$7:$BZ$317,2*Y$5+5)<=10,Y13*2,0))","v":0},{"$f":"IF(HLOOKUP(AA$5,$B$6:$K$15,Points!$A9+1,FALSE)=\"TBD\",\"\",VLOOKUP(HLOOKUP(AA$5,$B$6:$K$15,Points!$A9+1,FALSE),'Cars & Results'!$A$7:$BZ$317,2*AA$5+6,FALSE))","v":8},{"$f":"IF(HLOOKUP(AA$5,$B$6:$K$15,Points!$A9+1,FALSE)=\"TBD\",\"\",IF(VLOOKUP(HLOOKUP(AA$5,$B$6:$K$15,Points!$A9+1,FALSE),'Cars & Results'!$A$7:$BZ$317,2*AA$5+5)<=10,AA13*2,0))","v":0},{"$f":"IF(HLOOKUP(AC$5,$B$6:$K$15,Points!$A9+1,FALSE)=\"TBD\",\"\",VLOOKUP(HLOOKUP(AC$5,$B$6:$K$15,Points!$A9+1,FALSE),'Cars & Results'!$A$7:$BZ$317,2*AC$5+6,FALSE))","v":8},{"$f":"IF(HLOOKUP(AC$5,$B$6:$K$15,Points!$A9+1,FALSE)=\"TBD\",\"\",IF(VLOOKUP(HLOOKUP(AC$5,$B$6:$K$15,Points!$A9+1,FALSE),'Cars & Results'!$A$7:$BZ$317,2*AC$5+5)<=10,AC13*2,0))","v":0},{"$f":"IF(HLOOKUP(AE$5,$B$6:$K$15,Points!$A9+1,FALSE)=\"TBD\",\"\",VLOOKUP(HLOOKUP(AE$5,$B$6:$K$15,Points!$A9+1,FALSE),'Cars & Results'!$A$7:$BZ$317,2*AE$5+6,FALSE))","v":9},{"$f":"IF(HLOOKUP(AE$5,$B$6:$K$15,Points!$A9+1,FALSE)=\"TBD\",\"\",IF(VLOOKUP(HLOOKUP(AE$5,$B$6:$K$15,Points!$A9+1,FALSE),'Cars & Results'!$A$7:$BZ$317,2*AE$5+5)<=10,AE13*2,0))","v":0},{"$f":"IF(HLOOKUP(AG$5,$B$6:$K$15,Points!$A9+1,FALSE)=\"TBD\",\"\",VLOOKUP(HLOOKUP(AG$5,$B$6:$K$15,Points!$A9+1,FALSE),'Cars & Results'!$A$7:$BZ$317,2*AG$5+6,FALSE))","v":1},{"$f":"IF(HLOOKUP(AG$5,$B$6:$K$15,Points!$A9+1,FALSE)=\"TBD\",\"\",IF(VLOOKUP(HLOOKUP(AG$5,$B$6:$K$15,Points!$A9+1,FALSE),'Cars & Results'!$A$7:$BZ$317,2*AG$5+5)<=10,AG13*2,0))","v":0}]
[{"$f":"VLOOKUP(HLOOKUP('Pick Distribution'!$P$2,$B$6:$K$15,9),'Current Owner Standings'!$A$71:$B$480,2,FALSE)","v":36},27,27,27,27,27,27,27,27,27,27,{"$f":"IF(ISNA(VLOOKUP($K14,'Cars & Results'!$A$6:$K$317,L$5,FALSE)),\"Invalid Number\",VLOOKUP($K14,'Cars & Results'!$A$6:$K$317,L$5,FALSE))","v":"Ross Chastain (i)"},{"$f":"IF(ISNA(VLOOKUP($K14,'Cars & Results'!$A$6:$K$317,M$5,FALSE)),\"Invalid Number\",VLOOKUP($K14,'Cars & Results'!$A$6:$K$317,M$5,FALSE))","v":"Chevrolet"},{"$f":"IF(ISNA(VLOOKUP($K14,'Cars & Results'!$A$6:$K$317,N$5,FALSE)),\"Invalid Number\",VLOOKUP($K14,'Cars & Results'!$A$6:$K$317,N$5,FALSE))","v":"Premium Motorsports"},{"$f":"IF(HLOOKUP(O$5,$B$6:$K$15,Points!$A10+1,FALSE)=\"TBD\",\"\",VLOOKUP(HLOOKUP(O$5,$B$6:$K$15,Points!$A10+1,FALSE),'Cars & Results'!$A$7:$BZ$317,2*O$5+6,FALSE))","v":3},{"$f":"IF(HLOOKUP(O$5,$B$6:$K$15,Points!$A10+1,FALSE)=\"TBD\",\"\",IF(VLOOKUP(HLOOKUP(O$5,$B$6:$K$15,Points!$A10+1,FALSE),'Cars & Results'!$A$7:$BZ$317,2*O$5+5)<=10,O14*3,0))","v":0},{"$f":"IF(HLOOKUP(Q$5,$B$6:$K$15,Points!$A10+1,FALSE)=\"TBD\",\"\",VLOOKUP(HLOOKUP(Q$5,$B$6:$K$15,Points!$A10+1,FALSE),'Cars & Results'!$A$7:$BZ$317,2*Q$5+6,FALSE))","v":2},{"$f":"IF(HLOOKUP(Q$5,$B$6:$K$15,Points!$A10+1,FALSE)=\"TBD\",\"\",IF(VLOOKUP(HLOOKUP(Q$5,$B$6:$K$15,Points!$A10+1,FALSE),'Cars & Results'!$A$7:$BZ$317,2*Q$5+5)<=10,Q14*3,0))","v":0},{"$f":"IF(HLOOKUP(S$5,$B$6:$K$15,Points!$A10+1,FALSE)=\"TBD\",\"\",VLOOKUP(HLOOKUP(S$5,$B$6:$K$15,Points!$A10+1,FALSE),'Cars & Results'!$A$7:$BZ$317,2*S$5+6,FALSE))","v":6},{"$f":"IF(HLOOKUP(S$5,$B$6:$K$15,Points!$A10+1,FALSE)=\"TBD\",\"\",IF(VLOOKUP(HLOOKUP(S$5,$B$6:$K$15,Points!$A10+1,FALSE),'Cars & Results'!$A$7:$BZ$317,2*S$5+5)<=10,S14*3,0))","v":0},{"$f":"IF(HLOOKUP(U$5,$B$6:$K$15,Points!$A10+1,FALSE)=\"TBD\",\"\",VLOOKUP(HLOOKUP(U$5,$B$6:$K$15,Points!$A10+1,FALSE),'Cars & Results'!$A$7:$BZ$317,2*U$5+6,FALSE))","v":7},{"$f":"IF(HLOOKUP(U$5,$B$6:$K$15,Points!$A10+1,FALSE)=\"TBD\",\"\",IF(VLOOKUP(HLOOKUP(U$5,$B$6:$K$15,Points!$A10+1,FALSE),'Cars & Results'!$A$7:$BZ$317,2*U$5+5)<=10,U14*3,0))","v":0},{"$f":"IF(HLOOKUP(W$5,$B$6:$K$15,Points!$A10+1,FALSE)=\"TBD\",\"\",VLOOKUP(HLOOKUP(W$5,$B$6:$K$15,Points!$A10+1,FALSE),'Cars & Results'!$A$7:$BZ$317,2*W$5+6,FALSE))","v":15},{"$f":"IF(HLOOKUP(W$5,$B$6:$K$15,Points!$A10+1,FALSE)=\"TBD\",\"\",IF(VLOOKUP(HLOOKUP(W$5,$B$6:$K$15,Points!$A10+1,FALSE),'Cars & Results'!$A$7:$BZ$317,2*W$5+5)<=10,W14*3,0))","v":0},{"$f":"IF(HLOOKUP(Y$5,$B$6:$K$15,Points!$A10+1,FALSE)=\"TBD\",\"\",VLOOKUP(HLOOKUP(Y$5,$B$6:$K$15,Points!$A10+1,FALSE),'Cars & Results'!$A$7:$BZ$317,2*Y$5+6,FALSE))","v":4},{"$f":"IF(HLOOKUP(Y$5,$B$6:$K$15,Points!$A10+1,FALSE)=\"TBD\",\"\",IF(VLOOKUP(HLOOKUP(Y$5,$B$6:$K$15,Points!$A10+1,FALSE),'Cars & Results'!$A$7:$BZ$317,2*Y$5+5)<=10,Y14*3,0))","v":0},{"$f":"IF(HLOOKUP(AA$5,$B$6:$K$15,Points!$A10+1,FALSE)=\"TBD\",\"\",VLOOKUP(HLOOKUP(AA$5,$B$6:$K$15,Points!$A10+1,FALSE),'Cars & Results'!$A$7:$BZ$317,2*AA$5+6,FALSE))","v":4},{"$f":"IF(HLOOKUP(AA$5,$B$6:$K$15,Points!$A10+1,FALSE)=\"TBD\",\"\",IF(VLOOKUP(HLOOKUP(AA$5,$B$6:$K$15,Points!$A10+1,FALSE),'Cars & Results'!$A$7:$BZ$317,2*AA$5+5)<=10,AA14*3,0))","v":0},{"$f":"IF(HLOOKUP(AC$5,$B$6:$K$15,Points!$A10+1,FALSE)=\"TBD\",\"\",VLOOKUP(HLOOKUP(AC$5,$B$6:$K$15,Points!$A10+1,FALSE),'Cars & Results'!$A$7:$BZ$317,2*AC$5+6,FALSE))","v":6},{"$f":"IF(HLOOKUP(AC$5,$B$6:$K$15,Points!$A10+1,FALSE)=\"TBD\",\"\",IF(VLOOKUP(HLOOKUP(AC$5,$B$6:$K$15,Points!$A10+1,FALSE),'Cars & Results'!$A$7:$BZ$317,2*AC$5+5)<=10,AC14*3,0))","v":0},{"$f":"IF(HLOOKUP(AE$5,$B$6:$K$15,Points!$A10+1,FALSE)=\"TBD\",\"\",VLOOKUP(HLOOKUP(AE$5,$B$6:$K$15,Points!$A10+1,FALSE),'Cars & Results'!$A$7:$BZ$317,2*AE$5+6,FALSE))","v":3},{"$f":"IF(HLOOKUP(AE$5,$B$6:$K$15,Points!$A10+1,FALSE)=\"TBD\",\"\",IF(VLOOKUP(HLOOKUP(AE$5,$B$6:$K$15,Points!$A10+1,FALSE),'Cars & Results'!$A$7:$BZ$317,2*AE$5+5)<=10,AE14*3,0))","v":0},{"$f":"IF(HLOOKUP(AG$5,$B$6:$K$15,Points!$A10+1,FALSE)=\"TBD\",\"\",VLOOKUP(HLOOKUP(AG$5,$B$6:$K$15,Points!$A10+1,FALSE),'Cars & Results'!$A$7:$BZ$317,2*AG$5+6,FALSE))","v":2},{"$f":"IF(HLOOKUP(AG$5,$B$6:$K$15,Points!$A10+1,FALSE)=\"TBD\",\"\",IF(VLOOKUP(HLOOKUP(AG$5,$B$6:$K$15,Points!$A10+1,FALSE),'Cars & Results'!$A$7:$BZ$317,2*AG$5+5)<=10,AG14*3,0))","v":0}]
[{"$f":"VLOOKUP(HLOOKUP('Pick Distribution'!$P$2,$B$6:$K$15,10),'Current Owner Standings'!$A$71:$B$480,2,FALSE)","v":5},2,52,88,42,11,18,4,1,19,22,{"$f":"IF(ISNA(VLOOKUP($K15,'Cars & Results'!$A$6:$K$317,L$5,FALSE)),\"Invalid Number\",VLOOKUP($K15,'Cars & Results'!$A$6:$K$317,L$5,FALSE))","v":"Joey Logano"},{"$f":"IF(ISNA(VLOOKUP($K15,'Cars & Results'!$A$6:$K$317,M$5,FALSE)),\"Invalid Number\",VLOOKUP($K15,'Cars & Results'!$A$6:$K$317,M$5,FALSE))","v":"Ford"},{"$f":"IF(ISNA(VLOOKUP($K15,'Cars & Results'!$A$6:$K$317,N$5,FALSE)),\"Invalid Number\",VLOOKUP($K15,'Cars & Results'!$A$6:$K$317,N$5,FALSE))","v":"Team Penske"},{"$f":"IF(HLOOKUP(O$5,$B$6:$K$15,Points!$A11+1,FALSE)=\"TBD\",\"\",VLOOKUP(HLOOKUP(O$5,$B$6:$K$15,Points!$A11+1,FALSE),'Cars & Results'!$A$7:$BZ$317,2*O$5+6,FALSE))","v":34},{"$f":"IF(HLOOKUP(O$5,$B$6:$K$15,Points!$A11+1,FALSE)=\"TBD\",\"\",IF(AND(VLOOKUP(HLOOKUP(O$5,$B$6:$K$15,Points!$A11+1,FALSE),'Cars & Results'!$A$7:$BZ$317,2*O$5+5)<=3,$A$15<=25),O15*1,IF(AND(VLOOKUP(HLOOKUP(O$5,$B$6:$K$15,Points!$A11+1,FALSE),'Cars & Results'!$A$7:$BZ$317,2*O$5+5)<=10,$A$15>25),O15*3,0)))","v":34},{"$f":"IF(HLOOKUP(Q$5,$B$6:$K$15,Points!$A11+1,FALSE)=\"TBD\",\"\",VLOOKUP(HLOOKUP(Q$5,$B$6:$K$15,Points!$A11+1,FALSE),'Cars & Results'!$A$7:$BZ$317,2*Q$5+6,FALSE))","v":4},0,{"$f":"IF(HLOOKUP(S$5,$B$6:$K$15,Points!$A11+1,FALSE)=\"TBD\",\"\",VLOOKUP(HLOOKUP(S$5,$B$6:$K$15,Points!$A11+1,FALSE),'Cars & Results'!$A$7:$BZ$317,2*S$5+6,FALSE))","v":35},35,{"$f":"IF(HLOOKUP(U$5,$B$6:$K$15,Points!$A11+1,FALSE)=\"TBD\",\"\",VLOOKUP(HLOOKUP(U$5,$B$6:$K$15,Points!$A11+1,FALSE),'Cars & Results'!$A$7:$BZ$317,2*U$5+6,FALSE))","v":57},57,{"$f":"IF(HLOOKUP(W$5,$B$6:$K$15,Points!$A11+1,FALSE)=\"TBD\",\"\",VLOOKUP(HLOOKUP(W$5,$B$6:$K$15,Points!$A11+1,FALSE),'Cars & Results'!$A$7:$BZ$317,2*W$5+6,FALSE))","v":34},34,{"$f":"IF(HLOOKUP(Y$5,$B$6:$K$15,Points!$A11+1,FALSE)=\"TBD\",\"\",VLOOKUP(HLOOKUP(Y$5,$B$6:$K$15,Points!$A11+1,FALSE),'Cars & Results'!$A$7:$BZ$317,2*Y$5+6,FALSE))","v":23},41,{"$f":"IF(HLOOKUP(AA$5,$B$6:$K$15,Points!$A11+1,FALSE)=\"TBD\",\"\",VLOOKUP(HLOOKUP(AA$5,$B$6:$K$15,Points!$A11+1,FALSE),'Cars & Results'!$A$7:$BZ$317,2*AA$5+6,FALSE))","v":30},0,{"$f":"IF(HLOOKUP(AC$5,$B$6:$K$15,Points!$A11+1,FALSE)=\"TBD\",\"\",VLOOKUP(HLOOKUP(AC$5,$B$6:$K$15,Points!$A11+1,FALSE),'Cars & Results'!$A$7:$BZ$317,2*AC$5+6,FALSE))","v":32},0,{"$f":"IF(HLOOKUP(AE$5,$B$6:$K$15,Points!$A11+1,FALSE)=\"TBD\",\"\",VLOOKUP(HLOOKUP(AE$5,$B$6:$K$15,Points!$A11+1,FALSE),'Cars & Results'!$A$7:$BZ$317,2*AE$5+6,FALSE))","v":36},0,{"$f":"IF(HLOOKUP(AG$5,$B$6:$K$15,Points!$A11+1,FALSE)=\"TBD\",\"\",VLOOKUP(HLOOKUP(AG$5,$B$6:$K$15,Points!$A11+1,FALSE),'Cars & Results'!$A$7:$BZ$317,2*AG$5+6,FALSE))","v":36},{"$f":"IF(HLOOKUP(AG$5,$B$6:$K$15,Points!$A11+1,FALSE)=\"TBD\",\"\",IF(AND(VLOOKUP(HLOOKUP(AG$5,$B$6:$K$15,Points!$A11+1,FALSE),'Cars & Results'!$A$7:$BZ$317,2*AG$5+5)<=3,$A$15<=25),AG15*1,IF(AND(VLOOKUP(HLOOKUP(AG$5,$B$6:$K$15,Points!$A11+1,FALSE),'Cars & Results'!$A$7:$BZ$317,2*AG$5+5)<=10,$A$15>25),AG15*3,0)))","v":0}]
[null,null,null,null,null,null,null,null,null,null,null,null,null,"Segment 1",null,{"$f":"IF(INDIRECT(ADDRESS(321,5+(O5*2),1,1,\"Cars & Results\"),TRUE)=\"Y\",IF(ISERROR(MATCH(INDIRECT(ADDRESS(318,5+(O5*2),1,1,\"Cars & Results\"),TRUE),B7:B15,0))=TRUE,0,10),\"\")","v":10},null,{"$f":"IF(INDIRECT(ADDRESS(321,5+(Q5*2),1,1,\"Cars & Results\"),TRUE)=\"Y\",IF(ISERROR(MATCH(INDIRECT(ADDRESS(318,5+(Q5*2),1,1,\"Cars & Results\"),TRUE),C7:C15,0))=TRUE,0,10),\"\")","v":0},null,{"$f":"IF(INDIRECT(ADDRESS(321,5+(S5*2),1,1,\"Cars & Results\"),TRUE)=\"Y\",IF(ISERROR(MATCH(INDIRECT(ADDRESS(318,5+(S5*2),1,1,\"Cars & Results\"),TRUE),D7:D15,0))=TRUE,0,10),\"\")","v":0},null,{"$f":"IF(INDIRECT(ADDRESS(321,5+(U5*2),1,1,\"Cars & Results\"),TRUE)=\"Y\",IF(ISERROR(MATCH(INDIRECT(ADDRESS(318,5+(U5*2),1,1,\"Cars & Results\"),TRUE),E7:E15,0))=TRUE,0,10),\"\")","v":0},null,{"$f":"IF(INDIRECT(ADDRESS(321,5+(W5*2),1,1,\"Cars & Results\"),TRUE)=\"Y\",IF(ISERROR(MATCH(INDIRECT(ADDRESS(318,5+(W5*2),1,1,\"Cars & Results\"),TRUE),F7:F15,0))=TRUE,0,10),\"\")","v":10},null,{"$f":"IF(INDIRECT(ADDRESS(321,5+(Y5*2),1,1,\"Cars & Results\"),TRUE)=\"Y\",IF(ISERROR(MATCH(INDIRECT(ADDRESS(318,5+(Y5*2),1,1,\"Cars & Results\"),TRUE),G7:G15,0))=TRUE,0,10),\"\")","v":0},null,{"$f":"IF(INDIRECT(ADDRESS(321,5+(AA5*2),1,1,\"Cars & Results\"),TRUE)=\"Y\",IF(ISERROR(MATCH(INDIRECT(ADDRESS(318,5+(AA5*2),1,1,\"Cars & Results\"),TRUE),H7:H15,0))=TRUE,0,10),\"\")","v":10},null,{"$f":"IF(INDIRECT(ADDRESS(321,5+(AC5*2),1,1,\"Cars & Results\"),TRUE)=\"Y\",IF(ISERROR(MATCH(INDIRECT(ADDRESS(318,5+(AC5*2),1,1,\"Cars & Results\"),TRUE),I7:I15,0))=TRUE,0,10),\"\")","v":0},null,{"$f":"IF(INDIRECT(ADDRESS(321,5+(AE5*2),1,1,\"Cars & Results\"),TRUE)=\"Y\",IF(ISERROR(MATCH(INDIRECT(ADDRESS(318,5+(AE5*2),1,1,\"Cars & Results\"),TRUE),J7:J15,0))=TRUE,0,10),\"\")","v":0},null,{"$f":"IF(INDIRECT(ADDRESS(321,5+(AG5*2),1,1,\"Cars & Results\"),TRUE)=\"Y\",IF(ISERROR(MATCH(INDIRECT(ADDRESS(318,5+(AG5*2),1,1,\"Cars & Results\"),TRUE),K7:K15,0))=TRUE,0,10),\"\")","v":0}]
[null,null,null,null,null,null,null,null,null,null,null,null,null,"Segment 2",null,{"$f":"IF(INDIRECT(ADDRESS(321,5+(O5*2),1,1,\"Cars & Results\"),TRUE)=\"Y\",IF(ISERROR(MATCH(INDIRECT(ADDRESS(319,5+(O5*2),1,1,\"Cars & Results\"),TRUE),B7:B15,0))=TRUE,0,10),\"\")","v":0},null,{"$f":"IF(INDIRECT(ADDRESS(321,5+(Q5*2),1,1,\"Cars & Results\"),TRUE)=\"Y\",IF(ISERROR(MATCH(INDIRECT(ADDRESS(319,5+(Q5*2),1,1,\"Cars & Results\"),TRUE),C7:C15,0))=TRUE,0,10),\"\")","v":0},null,{"$f":"IF(INDIRECT(ADDRESS(321,5+(S5*2),1,1,\"Cars & Results\"),TRUE)=\"Y\",IF(ISERROR(MATCH(INDIRECT(ADDRESS(319,5+(S5*2),1,1,\"Cars & Results\"),TRUE),D7:D15,0))=TRUE,0,10),\"\")","v":10},null,{"$f":"IF(INDIRECT(ADDRESS(321,5+(U5*2),1,1,\"Cars & Results\"),TRUE)=\"Y\",IF(ISERROR(MATCH(INDIRECT(ADDRESS(319,5+(U5*2),1,1,\"Cars & Results\"),TRUE),E7:E15,0))=TRUE,0,10),\"\")","v":0},null,{"$f":"IF(INDIRECT(ADDRESS(321,5+(W5*2),1,1,\"Cars & Results\"),TRUE)=\"Y\",IF(ISERROR(MATCH(INDIRECT(ADDRESS(319,5+(W5*2),1,1,\"Cars & Results\"),TRUE),F7:F15,0))=TRUE,0,10),\"\")","v":0},null,{"$f":"IF(INDIRECT(ADDRESS(321,5+(Y5*2),1,1,\"Cars & Results\"),TRUE)=\"Y\",IF(ISERROR(MATCH(INDIRECT(ADDRESS(319,5+(Y5*2),1,1,\"Cars & Results\"),TRUE),G7:G15,0))=TRUE,0,10),\"\")","v":0},null,{"$f":"IF(INDIRECT(ADDRESS(321,5+(AA5*2),1,1,\"Cars & Results\"),TRUE)=\"Y\",IF(ISERROR(MATCH(INDIRECT(ADDRESS(319,5+(AA5*2),1,1,\"Cars & Results\"),TRUE),H7:H15,0))=TRUE,0,10),\"\")","v":10},null,{"$f":"IF(INDIRECT(ADDRESS(321,5+(AC5*2),1,1,\"Cars & Results\"),TRUE)=\"Y\",IF(ISERROR(MATCH(INDIRECT(ADDRESS(319,5+(AC5*2),1,1,\"Cars & Results\"),TRUE),I7:I15,0))=TRUE,0,10),\"\")","v":0},null,{"$f":"IF(INDIRECT(ADDRESS(321,5+(AE5*2),1,1,\"Cars & Results\"),TRUE)=\"Y\",IF(ISERROR(MATCH(INDIRECT(ADDRESS(319,5+(AE5*2),1,1,\"Cars & Results\"),TRUE),J7:J15,0))=TRUE,0,10),\"\")","v":0},null,{"$f":"IF(INDIRECT(ADDRESS(321,5+(AG5*2),1,1,\"Cars & Results\"),TRUE)=\"Y\",IF(ISERROR(MATCH(INDIRECT(ADDRESS(319,5+(AG5*2),1,1,\"Cars & Results\"),TRUE),K7:K15,0))=TRUE,0,10),\"\")","v":0}]
[null,null,null,null,null,null,null,null,null,null,null,null,null,"Segment 3",null,{"$f":"IF(INDIRECT(ADDRESS(321,5+(O5*2),1,1,\"Cars & Results\"),TRUE)=\"Y\",IF(ISERROR(MATCH(INDIRECT(ADDRESS(320,5+(O5*2),1,1,\"Cars & Results\"),TRUE),B7:B15,0))=TRUE,0,15),\"\")","v":0},null,{"$f":"IF(INDIRECT(ADDRESS(321,5+(Q5*2),1,1,\"Cars & Results\"),TRUE)=\"Y\",IF(ISERROR(MATCH(INDIRECT(ADDRESS(320,5+(Q5*2),1,1,\"Cars & Results\"),TRUE),C7:C15,0))=TRUE,0,15),\"\")","v":0},null,{"$f":"IF(INDIRECT(ADDRESS(321,5+(S5*2),1,1,\"Cars & Results\"),TRUE)=\"Y\",IF(ISERROR(MATCH(INDIRECT(ADDRESS(320,5+(S5*2),1,1,\"Cars & Results\"),TRUE),D7:D15,0))=TRUE,0,15),\"\")","v":15},null,{"$f":"IF(INDIRECT(ADDRESS(321,5+(U5*2),1,1,\"Cars & Results\"),TRUE)=\"Y\",IF(ISERROR(MATCH(INDIRECT(ADDRESS(320,5+(U5*2),1,1,\"Cars & Results\"),TRUE),E7:E15,0))=TRUE,0,15),\"\")","v":15},null,{"$f":"IF(INDIRECT(ADDRESS(321,5+(W5*2),1,1,\"Cars & Results\"),TRUE)=\"Y\",IF(ISERROR(MATCH(INDIRECT(ADDRESS(320,5+(W5*2),1,1,\"Cars & Results\"),TRUE),F7:F15,0))=TRUE,0,15),\"\")","v":0},null,{"$f":"IF(INDIRECT(ADDRESS(321,5+(Y5*2),1,1,\"Cars & Results\"),TRUE)=\"Y\",IF(ISERROR(MATCH(INDIRECT(ADDRESS(320,5+(Y5*2),1,1,\"Cars & Results\"),TRUE),G7:G15,0))=TRUE,0,15),\"\")","v":0},null,{"$f":"IF(INDIRECT(ADDRESS(321,5+(AA5*2),1,1,\"Cars & Results\"),TRUE)=\"Y\",IF(ISERROR(MATCH(INDIRECT(ADDRESS(320,5+(AA5*2),1,1,\"Cars & Results\"),TRUE),H7:H15,0))=TRUE,0,15),\"\")","v":15},null,{"$f":"IF(INDIRECT(ADDRESS(321,5+(AC5*2),1,1,\"Cars & Results\"),TRUE)=\"Y\",IF(ISERROR(MATCH(INDIRECT(ADDRESS(320,5+(AC5*2),1,1,\"Cars & Results\"),TRUE),I7:I15,0))=TRUE,0,15),\"\")","v":0},null,{"$f":"IF(INDIRECT(ADDRESS(321,5+(AE5*2),1,1,\"Cars & Results\"),TRUE)=\"Y\",IF(ISERROR(MATCH(INDIRECT(ADDRESS(320,5+(AE5*2),1,1,\"Cars & Results\"),TRUE),J7:J15,0))=TRUE,0,15),\"\")","v":0},null,{"$f":"IF(INDIRECT(ADDRESS(321,5+(AG5*2),1,1,\"Cars & Results\"),TRUE)=\"Y\",IF(ISERROR(MATCH(INDIRECT(ADDRESS(320,5+(AG5*2),1,1,\"Cars & Results\"),TRUE),K7:K15,0))=TRUE,0,15),\"\")","v":15}]
[null,{"$f":"SUM(B7:B15)","v":274},302,317,279,260,169,191,186,null,null,null,null,null,{"$f":"SUM(O7:O15)","v":215},null,{"$f":"SUM(Q7:Q15)","v":149},null,{"$f":"SUM(S7:S15)","v":216},null,{"$f":"SUM(U7:U15)","v":198},null,{"$f":"SUM(W7:W15)","v":188},null,{"$f":"SUM(Y7:Y15)","v":117},null,{"$f":"SUM(AA7:AA15)","v":161},null,{"$f":"SUM(AC7:AC15)","v":133},null,{"$f":"SUM(AE7:AE15)","v":182},null,{"$f":"SUM(AG7:AG15)","v":183}]
[null,null,null,null,null,null,null,null,null,null,null,null,null,null,null,{"$f":"SUM(P7:P19)","v":44},null,{"$f":"SUM(R7:R19)","v":0},null,{"$f":"SUM(T7:T19)","v":60},null,{"$f":"SUM(V7:V19)","v":72},null,{"$f":"SUM(X7:X19)","v":84.5},null,{"$f":"SUM(Z7:Z19)","v":41},null,{"$f":"SUM(AB7:AB19)","v":35},null,{"$f":"SUM(AD7:AD19)","v":0},null,{"$f":"SUM(AF7:AF19)","v":0},null,{"$f":"SUM(AH7:AH19)","v":15}]
[null,null,null,null,null,null,null,null,null,null,null,null,null,"Race Total",{"$f":"O19+P20","v":259},null,{"$f":"Q19+R20","v":149},null,{"$f":"S19+T20","v":276},null,{"$f":"U19+V20","v":270},null,{"$f":"W19+X20","v":272.5},null,{"$f":"Y19+Z20","v":158},null,{"$f":"AA19+AB20","v":196},null,{"$f":"AC19+AD20","v":133},null,{"$f":"AE19+AF20","v":182},null,{"$f":"AG19+AH20","v":198},null,{"$f":"SUM(O21:AH21)","v":2093.5}]
[null,null,null,null,null,null,null,null,null,null,"1-8"]
[null,null,null,null,null,null,null,null,null,null,"9-16"]
[null,null,null,null,null,null,null,null,null,null,"17-23"]
[null,null,null,null,null,null,null,null,null,null,"24-30"]
[null,null,null,null,null,null,null,null,null,null,"31-35"]
[null,null,null,null,null,null,null,null,null,null,">35"]
[null,null,null,null,null,null,null,null,null,null,"Provisional"]

{"sheet":"Doug Gebauer","index":9,"n_rows":28,"n_cols":35,"rows_kept":28,"cut":false,"hidden":false,"merged":[[4,28,4,29],[4,30,4,31],[4,32,4,33],[20,28,20,29],[20,30,20,31],[20,32,20,33],[2,28,2,29],[2,30,2,31],[2,32,2,33],[3,28,3,29],[3,30,3,31],[3,32,3,33],[0,28,0,29],[0,30,0,31],[0,32,0,33],[1,28,1,29],[1,30,1,31],[1,32,1,33],[2,26,2,27],[3,14,3,15],[3,16,3,17],[3,18,3,19],[3,20,3,21],[3,22,3,23],[3,24,3,25],[3,26,3,27],[0,26,0,27],[1,14,1,15],[1,16,1,17],[1,18,1,19],[1,20,1,21],[1,22,1,23],[1,24,1,25],[1,26,1,27],[0,14,0,15],[0,16,0,17],[0,18,0,19],[0,20,0,21],[20,18,20,19],[20,20,20,21],[0,22,0,23],[0,24,0,25],[2,24,2,25],[4,24,4,25],[4,26,4,27],[20,24,20,25],[20,26,20,27],[2,14,2,15],[2,16,2,17],[2,18,2,19],[2,20,2,21],[2,22,2,23],[20,22,20,23],[4,14,4,15],[4,16,4,17],[4,18,4,19],[4,20,4,21],[4,22,4,23],[20,14,20,15],[20,16,20,17]]}
[null,null,null,null,null,null,null,null,null,null,null,null,null,null,{"$f":"VLOOKUP(O$5,Schedule!$A$8:$J$43,2,FALSE)","v":"2019-09-15"},null,{"$f":"VLOOKUP(Q$5,Schedule!$A$8:$J$43,2,FALSE)","v":"2019-09-21"},null,{"$f":"VLOOKUP(S$5,Schedule!$A$8:$J$43,2,FALSE)","v":"2019-09-29"},null,{"$f":"VLOOKUP(U$5,Schedule!$A$8:$J$43,2,FALSE)","v":"2019-10-06"},null,{"$f":"VLOOKUP(W$5,Schedule!$A$8:$J$43,2,FALSE)","v":"2019-10-13"},null,{"$f":"VLOOKUP(Y$5,Schedule!$A$8:$J$43,2,FALSE)","v":"2019-10-20"},null,{"$f":"VLOOKUP(AA$5,Schedule!$A$8:$J$43,2,FALSE)","v":"2019-10-27"},null,{"$f":"VLOOKUP(AC$5,Schedule!$A$8:$J$43,2,FALSE)","v":"2019-11-03"},null,{"$f":"VLOOKUP(AE$5,Schedule!$A$8:$J$43,2,FALSE)","v":"2019-11-10"},null,{"$f":"VLOOKUP(AG$5,Schedule!$A$8:$J$43,2,FALSE)","v":"2019-11-17"}]
[null,null,null,null,null,null,null,null,null,null,null,null,null,null,{"$f":"LEFT(VLOOKUP(O$5,Schedule!$A$8:$J$43,3,FALSE),15)","v":"South Point 400"},null,{"$f":"LEFT(VLOOKUP(Q$5,Schedule!$A$8:$J$43,3,FALSE),15)","v":"Federated Auto "},null,{"$f":"LEFT(VLOOKUP(S$5,Schedule!$A$8:$J$43,3,FALSE),15)","v":"Bank of America"},null,{"$f":"LEFT(VLOOKUP(U$5,Schedule!$A$8:$J$43,3,FALSE),15)","v":"MENCS Race at D"},null,{"$f":"LEFT(VLOOKUP(W$5,Schedule!$A$8:$J$43,3,FALSE),15)","v":"1000Bulbs.com 5"},null,{"$f":"LEFT(VLOOKUP(Y$5,Schedule!$A$8:$J$43,3,FALSE),15)","v":"Hollywood Casin"},null,{"$f":"LEFT(VLOOKUP(AA$5,Schedule!$A$8:$J$43,3,FALSE),15)","v":"First Data 500"},null,{"$f":"LEFT(VLOOKUP(AC$5,Schedule!$A$8:$J$43,3,FALSE),15)","v":"AAA Texas 500"},null,{"$f":"LEFT(VLOOKUP(AE$5,Schedule!$A$8:$J$43,3,FALSE),15)","v":"MENCS Race at I"},null,{"$f":"LEFT(VLOOKUP(AG$5,Schedule!$A$8:$J$43,3,FALSE),15)","v":"Ford EcoBoost 4"}]
[null,null,null,null,null,null,null,null,null,null,null,null,null,null,{"$f":"VLOOKUP(O$5,Schedule!$A$8:$J$43,2,FALSE)","v":"2019-09-15"},null,{"$f":"VLOOKUP(Q$5,Schedule!$A$8:$J$43,2,FALSE)","v":"2019-09-21"},null,{"$f":"VLOOKUP(S$5,Schedule!$A$8:$J$43,2,FALSE)","v":"2019-09-29"},null,{"$f":"VLOOKUP(U$5,Schedule!$A$8:$J$43,2,FALSE)","v":"2019-10-06"},null,{"$f":"VLOOKUP(W$5,Schedule!$A$8:$J$43,2,FALSE)","v":"2019-10-13"},null,{"$f":"VLOOKUP(Y$5,Schedule!$A$8:$J$43,2,FALSE)","v":"2019-10-20"},null,{"$f":"VLOOKUP(AA$5,Schedule!$A$8:$J$43,2,FALSE)","v":"2019-10-27"},null,{"$f":"VLOOKUP(AC$5,Schedule!$A$8:$J$43,2,FALSE)","v":"2019-11-03"},null,{"$f":"VLOOKUP(AE$5,Schedule!$A$8:$J$43,2,FALSE)","v":"2019-11-10"},null,{"$f":"VLOOKUP(AG$5,Schedule!$A$8:$J$43,2,FALSE)","v":"2019-11-17"}]
[null,null,null,null,null,null,null,null,null,null,null,null,null,null,{"$f":"VLOOKUP(O$5,Schedule!$A$4:$J$43,5,FALSE)","v":"Las Vegas"},null,{"$f":"VLOOKUP(Q$5,Schedule!$A$4:$J$43,5,FALSE)","v":"Richmond "},null,{"$f":"VLOOKUP(S$5,Schedule!$A$4:$J$43,5,FALSE)","v":"Charlotte "},null,{"$f":"VLOOKUP(U$5,Schedule!$A$4:$J$43,5,FALSE)","v":"Dover "},null,{"$f":"VLOOKUP(W$5,Schedule!$A$4:$J$43,5,FALSE)","v":"Talladega "},null,{"$f":"VLOOKUP(Y$5,Schedule!$A$4:$J$43,5,FALSE)","v":"Kansas "},null,{"$f":"VLOOKUP(AA$5,Schedule!$A$4:$J$43,5,FALSE)","v":"Martinsville "},null,{"$f":"VLOOKUP(AC$5,Schedule!$A$4:$J$43,5,FALSE)","v":"Texas "},null,{"$f":"VLOOKUP(AE$5,Schedule!$A$4:$J$43,5,FALSE)","v":"Phoenix"},null,{"$f":"VLOOKUP(AG$5,Schedule!$A$4:$J$43,5,FALSE)","v":"Homestead–Miami "}]
["Owner","Week","Week","Week","Week","Week","Week","Week","Week","Week","Week",2,3,4,27,null,28,null,29,null,30,null,31,null,32,null,33,null,34,null,35,null,36,null,"Total"]
["Points",27,28,29,30,31,32,33,34,35,36,"Driver","Make","Sponsor","Points","Bonus","Points","Bonus","Points","Bonus","Points","Bonus","Points","Bonus","Points","Bonus","Points","Bonus","Points","Bonus","Points","Bonus","Points","Bonus","Points"]
[{"$f":"VLOOKUP(HLOOKUP('Pick Distribution'!$P$2,$B$6:$K$15,$L$5),'Current Owner Standings'!$A$71:$B$480,2,FALSE)","v":4},2,2,18,18,18,18,18,4,4,18,{"$f":"IF(ISNA(VLOOKUP($K7,'Cars & Results'!$A$6:$K$317,L$5,FALSE)),\"Invalid Number\",VLOOKUP($K7,'Cars & Results'!$A$6:$K$317,L$5,FALSE))","v":"Kyle Busch"},{"$f":"IF(ISNA(VLOOKUP($K7,'Cars & Results'!$A$6:$K$317,M$5,FALSE)),\"Invalid Number\",VLOOKUP($K7,'Cars & Results'!$A$6:$K$317,M$5,FALSE))","v":"Toyota"},{"$f":"IF(ISNA(VLOOKUP($K7,'Cars & Results'!$A$6:$K$317,N$5,FALSE)),\"Invalid Number\",VLOOKUP($K7,'Cars & Results'!$A$6:$K$317,N$5,FALSE))","v":"Joe Gibbs Racing"},{"$f":"IF(HLOOKUP(O$5,$B$6:$K$15,Points!$A3+1,FALSE)=\"TBD\",\"\",VLOOKUP(HLOOKUP(O$5,$B$6:$K$15,Points!$A3+1,FALSE),'Cars & Results'!$A$7:$BZ$317,2*O$5+6,FALSE))","v":34},{"$f":"IF(HLOOKUP(O$5,$B$6:$K$15,Points!$A3+1,FALSE)=\"TBD\",\"\",0)","v":0},{"$f":"IF(HLOOKUP(Q$5,$B$6:$K$15,Points!$A3+1,FALSE)=\"TBD\",\"\",VLOOKUP(HLOOKUP(Q$5,$B$6:$K$15,Points!$A3+1,FALSE),'Cars & Results'!$A$7:$BZ$317,2*Q$5+6,FALSE))","v":48},{"$f":"IF(HLOOKUP(Q$5,$B$6:$K$15,Points!$A3+1,FALSE)=\"TBD\",\"\",0)","v":0},{"$f":"IF(HLOOKUP(S$5,$B$6:$K$15,Points!$A3+1,FALSE)=\"TBD\",\"\",VLOOKUP(HLOOKUP(S$5,$B$6:$K$15,Points!$A3+1,FALSE),'Cars & Results'!$A$7:$BZ$317,2*S$5+6,FALSE))","v":1},{"$f":"IF(HLOOKUP(S$5,$B$6:$K$15,Points!$A3+1,FALSE)=\"TBD\",\"\",0)","v":0},{"$f":"IF(HLOOKUP(U$5,$B$6:$K$15,Points!$A3+1,FALSE)=\"TBD\",\"\",VLOOKUP(HLOOKUP(U$5,$B$6:$K$15,Points!$A3+1,FALSE),'Cars & Results'!$A$7:$BZ$317,2*U$5+6,FALSE))","v":34},{"$f":"IF(HLOOKUP(U$5,$B$6:$K$15,Points!$A3+1,FALSE)=\"TBD\",\"\",0)","v":0},{"$f":"IF(HLOOKUP(W$5,$B$6:$K$15,Points!$A3+1,FALSE)=\"TBD\",\"\",VLOOKUP(HLOOKUP(W$5,$B$6:$K$15,Points!$A3+1,FALSE),'Cars & Results'!$A$7:$BZ$317,2*W$5+6,FALSE))","v":19},{"$f":"IF(HLOOKUP(W$5,$B$6:$K$15,Points!$A3+1,FALSE)=\"TBD\",\"\",0)","v":0},{"$f":"IF(HLOOKUP(Y$5,$B$6:$K$15,Points!$A3+1,FALSE)=\"TBD\",\"\",VLOOKUP(HLOOKUP(Y$5,$B$6:$K$15,Points!$A3+1,FALSE),'Cars & Results'!$A$7:$BZ$317,2*Y$5+6,FALSE))","v":23},{"$f":"IF(HLOOKUP(Y$5,$B$6:$K$15,Points!$A3+1,FALSE)=\"TBD\",\"\",0)","v":0},{"$f":"IF(HLOOKUP(AA$5,$B$6:$K$15,Points!$A3+1,FALSE)=\"TBD\",\"\",VLOOKUP(HLOOKUP(AA$5,$B$6:$K$15,Points!$A3+1,FALSE),'Cars & Results'!$A$7:$BZ$317,2*AA$5+6,FALSE))","v":23},{"$f":"IF(HLOOKUP(AA$5,$B$6:$K$15,Points!$A3+1,FALSE)=\"TBD\",\"\",0)","v":0},{"$f":"IF(HLOOKUP(AC$5,$B$6:$K$15,Points!$A3+1,FALSE)=\"TBD\",\"\",VLOOKUP(HLOOKUP(AC$5,$B$6:$K$15,Points!$A3+1,FALSE),'Cars & Results'!$A$7:$BZ$317,2*AC$5+6,FALSE))","v":55},{"$f":"IF(HLOOKUP(AC$5,$B$6:$K$15,Points!$A3+1,FALSE)=\"TBD\",\"\",0)","v":0},{"$f":"IF(HLOOKUP(AE$5,$B$6:$K$15,Points!$A3+1,FALSE)=\"TBD\",\"\",VLOOKUP(HLOOKUP(AE$5,$B$6:$K$15,Points!$A3+1,FALSE),'Cars & Results'!$A$7:$BZ$317,2*AE$5+6,FALSE))","v":38},{"$f":"IF(HLOOKUP(AE$5,$B$6:$K$15,Points!$A3+1,FALSE)=\"TBD\",\"\",0)","v":0},{"$f":"IF(HLOOKUP(AG$5,$B$6:$K$15,Points!$A3+1,FALSE)=\"TBD\",\"\",VLOOKUP(HLOOKUP(AG$5,$B$6:$K$15,Points!$A3+1,FALSE),'Cars & Results'!$A$7:$BZ$317,2*AG$5+6,FALSE))","v":40},{"$f":"IF(HLOOKUP(AG$5,$B$6:$K$15,Points!$A3+1,FALSE)=\"TBD\",\"\",0)","v":0}]
[{"$f":"VLOOKUP(HLOOKUP('Pick Distribution'!$P$2,$B$6:$K$15,3),'Current Owner Standings'!$A$71:$B$480,2,FALSE)","v":14},42,12,12,12,12,12,20,2,2,10,{"$f":"IF(ISNA(VLOOKUP($K8,'Cars & Results'!$A$6:$K$317,L$5,FALSE)),\"Invalid Number\",VLOOKUP($K8,'Cars & Results'!$A$6:$K$317,L$5,FALSE))","v":"Aric Almirola"},{"$f":"IF(ISNA(VLOOKUP($K8,'Cars & Results'!$A$6:$K$317,M$5,FALSE)),\"Invalid Number\",VLOOKUP($K8,'Cars & Results'!$A$6:$K$317,M$5,FALSE))","v":"Ford"},{"$f":"IF(ISNA(VLOOKUP($K8,'Cars & Results'!$A$6:$K$317,N$5,FALSE)),\"Invalid Number\",VLOOKUP($K8,'Cars & Results'!$A$6:$K$317,N$5,FALSE))","v":"Stewart-Haas Racing"},{"$f":"IF(HLOOKUP(O$5,$B$6:$K$15,Points!$A4+1,FALSE)=\"TBD\",\"\",VLOOKUP(HLOOKUP(O$5,$B$6:$K$15,Points!$A4+1,FALSE),'Cars & Results'!$A$7:$BZ$317,2*O$5+6,FALSE))","v":39},{"$f":"IF(HLOOKUP(O$5,$B$6:$KI$15,Points!$A4+1,FALSE)=\"TBD\",\"\",IF(VLOOKUP(HLOOKUP(O$5,$B$6:$K$15,Points!$A4+1,FALSE),'Cars & Results'!$A$7:$BZ$317,2*O$5+5)=1,O8*0.25,0))","v":0},{"$f":"IF(HLOOKUP(Q$5,$B$6:$K$15,Points!$A4+1,FALSE)=\"TBD\",\"\",VLOOKUP(HLOOKUP(Q$5,$B$6:$K$15,Points!$A4+1,FALSE),'Cars & Results'!$A$7:$BZ$317,2*Q$5+6,FALSE))","v":20},{"$f":"IF(HLOOKUP(Q$5,$B$6:$KI$15,Points!$A4+1,FALSE)=\"TBD\",\"\",IF(VLOOKUP(HLOOKUP(Q$5,$B$6:$K$15,Points!$A4+1,FALSE),'Cars & Results'!$A$7:$BZ$317,2*Q$5+5)=1,Q8*0.25,0))","v":0},{"$f":"IF(HLOOKUP(S$5,$B$6:$K$15,Points!$A4+1,FALSE)=\"TBD\",\"\",VLOOKUP(HLOOKUP(S$5,$B$6:$K$15,Points!$A4+1,FALSE),'Cars & Results'!$A$7:$BZ$317,2*S$5+6,FALSE))","v":34},{"$f":"IF(HLOOKUP(S$5,$B$6:$KI$15,Points!$A4+1,FALSE)=\"TBD\",\"\",IF(VLOOKUP(HLOOKUP(S$5,$B$6:$K$15,Points!$A4+1,FALSE),'Cars & Results'!$A$7:$BZ$317,2*S$5+5)=1,S8*0.25,0))","v":0},{"$f":"IF(HLOOKUP(U$5,$B$6:$K$15,Points!$A4+1,FALSE)=\"TBD\",\"\",VLOOKUP(HLOOKUP(U$5,$B$6:$K$15,Points!$A4+1,FALSE),'Cars & Results'!$A$7:$BZ$317,2*U$5+6,FALSE))","v":6},{"$f":"IF(HLOOKUP(U$5,$B$6:$KI$15,Points!$A4+1,FALSE)=\"TBD\",\"\",IF(VLOOKUP(HLOOKUP(U$5,$B$6:$K$15,Points!$A4+1,FALSE),'Cars & Results'!$A$7:$BZ$317,2*U$5+5)=1,U8*0.25,0))","v":0},{"$f":"IF(HLOOKUP(W$5,$B$6:$K$15,Points!$A4+1,FALSE)=\"TBD\",\"\",VLOOKUP(HLOOKUP(W$5,$B$6:$K$15,Points!$A4+1,FALSE),'Cars & Results'!$A$7:$BZ$317,2*W$5+6,FALSE))","v":46},{"$f":"IF(HLOOKUP(W$5,$B$6:$KI$15,Points!$A4+1,FALSE)=\"TBD\",\"\",IF(VLOOKUP(HLOOKUP(W$5,$B$6:$K$15,Points!$A4+1,FALSE),'Cars & Results'!$A$7:$BZ$317,2*W$5+5)=1,W8*0.25,0))","v":11.5},{"$f":"IF(HLOOKUP(Y$5,$B$6:$K$15,Points!$A4+1,FALSE)=\"TBD\",\"\",VLOOKUP(HLOOKUP(Y$5,$B$6:$K$15,Points!$A4+1,FALSE),'Cars & Results'!$A$7:$BZ$317,2*Y$5+6,FALSE))","v":48},{"$f":"IF(HLOOKUP(Y$5,$B$6:$KI$15,Points!$A4+1,FALSE)=\"TBD\",\"\",IF(VLOOKUP(HLOOKUP(Y$5,$B$6:$K$15,Points!$A4+1,FALSE),'Cars & Results'!$A$7:$BZ$317,2*Y$5+5)=1,Y8*0.25,0))","v":0},{"$f":"IF(HLOOKUP(AA$5,$B$6:$K$15,Points!$A4+1,FALSE)=\"TBD\",\"\",VLOOKUP(HLOOKUP(AA$5,$B$6:$K$15,Points!$A4+1,FALSE),'Cars & Results'!$A$7:$BZ$317,2*AA$5+6,FALSE))","v":19},{"$f":"IF(HLOOKUP(AA$5,$B$6:$KI$15,Points!$A4+1,FALSE)=\"TBD\",\"\",IF(VLOOKUP(HLOOKUP(AA$5,$B$6:$K$15,Points!$A4+1,FALSE),'Cars & Results'!$A$7:$BZ$317,2*AA$5+5)=1,AA8*0.25,0))","v":0},{"$f":"IF(HLOOKUP(AC$5,$B$6:$K$15,Points!$A4+1,FALSE)=\"TBD\",\"\",VLOOKUP(HLOOKUP(AC$5,$B$6:$K$15,Points!$A4+1,FALSE),'Cars & Results'!$A$7:$BZ$317,2*AC$5+6,FALSE))","v":1},{"$f":"IF(HLOOKUP(AC$5,$B$6:$KI$15,Points!$A4+1,FALSE)=\"TBD\",\"\",IF(VLOOKUP(HLOOKUP(AC$5,$B$6:$K$15,Points!$A4+1,FALSE),'Cars & Results'!$A$7:$BZ$317,2*AC$5+5)=1,AC8*0.25,0))","v":0},{"$f":"IF(HLOOKUP(AE$5,$B$6:$K$15,Points!$A4+1,FALSE)=\"TBD\",\"\",VLOOKUP(HLOOKUP(AE$5,$B$6:$K$15,Points!$A4+1,FALSE),'Cars & Results'!$A$7:$BZ$317,2*AE$5+6,FALSE))","v":34},{"$f":"IF(HLOOKUP(AE$5,$B$6:$KI$15,Points!$A4+1,FALSE)=\"TBD\",\"\",IF(VLOOKUP(HLOOKUP(AE$5,$B$6:$K$15,Points!$A4+1,FALSE),'Cars & Results'!$A$7:$BZ$317,2*AE$5+5)=1,AE8*0.25,0))","v":0},{"$f":"IF(HLOOKUP(AG$5,$B$6:$K$15,Points!$A4+1,FALSE)=\"TBD\",\"\",VLOOKUP(HLOOKUP(AG$5,$B$6:$K$15,Points!$A4+1,FALSE),'Cars & Results'!$A$7:$BZ$317,2*AG$5+6,FALSE))","v":15},{"$f":"IF(HLOOKUP(AG$5,$B$6:$KI$15,Points!$A4+1,FALSE)=\"TBD\",\"\",IF(VLOOKUP(HLOOKUP(AG$5,$B$6:$K$15,Points!$A4+1,FALSE),'Cars & Results'!$A$7:$BZ$317,2*AG$5+5)=1,AG8*0.25,0))","v":0}]
[{"$f":"VLOOKUP(HLOOKUP('Pick Distribution'!$P$2,$B$6:$K$15,4),'Current Owner Standings'!$A$71:$B$480,2,FALSE)","v":17},41,41,41,41,41,41,41,41,41,41,{"$f":"IF(ISNA(VLOOKUP($K9,'Cars & Results'!$A$6:$K$317,L$5,FALSE)),\"Invalid Number\",VLOOKUP($K9,'Cars & Results'!$A$6:$K$317,L$5,FALSE))","v":"Daniel Suárez"},{"$f":"IF(ISNA(VLOOKUP($K9,'Cars & Results'!$A$6:$K$317,M$5,FALSE)),\"Invalid Number\",VLOOKUP($K9,'Cars & Results'!$A$6:$K$317,M$5,FALSE))","v":"Ford"},{"$f":"IF(ISNA(VLOOKUP($K9,'Cars & Results'!$A$6:$K$317,N$5,FALSE)),\"Invalid Number\",VLOOKUP($K9,'Cars & Results'!$A$6:$K$317,N$5,FALSE))","v":"Stewart-Haas Racing"},{"$f":"IF(HLOOKUP(O$5,$B$6:$K$15,Points!$A5+1,FALSE)=\"TBD\",\"\",VLOOKUP(HLOOKUP(O$5,$B$6:$K$15,Points!$A5+1,FALSE),'Cars & Results'!$A$7:$BZ$317,2*O$5+6,FALSE))","v":24},{"$f":"IF(HLOOKUP(O$5,$B$6:$K$15,Points!$A5+1,FALSE)=\"TBD\",\"\",IF(VLOOKUP(HLOOKUP(O$5,$B$6:$K$15,Points!$A5+1,FALSE),'Cars & Results'!$A$7:$BZ$317,2*O$5+5)<=5,O9*0.5,0))","v":0},{"$f":"IF(HLOOKUP(Q$5,$B$6:$K$15,Points!$A5+1,FALSE)=\"TBD\",\"\",VLOOKUP(HLOOKUP(Q$5,$B$6:$K$15,Points!$A5+1,FALSE),'Cars & Results'!$A$7:$BZ$317,2*Q$5+6,FALSE))","v":28},{"$f":"IF(HLOOKUP(Q$5,$B$6:$K$15,Points!$A5+1,FALSE)=\"TBD\",\"\",IF(VLOOKUP(HLOOKUP(Q$5,$B$6:$K$15,Points!$A5+1,FALSE),'Cars & Results'!$A$7:$BZ$317,2*Q$5+5)<=5,Q9*0.5,0))","v":0},{"$f":"IF(HLOOKUP(S$5,$B$6:$K$15,Points!$A5+1,FALSE)=\"TBD\",\"\",VLOOKUP(HLOOKUP(S$5,$B$6:$K$15,Points!$A5+1,FALSE),'Cars & Results'!$A$7:$BZ$317,2*S$5+6,FALSE))","v":7},{"$f":"IF(HLOOKUP(S$5,$B$6:$K$15,Points!$A5+1,FALSE)=\"TBD\",\"\",IF(VLOOKUP(HLOOKUP(S$5,$B$6:$K$15,Points!$A5+1,FALSE),'Cars & Results'!$A$7:$BZ$317,2*S$5+5)<=5,S9*0.5,0))","v":0},{"$f":"IF(HLOOKUP(U$5,$B$6:$K$15,Points!$A5+1,FALSE)=\"TBD\",\"\",VLOOKUP(HLOOKUP(U$5,$B$6:$K$15,Points!$A5+1,FALSE),'Cars & Results'!$A$7:$BZ$317,2*U$5+6,FALSE))","v":23},{"$f":"IF(HLOOKUP(U$5,$B$6:$K$15,Points!$A5+1,FALSE)=\"TBD\",\"\",IF(VLOOKUP(HLOOKUP(U$5,$B$6:$K$15,Points!$A5+1,FALSE),'Cars & Results'!$A$7:$BZ$317,2*U$5+5)<=5,U9*0.5,0))","v":0},{"$f":"IF(HLOOKUP(W$5,$B$6:$K$15,Points!$A5+1,FALSE)=\"TBD\",\"\",VLOOKUP(HLOOKUP(W$5,$B$6:$K$15,Points!$A5+1,FALSE),'Cars & Results'!$A$7:$BZ$317,2*W$5+6,FALSE))","v":14},{"$f":"IF(HLOOKUP(W$5,$B$6:$K$15,Points!$A5+1,FALSE)=\"TBD\",\"\",IF(VLOOKUP(HLOOKUP(W$5,$B$6:$K$15,Points!$A5+1,FALSE),'Cars & Results'!$A$7:$BZ$317,2*W$5+5)<=5,W9*0.5,0))","v":0},{"$f":"IF(HLOOKUP(Y$5,$B$6:$K$15,Points!$A5+1,FALSE)=\"TBD\",\"\",VLOOKUP(HLOOKUP(Y$5,$B$6:$K$15,Points!$A5+1,FALSE),'Cars & Results'!$A$7:$BZ$317,2*Y$5+6,FALSE))","v":7},{"$f":"IF(HLOOKUP(Y$5,$B$6:$K$15,Points!$A5+1,FALSE)=\"TBD\",\"\",IF(VLOOKUP(HLOOKUP(Y$5,$B$6:$K$15,Points!$A5+1,FALSE),'Cars & Results'!$A$7:$BZ$317,2*Y$5+5)<=5,Y9*0.5,0))","v":0},{"$f":"IF(HLOOKUP(AA$5,$B$6:$K$15,Points!$A5+1,FALSE)=\"TBD\",\"\",VLOOKUP(HLOOKUP(AA$5,$B$6:$K$15,Points!$A5+1,FALSE),'Cars & Results'!$A$7:$BZ$317,2*AA$5+6,FALSE))","v":7},{"$f":"IF(HLOOKUP(AA$5,$B$6:$K$15,Points!$A5+1,FALSE)=\"TBD\",\"\",IF(VLOOKUP(HLOOKUP(AA$5,$B$6:$K$15,Points!$A5+1,FALSE),'Cars & Results'!$A$7:$BZ$317,2*AA$5+5)<=5,AA9*0.5,0))","v":0},{"$f":"IF(HLOOKUP(AC$5,$B$6:$K$15,Points!$A5+1,FALSE)=\"TBD\",\"\",VLOOKUP(HLOOKUP(AC$5,$B$6:$K$15,Points!$A5+1,FALSE),'Cars & Results'!$A$7:$BZ$317,2*AC$5+6,FALSE))","v":37},{"$f":"IF(HLOOKUP(AC$5,$B$6:$K$15,Points!$A5+1,FALSE)=\"TBD\",\"\",IF(VLOOKUP(HLOOKUP(AC$5,$B$6:$K$15,Points!$A5+1,FALSE),'Cars & Results'!$A$7:$BZ$317,2*AC$5+5)<=5,AC9*0.5,0))","v":18.5},{"$f":"IF(HLOOKUP(AE$5,$B$6:$K$15,Points!$A5+1,FALSE)=\"TBD\",\"\",VLOOKUP(HLOOKUP(AE$5,$B$6:$K$15,Points!$A5+1,FALSE),'Cars & Results'!$A$7:$BZ$317,2*AE$5+6,FALSE))","v":22},{"$f":"IF(HLOOKUP(AE$5,$B$6:$K$15,Points!$A5+1,FALSE)=\"TBD\",\"\",IF(VLOOKUP(HLOOKUP(AE$5,$B$6:$K$15,Points!$A5+1,FALSE),'Cars & Results'!$A$7:$BZ$317,2*AE$5+5)<=5,AE9*0.5,0))","v":0},{"$f":"IF(HLOOKUP(AG$5,$B$6:$K$15,Points!$A5+1,FALSE)=\"TBD\",\"\",VLOOKUP(HLOOKUP(AG$5,$B$6:$K$15,Points!$A5+1,FALSE),'Cars & Results'!$A$7:$BZ$317,2*AG$5+6,FALSE))","v":23},{"$f":"IF(HLOOKUP(AG$5,$B$6:$K$15,Points!$A5+1,FALSE)=\"TBD\",\"\",IF(VLOOKUP(HLOOKUP(AG$5,$B$6:$K$15,Points!$A5+1,FALSE),'Cars & Results'!$A$7:$BZ$317,2*AG$5+5)<=5,AG9*0.5,0))","v":0}]
[{"$f":"VLOOKUP(HLOOKUP('Pick Distribution'!$P$2,$B$6:$K$15,5),'Current Owner Standings'!$A$71:$B$480,2,FALSE)","v":18},48,48,48,48,48,48,48,48,48,48,{"$f":"IF(ISNA(VLOOKUP($K10,'Cars & Results'!$A$6:$K$317,L$5,FALSE)),\"Invalid Number\",VLOOKUP($K10,'Cars & Results'!$A$6:$K$317,L$5,FALSE))","v":"Jimmie Johnson"},{"$f":"IF(ISNA(VLOOKUP($K10,'Cars & Results'!$A$6:$K$317,M$5,FALSE)),\"Invalid Number\",VLOOKUP($K10,'Cars & Results'!$A$6:$K$317,M$5,FALSE))","v":"Chevrolet"},{"$f":"IF(ISNA(VLOOKUP($K10,'Cars & Results'!$A$6:$K$317,N$5,FALSE)),\"Invalid Number\",VLOOKUP($K10,'Cars & Results'!$A$6:$K$317,N$5,FALSE))","v":"Hendrick Motorsports"},{"$f":"IF(HLOOKUP(O$5,$B$6:$K$15,Points!$A6+1,FALSE)=\"TBD\",\"\",VLOOKUP(HLOOKUP(O$5,$B$6:$K$15,Points!$A6+1,FALSE),'Cars & Results'!$A$7:$BZ$317,2*O$5+6,FALSE))","v":26},{"$f":"IF(HLOOKUP(O$5,$B$6:$K$15,Points!$A6+1,FALSE)=\"TBD\",\"\",IF(VLOOKUP(HLOOKUP(O$5,$B$6:$K$15,Points!$A6+1,FALSE),'Cars & Results'!$A$7:$BZ$317,2*O$5+5)<=5,O10*0.5,0))","v":0},{"$f":"IF(HLOOKUP(Q$5,$B$6:$K$15,Points!$A6+1,FALSE)=\"TBD\",\"\",VLOOKUP(HLOOKUP(Q$5,$B$6:$K$15,Points!$A6+1,FALSE),'Cars & Results'!$A$7:$BZ$317,2*Q$5+6,FALSE))","v":31},{"$f":"IF(HLOOKUP(Q$5,$B$6:$K$15,Points!$A6+1,FALSE)=\"TBD\",\"\",IF(VLOOKUP(HLOOKUP(Q$5,$B$6:$K$15,Points!$A6+1,FALSE),'Cars & Results'!$A$7:$BZ$317,2*Q$5+5)<=5,Q10*0.5,0))","v":0},{"$f":"IF(HLOOKUP(S$5,$B$6:$K$15,Points!$A6+1,FALSE)=\"TBD\",\"\",VLOOKUP(HLOOKUP(S$5,$B$6:$K$15,Points!$A6+1,FALSE),'Cars & Results'!$A$7:$BZ$317,2*S$5+6,FALSE))","v":35},{"$f":"IF(HLOOKUP(S$5,$B$6:$K$15,Points!$A6+1,FALSE)=\"TBD\",\"\",IF(VLOOKUP(HLOOKUP(S$5,$B$6:$K$15,Points!$A6+1,FALSE),'Cars & Results'!$A$7:$BZ$317,2*S$5+5)<=5,S10*0.5,0))","v":0},{"$f":"IF(HLOOKUP(U$5,$B$6:$K$15,Points!$A6+1,FALSE)=\"TBD\",\"\",VLOOKUP(HLOOKUP(U$5,$B$6:$K$15,Points!$A6+1,FALSE),'Cars & Results'!$A$7:$BZ$317,2*U$5+6,FALSE))","v":39},{"$f":"IF(HLOOKUP(U$5,$B$6:$K$15,Points!$A6+1,FALSE)=\"TBD\",\"\",IF(VLOOKUP(HLOOKUP(U$5,$B$6:$K$15,Points!$A6+1,FALSE),'Cars & Results'!$A$7:$BZ$317,2*U$5+5)<=5,U10*0.5,0))","v":0},{"$f":"IF(HLOOKUP(W$5,$B$6:$K$15,Points!$A6+1,FALSE)=\"TBD\",\"\",VLOOKUP(HLOOKUP(W$5,$B$6:$K$15,Points!$A6+1,FALSE),'Cars & Results'!$A$7:$BZ$317,2*W$5+6,FALSE))","v":5},{"$f":"IF(HLOOKUP(W$5,$B$6:$K$15,Points!$A6+1,FALSE)=\"TBD\",\"\",IF(VLOOKUP(HLOOKUP(W$5,$B$6:$K$15,Points!$A6+1,FALSE),'Cars & Results'!$A$7:$BZ$317,2*W$5+5)<=5,W10*0.5,0))","v":0},{"$f":"IF(HLOOKUP(Y$5,$B$6:$K$15,Points!$A6+1,FALSE)=\"TBD\",\"\",VLOOKUP(HLOOKUP(Y$5,$B$6:$K$15,Points!$A6+1,FALSE),'Cars & Results'!$A$7:$BZ$317,2*Y$5+6,FALSE))","v":1},{"$f":"IF(HLOOKUP(Y$5,$B$6:$K$15,Points!$A6+1,FALSE)=\"TBD\",\"\",IF(VLOOKUP(HLOOKUP(Y$5,$B$6:$K$15,Points!$A6+1,FALSE),'Cars & Results'!$A$7:$BZ$317,2*Y$5+5)<=5,Y10*0.5,0))","v":0},{"$f":"IF(HLOOKUP(AA$5,$B$6:$K$15,Points!$A6+1,FALSE)=\"TBD\",\"\",VLOOKUP(HLOOKUP(AA$5,$B$6:$K$15,Points!$A6+1,FALSE),'Cars & Results'!$A$7:$BZ$317,2*AA$5+6,FALSE))","v":1},{"$f":"IF(HLOOKUP(AA$5,$B$6:$K$15,Points!$A6+1,FALSE)=\"TBD\",\"\",IF(VLOOKUP(HLOOKUP(AA$5,$B$6:$K$15,Points!$A6+1,FALSE),'Cars & Results'!$A$7:$BZ$317,2*AA$5+5)<=5,AA10*0.5,0))","v":0},{"$f":"IF(HLOOKUP(AC$5,$B$6:$K$15,Points!$A6+1,FALSE)=\"TBD\",\"\",VLOOKUP(HLOOKUP(AC$5,$B$6:$K$15,Points!$A6+1,FALSE),'Cars & Results'!$A$7:$BZ$317,2*AC$5+6,FALSE))","v":11},{"$f":"IF(HLOOKUP(AC$5,$B$6:$K$15,Points!$A6+1,FALSE)=\"TBD\",\"\",IF(VLOOKUP(HLOOKUP(AC$5,$B$6:$K$15,Points!$A6+1,FALSE),'Cars & Results'!$A$7:$BZ$317,2*AC$5+5)<=5,AC10*0.5,0))","v":0},{"$f":"IF(HLOOKUP(AE$5,$B$6:$K$15,Points!$A6+1,FALSE)=\"TBD\",\"\",VLOOKUP(HLOOKUP(AE$5,$B$6:$K$15,Points!$A6+1,FALSE),'Cars & Results'!$A$7:$BZ$317,2*AE$5+6,FALSE))","v":23},{"$f":"IF(HLOOKUP(AE$5,$B$6:$K$15,Points!$A6+1,FALSE)=\"TBD\",\"\",IF(VLOOKUP(HLOOKUP(AE$5,$B$6:$K$15,Points!$A6+1,FALSE),'Cars & Results'!$A$7:$BZ$317,2*AE$5+5)<=5,AE10*0.5,0))","v":0},{"$f":"IF(HLOOKUP(AG$5,$B$6:$K$15,Points!$A6+1,FALSE)=\"TBD\",\"\",VLOOKUP(HLOOKUP(AG$5,$B$6:$K$15,Points!$A6+1,FALSE),'Cars & Results'!$A$7:$BZ$317,2*AG$5+6,FALSE))","v":28},{"$f":"IF(HLOOKUP(AG$5,$B$6:$K$15,Points!$A6+1,FALSE)=\"TBD\",\"\",IF(VLOOKUP(HLOOKUP(AG$5,$B$6:$K$15,Points!$A6+1,FALSE),'Cars & Results'!$A$7:$BZ$317,2*AG$5+5)<=5,AG10*0.5,0))","v":0}]
[{"$f":"VLOOKUP(HLOOKUP('Pick Distribution'!$P$2,$B$6:$K$15,6),'Current Owner Standings'!$A$71:$B$480,2,FALSE)","v":24},13,13,13,13,13,13,13,13,13,13,{"$f":"IF(ISNA(VLOOKUP($K11,'Cars & Results'!$A$6:$K$317,L$5,FALSE)),\"Invalid Number\",VLOOKUP($K11,'Cars & Results'!$A$6:$K$317,L$5,FALSE))","v":"Ty Dillon"},{"$f":"IF(ISNA(VLOOKUP($K11,'Cars & Results'!$A$6:$K$317,M$5,FALSE)),\"Invalid Number\",VLOOKUP($K11,'Cars & Results'!$A$6:$K$317,M$5,FALSE))","v":"Chevrolet"},{"$f":"IF(ISNA(VLOOKUP($K11,'Cars & Results'!$A$6:$K$317,N$5,FALSE)),\"Invalid Number\",VLOOKUP($K11,'Cars & Results'!$A$6:$K$317,N$5,FALSE))","v":"Germain Racing"},{"$f":"IF(HLOOKUP(O$5,$B$6:$K$15,Points!$A7+1,FALSE)=\"TBD\",\"\",VLOOKUP(HLOOKUP(O$5,$B$6:$K$15,Points!$A7+1,FALSE),'Cars & Results'!$A$7:$BZ$317,2*O$5+6,FALSE))","v":21},{"$f":"IF(HLOOKUP(O$5,$B$6:$K$15,Points!$A7+1,FALSE)=\"TBD\",\"\",IF(VLOOKUP(HLOOKUP(O$5,$B$6:$K$15,Points!$A7+1,FALSE),'Cars & Results'!$A$7:$BZ$317,2*O$5+5)<=10,O11*1.5,0))","v":0},{"$f":"IF(HLOOKUP(Q$5,$B$6:$K$15,Points!$A7+1,FALSE)=\"TBD\",\"\",VLOOKUP(HLOOKUP(Q$5,$B$6:$K$15,Points!$A7+1,FALSE),'Cars & Results'!$A$7:$BZ$317,2*Q$5+6,FALSE))","v":11},{"$f":"IF(HLOOKUP(Q$5,$B$6:$K$15,Points!$A7+1,FALSE)=\"TBD\",\"\",IF(VLOOKUP(HLOOKUP(Q$5,$B$6:$K$15,Points!$A7+1,FALSE),'Cars & Results'!$A$7:$BZ$317,2*Q$5+5)<=10,Q11*1.5,0))","v":0},{"$f":"IF(HLOOKUP(S$5,$B$6:$K$15,Points!$A7+1,FALSE)=\"TBD\",\"\",VLOOKUP(HLOOKUP(S$5,$B$6:$K$15,Points!$A7+1,FALSE),'Cars & Results'!$A$7:$BZ$317,2*S$5+6,FALSE))","v":22},{"$f":"IF(HLOOKUP(S$5,$B$6:$K$15,Points!$A7+1,FALSE)=\"TBD\",\"\",IF(VLOOKUP(HLOOKUP(S$5,$B$6:$K$15,Points!$A7+1,FALSE),'Cars & Results'!$A$7:$BZ$317,2*S$5+5)<=10,S11*1.5,0))","v":0},{"$f":"IF(HLOOKUP(U$5,$B$6:$K$15,Points!$A7+1,FALSE)=\"TBD\",\"\",VLOOKUP(HLOOKUP(U$5,$B$6:$K$15,Points!$A7+1,FALSE),'Cars & Results'!$A$7:$BZ$317,2*U$5+6,FALSE))","v":14},{"$f":"IF(HLOOKUP(U$5,$B$6:$K$15,Points!$A7+1,FALSE)=\"TBD\",\"\",IF(VLOOKUP(HLOOKUP(U$5,$B$6:$K$15,Points!$A7+1,FALSE),'Cars & Results'!$A$7:$BZ$317,2*U$5+5)<=10,U11*1.5,0))","v":0},{"$f":"IF(HLOOKUP(W$5,$B$6:$K$15,Points!$A7+1,FALSE)=\"TBD\",\"\",VLOOKUP(HLOOKUP(W$5,$B$6:$K$15,Points!$A7+1,FALSE),'Cars & Results'!$A$7:$BZ$317,2*W$5+6,FALSE))","v":27},{"$f":"IF(HLOOKUP(W$5,$B$6:$K$15,Points!$A7+1,FALSE)=\"TBD\",\"\",IF(VLOOKUP(HLOOKUP(W$5,$B$6:$K$15,Points!$A7+1,FALSE),'Cars & Results'!$A$7:$BZ$317,2*W$5+5)<=10,W11*1.5,0))","v":40.5},{"$f":"IF(HLOOKUP(Y$5,$B$6:$K$15,Points!$A7+1,FALSE)=\"TBD\",\"\",VLOOKUP(HLOOKUP(Y$5,$B$6:$K$15,Points!$A7+1,FALSE),'Cars & Results'!$A$7:$BZ$317,2*Y$5+6,FALSE))","v":13},{"$f":"IF(HLOOKUP(Y$5,$B$6:$K$15,Points!$A7+1,FALSE)=\"TBD\",\"\",IF(VLOOKUP(HLOOKUP(Y$5,$B$6:$K$15,Points!$A7+1,FALSE),'Cars & Results'!$A$7:$BZ$317,2*Y$5+5)<=10,Y11*1.5,0))","v":0},{"$f":"IF(HLOOKUP(AA$5,$B$6:$K$15,Points!$A7+1,FALSE)=\"TBD\",\"\",VLOOKUP(HLOOKUP(AA$5,$B$6:$K$15,Points!$A7+1,FALSE),'Cars & Results'!$A$7:$BZ$317,2*AA$5+6,FALSE))","v":13},{"$f":"IF(HLOOKUP(AA$5,$B$6:$K$15,Points!$A7+1,FALSE)=\"TBD\",\"\",IF(VLOOKUP(HLOOKUP(AA$5,$B$6:$K$15,Points!$A7+1,FALSE),'Cars & Results'!$A$7:$BZ$317,2*AA$5+5)<=10,AA11*1.5,0))","v":0},{"$f":"IF(HLOOKUP(AC$5,$B$6:$K$15,Points!$A7+1,FALSE)=\"TBD\",\"\",VLOOKUP(HLOOKUP(AC$5,$B$6:$K$15,Points!$A7+1,FALSE),'Cars & Results'!$A$7:$BZ$317,2*AC$5+6,FALSE))","v":19},{"$f":"IF(HLOOKUP(AC$5,$B$6:$K$15,Points!$A7+1,FALSE)=\"TBD\",\"\",IF(VLOOKUP(HLOOKUP(AC$5,$B$6:$K$15,Points!$A7+1,FALSE),'Cars & Results'!$A$7:$BZ$317,2*AC$5+5)<=10,AC11*1.5,0))","v":0},{"$f":"IF(HLOOKUP(AE$5,$B$6:$K$15,Points!$A7+1,FALSE)=\"TBD\",\"\",VLOOKUP(HLOOKUP(AE$5,$B$6:$K$15,Points!$A7+1,FALSE),'Cars & Results'!$A$7:$BZ$317,2*AE$5+6,FALSE))","v":17},{"$f":"IF(HLOOKUP(AE$5,$B$6:$K$15,Points!$A7+1,FALSE)=\"TBD\",\"\",IF(VLOOKUP(HLOOKUP(AE$5,$B$6:$K$15,Points!$A7+1,FALSE),'Cars & Results'!$A$7:$BZ$317,2*AE$5+5)<=10,AE11*1.5,0))","v":0},{"$f":"IF(HLOOKUP(AG$5,$B$6:$K$15,Points!$A7+1,FALSE)=\"TBD\",\"\",VLOOKUP(HLOOKUP(AG$5,$B$6:$K$15,Points!$A7+1,FALSE),'Cars & Results'!$A$7:$BZ$317,2*AG$5+6,FALSE))","v":13},{"$f":"IF(HLOOKUP(AG$5,$B$6:$K$15,Points!$A7+1,FALSE)=\"TBD\",\"\",IF(VLOOKUP(HLOOKUP(AG$5,$B$6:$K$15,Points!$A7+1,FALSE),'Cars & Results'!$A$7:$BZ$317,2*AG$5+5)<=10,AG11*1.5,0))","v":0}]
[{"$f":"VLOOKUP(HLOOKUP('Pick Distribution'!$P$2,$B$6:$K$15,7),'Current Owner Standings'!$A$71:$B$480,2,FALSE)","v":28},34,34,43,43,43,43,43,47,47,34,{"$f":"IF(ISNA(VLOOKUP($K12,'Cars & Results'!$A$6:$K$317,L$5,FALSE)),\"Invalid Number\",VLOOKUP($K12,'Cars & Results'!$A$6:$K$317,L$5,FALSE))","v":"Michael McDowell"},{"$f":"IF(ISNA(VLOOKUP($K12,'Cars & Results'!$A$6:$K$317,M$5,FALSE)),\"Invalid Number\",VLOOKUP($K12,'Cars & Results'!$A$6:$K$317,M$5,FALSE))","v":"Ford"},{"$f":"IF(ISNA(VLOOKUP($K12,'Cars & Results'!$A$6:$K$317,N$5,FALSE)),\"Invalid Number\",VLOOKUP($K12,'Cars & Results'!$A$6:$K$317,N$5,FALSE))","v":"Front Row Motorsports"},{"$f":"IF(HLOOKUP(O$5,$B$6:$K$15,Points!$A8+1,FALSE)=\"TBD\",\"\",VLOOKUP(HLOOKUP(O$5,$B$6:$K$15,Points!$A8+1,FALSE),'Cars & Results'!$A$7:$BZ$317,2*O$5+6,FALSE))","v":13},{"$f":"IF(HLOOKUP(O$5,$B$6:$K$15,Points!$A8+1,FALSE)=\"TBD\",\"\",IF(VLOOKUP(HLOOKUP(O$5,$B$6:$K$15,Points!$A8+1,FALSE),'Cars & Results'!$A$7:$BZ$317,2*O$5+5)<=10,O12*1.5,0))","v":0},{"$f":"IF(HLOOKUP(Q$5,$B$6:$K$15,Points!$A8+1,FALSE)=\"TBD\",\"\",VLOOKUP(HLOOKUP(Q$5,$B$6:$K$15,Points!$A8+1,FALSE),'Cars & Results'!$A$7:$BZ$317,2*Q$5+6,FALSE))","v":16},{"$f":"IF(HLOOKUP(Q$5,$B$6:$K$15,Points!$A8+1,FALSE)=\"TBD\",\"\",IF(VLOOKUP(HLOOKUP(Q$5,$B$6:$K$15,Points!$A8+1,FALSE),'Cars & Results'!$A$7:$BZ$317,2*Q$5+5)<=10,Q12*1.5,0))","v":0},{"$f":"IF(HLOOKUP(S$5,$B$6:$K$15,Points!$A8+1,FALSE)=\"TBD\",\"\",VLOOKUP(HLOOKUP(S$5,$B$6:$K$15,Points!$A8+1,FALSE),'Cars & Results'!$A$7:$BZ$317,2*S$5+6,FALSE))","v":13},{"$f":"IF(HLOOKUP(S$5,$B$6:$K$15,Points!$A8+1,FALSE)=\"TBD\",\"\",IF(VLOOKUP(HLOOKUP(S$5,$B$6:$K$15,Points!$A8+1,FALSE),'Cars & Results'!$A$7:$BZ$317,2*S$5+5)<=10,S12*1.5,0))","v":0},{"$f":"IF(HLOOKUP(U$5,$B$6:$K$15,Points!$A8+1,FALSE)=\"TBD\",\"\",VLOOKUP(HLOOKUP(U$5,$B$6:$K$15,Points!$A8+1,FALSE),'Cars & Results'!$A$7:$BZ$317,2*U$5+6,FALSE))","v":17},{"$f":"IF(HLOOKUP(U$5,$B$6:$K$15,Points!$A8+1,FALSE)=\"TBD\",\"\",IF(VLOOKUP(HLOOKUP(U$5,$B$6:$K$15,Points!$A8+1,FALSE),'Cars & Results'!$A$7:$BZ$317,2*U$5+5)<=10,U12*1.5,0))","v":0},{"$f":"IF(HLOOKUP(W$5,$B$6:$K$15,Points!$A8+1,FALSE)=\"TBD\",\"\",VLOOKUP(HLOOKUP(W$5,$B$6:$K$15,Points!$A8+1,FALSE),'Cars & Results'!$A$7:$BZ$317,2*W$5+6,FALSE))","v":13},{"$f":"IF(HLOOKUP(W$5,$B$6:$K$15,Points!$A8+1,FALSE)=\"TBD\",\"\",IF(VLOOKUP(HLOOKUP(W$5,$B$6:$K$15,Points!$A8+1,FALSE),'Cars & Results'!$A$7:$BZ$317,2*W$5+5)<=10,W12*1.5,0))","v":0},{"$f":"IF(HLOOKUP(Y$5,$B$6:$K$15,Points!$A8+1,FALSE)=\"TBD\",\"\",VLOOKUP(HLOOKUP(Y$5,$B$6:$K$15,Points!$A8+1,FALSE),'Cars & Results'!$A$7:$BZ$317,2*Y$5+6,FALSE))","v":24},{"$f":"IF(HLOOKUP(Y$5,$B$6:$K$15,Points!$A8+1,FALSE)=\"TBD\",\"\",IF(VLOOKUP(HLOOKUP(Y$5,$B$6:$K$15,Points!$A8+1,FALSE),'Cars & Results'!$A$7:$BZ$317,2*Y$5+5)<=10,Y12*1.5,0))","v":0},{"$f":"IF(HLOOKUP(AA$5,$B$6:$K$15,Points!$A8+1,FALSE)=\"TBD\",\"\",VLOOKUP(HLOOKUP(AA$5,$B$6:$K$15,Points!$A8+1,FALSE),'Cars & Results'!$A$7:$BZ$317,2*AA$5+6,FALSE))","v":24},{"$f":"IF(HLOOKUP(AA$5,$B$6:$K$15,Points!$A8+1,FALSE)=\"TBD\",\"\",IF(VLOOKUP(HLOOKUP(AA$5,$B$6:$K$15,Points!$A8+1,FALSE),'Cars & Results'!$A$7:$BZ$317,2*AA$5+5)<=10,AA12*1.5,0))","v":0},{"$f":"IF(HLOOKUP(AC$5,$B$6:$K$15,Points!$A8+1,FALSE)=\"TBD\",\"\",VLOOKUP(HLOOKUP(AC$5,$B$6:$K$15,Points!$A8+1,FALSE),'Cars & Results'!$A$7:$BZ$317,2*AC$5+6,FALSE))","v":17},{"$f":"IF(HLOOKUP(AC$5,$B$6:$K$15,Points!$A8+1,FALSE)=\"TBD\",\"\",IF(VLOOKUP(HLOOKUP(AC$5,$B$6:$K$15,Points!$A8+1,FALSE),'Cars & Results'!$A$7:$BZ$317,2*AC$5+5)<=10,AC12*1.5,0))","v":0},{"$f":"IF(HLOOKUP(AE$5,$B$6:$K$15,Points!$A8+1,FALSE)=\"TBD\",\"\",VLOOKUP(HLOOKUP(AE$5,$B$6:$K$15,Points!$A8+1,FALSE),'Cars & Results'!$A$7:$BZ$317,2*AE$5+6,FALSE))","v":11},{"$f":"IF(HLOOKUP(AE$5,$B$6:$K$15,Points!$A8+1,FALSE)=\"TBD\",\"\",IF(VLOOKUP(HLOOKUP(AE$5,$B$6:$K$15,Points!$A8+1,FALSE),'Cars & Results'!$A$7:$BZ$317,2*AE$5+5)<=10,AE12*1.5,0))","v":0},{"$f":"IF(HLOOKUP(AG$5,$B$6:$K$15,Points!$A8+1,FALSE)=\"TBD\",\"\",VLOOKUP(HLOOKUP(AG$5,$B$6:$K$15,Points!$A8+1,FALSE),'Cars & Results'!$A$7:$BZ$317,2*AG$5+6,FALSE))","v":11},{"$f":"IF(HLOOKUP(AG$5,$B$6:$K$15,Points!$A8+1,FALSE)=\"TBD\",\"\",IF(VLOOKUP(HLOOKUP(AG$5,$B$6:$K$15,Points!$A8+1,FALSE),'Cars & Results'!$A$7:$BZ$317,2*AG$5+5)<=10,AG12*1.5,0))","v":0}]
[{"$f":"VLOOKUP(HLOOKUP('Pick Distribution'!$P$2,$B$6:$K$15,8),'Current Owner Standings'!$A$71:$B$480,2,FALSE)","v":32},15,15,15,77,77,77,77,77,77,15,{"$f":"IF(ISNA(VLOOKUP($K13,'Cars & Results'!$A$6:$K$317,L$5,FALSE)),\"Invalid Number\",VLOOKUP($K13,'Cars & Results'!$A$6:$K$317,L$5,FALSE))","v":"Joe Nemechek (i)"},{"$f":"IF(ISNA(VLOOKUP($K13,'Cars & Results'!$A$6:$K$317,M$5,FALSE)),\"Invalid Number\",VLOOKUP($K13,'Cars & Results'!$A$6:$K$317,M$5,FALSE))","v":"Chevrolet"},{"$f":"IF(ISNA(VLOOKUP($K13,'Cars & Results'!$A$6:$K$317,N$5,FALSE)),\"Invalid Number\",VLOOKUP($K13,'Cars & Results'!$A$6:$K$317,N$5,FALSE))","v":"Premium Motorsports"},{"$f":"IF(HLOOKUP(O$5,$B$6:$K$15,Points!$A9+1,FALSE)=\"TBD\",\"\",VLOOKUP(HLOOKUP(O$5,$B$6:$K$15,Points!$A9+1,FALSE),'Cars & Results'!$A$7:$BZ$317,2*O$5+6,FALSE))","v":6},{"$f":"IF(HLOOKUP(O$5,$B$6:$K$15,Points!$A9+1,FALSE)=\"TBD\",\"\",IF(VLOOKUP(HLOOKUP(O$5,$B$6:$K$15,Points!$A9+1,FALSE),'Cars & Results'!$A$7:$BZ$317,2*O$5+5)<=10,O13*2,0))","v":0},{"$f":"IF(HLOOKUP(Q$5,$B$6:$K$15,Points!$A9+1,FALSE)=\"TBD\",\"\",VLOOKUP(HLOOKUP(Q$5,$B$6:$K$15,Points!$A9+1,FALSE),'Cars & Results'!$A$7:$BZ$317,2*Q$5+6,FALSE))","v":1},{"$f":"IF(HLOOKUP(Q$5,$B$6:$K$15,Points!$A9+1,FALSE)=\"TBD\",\"\",IF(VLOOKUP(HLOOKUP(Q$5,$B$6:$K$15,Points!$A9+1,FALSE),'Cars & Results'!$A$7:$BZ$317,2*Q$5+5)<=10,Q13*2,0))","v":0},{"$f":"IF(HLOOKUP(S$5,$B$6:$K$15,Points!$A9+1,FALSE)=\"TBD\",\"\",VLOOKUP(HLOOKUP(S$5,$B$6:$K$15,Points!$A9+1,FALSE),'Cars & Results'!$A$7:$BZ$317,2*S$5+6,FALSE))","v":15},{"$f":"IF(HLOOKUP(S$5,$B$6:$K$15,Points!$A9+1,FALSE)=\"TBD\",\"\",IF(VLOOKUP(HLOOKUP(S$5,$B$6:$K$15,Points!$A9+1,FALSE),'Cars & Results'!$A$7:$BZ$317,2*S$5+5)<=10,S13*2,0))","v":0},{"$f":"IF(HLOOKUP(U$5,$B$6:$K$15,Points!$A9+1,FALSE)=\"TBD\",\"\",VLOOKUP(HLOOKUP(U$5,$B$6:$K$15,Points!$A9+1,FALSE),'Cars & Results'!$A$7:$BZ$317,2*U$5+6,FALSE))","v":1},{"$f":"IF(HLOOKUP(U$5,$B$6:$K$15,Points!$A9+1,FALSE)=\"TBD\",\"\",IF(VLOOKUP(HLOOKUP(U$5,$B$6:$K$15,Points!$A9+1,FALSE),'Cars & Results'!$A$7:$BZ$317,2*U$5+5)<=10,U13*2,0))","v":0},{"$f":"IF(HLOOKUP(W$5,$B$6:$K$15,Points!$A9+1,FALSE)=\"TBD\",\"\",VLOOKUP(HLOOKUP(W$5,$B$6:$K$15,Points!$A9+1,FALSE),'Cars & Results'!$A$7:$BZ$317,2*W$5+6,FALSE))","v":6},{"$f":"IF(HLOOKUP(W$5,$B$6:$K$15,Points!$A9+1,FALSE)=\"TBD\",\"\",IF(VLOOKUP(HLOOKUP(W$5,$B$6:$K$15,Points!$A9+1,FALSE),'Cars & Results'!$A$7:$BZ$317,2*W$5+5)<=10,W13*2,0))","v":0},{"$f":"IF(HLOOKUP(Y$5,$B$6:$K$15,Points!$A9+1,FALSE)=\"TBD\",\"\",VLOOKUP(HLOOKUP(Y$5,$B$6:$K$15,Points!$A9+1,FALSE),'Cars & Results'!$A$7:$BZ$317,2*Y$5+6,FALSE))","v":3},{"$f":"IF(HLOOKUP(Y$5,$B$6:$K$15,Points!$A9+1,FALSE)=\"TBD\",\"\",IF(VLOOKUP(HLOOKUP(Y$5,$B$6:$K$15,Points!$A9+1,FALSE),'Cars & Results'!$A$7:$BZ$317,2*Y$5+5)<=10,Y13*2,0))","v":0},{"$f":"IF(HLOOKUP(AA$5,$B$6:$K$15,Points!$A9+1,FALSE)=\"TBD\",\"\",VLOOKUP(HLOOKUP(AA$5,$B$6:$K$15,Points!$A9+1,FALSE),'Cars & Results'!$A$7:$BZ$317,2*AA$5+6,FALSE))","v":3},{"$f":"IF(HLOOKUP(AA$5,$B$6:$K$15,Points!$A9+1,FALSE)=\"TBD\",\"\",IF(VLOOKUP(HLOOKUP(AA$5,$B$6:$K$15,Points!$A9+1,FALSE),'Cars & Results'!$A$7:$BZ$317,2*AA$5+5)<=10,AA13*2,0))","v":0},{"$f":"IF(HLOOKUP(AC$5,$B$6:$K$15,Points!$A9+1,FALSE)=\"TBD\",\"\",VLOOKUP(HLOOKUP(AC$5,$B$6:$K$15,Points!$A9+1,FALSE),'Cars & Results'!$A$7:$BZ$317,2*AC$5+6,FALSE))","v":4},{"$f":"IF(HLOOKUP(AC$5,$B$6:$K$15,Points!$A9+1,FALSE)=\"TBD\",\"\",IF(VLOOKUP(HLOOKUP(AC$5,$B$6:$K$15,Points!$A9+1,FALSE),'Cars & Results'!$A$7:$BZ$317,2*AC$5+5)<=10,AC13*2,0))","v":0},{"$f":"IF(HLOOKUP(AE$5,$B$6:$K$15,Points!$A9+1,FALSE)=\"TBD\",\"\",VLOOKUP(HLOOKUP(AE$5,$B$6:$K$15,Points!$A9+1,FALSE),'Cars & Results'!$A$7:$BZ$317,2*AE$5+6,FALSE))","v":1},{"$f":"IF(HLOOKUP(AE$5,$B$6:$K$15,Points!$A9+1,FALSE)=\"TBD\",\"\",IF(VLOOKUP(HLOOKUP(AE$5,$B$6:$K$15,Points!$A9+1,FALSE),'Cars & Results'!$A$7:$BZ$317,2*AE$5+5)<=10,AE13*2,0))","v":0},{"$f":"IF(HLOOKUP(AG$5,$B$6:$K$15,Points!$A9+1,FALSE)=\"TBD\",\"\",VLOOKUP(HLOOKUP(AG$5,$B$6:$K$15,Points!$A9+1,FALSE),'Cars & Results'!$A$7:$BZ$317,2*AG$5+6,FALSE))","v":1},{"$f":"IF(HLOOKUP(AG$5,$B$6:$K$15,Points!$A9+1,FALSE)=\"TBD\",\"\",IF(VLOOKUP(HLOOKUP(AG$5,$B$6:$K$15,Points!$A9+1,FALSE),'Cars & Results'!$A$7:$BZ$317,2*AG$5+5)<=10,AG13*2,0))","v":0}]
[{"$f":"VLOOKUP(HLOOKUP('Pick Distribution'!$P$2,$B$6:$K$15,9),'Current Owner Standings'!$A$71:$B$480,2,FALSE)","v":36},52,52,52,52,52,52,52,53,53,27,{"$f":"IF(ISNA(VLOOKUP($K14,'Cars & Results'!$A$6:$K$317,L$5,FALSE)),\"Invalid Number\",VLOOKUP($K14,'Cars & Results'!$A$6:$K$317,L$5,FALSE))","v":"Ross Chastain (i)"},{"$f":"IF(ISNA(VLOOKUP($K14,'Cars & Results'!$A$6:$K$317,M$5,FALSE)),\"Invalid Number\",VLOOKUP($K14,'Cars & Results'!$A$6:$K$317,M$5,FALSE))","v":"Chevrolet"},{"$f":"IF(ISNA(VLOOKUP($K14,'Cars & Results'!$A$6:$K$317,N$5,FALSE)),\"Invalid Number\",VLOOKUP($K14,'Cars & Results'!$A$6:$K$317,N$5,FALSE))","v":"Premium Motorsports"},{"$f":"IF(HLOOKUP(O$5,$B$6:$K$15,Points!$A10+1,FALSE)=\"TBD\",\"\",VLOOKUP(HLOOKUP(O$5,$B$6:$K$15,Points!$A10+1,FALSE),'Cars & Results'!$A$7:$BZ$317,2*O$5+6,FALSE))","v":2},{"$f":"IF(HLOOKUP(O$5,$B$6:$K$15,Points!$A10+1,FALSE)=\"TBD\",\"\",IF(VLOOKUP(HLOOKUP(O$5,$B$6:$K$15,Points!$A10+1,FALSE),'Cars & Results'!$A$7:$BZ$317,2*O$5+5)<=10,O14*3,0))","v":0},{"$f":"IF(HLOOKUP(Q$5,$B$6:$K$15,Points!$A10+1,FALSE)=\"TBD\",\"\",VLOOKUP(HLOOKUP(Q$5,$B$6:$K$15,Points!$A10+1,FALSE),'Cars & Results'!$A$7:$BZ$317,2*Q$5+6,FALSE))","v":4},{"$f":"IF(HLOOKUP(Q$5,$B$6:$K$15,Points!$A10+1,FALSE)=\"TBD\",\"\",IF(VLOOKUP(HLOOKUP(Q$5,$B$6:$K$15,Points!$A10+1,FALSE),'Cars & Results'!$A$7:$BZ$317,2*Q$5+5)<=10,Q14*3,0))","v":0},{"$f":"IF(HLOOKUP(S$5,$B$6:$K$15,Points!$A10+1,FALSE)=\"TBD\",\"\",VLOOKUP(HLOOKUP(S$5,$B$6:$K$15,Points!$A10+1,FALSE),'Cars & Results'!$A$7:$BZ$317,2*S$5+6,FALSE))","v":1},{"$f":"IF(HLOOKUP(S$5,$B$6:$K$15,Points!$A10+1,FALSE)=\"TBD\",\"\",IF(VLOOKUP(HLOOKUP(S$5,$B$6:$K$15,Points!$A10+1,FALSE),'Cars & Results'!$A$7:$BZ$317,2*S$5+5)<=10,S14*3,0))","v":0},{"$f":"IF(HLOOKUP(U$5,$B$6:$K$15,Points!$A10+1,FALSE)=\"TBD\",\"\",VLOOKUP(HLOOKUP(U$5,$B$6:$K$15,Points!$A10+1,FALSE),'Cars & Results'!$A$7:$BZ$317,2*U$5+6,FALSE))","v":5},{"$f":"IF(HLOOKUP(U$5,$B$6:$K$15,Points!$A10+1,FALSE)=\"TBD\",\"\",IF(VLOOKUP(HLOOKUP(U$5,$B$6:$K$15,Points!$A10+1,FALSE),'Cars & Results'!$A$7:$BZ$317,2*U$5+5)<=10,U14*3,0))","v":0},{"$f":"IF(HLOOKUP(W$5,$B$6:$K$15,Points!$A10+1,FALSE)=\"TBD\",\"\",VLOOKUP(HLOOKUP(W$5,$B$6:$K$15,Points!$A10+1,FALSE),'Cars & Results'!$A$7:$BZ$317,2*W$5+6,FALSE))","v":0},{"$f":"IF(HLOOKUP(W$5,$B$6:$K$15,Points!$A10+1,FALSE)=\"TBD\",\"\",IF(VLOOKUP(HLOOKUP(W$5,$B$6:$K$15,Points!$A10+1,FALSE),'Cars & Results'!$A$7:$BZ$317,2*W$5+5)<=10,W14*3,0))","v":0},{"$f":"IF(HLOOKUP(Y$5,$B$6:$K$15,Points!$A10+1,FALSE)=\"TBD\",\"\",VLOOKUP(HLOOKUP(Y$5,$B$6:$K$15,Points!$A10+1,FALSE),'Cars & Results'!$A$7:$BZ$317,2*Y$5+6,FALSE))","v":5},{"$f":"IF(HLOOKUP(Y$5,$B$6:$K$15,Points!$A10+1,FALSE)=\"TBD\",\"\",IF(VLOOKUP(HLOOKUP(Y$5,$B$6:$K$15,Points!$A10+1,FALSE),'Cars & Results'!$A$7:$BZ$317,2*Y$5+5)<=10,Y14*3,0))","v":0},{"$f":"IF(HLOOKUP(AA$5,$B$6:$K$15,Points!$A10+1,FALSE)=\"TBD\",\"\",VLOOKUP(HLOOKUP(AA$5,$B$6:$K$15,Points!$A10+1,FALSE),'Cars & Results'!$A$7:$BZ$317,2*AA$5+6,FALSE))","v":5},{"$f":"IF(HLOOKUP(AA$5,$B$6:$K$15,Points!$A10+1,FALSE)=\"TBD\",\"\",IF(VLOOKUP(HLOOKUP(AA$5,$B$6:$K$15,Points!$A10+1,FALSE),'Cars & Results'!$A$7:$BZ$317,2*AA$5+5)<=10,AA14*3,0))","v":0},{"$f":"IF(HLOOKUP(AC$5,$B$6:$K$15,Points!$A10+1,FALSE)=\"TBD\",\"\",VLOOKUP(HLOOKUP(AC$5,$B$6:$K$15,Points!$A10+1,FALSE),'Cars & Results'!$A$7:$BZ$317,2*AC$5+6,FALSE))","v":11},{"$f":"IF(HLOOKUP(AC$5,$B$6:$K$15,Points!$A10+1,FALSE)=\"TBD\",\"\",IF(VLOOKUP(HLOOKUP(AC$5,$B$6:$K$15,Points!$A10+1,FALSE),'Cars & Results'!$A$7:$BZ$317,2*AC$5+5)<=10,AC14*3,0))","v":0},{"$f":"IF(HLOOKUP(AE$5,$B$6:$K$15,Points!$A10+1,FALSE)=\"TBD\",\"\",VLOOKUP(HLOOKUP(AE$5,$B$6:$K$15,Points!$A10+1,FALSE),'Cars & Results'!$A$7:$BZ$317,2*AE$5+6,FALSE))","v":8},{"$f":"IF(HLOOKUP(AE$5,$B$6:$K$15,Points!$A10+1,FALSE)=\"TBD\",\"\",IF(VLOOKUP(HLOOKUP(AE$5,$B$6:$K$15,Points!$A10+1,FALSE),'Cars & Results'!$A$7:$BZ$317,2*AE$5+5)<=10,AE14*3,0))","v":0},{"$f":"IF(HLOOKUP(AG$5,$B$6:$K$15,Points!$A10+1,FALSE)=\"TBD\",\"\",VLOOKUP(HLOOKUP(AG$5,$B$6:$K$15,Points!$A10+1,FALSE),'Cars & Results'!$A$7:$BZ$317,2*AG$5+6,FALSE))","v":2},{"$f":"IF(HLOOKUP(AG$5,$B$6:$K$15,Points!$A10+1,FALSE)=\"TBD\",\"\",IF(VLOOKUP(HLOOKUP(AG$5,$B$6:$K$15,Points!$A10+1,FALSE),'Cars & Results'!$A$7:$BZ$317,2*AG$5+5)<=10,AG14*3,0))","v":0}]
[{"$f":"VLOOKUP(HLOOKUP('Pick Distribution'!$P$2,$B$6:$K$15,10),'Current Owner Standings'!$A$71:$B$480,2,FALSE)","v":16},18,4,19,42,2,22,34,8,43,20,{"$f":"IF(ISNA(VLOOKUP($K15,'Cars & Results'!$A$6:$K$317,L$5,FALSE)),\"Invalid Number\",VLOOKUP($K15,'Cars & Results'!$A$6:$K$317,L$5,FALSE))","v":"Erik Jones"},{"$f":"IF(ISNA(VLOOKUP($K15,'Cars & Results'!$A$6:$K$317,M$5,FALSE)),\"Invalid Number\",VLOOKUP($K15,'Cars & Results'!$A$6:$K$317,M$5,FALSE))","v":"Toyota"},{"$f":"IF(ISNA(VLOOKUP($K15,'Cars & Results'!$A$6:$K$317,N$5,FALSE)),\"Invalid Number\",VLOOKUP($K15,'Cars & Results'!$A$6:$K$317,N$5,FALSE))","v":"Joe Gibbs Racing"},{"$f":"IF(HLOOKUP(O$5,$B$6:$K$15,Points!$A11+1,FALSE)=\"TBD\",\"\",VLOOKUP(HLOOKUP(O$5,$B$6:$K$15,Points!$A11+1,FALSE),'Cars & Results'!$A$7:$BZ$317,2*O$5+6,FALSE))","v":18},{"$f":"IF(HLOOKUP(O$5,$B$6:$K$15,Points!$A11+1,FALSE)=\"TBD\",\"\",IF(AND(VLOOKUP(HLOOKUP(O$5,$B$6:$K$15,Points!$A11+1,FALSE),'Cars & Results'!$A$7:$BZ$317,2*O$5+5)<=3,$A$15<=25),O15*1,IF(AND(VLOOKUP(HLOOKUP(O$5,$B$6:$K$15,Points!$A11+1,FALSE),'Cars & Results'!$A$7:$BZ$317,2*O$5+5)<=10,$A$15>25),O15*3,0)))","v":0},{"$f":"IF(HLOOKUP(Q$5,$B$6:$K$15,Points!$A11+1,FALSE)=\"TBD\",\"\",VLOOKUP(HLOOKUP(Q$5,$B$6:$K$15,Points!$A11+1,FALSE),'Cars & Results'!$A$7:$BZ$317,2*Q$5+6,FALSE))","v":41},0,{"$f":"IF(HLOOKUP(S$5,$B$6:$K$15,Points!$A11+1,FALSE)=\"TBD\",\"\",VLOOKUP(HLOOKUP(S$5,$B$6:$K$15,Points!$A11+1,FALSE),'Cars & Results'!$A$7:$BZ$317,2*S$5+6,FALSE))","v":34},0,{"$f":"IF(HLOOKUP(U$5,$B$6:$K$15,Points!$A11+1,FALSE)=\"TBD\",\"\",VLOOKUP(HLOOKUP(U$5,$B$6:$K$15,Points!$A11+1,FALSE),'Cars & Results'!$A$7:$BZ$317,2*U$5+6,FALSE))","v":57},57,{"$f":"IF(HLOOKUP(W$5,$B$6:$K$15,Points!$A11+1,FALSE)=\"TBD\",\"\",VLOOKUP(HLOOKUP(W$5,$B$6:$K$15,Points!$A11+1,FALSE),'Cars & Results'!$A$7:$BZ$317,2*W$5+6,FALSE))","v":26},0,{"$f":"IF(HLOOKUP(Y$5,$B$6:$K$15,Points!$A11+1,FALSE)=\"TBD\",\"\",VLOOKUP(HLOOKUP(Y$5,$B$6:$K$15,Points!$A11+1,FALSE),'Cars & Results'!$A$7:$BZ$317,2*Y$5+6,FALSE))","v":42},0,{"$f":"IF(HLOOKUP(AA$5,$B$6:$K$15,Points!$A11+1,FALSE)=\"TBD\",\"\",VLOOKUP(HLOOKUP(AA$5,$B$6:$K$15,Points!$A11+1,FALSE),'Cars & Results'!$A$7:$BZ$317,2*AA$5+6,FALSE))","v":14},0,{"$f":"IF(HLOOKUP(AC$5,$B$6:$K$15,Points!$A11+1,FALSE)=\"TBD\",\"\",VLOOKUP(HLOOKUP(AC$5,$B$6:$K$15,Points!$A11+1,FALSE),'Cars & Results'!$A$7:$BZ$317,2*AC$5+6,FALSE))","v":22},0,{"$f":"IF(HLOOKUP(AE$5,$B$6:$K$15,Points!$A11+1,FALSE)=\"TBD\",\"\",VLOOKUP(HLOOKUP(AE$5,$B$6:$K$15,Points!$A11+1,FALSE),'Cars & Results'!$A$7:$BZ$317,2*AE$5+6,FALSE))","v":12},0,{"$f":"IF(HLOOKUP(AG$5,$B$6:$K$15,Points!$A11+1,FALSE)=\"TBD\",\"\",VLOOKUP(HLOOKUP(AG$5,$B$6:$K$15,Points!$A11+1,FALSE),'Cars & Results'!$A$7:$BZ$317,2*AG$5+6,FALSE))","v":37},{"$f":"IF(HLOOKUP(AG$5,$B$6:$K$15,Points!$A11+1,FALSE)=\"TBD\",\"\",IF(AND(VLOOKUP(HLOOKUP(AG$5,$B$6:$K$15,Points!$A11+1,FALSE),'Cars & Results'!$A$7:$BZ$317,2*AG$5+5)<=3,$A$15<=25),AG15*1,IF(AND(VLOOKUP(HLOOKUP(AG$5,$B$6:$K$15,Points!$A11+1,FALSE),'Cars & Results'!$A$7:$BZ$317,2*AG$5+5)<=10,$A$15>25),AG15*3,0)))","v":37}]
[null,null,null,null,null,null,null,null,null,null,null,null,null,"Segment 1",null,{"$f":"IF(INDIRECT(ADDRESS(321,5+(O5*2),1,1,\"Cars & Results\"),TRUE)=\"Y\",IF(ISERROR(MATCH(INDIRECT(ADDRESS(318,5+(O5*2),1,1,\"Cars & Results\"),TRUE),B7:B15,0))=TRUE,0,10),\"\")","v":0},null,{"$f":"IF(INDIRECT(ADDRESS(321,5+(Q5*2),1,1,\"Cars & Results\"),TRUE)=\"Y\",IF(ISERROR(MATCH(INDIRECT(ADDRESS(318,5+(Q5*2),1,1,\"Cars & Results\"),TRUE),C7:C15,0))=TRUE,0,10),\"\")","v":0},null,{"$f":"IF(INDIRECT(ADDRESS(321,5+(S5*2),1,1,\"Cars & Results\"),TRUE)=\"Y\",IF(ISERROR(MATCH(INDIRECT(ADDRESS(318,5+(S5*2),1,1,\"Cars & Results\"),TRUE),D7:D15,0))=TRUE,0,10),\"\")","v":0},null,{"$f":"IF(INDIRECT(ADDRESS(321,5+(U5*2),1,1,\"Cars & Results\"),TRUE)=\"Y\",IF(ISERROR(MATCH(INDIRECT(ADDRESS(318,5+(U5*2),1,1,\"Cars & Results\"),TRUE),E7:E15,0))=TRUE,0,10),\"\")","v":0},null,{"$f":"IF(INDIRECT(ADDRESS(321,5+(W5*2),1,1,\"Cars & Results\"),TRUE)=\"Y\",IF(ISERROR(MATCH(INDIRECT(ADDRESS(318,5+(W5*2),1,1,\"Cars & Results\"),TRUE),F7:F15,0))=TRUE,0,10),\"\")","v":0},null,{"$f":"IF(INDIRECT(ADDRESS(321,5+(Y5*2),1,1,\"Cars & Results\"),TRUE)=\"Y\",IF(ISERROR(MATCH(INDIRECT(ADDRESS(318,5+(Y5*2),1,1,\"Cars & Results\"),TRUE),G7:G15,0))=TRUE,0,10),\"\")","v":0},null,{"$f":"IF(INDIRECT(ADDRESS(321,5+(AA5*2),1,1,\"Cars & Results\"),TRUE)=\"Y\",IF(ISERROR(MATCH(INDIRECT(ADDRESS(318,5+(AA5*2),1,1,\"Cars & Results\"),TRUE),H7:H15,0))=TRUE,0,10),\"\")","v":0},null,{"$f":"IF(INDIRECT(ADDRESS(321,5+(AC5*2),1,1,\"Cars & Results\"),TRUE)=\"Y\",IF(ISERROR(MATCH(INDIRECT(ADDRESS(318,5+(AC5*2),1,1,\"Cars & Results\"),TRUE),I7:I15,0))=TRUE,0,10),\"\")","v":10},null,{"$f":"IF(INDIRECT(ADDRESS(321,5+(AE5*2),1,1,\"Cars & Results\"),TRUE)=\"Y\",IF(ISERROR(MATCH(INDIRECT(ADDRESS(318,5+(AE5*2),1,1,\"Cars & Results\"),TRUE),J7:J15,0))=TRUE,0,10),\"\")","v":0},null,{"$f":"IF(INDIRECT(ADDRESS(321,5+(AG5*2),1,1,\"Cars & Results\"),TRUE)=\"Y\",IF(ISERROR(MATCH(INDIRECT(ADDRESS(318,5+(AG5*2),1,1,\"Cars & Results\"),TRUE),K7:K15,0))=TRUE,0,10),\"\")","v":0}]
[null,null,null,null,null,null,null,null,null,null,null,null,null,"Segment 2",null,{"$f":"IF(INDIRECT(ADDRESS(321,5+(O5*2),1,1,\"Cars & Results\"),TRUE)=\"Y\",IF(ISERROR(MATCH(INDIRECT(ADDRESS(319,5+(O5*2),1,1,\"Cars & Results\"),TRUE),B7:B15,0))=TRUE,0,10),\"\")","v":0},null,{"$f":"IF(INDIRECT(ADDRESS(321,5+(Q5*2),1,1,\"Cars & Results\"),TRUE)=\"Y\",IF(ISERROR(MATCH(INDIRECT(ADDRESS(319,5+(Q5*2),1,1,\"Cars & Results\"),TRUE),C7:C15,0))=TRUE,0,10),\"\")","v":0},null,{"$f":"IF(INDIRECT(ADDRESS(321,5+(S5*2),1,1,\"Cars & Results\"),TRUE)=\"Y\",IF(ISERROR(MATCH(INDIRECT(ADDRESS(319,5+(S5*2),1,1,\"Cars & Results\"),TRUE),D7:D15,0))=TRUE,0,10),\"\")","v":0},null,{"$f":"IF(INDIRECT(ADDRESS(321,5+(U5*2),1,1,\"Cars & Results\"),TRUE)=\"Y\",IF(ISERROR(MATCH(INDIRECT(ADDRESS(319,5+(U5*2),1,1,\"Cars & Results\"),TRUE),E7:E15,0))=TRUE,0,10),\"\")","v":0},null,{"$f":"IF(INDIRECT(ADDRESS(321,5+(W5*2),1,1,\"Cars & Results\"),TRUE)=\"Y\",IF(ISERROR(MATCH(INDIRECT(ADDRESS(319,5+(W5*2),1,1,\"Cars & Results\"),TRUE),F7:F15,0))=TRUE,0,10),\"\")","v":0},null,{"$f":"IF(INDIRECT(ADDRESS(321,5+(Y5*2),1,1,\"Cars & Results\"),TRUE)=\"Y\",IF(ISERROR(MATCH(INDIRECT(ADDRESS(319,5+(Y5*2),1,1,\"Cars & Results\"),TRUE),G7:G15,0))=TRUE,0,10),\"\")","v":0},null,{"$f":"IF(INDIRECT(ADDRESS(321,5+(AA5*2),1,1,\"Cars & Results\"),TRUE)=\"Y\",IF(ISERROR(MATCH(INDIRECT(ADDRESS(319,5+(AA5*2),1,1,\"Cars & Results\"),TRUE),H7:H15,0))=TRUE,0,10),\"\")","v":0},null,{"$f":"IF(INDIRECT(ADDRESS(321,5+(AC5*2),1,1,\"Cars & Results\"),TRUE)=\"Y\",IF(ISERROR(MATCH(INDIRECT(ADDRESS(319,5+(AC5*2),1,1,\"Cars & Results\"),TRUE),I7:I15,0))=TRUE,0,10),\"\")","v":0},null,{"$f":"IF(INDIRECT(ADDRESS(321,5+(AE5*2),1,1,\"Cars & Results\"),TRUE)=\"Y\",IF(ISERROR(MATCH(INDIRECT(ADDRESS(319,5+(AE5*2),1,1,\"Cars & Results\"),TRUE),J7:J15,0))=TRUE,0,10),\"\")","v":0},null,{"$f":"IF(INDIRECT(ADDRESS(321,5+(AG5*2),1,1,\"Cars & Results\"),TRUE)=\"Y\",IF(ISERROR(MATCH(INDIRECT(ADDRESS(319,5+(AG5*2),1,1,\"Cars & Results\"),TRUE),K7:K15,0))=TRUE,0,10),\"\")","v":0}]
[null,null,null,null,null,null,null,null,null,null,null,null,null,"Segment 3",null,{"$f":"IF(INDIRECT(ADDRESS(321,5+(O5*2),1,1,\"Cars & Results\"),TRUE)=\"Y\",IF(ISERROR(MATCH(INDIRECT(ADDRESS(320,5+(O5*2),1,1,\"Cars & Results\"),TRUE),B7:B15,0))=TRUE,0,15),\"\")","v":0},null,{"$f":"IF(INDIRECT(ADDRESS(321,5+(Q5*2),1,1,\"Cars & Results\"),TRUE)=\"Y\",IF(ISERROR(MATCH(INDIRECT(ADDRESS(320,5+(Q5*2),1,1,\"Cars & Results\"),TRUE),C7:C15,0))=TRUE,0,15),\"\")","v":0},null,{"$f":"IF(INDIRECT(ADDRESS(321,5+(S5*2),1,1,\"Cars & Results\"),TRUE)=\"Y\",IF(ISERROR(MATCH(INDIRECT(ADDRESS(320,5+(S5*2),1,1,\"Cars & Results\"),TRUE),D7:D15,0))=TRUE,0,15),\"\")","v":0},null,{"$f":"IF(INDIRECT(ADDRESS(321,5+(U5*2),1,1,\"Cars & Results\"),TRUE)=\"Y\",IF(ISERROR(MATCH(INDIRECT(ADDRESS(320,5+(U5*2),1,1,\"Cars & Results\"),TRUE),E7:E15,0))=TRUE,0,15),\"\")","v":15},null,{"$f":"IF(INDIRECT(ADDRESS(321,5+(W5*2),1,1,\"Cars & Results\"),TRUE)=\"Y\",IF(ISERROR(MATCH(INDIRECT(ADDRESS(320,5+(W5*2),1,1,\"Cars & Results\"),TRUE),F7:F15,0))=TRUE,0,15),\"\")","v":15},null,{"$f":"IF(INDIRECT(ADDRESS(321,5+(Y5*2),1,1,\"Cars & Results\"),TRUE)=\"Y\",IF(ISERROR(MATCH(INDIRECT(ADDRESS(320,5+(Y5*2),1,1,\"Cars & Results\"),TRUE),G7:G15,0))=TRUE,0,15),\"\")","v":0},null,{"$f":"IF(INDIRECT(ADDRESS(321,5+(AA5*2),1,1,\"Cars & Results\"),TRUE)=\"Y\",IF(ISERROR(MATCH(INDIRECT(ADDRESS(320,5+(AA5*2),1,1,\"Cars & Results\"),TRUE),H7:H15,0))=TRUE,0,15),\"\")","v":0},null,{"$f":"IF(INDIRECT(ADDRESS(321,5+(AC5*2),1,1,\"Cars & Results\"),TRUE)=\"Y\",IF(ISERROR(MATCH(INDIRECT(ADDRESS(320,5+(AC5*2),1,1,\"Cars & Results\"),TRUE),I7:I15,0))=TRUE,0,15),\"\")","v":15},null,{"$f":"IF(INDIRECT(ADDRESS(321,5+(AE5*2),1,1,\"Cars & Results\"),TRUE)=\"Y\",IF(ISERROR(MATCH(INDIRECT(ADDRESS(320,5+(AE5*2),1,1,\"Cars & Results\"),TRUE),J7:J15,0))=TRUE,0,15),\"\")","v":0},null,{"$f":"IF(INDIRECT(ADDRESS(321,5+(AG5*2),1,1,\"Cars & Results\"),TRUE)=\"Y\",IF(ISERROR(MATCH(INDIRECT(ADDRESS(320,5+(AG5*2),1,1,\"Cars & Results\"),TRUE),K7:K15,0))=TRUE,0,15),\"\")","v":15}]
[null,{"$f":"SUM(B7:B15)","v":265},221,261,346,306,326,346,293,null,null,null,null,null,{"$f":"SUM(O7:O15)","v":183},null,{"$f":"SUM(Q7:Q15)","v":200},null,{"$f":"SUM(S7:S15)","v":162},null,{"$f":"SUM(U7:U15)","v":196},null,{"$f":"SUM(W7:W15)","v":156},null,{"$f":"SUM(Y7:Y15)","v":166},null,{"$f":"SUM(AA7:AA15)","v":109},null,{"$f":"SUM(AC7:AC15)","v":177},null,{"$f":"SUM(AE7:AE15)","v":166},null,{"$f":"SUM(AG7:AG15)","v":170}]
[null,null,null,null,null,null,null,null,null,null,null,null,null,null,null,{"$f":"SUM(P7:P19)","v":0},null,{"$f":"SUM(R7:R19)","v":0},null,{"$f":"SUM(T7:T19)","v":0},null,{"$f":"SUM(V7:V19)","v":72},null,{"$f":"SUM(X7:X19)","v":67},null,{"$f":"SUM(Z7:Z19)","v":0},null,{"$f":"SUM(AB7:AB19)","v":0},null,{"$f":"SUM(AD7:AD19)","v":43.5},null,{"$f":"SUM(AF7:AF19)","v":0},null,{"$f":"SUM(AH7:AH19)","v":52}]
[null,null,null,null,null,null,null,null,null,null,null,null,null,"Race Total",{"$f":"O19+P20","v":183},null,{"$f":"Q19+R20","v":200},null,{"$f":"S19+T20","v":162},null,{"$f":"U19+V20","v":268},null,{"$f":"W19+X20","v":223},null,{"$f":"Y19+Z20","v":166},null,{"$f":"AA19+AB20","v":109},null,{"$f":"AC19+AD20","v":220.5},null,{"$f":"AE19+AF20","v":166},null,{"$f":"AG19+AH20","v":222},null,{"$f":"SUM(O21:AH21)","v":1919.5}]
[null,null,null,null,null,null,null,null,null,null,"1-8"]
[null,null,null,null,null,null,null,null,null,null,"9-16"]
[null,null,null,null,null,null,null,null,null,null,"17-23"]
[null,null,null,null,null,null,null,null,null,null,"24-30"]
[null,null,null,null,null,null,null,null,null,null,"31-35"]
[null,null,null,null,null,null,null,null,null,null,">35"]
[null,null,null,null,null,null,null,null,null,null,"Provisional"]

{"sheet":"Trey George","index":10,"n_rows":28,"n_cols":35,"rows_kept":28,"cut":false,"hidden":false,"merged":[[4,32,4,33],[20,28,20,29],[20,30,20,31],[20,32,20,33],[2,22,2,23],[20,22,20,23],[2,28,2,29],[2,30,2,31],[2,32,2,33],[3,28,3,29],[3,30,3,31],[3,32,3,33],[4,28,4,29],[4,30,4,31],[4,24,4,25],[4,26,4,27],[0,28,0,29],[0,30,0,31],[0,32,0,33],[1,28,1,29],[1,30,1,31],[1,32,1,33],[20,14,20,15],[20,16,20,17],[20,18,20,19],[20,20,20,21],[4,14,4,15],[4,16,4,17],[4,18,4,19],[4,20,4,21],[4,22,4,23],[0,22,0,23],[0,24,0,25],[0,26,0,27],[1,14,1,15],[1,16,1,17],[1,18,1,19],[1,20,1,21],[1,22,1,23],[0,14,0,15],[0,16,0,17],[0,18,0,19],[0,20,0,21],[1,26,1,27],[20,24,20,25],[20,26,20,27],[1,24,1,25],[3,14,3,15],[3,16,3,17],[3,18,3,19],[3,20,3,21],[3,22,3,23],[3,24,3,25],[2,14,2,15],[2,16,2,17],[2,18,2,19],[2,20,2,21],[2,24,2,25],[2,26,2,27],[3,26,3,27]]}
[null,null,null,null,null,null,null,null,null,null,null,null,null,null,{"$f":"VLOOKUP(O$5,Schedule!$A$8:$J$43,2,FALSE)","v":"2019-09-15"},null,{"$f":"VLOOKUP(Q$5,Schedule!$A$8:$J$43,2,FALSE)","v":"2019-09-21"},null,{"$f":"VLOOKUP(S$5,Schedule!$A$8:$J$43,2,FALSE)","v":"2019-09-29"},null,{"$f":"VLOOKUP(U$5,Schedule!$A$8:$J$43,2,FALSE)","v":"2019-10-06"},null,{"$f":"VLOOKUP(W$5,Schedule!$A$8:$J$43,2,FALSE)","v":"2019-10-13"},null,{"$f":"VLOOKUP(Y$5,Schedule!$A$8:$J$43,2,FALSE)","v":"2019-10-20"},null,{"$f":"VLOOKUP(AA$5,Schedule!$A$8:$J$43,2,FALSE)","v":"2019-10-27"},null,{"$f":"VLOOKUP(AC$5,Schedule!$A$8:$J$43,2,FALSE)","v":"2019-11-03"},null,{"$f":"VLOOKUP(AE$5,Schedule!$A$8:$J$43,2,FALSE)","v":"2019-11-10"},null,{"$f":"VLOOKUP(AG$5,Schedule!$A$8:$J$43,2,FALSE)","v":"2019-11-17"}]
[null,null,null,null,null,null,null,null,null,null,null,null,null,null,{"$f":"LEFT(VLOOKUP(O$5,Schedule!$A$8:$J$43,3,FALSE),15)","v":"South Point 400"},null,{"$f":"LEFT(VLOOKUP(Q$5,Schedule!$A$8:$J$43,3,FALSE),15)","v":"Federated Auto "},null,{"$f":"LEFT(VLOOKUP(S$5,Schedule!$A$8:$J$43,3,FALSE),15)","v":"Bank of America"},null,{"$f":"LEFT(VLOOKUP(U$5,Schedule!$A$8:$J$43,3,FALSE),15)","v":"MENCS Race at D"},null,{"$f":"LEFT(VLOOKUP(W$5,Schedule!$A$8:$J$43,3,FALSE),15)","v":"1000Bulbs.com 5"},null,{"$f":"LEFT(VLOOKUP(Y$5,Schedule!$A$8:$J$43,3,FALSE),15)","v":"Hollywood Casin"},null,{"$f":"LEFT(VLOOKUP(AA$5,Schedule!$A$8:$J$43,3,FALSE),15)","v":"First Data 500"},null,{"$f":"LEFT(VLOOKUP(AC$5,Schedule!$A$8:$J$43,3,FALSE),15)","v":"AAA Texas 500"},null,{"$f":"LEFT(VLOOKUP(AE$5,Schedule!$A$8:$J$43,3,FALSE),15)","v":"MENCS Race at I"},null,{"$f":"LEFT(VLOOKUP(AG$5,Schedule!$A$8:$J$43,3,FALSE),15)","v":"Ford EcoBoost 4"}]
[null,null,null,null,null,null,null,null,null,null,null,null,null,null,{"$f":"VLOOKUP(O$5,Schedule!$A$8:$J$43,2,FALSE)","v":"2019-09-15"},null,{"$f":"VLOOKUP(Q$5,Schedule!$A$8:$J$43,2,FALSE)","v":"2019-09-21"},null,{"$f":"VLOOKUP(S$5,Schedule!$A$8:$J$43,2,FALSE)","v":"2019-09-29"},null,{"$f":"VLOOKUP(U$5,Schedule!$A$8:$J$43,2,FALSE)","v":"2019-10-06"},null,{"$f":"VLOOKUP(W$5,Schedule!$A$8:$J$43,2,FALSE)","v":"2019-10-13"},null,{"$f":"VLOOKUP(Y$5,Schedule!$A$8:$J$43,2,FALSE)","v":"2019-10-20"},null,{"$f":"VLOOKUP(AA$5,Schedule!$A$8:$J$43,2,FALSE)","v":"2019-10-27"},null,{"$f":"VLOOKUP(AC$5,Schedule!$A$8:$J$43,2,FALSE)","v":"2019-11-03"},null,{"$f":"VLOOKUP(AE$5,Schedule!$A$8:$J$43,2,FALSE)","v":"2019-11-10"},null,{"$f":"VLOOKUP(AG$5,Schedule!$A$8:$J$43,2,FALSE)","v":"2019-11-17"}]
[null,null,null,null,null,null,null,null,null,null,null,null,null,null,{"$f":"VLOOKUP(O$5,Schedule!$A$4:$J$43,5,FALSE)","v":"Las Vegas"},null,{"$f":"VLOOKUP(Q$5,Schedule!$A$4:$J$43,5,FALSE)","v":"Richmond "},null,{"$f":"VLOOKUP(S$5,Schedule!$A$4:$J$43,5,FALSE)","v":"Charlotte "},null,{"$f":"VLOOKUP(U$5,Schedule!$A$4:$J$43,5,FALSE)","v":"Dover "},null,{"$f":"VLOOKUP(W$5,Schedule!$A$4:$J$43,5,FALSE)","v":"Talladega "},null,{"$f":"VLOOKUP(Y$5,Schedule!$A$4:$J$43,5,FALSE)","v":"Kansas "},null,{"$f":"VLOOKUP(AA$5,Schedule!$A$4:$J$43,5,FALSE)","v":"Martinsville "},null,{"$f":"VLOOKUP(AC$5,Schedule!$A$4:$J$43,5,FALSE)","v":"Texas "},null,{"$f":"VLOOKUP(AE$5,Schedule!$A$4:$J$43,5,FALSE)","v":"Phoenix"},null,{"$f":"VLOOKUP(AG$5,Schedule!$A$4:$J$43,5,FALSE)","v":"Homestead–Miami "}]
["Owner","Week","Week","Week","Week","Week","Week","Week","Week","Week","Week",2,3,4,27,null,28,null,29,null,30,null,31,null,32,null,33,null,34,null,35,null,36,null,"Total"]
["Points",27,28,29,30,31,32,33,34,35,36,"Driver","Make","Sponsor","Points","Bonus","Points","Bonus","Points","Bonus","Points","Bonus","Points","Bonus","Points","Bonus","Points","Bonus","Points","Bonus","Points","Bonus","Points","Bonus","Points"]
[{"$f":"VLOOKUP(HLOOKUP('Pick Distribution'!$P$2,$B$6:$K$15,$L$5),'Current Owner Standings'!$A$71:$B$480,2,FALSE)","v":2},4,4,4,4,19,19,19,4,4,4,{"$f":"IF(ISNA(VLOOKUP($K7,'Cars & Results'!$A$6:$K$317,L$5,FALSE)),\"Invalid Number\",VLOOKUP($K7,'Cars & Results'!$A$6:$K$317,L$5,FALSE))","v":"Kevin Harvick"},{"$f":"IF(ISNA(VLOOKUP($K7,'Cars & Results'!$A$6:$K$317,M$5,FALSE)),\"Invalid Number\",VLOOKUP($K7,'Cars & Results'!$A$6:$K$317,M$5,FALSE))","v":"Ford"},{"$f":"IF(ISNA(VLOOKUP($K7,'Cars & Results'!$A$6:$K$317,N$5,FALSE)),\"Invalid Number\",VLOOKUP($K7,'Cars & Results'!$A$6:$K$317,N$5,FALSE))","v":"Stewart-Haas Racing"},{"$f":"IF(HLOOKUP(O$5,$B$6:$K$15,Points!$A3+1,FALSE)=\"TBD\",\"\",VLOOKUP(HLOOKUP(O$5,$B$6:$K$15,Points!$A3+1,FALSE),'Cars & Results'!$A$7:$BZ$317,2*O$5+6,FALSE))","v":51},{"$f":"IF(HLOOKUP(O$5,$B$6:$K$15,Points!$A3+1,FALSE)=\"TBD\",\"\",0)","v":0},{"$f":"IF(HLOOKUP(Q$5,$B$6:$K$15,Points!$A3+1,FALSE)=\"TBD\",\"\",VLOOKUP(HLOOKUP(Q$5,$B$6:$K$15,Points!$A3+1,FALSE),'Cars & Results'!$A$7:$BZ$317,2*Q$5+6,FALSE))","v":41},{"$f":"IF(HLOOKUP(Q$5,$B$6:$K$15,Points!$A3+1,FALSE)=\"TBD\",\"\",0)","v":0},{"$f":"IF(HLOOKUP(S$5,$B$6:$K$15,Points!$A3+1,FALSE)=\"TBD\",\"\",VLOOKUP(HLOOKUP(S$5,$B$6:$K$15,Points!$A3+1,FALSE),'Cars & Results'!$A$7:$BZ$317,2*S$5+6,FALSE))","v":43},{"$f":"IF(HLOOKUP(S$5,$B$6:$K$15,Points!$A3+1,FALSE)=\"TBD\",\"\",0)","v":0},{"$f":"IF(HLOOKUP(U$5,$B$6:$K$15,Points!$A3+1,FALSE)=\"TBD\",\"\",VLOOKUP(HLOOKUP(U$5,$B$6:$K$15,Points!$A3+1,FALSE),'Cars & Results'!$A$7:$BZ$317,2*U$5+6,FALSE))","v":46},{"$f":"IF(HLOOKUP(U$5,$B$6:$K$15,Points!$A3+1,FALSE)=\"TBD\",\"\",0)","v":0},{"$f":"IF(HLOOKUP(W$5,$B$6:$K$15,Points!$A3+1,FALSE)=\"TBD\",\"\",VLOOKUP(HLOOKUP(W$5,$B$6:$K$15,Points!$A3+1,FALSE),'Cars & Results'!$A$7:$BZ$317,2*W$5+6,FALSE))","v":11},{"$f":"IF(HLOOKUP(W$5,$B$6:$K$15,Points!$A3+1,FALSE)=\"TBD\",\"\",0)","v":0},{"$f":"IF(HLOOKUP(Y$5,$B$6:$K$15,Points!$A3+1,FALSE)=\"TBD\",\"\",VLOOKUP(HLOOKUP(Y$5,$B$6:$K$15,Points!$A3+1,FALSE),'Cars & Results'!$A$7:$BZ$317,2*Y$5+6,FALSE))","v":60},{"$f":"IF(HLOOKUP(Y$5,$B$6:$K$15,Points!$A3+1,FALSE)=\"TBD\",\"\",0)","v":0},{"$f":"IF(HLOOKUP(AA$5,$B$6:$K$15,Points!$A3+1,FALSE)=\"TBD\",\"\",VLOOKUP(HLOOKUP(AA$5,$B$6:$K$15,Points!$A3+1,FALSE),'Cars & Results'!$A$7:$BZ$317,2*AA$5+6,FALSE))","v":60},{"$f":"IF(HLOOKUP(AA$5,$B$6:$K$15,Points!$A3+1,FALSE)=\"TBD\",\"\",0)","v":0},{"$f":"IF(HLOOKUP(AC$5,$B$6:$K$15,Points!$A3+1,FALSE)=\"TBD\",\"\",VLOOKUP(HLOOKUP(AC$5,$B$6:$K$15,Points!$A3+1,FALSE),'Cars & Results'!$A$7:$BZ$317,2*AC$5+6,FALSE))","v":55},{"$f":"IF(HLOOKUP(AC$5,$B$6:$K$15,Points!$A3+1,FALSE)=\"TBD\",\"\",0)","v":0},{"$f":"IF(HLOOKUP(AE$5,$B$6:$K$15,Points!$A3+1,FALSE)=\"TBD\",\"\",VLOOKUP(HLOOKUP(AE$5,$B$6:$K$15,Points!$A3+1,FALSE),'Cars & Results'!$A$7:$BZ$317,2*AE$5+6,FALSE))","v":38},{"$f":"IF(HLOOKUP(AE$5,$B$6:$K$15,Points!$A3+1,FALSE)=\"TBD\",\"\",0)","v":0},{"$f":"IF(HLOOKUP(AG$5,$B$6:$K$15,Points!$A3+1,FALSE)=\"TBD\",\"\",VLOOKUP(HLOOKUP(AG$5,$B$6:$K$15,Points!$A3+1,FALSE),'Cars & Results'!$A$7:$BZ$317,2*AG$5+6,FALSE))","v":33},{"$f":"IF(HLOOKUP(AG$5,$B$6:$K$15,Points!$A3+1,FALSE)=\"TBD\",\"\",0)","v":0}]
[{"$f":"VLOOKUP(HLOOKUP('Pick Distribution'!$P$2,$B$6:$K$15,3),'Current Owner Standings'!$A$71:$B$480,2,FALSE)","v":13},12,24,24,88,14,14,14,2,2,1,{"$f":"IF(ISNA(VLOOKUP($K8,'Cars & Results'!$A$6:$K$317,L$5,FALSE)),\"Invalid Number\",VLOOKUP($K8,'Cars & Results'!$A$6:$K$317,L$5,FALSE))","v":"Kurt Busch"},{"$f":"IF(ISNA(VLOOKUP($K8,'Cars & Results'!$A$6:$K$317,M$5,FALSE)),\"Invalid Number\",VLOOKUP($K8,'Cars & Results'!$A$6:$K$317,M$5,FALSE))","v":"Chevrolet"},{"$f":"IF(ISNA(VLOOKUP($K8,'Cars & Results'!$A$6:$K$317,N$5,FALSE)),\"Invalid Number\",VLOOKUP($K8,'Cars & Results'!$A$6:$K$317,N$5,FALSE))","v":"Chip Ganassi Racing"},{"$f":"IF(HLOOKUP(O$5,$B$6:$K$15,Points!$A4+1,FALSE)=\"TBD\",\"\",VLOOKUP(HLOOKUP(O$5,$B$6:$K$15,Points!$A4+1,FALSE),'Cars & Results'!$A$7:$BZ$317,2*O$5+6,FALSE))","v":35},{"$f":"IF(HLOOKUP(O$5,$B$6:$KI$15,Points!$A4+1,FALSE)=\"TBD\",\"\",IF(VLOOKUP(HLOOKUP(O$5,$B$6:$K$15,Points!$A4+1,FALSE),'Cars & Results'!$A$7:$BZ$317,2*O$5+5)=1,O8*0.25,0))","v":0},{"$f":"IF(HLOOKUP(Q$5,$B$6:$K$15,Points!$A4+1,FALSE)=\"TBD\",\"\",VLOOKUP(HLOOKUP(Q$5,$B$6:$K$15,Points!$A4+1,FALSE),'Cars & Results'!$A$7:$BZ$317,2*Q$5+6,FALSE))","v":13},{"$f":"IF(HLOOKUP(Q$5,$B$6:$KI$15,Points!$A4+1,FALSE)=\"TBD\",\"\",IF(VLOOKUP(HLOOKUP(Q$5,$B$6:$K$15,Points!$A4+1,FALSE),'Cars & Results'!$A$7:$BZ$317,2*Q$5+5)=1,Q8*0.25,0))","v":0},{"$f":"IF(HLOOKUP(S$5,$B$6:$K$15,Points!$A4+1,FALSE)=\"TBD\",\"\",VLOOKUP(HLOOKUP(S$5,$B$6:$K$15,Points!$A4+1,FALSE),'Cars & Results'!$A$7:$BZ$317,2*S$5+6,FALSE))","v":41},{"$f":"IF(HLOOKUP(S$5,$B$6:$KI$15,Points!$A4+1,FALSE)=\"TBD\",\"\",IF(VLOOKUP(HLOOKUP(S$5,$B$6:$K$15,Points!$A4+1,FALSE),'Cars & Results'!$A$7:$BZ$317,2*S$5+5)=1,S8*0.25,0))","v":0},{"$f":"IF(HLOOKUP(U$5,$B$6:$K$15,Points!$A4+1,FALSE)=\"TBD\",\"\",VLOOKUP(HLOOKUP(U$5,$B$6:$K$15,Points!$A4+1,FALSE),'Cars & Results'!$A$7:$BZ$317,2*U$5+6,FALSE))","v":44},{"$f":"IF(HLOOKUP(U$5,$B$6:$KI$15,Points!$A4+1,FALSE)=\"TBD\",\"\",IF(VLOOKUP(HLOOKUP(U$5,$B$6:$K$15,Points!$A4+1,FALSE),'Cars & Results'!$A$7:$BZ$317,2*U$5+5)=1,U8*0.25,0))","v":0},{"$f":"IF(HLOOKUP(W$5,$B$6:$K$15,Points!$A4+1,FALSE)=\"TBD\",\"\",VLOOKUP(HLOOKUP(W$5,$B$6:$K$15,Points!$A4+1,FALSE),'Cars & Results'!$A$7:$BZ$317,2*W$5+6,FALSE))","v":24},{"$f":"IF(HLOOKUP(W$5,$B$6:$KI$15,Points!$A4+1,FALSE)=\"TBD\",\"\",IF(VLOOKUP(HLOOKUP(W$5,$B$6:$K$15,Points!$A4+1,FALSE),'Cars & Results'!$A$7:$BZ$317,2*W$5+5)=1,W8*0.25,0))","v":0},{"$f":"IF(HLOOKUP(Y$5,$B$6:$K$15,Points!$A4+1,FALSE)=\"TBD\",\"\",VLOOKUP(HLOOKUP(Y$5,$B$6:$K$15,Points!$A4+1,FALSE),'Cars & Results'!$A$7:$BZ$317,2*Y$5+6,FALSE))","v":9},{"$f":"IF(HLOOKUP(Y$5,$B$6:$KI$15,Points!$A4+1,FALSE)=\"TBD\",\"\",IF(VLOOKUP(HLOOKUP(Y$5,$B$6:$K$15,Points!$A4+1,FALSE),'Cars & Results'!$A$7:$BZ$317,2*Y$5+5)=1,Y8*0.25,0))","v":0},{"$f":"IF(HLOOKUP(AA$5,$B$6:$K$15,Points!$A4+1,FALSE)=\"TBD\",\"\",VLOOKUP(HLOOKUP(AA$5,$B$6:$K$15,Points!$A4+1,FALSE),'Cars & Results'!$A$7:$BZ$317,2*AA$5+6,FALSE))","v":9},{"$f":"IF(HLOOKUP(AA$5,$B$6:$KI$15,Points!$A4+1,FALSE)=\"TBD\",\"\",IF(VLOOKUP(HLOOKUP(AA$5,$B$6:$K$15,Points!$A4+1,FALSE),'Cars & Results'!$A$7:$BZ$317,2*AA$5+5)=1,AA8*0.25,0))","v":0},{"$f":"IF(HLOOKUP(AC$5,$B$6:$K$15,Points!$A4+1,FALSE)=\"TBD\",\"\",VLOOKUP(HLOOKUP(AC$5,$B$6:$K$15,Points!$A4+1,FALSE),'Cars & Results'!$A$7:$BZ$317,2*AC$5+6,FALSE))","v":1},{"$f":"IF(HLOOKUP(AC$5,$B$6:$KI$15,Points!$A4+1,FALSE)=\"TBD\",\"\",IF(VLOOKUP(HLOOKUP(AC$5,$B$6:$K$15,Points!$A4+1,FALSE),'Cars & Results'!$A$7:$BZ$317,2*AC$5+5)=1,AC8*0.25,0))","v":0},{"$f":"IF(HLOOKUP(AE$5,$B$6:$K$15,Points!$A4+1,FALSE)=\"TBD\",\"\",VLOOKUP(HLOOKUP(AE$5,$B$6:$K$15,Points!$A4+1,FALSE),'Cars & Results'!$A$7:$BZ$317,2*AE$5+6,FALSE))","v":34},{"$f":"IF(HLOOKUP(AE$5,$B$6:$KI$15,Points!$A4+1,FALSE)=\"TBD\",\"\",IF(VLOOKUP(HLOOKUP(AE$5,$B$6:$K$15,Points!$A4+1,FALSE),'Cars & Results'!$A$7:$BZ$317,2*AE$5+5)=1,AE8*0.25,0))","v":0},{"$f":"IF(HLOOKUP(AG$5,$B$6:$K$15,Points!$A4+1,FALSE)=\"TBD\",\"\",VLOOKUP(HLOOKUP(AG$5,$B$6:$K$15,Points!$A4+1,FALSE),'Cars & Results'!$A$7:$BZ$317,2*AG$5+6,FALSE))","v":16},{"$f":"IF(HLOOKUP(AG$5,$B$6:$KI$15,Points!$A4+1,FALSE)=\"TBD\",\"\",IF(VLOOKUP(HLOOKUP(AG$5,$B$6:$K$15,Points!$A4+1,FALSE),'Cars & Results'!$A$7:$BZ$317,2*AG$5+5)=1,AG8*0.25,0))","v":0}]
[{"$f":"VLOOKUP(HLOOKUP('Pick Distribution'!$P$2,$B$6:$K$15,4),'Current Owner Standings'!$A$71:$B$480,2,FALSE)","v":18},48,48,48,48,48,48,48,48,48,48,{"$f":"IF(ISNA(VLOOKUP($K9,'Cars & Results'!$A$6:$K$317,L$5,FALSE)),\"Invalid Number\",VLOOKUP($K9,'Cars & Results'!$A$6:$K$317,L$5,FALSE))","v":"Jimmie Johnson"},{"$f":"IF(ISNA(VLOOKUP($K9,'Cars & Results'!$A$6:$K$317,M$5,FALSE)),\"Invalid Number\",VLOOKUP($K9,'Cars & Results'!$A$6:$K$317,M$5,FALSE))","v":"Chevrolet"},{"$f":"IF(ISNA(VLOOKUP($K9,'Cars & Results'!$A$6:$K$317,N$5,FALSE)),\"Invalid Number\",VLOOKUP($K9,'Cars & Results'!$A$6:$K$317,N$5,FALSE))","v":"Hendrick Motorsports"},{"$f":"IF(HLOOKUP(O$5,$B$6:$K$15,Points!$A5+1,FALSE)=\"TBD\",\"\",VLOOKUP(HLOOKUP(O$5,$B$6:$K$15,Points!$A5+1,FALSE),'Cars & Results'!$A$7:$BZ$317,2*O$5+6,FALSE))","v":26},{"$f":"IF(HLOOKUP(O$5,$B$6:$K$15,Points!$A5+1,FALSE)=\"TBD\",\"\",IF(VLOOKUP(HLOOKUP(O$5,$B$6:$K$15,Points!$A5+1,FALSE),'Cars & Results'!$A$7:$BZ$317,2*O$5+5)<=5,O9*0.5,0))","v":0},{"$f":"IF(HLOOKUP(Q$5,$B$6:$K$15,Points!$A5+1,FALSE)=\"TBD\",\"\",VLOOKUP(HLOOKUP(Q$5,$B$6:$K$15,Points!$A5+1,FALSE),'Cars & Results'!$A$7:$BZ$317,2*Q$5+6,FALSE))","v":31},{"$f":"IF(HLOOKUP(Q$5,$B$6:$K$15,Points!$A5+1,FALSE)=\"TBD\",\"\",IF(VLOOKUP(HLOOKUP(Q$5,$B$6:$K$15,Points!$A5+1,FALSE),'Cars & Results'!$A$7:$BZ$317,2*Q$5+5)<=5,Q9*0.5,0))","v":0},{"$f":"IF(HLOOKUP(S$5,$B$6:$K$15,Points!$A5+1,FALSE)=\"TBD\",\"\",VLOOKUP(HLOOKUP(S$5,$B$6:$K$15,Points!$A5+1,FALSE),'Cars & Results'!$A$7:$BZ$317,2*S$5+6,FALSE))","v":35},{"$f":"IF(HLOOKUP(S$5,$B$6:$K$15,Points!$A5+1,FALSE)=\"TBD\",\"\",IF(VLOOKUP(HLOOKUP(S$5,$B$6:$K$15,Points!$A5+1,FALSE),'Cars & Results'!$A$7:$BZ$317,2*S$5+5)<=5,S9*0.5,0))","v":0},{"$f":"IF(HLOOKUP(U$5,$B$6:$K$15,Points!$A5+1,FALSE)=\"TBD\",\"\",VLOOKUP(HLOOKUP(U$5,$B$6:$K$15,Points!$A5+1,FALSE),'Cars & Results'!$A$7:$BZ$317,2*U$5+6,FALSE))","v":39},{"$f":"IF(HLOOKUP(U$5,$B$6:$K$15,Points!$A5+1,FALSE)=\"TBD\",\"\",IF(VLOOKUP(HLOOKUP(U$5,$B$6:$K$15,Points!$A5+1,FALSE),'Cars & Results'!$A$7:$BZ$317,2*U$5+5)<=5,U9*0.5,0))","v":0},{"$f":"IF(HLOOKUP(W$5,$B$6:$K$15,Points!$A5+1,FALSE)=\"TBD\",\"\",VLOOKUP(HLOOKUP(W$5,$B$6:$K$15,Points!$A5+1,FALSE),'Cars & Results'!$A$7:$BZ$317,2*W$5+6,FALSE))","v":5},{"$f":"IF(HLOOKUP(W$5,$B$6:$K$15,Points!$A5+1,FALSE)=\"TBD\",\"\",IF(VLOOKUP(HLOOKUP(W$5,$B$6:$K$15,Points!$A5+1,FALSE),'Cars & Results'!$A$7:$BZ$317,2*W$5+5)<=5,W9*0.5,0))","v":0},{"$f":"IF(HLOOKUP(Y$5,$B$6:$K$15,Points!$A5+1,FALSE)=\"TBD\",\"\",VLOOKUP(HLOOKUP(Y$5,$B$6:$K$15,Points!$A5+1,FALSE),'Cars & Results'!$A$7:$BZ$317,2*Y$5+6,FALSE))","v":1},{"$f":"IF(HLOOKUP(Y$5,$B$6:$K$15,Points!$A5+1,FALSE)=\"TBD\",\"\",IF(VLOOKUP(HLOOKUP(Y$5,$B$6:$K$15,Points!$A5+1,FALSE),'Cars & Results'!$A$7:$BZ$317,2*Y$5+5)<=5,Y9*0.5,0))","v":0},{"$f":"IF(HLOOKUP(AA$5,$B$6:$K$15,Points!$A5+1,FALSE)=\"TBD\",\"\",VLOOKUP(HLOOKUP(AA$5,$B$6:$K$15,Points!$A5+1,FALSE),'Cars & Results'!$A$7:$BZ$317,2*AA$5+6,FALSE))","v":1},{"$f":"IF(HLOOKUP(AA$5,$B$6:$K$15,Points!$A5+1,FALSE)=\"TBD\",\"\",IF(VLOOKUP(HLOOKUP(AA$5,$B$6:$K$15,Points!$A5+1,FALSE),'Cars & Results'!$A$7:$BZ$317,2*AA$5+5)<=5,AA9*0.5,0))","v":0},{"$f":"IF(HLOOKUP(AC$5,$B$6:$K$15,Points!$A5+1,FALSE)=\"TBD\",\"\",VLOOKUP(HLOOKUP(AC$5,$B$6:$K$15,Points!$A5+1,FALSE),'Cars & Results'!$A$7:$BZ$317,2*AC$5+6,FALSE))","v":11},{"$f":"IF(HLOOKUP(AC$5,$B$6:$K$15,Points!$A5+1,FALSE)=\"TBD\",\"\",IF(VLOOKUP(HLOOKUP(AC$5,$B$6:$K$15,Points!$A5+1,FALSE),'Cars & Results'!$A$7:$BZ$317,2*AC$5+5)<=5,AC9*0.5,0))","v":0},{"$f":"IF(HLOOKUP(AE$5,$B$6:$K$15,Points!$A5+1,FALSE)=\"TBD\",\"\",VLOOKUP(HLOOKUP(AE$5,$B$6:$K$15,Points!$A5+1,FALSE),'Cars & Results'!$A$7:$BZ$317,2*AE$5+6,FALSE))","v":23},{"$f":"IF(HLOOKUP(AE$5,$B$6:$K$15,Points!$A5+1,FALSE)=\"TBD\",\"\",IF(VLOOKUP(HLOOKUP(AE$5,$B$6:$K$15,Points!$A5+1,FALSE),'Cars & Results'!$A$7:$BZ$317,2*AE$5+5)<=5,AE9*0.5,0))","v":0},{"$f":"IF(HLOOKUP(AG$5,$B$6:$K$15,Points!$A5+1,FALSE)=\"TBD\",\"\",VLOOKUP(HLOOKUP(AG$5,$B$6:$K$15,Points!$A5+1,FALSE),'Cars & Results'!$A$7:$BZ$317,2*AG$5+6,FALSE))","v":28},{"$f":"IF(HLOOKUP(AG$5,$B$6:$K$15,Points!$A5+1,FALSE)=\"TBD\",\"\",IF(VLOOKUP(HLOOKUP(AG$5,$B$6:$K$15,Points!$A5+1,FALSE),'Cars & Results'!$A$7:$BZ$317,2*AG$5+5)<=5,AG9*0.5,0))","v":0}]
[{"$f":"VLOOKUP(HLOOKUP('Pick Distribution'!$P$2,$B$6:$K$15,5),'Current Owner Standings'!$A$71:$B$480,2,FALSE)","v":22},3,3,3,3,3,3,3,3,3,3,{"$f":"IF(ISNA(VLOOKUP($K10,'Cars & Results'!$A$6:$K$317,L$5,FALSE)),\"Invalid Number\",VLOOKUP($K10,'Cars & Results'!$A$6:$K$317,L$5,FALSE))","v":"Austin Dillon"},{"$f":"IF(ISNA(VLOOKUP($K10,'Cars & Results'!$A$6:$K$317,M$5,FALSE)),\"Invalid Number\",VLOOKUP($K10,'Cars & Results'!$A$6:$K$317,M$5,FALSE))","v":"Chevrolet"},{"$f":"IF(ISNA(VLOOKUP($K10,'Cars & Results'!$A$6:$K$317,N$5,FALSE)),\"Invalid Number\",VLOOKUP($K10,'Cars & Results'!$A$6:$K$317,N$5,FALSE))","v":"Richard Childress Racing"},{"$f":"IF(HLOOKUP(O$5,$B$6:$K$15,Points!$A6+1,FALSE)=\"TBD\",\"\",VLOOKUP(HLOOKUP(O$5,$B$6:$K$15,Points!$A6+1,FALSE),'Cars & Results'!$A$7:$BZ$317,2*O$5+6,FALSE))","v":29},{"$f":"IF(HLOOKUP(O$5,$B$6:$K$15,Points!$A6+1,FALSE)=\"TBD\",\"\",IF(VLOOKUP(HLOOKUP(O$5,$B$6:$K$15,Points!$A6+1,FALSE),'Cars & Results'!$A$7:$BZ$317,2*O$5+5)<=5,O10*0.5,0))","v":0},{"$f":"IF(HLOOKUP(Q$5,$B$6:$K$15,Points!$A6+1,FALSE)=\"TBD\",\"\",VLOOKUP(HLOOKUP(Q$5,$B$6:$K$15,Points!$A6+1,FALSE),'Cars & Results'!$A$7:$BZ$317,2*Q$5+6,FALSE))","v":15},{"$f":"IF(HLOOKUP(Q$5,$B$6:$K$15,Points!$A6+1,FALSE)=\"TBD\",\"\",IF(VLOOKUP(HLOOKUP(Q$5,$B$6:$K$15,Points!$A6+1,FALSE),'Cars & Results'!$A$7:$BZ$317,2*Q$5+5)<=5,Q10*0.5,0))","v":0},{"$f":"IF(HLOOKUP(S$5,$B$6:$K$15,Points!$A6+1,FALSE)=\"TBD\",\"\",VLOOKUP(HLOOKUP(S$5,$B$6:$K$15,Points!$A6+1,FALSE),'Cars & Results'!$A$7:$BZ$317,2*S$5+6,FALSE))","v":14},{"$f":"IF(HLOOKUP(S$5,$B$6:$K$15,Points!$A6+1,FALSE)=\"TBD\",\"\",IF(VLOOKUP(HLOOKUP(S$5,$B$6:$K$15,Points!$A6+1,FALSE),'Cars & Results'!$A$7:$BZ$317,2*S$5+5)<=5,S10*0.5,0))","v":0},{"$f":"IF(HLOOKUP(U$5,$B$6:$K$15,Points!$A6+1,FALSE)=\"TBD\",\"\",VLOOKUP(HLOOKUP(U$5,$B$6:$K$15,Points!$A6+1,FALSE),'Cars & Results'!$A$7:$BZ$317,2*U$5+6,FALSE))","v":19},{"$f":"IF(HLOOKUP(U$5,$B$6:$K$15,Points!$A6+1,FALSE)=\"TBD\",\"\",IF(VLOOKUP(HLOOKUP(U$5,$B$6:$K$15,Points!$A6+1,FALSE),'Cars & Results'!$A$7:$BZ$317,2*U$5+5)<=5,U10*0.5,0))","v":0},{"$f":"IF(HLOOKUP(W$5,$B$6:$K$15,Points!$A6+1,FALSE)=\"TBD\",\"\",VLOOKUP(HLOOKUP(W$5,$B$6:$K$15,Points!$A6+1,FALSE),'Cars & Results'!$A$7:$BZ$317,2*W$5+6,FALSE))","v":38},{"$f":"IF(HLOOKUP(W$5,$B$6:$K$15,Points!$A6+1,FALSE)=\"TBD\",\"\",IF(VLOOKUP(HLOOKUP(W$5,$B$6:$K$15,Points!$A6+1,FALSE),'Cars & Results'!$A$7:$BZ$317,2*W$5+5)<=5,W10*0.5,0))","v":0},{"$f":"IF(HLOOKUP(Y$5,$B$6:$K$15,Points!$A6+1,FALSE)=\"TBD\",\"\",VLOOKUP(HLOOKUP(Y$5,$B$6:$K$15,Points!$A6+1,FALSE),'Cars & Results'!$A$7:$BZ$317,2*Y$5+6,FALSE))","v":15},{"$f":"IF(HLOOKUP(Y$5,$B$6:$K$15,Points!$A6+1,FALSE)=\"TBD\",\"\",IF(VLOOKUP(HLOOKUP(Y$5,$B$6:$K$15,Points!$A6+1,FALSE),'Cars & Results'!$A$7:$BZ$317,2*Y$5+5)<=5,Y10*0.5,0))","v":0},{"$f":"IF(HLOOKUP(AA$5,$B$6:$K$15,Points!$A6+1,FALSE)=\"TBD\",\"\",VLOOKUP(HLOOKUP(AA$5,$B$6:$K$15,Points!$A6+1,FALSE),'Cars & Results'!$A$7:$BZ$317,2*AA$5+6,FALSE))","v":15},{"$f":"IF(HLOOKUP(AA$5,$B$6:$K$15,Points!$A6+1,FALSE)=\"TBD\",\"\",IF(VLOOKUP(HLOOKUP(AA$5,$B$6:$K$15,Points!$A6+1,FALSE),'Cars & Results'!$A$7:$BZ$317,2*AA$5+5)<=5,AA10*0.5,0))","v":0},{"$f":"IF(HLOOKUP(AC$5,$B$6:$K$15,Points!$A6+1,FALSE)=\"TBD\",\"\",VLOOKUP(HLOOKUP(AC$5,$B$6:$K$15,Points!$A6+1,FALSE),'Cars & Results'!$A$7:$BZ$317,2*AC$5+6,FALSE))","v":29},{"$f":"IF(HLOOKUP(AC$5,$B$6:$K$15,Points!$A6+1,FALSE)=\"TBD\",\"\",IF(VLOOKUP(HLOOKUP(AC$5,$B$6:$K$15,Points!$A6+1,FALSE),'Cars & Results'!$A$7:$BZ$317,2*AC$5+5)<=5,AC10*0.5,0))","v":0},{"$f":"IF(HLOOKUP(AE$5,$B$6:$K$15,Points!$A6+1,FALSE)=\"TBD\",\"\",VLOOKUP(HLOOKUP(AE$5,$B$6:$K$15,Points!$A6+1,FALSE),'Cars & Results'!$A$7:$BZ$317,2*AE$5+6,FALSE))","v":13},{"$f":"IF(HLOOKUP(AE$5,$B$6:$K$15,Points!$A6+1,FALSE)=\"TBD\",\"\",IF(VLOOKUP(HLOOKUP(AE$5,$B$6:$K$15,Points!$A6+1,FALSE),'Cars & Results'!$A$7:$BZ$317,2*AE$5+5)<=5,AE10*0.5,0))","v":0},{"$f":"IF(HLOOKUP(AG$5,$B$6:$K$15,Points!$A6+1,FALSE)=\"TBD\",\"\",VLOOKUP(HLOOKUP(AG$5,$B$6:$K$15,Points!$A6+1,FALSE),'Cars & Results'!$A$7:$BZ$317,2*AG$5+6,FALSE))","v":30},{"$f":"IF(HLOOKUP(AG$5,$B$6:$K$15,Points!$A6+1,FALSE)=\"TBD\",\"\",IF(VLOOKUP(HLOOKUP(AG$5,$B$6:$K$15,Points!$A6+1,FALSE),'Cars & Results'!$A$7:$BZ$317,2*AG$5+5)<=5,AG10*0.5,0))","v":0}]
[{"$f":"VLOOKUP(HLOOKUP('Pick Distribution'!$P$2,$B$6:$K$15,6),'Current Owner Standings'!$A$71:$B$480,2,FALSE)","v":24},43,43,43,13,13,13,13,13,13,13,{"$f":"IF(ISNA(VLOOKUP($K11,'Cars & Results'!$A$6:$K$317,L$5,FALSE)),\"Invalid Number\",VLOOKUP($K11,'Cars & Results'!$A$6:$K$317,L$5,FALSE))","v":"Ty Dillon"},{"$f":"IF(ISNA(VLOOKUP($K11,'Cars & Results'!$A$6:$K$317,M$5,FALSE)),\"Invalid Number\",VLOOKUP($K11,'Cars & Results'!$A$6:$K$317,M$5,FALSE))","v":"Chevrolet"},{"$f":"IF(ISNA(VLOOKUP($K11,'Cars & Results'!$A$6:$K$317,N$5,FALSE)),\"Invalid Number\",VLOOKUP($K11,'Cars & Results'!$A$6:$K$317,N$5,FALSE))","v":"Germain Racing"},{"$f":"IF(HLOOKUP(O$5,$B$6:$K$15,Points!$A7+1,FALSE)=\"TBD\",\"\",VLOOKUP(HLOOKUP(O$5,$B$6:$K$15,Points!$A7+1,FALSE),'Cars & Results'!$A$7:$BZ$317,2*O$5+6,FALSE))","v":14},{"$f":"IF(HLOOKUP(O$5,$B$6:$K$15,Points!$A7+1,FALSE)=\"TBD\",\"\",IF(VLOOKUP(HLOOKUP(O$5,$B$6:$K$15,Points!$A7+1,FALSE),'Cars & Results'!$A$7:$BZ$317,2*O$5+5)<=10,O11*1.5,0))","v":0},{"$f":"IF(HLOOKUP(Q$5,$B$6:$K$15,Points!$A7+1,FALSE)=\"TBD\",\"\",VLOOKUP(HLOOKUP(Q$5,$B$6:$K$15,Points!$A7+1,FALSE),'Cars & Results'!$A$7:$BZ$317,2*Q$5+6,FALSE))","v":29},{"$f":"IF(HLOOKUP(Q$5,$B$6:$K$15,Points!$A7+1,FALSE)=\"TBD\",\"\",IF(VLOOKUP(HLOOKUP(Q$5,$B$6:$K$15,Points!$A7+1,FALSE),'Cars & Results'!$A$7:$BZ$317,2*Q$5+5)<=10,Q11*1.5,0))","v":0},{"$f":"IF(HLOOKUP(S$5,$B$6:$K$15,Points!$A7+1,FALSE)=\"TBD\",\"\",VLOOKUP(HLOOKUP(S$5,$B$6:$K$15,Points!$A7+1,FALSE),'Cars & Results'!$A$7:$BZ$317,2*S$5+6,FALSE))","v":13},{"$f":"IF(HLOOKUP(S$5,$B$6:$K$15,Points!$A7+1,FALSE)=\"TBD\",\"\",IF(VLOOKUP(HLOOKUP(S$5,$B$6:$K$15,Points!$A7+1,FALSE),'Cars & Results'!$A$7:$BZ$317,2*S$5+5)<=10,S11*1.5,0))","v":0},{"$f":"IF(HLOOKUP(U$5,$B$6:$K$15,Points!$A7+1,FALSE)=\"TBD\",\"\",VLOOKUP(HLOOKUP(U$5,$B$6:$K$15,Points!$A7+1,FALSE),'Cars & Results'!$A$7:$BZ$317,2*U$5+6,FALSE))","v":14},{"$f":"IF(HLOOKUP(U$5,$B$6:$K$15,Points!$A7+1,FALSE)=\"TBD\",\"\",IF(VLOOKUP(HLOOKUP(U$5,$B$6:$K$15,Points!$A7+1,FALSE),'Cars & Results'!$A$7:$BZ$317,2*U$5+5)<=10,U11*1.5,0))","v":0},{"$f":"IF(HLOOKUP(W$5,$B$6:$K$15,Points!$A7+1,FALSE)=\"TBD\",\"\",VLOOKUP(HLOOKUP(W$5,$B$6:$K$15,Points!$A7+1,FALSE),'Cars & Results'!$A$7:$BZ$317,2*W$5+6,FALSE))","v":27},{"$f":"IF(HLOOKUP(W$5,$B$6:$K$15,Points!$A7+1,FALSE)=\"TBD\",\"\",IF(VLOOKUP(HLOOKUP(W$5,$B$6:$K$15,Points!$A7+1,FALSE),'Cars & Results'!$A$7:$BZ$317,2*W$5+5)<=10,W11*1.5,0))","v":40.5},{"$f":"IF(HLOOKUP(Y$5,$B$6:$K$15,Points!$A7+1,FALSE)=\"TBD\",\"\",VLOOKUP(HLOOKUP(Y$5,$B$6:$K$15,Points!$A7+1,FALSE),'Cars & Results'!$A$7:$BZ$317,2*Y$5+6,FALSE))","v":13},{"$f":"IF(HLOOKUP(Y$5,$B$6:$K$15,Points!$A7+1,FALSE)=\"TBD\",\"\",IF(VLOOKUP(HLOOKUP(Y$5,$B$6:$K$15,Points!$A7+1,FALSE),'Cars & Results'!$A$7:$BZ$317,2*Y$5+5)<=10,Y11*1.5,0))","v":0},{"$f":"IF(HLOOKUP(AA$5,$B$6:$K$15,Points!$A7+1,FALSE)=\"TBD\",\"\",VLOOKUP(HLOOKUP(AA$5,$B$6:$K$15,Points!$A7+1,FALSE),'Cars & Results'!$A$7:$BZ$317,2*AA$5+6,FALSE))","v":13},{"$f":"IF(HLOOKUP(AA$5,$B$6:$K$15,Points!$A7+1,FALSE)=\"TBD\",\"\",IF(VLOOKUP(HLOOKUP(AA$5,$B$6:$K$15,Points!$A7+1,FALSE),'Cars & Results'!$A$7:$BZ$317,2*AA$5+5)<=10,AA11*1.5,0))","v":0},{"$f":"IF(HLOOKUP(AC$5,$B$6:$K$15,Points!$A7+1,FALSE)=\"TBD\",\"\",VLOOKUP(HLOOKUP(AC$5,$B$6:$K$15,Points!$A7+1,FALSE),'Cars & Results'!$A$7:$BZ$317,2*AC$5+6,FALSE))","v":19},{"$f":"IF(HLOOKUP(AC$5,$B$6:$K$15,Points!$A7+1,FALSE)=\"TBD\",\"\",IF(VLOOKUP(HLOOKUP(AC$5,$B$6:$K$15,Points!$A7+1,FALSE),'Cars & Results'!$A$7:$BZ$317,2*AC$5+5)<=10,AC11*1.5,0))","v":0},{"$f":"IF(HLOOKUP(AE$5,$B$6:$K$15,Points!$A7+1,FALSE)=\"TBD\",\"\",VLOOKUP(HLOOKUP(AE$5,$B$6:$K$15,Points!$A7+1,FALSE),'Cars & Results'!$A$7:$BZ$317,2*AE$5+6,FALSE))","v":17},{"$f":"IF(HLOOKUP(AE$5,$B$6:$K$15,Points!$A7+1,FALSE)=\"TBD\",\"\",IF(VLOOKUP(HLOOKUP(AE$5,$B$6:$K$15,Points!$A7+1,FALSE),'Cars & Results'!$A$7:$BZ$317,2*AE$5+5)<=10,AE11*1.5,0))","v":0},{"$f":"IF(HLOOKUP(AG$5,$B$6:$K$15,Points!$A7+1,FALSE)=\"TBD\",\"\",VLOOKUP(HLOOKUP(AG$5,$B$6:$K$15,Points!$A7+1,FALSE),'Cars & Results'!$A$7:$BZ$317,2*AG$5+6,FALSE))","v":13},{"$f":"IF(HLOOKUP(AG$5,$B$6:$K$15,Points!$A7+1,FALSE)=\"TBD\",\"\",IF(VLOOKUP(HLOOKUP(AG$5,$B$6:$K$15,Points!$A7+1,FALSE),'Cars & Results'!$A$7:$BZ$317,2*AG$5+5)<=10,AG11*1.5,0))","v":0}]
[{"$f":"VLOOKUP(HLOOKUP('Pick Distribution'!$P$2,$B$6:$K$15,7),'Current Owner Standings'!$A$71:$B$480,2,FALSE)","v":25},8,8,8,8,8,8,8,8,8,8,{"$f":"IF(ISNA(VLOOKUP($K12,'Cars & Results'!$A$6:$K$317,L$5,FALSE)),\"Invalid Number\",VLOOKUP($K12,'Cars & Results'!$A$6:$K$317,L$5,FALSE))","v":"Daniel Hemric (R)"},{"$f":"IF(ISNA(VLOOKUP($K12,'Cars & Results'!$A$6:$K$317,M$5,FALSE)),\"Invalid Number\",VLOOKUP($K12,'Cars & Results'!$A$6:$K$317,M$5,FALSE))","v":"Chevrolet"},{"$f":"IF(ISNA(VLOOKUP($K12,'Cars & Results'!$A$6:$K$317,N$5,FALSE)),\"Invalid Number\",VLOOKUP($K12,'Cars & Results'!$A$6:$K$317,N$5,FALSE))","v":"Richard Childress Racing"},{"$f":"IF(HLOOKUP(O$5,$B$6:$K$15,Points!$A8+1,FALSE)=\"TBD\",\"\",VLOOKUP(HLOOKUP(O$5,$B$6:$K$15,Points!$A8+1,FALSE),'Cars & Results'!$A$7:$BZ$317,2*O$5+6,FALSE))","v":20},{"$f":"IF(HLOOKUP(O$5,$B$6:$K$15,Points!$A8+1,FALSE)=\"TBD\",\"\",IF(VLOOKUP(HLOOKUP(O$5,$B$6:$K$15,Points!$A8+1,FALSE),'Cars & Results'!$A$7:$BZ$317,2*O$5+5)<=10,O12*1.5,0))","v":0},{"$f":"IF(HLOOKUP(Q$5,$B$6:$K$15,Points!$A8+1,FALSE)=\"TBD\",\"\",VLOOKUP(HLOOKUP(Q$5,$B$6:$K$15,Points!$A8+1,FALSE),'Cars & Results'!$A$7:$BZ$317,2*Q$5+6,FALSE))","v":12},{"$f":"IF(HLOOKUP(Q$5,$B$6:$K$15,Points!$A8+1,FALSE)=\"TBD\",\"\",IF(VLOOKUP(HLOOKUP(Q$5,$B$6:$K$15,Points!$A8+1,FALSE),'Cars & Results'!$A$7:$BZ$317,2*Q$5+5)<=10,Q12*1.5,0))","v":0},{"$f":"IF(HLOOKUP(S$5,$B$6:$K$15,Points!$A8+1,FALSE)=\"TBD\",\"\",VLOOKUP(HLOOKUP(S$5,$B$6:$K$15,Points!$A8+1,FALSE),'Cars & Results'!$A$7:$BZ$317,2*S$5+6,FALSE))","v":4},{"$f":"IF(HLOOKUP(S$5,$B$6:$K$15,Points!$A8+1,FALSE)=\"TBD\",\"\",IF(VLOOKUP(HLOOKUP(S$5,$B$6:$K$15,Points!$A8+1,FALSE),'Cars & Results'!$A$7:$BZ$317,2*S$5+5)<=10,S12*1.5,0))","v":0},{"$f":"IF(HLOOKUP(U$5,$B$6:$K$15,Points!$A8+1,FALSE)=\"TBD\",\"\",VLOOKUP(HLOOKUP(U$5,$B$6:$K$15,Points!$A8+1,FALSE),'Cars & Results'!$A$7:$BZ$317,2*U$5+6,FALSE))","v":16},{"$f":"IF(HLOOKUP(U$5,$B$6:$K$15,Points!$A8+1,FALSE)=\"TBD\",\"\",IF(VLOOKUP(HLOOKUP(U$5,$B$6:$K$15,Points!$A8+1,FALSE),'Cars & Results'!$A$7:$BZ$317,2*U$5+5)<=10,U12*1.5,0))","v":0},{"$f":"IF(HLOOKUP(W$5,$B$6:$K$15,Points!$A8+1,FALSE)=\"TBD\",\"\",VLOOKUP(HLOOKUP(W$5,$B$6:$K$15,Points!$A8+1,FALSE),'Cars & Results'!$A$7:$BZ$317,2*W$5+6,FALSE))","v":16},{"$f":"IF(HLOOKUP(W$5,$B$6:$K$15,Points!$A8+1,FALSE)=\"TBD\",\"\",IF(VLOOKUP(HLOOKUP(W$5,$B$6:$K$15,Points!$A8+1,FALSE),'Cars & Results'!$A$7:$BZ$317,2*W$5+5)<=10,W12*1.5,0))","v":0},{"$f":"IF(HLOOKUP(Y$5,$B$6:$K$15,Points!$A8+1,FALSE)=\"TBD\",\"\",VLOOKUP(HLOOKUP(Y$5,$B$6:$K$15,Points!$A8+1,FALSE),'Cars & Results'!$A$7:$BZ$317,2*Y$5+6,FALSE))","v":20},{"$f":"IF(HLOOKUP(Y$5,$B$6:$K$15,Points!$A8+1,FALSE)=\"TBD\",\"\",IF(VLOOKUP(HLOOKUP(Y$5,$B$6:$K$15,Points!$A8+1,FALSE),'Cars & Results'!$A$7:$BZ$317,2*Y$5+5)<=10,Y12*1.5,0))","v":0},{"$f":"IF(HLOOKUP(AA$5,$B$6:$K$15,Points!$A8+1,FALSE)=\"TBD\",\"\",VLOOKUP(HLOOKUP(AA$5,$B$6:$K$15,Points!$A8+1,FALSE),'Cars & Results'!$A$7:$BZ$317,2*AA$5+6,FALSE))","v":20},{"$f":"IF(HLOOKUP(AA$5,$B$6:$K$15,Points!$A8+1,FALSE)=\"TBD\",\"\",IF(VLOOKUP(HLOOKUP(AA$5,$B$6:$K$15,Points!$A8+1,FALSE),'Cars & Results'!$A$7:$BZ$317,2*AA$5+5)<=10,AA12*1.5,0))","v":0},{"$f":"IF(HLOOKUP(AC$5,$B$6:$K$15,Points!$A8+1,FALSE)=\"TBD\",\"\",VLOOKUP(HLOOKUP(AC$5,$B$6:$K$15,Points!$A8+1,FALSE),'Cars & Results'!$A$7:$BZ$317,2*AC$5+6,FALSE))","v":22},{"$f":"IF(HLOOKUP(AC$5,$B$6:$K$15,Points!$A8+1,FALSE)=\"TBD\",\"\",IF(VLOOKUP(HLOOKUP(AC$5,$B$6:$K$15,Points!$A8+1,FALSE),'Cars & Results'!$A$7:$BZ$317,2*AC$5+5)<=10,AC12*1.5,0))","v":0},{"$f":"IF(HLOOKUP(AE$5,$B$6:$K$15,Points!$A8+1,FALSE)=\"TBD\",\"\",VLOOKUP(HLOOKUP(AE$5,$B$6:$K$15,Points!$A8+1,FALSE),'Cars & Results'!$A$7:$BZ$317,2*AE$5+6,FALSE))","v":16},{"$f":"IF(HLOOKUP(AE$5,$B$6:$K$15,Points!$A8+1,FALSE)=\"TBD\",\"\",IF(VLOOKUP(HLOOKUP(AE$5,$B$6:$K$15,Points!$A8+1,FALSE),'Cars & Results'!$A$7:$BZ$317,2*AE$5+5)<=10,AE12*1.5,0))","v":0},{"$f":"IF(HLOOKUP(AG$5,$B$6:$K$15,Points!$A8+1,FALSE)=\"TBD\",\"\",VLOOKUP(HLOOKUP(AG$5,$B$6:$K$15,Points!$A8+1,FALSE),'Cars & Results'!$A$7:$BZ$317,2*AG$5+6,FALSE))","v":29},{"$f":"IF(HLOOKUP(AG$5,$B$6:$K$15,Points!$A8+1,FALSE)=\"TBD\",\"\",IF(VLOOKUP(HLOOKUP(AG$5,$B$6:$K$15,Points!$A8+1,FALSE),'Cars & Results'!$A$7:$BZ$317,2*AG$5+5)<=10,AG12*1.5,0))","v":0}]
[{"$f":"VLOOKUP(HLOOKUP('Pick Distribution'!$P$2,$B$6:$K$15,8),'Current Owner Standings'!$A$71:$B$480,2,FALSE)","v":31},36,77,77,77,77,38,38,15,15,38,{"$f":"IF(ISNA(VLOOKUP($K13,'Cars & Results'!$A$6:$K$317,L$5,FALSE)),\"Invalid Number\",VLOOKUP($K13,'Cars & Results'!$A$6:$K$317,L$5,FALSE))","v":"David Ragan"},{"$f":"IF(ISNA(VLOOKUP($K13,'Cars & Results'!$A$6:$K$317,M$5,FALSE)),\"Invalid Number\",VLOOKUP($K13,'Cars & Results'!$A$6:$K$317,M$5,FALSE))","v":"Ford"},{"$f":"IF(ISNA(VLOOKUP($K13,'Cars & Results'!$A$6:$K$317,N$5,FALSE)),\"Invalid Number\",VLOOKUP($K13,'Cars & Results'!$A$6:$K$317,N$5,FALSE))","v":"Front Row Motorsports"},{"$f":"IF(HLOOKUP(O$5,$B$6:$K$15,Points!$A9+1,FALSE)=\"TBD\",\"\",VLOOKUP(HLOOKUP(O$5,$B$6:$K$15,Points!$A9+1,FALSE),'Cars & Results'!$A$7:$BZ$317,2*O$5+6,FALSE))","v":7},{"$f":"IF(HLOOKUP(O$5,$B$6:$K$15,Points!$A9+1,FALSE)=\"TBD\",\"\",IF(VLOOKUP(HLOOKUP(O$5,$B$6:$K$15,Points!$A9+1,FALSE),'Cars & Results'!$A$7:$BZ$317,2*O$5+5)<=10,O13*2,0))","v":0},{"$f":"IF(HLOOKUP(Q$5,$B$6:$K$15,Points!$A9+1,FALSE)=\"TBD\",\"\",VLOOKUP(HLOOKUP(Q$5,$B$6:$K$15,Points!$A9+1,FALSE),'Cars & Results'!$A$7:$BZ$317,2*Q$5+6,FALSE))","v":1},{"$f":"IF(HLOOKUP(Q$5,$B$6:$K$15,Points!$A9+1,FALSE)=\"TBD\",\"\",IF(VLOOKUP(HLOOKUP(Q$5,$B$6:$K$15,Points!$A9+1,FALSE),'Cars & Results'!$A$7:$BZ$317,2*Q$5+5)<=10,Q13*2,0))","v":0},{"$f":"IF(HLOOKUP(S$5,$B$6:$K$15,Points!$A9+1,FALSE)=\"TBD\",\"\",VLOOKUP(HLOOKUP(S$5,$B$6:$K$15,Points!$A9+1,FALSE),'Cars & Results'!$A$7:$BZ$317,2*S$5+6,FALSE))","v":1},{"$f":"IF(HLOOKUP(S$5,$B$6:$K$15,Points!$A9+1,FALSE)=\"TBD\",\"\",IF(VLOOKUP(HLOOKUP(S$5,$B$6:$K$15,Points!$A9+1,FALSE),'Cars & Results'!$A$7:$BZ$317,2*S$5+5)<=10,S13*2,0))","v":0},{"$f":"IF(HLOOKUP(U$5,$B$6:$K$15,Points!$A9+1,FALSE)=\"TBD\",\"\",VLOOKUP(HLOOKUP(U$5,$B$6:$K$15,Points!$A9+1,FALSE),'Cars & Results'!$A$7:$BZ$317,2*U$5+6,FALSE))","v":1},{"$f":"IF(HLOOKUP(U$5,$B$6:$K$15,Points!$A9+1,FALSE)=\"TBD\",\"\",IF(VLOOKUP(HLOOKUP(U$5,$B$6:$K$15,Points!$A9+1,FALSE),'Cars & Results'!$A$7:$BZ$317,2*U$5+5)<=10,U13*2,0))","v":0},{"$f":"IF(HLOOKUP(W$5,$B$6:$K$15,Points!$A9+1,FALSE)=\"TBD\",\"\",VLOOKUP(HLOOKUP(W$5,$B$6:$K$15,Points!$A9+1,FALSE),'Cars & Results'!$A$7:$BZ$317,2*W$5+6,FALSE))","v":6},{"$f":"IF(HLOOKUP(W$5,$B$6:$K$15,Points!$A9+1,FALSE)=\"TBD\",\"\",IF(VLOOKUP(HLOOKUP(W$5,$B$6:$K$15,Points!$A9+1,FALSE),'Cars & Results'!$A$7:$BZ$317,2*W$5+5)<=10,W13*2,0))","v":0},{"$f":"IF(HLOOKUP(Y$5,$B$6:$K$15,Points!$A9+1,FALSE)=\"TBD\",\"\",VLOOKUP(HLOOKUP(Y$5,$B$6:$K$15,Points!$A9+1,FALSE),'Cars & Results'!$A$7:$BZ$317,2*Y$5+6,FALSE))","v":26},{"$f":"IF(HLOOKUP(Y$5,$B$6:$K$15,Points!$A9+1,FALSE)=\"TBD\",\"\",IF(VLOOKUP(HLOOKUP(Y$5,$B$6:$K$15,Points!$A9+1,FALSE),'Cars & Results'!$A$7:$BZ$317,2*Y$5+5)<=10,Y13*2,0))","v":0},{"$f":"IF(HLOOKUP(AA$5,$B$6:$K$15,Points!$A9+1,FALSE)=\"TBD\",\"\",VLOOKUP(HLOOKUP(AA$5,$B$6:$K$15,Points!$A9+1,FALSE),'Cars & Results'!$A$7:$BZ$317,2*AA$5+6,FALSE))","v":26},{"$f":"IF(HLOOKUP(AA$5,$B$6:$K$15,Points!$A9+1,FALSE)=\"TBD\",\"\",IF(VLOOKUP(HLOOKUP(AA$5,$B$6:$K$15,Points!$A9+1,FALSE),'Cars & Results'!$A$7:$BZ$317,2*AA$5+5)<=10,AA13*2,0))","v":0},{"$f":"IF(HLOOKUP(AC$5,$B$6:$K$15,Points!$A9+1,FALSE)=\"TBD\",\"\",VLOOKUP(HLOOKUP(AC$5,$B$6:$K$15,Points!$A9+1,FALSE),'Cars & Results'!$A$7:$BZ$317,2*AC$5+6,FALSE))","v":8},{"$f":"IF(HLOOKUP(AC$5,$B$6:$K$15,Points!$A9+1,FALSE)=\"TBD\",\"\",IF(VLOOKUP(HLOOKUP(AC$5,$B$6:$K$15,Points!$A9+1,FALSE),'Cars & Results'!$A$7:$BZ$317,2*AC$5+5)<=10,AC13*2,0))","v":0},{"$f":"IF(HLOOKUP(AE$5,$B$6:$K$15,Points!$A9+1,FALSE)=\"TBD\",\"\",VLOOKUP(HLOOKUP(AE$5,$B$6:$K$15,Points!$A9+1,FALSE),'Cars & Results'!$A$7:$BZ$317,2*AE$5+6,FALSE))","v":9},{"$f":"IF(HLOOKUP(AE$5,$B$6:$K$15,Points!$A9+1,FALSE)=\"TBD\",\"\",IF(VLOOKUP(HLOOKUP(AE$5,$B$6:$K$15,Points!$A9+1,FALSE),'Cars & Results'!$A$7:$BZ$317,2*AE$5+5)<=10,AE13*2,0))","v":0},{"$f":"IF(HLOOKUP(AG$5,$B$6:$K$15,Points!$A9+1,FALSE)=\"TBD\",\"\",VLOOKUP(HLOOKUP(AG$5,$B$6:$K$15,Points!$A9+1,FALSE),'Cars & Results'!$A$7:$BZ$317,2*AG$5+6,FALSE))","v":10},{"$f":"IF(HLOOKUP(AG$5,$B$6:$K$15,Points!$A9+1,FALSE)=\"TBD\",\"\",IF(VLOOKUP(HLOOKUP(AG$5,$B$6:$K$15,Points!$A9+1,FALSE),'Cars & Results'!$A$7:$BZ$317,2*AG$5+5)<=10,AG13*2,0))","v":0}]
[{"$f":"VLOOKUP(HLOOKUP('Pick Distribution'!$P$2,$B$6:$K$15,9),'Current Owner Standings'!$A$71:$B$480,2,FALSE)","v":36},52,52,52,52,27,27,27,27,27,27,{"$f":"IF(ISNA(VLOOKUP($K14,'Cars & Results'!$A$6:$K$317,L$5,FALSE)),\"Invalid Number\",VLOOKUP($K14,'Cars & Results'!$A$6:$K$317,L$5,FALSE))","v":"Ross Chastain (i)"},{"$f":"IF(ISNA(VLOOKUP($K14,'Cars & Results'!$A$6:$K$317,M$5,FALSE)),\"Invalid Number\",VLOOKUP($K14,'Cars & Results'!$A$6:$K$317,M$5,FALSE))","v":"Chevrolet"},{"$f":"IF(ISNA(VLOOKUP($K14,'Cars & Results'!$A$6:$K$317,N$5,FALSE)),\"Invalid Number\",VLOOKUP($K14,'Cars & Results'!$A$6:$K$317,N$5,FALSE))","v":"Premium Motorsports"},{"$f":"IF(HLOOKUP(O$5,$B$6:$K$15,Points!$A10+1,FALSE)=\"TBD\",\"\",VLOOKUP(HLOOKUP(O$5,$B$6:$K$15,Points!$A10+1,FALSE),'Cars & Results'!$A$7:$BZ$317,2*O$5+6,FALSE))","v":2},{"$f":"IF(HLOOKUP(O$5,$B$6:$K$15,Points!$A10+1,FALSE)=\"TBD\",\"\",IF(VLOOKUP(HLOOKUP(O$5,$B$6:$K$15,Points!$A10+1,FALSE),'Cars & Results'!$A$7:$BZ$317,2*O$5+5)<=10,O14*3,0))","v":0},{"$f":"IF(HLOOKUP(Q$5,$B$6:$K$15,Points!$A10+1,FALSE)=\"TBD\",\"\",VLOOKUP(HLOOKUP(Q$5,$B$6:$K$15,Points!$A10+1,FALSE),'Cars & Results'!$A$7:$BZ$317,2*Q$5+6,FALSE))","v":4},{"$f":"IF(HLOOKUP(Q$5,$B$6:$K$15,Points!$A10+1,FALSE)=\"TBD\",\"\",IF(VLOOKUP(HLOOKUP(Q$5,$B$6:$K$15,Points!$A10+1,FALSE),'Cars & Results'!$A$7:$BZ$317,2*Q$5+5)<=10,Q14*3,0))","v":0},{"$f":"IF(HLOOKUP(S$5,$B$6:$K$15,Points!$A10+1,FALSE)=\"TBD\",\"\",VLOOKUP(HLOOKUP(S$5,$B$6:$K$15,Points!$A10+1,FALSE),'Cars & Results'!$A$7:$BZ$317,2*S$5+6,FALSE))","v":1},{"$f":"IF(HLOOKUP(S$5,$B$6:$K$15,Points!$A10+1,FALSE)=\"TBD\",\"\",IF(VLOOKUP(HLOOKUP(S$5,$B$6:$K$15,Points!$A10+1,FALSE),'Cars & Results'!$A$7:$BZ$317,2*S$5+5)<=10,S14*3,0))","v":0},{"$f":"IF(HLOOKUP(U$5,$B$6:$K$15,Points!$A10+1,FALSE)=\"TBD\",\"\",VLOOKUP(HLOOKUP(U$5,$B$6:$K$15,Points!$A10+1,FALSE),'Cars & Results'!$A$7:$BZ$317,2*U$5+6,FALSE))","v":5},{"$f":"IF(HLOOKUP(U$5,$B$6:$K$15,Points!$A10+1,FALSE)=\"TBD\",\"\",IF(VLOOKUP(HLOOKUP(U$5,$B$6:$K$15,Points!$A10+1,FALSE),'Cars & Results'!$A$7:$BZ$317,2*U$5+5)<=10,U14*3,0))","v":0},{"$f":"IF(HLOOKUP(W$5,$B$6:$K$15,Points!$A10+1,FALSE)=\"TBD\",\"\",VLOOKUP(HLOOKUP(W$5,$B$6:$K$15,Points!$A10+1,FALSE),'Cars & Results'!$A$7:$BZ$317,2*W$5+6,FALSE))","v":15},{"$f":"IF(HLOOKUP(W$5,$B$6:$K$15,Points!$A10+1,FALSE)=\"TBD\",\"\",IF(VLOOKUP(HLOOKUP(W$5,$B$6:$K$15,Points!$A10+1,FALSE),'Cars & Results'!$A$7:$BZ$317,2*W$5+5)<=10,W14*3,0))","v":0},{"$f":"IF(HLOOKUP(Y$5,$B$6:$K$15,Points!$A10+1,FALSE)=\"TBD\",\"\",VLOOKUP(HLOOKUP(Y$5,$B$6:$K$15,Points!$A10+1,FALSE),'Cars & Results'!$A$7:$BZ$317,2*Y$5+6,FALSE))","v":4},{"$f":"IF(HLOOKUP(Y$5,$B$6:$K$15,Points!$A10+1,FALSE)=\"TBD\",\"\",IF(VLOOKUP(HLOOKUP(Y$5,$B$6:$K$15,Points!$A10+1,FALSE),'Cars & Results'!$A$7:$BZ$317,2*Y$5+5)<=10,Y14*3,0))","v":0},{"$f":"IF(HLOOKUP(AA$5,$B$6:$K$15,Points!$A10+1,FALSE)=\"TBD\",\"\",VLOOKUP(HLOOKUP(AA$5,$B$6:$K$15,Points!$A10+1,FALSE),'Cars & Results'!$A$7:$BZ$317,2*AA$5+6,FALSE))","v":4},{"$f":"IF(HLOOKUP(AA$5,$B$6:$K$15,Points!$A10+1,FALSE)=\"TBD\",\"\",IF(VLOOKUP(HLOOKUP(AA$5,$B$6:$K$15,Points!$A10+1,FALSE),'Cars & Results'!$A$7:$BZ$317,2*AA$5+5)<=10,AA14*3,0))","v":0},{"$f":"IF(HLOOKUP(AC$5,$B$6:$K$15,Points!$A10+1,FALSE)=\"TBD\",\"\",VLOOKUP(HLOOKUP(AC$5,$B$6:$K$15,Points!$A10+1,FALSE),'Cars & Results'!$A$7:$BZ$317,2*AC$5+6,FALSE))","v":6},{"$f":"IF(HLOOKUP(AC$5,$B$6:$K$15,Points!$A10+1,FALSE)=\"TBD\",\"\",IF(VLOOKUP(HLOOKUP(AC$5,$B$6:$K$15,Points!$A10+1,FALSE),'Cars & Results'!$A$7:$BZ$317,2*AC$5+5)<=10,AC14*3,0))","v":0},{"$f":"IF(HLOOKUP(AE$5,$B$6:$K$15,Points!$A10+1,FALSE)=\"TBD\",\"\",VLOOKUP(HLOOKUP(AE$5,$B$6:$K$15,Points!$A10+1,FALSE),'Cars & Results'!$A$7:$BZ$317,2*AE$5+6,FALSE))","v":3},{"$f":"IF(HLOOKUP(AE$5,$B$6:$K$15,Points!$A10+1,FALSE)=\"TBD\",\"\",IF(VLOOKUP(HLOOKUP(AE$5,$B$6:$K$15,Points!$A10+1,FALSE),'Cars & Results'!$A$7:$BZ$317,2*AE$5+5)<=10,AE14*3,0))","v":0},{"$f":"IF(HLOOKUP(AG$5,$B$6:$K$15,Points!$A10+1,FALSE)=\"TBD\",\"\",VLOOKUP(HLOOKUP(AG$5,$B$6:$K$15,Points!$A10+1,FALSE),'Cars & Results'!$A$7:$BZ$317,2*AG$5+6,FALSE))","v":2},{"$f":"IF(HLOOKUP(AG$5,$B$6:$K$15,Points!$A10+1,FALSE)=\"TBD\",\"\",IF(VLOOKUP(HLOOKUP(AG$5,$B$6:$K$15,Points!$A10+1,FALSE),'Cars & Results'!$A$7:$BZ$317,2*AG$5+5)<=10,AG14*3,0))","v":0}]
[{"$f":"VLOOKUP(HLOOKUP('Pick Distribution'!$P$2,$B$6:$K$15,10),'Current Owner Standings'!$A$71:$B$480,2,FALSE)","v":7},14,19,53,18,2,11,52,22,51,12,{"$f":"IF(ISNA(VLOOKUP($K15,'Cars & Results'!$A$6:$K$317,L$5,FALSE)),\"Invalid Number\",VLOOKUP($K15,'Cars & Results'!$A$6:$K$317,L$5,FALSE))","v":"Ryan Blaney"},{"$f":"IF(ISNA(VLOOKUP($K15,'Cars & Results'!$A$6:$K$317,M$5,FALSE)),\"Invalid Number\",VLOOKUP($K15,'Cars & Results'!$A$6:$K$317,M$5,FALSE))","v":"Ford"},{"$f":"IF(ISNA(VLOOKUP($K15,'Cars & Results'!$A$6:$K$317,N$5,FALSE)),\"Invalid Number\",VLOOKUP($K15,'Cars & Results'!$A$6:$K$317,N$5,FALSE))","v":"Team Penske"},{"$f":"IF(HLOOKUP(O$5,$B$6:$K$15,Points!$A11+1,FALSE)=\"TBD\",\"\",VLOOKUP(HLOOKUP(O$5,$B$6:$K$15,Points!$A11+1,FALSE),'Cars & Results'!$A$7:$BZ$317,2*O$5+6,FALSE))","v":12},{"$f":"IF(HLOOKUP(O$5,$B$6:$K$15,Points!$A11+1,FALSE)=\"TBD\",\"\",IF(AND(VLOOKUP(HLOOKUP(O$5,$B$6:$K$15,Points!$A11+1,FALSE),'Cars & Results'!$A$7:$BZ$317,2*O$5+5)<=3,$A$15<=25),O15*1,IF(AND(VLOOKUP(HLOOKUP(O$5,$B$6:$K$15,Points!$A11+1,FALSE),'Cars & Results'!$A$7:$BZ$317,2*O$5+5)<=10,$A$15>25),O15*3,0)))","v":0},{"$f":"IF(HLOOKUP(Q$5,$B$6:$K$15,Points!$A11+1,FALSE)=\"TBD\",\"\",VLOOKUP(HLOOKUP(Q$5,$B$6:$K$15,Points!$A11+1,FALSE),'Cars & Results'!$A$7:$BZ$317,2*Q$5+6,FALSE))","v":59},59,{"$f":"IF(HLOOKUP(S$5,$B$6:$K$15,Points!$A11+1,FALSE)=\"TBD\",\"\",VLOOKUP(HLOOKUP(S$5,$B$6:$K$15,Points!$A11+1,FALSE),'Cars & Results'!$A$7:$BZ$317,2*S$5+6,FALSE))","v":1},0,{"$f":"IF(HLOOKUP(U$5,$B$6:$K$15,Points!$A11+1,FALSE)=\"TBD\",\"\",VLOOKUP(HLOOKUP(U$5,$B$6:$K$15,Points!$A11+1,FALSE),'Cars & Results'!$A$7:$BZ$317,2*U$5+6,FALSE))","v":34},0,{"$f":"IF(HLOOKUP(W$5,$B$6:$K$15,Points!$A11+1,FALSE)=\"TBD\",\"\",VLOOKUP(HLOOKUP(W$5,$B$6:$K$15,Points!$A11+1,FALSE),'Cars & Results'!$A$7:$BZ$317,2*W$5+6,FALSE))","v":26},0,{"$f":"IF(HLOOKUP(Y$5,$B$6:$K$15,Points!$A11+1,FALSE)=\"TBD\",\"\",VLOOKUP(HLOOKUP(Y$5,$B$6:$K$15,Points!$A11+1,FALSE),'Cars & Results'!$A$7:$BZ$317,2*Y$5+6,FALSE))","v":45},53,{"$f":"IF(HLOOKUP(AA$5,$B$6:$K$15,Points!$A11+1,FALSE)=\"TBD\",\"\",VLOOKUP(HLOOKUP(AA$5,$B$6:$K$15,Points!$A11+1,FALSE),'Cars & Results'!$A$7:$BZ$317,2*AA$5+6,FALSE))","v":5},0,{"$f":"IF(HLOOKUP(AC$5,$B$6:$K$15,Points!$A11+1,FALSE)=\"TBD\",\"\",VLOOKUP(HLOOKUP(AC$5,$B$6:$K$15,Points!$A11+1,FALSE),'Cars & Results'!$A$7:$BZ$317,2*AC$5+6,FALSE))","v":39},0,{"$f":"IF(HLOOKUP(AE$5,$B$6:$K$15,Points!$A11+1,FALSE)=\"TBD\",\"\",VLOOKUP(HLOOKUP(AE$5,$B$6:$K$15,Points!$A11+1,FALSE),'Cars & Results'!$A$7:$BZ$317,2*AE$5+6,FALSE))","v":6},0,{"$f":"IF(HLOOKUP(AG$5,$B$6:$K$15,Points!$A11+1,FALSE)=\"TBD\",\"\",VLOOKUP(HLOOKUP(AG$5,$B$6:$K$15,Points!$A11+1,FALSE),'Cars & Results'!$A$7:$BZ$317,2*AG$5+6,FALSE))","v":36},{"$f":"IF(HLOOKUP(AG$5,$B$6:$K$15,Points!$A11+1,FALSE)=\"TBD\",\"\",IF(AND(VLOOKUP(HLOOKUP(AG$5,$B$6:$K$15,Points!$A11+1,FALSE),'Cars & Results'!$A$7:$BZ$317,2*AG$5+5)<=3,$A$15<=25),AG15*1,IF(AND(VLOOKUP(HLOOKUP(AG$5,$B$6:$K$15,Points!$A11+1,FALSE),'Cars & Results'!$A$7:$BZ$317,2*AG$5+5)<=10,$A$15>25),AG15*3,0)))","v":0}]
[null,null,null,null,null,null,null,null,null,null,null,null,null,"Segment 1",null,{"$f":"IF(INDIRECT(ADDRESS(321,5+(O5*2),1,1,\"Cars & Results\"),TRUE)=\"Y\",IF(ISERROR(MATCH(INDIRECT(ADDRESS(318,5+(O5*2),1,1,\"Cars & Results\"),TRUE),B7:B15,0))=TRUE,0,10),\"\")","v":0},null,{"$f":"IF(INDIRECT(ADDRESS(321,5+(Q5*2),1,1,\"Cars & Results\"),TRUE)=\"Y\",IF(ISERROR(MATCH(INDIRECT(ADDRESS(318,5+(Q5*2),1,1,\"Cars & Results\"),TRUE),C7:C15,0))=TRUE,0,10),\"\")","v":10},null,{"$f":"IF(INDIRECT(ADDRESS(321,5+(S5*2),1,1,\"Cars & Results\"),TRUE)=\"Y\",IF(ISERROR(MATCH(INDIRECT(ADDRESS(318,5+(S5*2),1,1,\"Cars & Results\"),TRUE),D7:D15,0))=TRUE,0,10),\"\")","v":0},null,{"$f":"IF(INDIRECT(ADDRESS(321,5+(U5*2),1,1,\"Cars & Results\"),TRUE)=\"Y\",IF(ISERROR(MATCH(INDIRECT(ADDRESS(318,5+(U5*2),1,1,\"Cars & Results\"),TRUE),E7:E15,0))=TRUE,0,10),\"\")","v":0},null,{"$f":"IF(INDIRECT(ADDRESS(321,5+(W5*2),1,1,\"Cars & Results\"),TRUE)=\"Y\",IF(ISERROR(MATCH(INDIRECT(ADDRESS(318,5+(W5*2),1,1,\"Cars & Results\"),TRUE),F7:F15,0))=TRUE,0,10),\"\")","v":0},null,{"$f":"IF(INDIRECT(ADDRESS(321,5+(Y5*2),1,1,\"Cars & Results\"),TRUE)=\"Y\",IF(ISERROR(MATCH(INDIRECT(ADDRESS(318,5+(Y5*2),1,1,\"Cars & Results\"),TRUE),G7:G15,0))=TRUE,0,10),\"\")","v":10},null,{"$f":"IF(INDIRECT(ADDRESS(321,5+(AA5*2),1,1,\"Cars & Results\"),TRUE)=\"Y\",IF(ISERROR(MATCH(INDIRECT(ADDRESS(318,5+(AA5*2),1,1,\"Cars & Results\"),TRUE),H7:H15,0))=TRUE,0,10),\"\")","v":10},null,{"$f":"IF(INDIRECT(ADDRESS(321,5+(AC5*2),1,1,\"Cars & Results\"),TRUE)=\"Y\",IF(ISERROR(MATCH(INDIRECT(ADDRESS(318,5+(AC5*2),1,1,\"Cars & Results\"),TRUE),I7:I15,0))=TRUE,0,10),\"\")","v":10},null,{"$f":"IF(INDIRECT(ADDRESS(321,5+(AE5*2),1,1,\"Cars & Results\"),TRUE)=\"Y\",IF(ISERROR(MATCH(INDIRECT(ADDRESS(318,5+(AE5*2),1,1,\"Cars & Results\"),TRUE),J7:J15,0))=TRUE,0,10),\"\")","v":0},null,{"$f":"IF(INDIRECT(ADDRESS(321,5+(AG5*2),1,1,\"Cars & Results\"),TRUE)=\"Y\",IF(ISERROR(MATCH(INDIRECT(ADDRESS(318,5+(AG5*2),1,1,\"Cars & Results\"),TRUE),K7:K15,0))=TRUE,0,10),\"\")","v":0}]
[null,null,null,null,null,null,null,null,null,null,null,null,null,"Segment 2",null,{"$f":"IF(INDIRECT(ADDRESS(321,5+(O5*2),1,1,\"Cars & Results\"),TRUE)=\"Y\",IF(ISERROR(MATCH(INDIRECT(ADDRESS(319,5+(O5*2),1,1,\"Cars & Results\"),TRUE),B7:B15,0))=TRUE,0,10),\"\")","v":0},null,{"$f":"IF(INDIRECT(ADDRESS(321,5+(Q5*2),1,1,\"Cars & Results\"),TRUE)=\"Y\",IF(ISERROR(MATCH(INDIRECT(ADDRESS(319,5+(Q5*2),1,1,\"Cars & Results\"),TRUE),C7:C15,0))=TRUE,0,10),\"\")","v":0},null,{"$f":"IF(INDIRECT(ADDRESS(321,5+(S5*2),1,1,\"Cars & Results\"),TRUE)=\"Y\",IF(ISERROR(MATCH(INDIRECT(ADDRESS(319,5+(S5*2),1,1,\"Cars & Results\"),TRUE),D7:D15,0))=TRUE,0,10),\"\")","v":0},null,{"$f":"IF(INDIRECT(ADDRESS(321,5+(U5*2),1,1,\"Cars & Results\"),TRUE)=\"Y\",IF(ISERROR(MATCH(INDIRECT(ADDRESS(319,5+(U5*2),1,1,\"Cars & Results\"),TRUE),E7:E15,0))=TRUE,0,10),\"\")","v":0},null,{"$f":"IF(INDIRECT(ADDRESS(321,5+(W5*2),1,1,\"Cars & Results\"),TRUE)=\"Y\",IF(ISERROR(MATCH(INDIRECT(ADDRESS(319,5+(W5*2),1,1,\"Cars & Results\"),TRUE),F7:F15,0))=TRUE,0,10),\"\")","v":10},null,{"$f":"IF(INDIRECT(ADDRESS(321,5+(Y5*2),1,1,\"Cars & Results\"),TRUE)=\"Y\",IF(ISERROR(MATCH(INDIRECT(ADDRESS(319,5+(Y5*2),1,1,\"Cars & Results\"),TRUE),G7:G15,0))=TRUE,0,10),\"\")","v":10},null,{"$f":"IF(INDIRECT(ADDRESS(321,5+(AA5*2),1,1,\"Cars & Results\"),TRUE)=\"Y\",IF(ISERROR(MATCH(INDIRECT(ADDRESS(319,5+(AA5*2),1,1,\"Cars & Results\"),TRUE),H7:H15,0))=TRUE,0,10),\"\")","v":10},null,{"$f":"IF(INDIRECT(ADDRESS(321,5+(AC5*2),1,1,\"Cars & Results\"),TRUE)=\"Y\",IF(ISERROR(MATCH(INDIRECT(ADDRESS(319,5+(AC5*2),1,1,\"Cars & Results\"),TRUE),I7:I15,0))=TRUE,0,10),\"\")","v":0},null,{"$f":"IF(INDIRECT(ADDRESS(321,5+(AE5*2),1,1,\"Cars & Results\"),TRUE)=\"Y\",IF(ISERROR(MATCH(INDIRECT(ADDRESS(319,5+(AE5*2),1,1,\"Cars & Results\"),TRUE),J7:J15,0))=TRUE,0,10),\"\")","v":0},null,{"$f":"IF(INDIRECT(ADDRESS(321,5+(AG5*2),1,1,\"Cars & Results\"),TRUE)=\"Y\",IF(ISERROR(MATCH(INDIRECT(ADDRESS(319,5+(AG5*2),1,1,\"Cars & Results\"),TRUE),K7:K15,0))=TRUE,0,10),\"\")","v":0}]
[null,null,null,null,null,null,null,null,null,null,null,null,null,"Segment 3",null,{"$f":"IF(INDIRECT(ADDRESS(321,5+(O5*2),1,1,\"Cars & Results\"),TRUE)=\"Y\",IF(ISERROR(MATCH(INDIRECT(ADDRESS(320,5+(O5*2),1,1,\"Cars & Results\"),TRUE),B7:B15,0))=TRUE,0,15),\"\")","v":0},null,{"$f":"IF(INDIRECT(ADDRESS(321,5+(Q5*2),1,1,\"Cars & Results\"),TRUE)=\"Y\",IF(ISERROR(MATCH(INDIRECT(ADDRESS(320,5+(Q5*2),1,1,\"Cars & Results\"),TRUE),C7:C15,0))=TRUE,0,15),\"\")","v":15},null,{"$f":"IF(INDIRECT(ADDRESS(321,5+(S5*2),1,1,\"Cars & Results\"),TRUE)=\"Y\",IF(ISERROR(MATCH(INDIRECT(ADDRESS(320,5+(S5*2),1,1,\"Cars & Results\"),TRUE),D7:D15,0))=TRUE,0,15),\"\")","v":0},null,{"$f":"IF(INDIRECT(ADDRESS(321,5+(U5*2),1,1,\"Cars & Results\"),TRUE)=\"Y\",IF(ISERROR(MATCH(INDIRECT(ADDRESS(320,5+(U5*2),1,1,\"Cars & Results\"),TRUE),E7:E15,0))=TRUE,0,15),\"\")","v":0},null,{"$f":"IF(INDIRECT(ADDRESS(321,5+(W5*2),1,1,\"Cars & Results\"),TRUE)=\"Y\",IF(ISERROR(MATCH(INDIRECT(ADDRESS(320,5+(W5*2),1,1,\"Cars & Results\"),TRUE),F7:F15,0))=TRUE,0,15),\"\")","v":0},null,{"$f":"IF(INDIRECT(ADDRESS(321,5+(Y5*2),1,1,\"Cars & Results\"),TRUE)=\"Y\",IF(ISERROR(MATCH(INDIRECT(ADDRESS(320,5+(Y5*2),1,1,\"Cars & Results\"),TRUE),G7:G15,0))=TRUE,0,15),\"\")","v":15},null,{"$f":"IF(INDIRECT(ADDRESS(321,5+(AA5*2),1,1,\"Cars & Results\"),TRUE)=\"Y\",IF(ISERROR(MATCH(INDIRECT(ADDRESS(320,5+(AA5*2),1,1,\"Cars & Results\"),TRUE),H7:H15,0))=TRUE,0,15),\"\")","v":15},null,{"$f":"IF(INDIRECT(ADDRESS(321,5+(AC5*2),1,1,\"Cars & Results\"),TRUE)=\"Y\",IF(ISERROR(MATCH(INDIRECT(ADDRESS(320,5+(AC5*2),1,1,\"Cars & Results\"),TRUE),I7:I15,0))=TRUE,0,15),\"\")","v":15},null,{"$f":"IF(INDIRECT(ADDRESS(321,5+(AE5*2),1,1,\"Cars & Results\"),TRUE)=\"Y\",IF(ISERROR(MATCH(INDIRECT(ADDRESS(320,5+(AE5*2),1,1,\"Cars & Results\"),TRUE),J7:J15,0))=TRUE,0,15),\"\")","v":0},null,{"$f":"IF(INDIRECT(ADDRESS(321,5+(AG5*2),1,1,\"Cars & Results\"),TRUE)=\"Y\",IF(ISERROR(MATCH(INDIRECT(ADDRESS(320,5+(AG5*2),1,1,\"Cars & Results\"),TRUE),K7:K15,0))=TRUE,0,15),\"\")","v":0}]
[null,{"$f":"SUM(B7:B15)","v":220},278,312,311,211,181,222,142,null,null,null,null,null,{"$f":"SUM(O7:O15)","v":196},null,{"$f":"SUM(Q7:Q15)","v":205},null,{"$f":"SUM(S7:S15)","v":153},null,{"$f":"SUM(U7:U15)","v":218},null,{"$f":"SUM(W7:W15)","v":168},null,{"$f":"SUM(Y7:Y15)","v":193},null,{"$f":"SUM(AA7:AA15)","v":153},null,{"$f":"SUM(AC7:AC15)","v":190},null,{"$f":"SUM(AE7:AE15)","v":159},null,{"$f":"SUM(AG7:AG15)","v":197}]
[null,null,null,null,null,null,null,null,null,null,null,null,null,null,null,{"$f":"SUM(P7:P19)","v":0},null,{"$f":"SUM(R7:R19)","v":84},null,{"$f":"SUM(T7:T19)","v":0},null,{"$f":"SUM(V7:V19)","v":0},null,{"$f":"SUM(X7:X19)","v":50.5},null,{"$f":"SUM(Z7:Z19)","v":88},null,{"$f":"SUM(AB7:AB19)","v":35},null,{"$f":"SUM(AD7:AD19)","v":25},null,{"$f":"SUM(AF7:AF19)","v":0},null,{"$f":"SUM(AH7:AH19)","v":0}]
[null,null,null,null,null,null,null,null,null,null,null,null,null,"Race Total",{"$f":"O19+P20","v":196},null,{"$f":"Q19+R20","v":289},null,{"$f":"S19+T20","v":153},null,{"$f":"U19+V20","v":218},null,{"$f":"W19+X20","v":218.5},null,{"$f":"Y19+Z20","v":281},null,{"$f":"AA19+AB20","v":188},null,{"$f":"AC19+AD20","v":215},null,{"$f":"AE19+AF20","v":159},null,{"$f":"AG19+AH20","v":197},null,{"$f":"SUM(O21:AH21)","v":2114.5}]
[null,null,null,null,null,null,null,null,null,null,"1-8"]
[null,null,null,null,null,null,null,null,null,null,"9-16"]
[null,null,null,null,null,null,null,null,null,null,"17-23"]
[null,null,null,null,null,null,null,null,null,null,"24-30"]
[null,null,null,null,null,null,null,null,null,null,"31-35"]
[null,null,null,null,null,null,null,null,null,null,">35"]
[null,null,null,null,null,null,null,null,null,null,"Provisional"]

{"sheet":"Ron Mason","index":11,"n_rows":28,"n_cols":35,"rows_kept":28,"cut":false,"hidden":false,"merged":[[4,28,4,29],[4,30,4,31],[4,32,4,33],[20,28,20,29],[20,30,20,31],[20,32,20,33],[2,28,2,29],[2,30,2,31],[2,32,2,33],[3,28,3,29],[3,30,3,31],[3,32,3,33],[0,28,0,29],[0,30,0,31],[0,32,0,33],[1,28,1,29],[1,30,1,31],[1,32,1,33],[4,26,4,27],[1,26,1,27],[0,26,0,27],[3,26,3,27],[2,26,2,27],[1,24,1,25],[2,20,2,21],[1,20,1,21],[3,24,3,25],[1,22,1,23],[2,24,2,25],[3,20,3,21],[3,22,3,23],[4,22,4,23],[0,18,0,19],[0,20,0,21],[0,22,0,23],[2,18,2,19],[2,22,2,23],[0,24,0,25],[1,16,1,17],[1,18,1,19],[3,14,3,15],[4,14,4,15],[4,24,4,25],[3,18,3,19],[0,14,0,15],[2,14,2,15],[0,16,0,17],[2,16,2,17],[1,14,1,15],[3,16,3,17],[4,16,4,17],[4,18,4,19],[4,20,4,21],[20,20,20,21],[20,22,20,23],[20,24,20,25],[20,26,20,27],[20,14,20,15],[20,16,20,17],[20,18,20,19]]}
[null,null,null,null,null,null,null,null,null,null,null,null,null,null,{"$f":"VLOOKUP(O$5,Schedule!$A$8:$J$43,2,FALSE)","v":"2019-09-15"},null,{"$f":"VLOOKUP(Q$5,Schedule!$A$8:$J$43,2,FALSE)","v":"2019-09-21"},null,{"$f":"VLOOKUP(S$5,Schedule!$A$8:$J$43,2,FALSE)","v":"2019-09-29"},null,{"$f":"VLOOKUP(U$5,Schedule!$A$8:$J$43,2,FALSE)","v":"2019-10-06"},null,{"$f":"VLOOKUP(W$5,Schedule!$A$8:$J$43,2,FALSE)","v":"2019-10-13"},null,{"$f":"VLOOKUP(Y$5,Schedule!$A$8:$J$43,2,FALSE)","v":"2019-10-20"},null,{"$f":"VLOOKUP(AA$5,Schedule!$A$8:$J$43,2,FALSE)","v":"2019-10-27"},null,{"$f":"VLOOKUP(AC$5,Schedule!$A$8:$J$43,2,FALSE)","v":"2019-11-03"},null,{"$f":"VLOOKUP(AE$5,Schedule!$A$8:$J$43,2,FALSE)","v":"2019-11-10"},null,{"$f":"VLOOKUP(AG$5,Schedule!$A$8:$J$43,2,FALSE)","v":"2019-11-17"}]
[null,null,null,null,null,null,null,null,null,null,null,null,null,null,{"$f":"LEFT(VLOOKUP(O$5,Schedule!$A$8:$J$43,3,FALSE),15)","v":"South Point 400"},null,{"$f":"LEFT(VLOOKUP(Q$5,Schedule!$A$8:$J$43,3,FALSE),15)","v":"Federated Auto "},null,{"$f":"LEFT(VLOOKUP(S$5,Schedule!$A$8:$J$43,3,FALSE),15)","v":"Bank of America"},null,{"$f":"LEFT(VLOOKUP(U$5,Schedule!$A$8:$J$43,3,FALSE),15)","v":"MENCS Race at D"},null,{"$f":"LEFT(VLOOKUP(W$5,Schedule!$A$8:$J$43,3,FALSE),15)","v":"1000Bulbs.com 5"},null,{"$f":"LEFT(VLOOKUP(Y$5,Schedule!$A$8:$J$43,3,FALSE),15)","v":"Hollywood Casin"},null,{"$f":"LEFT(VLOOKUP(AA$5,Schedule!$A$8:$J$43,3,FALSE),15)","v":"First Data 500"},null,{"$f":"LEFT(VLOOKUP(AC$5,Schedule!$A$8:$J$43,3,FALSE),15)","v":"AAA Texas 500"},null,{"$f":"LEFT(VLOOKUP(AE$5,Schedule!$A$8:$J$43,3,FALSE),15)","v":"MENCS Race at I"},null,{"$f":"LEFT(VLOOKUP(AG$5,Schedule!$A$8:$J$43,3,FALSE),15)","v":"Ford EcoBoost 4"}]
[null,null,null,null,null,null,null,null,null,null,null,null,null,null,{"$f":"VLOOKUP(O$5,Schedule!$A$8:$J$43,2,FALSE)","v":"2019-09-15"},null,{"$f":"VLOOKUP(Q$5,Schedule!$A$8:$J$43,2,FALSE)","v":"2019-09-21"},null,{"$f":"VLOOKUP(S$5,Schedule!$A$8:$J$43,2,FALSE)","v":"2019-09-29"},null,{"$f":"VLOOKUP(U$5,Schedule!$A$8:$J$43,2,FALSE)","v":"2019-10-06"},null,{"$f":"VLOOKUP(W$5,Schedule!$A$8:$J$43,2,FALSE)","v":"2019-10-13"},null,{"$f":"VLOOKUP(Y$5,Schedule!$A$8:$J$43,2,FALSE)","v":"2019-10-20"},null,{"$f":"VLOOKUP(AA$5,Schedule!$A$8:$J$43,2,FALSE)","v":"2019-10-27"},null,{"$f":"VLOOKUP(AC$5,Schedule!$A$8:$J$43,2,FALSE)","v":"2019-11-03"},null,{"$f":"VLOOKUP(AE$5,Schedule!$A$8:$J$43,2,FALSE)","v":"2019-11-10"},null,{"$f":"VLOOKUP(AG$5,Schedule!$A$8:$J$43,2,FALSE)","v":"2019-11-17"}]
[null,null,null,null,null,null,null,null,null,null,null,null,null,null,{"$f":"VLOOKUP(O$5,Schedule!$A$4:$J$43,5,FALSE)","v":"Las Vegas"},null,{"$f":"VLOOKUP(Q$5,Schedule!$A$4:$J$43,5,FALSE)","v":"Richmond "},null,{"$f":"VLOOKUP(S$5,Schedule!$A$4:$J$43,5,FALSE)","v":"Charlotte "},null,{"$f":"VLOOKUP(U$5,Schedule!$A$4:$J$43,5,FALSE)","v":"Dover "},null,{"$f":"VLOOKUP(W$5,Schedule!$A$4:$J$43,5,FALSE)","v":"Talladega "},null,{"$f":"VLOOKUP(Y$5,Schedule!$A$4:$J$43,5,FALSE)","v":"Kansas "},null,{"$f":"VLOOKUP(AA$5,Schedule!$A$4:$J$43,5,FALSE)","v":"Martinsville "},null,{"$f":"VLOOKUP(AC$5,Schedule!$A$4:$J$43,5,FALSE)","v":"Texas "},null,{"$f":"VLOOKUP(AE$5,Schedule!$A$4:$J$43,5,FALSE)","v":"Phoenix"},null,{"$f":"VLOOKUP(AG$5,Schedule!$A$4:$J$43,5,FALSE)","v":"Homestead–Miami "}]
["Owner","Week","Week","Week","Week","Week","Week","Week","Week","Week","Week",2,3,4,27,null,28,null,29,null,30,null,31,null,32,null,33,null,34,null,35,null,36,null,"Total"]
["Points",27,28,29,30,31,32,33,34,35,36,"Driver","Make","Sponsor","Points","Bonus","Points","Bonus","Points","Bonus","Points","Bonus","Points","Bonus","Points","Bonus","Points","Bonus","Points","Bonus","Points","Bonus","Points","Bonus","Points"]
[{"$f":"VLOOKUP(HLOOKUP('Pick Distribution'!$P$2,$B$6:$K$15,$L$5),'Current Owner Standings'!$A$71:$B$480,2,FALSE)","v":4},4,4,4,4,4,18,18,11,18,18,{"$f":"IF(ISNA(VLOOKUP($K7,'Cars & Results'!$A$6:$K$317,L$5,FALSE)),\"Invalid Number\",VLOOKUP($K7,'Cars & Results'!$A$6:$K$317,L$5,FALSE))","v":"Kyle Busch"},{"$f":"IF(ISNA(VLOOKUP($K7,'Cars & Results'!$A$6:$K$317,M$5,FALSE)),\"Invalid Number\",VLOOKUP($K7,'Cars & Results'!$A$6:$K$317,M$5,FALSE))","v":"Toyota"},{"$f":"IF(ISNA(VLOOKUP($K7,'Cars & Results'!$A$6:$K$317,N$5,FALSE)),\"Invalid Number\",VLOOKUP($K7,'Cars & Results'!$A$6:$K$317,N$5,FALSE))","v":"Joe Gibbs Racing"},{"$f":"IF(HLOOKUP(O$5,$B$6:$K$15,Points!$A3+1,FALSE)=\"TBD\",\"\",VLOOKUP(HLOOKUP(O$5,$B$6:$K$15,Points!$A3+1,FALSE),'Cars & Results'!$A$7:$BZ$317,2*O$5+6,FALSE))","v":51},{"$f":"IF(HLOOKUP(O$5,$B$6:$K$15,Points!$A3+1,FALSE)=\"TBD\",\"\",0)","v":0},{"$f":"IF(HLOOKUP(Q$5,$B$6:$K$15,Points!$A3+1,FALSE)=\"TBD\",\"\",VLOOKUP(HLOOKUP(Q$5,$B$6:$K$15,Points!$A3+1,FALSE),'Cars & Results'!$A$7:$BZ$317,2*Q$5+6,FALSE))","v":41},{"$f":"IF(HLOOKUP(Q$5,$B$6:$K$15,Points!$A3+1,FALSE)=\"TBD\",\"\",0)","v":0},{"$f":"IF(HLOOKUP(S$5,$B$6:$K$15,Points!$A3+1,FALSE)=\"TBD\",\"\",VLOOKUP(HLOOKUP(S$5,$B$6:$K$15,Points!$A3+1,FALSE),'Cars & Results'!$A$7:$BZ$317,2*S$5+6,FALSE))","v":43},{"$f":"IF(HLOOKUP(S$5,$B$6:$K$15,Points!$A3+1,FALSE)=\"TBD\",\"\",0)","v":0},{"$f":"IF(HLOOKUP(U$5,$B$6:$K$15,Points!$A3+1,FALSE)=\"TBD\",\"\",VLOOKUP(HLOOKUP(U$5,$B$6:$K$15,Points!$A3+1,FALSE),'Cars & Results'!$A$7:$BZ$317,2*U$5+6,FALSE))","v":46},{"$f":"IF(HLOOKUP(U$5,$B$6:$K$15,Points!$A3+1,FALSE)=\"TBD\",\"\",0)","v":0},{"$f":"IF(HLOOKUP(W$5,$B$6:$K$15,Points!$A3+1,FALSE)=\"TBD\",\"\",VLOOKUP(HLOOKUP(W$5,$B$6:$K$15,Points!$A3+1,FALSE),'Cars & Results'!$A$7:$BZ$317,2*W$5+6,FALSE))","v":20},{"$f":"IF(HLOOKUP(W$5,$B$6:$K$15,Points!$A3+1,FALSE)=\"TBD\",\"\",0)","v":0},{"$f":"IF(HLOOKUP(Y$5,$B$6:$K$15,Points!$A3+1,FALSE)=\"TBD\",\"\",VLOOKUP(HLOOKUP(Y$5,$B$6:$K$15,Points!$A3+1,FALSE),'Cars & Results'!$A$7:$BZ$317,2*Y$5+6,FALSE))","v":23},{"$f":"IF(HLOOKUP(Y$5,$B$6:$K$15,Points!$A3+1,FALSE)=\"TBD\",\"\",0)","v":0},{"$f":"IF(HLOOKUP(AA$5,$B$6:$K$15,Points!$A3+1,FALSE)=\"TBD\",\"\",VLOOKUP(HLOOKUP(AA$5,$B$6:$K$15,Points!$A3+1,FALSE),'Cars & Results'!$A$7:$BZ$317,2*AA$5+6,FALSE))","v":23},{"$f":"IF(HLOOKUP(AA$5,$B$6:$K$15,Points!$A3+1,FALSE)=\"TBD\",\"\",0)","v":0},{"$f":"IF(HLOOKUP(AC$5,$B$6:$K$15,Points!$A3+1,FALSE)=\"TBD\",\"\",VLOOKUP(HLOOKUP(AC$5,$B$6:$K$15,Points!$A3+1,FALSE),'Cars & Results'!$A$7:$BZ$317,2*AC$5+6,FALSE))","v":9},{"$f":"IF(HLOOKUP(AC$5,$B$6:$K$15,Points!$A3+1,FALSE)=\"TBD\",\"\",0)","v":0},{"$f":"IF(HLOOKUP(AE$5,$B$6:$K$15,Points!$A3+1,FALSE)=\"TBD\",\"\",VLOOKUP(HLOOKUP(AE$5,$B$6:$K$15,Points!$A3+1,FALSE),'Cars & Results'!$A$7:$BZ$317,2*AE$5+6,FALSE))","v":50},{"$f":"IF(HLOOKUP(AE$5,$B$6:$K$15,Points!$A3+1,FALSE)=\"TBD\",\"\",0)","v":0},{"$f":"IF(HLOOKUP(AG$5,$B$6:$K$15,Points!$A3+1,FALSE)=\"TBD\",\"\",VLOOKUP(HLOOKUP(AG$5,$B$6:$K$15,Points!$A3+1,FALSE),'Cars & Results'!$A$7:$BZ$317,2*AG$5+6,FALSE))","v":40},{"$f":"IF(HLOOKUP(AG$5,$B$6:$K$15,Points!$A3+1,FALSE)=\"TBD\",\"\",0)","v":0}]
[{"$f":"VLOOKUP(HLOOKUP('Pick Distribution'!$P$2,$B$6:$K$15,3),'Current Owner Standings'!$A$71:$B$480,2,FALSE)","v":16},14,20,1,20,10,12,14,10,88,20,{"$f":"IF(ISNA(VLOOKUP($K8,'Cars & Results'!$A$6:$K$317,L$5,FALSE)),\"Invalid Number\",VLOOKUP($K8,'Cars & Results'!$A$6:$K$317,L$5,FALSE))","v":"Erik Jones"},{"$f":"IF(ISNA(VLOOKUP($K8,'Cars & Results'!$A$6:$K$317,M$5,FALSE)),\"Invalid Number\",VLOOKUP($K8,'Cars & Results'!$A$6:$K$317,M$5,FALSE))","v":"Toyota"},{"$f":"IF(ISNA(VLOOKUP($K8,'Cars & Results'!$A$6:$K$317,N$5,FALSE)),\"Invalid Number\",VLOOKUP($K8,'Cars & Results'!$A$6:$K$317,N$5,FALSE))","v":"Joe Gibbs Racing"},{"$f":"IF(HLOOKUP(O$5,$B$6:$K$15,Points!$A4+1,FALSE)=\"TBD\",\"\",VLOOKUP(HLOOKUP(O$5,$B$6:$K$15,Points!$A4+1,FALSE),'Cars & Results'!$A$7:$BZ$317,2*O$5+6,FALSE))","v":12},{"$f":"IF(HLOOKUP(O$5,$B$6:$KI$15,Points!$A4+1,FALSE)=\"TBD\",\"\",IF(VLOOKUP(HLOOKUP(O$5,$B$6:$K$15,Points!$A4+1,FALSE),'Cars & Results'!$A$7:$BZ$317,2*O$5+5)=1,O8*0.25,0))","v":0},{"$f":"IF(HLOOKUP(Q$5,$B$6:$K$15,Points!$A4+1,FALSE)=\"TBD\",\"\",VLOOKUP(HLOOKUP(Q$5,$B$6:$K$15,Points!$A4+1,FALSE),'Cars & Results'!$A$7:$BZ$317,2*Q$5+6,FALSE))","v":1},{"$f":"IF(HLOOKUP(Q$5,$B$6:$KI$15,Points!$A4+1,FALSE)=\"TBD\",\"\",IF(VLOOKUP(HLOOKUP(Q$5,$B$6:$K$15,Points!$A4+1,FALSE),'Cars & Results'!$A$7:$BZ$317,2*Q$5+5)=1,Q8*0.25,0))","v":0},{"$f":"IF(HLOOKUP(S$5,$B$6:$K$15,Points!$A4+1,FALSE)=\"TBD\",\"\",VLOOKUP(HLOOKUP(S$5,$B$6:$K$15,Points!$A4+1,FALSE),'Cars & Results'!$A$7:$BZ$317,2*S$5+6,FALSE))","v":17},{"$f":"IF(HLOOKUP(S$5,$B$6:$KI$15,Points!$A4+1,FALSE)=\"TBD\",\"\",IF(VLOOKUP(HLOOKUP(S$5,$B$6:$K$15,Points!$A4+1,FALSE),'Cars & Results'!$A$7:$BZ$317,2*S$5+5)=1,S8*0.25,0))","v":0},{"$f":"IF(HLOOKUP(U$5,$B$6:$K$15,Points!$A4+1,FALSE)=\"TBD\",\"\",VLOOKUP(HLOOKUP(U$5,$B$6:$K$15,Points!$A4+1,FALSE),'Cars & Results'!$A$7:$BZ$317,2*U$5+6,FALSE))","v":28},{"$f":"IF(HLOOKUP(U$5,$B$6:$KI$15,Points!$A4+1,FALSE)=\"TBD\",\"\",IF(VLOOKUP(HLOOKUP(U$5,$B$6:$K$15,Points!$A4+1,FALSE),'Cars & Results'!$A$7:$BZ$317,2*U$5+5)=1,U8*0.25,0))","v":0},{"$f":"IF(HLOOKUP(W$5,$B$6:$K$15,Points!$A4+1,FALSE)=\"TBD\",\"\",VLOOKUP(HLOOKUP(W$5,$B$6:$K$15,Points!$A4+1,FALSE),'Cars & Results'!$A$7:$BZ$317,2*W$5+6,FALSE))","v":33},{"$f":"IF(HLOOKUP(W$5,$B$6:$KI$15,Points!$A4+1,FALSE)=\"TBD\",\"\",IF(VLOOKUP(HLOOKUP(W$5,$B$6:$K$15,Points!$A4+1,FALSE),'Cars & Results'!$A$7:$BZ$317,2*W$5+5)=1,W8*0.25,0))","v":0},{"$f":"IF(HLOOKUP(Y$5,$B$6:$K$15,Points!$A4+1,FALSE)=\"TBD\",\"\",VLOOKUP(HLOOKUP(Y$5,$B$6:$K$15,Points!$A4+1,FALSE),'Cars & Results'!$A$7:$BZ$317,2*Y$5+6,FALSE))","v":48},{"$f":"IF(HLOOKUP(Y$5,$B$6:$KI$15,Points!$A4+1,FALSE)=\"TBD\",\"\",IF(VLOOKUP(HLOOKUP(Y$5,$B$6:$K$15,Points!$A4+1,FALSE),'Cars & Results'!$A$7:$BZ$317,2*Y$5+5)=1,Y8*0.25,0))","v":0},{"$f":"IF(HLOOKUP(AA$5,$B$6:$K$15,Points!$A4+1,FALSE)=\"TBD\",\"\",VLOOKUP(HLOOKUP(AA$5,$B$6:$K$15,Points!$A4+1,FALSE),'Cars & Results'!$A$7:$BZ$317,2*AA$5+6,FALSE))","v":9},{"$f":"IF(HLOOKUP(AA$5,$B$6:$KI$15,Points!$A4+1,FALSE)=\"TBD\",\"\",IF(VLOOKUP(HLOOKUP(AA$5,$B$6:$K$15,Points!$A4+1,FALSE),'Cars & Results'!$A$7:$BZ$317,2*AA$5+5)=1,AA8*0.25,0))","v":0},{"$f":"IF(HLOOKUP(AC$5,$B$6:$K$15,Points!$A4+1,FALSE)=\"TBD\",\"\",VLOOKUP(HLOOKUP(AC$5,$B$6:$K$15,Points!$A4+1,FALSE),'Cars & Results'!$A$7:$BZ$317,2*AC$5+6,FALSE))","v":45},{"$f":"IF(HLOOKUP(AC$5,$B$6:$KI$15,Points!$A4+1,FALSE)=\"TBD\",\"\",IF(VLOOKUP(HLOOKUP(AC$5,$B$6:$K$15,Points!$A4+1,FALSE),'Cars & Results'!$A$7:$BZ$317,2*AC$5+5)=1,AC8*0.25,0))","v":0},{"$f":"IF(HLOOKUP(AE$5,$B$6:$K$15,Points!$A4+1,FALSE)=\"TBD\",\"\",VLOOKUP(HLOOKUP(AE$5,$B$6:$K$15,Points!$A4+1,FALSE),'Cars & Results'!$A$7:$BZ$317,2*AE$5+6,FALSE))","v":14},{"$f":"IF(HLOOKUP(AE$5,$B$6:$KI$15,Points!$A4+1,FALSE)=\"TBD\",\"\",IF(VLOOKUP(HLOOKUP(AE$5,$B$6:$K$15,Points!$A4+1,FALSE),'Cars & Results'!$A$7:$BZ$317,2*AE$5+5)=1,AE8*0.25,0))","v":0},{"$f":"IF(HLOOKUP(AG$5,$B$6:$K$15,Points!$A4+1,FALSE)=\"TBD\",\"\",VLOOKUP(HLOOKUP(AG$5,$B$6:$K$15,Points!$A4+1,FALSE),'Cars & Results'!$A$7:$BZ$317,2*AG$5+6,FALSE))","v":37},{"$f":"IF(HLOOKUP(AG$5,$B$6:$KI$15,Points!$A4+1,FALSE)=\"TBD\",\"\",IF(VLOOKUP(HLOOKUP(AG$5,$B$6:$K$15,Points!$A4+1,FALSE),'Cars & Results'!$A$7:$BZ$317,2*AG$5+5)=1,AG8*0.25,0))","v":0}]
[{"$f":"VLOOKUP(HLOOKUP('Pick Distribution'!$P$2,$B$6:$K$15,4),'Current Owner Standings'!$A$71:$B$480,2,FALSE)","v":18},41,37,37,37,48,48,48,17,21,48,{"$f":"IF(ISNA(VLOOKUP($K9,'Cars & Results'!$A$6:$K$317,L$5,FALSE)),\"Invalid Number\",VLOOKUP($K9,'Cars & Results'!$A$6:$K$317,L$5,FALSE))","v":"Jimmie Johnson"},{"$f":"IF(ISNA(VLOOKUP($K9,'Cars & Results'!$A$6:$K$317,M$5,FALSE)),\"Invalid Number\",VLOOKUP($K9,'Cars & Results'!$A$6:$K$317,M$5,FALSE))","v":"Chevrolet"},{"$f":"IF(ISNA(VLOOKUP($K9,'Cars & Results'!$A$6:$K$317,N$5,FALSE)),\"Invalid Number\",VLOOKUP($K9,'Cars & Results'!$A$6:$K$317,N$5,FALSE))","v":"Hendrick Motorsports"},{"$f":"IF(HLOOKUP(O$5,$B$6:$K$15,Points!$A5+1,FALSE)=\"TBD\",\"\",VLOOKUP(HLOOKUP(O$5,$B$6:$K$15,Points!$A5+1,FALSE),'Cars & Results'!$A$7:$BZ$317,2*O$5+6,FALSE))","v":24},{"$f":"IF(HLOOKUP(O$5,$B$6:$K$15,Points!$A5+1,FALSE)=\"TBD\",\"\",IF(VLOOKUP(HLOOKUP(O$5,$B$6:$K$15,Points!$A5+1,FALSE),'Cars & Results'!$A$7:$BZ$317,2*O$5+5)<=5,O9*0.5,0))","v":0},{"$f":"IF(HLOOKUP(Q$5,$B$6:$K$15,Points!$A5+1,FALSE)=\"TBD\",\"\",VLOOKUP(HLOOKUP(Q$5,$B$6:$K$15,Points!$A5+1,FALSE),'Cars & Results'!$A$7:$BZ$317,2*Q$5+6,FALSE))","v":6},{"$f":"IF(HLOOKUP(Q$5,$B$6:$K$15,Points!$A5+1,FALSE)=\"TBD\",\"\",IF(VLOOKUP(HLOOKUP(Q$5,$B$6:$K$15,Points!$A5+1,FALSE),'Cars & Results'!$A$7:$BZ$317,2*Q$5+5)<=5,Q9*0.5,0))","v":0},{"$f":"IF(HLOOKUP(S$5,$B$6:$K$15,Points!$A5+1,FALSE)=\"TBD\",\"\",VLOOKUP(HLOOKUP(S$5,$B$6:$K$15,Points!$A5+1,FALSE),'Cars & Results'!$A$7:$BZ$317,2*S$5+6,FALSE))","v":19},{"$f":"IF(HLOOKUP(S$5,$B$6:$K$15,Points!$A5+1,FALSE)=\"TBD\",\"\",IF(VLOOKUP(HLOOKUP(S$5,$B$6:$K$15,Points!$A5+1,FALSE),'Cars & Results'!$A$7:$BZ$317,2*S$5+5)<=5,S9*0.5,0))","v":0},{"$f":"IF(HLOOKUP(U$5,$B$6:$K$15,Points!$A5+1,FALSE)=\"TBD\",\"\",VLOOKUP(HLOOKUP(U$5,$B$6:$K$15,Points!$A5+1,FALSE),'Cars & Results'!$A$7:$BZ$317,2*U$5+6,FALSE))","v":1},{"$f":"IF(HLOOKUP(U$5,$B$6:$K$15,Points!$A5+1,FALSE)=\"TBD\",\"\",IF(VLOOKUP(HLOOKUP(U$5,$B$6:$K$15,Points!$A5+1,FALSE),'Cars & Results'!$A$7:$BZ$317,2*U$5+5)<=5,U9*0.5,0))","v":0},{"$f":"IF(HLOOKUP(W$5,$B$6:$K$15,Points!$A5+1,FALSE)=\"TBD\",\"\",VLOOKUP(HLOOKUP(W$5,$B$6:$K$15,Points!$A5+1,FALSE),'Cars & Results'!$A$7:$BZ$317,2*W$5+6,FALSE))","v":5},{"$f":"IF(HLOOKUP(W$5,$B$6:$K$15,Points!$A5+1,FALSE)=\"TBD\",\"\",IF(VLOOKUP(HLOOKUP(W$5,$B$6:$K$15,Points!$A5+1,FALSE),'Cars & Results'!$A$7:$BZ$317,2*W$5+5)<=5,W9*0.5,0))","v":0},{"$f":"IF(HLOOKUP(Y$5,$B$6:$K$15,Points!$A5+1,FALSE)=\"TBD\",\"\",VLOOKUP(HLOOKUP(Y$5,$B$6:$K$15,Points!$A5+1,FALSE),'Cars & Results'!$A$7:$BZ$317,2*Y$5+6,FALSE))","v":1},{"$f":"IF(HLOOKUP(Y$5,$B$6:$K$15,Points!$A5+1,FALSE)=\"TBD\",\"\",IF(VLOOKUP(HLOOKUP(Y$5,$B$6:$K$15,Points!$A5+1,FALSE),'Cars & Results'!$A$7:$BZ$317,2*Y$5+5)<=5,Y9*0.5,0))","v":0},{"$f":"IF(HLOOKUP(AA$5,$B$6:$K$15,Points!$A5+1,FALSE)=\"TBD\",\"\",VLOOKUP(HLOOKUP(AA$5,$B$6:$K$15,Points!$A5+1,FALSE),'Cars & Results'!$A$7:$BZ$317,2*AA$5+6,FALSE))","v":1},{"$f":"IF(HLOOKUP(AA$5,$B$6:$K$15,Points!$A5+1,FALSE)=\"TBD\",\"\",IF(VLOOKUP(HLOOKUP(AA$5,$B$6:$K$15,Points!$A5+1,FALSE),'Cars & Results'!$A$7:$BZ$317,2*AA$5+5)<=5,AA9*0.5,0))","v":0},{"$f":"IF(HLOOKUP(AC$5,$B$6:$K$15,Points!$A5+1,FALSE)=\"TBD\",\"\",VLOOKUP(HLOOKUP(AC$5,$B$6:$K$15,Points!$A5+1,FALSE),'Cars & Results'!$A$7:$BZ$317,2*AC$5+6,FALSE))","v":0},{"$f":"IF(HLOOKUP(AC$5,$B$6:$K$15,Points!$A5+1,FALSE)=\"TBD\",\"\",IF(VLOOKUP(HLOOKUP(AC$5,$B$6:$K$15,Points!$A5+1,FALSE),'Cars & Results'!$A$7:$BZ$317,2*AC$5+5)<=5,AC9*0.5,0))","v":0},{"$f":"IF(HLOOKUP(AE$5,$B$6:$K$15,Points!$A5+1,FALSE)=\"TBD\",\"\",VLOOKUP(HLOOKUP(AE$5,$B$6:$K$15,Points!$A5+1,FALSE),'Cars & Results'!$A$7:$BZ$317,2*AE$5+6,FALSE))","v":29},{"$f":"IF(HLOOKUP(AE$5,$B$6:$K$15,Points!$A5+1,FALSE)=\"TBD\",\"\",IF(VLOOKUP(HLOOKUP(AE$5,$B$6:$K$15,Points!$A5+1,FALSE),'Cars & Results'!$A$7:$BZ$317,2*AE$5+5)<=5,AE9*0.5,0))","v":0},{"$f":"IF(HLOOKUP(AG$5,$B$6:$K$15,Points!$A5+1,FALSE)=\"TBD\",\"\",VLOOKUP(HLOOKUP(AG$5,$B$6:$K$15,Points!$A5+1,FALSE),'Cars & Results'!$A$7:$BZ$317,2*AG$5+6,FALSE))","v":28},{"$f":"IF(HLOOKUP(AG$5,$B$6:$K$15,Points!$A5+1,FALSE)=\"TBD\",\"\",IF(VLOOKUP(HLOOKUP(AG$5,$B$6:$K$15,Points!$A5+1,FALSE),'Cars & Results'!$A$7:$BZ$317,2*AG$5+5)<=5,AG9*0.5,0))","v":0}]
[{"$f":"VLOOKUP(HLOOKUP('Pick Distribution'!$P$2,$B$6:$K$15,5),'Current Owner Standings'!$A$71:$B$480,2,FALSE)","v":22},95,95,95,95,95,95,95,95,95,3,{"$f":"IF(ISNA(VLOOKUP($K10,'Cars & Results'!$A$6:$K$317,L$5,FALSE)),\"Invalid Number\",VLOOKUP($K10,'Cars & Results'!$A$6:$K$317,L$5,FALSE))","v":"Austin Dillon"},{"$f":"IF(ISNA(VLOOKUP($K10,'Cars & Results'!$A$6:$K$317,M$5,FALSE)),\"Invalid Number\",VLOOKUP($K10,'Cars & Results'!$A$6:$K$317,M$5,FALSE))","v":"Chevrolet"},{"$f":"IF(ISNA(VLOOKUP($K10,'Cars & Results'!$A$6:$K$317,N$5,FALSE)),\"Invalid Number\",VLOOKUP($K10,'Cars & Results'!$A$6:$K$317,N$5,FALSE))","v":"Richard Childress Racing"},{"$f":"IF(HLOOKUP(O$5,$B$6:$K$15,Points!$A6+1,FALSE)=\"TBD\",\"\",VLOOKUP(HLOOKUP(O$5,$B$6:$K$15,Points!$A6+1,FALSE),'Cars & Results'!$A$7:$BZ$317,2*O$5+6,FALSE))","v":16},{"$f":"IF(HLOOKUP(O$5,$B$6:$K$15,Points!$A6+1,FALSE)=\"TBD\",\"\",IF(VLOOKUP(HLOOKUP(O$5,$B$6:$K$15,Points!$A6+1,FALSE),'Cars & Results'!$A$7:$BZ$317,2*O$5+5)<=5,O10*0.5,0))","v":0},{"$f":"IF(HLOOKUP(Q$5,$B$6:$K$15,Points!$A6+1,FALSE)=\"TBD\",\"\",VLOOKUP(HLOOKUP(Q$5,$B$6:$K$15,Points!$A6+1,FALSE),'Cars & Results'!$A$7:$BZ$317,2*Q$5+6,FALSE))","v":23},{"$f":"IF(HLOOKUP(Q$5,$B$6:$K$15,Points!$A6+1,FALSE)=\"TBD\",\"\",IF(VLOOKUP(HLOOKUP(Q$5,$B$6:$K$15,Points!$A6+1,FALSE),'Cars & Results'!$A$7:$BZ$317,2*Q$5+5)<=5,Q10*0.5,0))","v":0},{"$f":"IF(HLOOKUP(S$5,$B$6:$K$15,Points!$A6+1,FALSE)=\"TBD\",\"\",VLOOKUP(HLOOKUP(S$5,$B$6:$K$15,Points!$A6+1,FALSE),'Cars & Results'!$A$7:$BZ$317,2*S$5+6,FALSE))","v":26},{"$f":"IF(HLOOKUP(S$5,$B$6:$K$15,Points!$A6+1,FALSE)=\"TBD\",\"\",IF(VLOOKUP(HLOOKUP(S$5,$B$6:$K$15,Points!$A6+1,FALSE),'Cars & Results'!$A$7:$BZ$317,2*S$5+5)<=5,S10*0.5,0))","v":0},{"$f":"IF(HLOOKUP(U$5,$B$6:$K$15,Points!$A6+1,FALSE)=\"TBD\",\"\",VLOOKUP(HLOOKUP(U$5,$B$6:$K$15,Points!$A6+1,FALSE),'Cars & Results'!$A$7:$BZ$317,2*U$5+6,FALSE))","v":30},{"$f":"IF(HLOOKUP(U$5,$B$6:$K$15,Points!$A6+1,FALSE)=\"TBD\",\"\",IF(VLOOKUP(HLOOKUP(U$5,$B$6:$K$15,Points!$A6+1,FALSE),'Cars & Results'!$A$7:$BZ$317,2*U$5+5)<=5,U10*0.5,0))","v":0},{"$f":"IF(HLOOKUP(W$5,$B$6:$K$15,Points!$A6+1,FALSE)=\"TBD\",\"\",VLOOKUP(HLOOKUP(W$5,$B$6:$K$15,Points!$A6+1,FALSE),'Cars & Results'!$A$7:$BZ$317,2*W$5+6,FALSE))","v":7},{"$f":"IF(HLOOKUP(W$5,$B$6:$K$15,Points!$A6+1,FALSE)=\"TBD\",\"\",IF(VLOOKUP(HLOOKUP(W$5,$B$6:$K$15,Points!$A6+1,FALSE),'Cars & Results'!$A$7:$BZ$317,2*W$5+5)<=5,W10*0.5,0))","v":0},{"$f":"IF(HLOOKUP(Y$5,$B$6:$K$15,Points!$A6+1,FALSE)=\"TBD\",\"\",VLOOKUP(HLOOKUP(Y$5,$B$6:$K$15,Points!$A6+1,FALSE),'Cars & Results'!$A$7:$BZ$317,2*Y$5+6,FALSE))","v":21},{"$f":"IF(HLOOKUP(Y$5,$B$6:$K$15,Points!$A6+1,FALSE)=\"TBD\",\"\",IF(VLOOKUP(HLOOKUP(Y$5,$B$6:$K$15,Points!$A6+1,FALSE),'Cars & Results'!$A$7:$BZ$317,2*Y$5+5)<=5,Y10*0.5,0))","v":0},{"$f":"IF(HLOOKUP(AA$5,$B$6:$K$15,Points!$A6+1,FALSE)=\"TBD\",\"\",VLOOKUP(HLOOKUP(AA$5,$B$6:$K$15,Points!$A6+1,FALSE),'Cars & Results'!$A$7:$BZ$317,2*AA$5+6,FALSE))","v":21},{"$f":"IF(HLOOKUP(AA$5,$B$6:$K$15,Points!$A6+1,FALSE)=\"TBD\",\"\",IF(VLOOKUP(HLOOKUP(AA$5,$B$6:$K$15,Points!$A6+1,FALSE),'Cars & Results'!$A$7:$BZ$317,2*AA$5+5)<=5,AA10*0.5,0))","v":0},{"$f":"IF(HLOOKUP(AC$5,$B$6:$K$15,Points!$A6+1,FALSE)=\"TBD\",\"\",VLOOKUP(HLOOKUP(AC$5,$B$6:$K$15,Points!$A6+1,FALSE),'Cars & Results'!$A$7:$BZ$317,2*AC$5+6,FALSE))","v":23},{"$f":"IF(HLOOKUP(AC$5,$B$6:$K$15,Points!$A6+1,FALSE)=\"TBD\",\"\",IF(VLOOKUP(HLOOKUP(AC$5,$B$6:$K$15,Points!$A6+1,FALSE),'Cars & Results'!$A$7:$BZ$317,2*AC$5+5)<=5,AC10*0.5,0))","v":0},{"$f":"IF(HLOOKUP(AE$5,$B$6:$K$15,Points!$A6+1,FALSE)=\"TBD\",\"\",VLOOKUP(HLOOKUP(AE$5,$B$6:$K$15,Points!$A6+1,FALSE),'Cars & Results'!$A$7:$BZ$317,2*AE$5+6,FALSE))","v":24},{"$f":"IF(HLOOKUP(AE$5,$B$6:$K$15,Points!$A6+1,FALSE)=\"TBD\",\"\",IF(VLOOKUP(HLOOKUP(AE$5,$B$6:$K$15,Points!$A6+1,FALSE),'Cars & Results'!$A$7:$BZ$317,2*AE$5+5)<=5,AE10*0.5,0))","v":0},{"$f":"IF(HLOOKUP(AG$5,$B$6:$K$15,Points!$A6+1,FALSE)=\"TBD\",\"\",VLOOKUP(HLOOKUP(AG$5,$B$6:$K$15,Points!$A6+1,FALSE),'Cars & Results'!$A$7:$BZ$317,2*AG$5+6,FALSE))","v":30},{"$f":"IF(HLOOKUP(AG$5,$B$6:$K$15,Points!$A6+1,FALSE)=\"TBD\",\"\",IF(VLOOKUP(HLOOKUP(AG$5,$B$6:$K$15,Points!$A6+1,FALSE),'Cars & Results'!$A$7:$BZ$317,2*AG$5+5)<=5,AG10*0.5,0))","v":0}]
[{"$f":"VLOOKUP(HLOOKUP('Pick Distribution'!$P$2,$B$6:$K$15,6),'Current Owner Standings'!$A$71:$B$480,2,FALSE)","v":26},8,8,8,43,43,43,32,47,47,47,{"$f":"IF(ISNA(VLOOKUP($K11,'Cars & Results'!$A$6:$K$317,L$5,FALSE)),\"Invalid Number\",VLOOKUP($K11,'Cars & Results'!$A$6:$K$317,L$5,FALSE))","v":"Ryan Preece (R)"},{"$f":"IF(ISNA(VLOOKUP($K11,'Cars & Results'!$A$6:$K$317,M$5,FALSE)),\"Invalid Number\",VLOOKUP($K11,'Cars & Results'!$A$6:$K$317,M$5,FALSE))","v":"Chevrolet"},{"$f":"IF(ISNA(VLOOKUP($K11,'Cars & Results'!$A$6:$K$317,N$5,FALSE)),\"Invalid Number\",VLOOKUP($K11,'Cars & Results'!$A$6:$K$317,N$5,FALSE))","v":"JTG Daugherty Racing"},{"$f":"IF(HLOOKUP(O$5,$B$6:$K$15,Points!$A7+1,FALSE)=\"TBD\",\"\",VLOOKUP(HLOOKUP(O$5,$B$6:$K$15,Points!$A7+1,FALSE),'Cars & Results'!$A$7:$BZ$317,2*O$5+6,FALSE))","v":20},{"$f":"IF(HLOOKUP(O$5,$B$6:$K$15,Points!$A7+1,FALSE)=\"TBD\",\"\",IF(VLOOKUP(HLOOKUP(O$5,$B$6:$K$15,Points!$A7+1,FALSE),'Cars & Results'!$A$7:$BZ$317,2*O$5+5)<=10,O11*1.5,0))","v":0},{"$f":"IF(HLOOKUP(Q$5,$B$6:$K$15,Points!$A7+1,FALSE)=\"TBD\",\"\",VLOOKUP(HLOOKUP(Q$5,$B$6:$K$15,Points!$A7+1,FALSE),'Cars & Results'!$A$7:$BZ$317,2*Q$5+6,FALSE))","v":12},{"$f":"IF(HLOOKUP(Q$5,$B$6:$K$15,Points!$A7+1,FALSE)=\"TBD\",\"\",IF(VLOOKUP(HLOOKUP(Q$5,$B$6:$K$15,Points!$A7+1,FALSE),'Cars & Results'!$A$7:$BZ$317,2*Q$5+5)<=10,Q11*1.5,0))","v":0},{"$f":"IF(HLOOKUP(S$5,$B$6:$K$15,Points!$A7+1,FALSE)=\"TBD\",\"\",VLOOKUP(HLOOKUP(S$5,$B$6:$K$15,Points!$A7+1,FALSE),'Cars & Results'!$A$7:$BZ$317,2*S$5+6,FALSE))","v":4},{"$f":"IF(HLOOKUP(S$5,$B$6:$K$15,Points!$A7+1,FALSE)=\"TBD\",\"\",IF(VLOOKUP(HLOOKUP(S$5,$B$6:$K$15,Points!$A7+1,FALSE),'Cars & Results'!$A$7:$BZ$317,2*S$5+5)<=10,S11*1.5,0))","v":0},{"$f":"IF(HLOOKUP(U$5,$B$6:$K$15,Points!$A7+1,FALSE)=\"TBD\",\"\",VLOOKUP(HLOOKUP(U$5,$B$6:$K$15,Points!$A7+1,FALSE),'Cars & Results'!$A$7:$BZ$317,2*U$5+6,FALSE))","v":17},{"$f":"IF(HLOOKUP(U$5,$B$6:$K$15,Points!$A7+1,FALSE)=\"TBD\",\"\",IF(VLOOKUP(HLOOKUP(U$5,$B$6:$K$15,Points!$A7+1,FALSE),'Cars & Results'!$A$7:$BZ$317,2*U$5+5)<=10,U11*1.5,0))","v":0},{"$f":"IF(HLOOKUP(W$5,$B$6:$K$15,Points!$A7+1,FALSE)=\"TBD\",\"\",VLOOKUP(HLOOKUP(W$5,$B$6:$K$15,Points!$A7+1,FALSE),'Cars & Results'!$A$7:$BZ$317,2*W$5+6,FALSE))","v":13},{"$f":"IF(HLOOKUP(W$5,$B$6:$K$15,Points!$A7+1,FALSE)=\"TBD\",\"\",IF(VLOOKUP(HLOOKUP(W$5,$B$6:$K$15,Points!$A7+1,FALSE),'Cars & Results'!$A$7:$BZ$317,2*W$5+5)<=10,W11*1.5,0))","v":0},{"$f":"IF(HLOOKUP(Y$5,$B$6:$K$15,Points!$A7+1,FALSE)=\"TBD\",\"\",VLOOKUP(HLOOKUP(Y$5,$B$6:$K$15,Points!$A7+1,FALSE),'Cars & Results'!$A$7:$BZ$317,2*Y$5+6,FALSE))","v":24},{"$f":"IF(HLOOKUP(Y$5,$B$6:$K$15,Points!$A7+1,FALSE)=\"TBD\",\"\",IF(VLOOKUP(HLOOKUP(Y$5,$B$6:$K$15,Points!$A7+1,FALSE),'Cars & Results'!$A$7:$BZ$317,2*Y$5+5)<=10,Y11*1.5,0))","v":0},{"$f":"IF(HLOOKUP(AA$5,$B$6:$K$15,Points!$A7+1,FALSE)=\"TBD\",\"\",VLOOKUP(HLOOKUP(AA$5,$B$6:$K$15,Points!$A7+1,FALSE),'Cars & Results'!$A$7:$BZ$317,2*AA$5+6,FALSE))","v":19},{"$f":"IF(HLOOKUP(AA$5,$B$6:$K$15,Points!$A7+1,FALSE)=\"TBD\",\"\",IF(VLOOKUP(HLOOKUP(AA$5,$B$6:$K$15,Points!$A7+1,FALSE),'Cars & Results'!$A$7:$BZ$317,2*AA$5+5)<=10,AA11*1.5,0))","v":0},{"$f":"IF(HLOOKUP(AC$5,$B$6:$K$15,Points!$A7+1,FALSE)=\"TBD\",\"\",VLOOKUP(HLOOKUP(AC$5,$B$6:$K$15,Points!$A7+1,FALSE),'Cars & Results'!$A$7:$BZ$317,2*AC$5+6,FALSE))","v":17},{"$f":"IF(HLOOKUP(AC$5,$B$6:$K$15,Points!$A7+1,FALSE)=\"TBD\",\"\",IF(VLOOKUP(HLOOKUP(AC$5,$B$6:$K$15,Points!$A7+1,FALSE),'Cars & Results'!$A$7:$BZ$317,2*AC$5+5)<=10,AC11*1.5,0))","v":0},{"$f":"IF(HLOOKUP(AE$5,$B$6:$K$15,Points!$A7+1,FALSE)=\"TBD\",\"\",VLOOKUP(HLOOKUP(AE$5,$B$6:$K$15,Points!$A7+1,FALSE),'Cars & Results'!$A$7:$BZ$317,2*AE$5+6,FALSE))","v":11},{"$f":"IF(HLOOKUP(AE$5,$B$6:$K$15,Points!$A7+1,FALSE)=\"TBD\",\"\",IF(VLOOKUP(HLOOKUP(AE$5,$B$6:$K$15,Points!$A7+1,FALSE),'Cars & Results'!$A$7:$BZ$317,2*AE$5+5)<=10,AE11*1.5,0))","v":0},{"$f":"IF(HLOOKUP(AG$5,$B$6:$K$15,Points!$A7+1,FALSE)=\"TBD\",\"\",VLOOKUP(HLOOKUP(AG$5,$B$6:$K$15,Points!$A7+1,FALSE),'Cars & Results'!$A$7:$BZ$317,2*AG$5+6,FALSE))","v":12},{"$f":"IF(HLOOKUP(AG$5,$B$6:$K$15,Points!$A7+1,FALSE)=\"TBD\",\"\",IF(VLOOKUP(HLOOKUP(AG$5,$B$6:$K$15,Points!$A7+1,FALSE),'Cars & Results'!$A$7:$BZ$317,2*AG$5+5)<=10,AG11*1.5,0))","v":0}]
[{"$f":"VLOOKUP(HLOOKUP('Pick Distribution'!$P$2,$B$6:$K$15,7),'Current Owner Standings'!$A$71:$B$480,2,FALSE)","v":30},34,34,34,34,34,34,34,34,34,36,{"$f":"IF(ISNA(VLOOKUP($K12,'Cars & Results'!$A$6:$K$317,L$5,FALSE)),\"Invalid Number\",VLOOKUP($K12,'Cars & Results'!$A$6:$K$317,L$5,FALSE))","v":"John Hunter Nemechek (i)"},{"$f":"IF(ISNA(VLOOKUP($K12,'Cars & Results'!$A$6:$K$317,M$5,FALSE)),\"Invalid Number\",VLOOKUP($K12,'Cars & Results'!$A$6:$K$317,M$5,FALSE))","v":"Ford"},{"$f":"IF(ISNA(VLOOKUP($K12,'Cars & Results'!$A$6:$K$317,N$5,FALSE)),\"Invalid Number\",VLOOKUP($K12,'Cars & Results'!$A$6:$K$317,N$5,FALSE))","v":"Front Row Motorsports"},{"$f":"IF(HLOOKUP(O$5,$B$6:$K$15,Points!$A8+1,FALSE)=\"TBD\",\"\",VLOOKUP(HLOOKUP(O$5,$B$6:$K$15,Points!$A8+1,FALSE),'Cars & Results'!$A$7:$BZ$317,2*O$5+6,FALSE))","v":13},{"$f":"IF(HLOOKUP(O$5,$B$6:$K$15,Points!$A8+1,FALSE)=\"TBD\",\"\",IF(VLOOKUP(HLOOKUP(O$5,$B$6:$K$15,Points!$A8+1,FALSE),'Cars & Results'!$A$7:$BZ$317,2*O$5+5)<=10,O12*1.5,0))","v":0},{"$f":"IF(HLOOKUP(Q$5,$B$6:$K$15,Points!$A8+1,FALSE)=\"TBD\",\"\",VLOOKUP(HLOOKUP(Q$5,$B$6:$K$15,Points!$A8+1,FALSE),'Cars & Results'!$A$7:$BZ$317,2*Q$5+6,FALSE))","v":16},{"$f":"IF(HLOOKUP(Q$5,$B$6:$K$15,Points!$A8+1,FALSE)=\"TBD\",\"\",IF(VLOOKUP(HLOOKUP(Q$5,$B$6:$K$15,Points!$A8+1,FALSE),'Cars & Results'!$A$7:$BZ$317,2*Q$5+5)<=10,Q12*1.5,0))","v":0},{"$f":"IF(HLOOKUP(S$5,$B$6:$K$15,Points!$A8+1,FALSE)=\"TBD\",\"\",VLOOKUP(HLOOKUP(S$5,$B$6:$K$15,Points!$A8+1,FALSE),'Cars & Results'!$A$7:$BZ$317,2*S$5+6,FALSE))","v":29},{"$f":"IF(HLOOKUP(S$5,$B$6:$K$15,Points!$A8+1,FALSE)=\"TBD\",\"\",IF(VLOOKUP(HLOOKUP(S$5,$B$6:$K$15,Points!$A8+1,FALSE),'Cars & Results'!$A$7:$BZ$317,2*S$5+5)<=10,S12*1.5,0))","v":0},{"$f":"IF(HLOOKUP(U$5,$B$6:$K$15,Points!$A8+1,FALSE)=\"TBD\",\"\",VLOOKUP(HLOOKUP(U$5,$B$6:$K$15,Points!$A8+1,FALSE),'Cars & Results'!$A$7:$BZ$317,2*U$5+6,FALSE))","v":13},{"$f":"IF(HLOOKUP(U$5,$B$6:$K$15,Points!$A8+1,FALSE)=\"TBD\",\"\",IF(VLOOKUP(HLOOKUP(U$5,$B$6:$K$15,Points!$A8+1,FALSE),'Cars & Results'!$A$7:$BZ$317,2*U$5+5)<=10,U12*1.5,0))","v":0},{"$f":"IF(HLOOKUP(W$5,$B$6:$K$15,Points!$A8+1,FALSE)=\"TBD\",\"\",VLOOKUP(HLOOKUP(W$5,$B$6:$K$15,Points!$A8+1,FALSE),'Cars & Results'!$A$7:$BZ$317,2*W$5+6,FALSE))","v":32},{"$f":"IF(HLOOKUP(W$5,$B$6:$K$15,Points!$A8+1,FALSE)=\"TBD\",\"\",IF(VLOOKUP(HLOOKUP(W$5,$B$6:$K$15,Points!$A8+1,FALSE),'Cars & Results'!$A$7:$BZ$317,2*W$5+5)<=10,W12*1.5,0))","v":48},{"$f":"IF(HLOOKUP(Y$5,$B$6:$K$15,Points!$A8+1,FALSE)=\"TBD\",\"\",VLOOKUP(HLOOKUP(Y$5,$B$6:$K$15,Points!$A8+1,FALSE),'Cars & Results'!$A$7:$BZ$317,2*Y$5+6,FALSE))","v":14},{"$f":"IF(HLOOKUP(Y$5,$B$6:$K$15,Points!$A8+1,FALSE)=\"TBD\",\"\",IF(VLOOKUP(HLOOKUP(Y$5,$B$6:$K$15,Points!$A8+1,FALSE),'Cars & Results'!$A$7:$BZ$317,2*Y$5+5)<=10,Y12*1.5,0))","v":0},{"$f":"IF(HLOOKUP(AA$5,$B$6:$K$15,Points!$A8+1,FALSE)=\"TBD\",\"\",VLOOKUP(HLOOKUP(AA$5,$B$6:$K$15,Points!$A8+1,FALSE),'Cars & Results'!$A$7:$BZ$317,2*AA$5+6,FALSE))","v":14},{"$f":"IF(HLOOKUP(AA$5,$B$6:$K$15,Points!$A8+1,FALSE)=\"TBD\",\"\",IF(VLOOKUP(HLOOKUP(AA$5,$B$6:$K$15,Points!$A8+1,FALSE),'Cars & Results'!$A$7:$BZ$317,2*AA$5+5)<=10,AA12*1.5,0))","v":0},{"$f":"IF(HLOOKUP(AC$5,$B$6:$K$15,Points!$A8+1,FALSE)=\"TBD\",\"\",VLOOKUP(HLOOKUP(AC$5,$B$6:$K$15,Points!$A8+1,FALSE),'Cars & Results'!$A$7:$BZ$317,2*AC$5+6,FALSE))","v":12},{"$f":"IF(HLOOKUP(AC$5,$B$6:$K$15,Points!$A8+1,FALSE)=\"TBD\",\"\",IF(VLOOKUP(HLOOKUP(AC$5,$B$6:$K$15,Points!$A8+1,FALSE),'Cars & Results'!$A$7:$BZ$317,2*AC$5+5)<=10,AC12*1.5,0))","v":0},{"$f":"IF(HLOOKUP(AE$5,$B$6:$K$15,Points!$A8+1,FALSE)=\"TBD\",\"\",VLOOKUP(HLOOKUP(AE$5,$B$6:$K$15,Points!$A8+1,FALSE),'Cars & Results'!$A$7:$BZ$317,2*AE$5+6,FALSE))","v":7},{"$f":"IF(HLOOKUP(AE$5,$B$6:$K$15,Points!$A8+1,FALSE)=\"TBD\",\"\",IF(VLOOKUP(HLOOKUP(AE$5,$B$6:$K$15,Points!$A8+1,FALSE),'Cars & Results'!$A$7:$BZ$317,2*AE$5+5)<=10,AE12*1.5,0))","v":0},{"$f":"IF(HLOOKUP(AG$5,$B$6:$K$15,Points!$A8+1,FALSE)=\"TBD\",\"\",VLOOKUP(HLOOKUP(AG$5,$B$6:$K$15,Points!$A8+1,FALSE),'Cars & Results'!$A$7:$BZ$317,2*AG$5+6,FALSE))","v":14},{"$f":"IF(HLOOKUP(AG$5,$B$6:$K$15,Points!$A8+1,FALSE)=\"TBD\",\"\",IF(VLOOKUP(HLOOKUP(AG$5,$B$6:$K$15,Points!$A8+1,FALSE),'Cars & Results'!$A$7:$BZ$317,2*AG$5+5)<=10,AG12*1.5,0))","v":0}]
[{"$f":"VLOOKUP(HLOOKUP('Pick Distribution'!$P$2,$B$6:$K$15,8),'Current Owner Standings'!$A$71:$B$480,2,FALSE)","v":31},36,36,36,36,36,38,38,36,38,38,{"$f":"IF(ISNA(VLOOKUP($K13,'Cars & Results'!$A$6:$K$317,L$5,FALSE)),\"Invalid Number\",VLOOKUP($K13,'Cars & Results'!$A$6:$K$317,L$5,FALSE))","v":"David Ragan"},{"$f":"IF(ISNA(VLOOKUP($K13,'Cars & Results'!$A$6:$K$317,M$5,FALSE)),\"Invalid Number\",VLOOKUP($K13,'Cars & Results'!$A$6:$K$317,M$5,FALSE))","v":"Ford"},{"$f":"IF(ISNA(VLOOKUP($K13,'Cars & Results'!$A$6:$K$317,N$5,FALSE)),\"Invalid Number\",VLOOKUP($K13,'Cars & Results'!$A$6:$K$317,N$5,FALSE))","v":"Front Row Motorsports"},{"$f":"IF(HLOOKUP(O$5,$B$6:$K$15,Points!$A9+1,FALSE)=\"TBD\",\"\",VLOOKUP(HLOOKUP(O$5,$B$6:$K$15,Points!$A9+1,FALSE),'Cars & Results'!$A$7:$BZ$317,2*O$5+6,FALSE))","v":7},{"$f":"IF(HLOOKUP(O$5,$B$6:$K$15,Points!$A9+1,FALSE)=\"TBD\",\"\",IF(VLOOKUP(HLOOKUP(O$5,$B$6:$K$15,Points!$A9+1,FALSE),'Cars & Results'!$A$7:$BZ$317,2*O$5+5)<=10,O13*2,0))","v":0},{"$f":"IF(HLOOKUP(Q$5,$B$6:$K$15,Points!$A9+1,FALSE)=\"TBD\",\"\",VLOOKUP(HLOOKUP(Q$5,$B$6:$K$15,Points!$A9+1,FALSE),'Cars & Results'!$A$7:$BZ$317,2*Q$5+6,FALSE))","v":17},{"$f":"IF(HLOOKUP(Q$5,$B$6:$K$15,Points!$A9+1,FALSE)=\"TBD\",\"\",IF(VLOOKUP(HLOOKUP(Q$5,$B$6:$K$15,Points!$A9+1,FALSE),'Cars & Results'!$A$7:$BZ$317,2*Q$5+5)<=10,Q13*2,0))","v":0},{"$f":"IF(HLOOKUP(S$5,$B$6:$K$15,Points!$A9+1,FALSE)=\"TBD\",\"\",VLOOKUP(HLOOKUP(S$5,$B$6:$K$15,Points!$A9+1,FALSE),'Cars & Results'!$A$7:$BZ$317,2*S$5+6,FALSE))","v":12},{"$f":"IF(HLOOKUP(S$5,$B$6:$K$15,Points!$A9+1,FALSE)=\"TBD\",\"\",IF(VLOOKUP(HLOOKUP(S$5,$B$6:$K$15,Points!$A9+1,FALSE),'Cars & Results'!$A$7:$BZ$317,2*S$5+5)<=10,S13*2,0))","v":0},{"$f":"IF(HLOOKUP(U$5,$B$6:$K$15,Points!$A9+1,FALSE)=\"TBD\",\"\",VLOOKUP(HLOOKUP(U$5,$B$6:$K$15,Points!$A9+1,FALSE),'Cars & Results'!$A$7:$BZ$317,2*U$5+6,FALSE))","v":12},{"$f":"IF(HLOOKUP(U$5,$B$6:$K$15,Points!$A9+1,FALSE)=\"TBD\",\"\",IF(VLOOKUP(HLOOKUP(U$5,$B$6:$K$15,Points!$A9+1,FALSE),'Cars & Results'!$A$7:$BZ$317,2*U$5+5)<=10,U13*2,0))","v":0},{"$f":"IF(HLOOKUP(W$5,$B$6:$K$15,Points!$A9+1,FALSE)=\"TBD\",\"\",VLOOKUP(HLOOKUP(W$5,$B$6:$K$15,Points!$A9+1,FALSE),'Cars & Results'!$A$7:$BZ$317,2*W$5+6,FALSE))","v":24},{"$f":"IF(HLOOKUP(W$5,$B$6:$K$15,Points!$A9+1,FALSE)=\"TBD\",\"\",IF(VLOOKUP(HLOOKUP(W$5,$B$6:$K$15,Points!$A9+1,FALSE),'Cars & Results'!$A$7:$BZ$317,2*W$5+5)<=10,W13*2,0))","v":0},{"$f":"IF(HLOOKUP(Y$5,$B$6:$K$15,Points!$A9+1,FALSE)=\"TBD\",\"\",VLOOKUP(HLOOKUP(Y$5,$B$6:$K$15,Points!$A9+1,FALSE),'Cars & Results'!$A$7:$BZ$317,2*Y$5+6,FALSE))","v":26},{"$f":"IF(HLOOKUP(Y$5,$B$6:$K$15,Points!$A9+1,FALSE)=\"TBD\",\"\",IF(VLOOKUP(HLOOKUP(Y$5,$B$6:$K$15,Points!$A9+1,FALSE),'Cars & Results'!$A$7:$BZ$317,2*Y$5+5)<=10,Y13*2,0))","v":0},{"$f":"IF(HLOOKUP(AA$5,$B$6:$K$15,Points!$A9+1,FALSE)=\"TBD\",\"\",VLOOKUP(HLOOKUP(AA$5,$B$6:$K$15,Points!$A9+1,FALSE),'Cars & Results'!$A$7:$BZ$317,2*AA$5+6,FALSE))","v":26},{"$f":"IF(HLOOKUP(AA$5,$B$6:$K$15,Points!$A9+1,FALSE)=\"TBD\",\"\",IF(VLOOKUP(HLOOKUP(AA$5,$B$6:$K$15,Points!$A9+1,FALSE),'Cars & Results'!$A$7:$BZ$317,2*AA$5+5)<=10,AA13*2,0))","v":0},{"$f":"IF(HLOOKUP(AC$5,$B$6:$K$15,Points!$A9+1,FALSE)=\"TBD\",\"\",VLOOKUP(HLOOKUP(AC$5,$B$6:$K$15,Points!$A9+1,FALSE),'Cars & Results'!$A$7:$BZ$317,2*AC$5+6,FALSE))","v":16},{"$f":"IF(HLOOKUP(AC$5,$B$6:$K$15,Points!$A9+1,FALSE)=\"TBD\",\"\",IF(VLOOKUP(HLOOKUP(AC$5,$B$6:$K$15,Points!$A9+1,FALSE),'Cars & Results'!$A$7:$BZ$317,2*AC$5+5)<=10,AC13*2,0))","v":0},{"$f":"IF(HLOOKUP(AE$5,$B$6:$K$15,Points!$A9+1,FALSE)=\"TBD\",\"\",VLOOKUP(HLOOKUP(AE$5,$B$6:$K$15,Points!$A9+1,FALSE),'Cars & Results'!$A$7:$BZ$317,2*AE$5+6,FALSE))","v":1},{"$f":"IF(HLOOKUP(AE$5,$B$6:$K$15,Points!$A9+1,FALSE)=\"TBD\",\"\",IF(VLOOKUP(HLOOKUP(AE$5,$B$6:$K$15,Points!$A9+1,FALSE),'Cars & Results'!$A$7:$BZ$317,2*AE$5+5)<=10,AE13*2,0))","v":0},{"$f":"IF(HLOOKUP(AG$5,$B$6:$K$15,Points!$A9+1,FALSE)=\"TBD\",\"\",VLOOKUP(HLOOKUP(AG$5,$B$6:$K$15,Points!$A9+1,FALSE),'Cars & Results'!$A$7:$BZ$317,2*AG$5+6,FALSE))","v":10},{"$f":"IF(HLOOKUP(AG$5,$B$6:$K$15,Points!$A9+1,FALSE)=\"TBD\",\"\",IF(VLOOKUP(HLOOKUP(AG$5,$B$6:$K$15,Points!$A9+1,FALSE),'Cars & Results'!$A$7:$BZ$317,2*AG$5+5)<=10,AG13*2,0))","v":0}]
[{"$f":"VLOOKUP(HLOOKUP('Pick Distribution'!$P$2,$B$6:$K$15,9),'Current Owner Standings'!$A$71:$B$480,2,FALSE)","v":36},27,52,52,52,96,96,27,27,27,27,{"$f":"IF(ISNA(VLOOKUP($K14,'Cars & Results'!$A$6:$K$317,L$5,FALSE)),\"Invalid Number\",VLOOKUP($K14,'Cars & Results'!$A$6:$K$317,L$5,FALSE))","v":"Ross Chastain (i)"},{"$f":"IF(ISNA(VLOOKUP($K14,'Cars & Results'!$A$6:$K$317,M$5,FALSE)),\"Invalid Number\",VLOOKUP($K14,'Cars & Results'!$A$6:$K$317,M$5,FALSE))","v":"Chevrolet"},{"$f":"IF(ISNA(VLOOKUP($K14,'Cars & Results'!$A$6:$K$317,N$5,FALSE)),\"Invalid Number\",VLOOKUP($K14,'Cars & Results'!$A$6:$K$317,N$5,FALSE))","v":"Premium Motorsports"},{"$f":"IF(HLOOKUP(O$5,$B$6:$K$15,Points!$A10+1,FALSE)=\"TBD\",\"\",VLOOKUP(HLOOKUP(O$5,$B$6:$K$15,Points!$A10+1,FALSE),'Cars & Results'!$A$7:$BZ$317,2*O$5+6,FALSE))","v":3},{"$f":"IF(HLOOKUP(O$5,$B$6:$K$15,Points!$A10+1,FALSE)=\"TBD\",\"\",IF(VLOOKUP(HLOOKUP(O$5,$B$6:$K$15,Points!$A10+1,FALSE),'Cars & Results'!$A$7:$BZ$317,2*O$5+5)<=10,O14*3,0))","v":0},{"$f":"IF(HLOOKUP(Q$5,$B$6:$K$15,Points!$A10+1,FALSE)=\"TBD\",\"\",VLOOKUP(HLOOKUP(Q$5,$B$6:$K$15,Points!$A10+1,FALSE),'Cars & Results'!$A$7:$BZ$317,2*Q$5+6,FALSE))","v":4},{"$f":"IF(HLOOKUP(Q$5,$B$6:$K$15,Points!$A10+1,FALSE)=\"TBD\",\"\",IF(VLOOKUP(HLOOKUP(Q$5,$B$6:$K$15,Points!$A10+1,FALSE),'Cars & Results'!$A$7:$BZ$317,2*Q$5+5)<=10,Q14*3,0))","v":0},{"$f":"IF(HLOOKUP(S$5,$B$6:$K$15,Points!$A10+1,FALSE)=\"TBD\",\"\",VLOOKUP(HLOOKUP(S$5,$B$6:$K$15,Points!$A10+1,FALSE),'Cars & Results'!$A$7:$BZ$317,2*S$5+6,FALSE))","v":1},{"$f":"IF(HLOOKUP(S$5,$B$6:$K$15,Points!$A10+1,FALSE)=\"TBD\",\"\",IF(VLOOKUP(HLOOKUP(S$5,$B$6:$K$15,Points!$A10+1,FALSE),'Cars & Results'!$A$7:$BZ$317,2*S$5+5)<=10,S14*3,0))","v":0},{"$f":"IF(HLOOKUP(U$5,$B$6:$K$15,Points!$A10+1,FALSE)=\"TBD\",\"\",VLOOKUP(HLOOKUP(U$5,$B$6:$K$15,Points!$A10+1,FALSE),'Cars & Results'!$A$7:$BZ$317,2*U$5+6,FALSE))","v":5},{"$f":"IF(HLOOKUP(U$5,$B$6:$K$15,Points!$A10+1,FALSE)=\"TBD\",\"\",IF(VLOOKUP(HLOOKUP(U$5,$B$6:$K$15,Points!$A10+1,FALSE),'Cars & Results'!$A$7:$BZ$317,2*U$5+5)<=10,U14*3,0))","v":0},{"$f":"IF(HLOOKUP(W$5,$B$6:$K$15,Points!$A10+1,FALSE)=\"TBD\",\"\",VLOOKUP(HLOOKUP(W$5,$B$6:$K$15,Points!$A10+1,FALSE),'Cars & Results'!$A$7:$BZ$317,2*W$5+6,FALSE))","v":22},{"$f":"IF(HLOOKUP(W$5,$B$6:$K$15,Points!$A10+1,FALSE)=\"TBD\",\"\",IF(VLOOKUP(HLOOKUP(W$5,$B$6:$K$15,Points!$A10+1,FALSE),'Cars & Results'!$A$7:$BZ$317,2*W$5+5)<=10,W14*3,0))","v":0},{"$f":"IF(HLOOKUP(Y$5,$B$6:$K$15,Points!$A10+1,FALSE)=\"TBD\",\"\",VLOOKUP(HLOOKUP(Y$5,$B$6:$K$15,Points!$A10+1,FALSE),'Cars & Results'!$A$7:$BZ$317,2*Y$5+6,FALSE))","v":0},{"$f":"IF(HLOOKUP(Y$5,$B$6:$K$15,Points!$A10+1,FALSE)=\"TBD\",\"\",IF(VLOOKUP(HLOOKUP(Y$5,$B$6:$K$15,Points!$A10+1,FALSE),'Cars & Results'!$A$7:$BZ$317,2*Y$5+5)<=10,Y14*3,0))","v":0},{"$f":"IF(HLOOKUP(AA$5,$B$6:$K$15,Points!$A10+1,FALSE)=\"TBD\",\"\",VLOOKUP(HLOOKUP(AA$5,$B$6:$K$15,Points!$A10+1,FALSE),'Cars & Results'!$A$7:$BZ$317,2*AA$5+6,FALSE))","v":4},{"$f":"IF(HLOOKUP(AA$5,$B$6:$K$15,Points!$A10+1,FALSE)=\"TBD\",\"\",IF(VLOOKUP(HLOOKUP(AA$5,$B$6:$K$15,Points!$A10+1,FALSE),'Cars & Results'!$A$7:$BZ$317,2*AA$5+5)<=10,AA14*3,0))","v":0},{"$f":"IF(HLOOKUP(AC$5,$B$6:$K$15,Points!$A10+1,FALSE)=\"TBD\",\"\",VLOOKUP(HLOOKUP(AC$5,$B$6:$K$15,Points!$A10+1,FALSE),'Cars & Results'!$A$7:$BZ$317,2*AC$5+6,FALSE))","v":6},{"$f":"IF(HLOOKUP(AC$5,$B$6:$K$15,Points!$A10+1,FALSE)=\"TBD\",\"\",IF(VLOOKUP(HLOOKUP(AC$5,$B$6:$K$15,Points!$A10+1,FALSE),'Cars & Results'!$A$7:$BZ$317,2*AC$5+5)<=10,AC14*3,0))","v":0},{"$f":"IF(HLOOKUP(AE$5,$B$6:$K$15,Points!$A10+1,FALSE)=\"TBD\",\"\",VLOOKUP(HLOOKUP(AE$5,$B$6:$K$15,Points!$A10+1,FALSE),'Cars & Results'!$A$7:$BZ$317,2*AE$5+6,FALSE))","v":3},{"$f":"IF(HLOOKUP(AE$5,$B$6:$K$15,Points!$A10+1,FALSE)=\"TBD\",\"\",IF(VLOOKUP(HLOOKUP(AE$5,$B$6:$K$15,Points!$A10+1,FALSE),'Cars & Results'!$A$7:$BZ$317,2*AE$5+5)<=10,AE14*3,0))","v":0},{"$f":"IF(HLOOKUP(AG$5,$B$6:$K$15,Points!$A10+1,FALSE)=\"TBD\",\"\",VLOOKUP(HLOOKUP(AG$5,$B$6:$K$15,Points!$A10+1,FALSE),'Cars & Results'!$A$7:$BZ$317,2*AG$5+6,FALSE))","v":2},{"$f":"IF(HLOOKUP(AG$5,$B$6:$K$15,Points!$A10+1,FALSE)=\"TBD\",\"\",IF(VLOOKUP(HLOOKUP(AG$5,$B$6:$K$15,Points!$A10+1,FALSE),'Cars & Results'!$A$7:$BZ$317,2*AG$5+5)<=10,AG14*3,0))","v":0}]
[{"$f":"VLOOKUP(HLOOKUP('Pick Distribution'!$P$2,$B$6:$K$15,10),'Current Owner Standings'!$A$71:$B$480,2,FALSE)","v":2},1,9,2,19,88,11,20,42,22,4,{"$f":"IF(ISNA(VLOOKUP($K15,'Cars & Results'!$A$6:$K$317,L$5,FALSE)),\"Invalid Number\",VLOOKUP($K15,'Cars & Results'!$A$6:$K$317,L$5,FALSE))","v":"Kevin Harvick"},{"$f":"IF(ISNA(VLOOKUP($K15,'Cars & Results'!$A$6:$K$317,M$5,FALSE)),\"Invalid Number\",VLOOKUP($K15,'Cars & Results'!$A$6:$K$317,M$5,FALSE))","v":"Ford"},{"$f":"IF(ISNA(VLOOKUP($K15,'Cars & Results'!$A$6:$K$317,N$5,FALSE)),\"Invalid Number\",VLOOKUP($K15,'Cars & Results'!$A$6:$K$317,N$5,FALSE))","v":"Stewart-Haas Racing"},{"$f":"IF(HLOOKUP(O$5,$B$6:$K$15,Points!$A11+1,FALSE)=\"TBD\",\"\",VLOOKUP(HLOOKUP(O$5,$B$6:$K$15,Points!$A11+1,FALSE),'Cars & Results'!$A$7:$BZ$317,2*O$5+6,FALSE))","v":8},{"$f":"IF(HLOOKUP(O$5,$B$6:$K$15,Points!$A11+1,FALSE)=\"TBD\",\"\",IF(AND(VLOOKUP(HLOOKUP(O$5,$B$6:$K$15,Points!$A11+1,FALSE),'Cars & Results'!$A$7:$BZ$317,2*O$5+5)<=3,$A$15<=25),O15*1,IF(AND(VLOOKUP(HLOOKUP(O$5,$B$6:$K$15,Points!$A11+1,FALSE),'Cars & Results'!$A$7:$BZ$317,2*O$5+5)<=10,$A$15>25),O15*3,0)))","v":0},{"$f":"IF(HLOOKUP(Q$5,$B$6:$K$15,Points!$A11+1,FALSE)=\"TBD\",\"\",VLOOKUP(HLOOKUP(Q$5,$B$6:$K$15,Points!$A11+1,FALSE),'Cars & Results'!$A$7:$BZ$317,2*Q$5+6,FALSE))","v":31},0,{"$f":"IF(HLOOKUP(S$5,$B$6:$K$15,Points!$A11+1,FALSE)=\"TBD\",\"\",VLOOKUP(HLOOKUP(S$5,$B$6:$K$15,Points!$A11+1,FALSE),'Cars & Results'!$A$7:$BZ$317,2*S$5+6,FALSE))","v":46},0,{"$f":"IF(HLOOKUP(U$5,$B$6:$K$15,Points!$A11+1,FALSE)=\"TBD\",\"\",VLOOKUP(HLOOKUP(U$5,$B$6:$K$15,Points!$A11+1,FALSE),'Cars & Results'!$A$7:$BZ$317,2*U$5+6,FALSE))","v":54},54,{"$f":"IF(HLOOKUP(W$5,$B$6:$K$15,Points!$A11+1,FALSE)=\"TBD\",\"\",VLOOKUP(HLOOKUP(W$5,$B$6:$K$15,Points!$A11+1,FALSE),'Cars & Results'!$A$7:$BZ$317,2*W$5+6,FALSE))","v":9},0,{"$f":"IF(HLOOKUP(Y$5,$B$6:$K$15,Points!$A11+1,FALSE)=\"TBD\",\"\",VLOOKUP(HLOOKUP(Y$5,$B$6:$K$15,Points!$A11+1,FALSE),'Cars & Results'!$A$7:$BZ$317,2*Y$5+6,FALSE))","v":45},53,{"$f":"IF(HLOOKUP(AA$5,$B$6:$K$15,Points!$A11+1,FALSE)=\"TBD\",\"\",VLOOKUP(HLOOKUP(AA$5,$B$6:$K$15,Points!$A11+1,FALSE),'Cars & Results'!$A$7:$BZ$317,2*AA$5+6,FALSE))","v":19},0,{"$f":"IF(HLOOKUP(AC$5,$B$6:$K$15,Points!$A11+1,FALSE)=\"TBD\",\"\",VLOOKUP(HLOOKUP(AC$5,$B$6:$K$15,Points!$A11+1,FALSE),'Cars & Results'!$A$7:$BZ$317,2*AC$5+6,FALSE))","v":29},0,{"$f":"IF(HLOOKUP(AE$5,$B$6:$K$15,Points!$A11+1,FALSE)=\"TBD\",\"\",VLOOKUP(HLOOKUP(AE$5,$B$6:$K$15,Points!$A11+1,FALSE),'Cars & Results'!$A$7:$BZ$317,2*AE$5+6,FALSE))","v":45},0,{"$f":"IF(HLOOKUP(AG$5,$B$6:$K$15,Points!$A11+1,FALSE)=\"TBD\",\"\",VLOOKUP(HLOOKUP(AG$5,$B$6:$K$15,Points!$A11+1,FALSE),'Cars & Results'!$A$7:$BZ$317,2*AG$5+6,FALSE))","v":33},{"$f":"IF(HLOOKUP(AG$5,$B$6:$K$15,Points!$A11+1,FALSE)=\"TBD\",\"\",IF(AND(VLOOKUP(HLOOKUP(AG$5,$B$6:$K$15,Points!$A11+1,FALSE),'Cars & Results'!$A$7:$BZ$317,2*AG$5+5)<=3,$A$15<=25),AG15*1,IF(AND(VLOOKUP(HLOOKUP(AG$5,$B$6:$K$15,Points!$A11+1,FALSE),'Cars & Results'!$A$7:$BZ$317,2*AG$5+5)<=10,$A$15>25),AG15*3,0)))","v":0}]
[null,null,null,null,null,null,null,null,null,null,null,null,null,"Segment 1",null,{"$f":"IF(INDIRECT(ADDRESS(321,5+(O5*2),1,1,\"Cars & Results\"),TRUE)=\"Y\",IF(ISERROR(MATCH(INDIRECT(ADDRESS(318,5+(O5*2),1,1,\"Cars & Results\"),TRUE),B7:B15,0))=TRUE,0,10),\"\")","v":0},null,{"$f":"IF(INDIRECT(ADDRESS(321,5+(Q5*2),1,1,\"Cars & Results\"),TRUE)=\"Y\",IF(ISERROR(MATCH(INDIRECT(ADDRESS(318,5+(Q5*2),1,1,\"Cars & Results\"),TRUE),C7:C15,0))=TRUE,0,10),\"\")","v":0},null,{"$f":"IF(INDIRECT(ADDRESS(321,5+(S5*2),1,1,\"Cars & Results\"),TRUE)=\"Y\",IF(ISERROR(MATCH(INDIRECT(ADDRESS(318,5+(S5*2),1,1,\"Cars & Results\"),TRUE),D7:D15,0))=TRUE,0,10),\"\")","v":0},null,{"$f":"IF(INDIRECT(ADDRESS(321,5+(U5*2),1,1,\"Cars & Results\"),TRUE)=\"Y\",IF(ISERROR(MATCH(INDIRECT(ADDRESS(318,5+(U5*2),1,1,\"Cars & Results\"),TRUE),E7:E15,0))=TRUE,0,10),\"\")","v":0},null,{"$f":"IF(INDIRECT(ADDRESS(321,5+(W5*2),1,1,\"Cars & Results\"),TRUE)=\"Y\",IF(ISERROR(MATCH(INDIRECT(ADDRESS(318,5+(W5*2),1,1,\"Cars & Results\"),TRUE),F7:F15,0))=TRUE,0,10),\"\")","v":0},null,{"$f":"IF(INDIRECT(ADDRESS(321,5+(Y5*2),1,1,\"Cars & Results\"),TRUE)=\"Y\",IF(ISERROR(MATCH(INDIRECT(ADDRESS(318,5+(Y5*2),1,1,\"Cars & Results\"),TRUE),G7:G15,0))=TRUE,0,10),\"\")","v":0},null,{"$f":"IF(INDIRECT(ADDRESS(321,5+(AA5*2),1,1,\"Cars & Results\"),TRUE)=\"Y\",IF(ISERROR(MATCH(INDIRECT(ADDRESS(318,5+(AA5*2),1,1,\"Cars & Results\"),TRUE),H7:H15,0))=TRUE,0,10),\"\")","v":0},null,{"$f":"IF(INDIRECT(ADDRESS(321,5+(AC5*2),1,1,\"Cars & Results\"),TRUE)=\"Y\",IF(ISERROR(MATCH(INDIRECT(ADDRESS(318,5+(AC5*2),1,1,\"Cars & Results\"),TRUE),I7:I15,0))=TRUE,0,10),\"\")","v":0},null,{"$f":"IF(INDIRECT(ADDRESS(321,5+(AE5*2),1,1,\"Cars & Results\"),TRUE)=\"Y\",IF(ISERROR(MATCH(INDIRECT(ADDRESS(318,5+(AE5*2),1,1,\"Cars & Results\"),TRUE),J7:J15,0))=TRUE,0,10),\"\")","v":0},null,{"$f":"IF(INDIRECT(ADDRESS(321,5+(AG5*2),1,1,\"Cars & Results\"),TRUE)=\"Y\",IF(ISERROR(MATCH(INDIRECT(ADDRESS(318,5+(AG5*2),1,1,\"Cars & Results\"),TRUE),K7:K15,0))=TRUE,0,10),\"\")","v":0}]
[null,null,null,null,null,null,null,null,null,null,null,null,null,"Segment 2",null,{"$f":"IF(INDIRECT(ADDRESS(321,5+(O5*2),1,1,\"Cars & Results\"),TRUE)=\"Y\",IF(ISERROR(MATCH(INDIRECT(ADDRESS(319,5+(O5*2),1,1,\"Cars & Results\"),TRUE),B7:B15,0))=TRUE,0,10),\"\")","v":0},null,{"$f":"IF(INDIRECT(ADDRESS(321,5+(Q5*2),1,1,\"Cars & Results\"),TRUE)=\"Y\",IF(ISERROR(MATCH(INDIRECT(ADDRESS(319,5+(Q5*2),1,1,\"Cars & Results\"),TRUE),C7:C15,0))=TRUE,0,10),\"\")","v":0},null,{"$f":"IF(INDIRECT(ADDRESS(321,5+(S5*2),1,1,\"Cars & Results\"),TRUE)=\"Y\",IF(ISERROR(MATCH(INDIRECT(ADDRESS(319,5+(S5*2),1,1,\"Cars & Results\"),TRUE),D7:D15,0))=TRUE,0,10),\"\")","v":0},null,{"$f":"IF(INDIRECT(ADDRESS(321,5+(U5*2),1,1,\"Cars & Results\"),TRUE)=\"Y\",IF(ISERROR(MATCH(INDIRECT(ADDRESS(319,5+(U5*2),1,1,\"Cars & Results\"),TRUE),E7:E15,0))=TRUE,0,10),\"\")","v":10},null,{"$f":"IF(INDIRECT(ADDRESS(321,5+(W5*2),1,1,\"Cars & Results\"),TRUE)=\"Y\",IF(ISERROR(MATCH(INDIRECT(ADDRESS(319,5+(W5*2),1,1,\"Cars & Results\"),TRUE),F7:F15,0))=TRUE,0,10),\"\")","v":0},null,{"$f":"IF(INDIRECT(ADDRESS(321,5+(Y5*2),1,1,\"Cars & Results\"),TRUE)=\"Y\",IF(ISERROR(MATCH(INDIRECT(ADDRESS(319,5+(Y5*2),1,1,\"Cars & Results\"),TRUE),G7:G15,0))=TRUE,0,10),\"\")","v":0},null,{"$f":"IF(INDIRECT(ADDRESS(321,5+(AA5*2),1,1,\"Cars & Results\"),TRUE)=\"Y\",IF(ISERROR(MATCH(INDIRECT(ADDRESS(319,5+(AA5*2),1,1,\"Cars & Results\"),TRUE),H7:H15,0))=TRUE,0,10),\"\")","v":0},null,{"$f":"IF(INDIRECT(ADDRESS(321,5+(AC5*2),1,1,\"Cars & Results\"),TRUE)=\"Y\",IF(ISERROR(MATCH(INDIRECT(ADDRESS(319,5+(AC5*2),1,1,\"Cars & Results\"),TRUE),I7:I15,0))=TRUE,0,10),\"\")","v":10},null,{"$f":"IF(INDIRECT(ADDRESS(321,5+(AE5*2),1,1,\"Cars & Results\"),TRUE)=\"Y\",IF(ISERROR(MATCH(INDIRECT(ADDRESS(319,5+(AE5*2),1,1,\"Cars & Results\"),TRUE),J7:J15,0))=TRUE,0,10),\"\")","v":10},null,{"$f":"IF(INDIRECT(ADDRESS(321,5+(AG5*2),1,1,\"Cars & Results\"),TRUE)=\"Y\",IF(ISERROR(MATCH(INDIRECT(ADDRESS(319,5+(AG5*2),1,1,\"Cars & Results\"),TRUE),K7:K15,0))=TRUE,0,10),\"\")","v":0}]
[null,null,null,null,null,null,null,null,null,null,null,null,null,"Segment 3",null,{"$f":"IF(INDIRECT(ADDRESS(321,5+(O5*2),1,1,\"Cars & Results\"),TRUE)=\"Y\",IF(ISERROR(MATCH(INDIRECT(ADDRESS(320,5+(O5*2),1,1,\"Cars & Results\"),TRUE),B7:B15,0))=TRUE,0,15),\"\")","v":0},null,{"$f":"IF(INDIRECT(ADDRESS(321,5+(Q5*2),1,1,\"Cars & Results\"),TRUE)=\"Y\",IF(ISERROR(MATCH(INDIRECT(ADDRESS(320,5+(Q5*2),1,1,\"Cars & Results\"),TRUE),C7:C15,0))=TRUE,0,15),\"\")","v":0},null,{"$f":"IF(INDIRECT(ADDRESS(321,5+(S5*2),1,1,\"Cars & Results\"),TRUE)=\"Y\",IF(ISERROR(MATCH(INDIRECT(ADDRESS(320,5+(S5*2),1,1,\"Cars & Results\"),TRUE),D7:D15,0))=TRUE,0,15),\"\")","v":0},null,{"$f":"IF(INDIRECT(ADDRESS(321,5+(U5*2),1,1,\"Cars & Results\"),TRUE)=\"Y\",IF(ISERROR(MATCH(INDIRECT(ADDRESS(320,5+(U5*2),1,1,\"Cars & Results\"),TRUE),E7:E15,0))=TRUE,0,15),\"\")","v":0},null,{"$f":"IF(INDIRECT(ADDRESS(321,5+(W5*2),1,1,\"Cars & Results\"),TRUE)=\"Y\",IF(ISERROR(MATCH(INDIRECT(ADDRESS(320,5+(W5*2),1,1,\"Cars & Results\"),TRUE),F7:F15,0))=TRUE,0,15),\"\")","v":0},null,{"$f":"IF(INDIRECT(ADDRESS(321,5+(Y5*2),1,1,\"Cars & Results\"),TRUE)=\"Y\",IF(ISERROR(MATCH(INDIRECT(ADDRESS(320,5+(Y5*2),1,1,\"Cars & Results\"),TRUE),G7:G15,0))=TRUE,0,15),\"\")","v":0},null,{"$f":"IF(INDIRECT(ADDRESS(321,5+(AA5*2),1,1,\"Cars & Results\"),TRUE)=\"Y\",IF(ISERROR(MATCH(INDIRECT(ADDRESS(320,5+(AA5*2),1,1,\"Cars & Results\"),TRUE),H7:H15,0))=TRUE,0,15),\"\")","v":0},null,{"$f":"IF(INDIRECT(ADDRESS(321,5+(AC5*2),1,1,\"Cars & Results\"),TRUE)=\"Y\",IF(ISERROR(MATCH(INDIRECT(ADDRESS(320,5+(AC5*2),1,1,\"Cars & Results\"),TRUE),I7:I15,0))=TRUE,0,15),\"\")","v":0},null,{"$f":"IF(INDIRECT(ADDRESS(321,5+(AE5*2),1,1,\"Cars & Results\"),TRUE)=\"Y\",IF(ISERROR(MATCH(INDIRECT(ADDRESS(320,5+(AE5*2),1,1,\"Cars & Results\"),TRUE),J7:J15,0))=TRUE,0,15),\"\")","v":0},null,{"$f":"IF(INDIRECT(ADDRESS(321,5+(AG5*2),1,1,\"Cars & Results\"),TRUE)=\"Y\",IF(ISERROR(MATCH(INDIRECT(ADDRESS(320,5+(AG5*2),1,1,\"Cars & Results\"),TRUE),K7:K15,0))=TRUE,0,15),\"\")","v":15}]
[null,{"$f":"SUM(B7:B15)","v":260},295,269,340,454,395,326,319,null,null,null,null,null,{"$f":"SUM(O7:O15)","v":154},null,{"$f":"SUM(Q7:Q15)","v":151},null,{"$f":"SUM(S7:S15)","v":197},null,{"$f":"SUM(U7:U15)","v":206},null,{"$f":"SUM(W7:W15)","v":165},null,{"$f":"SUM(Y7:Y15)","v":202},null,{"$f":"SUM(AA7:AA15)","v":136},null,{"$f":"SUM(AC7:AC15)","v":157},null,{"$f":"SUM(AE7:AE15)","v":184},null,{"$f":"SUM(AG7:AG15)","v":206}]
[null,null,null,null,null,null,null,null,null,null,null,null,null,null,null,{"$f":"SUM(P7:P19)","v":0},null,{"$f":"SUM(R7:R19)","v":0},null,{"$f":"SUM(T7:T19)","v":0},null,{"$f":"SUM(V7:V19)","v":64},null,{"$f":"SUM(X7:X19)","v":48},null,{"$f":"SUM(Z7:Z19)","v":53},null,{"$f":"SUM(AB7:AB19)","v":0},null,{"$f":"SUM(AD7:AD19)","v":10},null,{"$f":"SUM(AF7:AF19)","v":10},null,{"$f":"SUM(AH7:AH19)","v":15}]
[null,null,null,null,null,null,null,null,null,null,null,null,null,"Race Total",{"$f":"O19+P20","v":154},null,{"$f":"Q19+R20","v":151},null,{"$f":"S19+T20","v":197},null,{"$f":"U19+V20","v":270},null,{"$f":"W19+X20","v":213},null,{"$f":"Y19+Z20","v":255},null,{"$f":"AA19+AB20","v":136},null,{"$f":"AC19+AD20","v":167},null,{"$f":"AE19+AF20","v":194},null,{"$f":"AG19+AH20","v":221},null,{"$f":"SUM(O21:AH21)","v":1958}]
[null,null,null,null,null,null,null,null,null,null,"1-8"]
[null,null,null,null,null,null,null,null,null,null,"9-16"]
[null,null,null,null,null,null,null,null,null,null,"17-23"]
[null,null,null,null,null,null,null,null,null,null,"24-30"]
[null,null,null,null,null,null,null,null,null,null,"31-35"]
[null,null,null,null,null,null,null,null,null,null,">35"]
[null,null,null,null,null,null,null,null,null,null,"Provisional"]

{"sheet":"Brad McLean","index":12,"n_rows":28,"n_cols":35,"rows_kept":28,"cut":false,"hidden":false,"merged":[[4,28,4,29],[4,30,4,31],[4,32,4,33],[20,28,20,29],[20,30,20,31],[20,32,20,33],[2,28,2,29],[2,30,2,31],[2,32,2,33],[3,28,3,29],[3,30,3,31],[3,32,3,33],[0,28,0,29],[0,30,0,31],[0,32,0,33],[1,28,1,29],[1,30,1,31],[1,32,1,33],[2,22,2,23],[2,24,2,25],[2,26,2,27],[3,22,3,23],[3,24,3,25],[3,26,3,27],[3,14,3,15],[3,16,3,17],[3,18,3,19],[3,20,3,21],[1,18,1,19],[1,20,1,21],[1,22,1,23],[1,24,1,25],[1,26,1,27],[0,26,0,27],[2,14,2,15],[2,16,2,17],[2,18,2,19],[2,20,2,21],[1,14,1,15],[1,16,1,17],[0,22,0,23],[0,24,0,25],[0,14,0,15],[0,16,0,17],[0,18,0,19],[0,20,0,21],[4,14,4,15],[4,16,4,17],[4,18,4,19],[20,14,20,15],[20,16,20,17],[20,18,20,19],[4,20,4,21],[4,22,4,23],[4,24,4,25],[4,26,4,27],[20,20,20,21],[20,22,20,23],[20,24,20,25],[20,26,20,27]]}
[null,null,null,null,null,null,null,null,null,null,null,null,null,null,{"$f":"VLOOKUP(O$5,Schedule!$A$8:$J$43,2,FALSE)","v":"2019-09-15"},null,{"$f":"VLOOKUP(Q$5,Schedule!$A$8:$J$43,2,FALSE)","v":"2019-09-21"},null,{"$f":"VLOOKUP(S$5,Schedule!$A$8:$J$43,2,FALSE)","v":"2019-09-29"},null,{"$f":"VLOOKUP(U$5,Schedule!$A$8:$J$43,2,FALSE)","v":"2019-10-06"},null,{"$f":"VLOOKUP(W$5,Schedule!$A$8:$J$43,2,FALSE)","v":"2019-10-13"},null,{"$f":"VLOOKUP(Y$5,Schedule!$A$8:$J$43,2,FALSE)","v":"2019-10-20"},null,{"$f":"VLOOKUP(AA$5,Schedule!$A$8:$J$43,2,FALSE)","v":"2019-10-27"},null,{"$f":"VLOOKUP(AC$5,Schedule!$A$8:$J$43,2,FALSE)","v":"2019-11-03"},null,{"$f":"VLOOKUP(AE$5,Schedule!$A$8:$J$43,2,FALSE)","v":"2019-11-10"},null,{"$f":"VLOOKUP(AG$5,Schedule!$A$8:$J$43,2,FALSE)","v":"2019-11-17"}]
[null,null,null,null,null,null,null,null,null,null,null,null,null,null,{"$f":"LEFT(VLOOKUP(O$5,Schedule!$A$8:$J$43,3,FALSE),15)","v":"South Point 400"},null,{"$f":"LEFT(VLOOKUP(Q$5,Schedule!$A$8:$J$43,3,FALSE),15)","v":"Federated Auto "},null,{"$f":"LEFT(VLOOKUP(S$5,Schedule!$A$8:$J$43,3,FALSE),15)","v":"Bank of America"},null,{"$f":"LEFT(VLOOKUP(U$5,Schedule!$A$8:$J$43,3,FALSE),15)","v":"MENCS Race at D"},null,{"$f":"LEFT(VLOOKUP(W$5,Schedule!$A$8:$J$43,3,FALSE),15)","v":"1000Bulbs.com 5"},null,{"$f":"LEFT(VLOOKUP(Y$5,Schedule!$A$8:$J$43,3,FALSE),15)","v":"Hollywood Casin"},null,{"$f":"LEFT(VLOOKUP(AA$5,Schedule!$A$8:$J$43,3,FALSE),15)","v":"First Data 500"},null,{"$f":"LEFT(VLOOKUP(AC$5,Schedule!$A$8:$J$43,3,FALSE),15)","v":"AAA Texas 500"},null,{"$f":"LEFT(VLOOKUP(AE$5,Schedule!$A$8:$J$43,3,FALSE),15)","v":"MENCS Race at I"},null,{"$f":"LEFT(VLOOKUP(AG$5,Schedule!$A$8:$J$43,3,FALSE),15)","v":"Ford EcoBoost 4"}]
[null,null,null,null,null,null,null,null,null,null,null,null,null,null,{"$f":"VLOOKUP(O$5,Schedule!$A$8:$J$43,2,FALSE)","v":"2019-09-15"},null,{"$f":"VLOOKUP(Q$5,Schedule!$A$8:$J$43,2,FALSE)","v":"2019-09-21"},null,{"$f":"VLOOKUP(S$5,Schedule!$A$8:$J$43,2,FALSE)","v":"2019-09-29"},null,{"$f":"VLOOKUP(U$5,Schedule!$A$8:$J$43,2,FALSE)","v":"2019-10-06"},null,{"$f":"VLOOKUP(W$5,Schedule!$A$8:$J$43,2,FALSE)","v":"2019-10-13"},null,{"$f":"VLOOKUP(Y$5,Schedule!$A$8:$J$43,2,FALSE)","v":"2019-10-20"},null,{"$f":"VLOOKUP(AA$5,Schedule!$A$8:$J$43,2,FALSE)","v":"2019-10-27"},null,{"$f":"VLOOKUP(AC$5,Schedule!$A$8:$J$43,2,FALSE)","v":"2019-11-03"},null,{"$f":"VLOOKUP(AE$5,Schedule!$A$8:$J$43,2,FALSE)","v":"2019-11-10"},null,{"$f":"VLOOKUP(AG$5,Schedule!$A$8:$J$43,2,FALSE)","v":"2019-11-17"}]
[null,null,null,null,null,null,null,null,null,null,null,null,null,null,{"$f":"VLOOKUP(O$5,Schedule!$A$4:$J$43,5,FALSE)","v":"Las Vegas"},null,{"$f":"VLOOKUP(Q$5,Schedule!$A$4:$J$43,5,FALSE)","v":"Richmond "},null,{"$f":"VLOOKUP(S$5,Schedule!$A$4:$J$43,5,FALSE)","v":"Charlotte "},null,{"$f":"VLOOKUP(U$5,Schedule!$A$4:$J$43,5,FALSE)","v":"Dover "},null,{"$f":"VLOOKUP(W$5,Schedule!$A$4:$J$43,5,FALSE)","v":"Talladega "},null,{"$f":"VLOOKUP(Y$5,Schedule!$A$4:$J$43,5,FALSE)","v":"Kansas "},null,{"$f":"VLOOKUP(AA$5,Schedule!$A$4:$J$43,5,FALSE)","v":"Martinsville "},null,{"$f":"VLOOKUP(AC$5,Schedule!$A$4:$J$43,5,FALSE)","v":"Texas "},null,{"$f":"VLOOKUP(AE$5,Schedule!$A$4:$J$43,5,FALSE)","v":"Phoenix"},null,{"$f":"VLOOKUP(AG$5,Schedule!$A$4:$J$43,5,FALSE)","v":"Homestead–Miami "}]
["Owner","Week","Week","Week","Week","Week","Week","Week","Week","Week","Week",2,3,4,27,null,28,null,29,null,30,null,31,null,32,null,33,null,34,null,35,null,36,null,"Total"]
["Points",27,28,29,30,31,32,33,34,35,36,"Driver","Make","Sponsor","Points","Bonus","Points","Bonus","Points","Bonus","Points","Bonus","Points","Bonus","Points","Bonus","Points","Bonus","Points","Bonus","Points","Bonus","Points","Bonus","Points"]
[{"$f":"VLOOKUP(HLOOKUP('Pick Distribution'!$P$2,$B$6:$K$15,$L$5),'Current Owner Standings'!$A$71:$B$480,2,FALSE)","v":3},4,19,19,19,19,19,19,19,19,19,{"$f":"IF(ISNA(VLOOKUP($K7,'Cars & Results'!$A$6:$K$317,L$5,FALSE)),\"Invalid Number\",VLOOKUP($K7,'Cars & Results'!$A$6:$K$317,L$5,FALSE))","v":"Martin Truex Jr."},{"$f":"IF(ISNA(VLOOKUP($K7,'Cars & Results'!$A$6:$K$317,M$5,FALSE)),\"Invalid Number\",VLOOKUP($K7,'Cars & Results'!$A$6:$K$317,M$5,FALSE))","v":"Toyota"},{"$f":"IF(ISNA(VLOOKUP($K7,'Cars & Results'!$A$6:$K$317,N$5,FALSE)),\"Invalid Number\",VLOOKUP($K7,'Cars & Results'!$A$6:$K$317,N$5,FALSE))","v":"Joe Gibbs Racing"},{"$f":"IF(HLOOKUP(O$5,$B$6:$K$15,Points!$A3+1,FALSE)=\"TBD\",\"\",VLOOKUP(HLOOKUP(O$5,$B$6:$K$15,Points!$A3+1,FALSE),'Cars & Results'!$A$7:$BZ$317,2*O$5+6,FALSE))","v":51},{"$f":"IF(HLOOKUP(O$5,$B$6:$K$15,Points!$A3+1,FALSE)=\"TBD\",\"\",0)","v":0},{"$f":"IF(HLOOKUP(Q$5,$B$6:$K$15,Points!$A3+1,FALSE)=\"TBD\",\"\",VLOOKUP(HLOOKUP(Q$5,$B$6:$K$15,Points!$A3+1,FALSE),'Cars & Results'!$A$7:$BZ$317,2*Q$5+6,FALSE))","v":59},{"$f":"IF(HLOOKUP(Q$5,$B$6:$K$15,Points!$A3+1,FALSE)=\"TBD\",\"\",0)","v":0},{"$f":"IF(HLOOKUP(S$5,$B$6:$K$15,Points!$A3+1,FALSE)=\"TBD\",\"\",VLOOKUP(HLOOKUP(S$5,$B$6:$K$15,Points!$A3+1,FALSE),'Cars & Results'!$A$7:$BZ$317,2*S$5+6,FALSE))","v":34},{"$f":"IF(HLOOKUP(S$5,$B$6:$K$15,Points!$A3+1,FALSE)=\"TBD\",\"\",0)","v":0},{"$f":"IF(HLOOKUP(U$5,$B$6:$K$15,Points!$A3+1,FALSE)=\"TBD\",\"\",VLOOKUP(HLOOKUP(U$5,$B$6:$K$15,Points!$A3+1,FALSE),'Cars & Results'!$A$7:$BZ$317,2*U$5+6,FALSE))","v":54},{"$f":"IF(HLOOKUP(U$5,$B$6:$K$15,Points!$A3+1,FALSE)=\"TBD\",\"\",0)","v":0},{"$f":"IF(HLOOKUP(W$5,$B$6:$K$15,Points!$A3+1,FALSE)=\"TBD\",\"\",VLOOKUP(HLOOKUP(W$5,$B$6:$K$15,Points!$A3+1,FALSE),'Cars & Results'!$A$7:$BZ$317,2*W$5+6,FALSE))","v":11},{"$f":"IF(HLOOKUP(W$5,$B$6:$K$15,Points!$A3+1,FALSE)=\"TBD\",\"\",0)","v":0},{"$f":"IF(HLOOKUP(Y$5,$B$6:$K$15,Points!$A3+1,FALSE)=\"TBD\",\"\",VLOOKUP(HLOOKUP(Y$5,$B$6:$K$15,Points!$A3+1,FALSE),'Cars & Results'!$A$7:$BZ$317,2*Y$5+6,FALSE))","v":60},{"$f":"IF(HLOOKUP(Y$5,$B$6:$K$15,Points!$A3+1,FALSE)=\"TBD\",\"\",0)","v":0},{"$f":"IF(HLOOKUP(AA$5,$B$6:$K$15,Points!$A3+1,FALSE)=\"TBD\",\"\",VLOOKUP(HLOOKUP(AA$5,$B$6:$K$15,Points!$A3+1,FALSE),'Cars & Results'!$A$7:$BZ$317,2*AA$5+6,FALSE))","v":60},{"$f":"IF(HLOOKUP(AA$5,$B$6:$K$15,Points!$A3+1,FALSE)=\"TBD\",\"\",0)","v":0},{"$f":"IF(HLOOKUP(AC$5,$B$6:$K$15,Points!$A3+1,FALSE)=\"TBD\",\"\",VLOOKUP(HLOOKUP(AC$5,$B$6:$K$15,Points!$A3+1,FALSE),'Cars & Results'!$A$7:$BZ$317,2*AC$5+6,FALSE))","v":31},{"$f":"IF(HLOOKUP(AC$5,$B$6:$K$15,Points!$A3+1,FALSE)=\"TBD\",\"\",0)","v":0},{"$f":"IF(HLOOKUP(AE$5,$B$6:$K$15,Points!$A3+1,FALSE)=\"TBD\",\"\",VLOOKUP(HLOOKUP(AE$5,$B$6:$K$15,Points!$A3+1,FALSE),'Cars & Results'!$A$7:$BZ$317,2*AE$5+6,FALSE))","v":36},{"$f":"IF(HLOOKUP(AE$5,$B$6:$K$15,Points!$A3+1,FALSE)=\"TBD\",\"\",0)","v":0},{"$f":"IF(HLOOKUP(AG$5,$B$6:$K$15,Points!$A3+1,FALSE)=\"TBD\",\"\",VLOOKUP(HLOOKUP(AG$5,$B$6:$K$15,Points!$A3+1,FALSE),'Cars & Results'!$A$7:$BZ$317,2*AG$5+6,FALSE))","v":35},{"$f":"IF(HLOOKUP(AG$5,$B$6:$K$15,Points!$A3+1,FALSE)=\"TBD\",\"\",0)","v":0}]
[{"$f":"VLOOKUP(HLOOKUP('Pick Distribution'!$P$2,$B$6:$K$15,3),'Current Owner Standings'!$A$71:$B$480,2,FALSE)","v":9},12,1,24,88,14,14,24,24,24,24,{"$f":"IF(ISNA(VLOOKUP($K8,'Cars & Results'!$A$6:$K$317,L$5,FALSE)),\"Invalid Number\",VLOOKUP($K8,'Cars & Results'!$A$6:$K$317,L$5,FALSE))","v":"William Byron"},{"$f":"IF(ISNA(VLOOKUP($K8,'Cars & Results'!$A$6:$K$317,M$5,FALSE)),\"Invalid Number\",VLOOKUP($K8,'Cars & Results'!$A$6:$K$317,M$5,FALSE))","v":"Chevrolet"},{"$f":"IF(ISNA(VLOOKUP($K8,'Cars & Results'!$A$6:$K$317,N$5,FALSE)),\"Invalid Number\",VLOOKUP($K8,'Cars & Results'!$A$6:$K$317,N$5,FALSE))","v":"Hendrick Motorsports"},{"$f":"IF(HLOOKUP(O$5,$B$6:$K$15,Points!$A4+1,FALSE)=\"TBD\",\"\",VLOOKUP(HLOOKUP(O$5,$B$6:$K$15,Points!$A4+1,FALSE),'Cars & Results'!$A$7:$BZ$317,2*O$5+6,FALSE))","v":35},{"$f":"IF(HLOOKUP(O$5,$B$6:$KI$15,Points!$A4+1,FALSE)=\"TBD\",\"\",IF(VLOOKUP(HLOOKUP(O$5,$B$6:$K$15,Points!$A4+1,FALSE),'Cars & Results'!$A$7:$BZ$317,2*O$5+5)=1,O8*0.25,0))","v":0},{"$f":"IF(HLOOKUP(Q$5,$B$6:$K$15,Points!$A4+1,FALSE)=\"TBD\",\"\",VLOOKUP(HLOOKUP(Q$5,$B$6:$K$15,Points!$A4+1,FALSE),'Cars & Results'!$A$7:$BZ$317,2*Q$5+6,FALSE))","v":19},{"$f":"IF(HLOOKUP(Q$5,$B$6:$KI$15,Points!$A4+1,FALSE)=\"TBD\",\"\",IF(VLOOKUP(HLOOKUP(Q$5,$B$6:$K$15,Points!$A4+1,FALSE),'Cars & Results'!$A$7:$BZ$317,2*Q$5+5)=1,Q8*0.25,0))","v":0},{"$f":"IF(HLOOKUP(S$5,$B$6:$K$15,Points!$A4+1,FALSE)=\"TBD\",\"\",VLOOKUP(HLOOKUP(S$5,$B$6:$K$15,Points!$A4+1,FALSE),'Cars & Results'!$A$7:$BZ$317,2*S$5+6,FALSE))","v":41},{"$f":"IF(HLOOKUP(S$5,$B$6:$KI$15,Points!$A4+1,FALSE)=\"TBD\",\"\",IF(VLOOKUP(HLOOKUP(S$5,$B$6:$K$15,Points!$A4+1,FALSE),'Cars & Results'!$A$7:$BZ$317,2*S$5+5)=1,S8*0.25,0))","v":0},{"$f":"IF(HLOOKUP(U$5,$B$6:$K$15,Points!$A4+1,FALSE)=\"TBD\",\"\",VLOOKUP(HLOOKUP(U$5,$B$6:$K$15,Points!$A4+1,FALSE),'Cars & Results'!$A$7:$BZ$317,2*U$5+6,FALSE))","v":44},{"$f":"IF(HLOOKUP(U$5,$B$6:$KI$15,Points!$A4+1,FALSE)=\"TBD\",\"\",IF(VLOOKUP(HLOOKUP(U$5,$B$6:$K$15,Points!$A4+1,FALSE),'Cars & Results'!$A$7:$BZ$317,2*U$5+5)=1,U8*0.25,0))","v":0},{"$f":"IF(HLOOKUP(W$5,$B$6:$K$15,Points!$A4+1,FALSE)=\"TBD\",\"\",VLOOKUP(HLOOKUP(W$5,$B$6:$K$15,Points!$A4+1,FALSE),'Cars & Results'!$A$7:$BZ$317,2*W$5+6,FALSE))","v":24},{"$f":"IF(HLOOKUP(W$5,$B$6:$KI$15,Points!$A4+1,FALSE)=\"TBD\",\"\",IF(VLOOKUP(HLOOKUP(W$5,$B$6:$K$15,Points!$A4+1,FALSE),'Cars & Results'!$A$7:$BZ$317,2*W$5+5)=1,W8*0.25,0))","v":0},{"$f":"IF(HLOOKUP(Y$5,$B$6:$K$15,Points!$A4+1,FALSE)=\"TBD\",\"\",VLOOKUP(HLOOKUP(Y$5,$B$6:$K$15,Points!$A4+1,FALSE),'Cars & Results'!$A$7:$BZ$317,2*Y$5+6,FALSE))","v":9},{"$f":"IF(HLOOKUP(Y$5,$B$6:$KI$15,Points!$A4+1,FALSE)=\"TBD\",\"\",IF(VLOOKUP(HLOOKUP(Y$5,$B$6:$K$15,Points!$A4+1,FALSE),'Cars & Results'!$A$7:$BZ$317,2*Y$5+5)=1,Y8*0.25,0))","v":0},{"$f":"IF(HLOOKUP(AA$5,$B$6:$K$15,Points!$A4+1,FALSE)=\"TBD\",\"\",VLOOKUP(HLOOKUP(AA$5,$B$6:$K$15,Points!$A4+1,FALSE),'Cars & Results'!$A$7:$BZ$317,2*AA$5+6,FALSE))","v":45},{"$f":"IF(HLOOKUP(AA$5,$B$6:$KI$15,Points!$A4+1,FALSE)=\"TBD\",\"\",IF(VLOOKUP(HLOOKUP(AA$5,$B$6:$K$15,Points!$A4+1,FALSE),'Cars & Results'!$A$7:$BZ$317,2*AA$5+5)=1,AA8*0.25,0))","v":0},{"$f":"IF(HLOOKUP(AC$5,$B$6:$K$15,Points!$A4+1,FALSE)=\"TBD\",\"\",VLOOKUP(HLOOKUP(AC$5,$B$6:$K$15,Points!$A4+1,FALSE),'Cars & Results'!$A$7:$BZ$317,2*AC$5+6,FALSE))","v":21},{"$f":"IF(HLOOKUP(AC$5,$B$6:$KI$15,Points!$A4+1,FALSE)=\"TBD\",\"\",IF(VLOOKUP(HLOOKUP(AC$5,$B$6:$K$15,Points!$A4+1,FALSE),'Cars & Results'!$A$7:$BZ$317,2*AC$5+5)=1,AC8*0.25,0))","v":0},{"$f":"IF(HLOOKUP(AE$5,$B$6:$K$15,Points!$A4+1,FALSE)=\"TBD\",\"\",VLOOKUP(HLOOKUP(AE$5,$B$6:$K$15,Points!$A4+1,FALSE),'Cars & Results'!$A$7:$BZ$317,2*AE$5+6,FALSE))","v":23},{"$f":"IF(HLOOKUP(AE$5,$B$6:$KI$15,Points!$A4+1,FALSE)=\"TBD\",\"\",IF(VLOOKUP(HLOOKUP(AE$5,$B$6:$K$15,Points!$A4+1,FALSE),'Cars & Results'!$A$7:$BZ$317,2*AE$5+5)=1,AE8*0.25,0))","v":0},{"$f":"IF(HLOOKUP(AG$5,$B$6:$K$15,Points!$A4+1,FALSE)=\"TBD\",\"\",VLOOKUP(HLOOKUP(AG$5,$B$6:$K$15,Points!$A4+1,FALSE),'Cars & Results'!$A$7:$BZ$317,2*AG$5+6,FALSE))","v":1},{"$f":"IF(HLOOKUP(AG$5,$B$6:$KI$15,Points!$A4+1,FALSE)=\"TBD\",\"\",IF(VLOOKUP(HLOOKUP(AG$5,$B$6:$K$15,Points!$A4+1,FALSE),'Cars & Results'!$A$7:$BZ$317,2*AG$5+5)=1,AG8*0.25,0))","v":0}]
[{"$f":"VLOOKUP(HLOOKUP('Pick Distribution'!$P$2,$B$6:$K$15,4),'Current Owner Standings'!$A$71:$B$480,2,FALSE)","v":18},48,48,48,48,48,48,48,48,48,48,{"$f":"IF(ISNA(VLOOKUP($K9,'Cars & Results'!$A$6:$K$317,L$5,FALSE)),\"Invalid Number\",VLOOKUP($K9,'Cars & Results'!$A$6:$K$317,L$5,FALSE))","v":"Jimmie Johnson"},{"$f":"IF(ISNA(VLOOKUP($K9,'Cars & Results'!$A$6:$K$317,M$5,FALSE)),\"Invalid Number\",VLOOKUP($K9,'Cars & Results'!$A$6:$K$317,M$5,FALSE))","v":"Chevrolet"},{"$f":"IF(ISNA(VLOOKUP($K9,'Cars & Results'!$A$6:$K$317,N$5,FALSE)),\"Invalid Number\",VLOOKUP($K9,'Cars & Results'!$A$6:$K$317,N$5,FALSE))","v":"Hendrick Motorsports"},{"$f":"IF(HLOOKUP(O$5,$B$6:$K$15,Points!$A5+1,FALSE)=\"TBD\",\"\",VLOOKUP(HLOOKUP(O$5,$B$6:$K$15,Points!$A5+1,FALSE),'Cars & Results'!$A$7:$BZ$317,2*O$5+6,FALSE))","v":26},{"$f":"IF(HLOOKUP(O$5,$B$6:$K$15,Points!$A5+1,FALSE)=\"TBD\",\"\",IF(VLOOKUP(HLOOKUP(O$5,$B$6:$K$15,Points!$A5+1,FALSE),'Cars & Results'!$A$7:$BZ$317,2*O$5+5)<=5,O9*0.5,0))","v":0},{"$f":"IF(HLOOKUP(Q$5,$B$6:$K$15,Points!$A5+1,FALSE)=\"TBD\",\"\",VLOOKUP(HLOOKUP(Q$5,$B$6:$K$15,Points!$A5+1,FALSE),'Cars & Results'!$A$7:$BZ$317,2*Q$5+6,FALSE))","v":31},{"$f":"IF(HLOOKUP(Q$5,$B$6:$K$15,Points!$A5+1,FALSE)=\"TBD\",\"\",IF(VLOOKUP(HLOOKUP(Q$5,$B$6:$K$15,Points!$A5+1,FALSE),'Cars & Results'!$A$7:$BZ$317,2*Q$5+5)<=5,Q9*0.5,0))","v":0},{"$f":"IF(HLOOKUP(S$5,$B$6:$K$15,Points!$A5+1,FALSE)=\"TBD\",\"\",VLOOKUP(HLOOKUP(S$5,$B$6:$K$15,Points!$A5+1,FALSE),'Cars & Results'!$A$7:$BZ$317,2*S$5+6,FALSE))","v":35},{"$f":"IF(HLOOKUP(S$5,$B$6:$K$15,Points!$A5+1,FALSE)=\"TBD\",\"\",IF(VLOOKUP(HLOOKUP(S$5,$B$6:$K$15,Points!$A5+1,FALSE),'Cars & Results'!$A$7:$BZ$317,2*S$5+5)<=5,S9*0.5,0))","v":0},{"$f":"IF(HLOOKUP(U$5,$B$6:$K$15,Points!$A5+1,FALSE)=\"TBD\",\"\",VLOOKUP(HLOOKUP(U$5,$B$6:$K$15,Points!$A5+1,FALSE),'Cars & Results'!$A$7:$BZ$317,2*U$5+6,FALSE))","v":39},{"$f":"IF(HLOOKUP(U$5,$B$6:$K$15,Points!$A5+1,FALSE)=\"TBD\",\"\",IF(VLOOKUP(HLOOKUP(U$5,$B$6:$K$15,Points!$A5+1,FALSE),'Cars & Results'!$A$7:$BZ$317,2*U$5+5)<=5,U9*0.5,0))","v":0},{"$f":"IF(HLOOKUP(W$5,$B$6:$K$15,Points!$A5+1,FALSE)=\"TBD\",\"\",VLOOKUP(HLOOKUP(W$5,$B$6:$K$15,Points!$A5+1,FALSE),'Cars & Results'!$A$7:$BZ$317,2*W$5+6,FALSE))","v":5},{"$f":"IF(HLOOKUP(W$5,$B$6:$K$15,Points!$A5+1,FALSE)=\"TBD\",\"\",IF(VLOOKUP(HLOOKUP(W$5,$B$6:$K$15,Points!$A5+1,FALSE),'Cars & Results'!$A$7:$BZ$317,2*W$5+5)<=5,W9*0.5,0))","v":0},{"$f":"IF(HLOOKUP(Y$5,$B$6:$K$15,Points!$A5+1,FALSE)=\"TBD\",\"\",VLOOKUP(HLOOKUP(Y$5,$B$6:$K$15,Points!$A5+1,FALSE),'Cars & Results'!$A$7:$BZ$317,2*Y$5+6,FALSE))","v":1},{"$f":"IF(HLOOKUP(Y$5,$B$6:$K$15,Points!$A5+1,FALSE)=\"TBD\",\"\",IF(VLOOKUP(HLOOKUP(Y$5,$B$6:$K$15,Points!$A5+1,FALSE),'Cars & Results'!$A$7:$BZ$317,2*Y$5+5)<=5,Y9*0.5,0))","v":0},{"$f":"IF(HLOOKUP(AA$5,$B$6:$K$15,Points!$A5+1,FALSE)=\"TBD\",\"\",VLOOKUP(HLOOKUP(AA$5,$B$6:$K$15,Points!$A5+1,FALSE),'Cars & Results'!$A$7:$BZ$317,2*AA$5+6,FALSE))","v":1},{"$f":"IF(HLOOKUP(AA$5,$B$6:$K$15,Points!$A5+1,FALSE)=\"TBD\",\"\",IF(VLOOKUP(HLOOKUP(AA$5,$B$6:$K$15,Points!$A5+1,FALSE),'Cars & Results'!$A$7:$BZ$317,2*AA$5+5)<=5,AA9*0.5,0))","v":0},{"$f":"IF(HLOOKUP(AC$5,$B$6:$K$15,Points!$A5+1,FALSE)=\"TBD\",\"\",VLOOKUP(HLOOKUP(AC$5,$B$6:$K$15,Points!$A5+1,FALSE),'Cars & Results'!$A$7:$BZ$317,2*AC$5+6,FALSE))","v":11},{"$f":"IF(HLOOKUP(AC$5,$B$6:$K$15,Points!$A5+1,FALSE)=\"TBD\",\"\",IF(VLOOKUP(HLOOKUP(AC$5,$B$6:$K$15,Points!$A5+1,FALSE),'Cars & Results'!$A$7:$BZ$317,2*AC$5+5)<=5,AC9*0.5,0))","v":0},{"$f":"IF(HLOOKUP(AE$5,$B$6:$K$15,Points!$A5+1,FALSE)=\"TBD\",\"\",VLOOKUP(HLOOKUP(AE$5,$B$6:$K$15,Points!$A5+1,FALSE),'Cars & Results'!$A$7:$BZ$317,2*AE$5+6,FALSE))","v":23},{"$f":"IF(HLOOKUP(AE$5,$B$6:$K$15,Points!$A5+1,FALSE)=\"TBD\",\"\",IF(VLOOKUP(HLOOKUP(AE$5,$B$6:$K$15,Points!$A5+1,FALSE),'Cars & Results'!$A$7:$BZ$317,2*AE$5+5)<=5,AE9*0.5,0))","v":0},{"$f":"IF(HLOOKUP(AG$5,$B$6:$K$15,Points!$A5+1,FALSE)=\"TBD\",\"\",VLOOKUP(HLOOKUP(AG$5,$B$6:$K$15,Points!$A5+1,FALSE),'Cars & Results'!$A$7:$BZ$317,2*AG$5+6,FALSE))","v":28},{"$f":"IF(HLOOKUP(AG$5,$B$6:$K$15,Points!$A5+1,FALSE)=\"TBD\",\"\",IF(VLOOKUP(HLOOKUP(AG$5,$B$6:$K$15,Points!$A5+1,FALSE),'Cars & Results'!$A$7:$BZ$317,2*AG$5+5)<=5,AG9*0.5,0))","v":0}]
[{"$f":"VLOOKUP(HLOOKUP('Pick Distribution'!$P$2,$B$6:$K$15,5),'Current Owner Standings'!$A$71:$B$480,2,FALSE)","v":21},21,21,41,95,95,21,21,21,95,95,{"$f":"IF(ISNA(VLOOKUP($K10,'Cars & Results'!$A$6:$K$317,L$5,FALSE)),\"Invalid Number\",VLOOKUP($K10,'Cars & Results'!$A$6:$K$317,L$5,FALSE))","v":"Matt DiBenedetto"},{"$f":"IF(ISNA(VLOOKUP($K10,'Cars & Results'!$A$6:$K$317,M$5,FALSE)),\"Invalid Number\",VLOOKUP($K10,'Cars & Results'!$A$6:$K$317,M$5,FALSE))","v":"Toyota"},{"$f":"IF(ISNA(VLOOKUP($K10,'Cars & Results'!$A$6:$K$317,N$5,FALSE)),\"Invalid Number\",VLOOKUP($K10,'Cars & Results'!$A$6:$K$317,N$5,FALSE))","v":"Leavine Family Racing"},{"$f":"IF(HLOOKUP(O$5,$B$6:$K$15,Points!$A6+1,FALSE)=\"TBD\",\"\",VLOOKUP(HLOOKUP(O$5,$B$6:$K$15,Points!$A6+1,FALSE),'Cars & Results'!$A$7:$BZ$317,2*O$5+6,FALSE))","v":23},{"$f":"IF(HLOOKUP(O$5,$B$6:$K$15,Points!$A6+1,FALSE)=\"TBD\",\"\",IF(VLOOKUP(HLOOKUP(O$5,$B$6:$K$15,Points!$A6+1,FALSE),'Cars & Results'!$A$7:$BZ$317,2*O$5+5)<=5,O10*0.5,0))","v":0},{"$f":"IF(HLOOKUP(Q$5,$B$6:$K$15,Points!$A6+1,FALSE)=\"TBD\",\"\",VLOOKUP(HLOOKUP(Q$5,$B$6:$K$15,Points!$A6+1,FALSE),'Cars & Results'!$A$7:$BZ$317,2*Q$5+6,FALSE))","v":10},{"$f":"IF(HLOOKUP(Q$5,$B$6:$K$15,Points!$A6+1,FALSE)=\"TBD\",\"\",IF(VLOOKUP(HLOOKUP(Q$5,$B$6:$K$15,Points!$A6+1,FALSE),'Cars & Results'!$A$7:$BZ$317,2*Q$5+5)<=5,Q10*0.5,0))","v":0},{"$f":"IF(HLOOKUP(S$5,$B$6:$K$15,Points!$A6+1,FALSE)=\"TBD\",\"\",VLOOKUP(HLOOKUP(S$5,$B$6:$K$15,Points!$A6+1,FALSE),'Cars & Results'!$A$7:$BZ$317,2*S$5+6,FALSE))","v":7},{"$f":"IF(HLOOKUP(S$5,$B$6:$K$15,Points!$A6+1,FALSE)=\"TBD\",\"\",IF(VLOOKUP(HLOOKUP(S$5,$B$6:$K$15,Points!$A6+1,FALSE),'Cars & Results'!$A$7:$BZ$317,2*S$5+5)<=5,S10*0.5,0))","v":0},{"$f":"IF(HLOOKUP(U$5,$B$6:$K$15,Points!$A6+1,FALSE)=\"TBD\",\"\",VLOOKUP(HLOOKUP(U$5,$B$6:$K$15,Points!$A6+1,FALSE),'Cars & Results'!$A$7:$BZ$317,2*U$5+6,FALSE))","v":30},{"$f":"IF(HLOOKUP(U$5,$B$6:$K$15,Points!$A6+1,FALSE)=\"TBD\",\"\",IF(VLOOKUP(HLOOKUP(U$5,$B$6:$K$15,Points!$A6+1,FALSE),'Cars & Results'!$A$7:$BZ$317,2*U$5+5)<=5,U10*0.5,0))","v":0},{"$f":"IF(HLOOKUP(W$5,$B$6:$K$15,Points!$A6+1,FALSE)=\"TBD\",\"\",VLOOKUP(HLOOKUP(W$5,$B$6:$K$15,Points!$A6+1,FALSE),'Cars & Results'!$A$7:$BZ$317,2*W$5+6,FALSE))","v":7},{"$f":"IF(HLOOKUP(W$5,$B$6:$K$15,Points!$A6+1,FALSE)=\"TBD\",\"\",IF(VLOOKUP(HLOOKUP(W$5,$B$6:$K$15,Points!$A6+1,FALSE),'Cars & Results'!$A$7:$BZ$317,2*W$5+5)<=5,W10*0.5,0))","v":0},{"$f":"IF(HLOOKUP(Y$5,$B$6:$K$15,Points!$A6+1,FALSE)=\"TBD\",\"\",VLOOKUP(HLOOKUP(Y$5,$B$6:$K$15,Points!$A6+1,FALSE),'Cars & Results'!$A$7:$BZ$317,2*Y$5+6,FALSE))","v":16},{"$f":"IF(HLOOKUP(Y$5,$B$6:$K$15,Points!$A6+1,FALSE)=\"TBD\",\"\",IF(VLOOKUP(HLOOKUP(Y$5,$B$6:$K$15,Points!$A6+1,FALSE),'Cars & Results'!$A$7:$BZ$317,2*Y$5+5)<=5,Y10*0.5,0))","v":0},{"$f":"IF(HLOOKUP(AA$5,$B$6:$K$15,Points!$A6+1,FALSE)=\"TBD\",\"\",VLOOKUP(HLOOKUP(AA$5,$B$6:$K$15,Points!$A6+1,FALSE),'Cars & Results'!$A$7:$BZ$317,2*AA$5+6,FALSE))","v":16},{"$f":"IF(HLOOKUP(AA$5,$B$6:$K$15,Points!$A6+1,FALSE)=\"TBD\",\"\",IF(VLOOKUP(HLOOKUP(AA$5,$B$6:$K$15,Points!$A6+1,FALSE),'Cars & Results'!$A$7:$BZ$317,2*AA$5+5)<=5,AA10*0.5,0))","v":0},{"$f":"IF(HLOOKUP(AC$5,$B$6:$K$15,Points!$A6+1,FALSE)=\"TBD\",\"\",VLOOKUP(HLOOKUP(AC$5,$B$6:$K$15,Points!$A6+1,FALSE),'Cars & Results'!$A$7:$BZ$317,2*AC$5+6,FALSE))","v":17},{"$f":"IF(HLOOKUP(AC$5,$B$6:$K$15,Points!$A6+1,FALSE)=\"TBD\",\"\",IF(VLOOKUP(HLOOKUP(AC$5,$B$6:$K$15,Points!$A6+1,FALSE),'Cars & Results'!$A$7:$BZ$317,2*AC$5+5)<=5,AC10*0.5,0))","v":0},{"$f":"IF(HLOOKUP(AE$5,$B$6:$K$15,Points!$A6+1,FALSE)=\"TBD\",\"\",VLOOKUP(HLOOKUP(AE$5,$B$6:$K$15,Points!$A6+1,FALSE),'Cars & Results'!$A$7:$BZ$317,2*AE$5+6,FALSE))","v":24},{"$f":"IF(HLOOKUP(AE$5,$B$6:$K$15,Points!$A6+1,FALSE)=\"TBD\",\"\",IF(VLOOKUP(HLOOKUP(AE$5,$B$6:$K$15,Points!$A6+1,FALSE),'Cars & Results'!$A$7:$BZ$317,2*AE$5+5)<=5,AE10*0.5,0))","v":0},{"$f":"IF(HLOOKUP(AG$5,$B$6:$K$15,Points!$A6+1,FALSE)=\"TBD\",\"\",VLOOKUP(HLOOKUP(AG$5,$B$6:$K$15,Points!$A6+1,FALSE),'Cars & Results'!$A$7:$BZ$317,2*AG$5+6,FALSE))","v":17},{"$f":"IF(HLOOKUP(AG$5,$B$6:$K$15,Points!$A6+1,FALSE)=\"TBD\",\"\",IF(VLOOKUP(HLOOKUP(AG$5,$B$6:$K$15,Points!$A6+1,FALSE),'Cars & Results'!$A$7:$BZ$317,2*AG$5+5)<=5,AG10*0.5,0))","v":0}]
[{"$f":"VLOOKUP(HLOOKUP('Pick Distribution'!$P$2,$B$6:$K$15,6),'Current Owner Standings'!$A$71:$B$480,2,FALSE)","v":24},13,13,13,13,13,13,13,13,13,13,{"$f":"IF(ISNA(VLOOKUP($K11,'Cars & Results'!$A$6:$K$317,L$5,FALSE)),\"Invalid Number\",VLOOKUP($K11,'Cars & Results'!$A$6:$K$317,L$5,FALSE))","v":"Ty Dillon"},{"$f":"IF(ISNA(VLOOKUP($K11,'Cars & Results'!$A$6:$K$317,M$5,FALSE)),\"Invalid Number\",VLOOKUP($K11,'Cars & Results'!$A$6:$K$317,M$5,FALSE))","v":"Chevrolet"},{"$f":"IF(ISNA(VLOOKUP($K11,'Cars & Results'!$A$6:$K$317,N$5,FALSE)),\"Invalid Number\",VLOOKUP($K11,'Cars & Results'!$A$6:$K$317,N$5,FALSE))","v":"Germain Racing"},{"$f":"IF(HLOOKUP(O$5,$B$6:$K$15,Points!$A7+1,FALSE)=\"TBD\",\"\",VLOOKUP(HLOOKUP(O$5,$B$6:$K$15,Points!$A7+1,FALSE),'Cars & Results'!$A$7:$BZ$317,2*O$5+6,FALSE))","v":21},{"$f":"IF(HLOOKUP(O$5,$B$6:$K$15,Points!$A7+1,FALSE)=\"TBD\",\"\",IF(VLOOKUP(HLOOKUP(O$5,$B$6:$K$15,Points!$A7+1,FALSE),'Cars & Results'!$A$7:$BZ$317,2*O$5+5)<=10,O11*1.5,0))","v":0},{"$f":"IF(HLOOKUP(Q$5,$B$6:$K$15,Points!$A7+1,FALSE)=\"TBD\",\"\",VLOOKUP(HLOOKUP(Q$5,$B$6:$K$15,Points!$A7+1,FALSE),'Cars & Results'!$A$7:$BZ$317,2*Q$5+6,FALSE))","v":11},{"$f":"IF(HLOOKUP(Q$5,$B$6:$K$15,Points!$A7+1,FALSE)=\"TBD\",\"\",IF(VLOOKUP(HLOOKUP(Q$5,$B$6:$K$15,Points!$A7+1,FALSE),'Cars & Results'!$A$7:$BZ$317,2*Q$5+5)<=10,Q11*1.5,0))","v":0},{"$f":"IF(HLOOKUP(S$5,$B$6:$K$15,Points!$A7+1,FALSE)=\"TBD\",\"\",VLOOKUP(HLOOKUP(S$5,$B$6:$K$15,Points!$A7+1,FALSE),'Cars & Results'!$A$7:$BZ$317,2*S$5+6,FALSE))","v":22},{"$f":"IF(HLOOKUP(S$5,$B$6:$K$15,Points!$A7+1,FALSE)=\"TBD\",\"\",IF(VLOOKUP(HLOOKUP(S$5,$B$6:$K$15,Points!$A7+1,FALSE),'Cars & Results'!$A$7:$BZ$317,2*S$5+5)<=10,S11*1.5,0))","v":0},{"$f":"IF(HLOOKUP(U$5,$B$6:$K$15,Points!$A7+1,FALSE)=\"TBD\",\"\",VLOOKUP(HLOOKUP(U$5,$B$6:$K$15,Points!$A7+1,FALSE),'Cars & Results'!$A$7:$BZ$317,2*U$5+6,FALSE))","v":14},{"$f":"IF(HLOOKUP(U$5,$B$6:$K$15,Points!$A7+1,FALSE)=\"TBD\",\"\",IF(VLOOKUP(HLOOKUP(U$5,$B$6:$K$15,Points!$A7+1,FALSE),'Cars & Results'!$A$7:$BZ$317,2*U$5+5)<=10,U11*1.5,0))","v":0},{"$f":"IF(HLOOKUP(W$5,$B$6:$K$15,Points!$A7+1,FALSE)=\"TBD\",\"\",VLOOKUP(HLOOKUP(W$5,$B$6:$K$15,Points!$A7+1,FALSE),'Cars & Results'!$A$7:$BZ$317,2*W$5+6,FALSE))","v":27},{"$f":"IF(HLOOKUP(W$5,$B$6:$K$15,Points!$A7+1,FALSE)=\"TBD\",\"\",IF(VLOOKUP(HLOOKUP(W$5,$B$6:$K$15,Points!$A7+1,FALSE),'Cars & Results'!$A$7:$BZ$317,2*W$5+5)<=10,W11*1.5,0))","v":40.5},{"$f":"IF(HLOOKUP(Y$5,$B$6:$K$15,Points!$A7+1,FALSE)=\"TBD\",\"\",VLOOKUP(HLOOKUP(Y$5,$B$6:$K$15,Points!$A7+1,FALSE),'Cars & Results'!$A$7:$BZ$317,2*Y$5+6,FALSE))","v":13},{"$f":"IF(HLOOKUP(Y$5,$B$6:$K$15,Points!$A7+1,FALSE)=\"TBD\",\"\",IF(VLOOKUP(HLOOKUP(Y$5,$B$6:$K$15,Points!$A7+1,FALSE),'Cars & Results'!$A$7:$BZ$317,2*Y$5+5)<=10,Y11*1.5,0))","v":0},{"$f":"IF(HLOOKUP(AA$5,$B$6:$K$15,Points!$A7+1,FALSE)=\"TBD\",\"\",VLOOKUP(HLOOKUP(AA$5,$B$6:$K$15,Points!$A7+1,FALSE),'Cars & Results'!$A$7:$BZ$317,2*AA$5+6,FALSE))","v":13},{"$f":"IF(HLOOKUP(AA$5,$B$6:$K$15,Points!$A7+1,FALSE)=\"TBD\",\"\",IF(VLOOKUP(HLOOKUP(AA$5,$B$6:$K$15,Points!$A7+1,FALSE),'Cars & Results'!$A$7:$BZ$317,2*AA$5+5)<=10,AA11*1.5,0))","v":0},{"$f":"IF(HLOOKUP(AC$5,$B$6:$K$15,Points!$A7+1,FALSE)=\"TBD\",\"\",VLOOKUP(HLOOKUP(AC$5,$B$6:$K$15,Points!$A7+1,FALSE),'Cars & Results'!$A$7:$BZ$317,2*AC$5+6,FALSE))","v":19},{"$f":"IF(HLOOKUP(AC$5,$B$6:$K$15,Points!$A7+1,FALSE)=\"TBD\",\"\",IF(VLOOKUP(HLOOKUP(AC$5,$B$6:$K$15,Points!$A7+1,FALSE),'Cars & Results'!$A$7:$BZ$317,2*AC$5+5)<=10,AC11*1.5,0))","v":0},{"$f":"IF(HLOOKUP(AE$5,$B$6:$K$15,Points!$A7+1,FALSE)=\"TBD\",\"\",VLOOKUP(HLOOKUP(AE$5,$B$6:$K$15,Points!$A7+1,FALSE),'Cars & Results'!$A$7:$BZ$317,2*AE$5+6,FALSE))","v":17},{"$f":"IF(HLOOKUP(AE$5,$B$6:$K$15,Points!$A7+1,FALSE)=\"TBD\",\"\",IF(VLOOKUP(HLOOKUP(AE$5,$B$6:$K$15,Points!$A7+1,FALSE),'Cars & Results'!$A$7:$BZ$317,2*AE$5+5)<=10,AE11*1.5,0))","v":0},{"$f":"IF(HLOOKUP(AG$5,$B$6:$K$15,Points!$A7+1,FALSE)=\"TBD\",\"\",VLOOKUP(HLOOKUP(AG$5,$B$6:$K$15,Points!$A7+1,FALSE),'Cars & Results'!$A$7:$BZ$317,2*AG$5+6,FALSE))","v":13},{"$f":"IF(HLOOKUP(AG$5,$B$6:$K$15,Points!$A7+1,FALSE)=\"TBD\",\"\",IF(VLOOKUP(HLOOKUP(AG$5,$B$6:$K$15,Points!$A7+1,FALSE),'Cars & Results'!$A$7:$BZ$317,2*AG$5+5)<=10,AG11*1.5,0))","v":0}]
[{"$f":"VLOOKUP(HLOOKUP('Pick Distribution'!$P$2,$B$6:$K$15,7),'Current Owner Standings'!$A$71:$B$480,2,FALSE)","v":25},47,47,47,47,47,8,8,8,8,8,{"$f":"IF(ISNA(VLOOKUP($K12,'Cars & Results'!$A$6:$K$317,L$5,FALSE)),\"Invalid Number\",VLOOKUP($K12,'Cars & Results'!$A$6:$K$317,L$5,FALSE))","v":"Daniel Hemric (R)"},{"$f":"IF(ISNA(VLOOKUP($K12,'Cars & Results'!$A$6:$K$317,M$5,FALSE)),\"Invalid Number\",VLOOKUP($K12,'Cars & Results'!$A$6:$K$317,M$5,FALSE))","v":"Chevrolet"},{"$f":"IF(ISNA(VLOOKUP($K12,'Cars & Results'!$A$6:$K$317,N$5,FALSE)),\"Invalid Number\",VLOOKUP($K12,'Cars & Results'!$A$6:$K$317,N$5,FALSE))","v":"Richard Childress Racing"},{"$f":"IF(HLOOKUP(O$5,$B$6:$K$15,Points!$A8+1,FALSE)=\"TBD\",\"\",VLOOKUP(HLOOKUP(O$5,$B$6:$K$15,Points!$A8+1,FALSE),'Cars & Results'!$A$7:$BZ$317,2*O$5+6,FALSE))","v":10},{"$f":"IF(HLOOKUP(O$5,$B$6:$K$15,Points!$A8+1,FALSE)=\"TBD\",\"\",IF(VLOOKUP(HLOOKUP(O$5,$B$6:$K$15,Points!$A8+1,FALSE),'Cars & Results'!$A$7:$BZ$317,2*O$5+5)<=10,O12*1.5,0))","v":0},{"$f":"IF(HLOOKUP(Q$5,$B$6:$K$15,Points!$A8+1,FALSE)=\"TBD\",\"\",VLOOKUP(HLOOKUP(Q$5,$B$6:$K$15,Points!$A8+1,FALSE),'Cars & Results'!$A$7:$BZ$317,2*Q$5+6,FALSE))","v":7},{"$f":"IF(HLOOKUP(Q$5,$B$6:$K$15,Points!$A8+1,FALSE)=\"TBD\",\"\",IF(VLOOKUP(HLOOKUP(Q$5,$B$6:$K$15,Points!$A8+1,FALSE),'Cars & Results'!$A$7:$BZ$317,2*Q$5+5)<=10,Q12*1.5,0))","v":0},{"$f":"IF(HLOOKUP(S$5,$B$6:$K$15,Points!$A8+1,FALSE)=\"TBD\",\"\",VLOOKUP(HLOOKUP(S$5,$B$6:$K$15,Points!$A8+1,FALSE),'Cars & Results'!$A$7:$BZ$317,2*S$5+6,FALSE))","v":16},{"$f":"IF(HLOOKUP(S$5,$B$6:$K$15,Points!$A8+1,FALSE)=\"TBD\",\"\",IF(VLOOKUP(HLOOKUP(S$5,$B$6:$K$15,Points!$A8+1,FALSE),'Cars & Results'!$A$7:$BZ$317,2*S$5+5)<=10,S12*1.5,0))","v":0},{"$f":"IF(HLOOKUP(U$5,$B$6:$K$15,Points!$A8+1,FALSE)=\"TBD\",\"\",VLOOKUP(HLOOKUP(U$5,$B$6:$K$15,Points!$A8+1,FALSE),'Cars & Results'!$A$7:$BZ$317,2*U$5+6,FALSE))","v":18},{"$f":"IF(HLOOKUP(U$5,$B$6:$K$15,Points!$A8+1,FALSE)=\"TBD\",\"\",IF(VLOOKUP(HLOOKUP(U$5,$B$6:$K$15,Points!$A8+1,FALSE),'Cars & Results'!$A$7:$BZ$317,2*U$5+5)<=10,U12*1.5,0))","v":0},{"$f":"IF(HLOOKUP(W$5,$B$6:$K$15,Points!$A8+1,FALSE)=\"TBD\",\"\",VLOOKUP(HLOOKUP(W$5,$B$6:$K$15,Points!$A8+1,FALSE),'Cars & Results'!$A$7:$BZ$317,2*W$5+6,FALSE))","v":19},{"$f":"IF(HLOOKUP(W$5,$B$6:$K$15,Points!$A8+1,FALSE)=\"TBD\",\"\",IF(VLOOKUP(HLOOKUP(W$5,$B$6:$K$15,Points!$A8+1,FALSE),'Cars & Results'!$A$7:$BZ$317,2*W$5+5)<=10,W12*1.5,0))","v":0},{"$f":"IF(HLOOKUP(Y$5,$B$6:$K$15,Points!$A8+1,FALSE)=\"TBD\",\"\",VLOOKUP(HLOOKUP(Y$5,$B$6:$K$15,Points!$A8+1,FALSE),'Cars & Results'!$A$7:$BZ$317,2*Y$5+6,FALSE))","v":20},{"$f":"IF(HLOOKUP(Y$5,$B$6:$K$15,Points!$A8+1,FALSE)=\"TBD\",\"\",IF(VLOOKUP(HLOOKUP(Y$5,$B$6:$K$15,Points!$A8+1,FALSE),'Cars & Results'!$A$7:$BZ$317,2*Y$5+5)<=10,Y12*1.5,0))","v":0},{"$f":"IF(HLOOKUP(AA$5,$B$6:$K$15,Points!$A8+1,FALSE)=\"TBD\",\"\",VLOOKUP(HLOOKUP(AA$5,$B$6:$K$15,Points!$A8+1,FALSE),'Cars & Results'!$A$7:$BZ$317,2*AA$5+6,FALSE))","v":20},{"$f":"IF(HLOOKUP(AA$5,$B$6:$K$15,Points!$A8+1,FALSE)=\"TBD\",\"\",IF(VLOOKUP(HLOOKUP(AA$5,$B$6:$K$15,Points!$A8+1,FALSE),'Cars & Results'!$A$7:$BZ$317,2*AA$5+5)<=10,AA12*1.5,0))","v":0},{"$f":"IF(HLOOKUP(AC$5,$B$6:$K$15,Points!$A8+1,FALSE)=\"TBD\",\"\",VLOOKUP(HLOOKUP(AC$5,$B$6:$K$15,Points!$A8+1,FALSE),'Cars & Results'!$A$7:$BZ$317,2*AC$5+6,FALSE))","v":22},{"$f":"IF(HLOOKUP(AC$5,$B$6:$K$15,Points!$A8+1,FALSE)=\"TBD\",\"\",IF(VLOOKUP(HLOOKUP(AC$5,$B$6:$K$15,Points!$A8+1,FALSE),'Cars & Results'!$A$7:$BZ$317,2*AC$5+5)<=10,AC12*1.5,0))","v":0},{"$f":"IF(HLOOKUP(AE$5,$B$6:$K$15,Points!$A8+1,FALSE)=\"TBD\",\"\",VLOOKUP(HLOOKUP(AE$5,$B$6:$K$15,Points!$A8+1,FALSE),'Cars & Results'!$A$7:$BZ$317,2*AE$5+6,FALSE))","v":16},{"$f":"IF(HLOOKUP(AE$5,$B$6:$K$15,Points!$A8+1,FALSE)=\"TBD\",\"\",IF(VLOOKUP(HLOOKUP(AE$5,$B$6:$K$15,Points!$A8+1,FALSE),'Cars & Results'!$A$7:$BZ$317,2*AE$5+5)<=10,AE12*1.5,0))","v":0},{"$f":"IF(HLOOKUP(AG$5,$B$6:$K$15,Points!$A8+1,FALSE)=\"TBD\",\"\",VLOOKUP(HLOOKUP(AG$5,$B$6:$K$15,Points!$A8+1,FALSE),'Cars & Results'!$A$7:$BZ$317,2*AG$5+6,FALSE))","v":29},{"$f":"IF(HLOOKUP(AG$5,$B$6:$K$15,Points!$A8+1,FALSE)=\"TBD\",\"\",IF(VLOOKUP(HLOOKUP(AG$5,$B$6:$K$15,Points!$A8+1,FALSE),'Cars & Results'!$A$7:$BZ$317,2*AG$5+5)<=10,AG12*1.5,0))","v":0}]
[{"$f":"VLOOKUP(HLOOKUP('Pick Distribution'!$P$2,$B$6:$K$15,8),'Current Owner Standings'!$A$71:$B$480,2,FALSE)","v":31},15,15,15,15,15,15,15,15,38,38,{"$f":"IF(ISNA(VLOOKUP($K13,'Cars & Results'!$A$6:$K$317,L$5,FALSE)),\"Invalid Number\",VLOOKUP($K13,'Cars & Results'!$A$6:$K$317,L$5,FALSE))","v":"David Ragan"},{"$f":"IF(ISNA(VLOOKUP($K13,'Cars & Results'!$A$6:$K$317,M$5,FALSE)),\"Invalid Number\",VLOOKUP($K13,'Cars & Results'!$A$6:$K$317,M$5,FALSE))","v":"Ford"},{"$f":"IF(ISNA(VLOOKUP($K13,'Cars & Results'!$A$6:$K$317,N$5,FALSE)),\"Invalid Number\",VLOOKUP($K13,'Cars & Results'!$A$6:$K$317,N$5,FALSE))","v":"Front Row Motorsports"},{"$f":"IF(HLOOKUP(O$5,$B$6:$K$15,Points!$A9+1,FALSE)=\"TBD\",\"\",VLOOKUP(HLOOKUP(O$5,$B$6:$K$15,Points!$A9+1,FALSE),'Cars & Results'!$A$7:$BZ$317,2*O$5+6,FALSE))","v":6},{"$f":"IF(HLOOKUP(O$5,$B$6:$K$15,Points!$A9+1,FALSE)=\"TBD\",\"\",IF(VLOOKUP(HLOOKUP(O$5,$B$6:$K$15,Points!$A9+1,FALSE),'Cars & Results'!$A$7:$BZ$317,2*O$5+5)<=10,O13*2,0))","v":0},{"$f":"IF(HLOOKUP(Q$5,$B$6:$K$15,Points!$A9+1,FALSE)=\"TBD\",\"\",VLOOKUP(HLOOKUP(Q$5,$B$6:$K$15,Points!$A9+1,FALSE),'Cars & Results'!$A$7:$BZ$317,2*Q$5+6,FALSE))","v":1},{"$f":"IF(HLOOKUP(Q$5,$B$6:$K$15,Points!$A9+1,FALSE)=\"TBD\",\"\",IF(VLOOKUP(HLOOKUP(Q$5,$B$6:$K$15,Points!$A9+1,FALSE),'Cars & Results'!$A$7:$BZ$317,2*Q$5+5)<=10,Q13*2,0))","v":0},{"$f":"IF(HLOOKUP(S$5,$B$6:$K$15,Points!$A9+1,FALSE)=\"TBD\",\"\",VLOOKUP(HLOOKUP(S$5,$B$6:$K$15,Points!$A9+1,FALSE),'Cars & Results'!$A$7:$BZ$317,2*S$5+6,FALSE))","v":15},{"$f":"IF(HLOOKUP(S$5,$B$6:$K$15,Points!$A9+1,FALSE)=\"TBD\",\"\",IF(VLOOKUP(HLOOKUP(S$5,$B$6:$K$15,Points!$A9+1,FALSE),'Cars & Results'!$A$7:$BZ$317,2*S$5+5)<=10,S13*2,0))","v":0},{"$f":"IF(HLOOKUP(U$5,$B$6:$K$15,Points!$A9+1,FALSE)=\"TBD\",\"\",VLOOKUP(HLOOKUP(U$5,$B$6:$K$15,Points!$A9+1,FALSE),'Cars & Results'!$A$7:$BZ$317,2*U$5+6,FALSE))","v":6},{"$f":"IF(HLOOKUP(U$5,$B$6:$K$15,Points!$A9+1,FALSE)=\"TBD\",\"\",IF(VLOOKUP(HLOOKUP(U$5,$B$6:$K$15,Points!$A9+1,FALSE),'Cars & Results'!$A$7:$BZ$317,2*U$5+5)<=10,U13*2,0))","v":0},{"$f":"IF(HLOOKUP(W$5,$B$6:$K$15,Points!$A9+1,FALSE)=\"TBD\",\"\",VLOOKUP(HLOOKUP(W$5,$B$6:$K$15,Points!$A9+1,FALSE),'Cars & Results'!$A$7:$BZ$317,2*W$5+6,FALSE))","v":29},{"$f":"IF(HLOOKUP(W$5,$B$6:$K$15,Points!$A9+1,FALSE)=\"TBD\",\"\",IF(VLOOKUP(HLOOKUP(W$5,$B$6:$K$15,Points!$A9+1,FALSE),'Cars & Results'!$A$7:$BZ$317,2*W$5+5)<=10,W13*2,0))","v":0},{"$f":"IF(HLOOKUP(Y$5,$B$6:$K$15,Points!$A9+1,FALSE)=\"TBD\",\"\",VLOOKUP(HLOOKUP(Y$5,$B$6:$K$15,Points!$A9+1,FALSE),'Cars & Results'!$A$7:$BZ$317,2*Y$5+6,FALSE))","v":8},{"$f":"IF(HLOOKUP(Y$5,$B$6:$K$15,Points!$A9+1,FALSE)=\"TBD\",\"\",IF(VLOOKUP(HLOOKUP(Y$5,$B$6:$K$15,Points!$A9+1,FALSE),'Cars & Results'!$A$7:$BZ$317,2*Y$5+5)<=10,Y13*2,0))","v":0},{"$f":"IF(HLOOKUP(AA$5,$B$6:$K$15,Points!$A9+1,FALSE)=\"TBD\",\"\",VLOOKUP(HLOOKUP(AA$5,$B$6:$K$15,Points!$A9+1,FALSE),'Cars & Results'!$A$7:$BZ$317,2*AA$5+6,FALSE))","v":8},{"$f":"IF(HLOOKUP(AA$5,$B$6:$K$15,Points!$A9+1,FALSE)=\"TBD\",\"\",IF(VLOOKUP(HLOOKUP(AA$5,$B$6:$K$15,Points!$A9+1,FALSE),'Cars & Results'!$A$7:$BZ$317,2*AA$5+5)<=10,AA13*2,0))","v":0},{"$f":"IF(HLOOKUP(AC$5,$B$6:$K$15,Points!$A9+1,FALSE)=\"TBD\",\"\",VLOOKUP(HLOOKUP(AC$5,$B$6:$K$15,Points!$A9+1,FALSE),'Cars & Results'!$A$7:$BZ$317,2*AC$5+6,FALSE))","v":8},{"$f":"IF(HLOOKUP(AC$5,$B$6:$K$15,Points!$A9+1,FALSE)=\"TBD\",\"\",IF(VLOOKUP(HLOOKUP(AC$5,$B$6:$K$15,Points!$A9+1,FALSE),'Cars & Results'!$A$7:$BZ$317,2*AC$5+5)<=10,AC13*2,0))","v":0},{"$f":"IF(HLOOKUP(AE$5,$B$6:$K$15,Points!$A9+1,FALSE)=\"TBD\",\"\",VLOOKUP(HLOOKUP(AE$5,$B$6:$K$15,Points!$A9+1,FALSE),'Cars & Results'!$A$7:$BZ$317,2*AE$5+6,FALSE))","v":1},{"$f":"IF(HLOOKUP(AE$5,$B$6:$K$15,Points!$A9+1,FALSE)=\"TBD\",\"\",IF(VLOOKUP(HLOOKUP(AE$5,$B$6:$K$15,Points!$A9+1,FALSE),'Cars & Results'!$A$7:$BZ$317,2*AE$5+5)<=10,AE13*2,0))","v":0},{"$f":"IF(HLOOKUP(AG$5,$B$6:$K$15,Points!$A9+1,FALSE)=\"TBD\",\"\",VLOOKUP(HLOOKUP(AG$5,$B$6:$K$15,Points!$A9+1,FALSE),'Cars & Results'!$A$7:$BZ$317,2*AG$5+6,FALSE))","v":10},{"$f":"IF(HLOOKUP(AG$5,$B$6:$K$15,Points!$A9+1,FALSE)=\"TBD\",\"\",IF(VLOOKUP(HLOOKUP(AG$5,$B$6:$K$15,Points!$A9+1,FALSE),'Cars & Results'!$A$7:$BZ$317,2*AG$5+5)<=10,AG13*2,0))","v":0}]
[{"$f":"VLOOKUP(HLOOKUP('Pick Distribution'!$P$2,$B$6:$K$15,9),'Current Owner Standings'!$A$71:$B$480,2,FALSE)","v":36},53,52,96,52,96,96,27,27,27,27,{"$f":"IF(ISNA(VLOOKUP($K14,'Cars & Results'!$A$6:$K$317,L$5,FALSE)),\"Invalid Number\",VLOOKUP($K14,'Cars & Results'!$A$6:$K$317,L$5,FALSE))","v":"Ross Chastain (i)"},{"$f":"IF(ISNA(VLOOKUP($K14,'Cars & Results'!$A$6:$K$317,M$5,FALSE)),\"Invalid Number\",VLOOKUP($K14,'Cars & Results'!$A$6:$K$317,M$5,FALSE))","v":"Chevrolet"},{"$f":"IF(ISNA(VLOOKUP($K14,'Cars & Results'!$A$6:$K$317,N$5,FALSE)),\"Invalid Number\",VLOOKUP($K14,'Cars & Results'!$A$6:$K$317,N$5,FALSE))","v":"Premium Motorsports"},{"$f":"IF(HLOOKUP(O$5,$B$6:$K$15,Points!$A10+1,FALSE)=\"TBD\",\"\",VLOOKUP(HLOOKUP(O$5,$B$6:$K$15,Points!$A10+1,FALSE),'Cars & Results'!$A$7:$BZ$317,2*O$5+6,FALSE))","v":5},{"$f":"IF(HLOOKUP(O$5,$B$6:$K$15,Points!$A10+1,FALSE)=\"TBD\",\"\",IF(VLOOKUP(HLOOKUP(O$5,$B$6:$K$15,Points!$A10+1,FALSE),'Cars & Results'!$A$7:$BZ$317,2*O$5+5)<=10,O14*3,0))","v":0},{"$f":"IF(HLOOKUP(Q$5,$B$6:$K$15,Points!$A10+1,FALSE)=\"TBD\",\"\",VLOOKUP(HLOOKUP(Q$5,$B$6:$K$15,Points!$A10+1,FALSE),'Cars & Results'!$A$7:$BZ$317,2*Q$5+6,FALSE))","v":4},{"$f":"IF(HLOOKUP(Q$5,$B$6:$K$15,Points!$A10+1,FALSE)=\"TBD\",\"\",IF(VLOOKUP(HLOOKUP(Q$5,$B$6:$K$15,Points!$A10+1,FALSE),'Cars & Results'!$A$7:$BZ$317,2*Q$5+5)<=10,Q14*3,0))","v":0},{"$f":"IF(HLOOKUP(S$5,$B$6:$K$15,Points!$A10+1,FALSE)=\"TBD\",\"\",VLOOKUP(HLOOKUP(S$5,$B$6:$K$15,Points!$A10+1,FALSE),'Cars & Results'!$A$7:$BZ$317,2*S$5+6,FALSE))","v":11},{"$f":"IF(HLOOKUP(S$5,$B$6:$K$15,Points!$A10+1,FALSE)=\"TBD\",\"\",IF(VLOOKUP(HLOOKUP(S$5,$B$6:$K$15,Points!$A10+1,FALSE),'Cars & Results'!$A$7:$BZ$317,2*S$5+5)<=10,S14*3,0))","v":0},{"$f":"IF(HLOOKUP(U$5,$B$6:$K$15,Points!$A10+1,FALSE)=\"TBD\",\"\",VLOOKUP(HLOOKUP(U$5,$B$6:$K$15,Points!$A10+1,FALSE),'Cars & Results'!$A$7:$BZ$317,2*U$5+6,FALSE))","v":5},{"$f":"IF(HLOOKUP(U$5,$B$6:$K$15,Points!$A10+1,FALSE)=\"TBD\",\"\",IF(VLOOKUP(HLOOKUP(U$5,$B$6:$K$15,Points!$A10+1,FALSE),'Cars & Results'!$A$7:$BZ$317,2*U$5+5)<=10,U14*3,0))","v":0},{"$f":"IF(HLOOKUP(W$5,$B$6:$K$15,Points!$A10+1,FALSE)=\"TBD\",\"\",VLOOKUP(HLOOKUP(W$5,$B$6:$K$15,Points!$A10+1,FALSE),'Cars & Results'!$A$7:$BZ$317,2*W$5+6,FALSE))","v":22},{"$f":"IF(HLOOKUP(W$5,$B$6:$K$15,Points!$A10+1,FALSE)=\"TBD\",\"\",IF(VLOOKUP(HLOOKUP(W$5,$B$6:$K$15,Points!$A10+1,FALSE),'Cars & Results'!$A$7:$BZ$317,2*W$5+5)<=10,W14*3,0))","v":0},{"$f":"IF(HLOOKUP(Y$5,$B$6:$K$15,Points!$A10+1,FALSE)=\"TBD\",\"\",VLOOKUP(HLOOKUP(Y$5,$B$6:$K$15,Points!$A10+1,FALSE),'Cars & Results'!$A$7:$BZ$317,2*Y$5+6,FALSE))","v":0},{"$f":"IF(HLOOKUP(Y$5,$B$6:$K$15,Points!$A10+1,FALSE)=\"TBD\",\"\",IF(VLOOKUP(HLOOKUP(Y$5,$B$6:$K$15,Points!$A10+1,FALSE),'Cars & Results'!$A$7:$BZ$317,2*Y$5+5)<=10,Y14*3,0))","v":0},{"$f":"IF(HLOOKUP(AA$5,$B$6:$K$15,Points!$A10+1,FALSE)=\"TBD\",\"\",VLOOKUP(HLOOKUP(AA$5,$B$6:$K$15,Points!$A10+1,FALSE),'Cars & Results'!$A$7:$BZ$317,2*AA$5+6,FALSE))","v":4},{"$f":"IF(HLOOKUP(AA$5,$B$6:$K$15,Points!$A10+1,FALSE)=\"TBD\",\"\",IF(VLOOKUP(HLOOKUP(AA$5,$B$6:$K$15,Points!$A10+1,FALSE),'Cars & Results'!$A$7:$BZ$317,2*AA$5+5)<=10,AA14*3,0))","v":0},{"$f":"IF(HLOOKUP(AC$5,$B$6:$K$15,Points!$A10+1,FALSE)=\"TBD\",\"\",VLOOKUP(HLOOKUP(AC$5,$B$6:$K$15,Points!$A10+1,FALSE),'Cars & Results'!$A$7:$BZ$317,2*AC$5+6,FALSE))","v":6},{"$f":"IF(HLOOKUP(AC$5,$B$6:$K$15,Points!$A10+1,FALSE)=\"TBD\",\"\",IF(VLOOKUP(HLOOKUP(AC$5,$B$6:$K$15,Points!$A10+1,FALSE),'Cars & Results'!$A$7:$BZ$317,2*AC$5+5)<=10,AC14*3,0))","v":0},{"$f":"IF(HLOOKUP(AE$5,$B$6:$K$15,Points!$A10+1,FALSE)=\"TBD\",\"\",VLOOKUP(HLOOKUP(AE$5,$B$6:$K$15,Points!$A10+1,FALSE),'Cars & Results'!$A$7:$BZ$317,2*AE$5+6,FALSE))","v":3},{"$f":"IF(HLOOKUP(AE$5,$B$6:$K$15,Points!$A10+1,FALSE)=\"TBD\",\"\",IF(VLOOKUP(HLOOKUP(AE$5,$B$6:$K$15,Points!$A10+1,FALSE),'Cars & Results'!$A$7:$BZ$317,2*AE$5+5)<=10,AE14*3,0))","v":0},{"$f":"IF(HLOOKUP(AG$5,$B$6:$K$15,Points!$A10+1,FALSE)=\"TBD\",\"\",VLOOKUP(HLOOKUP(AG$5,$B$6:$K$15,Points!$A10+1,FALSE),'Cars & Results'!$A$7:$BZ$317,2*AG$5+6,FALSE))","v":2},{"$f":"IF(HLOOKUP(AG$5,$B$6:$K$15,Points!$A10+1,FALSE)=\"TBD\",\"\",IF(VLOOKUP(HLOOKUP(AG$5,$B$6:$K$15,Points!$A10+1,FALSE),'Cars & Results'!$A$7:$BZ$317,2*AG$5+5)<=10,AG14*3,0))","v":0}]
[{"$f":"VLOOKUP(HLOOKUP('Pick Distribution'!$P$2,$B$6:$K$15,10),'Current Owner Standings'!$A$71:$B$480,2,FALSE)","v":11},2,18,22,11,4,42,12,20,14,9,{"$f":"IF(ISNA(VLOOKUP($K15,'Cars & Results'!$A$6:$K$317,L$5,FALSE)),\"Invalid Number\",VLOOKUP($K15,'Cars & Results'!$A$6:$K$317,L$5,FALSE))","v":"Chase Elliott"},{"$f":"IF(ISNA(VLOOKUP($K15,'Cars & Results'!$A$6:$K$317,M$5,FALSE)),\"Invalid Number\",VLOOKUP($K15,'Cars & Results'!$A$6:$K$317,M$5,FALSE))","v":"Chevrolet"},{"$f":"IF(ISNA(VLOOKUP($K15,'Cars & Results'!$A$6:$K$317,N$5,FALSE)),\"Invalid Number\",VLOOKUP($K15,'Cars & Results'!$A$6:$K$317,N$5,FALSE))","v":"Hendrick Motorsports"},{"$f":"IF(HLOOKUP(O$5,$B$6:$K$15,Points!$A11+1,FALSE)=\"TBD\",\"\",VLOOKUP(HLOOKUP(O$5,$B$6:$K$15,Points!$A11+1,FALSE),'Cars & Results'!$A$7:$BZ$317,2*O$5+6,FALSE))","v":34},{"$f":"IF(HLOOKUP(O$5,$B$6:$K$15,Points!$A11+1,FALSE)=\"TBD\",\"\",IF(AND(VLOOKUP(HLOOKUP(O$5,$B$6:$K$15,Points!$A11+1,FALSE),'Cars & Results'!$A$7:$BZ$317,2*O$5+5)<=3,$A$15<=25),O15*1,IF(AND(VLOOKUP(HLOOKUP(O$5,$B$6:$K$15,Points!$A11+1,FALSE),'Cars & Results'!$A$7:$BZ$317,2*O$5+5)<=10,$A$15>25),O15*3,0)))","v":34},{"$f":"IF(HLOOKUP(Q$5,$B$6:$K$15,Points!$A11+1,FALSE)=\"TBD\",\"\",VLOOKUP(HLOOKUP(Q$5,$B$6:$K$15,Points!$A11+1,FALSE),'Cars & Results'!$A$7:$BZ$317,2*Q$5+6,FALSE))","v":54},54,{"$f":"IF(HLOOKUP(S$5,$B$6:$K$15,Points!$A11+1,FALSE)=\"TBD\",\"\",VLOOKUP(HLOOKUP(S$5,$B$6:$K$15,Points!$A11+1,FALSE),'Cars & Results'!$A$7:$BZ$317,2*S$5+6,FALSE))","v":34},0,{"$f":"IF(HLOOKUP(U$5,$B$6:$K$15,Points!$A11+1,FALSE)=\"TBD\",\"\",VLOOKUP(HLOOKUP(U$5,$B$6:$K$15,Points!$A11+1,FALSE),'Cars & Results'!$A$7:$BZ$317,2*U$5+6,FALSE))","v":50},0,{"$f":"IF(HLOOKUP(W$5,$B$6:$K$15,Points!$A11+1,FALSE)=\"TBD\",\"\",VLOOKUP(HLOOKUP(W$5,$B$6:$K$15,Points!$A11+1,FALSE),'Cars & Results'!$A$7:$BZ$317,2*W$5+6,FALSE))","v":20},0,{"$f":"IF(HLOOKUP(Y$5,$B$6:$K$15,Points!$A11+1,FALSE)=\"TBD\",\"\",VLOOKUP(HLOOKUP(Y$5,$B$6:$K$15,Points!$A11+1,FALSE),'Cars & Results'!$A$7:$BZ$317,2*Y$5+6,FALSE))","v":37},0,{"$f":"IF(HLOOKUP(AA$5,$B$6:$K$15,Points!$A11+1,FALSE)=\"TBD\",\"\",VLOOKUP(HLOOKUP(AA$5,$B$6:$K$15,Points!$A11+1,FALSE),'Cars & Results'!$A$7:$BZ$317,2*AA$5+6,FALSE))","v":48},0,{"$f":"IF(HLOOKUP(AC$5,$B$6:$K$15,Points!$A11+1,FALSE)=\"TBD\",\"\",VLOOKUP(HLOOKUP(AC$5,$B$6:$K$15,Points!$A11+1,FALSE),'Cars & Results'!$A$7:$BZ$317,2*AC$5+6,FALSE))","v":36},0,{"$f":"IF(HLOOKUP(AE$5,$B$6:$K$15,Points!$A11+1,FALSE)=\"TBD\",\"\",VLOOKUP(HLOOKUP(AE$5,$B$6:$K$15,Points!$A11+1,FALSE),'Cars & Results'!$A$7:$BZ$317,2*AE$5+6,FALSE))","v":29},0,{"$f":"IF(HLOOKUP(AG$5,$B$6:$K$15,Points!$A11+1,FALSE)=\"TBD\",\"\",VLOOKUP(HLOOKUP(AG$5,$B$6:$K$15,Points!$A11+1,FALSE),'Cars & Results'!$A$7:$BZ$317,2*AG$5+6,FALSE))","v":22},{"$f":"IF(HLOOKUP(AG$5,$B$6:$K$15,Points!$A11+1,FALSE)=\"TBD\",\"\",IF(AND(VLOOKUP(HLOOKUP(AG$5,$B$6:$K$15,Points!$A11+1,FALSE),'Cars & Results'!$A$7:$BZ$317,2*AG$5+5)<=3,$A$15<=25),AG15*1,IF(AND(VLOOKUP(HLOOKUP(AG$5,$B$6:$K$15,Points!$A11+1,FALSE),'Cars & Results'!$A$7:$BZ$317,2*AG$5+5)<=10,$A$15>25),AG15*3,0)))","v":0}]
[null,null,null,null,null,null,null,null,null,null,null,null,null,"Segment 1",null,{"$f":"IF(INDIRECT(ADDRESS(321,5+(O5*2),1,1,\"Cars & Results\"),TRUE)=\"Y\",IF(ISERROR(MATCH(INDIRECT(ADDRESS(318,5+(O5*2),1,1,\"Cars & Results\"),TRUE),B7:B15,0))=TRUE,0,10),\"\")","v":0},null,{"$f":"IF(INDIRECT(ADDRESS(321,5+(Q5*2),1,1,\"Cars & Results\"),TRUE)=\"Y\",IF(ISERROR(MATCH(INDIRECT(ADDRESS(318,5+(Q5*2),1,1,\"Cars & Results\"),TRUE),C7:C15,0))=TRUE,0,10),\"\")","v":10},null,{"$f":"IF(INDIRECT(ADDRESS(321,5+(S5*2),1,1,\"Cars & Results\"),TRUE)=\"Y\",IF(ISERROR(MATCH(INDIRECT(ADDRESS(318,5+(S5*2),1,1,\"Cars & Results\"),TRUE),D7:D15,0))=TRUE,0,10),\"\")","v":0},null,{"$f":"IF(INDIRECT(ADDRESS(321,5+(U5*2),1,1,\"Cars & Results\"),TRUE)=\"Y\",IF(ISERROR(MATCH(INDIRECT(ADDRESS(318,5+(U5*2),1,1,\"Cars & Results\"),TRUE),E7:E15,0))=TRUE,0,10),\"\")","v":10},null,{"$f":"IF(INDIRECT(ADDRESS(321,5+(W5*2),1,1,\"Cars & Results\"),TRUE)=\"Y\",IF(ISERROR(MATCH(INDIRECT(ADDRESS(318,5+(W5*2),1,1,\"Cars & Results\"),TRUE),F7:F15,0))=TRUE,0,10),\"\")","v":0},null,{"$f":"IF(INDIRECT(ADDRESS(321,5+(Y5*2),1,1,\"Cars & Results\"),TRUE)=\"Y\",IF(ISERROR(MATCH(INDIRECT(ADDRESS(318,5+(Y5*2),1,1,\"Cars & Results\"),TRUE),G7:G15,0))=TRUE,0,10),\"\")","v":10},null,{"$f":"IF(INDIRECT(ADDRESS(321,5+(AA5*2),1,1,\"Cars & Results\"),TRUE)=\"Y\",IF(ISERROR(MATCH(INDIRECT(ADDRESS(318,5+(AA5*2),1,1,\"Cars & Results\"),TRUE),H7:H15,0))=TRUE,0,10),\"\")","v":10},null,{"$f":"IF(INDIRECT(ADDRESS(321,5+(AC5*2),1,1,\"Cars & Results\"),TRUE)=\"Y\",IF(ISERROR(MATCH(INDIRECT(ADDRESS(318,5+(AC5*2),1,1,\"Cars & Results\"),TRUE),I7:I15,0))=TRUE,0,10),\"\")","v":0},null,{"$f":"IF(INDIRECT(ADDRESS(321,5+(AE5*2),1,1,\"Cars & Results\"),TRUE)=\"Y\",IF(ISERROR(MATCH(INDIRECT(ADDRESS(318,5+(AE5*2),1,1,\"Cars & Results\"),TRUE),J7:J15,0))=TRUE,0,10),\"\")","v":0},null,{"$f":"IF(INDIRECT(ADDRESS(321,5+(AG5*2),1,1,\"Cars & Results\"),TRUE)=\"Y\",IF(ISERROR(MATCH(INDIRECT(ADDRESS(318,5+(AG5*2),1,1,\"Cars & Results\"),TRUE),K7:K15,0))=TRUE,0,10),\"\")","v":0}]
[null,null,null,null,null,null,null,null,null,null,null,null,null,"Segment 2",null,{"$f":"IF(INDIRECT(ADDRESS(321,5+(O5*2),1,1,\"Cars & Results\"),TRUE)=\"Y\",IF(ISERROR(MATCH(INDIRECT(ADDRESS(319,5+(O5*2),1,1,\"Cars & Results\"),TRUE),B7:B15,0))=TRUE,0,10),\"\")","v":0},null,{"$f":"IF(INDIRECT(ADDRESS(321,5+(Q5*2),1,1,\"Cars & Results\"),TRUE)=\"Y\",IF(ISERROR(MATCH(INDIRECT(ADDRESS(319,5+(Q5*2),1,1,\"Cars & Results\"),TRUE),C7:C15,0))=TRUE,0,10),\"\")","v":10},null,{"$f":"IF(INDIRECT(ADDRESS(321,5+(S5*2),1,1,\"Cars & Results\"),TRUE)=\"Y\",IF(ISERROR(MATCH(INDIRECT(ADDRESS(319,5+(S5*2),1,1,\"Cars & Results\"),TRUE),D7:D15,0))=TRUE,0,10),\"\")","v":0},null,{"$f":"IF(INDIRECT(ADDRESS(321,5+(U5*2),1,1,\"Cars & Results\"),TRUE)=\"Y\",IF(ISERROR(MATCH(INDIRECT(ADDRESS(319,5+(U5*2),1,1,\"Cars & Results\"),TRUE),E7:E15,0))=TRUE,0,10),\"\")","v":10},null,{"$f":"IF(INDIRECT(ADDRESS(321,5+(W5*2),1,1,\"Cars & Results\"),TRUE)=\"Y\",IF(ISERROR(MATCH(INDIRECT(ADDRESS(319,5+(W5*2),1,1,\"Cars & Results\"),TRUE),F7:F15,0))=TRUE,0,10),\"\")","v":10},null,{"$f":"IF(INDIRECT(ADDRESS(321,5+(Y5*2),1,1,\"Cars & Results\"),TRUE)=\"Y\",IF(ISERROR(MATCH(INDIRECT(ADDRESS(319,5+(Y5*2),1,1,\"Cars & Results\"),TRUE),G7:G15,0))=TRUE,0,10),\"\")","v":10},null,{"$f":"IF(INDIRECT(ADDRESS(321,5+(AA5*2),1,1,\"Cars & Results\"),TRUE)=\"Y\",IF(ISERROR(MATCH(INDIRECT(ADDRESS(319,5+(AA5*2),1,1,\"Cars & Results\"),TRUE),H7:H15,0))=TRUE,0,10),\"\")","v":10},null,{"$f":"IF(INDIRECT(ADDRESS(321,5+(AC5*2),1,1,\"Cars & Results\"),TRUE)=\"Y\",IF(ISERROR(MATCH(INDIRECT(ADDRESS(319,5+(AC5*2),1,1,\"Cars & Results\"),TRUE),I7:I15,0))=TRUE,0,10),\"\")","v":0},null,{"$f":"IF(INDIRECT(ADDRESS(321,5+(AE5*2),1,1,\"Cars & Results\"),TRUE)=\"Y\",IF(ISERROR(MATCH(INDIRECT(ADDRESS(319,5+(AE5*2),1,1,\"Cars & Results\"),TRUE),J7:J15,0))=TRUE,0,10),\"\")","v":0},null,{"$f":"IF(INDIRECT(ADDRESS(321,5+(AG5*2),1,1,\"Cars & Results\"),TRUE)=\"Y\",IF(ISERROR(MATCH(INDIRECT(ADDRESS(319,5+(AG5*2),1,1,\"Cars & Results\"),TRUE),K7:K15,0))=TRUE,0,10),\"\")","v":0}]
[null,null,null,null,null,null,null,null,null,null,null,null,null,"Segment 3",null,{"$f":"IF(INDIRECT(ADDRESS(321,5+(O5*2),1,1,\"Cars & Results\"),TRUE)=\"Y\",IF(ISERROR(MATCH(INDIRECT(ADDRESS(320,5+(O5*2),1,1,\"Cars & Results\"),TRUE),B7:B15,0))=TRUE,0,15),\"\")","v":0},null,{"$f":"IF(INDIRECT(ADDRESS(321,5+(Q5*2),1,1,\"Cars & Results\"),TRUE)=\"Y\",IF(ISERROR(MATCH(INDIRECT(ADDRESS(320,5+(Q5*2),1,1,\"Cars & Results\"),TRUE),C7:C15,0))=TRUE,0,15),\"\")","v":15},null,{"$f":"IF(INDIRECT(ADDRESS(321,5+(S5*2),1,1,\"Cars & Results\"),TRUE)=\"Y\",IF(ISERROR(MATCH(INDIRECT(ADDRESS(320,5+(S5*2),1,1,\"Cars & Results\"),TRUE),D7:D15,0))=TRUE,0,15),\"\")","v":0},null,{"$f":"IF(INDIRECT(ADDRESS(321,5+(U5*2),1,1,\"Cars & Results\"),TRUE)=\"Y\",IF(ISERROR(MATCH(INDIRECT(ADDRESS(320,5+(U5*2),1,1,\"Cars & Results\"),TRUE),E7:E15,0))=TRUE,0,15),\"\")","v":0},null,{"$f":"IF(INDIRECT(ADDRESS(321,5+(W5*2),1,1,\"Cars & Results\"),TRUE)=\"Y\",IF(ISERROR(MATCH(INDIRECT(ADDRESS(320,5+(W5*2),1,1,\"Cars & Results\"),TRUE),F7:F15,0))=TRUE,0,15),\"\")","v":0},null,{"$f":"IF(INDIRECT(ADDRESS(321,5+(Y5*2),1,1,\"Cars & Results\"),TRUE)=\"Y\",IF(ISERROR(MATCH(INDIRECT(ADDRESS(320,5+(Y5*2),1,1,\"Cars & Results\"),TRUE),G7:G15,0))=TRUE,0,15),\"\")","v":15},null,{"$f":"IF(INDIRECT(ADDRESS(321,5+(AA5*2),1,1,\"Cars & Results\"),TRUE)=\"Y\",IF(ISERROR(MATCH(INDIRECT(ADDRESS(320,5+(AA5*2),1,1,\"Cars & Results\"),TRUE),H7:H15,0))=TRUE,0,15),\"\")","v":15},null,{"$f":"IF(INDIRECT(ADDRESS(321,5+(AC5*2),1,1,\"Cars & Results\"),TRUE)=\"Y\",IF(ISERROR(MATCH(INDIRECT(ADDRESS(320,5+(AC5*2),1,1,\"Cars & Results\"),TRUE),I7:I15,0))=TRUE,0,15),\"\")","v":0},null,{"$f":"IF(INDIRECT(ADDRESS(321,5+(AE5*2),1,1,\"Cars & Results\"),TRUE)=\"Y\",IF(ISERROR(MATCH(INDIRECT(ADDRESS(320,5+(AE5*2),1,1,\"Cars & Results\"),TRUE),J7:J15,0))=TRUE,0,15),\"\")","v":0},null,{"$f":"IF(INDIRECT(ADDRESS(321,5+(AG5*2),1,1,\"Cars & Results\"),TRUE)=\"Y\",IF(ISERROR(MATCH(INDIRECT(ADDRESS(320,5+(AG5*2),1,1,\"Cars & Results\"),TRUE),K7:K15,0))=TRUE,0,15),\"\")","v":0}]
[null,{"$f":"SUM(B7:B15)","v":215},234,325,388,351,276,187,195,null,null,null,null,null,{"$f":"SUM(O7:O15)","v":211},null,{"$f":"SUM(Q7:Q15)","v":196},null,{"$f":"SUM(S7:S15)","v":215},null,{"$f":"SUM(U7:U15)","v":260},null,{"$f":"SUM(W7:W15)","v":164},null,{"$f":"SUM(Y7:Y15)","v":164},null,{"$f":"SUM(AA7:AA15)","v":215},null,{"$f":"SUM(AC7:AC15)","v":171},null,{"$f":"SUM(AE7:AE15)","v":172},null,{"$f":"SUM(AG7:AG15)","v":157}]
[null,null,null,null,null,null,null,null,null,null,null,null,null,null,null,{"$f":"SUM(P7:P19)","v":34},null,{"$f":"SUM(R7:R19)","v":89},null,{"$f":"SUM(T7:T19)","v":0},null,{"$f":"SUM(V7:V19)","v":20},null,{"$f":"SUM(X7:X19)","v":50.5},null,{"$f":"SUM(Z7:Z19)","v":35},null,{"$f":"SUM(AB7:AB19)","v":35},null,{"$f":"SUM(AD7:AD19)","v":0},null,{"$f":"SUM(AF7:AF19)","v":0},null,{"$f":"SUM(AH7:AH19)","v":0}]
[null,null,null,null,null,null,null,null,null,null,null,null,null,"Race Total",{"$f":"O19+P20","v":245},null,{"$f":"Q19+R20","v":285},null,{"$f":"S19+T20","v":215},null,{"$f":"U19+V20","v":280},null,{"$f":"W19+X20","v":214.5},null,{"$f":"Y19+Z20","v":199},null,{"$f":"AA19+AB20","v":250},null,{"$f":"AC19+AD20","v":171},null,{"$f":"AE19+AF20","v":172},null,{"$f":"AG19+AH20","v":157},null,{"$f":"SUM(O21:AH21)","v":2188.5}]
[null,null,null,null,null,null,null,null,null,null,"1-8"]
[null,null,null,null,null,null,null,null,null,null,"9-16"]
[null,null,null,null,null,null,null,null,null,null,"17-23"]
[null,null,null,null,null,null,null,null,null,null,"24-30"]
[null,null,null,null,null,null,null,null,null,null,"31-35"]
[null,null,null,null,null,null,null,null,null,null,">35"]
[null,null,null,null,null,null,null,null,null,null,"Provisional"]

{"sheet":"Donna McLean","index":13,"n_rows":28,"n_cols":35,"rows_kept":28,"cut":false,"hidden":false,"merged":[[4,28,4,29],[4,30,4,31],[4,32,4,33],[20,28,20,29],[20,30,20,31],[20,32,20,33],[2,28,2,29],[2,30,2,31],[2,32,2,33],[3,28,3,29],[3,30,3,31],[3,32,3,33],[0,28,0,29],[0,30,0,31],[0,32,0,33],[1,28,1,29],[1,30,1,31],[1,32,1,33],[4,22,4,23],[4,24,4,25],[4,26,4,27],[20,14,20,15],[20,16,20,17],[20,18,20,19],[20,20,20,21],[20,22,20,23],[20,24,20,25],[20,26,20,27],[4,14,4,15],[4,16,4,17],[4,18,4,19],[4,20,4,21],[2,26,2,27],[3,26,3,27],[3,16,3,17],[3,18,3,19],[3,20,3,21],[3,22,3,23],[3,24,3,25],[2,22,2,23],[2,18,2,19],[2,20,2,21],[0,26,0,27],[1,22,1,23],[0,14,0,15],[0,16,0,17],[0,18,0,19],[0,20,0,21],[1,14,1,15],[1,16,1,17],[1,18,1,19],[1,20,1,21],[1,24,1,25],[1,26,1,27],[3,14,3,15],[2,14,2,15],[2,16,2,17],[0,22,0,23],[0,24,0,25],[2,24,2,25]]}
[null,null,null,null,null,null,null,null,null,null,null,null,null,null,{"$f":"VLOOKUP(O$5,Schedule!$A$8:$J$43,2,FALSE)","v":"2019-09-15"},null,{"$f":"VLOOKUP(Q$5,Schedule!$A$8:$J$43,2,FALSE)","v":"2019-09-21"},null,{"$f":"VLOOKUP(S$5,Schedule!$A$8:$J$43,2,FALSE)","v":"2019-09-29"},null,{"$f":"VLOOKUP(U$5,Schedule!$A$8:$J$43,2,FALSE)","v":"2019-10-06"},null,{"$f":"VLOOKUP(W$5,Schedule!$A$8:$J$43,2,FALSE)","v":"2019-10-13"},null,{"$f":"VLOOKUP(Y$5,Schedule!$A$8:$J$43,2,FALSE)","v":"2019-10-20"},null,{"$f":"VLOOKUP(AA$5,Schedule!$A$8:$J$43,2,FALSE)","v":"2019-10-27"},null,{"$f":"VLOOKUP(AC$5,Schedule!$A$8:$J$43,2,FALSE)","v":"2019-11-03"},null,{"$f":"VLOOKUP(AE$5,Schedule!$A$8:$J$43,2,FALSE)","v":"2019-11-10"},null,{"$f":"VLOOKUP(AG$5,Schedule!$A$8:$J$43,2,FALSE)","v":"2019-11-17"}]
[null,null,null,null,null,null,null,null,null,null,null,null,null,null,{"$f":"LEFT(VLOOKUP(O$5,Schedule!$A$8:$J$43,3,FALSE),15)","v":"South Point 400"},null,{"$f":"LEFT(VLOOKUP(Q$5,Schedule!$A$8:$J$43,3,FALSE),15)","v":"Federated Auto "},null,{"$f":"LEFT(VLOOKUP(S$5,Schedule!$A$8:$J$43,3,FALSE),15)","v":"Bank of America"},null,{"$f":"LEFT(VLOOKUP(U$5,Schedule!$A$8:$J$43,3,FALSE),15)","v":"MENCS Race at D"},null,{"$f":"LEFT(VLOOKUP(W$5,Schedule!$A$8:$J$43,3,FALSE),15)","v":"1000Bulbs.com 5"},null,{"$f":"LEFT(VLOOKUP(Y$5,Schedule!$A$8:$J$43,3,FALSE),15)","v":"Hollywood Casin"},null,{"$f":"LEFT(VLOOKUP(AA$5,Schedule!$A$8:$J$43,3,FALSE),15)","v":"First Data 500"},null,{"$f":"LEFT(VLOOKUP(AC$5,Schedule!$A$8:$J$43,3,FALSE),15)","v":"AAA Texas 500"},null,{"$f":"LEFT(VLOOKUP(AE$5,Schedule!$A$8:$J$43,3,FALSE),15)","v":"MENCS Race at I"},null,{"$f":"LEFT(VLOOKUP(AG$5,Schedule!$A$8:$J$43,3,FALSE),15)","v":"Ford EcoBoost 4"}]
[null,null,null,null,null,null,null,null,null,null,null,null,null,null,{"$f":"VLOOKUP(O$5,Schedule!$A$8:$J$43,2,FALSE)","v":"2019-09-15"},null,{"$f":"VLOOKUP(Q$5,Schedule!$A$8:$J$43,2,FALSE)","v":"2019-09-21"},null,{"$f":"VLOOKUP(S$5,Schedule!$A$8:$J$43,2,FALSE)","v":"2019-09-29"},null,{"$f":"VLOOKUP(U$5,Schedule!$A$8:$J$43,2,FALSE)","v":"2019-10-06"},null,{"$f":"VLOOKUP(W$5,Schedule!$A$8:$J$43,2,FALSE)","v":"2019-10-13"},null,{"$f":"VLOOKUP(Y$5,Schedule!$A$8:$J$43,2,FALSE)","v":"2019-10-20"},null,{"$f":"VLOOKUP(AA$5,Schedule!$A$8:$J$43,2,FALSE)","v":"2019-10-27"},null,{"$f":"VLOOKUP(AC$5,Schedule!$A$8:$J$43,2,FALSE)","v":"2019-11-03"},null,{"$f":"VLOOKUP(AE$5,Schedule!$A$8:$J$43,2,FALSE)","v":"2019-11-10"},null,{"$f":"VLOOKUP(AG$5,Schedule!$A$8:$J$43,2,FALSE)","v":"2019-11-17"}]
[null,null,null,null,null,null,null,null,null,null,null,null,null,null,{"$f":"VLOOKUP(O$5,Schedule!$A$4:$J$43,5,FALSE)","v":"Las Vegas"},null,{"$f":"VLOOKUP(Q$5,Schedule!$A$4:$J$43,5,FALSE)","v":"Richmond "},null,{"$f":"VLOOKUP(S$5,Schedule!$A$4:$J$43,5,FALSE)","v":"Charlotte "},null,{"$f":"VLOOKUP(U$5,Schedule!$A$4:$J$43,5,FALSE)","v":"Dover "},null,{"$f":"VLOOKUP(W$5,Schedule!$A$4:$J$43,5,FALSE)","v":"Talladega "},null,{"$f":"VLOOKUP(Y$5,Schedule!$A$4:$J$43,5,FALSE)","v":"Kansas "},null,{"$f":"VLOOKUP(AA$5,Schedule!$A$4:$J$43,5,FALSE)","v":"Martinsville "},null,{"$f":"VLOOKUP(AC$5,Schedule!$A$4:$J$43,5,FALSE)","v":"Texas "},null,{"$f":"VLOOKUP(AE$5,Schedule!$A$4:$J$43,5,FALSE)","v":"Phoenix"},null,{"$f":"VLOOKUP(AG$5,Schedule!$A$4:$J$43,5,FALSE)","v":"Homestead–Miami "}]
["Owner","Week","Week","Week","Week","Week","Week","Week","Week","Week","Week",2,3,4,27,null,28,null,29,null,30,null,31,null,32,null,33,null,34,null,35,null,36,null,"Total"]
["Points",27,28,29,30,31,32,33,34,35,36,"Driver","Make","Sponsor","Points","Bonus","Points","Bonus","Points","Bonus","Points","Bonus","Points","Bonus","Points","Bonus","Points","Bonus","Points","Bonus","Points","Bonus","Points","Bonus","Points"]
[{"$f":"VLOOKUP(HLOOKUP('Pick Distribution'!$P$2,$B$6:$K$15,$L$5),'Current Owner Standings'!$A$71:$B$480,2,FALSE)","v":3},19,19,19,19,19,19,19,19,19,19,{"$f":"IF(ISNA(VLOOKUP($K7,'Cars & Results'!$A$6:$K$317,L$5,FALSE)),\"Invalid Number\",VLOOKUP($K7,'Cars & Results'!$A$6:$K$317,L$5,FALSE))","v":"Martin Truex Jr."},{"$f":"IF(ISNA(VLOOKUP($K7,'Cars & Results'!$A$6:$K$317,M$5,FALSE)),\"Invalid Number\",VLOOKUP($K7,'Cars & Results'!$A$6:$K$317,M$5,FALSE))","v":"Toyota"},{"$f":"IF(ISNA(VLOOKUP($K7,'Cars & Results'!$A$6:$K$317,N$5,FALSE)),\"Invalid Number\",VLOOKUP($K7,'Cars & Results'!$A$6:$K$317,N$5,FALSE))","v":"Joe Gibbs Racing"},{"$f":"IF(HLOOKUP(O$5,$B$6:$K$15,Points!$A3+1,FALSE)=\"TBD\",\"\",VLOOKUP(HLOOKUP(O$5,$B$6:$K$15,Points!$A3+1,FALSE),'Cars & Results'!$A$7:$BZ$317,2*O$5+6,FALSE))","v":53},{"$f":"IF(HLOOKUP(O$5,$B$6:$K$15,Points!$A3+1,FALSE)=\"TBD\",\"\",0)","v":0},{"$f":"IF(HLOOKUP(Q$5,$B$6:$K$15,Points!$A3+1,FALSE)=\"TBD\",\"\",VLOOKUP(HLOOKUP(Q$5,$B$6:$K$15,Points!$A3+1,FALSE),'Cars & Results'!$A$7:$BZ$317,2*Q$5+6,FALSE))","v":59},{"$f":"IF(HLOOKUP(Q$5,$B$6:$K$15,Points!$A3+1,FALSE)=\"TBD\",\"\",0)","v":0},{"$f":"IF(HLOOKUP(S$5,$B$6:$K$15,Points!$A3+1,FALSE)=\"TBD\",\"\",VLOOKUP(HLOOKUP(S$5,$B$6:$K$15,Points!$A3+1,FALSE),'Cars & Results'!$A$7:$BZ$317,2*S$5+6,FALSE))","v":34},{"$f":"IF(HLOOKUP(S$5,$B$6:$K$15,Points!$A3+1,FALSE)=\"TBD\",\"\",0)","v":0},{"$f":"IF(HLOOKUP(U$5,$B$6:$K$15,Points!$A3+1,FALSE)=\"TBD\",\"\",VLOOKUP(HLOOKUP(U$5,$B$6:$K$15,Points!$A3+1,FALSE),'Cars & Results'!$A$7:$BZ$317,2*U$5+6,FALSE))","v":54},{"$f":"IF(HLOOKUP(U$5,$B$6:$K$15,Points!$A3+1,FALSE)=\"TBD\",\"\",0)","v":0},{"$f":"IF(HLOOKUP(W$5,$B$6:$K$15,Points!$A3+1,FALSE)=\"TBD\",\"\",VLOOKUP(HLOOKUP(W$5,$B$6:$K$15,Points!$A3+1,FALSE),'Cars & Results'!$A$7:$BZ$317,2*W$5+6,FALSE))","v":11},{"$f":"IF(HLOOKUP(W$5,$B$6:$K$15,Points!$A3+1,FALSE)=\"TBD\",\"\",0)","v":0},{"$f":"IF(HLOOKUP(Y$5,$B$6:$K$15,Points!$A3+1,FALSE)=\"TBD\",\"\",VLOOKUP(HLOOKUP(Y$5,$B$6:$K$15,Points!$A3+1,FALSE),'Cars & Results'!$A$7:$BZ$317,2*Y$5+6,FALSE))","v":60},{"$f":"IF(HLOOKUP(Y$5,$B$6:$K$15,Points!$A3+1,FALSE)=\"TBD\",\"\",0)","v":0},{"$f":"IF(HLOOKUP(AA$5,$B$6:$K$15,Points!$A3+1,FALSE)=\"TBD\",\"\",VLOOKUP(HLOOKUP(AA$5,$B$6:$K$15,Points!$A3+1,FALSE),'Cars & Results'!$A$7:$BZ$317,2*AA$5+6,FALSE))","v":60},{"$f":"IF(HLOOKUP(AA$5,$B$6:$K$15,Points!$A3+1,FALSE)=\"TBD\",\"\",0)","v":0},{"$f":"IF(HLOOKUP(AC$5,$B$6:$K$15,Points!$A3+1,FALSE)=\"TBD\",\"\",VLOOKUP(HLOOKUP(AC$5,$B$6:$K$15,Points!$A3+1,FALSE),'Cars & Results'!$A$7:$BZ$317,2*AC$5+6,FALSE))","v":31},{"$f":"IF(HLOOKUP(AC$5,$B$6:$K$15,Points!$A3+1,FALSE)=\"TBD\",\"\",0)","v":0},{"$f":"IF(HLOOKUP(AE$5,$B$6:$K$15,Points!$A3+1,FALSE)=\"TBD\",\"\",VLOOKUP(HLOOKUP(AE$5,$B$6:$K$15,Points!$A3+1,FALSE),'Cars & Results'!$A$7:$BZ$317,2*AE$5+6,FALSE))","v":36},{"$f":"IF(HLOOKUP(AE$5,$B$6:$K$15,Points!$A3+1,FALSE)=\"TBD\",\"\",0)","v":0},{"$f":"IF(HLOOKUP(AG$5,$B$6:$K$15,Points!$A3+1,FALSE)=\"TBD\",\"\",VLOOKUP(HLOOKUP(AG$5,$B$6:$K$15,Points!$A3+1,FALSE),'Cars & Results'!$A$7:$BZ$317,2*AG$5+6,FALSE))","v":35},{"$f":"IF(HLOOKUP(AG$5,$B$6:$K$15,Points!$A3+1,FALSE)=\"TBD\",\"\",0)","v":0}]
[{"$f":"VLOOKUP(HLOOKUP('Pick Distribution'!$P$2,$B$6:$K$15,3),'Current Owner Standings'!$A$71:$B$480,2,FALSE)","v":11},42,12,12,12,12,9,2,2,2,9,{"$f":"IF(ISNA(VLOOKUP($K8,'Cars & Results'!$A$6:$K$317,L$5,FALSE)),\"Invalid Number\",VLOOKUP($K8,'Cars & Results'!$A$6:$K$317,L$5,FALSE))","v":"Chase Elliott"},{"$f":"IF(ISNA(VLOOKUP($K8,'Cars & Results'!$A$6:$K$317,M$5,FALSE)),\"Invalid Number\",VLOOKUP($K8,'Cars & Results'!$A$6:$K$317,M$5,FALSE))","v":"Chevrolet"},{"$f":"IF(ISNA(VLOOKUP($K8,'Cars & Results'!$A$6:$K$317,N$5,FALSE)),\"Invalid Number\",VLOOKUP($K8,'Cars & Results'!$A$6:$K$317,N$5,FALSE))","v":"Hendrick Motorsports"},{"$f":"IF(HLOOKUP(O$5,$B$6:$K$15,Points!$A4+1,FALSE)=\"TBD\",\"\",VLOOKUP(HLOOKUP(O$5,$B$6:$K$15,Points!$A4+1,FALSE),'Cars & Results'!$A$7:$BZ$317,2*O$5+6,FALSE))","v":39},{"$f":"IF(HLOOKUP(O$5,$B$6:$KI$15,Points!$A4+1,FALSE)=\"TBD\",\"\",IF(VLOOKUP(HLOOKUP(O$5,$B$6:$K$15,Points!$A4+1,FALSE),'Cars & Results'!$A$7:$BZ$317,2*O$5+5)=1,O8*0.25,0))","v":0},{"$f":"IF(HLOOKUP(Q$5,$B$6:$K$15,Points!$A4+1,FALSE)=\"TBD\",\"\",VLOOKUP(HLOOKUP(Q$5,$B$6:$K$15,Points!$A4+1,FALSE),'Cars & Results'!$A$7:$BZ$317,2*Q$5+6,FALSE))","v":20},{"$f":"IF(HLOOKUP(Q$5,$B$6:$KI$15,Points!$A4+1,FALSE)=\"TBD\",\"\",IF(VLOOKUP(HLOOKUP(Q$5,$B$6:$K$15,Points!$A4+1,FALSE),'Cars & Results'!$A$7:$BZ$317,2*Q$5+5)=1,Q8*0.25,0))","v":0},{"$f":"IF(HLOOKUP(S$5,$B$6:$K$15,Points!$A4+1,FALSE)=\"TBD\",\"\",VLOOKUP(HLOOKUP(S$5,$B$6:$K$15,Points!$A4+1,FALSE),'Cars & Results'!$A$7:$BZ$317,2*S$5+6,FALSE))","v":34},{"$f":"IF(HLOOKUP(S$5,$B$6:$KI$15,Points!$A4+1,FALSE)=\"TBD\",\"\",IF(VLOOKUP(HLOOKUP(S$5,$B$6:$K$15,Points!$A4+1,FALSE),'Cars & Results'!$A$7:$BZ$317,2*S$5+5)=1,S8*0.25,0))","v":0},{"$f":"IF(HLOOKUP(U$5,$B$6:$K$15,Points!$A4+1,FALSE)=\"TBD\",\"\",VLOOKUP(HLOOKUP(U$5,$B$6:$K$15,Points!$A4+1,FALSE),'Cars & Results'!$A$7:$BZ$317,2*U$5+6,FALSE))","v":6},{"$f":"IF(HLOOKUP(U$5,$B$6:$KI$15,Points!$A4+1,FALSE)=\"TBD\",\"\",IF(VLOOKUP(HLOOKUP(U$5,$B$6:$K$15,Points!$A4+1,FALSE),'Cars & Results'!$A$7:$BZ$317,2*U$5+5)=1,U8*0.25,0))","v":0},{"$f":"IF(HLOOKUP(W$5,$B$6:$K$15,Points!$A4+1,FALSE)=\"TBD\",\"\",VLOOKUP(HLOOKUP(W$5,$B$6:$K$15,Points!$A4+1,FALSE),'Cars & Results'!$A$7:$BZ$317,2*W$5+6,FALSE))","v":46},{"$f":"IF(HLOOKUP(W$5,$B$6:$KI$15,Points!$A4+1,FALSE)=\"TBD\",\"\",IF(VLOOKUP(HLOOKUP(W$5,$B$6:$K$15,Points!$A4+1,FALSE),'Cars & Results'!$A$7:$BZ$317,2*W$5+5)=1,W8*0.25,0))","v":11.5},{"$f":"IF(HLOOKUP(Y$5,$B$6:$K$15,Points!$A4+1,FALSE)=\"TBD\",\"\",VLOOKUP(HLOOKUP(Y$5,$B$6:$K$15,Points!$A4+1,FALSE),'Cars & Results'!$A$7:$BZ$317,2*Y$5+6,FALSE))","v":4},{"$f":"IF(HLOOKUP(Y$5,$B$6:$KI$15,Points!$A4+1,FALSE)=\"TBD\",\"\",IF(VLOOKUP(HLOOKUP(Y$5,$B$6:$K$15,Points!$A4+1,FALSE),'Cars & Results'!$A$7:$BZ$317,2*Y$5+5)=1,Y8*0.25,0))","v":0},{"$f":"IF(HLOOKUP(AA$5,$B$6:$K$15,Points!$A4+1,FALSE)=\"TBD\",\"\",VLOOKUP(HLOOKUP(AA$5,$B$6:$K$15,Points!$A4+1,FALSE),'Cars & Results'!$A$7:$BZ$317,2*AA$5+6,FALSE))","v":35},{"$f":"IF(HLOOKUP(AA$5,$B$6:$KI$15,Points!$A4+1,FALSE)=\"TBD\",\"\",IF(VLOOKUP(HLOOKUP(AA$5,$B$6:$K$15,Points!$A4+1,FALSE),'Cars & Results'!$A$7:$BZ$317,2*AA$5+5)=1,AA8*0.25,0))","v":0},{"$f":"IF(HLOOKUP(AC$5,$B$6:$K$15,Points!$A4+1,FALSE)=\"TBD\",\"\",VLOOKUP(HLOOKUP(AC$5,$B$6:$K$15,Points!$A4+1,FALSE),'Cars & Results'!$A$7:$BZ$317,2*AC$5+6,FALSE))","v":1},{"$f":"IF(HLOOKUP(AC$5,$B$6:$KI$15,Points!$A4+1,FALSE)=\"TBD\",\"\",IF(VLOOKUP(HLOOKUP(AC$5,$B$6:$K$15,Points!$A4+1,FALSE),'Cars & Results'!$A$7:$BZ$317,2*AC$5+5)=1,AC8*0.25,0))","v":0},{"$f":"IF(HLOOKUP(AE$5,$B$6:$K$15,Points!$A4+1,FALSE)=\"TBD\",\"\",VLOOKUP(HLOOKUP(AE$5,$B$6:$K$15,Points!$A4+1,FALSE),'Cars & Results'!$A$7:$BZ$317,2*AE$5+6,FALSE))","v":34},{"$f":"IF(HLOOKUP(AE$5,$B$6:$KI$15,Points!$A4+1,FALSE)=\"TBD\",\"\",IF(VLOOKUP(HLOOKUP(AE$5,$B$6:$K$15,Points!$A4+1,FALSE),'Cars & Results'!$A$7:$BZ$317,2*AE$5+5)=1,AE8*0.25,0))","v":0},{"$f":"IF(HLOOKUP(AG$5,$B$6:$K$15,Points!$A4+1,FALSE)=\"TBD\",\"\",VLOOKUP(HLOOKUP(AG$5,$B$6:$K$15,Points!$A4+1,FALSE),'Cars & Results'!$A$7:$BZ$317,2*AG$5+6,FALSE))","v":22},{"$f":"IF(HLOOKUP(AG$5,$B$6:$KI$15,Points!$A4+1,FALSE)=\"TBD\",\"\",IF(VLOOKUP(HLOOKUP(AG$5,$B$6:$K$15,Points!$A4+1,FALSE),'Cars & Results'!$A$7:$BZ$317,2*AG$5+5)=1,AG8*0.25,0))","v":0}]
[{"$f":"VLOOKUP(HLOOKUP('Pick Distribution'!$P$2,$B$6:$K$15,4),'Current Owner Standings'!$A$71:$B$480,2,FALSE)","v":17},41,41,41,41,41,41,41,41,41,41,{"$f":"IF(ISNA(VLOOKUP($K9,'Cars & Results'!$A$6:$K$317,L$5,FALSE)),\"Invalid Number\",VLOOKUP($K9,'Cars & Results'!$A$6:$K$317,L$5,FALSE))","v":"Daniel Suárez"},{"$f":"IF(ISNA(VLOOKUP($K9,'Cars & Results'!$A$6:$K$317,M$5,FALSE)),\"Invalid Number\",VLOOKUP($K9,'Cars & Results'!$A$6:$K$317,M$5,FALSE))","v":"Ford"},{"$f":"IF(ISNA(VLOOKUP($K9,'Cars & Results'!$A$6:$K$317,N$5,FALSE)),\"Invalid Number\",VLOOKUP($K9,'Cars & Results'!$A$6:$K$317,N$5,FALSE))","v":"Stewart-Haas Racing"},{"$f":"IF(HLOOKUP(O$5,$B$6:$K$15,Points!$A5+1,FALSE)=\"TBD\",\"\",VLOOKUP(HLOOKUP(O$5,$B$6:$K$15,Points!$A5+1,FALSE),'Cars & Results'!$A$7:$BZ$317,2*O$5+6,FALSE))","v":24},{"$f":"IF(HLOOKUP(O$5,$B$6:$K$15,Points!$A5+1,FALSE)=\"TBD\",\"\",IF(VLOOKUP(HLOOKUP(O$5,$B$6:$K$15,Points!$A5+1,FALSE),'Cars & Results'!$A$7:$BZ$317,2*O$5+5)<=5,O9*0.5,0))","v":0},{"$f":"IF(HLOOKUP(Q$5,$B$6:$K$15,Points!$A5+1,FALSE)=\"TBD\",\"\",VLOOKUP(HLOOKUP(Q$5,$B$6:$K$15,Points!$A5+1,FALSE),'Cars & Results'!$A$7:$BZ$317,2*Q$5+6,FALSE))","v":28},{"$f":"IF(HLOOKUP(Q$5,$B$6:$K$15,Points!$A5+1,FALSE)=\"TBD\",\"\",IF(VLOOKUP(HLOOKUP(Q$5,$B$6:$K$15,Points!$A5+1,FALSE),'Cars & Results'!$A$7:$BZ$317,2*Q$5+5)<=5,Q9*0.5,0))","v":0},{"$f":"IF(HLOOKUP(S$5,$B$6:$K$15,Points!$A5+1,FALSE)=\"TBD\",\"\",VLOOKUP(HLOOKUP(S$5,$B$6:$K$15,Points!$A5+1,FALSE),'Cars & Results'!$A$7:$BZ$317,2*S$5+6,FALSE))","v":7},{"$f":"IF(HLOOKUP(S$5,$B$6:$K$15,Points!$A5+1,FALSE)=\"TBD\",\"\",IF(VLOOKUP(HLOOKUP(S$5,$B$6:$K$15,Points!$A5+1,FALSE),'Cars & Results'!$A$7:$BZ$317,2*S$5+5)<=5,S9*0.5,0))","v":0},{"$f":"IF(HLOOKUP(U$5,$B$6:$K$15,Points!$A5+1,FALSE)=\"TBD\",\"\",VLOOKUP(HLOOKUP(U$5,$B$6:$K$15,Points!$A5+1,FALSE),'Cars & Results'!$A$7:$BZ$317,2*U$5+6,FALSE))","v":23},{"$f":"IF(HLOOKUP(U$5,$B$6:$K$15,Points!$A5+1,FALSE)=\"TBD\",\"\",IF(VLOOKUP(HLOOKUP(U$5,$B$6:$K$15,Points!$A5+1,FALSE),'Cars & Results'!$A$7:$BZ$317,2*U$5+5)<=5,U9*0.5,0))","v":0},{"$f":"IF(HLOOKUP(W$5,$B$6:$K$15,Points!$A5+1,FALSE)=\"TBD\",\"\",VLOOKUP(HLOOKUP(W$5,$B$6:$K$15,Points!$A5+1,FALSE),'Cars & Results'!$A$7:$BZ$317,2*W$5+6,FALSE))","v":14},{"$f":"IF(HLOOKUP(W$5,$B$6:$K$15,Points!$A5+1,FALSE)=\"TBD\",\"\",IF(VLOOKUP(HLOOKUP(W$5,$B$6:$K$15,Points!$A5+1,FALSE),'Cars & Results'!$A$7:$BZ$317,2*W$5+5)<=5,W9*0.5,0))","v":0},{"$f":"IF(HLOOKUP(Y$5,$B$6:$K$15,Points!$A5+1,FALSE)=\"TBD\",\"\",VLOOKUP(HLOOKUP(Y$5,$B$6:$K$15,Points!$A5+1,FALSE),'Cars & Results'!$A$7:$BZ$317,2*Y$5+6,FALSE))","v":7},{"$f":"IF(HLOOKUP(Y$5,$B$6:$K$15,Points!$A5+1,FALSE)=\"TBD\",\"\",IF(VLOOKUP(HLOOKUP(Y$5,$B$6:$K$15,Points!$A5+1,FALSE),'Cars & Results'!$A$7:$BZ$317,2*Y$5+5)<=5,Y9*0.5,0))","v":0},{"$f":"IF(HLOOKUP(AA$5,$B$6:$K$15,Points!$A5+1,FALSE)=\"TBD\",\"\",VLOOKUP(HLOOKUP(AA$5,$B$6:$K$15,Points!$A5+1,FALSE),'Cars & Results'!$A$7:$BZ$317,2*AA$5+6,FALSE))","v":7},{"$f":"IF(HLOOKUP(AA$5,$B$6:$K$15,Points!$A5+1,FALSE)=\"TBD\",\"\",IF(VLOOKUP(HLOOKUP(AA$5,$B$6:$K$15,Points!$A5+1,FALSE),'Cars & Results'!$A$7:$BZ$317,2*AA$5+5)<=5,AA9*0.5,0))","v":0},{"$f":"IF(HLOOKUP(AC$5,$B$6:$K$15,Points!$A5+1,FALSE)=\"TBD\",\"\",VLOOKUP(HLOOKUP(AC$5,$B$6:$K$15,Points!$A5+1,FALSE),'Cars & Results'!$A$7:$BZ$317,2*AC$5+6,FALSE))","v":37},{"$f":"IF(HLOOKUP(AC$5,$B$6:$K$15,Points!$A5+1,FALSE)=\"TBD\",\"\",IF(VLOOKUP(HLOOKUP(AC$5,$B$6:$K$15,Points!$A5+1,FALSE),'Cars & Results'!$A$7:$BZ$317,2*AC$5+5)<=5,AC9*0.5,0))","v":18.5},{"$f":"IF(HLOOKUP(AE$5,$B$6:$K$15,Points!$A5+1,FALSE)=\"TBD\",\"\",VLOOKUP(HLOOKUP(AE$5,$B$6:$K$15,Points!$A5+1,FALSE),'Cars & Results'!$A$7:$BZ$317,2*AE$5+6,FALSE))","v":22},{"$f":"IF(HLOOKUP(AE$5,$B$6:$K$15,Points!$A5+1,FALSE)=\"TBD\",\"\",IF(VLOOKUP(HLOOKUP(AE$5,$B$6:$K$15,Points!$A5+1,FALSE),'Cars & Results'!$A$7:$BZ$317,2*AE$5+5)<=5,AE9*0.5,0))","v":0},{"$f":"IF(HLOOKUP(AG$5,$B$6:$K$15,Points!$A5+1,FALSE)=\"TBD\",\"\",VLOOKUP(HLOOKUP(AG$5,$B$6:$K$15,Points!$A5+1,FALSE),'Cars & Results'!$A$7:$BZ$317,2*AG$5+6,FALSE))","v":23},{"$f":"IF(HLOOKUP(AG$5,$B$6:$K$15,Points!$A5+1,FALSE)=\"TBD\",\"\",IF(VLOOKUP(HLOOKUP(AG$5,$B$6:$K$15,Points!$A5+1,FALSE),'Cars & Results'!$A$7:$BZ$317,2*AG$5+5)<=5,AG9*0.5,0))","v":0}]
[{"$f":"VLOOKUP(HLOOKUP('Pick Distribution'!$P$2,$B$6:$K$15,5),'Current Owner Standings'!$A$71:$B$480,2,FALSE)","v":18},48,48,48,48,48,48,48,48,48,48,{"$f":"IF(ISNA(VLOOKUP($K10,'Cars & Results'!$A$6:$K$317,L$5,FALSE)),\"Invalid Number\",VLOOKUP($K10,'Cars & Results'!$A$6:$K$317,L$5,FALSE))","v":"Jimmie Johnson"},{"$f":"IF(ISNA(VLOOKUP($K10,'Cars & Results'!$A$6:$K$317,M$5,FALSE)),\"Invalid Number\",VLOOKUP($K10,'Cars & Results'!$A$6:$K$317,M$5,FALSE))","v":"Chevrolet"},{"$f":"IF(ISNA(VLOOKUP($K10,'Cars & Results'!$A$6:$K$317,N$5,FALSE)),\"Invalid Number\",VLOOKUP($K10,'Cars & Results'!$A$6:$K$317,N$5,FALSE))","v":"Hendrick Motorsports"},{"$f":"IF(HLOOKUP(O$5,$B$6:$K$15,Points!$A6+1,FALSE)=\"TBD\",\"\",VLOOKUP(HLOOKUP(O$5,$B$6:$K$15,Points!$A6+1,FALSE),'Cars & Results'!$A$7:$BZ$317,2*O$5+6,FALSE))","v":26},{"$f":"IF(HLOOKUP(O$5,$B$6:$K$15,Points!$A6+1,FALSE)=\"TBD\",\"\",IF(VLOOKUP(HLOOKUP(O$5,$B$6:$K$15,Points!$A6+1,FALSE),'Cars & Results'!$A$7:$BZ$317,2*O$5+5)<=5,O10*0.5,0))","v":0},{"$f":"IF(HLOOKUP(Q$5,$B$6:$K$15,Points!$A6+1,FALSE)=\"TBD\",\"\",VLOOKUP(HLOOKUP(Q$5,$B$6:$K$15,Points!$A6+1,FALSE),'Cars & Results'!$A$7:$BZ$317,2*Q$5+6,FALSE))","v":31},{"$f":"IF(HLOOKUP(Q$5,$B$6:$K$15,Points!$A6+1,FALSE)=\"TBD\",\"\",IF(VLOOKUP(HLOOKUP(Q$5,$B$6:$K$15,Points!$A6+1,FALSE),'Cars & Results'!$A$7:$BZ$317,2*Q$5+5)<=5,Q10*0.5,0))","v":0},{"$f":"IF(HLOOKUP(S$5,$B$6:$K$15,Points!$A6+1,FALSE)=\"TBD\",\"\",VLOOKUP(HLOOKUP(S$5,$B$6:$K$15,Points!$A6+1,FALSE),'Cars & Results'!$A$7:$BZ$317,2*S$5+6,FALSE))","v":35},{"$f":"IF(HLOOKUP(S$5,$B$6:$K$15,Points!$A6+1,FALSE)=\"TBD\",\"\",IF(VLOOKUP(HLOOKUP(S$5,$B$6:$K$15,Points!$A6+1,FALSE),'Cars & Results'!$A$7:$BZ$317,2*S$5+5)<=5,S10*0.5,0))","v":0},{"$f":"IF(HLOOKUP(U$5,$B$6:$K$15,Points!$A6+1,FALSE)=\"TBD\",\"\",VLOOKUP(HLOOKUP(U$5,$B$6:$K$15,Points!$A6+1,FALSE),'Cars & Results'!$A$7:$BZ$317,2*U$5+6,FALSE))","v":39},{"$f":"IF(HLOOKUP(U$5,$B$6:$K$15,Points!$A6+1,FALSE)=\"TBD\",\"\",IF(VLOOKUP(HLOOKUP(U$5,$B$6:$K$15,Points!$A6+1,FALSE),'Cars & Results'!$A$7:$BZ$317,2*U$5+5)<=5,U10*0.5,0))","v":0},{"$f":"IF(HLOOKUP(W$5,$B$6:$K$15,Points!$A6+1,FALSE)=\"TBD\",\"\",VLOOKUP(HLOOKUP(W$5,$B$6:$K$15,Points!$A6+1,FALSE),'Cars & Results'!$A$7:$BZ$317,2*W$5+6,FALSE))","v":5},{"$f":"IF(HLOOKUP(W$5,$B$6:$K$15,Points!$A6+1,FALSE)=\"TBD\",\"\",IF(VLOOKUP(HLOOKUP(W$5,$B$6:$K$15,Points!$A6+1,FALSE),'Cars & Results'!$A$7:$BZ$317,2*W$5+5)<=5,W10*0.5,0))","v":0},{"$f":"IF(HLOOKUP(Y$5,$B$6:$K$15,Points!$A6+1,FALSE)=\"TBD\",\"\",VLOOKUP(HLOOKUP(Y$5,$B$6:$K$15,Points!$A6+1,FALSE),'Cars & Results'!$A$7:$BZ$317,2*Y$5+6,FALSE))","v":1},{"$f":"IF(HLOOKUP(Y$5,$B$6:$K$15,Points!$A6+1,FALSE)=\"TBD\",\"\",IF(VLOOKUP(HLOOKUP(Y$5,$B$6:$K$15,Points!$A6+1,FALSE),'Cars & Results'!$A$7:$BZ$317,2*Y$5+5)<=5,Y10*0.5,0))","v":0},{"$f":"IF(HLOOKUP(AA$5,$B$6:$K$15,Points!$A6+1,FALSE)=\"TBD\",\"\",VLOOKUP(HLOOKUP(AA$5,$B$6:$K$15,Points!$A6+1,FALSE),'Cars & Results'!$A$7:$BZ$317,2*AA$5+6,FALSE))","v":1},{"$f":"IF(HLOOKUP(AA$5,$B$6:$K$15,Points!$A6+1,FALSE)=\"TBD\",\"\",IF(VLOOKUP(HLOOKUP(AA$5,$B$6:$K$15,Points!$A6+1,FALSE),'Cars & Results'!$A$7:$BZ$317,2*AA$5+5)<=5,AA10*0.5,0))","v":0},{"$f":"IF(HLOOKUP(AC$5,$B$6:$K$15,Points!$A6+1,FALSE)=\"TBD\",\"\",VLOOKUP(HLOOKUP(AC$5,$B$6:$K$15,Points!$A6+1,FALSE),'Cars & Results'!$A$7:$BZ$317,2*AC$5+6,FALSE))","v":11},{"$f":"IF(HLOOKUP(AC$5,$B$6:$K$15,Points!$A6+1,FALSE)=\"TBD\",\"\",IF(VLOOKUP(HLOOKUP(AC$5,$B$6:$K$15,Points!$A6+1,FALSE),'Cars & Results'!$A$7:$BZ$317,2*AC$5+5)<=5,AC10*0.5,0))","v":0},{"$f":"IF(HLOOKUP(AE$5,$B$6:$K$15,Points!$A6+1,FALSE)=\"TBD\",\"\",VLOOKUP(HLOOKUP(AE$5,$B$6:$K$15,Points!$A6+1,FALSE),'Cars & Results'!$A$7:$BZ$317,2*AE$5+6,FALSE))","v":23},{"$f":"IF(HLOOKUP(AE$5,$B$6:$K$15,Points!$A6+1,FALSE)=\"TBD\",\"\",IF(VLOOKUP(HLOOKUP(AE$5,$B$6:$K$15,Points!$A6+1,FALSE),'Cars & Results'!$A$7:$BZ$317,2*AE$5+5)<=5,AE10*0.5,0))","v":0},{"$f":"IF(HLOOKUP(AG$5,$B$6:$K$15,Points!$A6+1,FALSE)=\"TBD\",\"\",VLOOKUP(HLOOKUP(AG$5,$B$6:$K$15,Points!$A6+1,FALSE),'Cars & Results'!$A$7:$BZ$317,2*AG$5+6,FALSE))","v":28},{"$f":"IF(HLOOKUP(AG$5,$B$6:$K$15,Points!$A6+1,FALSE)=\"TBD\",\"\",IF(VLOOKUP(HLOOKUP(AG$5,$B$6:$K$15,Points!$A6+1,FALSE),'Cars & Results'!$A$7:$BZ$317,2*AG$5+5)<=5,AG10*0.5,0))","v":0}]
[{"$f":"VLOOKUP(HLOOKUP('Pick Distribution'!$P$2,$B$6:$K$15,6),'Current Owner Standings'!$A$71:$B$480,2,FALSE)","v":27},43,43,43,43,43,43,43,43,43,43,{"$f":"IF(ISNA(VLOOKUP($K11,'Cars & Results'!$A$6:$K$317,L$5,FALSE)),\"Invalid Number\",VLOOKUP($K11,'Cars & Results'!$A$6:$K$317,L$5,FALSE))","v":"Darrell Wallace Jr."},{"$f":"IF(ISNA(VLOOKUP($K11,'Cars & Results'!$A$6:$K$317,M$5,FALSE)),\"Invalid Number\",VLOOKUP($K11,'Cars & Results'!$A$6:$K$317,M$5,FALSE))","v":"Chevrolet"},{"$f":"IF(ISNA(VLOOKUP($K11,'Cars & Results'!$A$6:$K$317,N$5,FALSE)),\"Invalid Number\",VLOOKUP($K11,'Cars & Results'!$A$6:$K$317,N$5,FALSE))","v":"Richard Petty Motorsports"},{"$f":"IF(HLOOKUP(O$5,$B$6:$K$15,Points!$A7+1,FALSE)=\"TBD\",\"\",VLOOKUP(HLOOKUP(O$5,$B$6:$K$15,Points!$A7+1,FALSE),'Cars & Results'!$A$7:$BZ$317,2*O$5+6,FALSE))","v":14},{"$f":"IF(HLOOKUP(O$5,$B$6:$K$15,Points!$A7+1,FALSE)=\"TBD\",\"\",IF(VLOOKUP(HLOOKUP(O$5,$B$6:$K$15,Points!$A7+1,FALSE),'Cars & Results'!$A$7:$BZ$317,2*O$5+5)<=10,O11*1.5,0))","v":0},{"$f":"IF(HLOOKUP(Q$5,$B$6:$K$15,Points!$A7+1,FALSE)=\"TBD\",\"\",VLOOKUP(HLOOKUP(Q$5,$B$6:$K$15,Points!$A7+1,FALSE),'Cars & Results'!$A$7:$BZ$317,2*Q$5+6,FALSE))","v":29},{"$f":"IF(HLOOKUP(Q$5,$B$6:$K$15,Points!$A7+1,FALSE)=\"TBD\",\"\",IF(VLOOKUP(HLOOKUP(Q$5,$B$6:$K$15,Points!$A7+1,FALSE),'Cars & Results'!$A$7:$BZ$317,2*Q$5+5)<=10,Q11*1.5,0))","v":0},{"$f":"IF(HLOOKUP(S$5,$B$6:$K$15,Points!$A7+1,FALSE)=\"TBD\",\"\",VLOOKUP(HLOOKUP(S$5,$B$6:$K$15,Points!$A7+1,FALSE),'Cars & Results'!$A$7:$BZ$317,2*S$5+6,FALSE))","v":13},{"$f":"IF(HLOOKUP(S$5,$B$6:$K$15,Points!$A7+1,FALSE)=\"TBD\",\"\",IF(VLOOKUP(HLOOKUP(S$5,$B$6:$K$15,Points!$A7+1,FALSE),'Cars & Results'!$A$7:$BZ$317,2*S$5+5)<=10,S11*1.5,0))","v":0},{"$f":"IF(HLOOKUP(U$5,$B$6:$K$15,Points!$A7+1,FALSE)=\"TBD\",\"\",VLOOKUP(HLOOKUP(U$5,$B$6:$K$15,Points!$A7+1,FALSE),'Cars & Results'!$A$7:$BZ$317,2*U$5+6,FALSE))","v":17},{"$f":"IF(HLOOKUP(U$5,$B$6:$K$15,Points!$A7+1,FALSE)=\"TBD\",\"\",IF(VLOOKUP(HLOOKUP(U$5,$B$6:$K$15,Points!$A7+1,FALSE),'Cars & Results'!$A$7:$BZ$317,2*U$5+5)<=10,U11*1.5,0))","v":0},{"$f":"IF(HLOOKUP(W$5,$B$6:$K$15,Points!$A7+1,FALSE)=\"TBD\",\"\",VLOOKUP(HLOOKUP(W$5,$B$6:$K$15,Points!$A7+1,FALSE),'Cars & Results'!$A$7:$BZ$317,2*W$5+6,FALSE))","v":13},{"$f":"IF(HLOOKUP(W$5,$B$6:$K$15,Points!$A7+1,FALSE)=\"TBD\",\"\",IF(VLOOKUP(HLOOKUP(W$5,$B$6:$K$15,Points!$A7+1,FALSE),'Cars & Results'!$A$7:$BZ$317,2*W$5+5)<=10,W11*1.5,0))","v":0},{"$f":"IF(HLOOKUP(Y$5,$B$6:$K$15,Points!$A7+1,FALSE)=\"TBD\",\"\",VLOOKUP(HLOOKUP(Y$5,$B$6:$K$15,Points!$A7+1,FALSE),'Cars & Results'!$A$7:$BZ$317,2*Y$5+6,FALSE))","v":24},{"$f":"IF(HLOOKUP(Y$5,$B$6:$K$15,Points!$A7+1,FALSE)=\"TBD\",\"\",IF(VLOOKUP(HLOOKUP(Y$5,$B$6:$K$15,Points!$A7+1,FALSE),'Cars & Results'!$A$7:$BZ$317,2*Y$5+5)<=10,Y11*1.5,0))","v":0},{"$f":"IF(HLOOKUP(AA$5,$B$6:$K$15,Points!$A7+1,FALSE)=\"TBD\",\"\",VLOOKUP(HLOOKUP(AA$5,$B$6:$K$15,Points!$A7+1,FALSE),'Cars & Results'!$A$7:$BZ$317,2*AA$5+6,FALSE))","v":24},{"$f":"IF(HLOOKUP(AA$5,$B$6:$K$15,Points!$A7+1,FALSE)=\"TBD\",\"\",IF(VLOOKUP(HLOOKUP(AA$5,$B$6:$K$15,Points!$A7+1,FALSE),'Cars & Results'!$A$7:$BZ$317,2*AA$5+5)<=10,AA11*1.5,0))","v":0},{"$f":"IF(HLOOKUP(AC$5,$B$6:$K$15,Points!$A7+1,FALSE)=\"TBD\",\"\",VLOOKUP(HLOOKUP(AC$5,$B$6:$K$15,Points!$A7+1,FALSE),'Cars & Results'!$A$7:$BZ$317,2*AC$5+6,FALSE))","v":13},{"$f":"IF(HLOOKUP(AC$5,$B$6:$K$15,Points!$A7+1,FALSE)=\"TBD\",\"\",IF(VLOOKUP(HLOOKUP(AC$5,$B$6:$K$15,Points!$A7+1,FALSE),'Cars & Results'!$A$7:$BZ$317,2*AC$5+5)<=10,AC11*1.5,0))","v":0},{"$f":"IF(HLOOKUP(AE$5,$B$6:$K$15,Points!$A7+1,FALSE)=\"TBD\",\"\",VLOOKUP(HLOOKUP(AE$5,$B$6:$K$15,Points!$A7+1,FALSE),'Cars & Results'!$A$7:$BZ$317,2*AE$5+6,FALSE))","v":12},{"$f":"IF(HLOOKUP(AE$5,$B$6:$K$15,Points!$A7+1,FALSE)=\"TBD\",\"\",IF(VLOOKUP(HLOOKUP(AE$5,$B$6:$K$15,Points!$A7+1,FALSE),'Cars & Results'!$A$7:$BZ$317,2*AE$5+5)<=10,AE11*1.5,0))","v":0},{"$f":"IF(HLOOKUP(AG$5,$B$6:$K$15,Points!$A7+1,FALSE)=\"TBD\",\"\",VLOOKUP(HLOOKUP(AG$5,$B$6:$K$15,Points!$A7+1,FALSE),'Cars & Results'!$A$7:$BZ$317,2*AG$5+6,FALSE))","v":3},{"$f":"IF(HLOOKUP(AG$5,$B$6:$K$15,Points!$A7+1,FALSE)=\"TBD\",\"\",IF(VLOOKUP(HLOOKUP(AG$5,$B$6:$K$15,Points!$A7+1,FALSE),'Cars & Results'!$A$7:$BZ$317,2*AG$5+5)<=10,AG11*1.5,0))","v":0}]
[{"$f":"VLOOKUP(HLOOKUP('Pick Distribution'!$P$2,$B$6:$K$15,7),'Current Owner Standings'!$A$71:$B$480,2,FALSE)","v":26},47,47,47,47,47,47,47,47,47,47,{"$f":"IF(ISNA(VLOOKUP($K12,'Cars & Results'!$A$6:$K$317,L$5,FALSE)),\"Invalid Number\",VLOOKUP($K12,'Cars & Results'!$A$6:$K$317,L$5,FALSE))","v":"Ryan Preece (R)"},{"$f":"IF(ISNA(VLOOKUP($K12,'Cars & Results'!$A$6:$K$317,M$5,FALSE)),\"Invalid Number\",VLOOKUP($K12,'Cars & Results'!$A$6:$K$317,M$5,FALSE))","v":"Chevrolet"},{"$f":"IF(ISNA(VLOOKUP($K12,'Cars & Results'!$A$6:$K$317,N$5,FALSE)),\"Invalid Number\",VLOOKUP($K12,'Cars & Results'!$A$6:$K$317,N$5,FALSE))","v":"JTG Daugherty Racing"},{"$f":"IF(HLOOKUP(O$5,$B$6:$K$15,Points!$A8+1,FALSE)=\"TBD\",\"\",VLOOKUP(HLOOKUP(O$5,$B$6:$K$15,Points!$A8+1,FALSE),'Cars & Results'!$A$7:$BZ$317,2*O$5+6,FALSE))","v":10},{"$f":"IF(HLOOKUP(O$5,$B$6:$K$15,Points!$A8+1,FALSE)=\"TBD\",\"\",IF(VLOOKUP(HLOOKUP(O$5,$B$6:$K$15,Points!$A8+1,FALSE),'Cars & Results'!$A$7:$BZ$317,2*O$5+5)<=10,O12*1.5,0))","v":0},{"$f":"IF(HLOOKUP(Q$5,$B$6:$K$15,Points!$A8+1,FALSE)=\"TBD\",\"\",VLOOKUP(HLOOKUP(Q$5,$B$6:$K$15,Points!$A8+1,FALSE),'Cars & Results'!$A$7:$BZ$317,2*Q$5+6,FALSE))","v":7},{"$f":"IF(HLOOKUP(Q$5,$B$6:$K$15,Points!$A8+1,FALSE)=\"TBD\",\"\",IF(VLOOKUP(HLOOKUP(Q$5,$B$6:$K$15,Points!$A8+1,FALSE),'Cars & Results'!$A$7:$BZ$317,2*Q$5+5)<=10,Q12*1.5,0))","v":0},{"$f":"IF(HLOOKUP(S$5,$B$6:$K$15,Points!$A8+1,FALSE)=\"TBD\",\"\",VLOOKUP(HLOOKUP(S$5,$B$6:$K$15,Points!$A8+1,FALSE),'Cars & Results'!$A$7:$BZ$317,2*S$5+6,FALSE))","v":16},{"$f":"IF(HLOOKUP(S$5,$B$6:$K$15,Points!$A8+1,FALSE)=\"TBD\",\"\",IF(VLOOKUP(HLOOKUP(S$5,$B$6:$K$15,Points!$A8+1,FALSE),'Cars & Results'!$A$7:$BZ$317,2*S$5+5)<=10,S12*1.5,0))","v":0},{"$f":"IF(HLOOKUP(U$5,$B$6:$K$15,Points!$A8+1,FALSE)=\"TBD\",\"\",VLOOKUP(HLOOKUP(U$5,$B$6:$K$15,Points!$A8+1,FALSE),'Cars & Results'!$A$7:$BZ$317,2*U$5+6,FALSE))","v":18},{"$f":"IF(HLOOKUP(U$5,$B$6:$K$15,Points!$A8+1,FALSE)=\"TBD\",\"\",IF(VLOOKUP(HLOOKUP(U$5,$B$6:$K$15,Points!$A8+1,FALSE),'Cars & Results'!$A$7:$BZ$317,2*U$5+5)<=10,U12*1.5,0))","v":0},{"$f":"IF(HLOOKUP(W$5,$B$6:$K$15,Points!$A8+1,FALSE)=\"TBD\",\"\",VLOOKUP(HLOOKUP(W$5,$B$6:$K$15,Points!$A8+1,FALSE),'Cars & Results'!$A$7:$BZ$317,2*W$5+6,FALSE))","v":19},{"$f":"IF(HLOOKUP(W$5,$B$6:$K$15,Points!$A8+1,FALSE)=\"TBD\",\"\",IF(VLOOKUP(HLOOKUP(W$5,$B$6:$K$15,Points!$A8+1,FALSE),'Cars & Results'!$A$7:$BZ$317,2*W$5+5)<=10,W12*1.5,0))","v":0},{"$f":"IF(HLOOKUP(Y$5,$B$6:$K$15,Points!$A8+1,FALSE)=\"TBD\",\"\",VLOOKUP(HLOOKUP(Y$5,$B$6:$K$15,Points!$A8+1,FALSE),'Cars & Results'!$A$7:$BZ$317,2*Y$5+6,FALSE))","v":18},{"$f":"IF(HLOOKUP(Y$5,$B$6:$K$15,Points!$A8+1,FALSE)=\"TBD\",\"\",IF(VLOOKUP(HLOOKUP(Y$5,$B$6:$K$15,Points!$A8+1,FALSE),'Cars & Results'!$A$7:$BZ$317,2*Y$5+5)<=10,Y12*1.5,0))","v":0},{"$f":"IF(HLOOKUP(AA$5,$B$6:$K$15,Points!$A8+1,FALSE)=\"TBD\",\"\",VLOOKUP(HLOOKUP(AA$5,$B$6:$K$15,Points!$A8+1,FALSE),'Cars & Results'!$A$7:$BZ$317,2*AA$5+6,FALSE))","v":18},{"$f":"IF(HLOOKUP(AA$5,$B$6:$K$15,Points!$A8+1,FALSE)=\"TBD\",\"\",IF(VLOOKUP(HLOOKUP(AA$5,$B$6:$K$15,Points!$A8+1,FALSE),'Cars & Results'!$A$7:$BZ$317,2*AA$5+5)<=10,AA12*1.5,0))","v":0},{"$f":"IF(HLOOKUP(AC$5,$B$6:$K$15,Points!$A8+1,FALSE)=\"TBD\",\"\",VLOOKUP(HLOOKUP(AC$5,$B$6:$K$15,Points!$A8+1,FALSE),'Cars & Results'!$A$7:$BZ$317,2*AC$5+6,FALSE))","v":17},{"$f":"IF(HLOOKUP(AC$5,$B$6:$K$15,Points!$A8+1,FALSE)=\"TBD\",\"\",IF(VLOOKUP(HLOOKUP(AC$5,$B$6:$K$15,Points!$A8+1,FALSE),'Cars & Results'!$A$7:$BZ$317,2*AC$5+5)<=10,AC12*1.5,0))","v":0},{"$f":"IF(HLOOKUP(AE$5,$B$6:$K$15,Points!$A8+1,FALSE)=\"TBD\",\"\",VLOOKUP(HLOOKUP(AE$5,$B$6:$K$15,Points!$A8+1,FALSE),'Cars & Results'!$A$7:$BZ$317,2*AE$5+6,FALSE))","v":11},{"$f":"IF(HLOOKUP(AE$5,$B$6:$K$15,Points!$A8+1,FALSE)=\"TBD\",\"\",IF(VLOOKUP(HLOOKUP(AE$5,$B$6:$K$15,Points!$A8+1,FALSE),'Cars & Results'!$A$7:$BZ$317,2*AE$5+5)<=10,AE12*1.5,0))","v":0},{"$f":"IF(HLOOKUP(AG$5,$B$6:$K$15,Points!$A8+1,FALSE)=\"TBD\",\"\",VLOOKUP(HLOOKUP(AG$5,$B$6:$K$15,Points!$A8+1,FALSE),'Cars & Results'!$A$7:$BZ$317,2*AG$5+6,FALSE))","v":12},{"$f":"IF(HLOOKUP(AG$5,$B$6:$K$15,Points!$A8+1,FALSE)=\"TBD\",\"\",IF(VLOOKUP(HLOOKUP(AG$5,$B$6:$K$15,Points!$A8+1,FALSE),'Cars & Results'!$A$7:$BZ$317,2*AG$5+5)<=10,AG12*1.5,0))","v":0}]
[{"$f":"VLOOKUP(HLOOKUP('Pick Distribution'!$P$2,$B$6:$K$15,8),'Current Owner Standings'!$A$71:$B$480,2,FALSE)","v":35},77,77,77,77,77,77,77,77,77,77,{"$f":"IF(ISNA(VLOOKUP($K13,'Cars & Results'!$A$6:$K$317,L$5,FALSE)),\"Invalid Number\",VLOOKUP($K13,'Cars & Results'!$A$6:$K$317,L$5,FALSE))","v":"Reed Sorenson"},{"$f":"IF(ISNA(VLOOKUP($K13,'Cars & Results'!$A$6:$K$317,M$5,FALSE)),\"Invalid Number\",VLOOKUP($K13,'Cars & Results'!$A$6:$K$317,M$5,FALSE))","v":"Chevrolet"},{"$f":"IF(ISNA(VLOOKUP($K13,'Cars & Results'!$A$6:$K$317,N$5,FALSE)),\"Invalid Number\",VLOOKUP($K13,'Cars & Results'!$A$6:$K$317,N$5,FALSE))","v":"Spire Motorsports"},{"$f":"IF(HLOOKUP(O$5,$B$6:$K$15,Points!$A9+1,FALSE)=\"TBD\",\"\",VLOOKUP(HLOOKUP(O$5,$B$6:$K$15,Points!$A9+1,FALSE),'Cars & Results'!$A$7:$BZ$317,2*O$5+6,FALSE))","v":1},{"$f":"IF(HLOOKUP(O$5,$B$6:$K$15,Points!$A9+1,FALSE)=\"TBD\",\"\",IF(VLOOKUP(HLOOKUP(O$5,$B$6:$K$15,Points!$A9+1,FALSE),'Cars & Results'!$A$7:$BZ$317,2*O$5+5)<=10,O13*2,0))","v":0},{"$f":"IF(HLOOKUP(Q$5,$B$6:$K$15,Points!$A9+1,FALSE)=\"TBD\",\"\",VLOOKUP(HLOOKUP(Q$5,$B$6:$K$15,Points!$A9+1,FALSE),'Cars & Results'!$A$7:$BZ$317,2*Q$5+6,FALSE))","v":1},{"$f":"IF(HLOOKUP(Q$5,$B$6:$K$15,Points!$A9+1,FALSE)=\"TBD\",\"\",IF(VLOOKUP(HLOOKUP(Q$5,$B$6:$K$15,Points!$A9+1,FALSE),'Cars & Results'!$A$7:$BZ$317,2*Q$5+5)<=10,Q13*2,0))","v":0},{"$f":"IF(HLOOKUP(S$5,$B$6:$K$15,Points!$A9+1,FALSE)=\"TBD\",\"\",VLOOKUP(HLOOKUP(S$5,$B$6:$K$15,Points!$A9+1,FALSE),'Cars & Results'!$A$7:$BZ$317,2*S$5+6,FALSE))","v":1},{"$f":"IF(HLOOKUP(S$5,$B$6:$K$15,Points!$A9+1,FALSE)=\"TBD\",\"\",IF(VLOOKUP(HLOOKUP(S$5,$B$6:$K$15,Points!$A9+1,FALSE),'Cars & Results'!$A$7:$BZ$317,2*S$5+5)<=10,S13*2,0))","v":0},{"$f":"IF(HLOOKUP(U$5,$B$6:$K$15,Points!$A9+1,FALSE)=\"TBD\",\"\",VLOOKUP(HLOOKUP(U$5,$B$6:$K$15,Points!$A9+1,FALSE),'Cars & Results'!$A$7:$BZ$317,2*U$5+6,FALSE))","v":1},{"$f":"IF(HLOOKUP(U$5,$B$6:$K$15,Points!$A9+1,FALSE)=\"TBD\",\"\",IF(VLOOKUP(HLOOKUP(U$5,$B$6:$K$15,Points!$A9+1,FALSE),'Cars & Results'!$A$7:$BZ$317,2*U$5+5)<=10,U13*2,0))","v":0},{"$f":"IF(HLOOKUP(W$5,$B$6:$K$15,Points!$A9+1,FALSE)=\"TBD\",\"\",VLOOKUP(HLOOKUP(W$5,$B$6:$K$15,Points!$A9+1,FALSE),'Cars & Results'!$A$7:$BZ$317,2*W$5+6,FALSE))","v":6},{"$f":"IF(HLOOKUP(W$5,$B$6:$K$15,Points!$A9+1,FALSE)=\"TBD\",\"\",IF(VLOOKUP(HLOOKUP(W$5,$B$6:$K$15,Points!$A9+1,FALSE),'Cars & Results'!$A$7:$BZ$317,2*W$5+5)<=10,W13*2,0))","v":0},{"$f":"IF(HLOOKUP(Y$5,$B$6:$K$15,Points!$A9+1,FALSE)=\"TBD\",\"\",VLOOKUP(HLOOKUP(Y$5,$B$6:$K$15,Points!$A9+1,FALSE),'Cars & Results'!$A$7:$BZ$317,2*Y$5+6,FALSE))","v":3},{"$f":"IF(HLOOKUP(Y$5,$B$6:$K$15,Points!$A9+1,FALSE)=\"TBD\",\"\",IF(VLOOKUP(HLOOKUP(Y$5,$B$6:$K$15,Points!$A9+1,FALSE),'Cars & Results'!$A$7:$BZ$317,2*Y$5+5)<=10,Y13*2,0))","v":0},{"$f":"IF(HLOOKUP(AA$5,$B$6:$K$15,Points!$A9+1,FALSE)=\"TBD\",\"\",VLOOKUP(HLOOKUP(AA$5,$B$6:$K$15,Points!$A9+1,FALSE),'Cars & Results'!$A$7:$BZ$317,2*AA$5+6,FALSE))","v":3},{"$f":"IF(HLOOKUP(AA$5,$B$6:$K$15,Points!$A9+1,FALSE)=\"TBD\",\"\",IF(VLOOKUP(HLOOKUP(AA$5,$B$6:$K$15,Points!$A9+1,FALSE),'Cars & Results'!$A$7:$BZ$317,2*AA$5+5)<=10,AA13*2,0))","v":0},{"$f":"IF(HLOOKUP(AC$5,$B$6:$K$15,Points!$A9+1,FALSE)=\"TBD\",\"\",VLOOKUP(HLOOKUP(AC$5,$B$6:$K$15,Points!$A9+1,FALSE),'Cars & Results'!$A$7:$BZ$317,2*AC$5+6,FALSE))","v":4},{"$f":"IF(HLOOKUP(AC$5,$B$6:$K$15,Points!$A9+1,FALSE)=\"TBD\",\"\",IF(VLOOKUP(HLOOKUP(AC$5,$B$6:$K$15,Points!$A9+1,FALSE),'Cars & Results'!$A$7:$BZ$317,2*AC$5+5)<=10,AC13*2,0))","v":0},{"$f":"IF(HLOOKUP(AE$5,$B$6:$K$15,Points!$A9+1,FALSE)=\"TBD\",\"\",VLOOKUP(HLOOKUP(AE$5,$B$6:$K$15,Points!$A9+1,FALSE),'Cars & Results'!$A$7:$BZ$317,2*AE$5+6,FALSE))","v":1},{"$f":"IF(HLOOKUP(AE$5,$B$6:$K$15,Points!$A9+1,FALSE)=\"TBD\",\"\",IF(VLOOKUP(HLOOKUP(AE$5,$B$6:$K$15,Points!$A9+1,FALSE),'Cars & Results'!$A$7:$BZ$317,2*AE$5+5)<=10,AE13*2,0))","v":0},{"$f":"IF(HLOOKUP(AG$5,$B$6:$K$15,Points!$A9+1,FALSE)=\"TBD\",\"\",VLOOKUP(HLOOKUP(AG$5,$B$6:$K$15,Points!$A9+1,FALSE),'Cars & Results'!$A$7:$BZ$317,2*AG$5+6,FALSE))","v":1},{"$f":"IF(HLOOKUP(AG$5,$B$6:$K$15,Points!$A9+1,FALSE)=\"TBD\",\"\",IF(VLOOKUP(HLOOKUP(AG$5,$B$6:$K$15,Points!$A9+1,FALSE),'Cars & Results'!$A$7:$BZ$317,2*AG$5+5)<=10,AG13*2,0))","v":0}]
[{"$f":"VLOOKUP(HLOOKUP('Pick Distribution'!$P$2,$B$6:$K$15,9),'Current Owner Standings'!$A$71:$B$480,2,FALSE)","v":36},27,27,27,27,96,96,27,27,27,27,{"$f":"IF(ISNA(VLOOKUP($K14,'Cars & Results'!$A$6:$K$317,L$5,FALSE)),\"Invalid Number\",VLOOKUP($K14,'Cars & Results'!$A$6:$K$317,L$5,FALSE))","v":"Ross Chastain (i)"},{"$f":"IF(ISNA(VLOOKUP($K14,'Cars & Results'!$A$6:$K$317,M$5,FALSE)),\"Invalid Number\",VLOOKUP($K14,'Cars & Results'!$A$6:$K$317,M$5,FALSE))","v":"Chevrolet"},{"$f":"IF(ISNA(VLOOKUP($K14,'Cars & Results'!$A$6:$K$317,N$5,FALSE)),\"Invalid Number\",VLOOKUP($K14,'Cars & Results'!$A$6:$K$317,N$5,FALSE))","v":"Premium Motorsports"},{"$f":"IF(HLOOKUP(O$5,$B$6:$K$15,Points!$A10+1,FALSE)=\"TBD\",\"\",VLOOKUP(HLOOKUP(O$5,$B$6:$K$15,Points!$A10+1,FALSE),'Cars & Results'!$A$7:$BZ$317,2*O$5+6,FALSE))","v":3},{"$f":"IF(HLOOKUP(O$5,$B$6:$K$15,Points!$A10+1,FALSE)=\"TBD\",\"\",IF(VLOOKUP(HLOOKUP(O$5,$B$6:$K$15,Points!$A10+1,FALSE),'Cars & Results'!$A$7:$BZ$317,2*O$5+5)<=10,O14*3,0))","v":0},{"$f":"IF(HLOOKUP(Q$5,$B$6:$K$15,Points!$A10+1,FALSE)=\"TBD\",\"\",VLOOKUP(HLOOKUP(Q$5,$B$6:$K$15,Points!$A10+1,FALSE),'Cars & Results'!$A$7:$BZ$317,2*Q$5+6,FALSE))","v":2},{"$f":"IF(HLOOKUP(Q$5,$B$6:$K$15,Points!$A10+1,FALSE)=\"TBD\",\"\",IF(VLOOKUP(HLOOKUP(Q$5,$B$6:$K$15,Points!$A10+1,FALSE),'Cars & Results'!$A$7:$BZ$317,2*Q$5+5)<=10,Q14*3,0))","v":0},{"$f":"IF(HLOOKUP(S$5,$B$6:$K$15,Points!$A10+1,FALSE)=\"TBD\",\"\",VLOOKUP(HLOOKUP(S$5,$B$6:$K$15,Points!$A10+1,FALSE),'Cars & Results'!$A$7:$BZ$317,2*S$5+6,FALSE))","v":6},{"$f":"IF(HLOOKUP(S$5,$B$6:$K$15,Points!$A10+1,FALSE)=\"TBD\",\"\",IF(VLOOKUP(HLOOKUP(S$5,$B$6:$K$15,Points!$A10+1,FALSE),'Cars & Results'!$A$7:$BZ$317,2*S$5+5)<=10,S14*3,0))","v":0},{"$f":"IF(HLOOKUP(U$5,$B$6:$K$15,Points!$A10+1,FALSE)=\"TBD\",\"\",VLOOKUP(HLOOKUP(U$5,$B$6:$K$15,Points!$A10+1,FALSE),'Cars & Results'!$A$7:$BZ$317,2*U$5+6,FALSE))","v":7},{"$f":"IF(HLOOKUP(U$5,$B$6:$K$15,Points!$A10+1,FALSE)=\"TBD\",\"\",IF(VLOOKUP(HLOOKUP(U$5,$B$6:$K$15,Points!$A10+1,FALSE),'Cars & Results'!$A$7:$BZ$317,2*U$5+5)<=10,U14*3,0))","v":0},{"$f":"IF(HLOOKUP(W$5,$B$6:$K$15,Points!$A10+1,FALSE)=\"TBD\",\"\",VLOOKUP(HLOOKUP(W$5,$B$6:$K$15,Points!$A10+1,FALSE),'Cars & Results'!$A$7:$BZ$317,2*W$5+6,FALSE))","v":22},{"$f":"IF(HLOOKUP(W$5,$B$6:$K$15,Points!$A10+1,FALSE)=\"TBD\",\"\",IF(VLOOKUP(HLOOKUP(W$5,$B$6:$K$15,Points!$A10+1,FALSE),'Cars & Results'!$A$7:$BZ$317,2*W$5+5)<=10,W14*3,0))","v":0},{"$f":"IF(HLOOKUP(Y$5,$B$6:$K$15,Points!$A10+1,FALSE)=\"TBD\",\"\",VLOOKUP(HLOOKUP(Y$5,$B$6:$K$15,Points!$A10+1,FALSE),'Cars & Results'!$A$7:$BZ$317,2*Y$5+6,FALSE))","v":0},{"$f":"IF(HLOOKUP(Y$5,$B$6:$K$15,Points!$A10+1,FALSE)=\"TBD\",\"\",IF(VLOOKUP(HLOOKUP(Y$5,$B$6:$K$15,Points!$A10+1,FALSE),'Cars & Results'!$A$7:$BZ$317,2*Y$5+5)<=10,Y14*3,0))","v":0},{"$f":"IF(HLOOKUP(AA$5,$B$6:$K$15,Points!$A10+1,FALSE)=\"TBD\",\"\",VLOOKUP(HLOOKUP(AA$5,$B$6:$K$15,Points!$A10+1,FALSE),'Cars & Results'!$A$7:$BZ$317,2*AA$5+6,FALSE))","v":4},{"$f":"IF(HLOOKUP(AA$5,$B$6:$K$15,Points!$A10+1,FALSE)=\"TBD\",\"\",IF(VLOOKUP(HLOOKUP(AA$5,$B$6:$K$15,Points!$A10+1,FALSE),'Cars & Results'!$A$7:$BZ$317,2*AA$5+5)<=10,AA14*3,0))","v":0},{"$f":"IF(HLOOKUP(AC$5,$B$6:$K$15,Points!$A10+1,FALSE)=\"TBD\",\"\",VLOOKUP(HLOOKUP(AC$5,$B$6:$K$15,Points!$A10+1,FALSE),'Cars & Results'!$A$7:$BZ$317,2*AC$5+6,FALSE))","v":6},{"$f":"IF(HLOOKUP(AC$5,$B$6:$K$15,Points!$A10+1,FALSE)=\"TBD\",\"\",IF(VLOOKUP(HLOOKUP(AC$5,$B$6:$K$15,Points!$A10+1,FALSE),'Cars & Results'!$A$7:$BZ$317,2*AC$5+5)<=10,AC14*3,0))","v":0},{"$f":"IF(HLOOKUP(AE$5,$B$6:$K$15,Points!$A10+1,FALSE)=\"TBD\",\"\",VLOOKUP(HLOOKUP(AE$5,$B$6:$K$15,Points!$A10+1,FALSE),'Cars & Results'!$A$7:$BZ$317,2*AE$5+6,FALSE))","v":3},{"$f":"IF(HLOOKUP(AE$5,$B$6:$K$15,Points!$A10+1,FALSE)=\"TBD\",\"\",IF(VLOOKUP(HLOOKUP(AE$5,$B$6:$K$15,Points!$A10+1,FALSE),'Cars & Results'!$A$7:$BZ$317,2*AE$5+5)<=10,AE14*3,0))","v":0},{"$f":"IF(HLOOKUP(AG$5,$B$6:$K$15,Points!$A10+1,FALSE)=\"TBD\",\"\",VLOOKUP(HLOOKUP(AG$5,$B$6:$K$15,Points!$A10+1,FALSE),'Cars & Results'!$A$7:$BZ$317,2*AG$5+6,FALSE))","v":2},{"$f":"IF(HLOOKUP(AG$5,$B$6:$K$15,Points!$A10+1,FALSE)=\"TBD\",\"\",IF(VLOOKUP(HLOOKUP(AG$5,$B$6:$K$15,Points!$A10+1,FALSE),'Cars & Results'!$A$7:$BZ$317,2*AG$5+5)<=10,AG14*3,0))","v":0}]
[{"$f":"VLOOKUP(HLOOKUP('Pick Distribution'!$P$2,$B$6:$K$15,10),'Current Owner Standings'!$A$71:$B$480,2,FALSE)","v":13},18,2,42,22,11,88,24,12,4,1,{"$f":"IF(ISNA(VLOOKUP($K15,'Cars & Results'!$A$6:$K$317,L$5,FALSE)),\"Invalid Number\",VLOOKUP($K15,'Cars & Results'!$A$6:$K$317,L$5,FALSE))","v":"Kurt Busch"},{"$f":"IF(ISNA(VLOOKUP($K15,'Cars & Results'!$A$6:$K$317,M$5,FALSE)),\"Invalid Number\",VLOOKUP($K15,'Cars & Results'!$A$6:$K$317,M$5,FALSE))","v":"Chevrolet"},{"$f":"IF(ISNA(VLOOKUP($K15,'Cars & Results'!$A$6:$K$317,N$5,FALSE)),\"Invalid Number\",VLOOKUP($K15,'Cars & Results'!$A$6:$K$317,N$5,FALSE))","v":"Chip Ganassi Racing"},{"$f":"IF(HLOOKUP(O$5,$B$6:$K$15,Points!$A11+1,FALSE)=\"TBD\",\"\",VLOOKUP(HLOOKUP(O$5,$B$6:$K$15,Points!$A11+1,FALSE),'Cars & Results'!$A$7:$BZ$317,2*O$5+6,FALSE))","v":18},{"$f":"IF(HLOOKUP(O$5,$B$6:$K$15,Points!$A11+1,FALSE)=\"TBD\",\"\",IF(AND(VLOOKUP(HLOOKUP(O$5,$B$6:$K$15,Points!$A11+1,FALSE),'Cars & Results'!$A$7:$BZ$317,2*O$5+5)<=3,$A$15<=25),O15*1,IF(AND(VLOOKUP(HLOOKUP(O$5,$B$6:$K$15,Points!$A11+1,FALSE),'Cars & Results'!$A$7:$BZ$317,2*O$5+5)<=10,$A$15>25),O15*3,0)))","v":0},{"$f":"IF(HLOOKUP(Q$5,$B$6:$K$15,Points!$A11+1,FALSE)=\"TBD\",\"\",VLOOKUP(HLOOKUP(Q$5,$B$6:$K$15,Points!$A11+1,FALSE),'Cars & Results'!$A$7:$BZ$317,2*Q$5+6,FALSE))","v":48},0,{"$f":"IF(HLOOKUP(S$5,$B$6:$K$15,Points!$A11+1,FALSE)=\"TBD\",\"\",VLOOKUP(HLOOKUP(S$5,$B$6:$K$15,Points!$A11+1,FALSE),'Cars & Results'!$A$7:$BZ$317,2*S$5+6,FALSE))","v":34},0,{"$f":"IF(HLOOKUP(U$5,$B$6:$K$15,Points!$A11+1,FALSE)=\"TBD\",\"\",VLOOKUP(HLOOKUP(U$5,$B$6:$K$15,Points!$A11+1,FALSE),'Cars & Results'!$A$7:$BZ$317,2*U$5+6,FALSE))","v":3},0,{"$f":"IF(HLOOKUP(W$5,$B$6:$K$15,Points!$A11+1,FALSE)=\"TBD\",\"\",VLOOKUP(HLOOKUP(W$5,$B$6:$K$15,Points!$A11+1,FALSE),'Cars & Results'!$A$7:$BZ$317,2*W$5+6,FALSE))","v":34},34,{"$f":"IF(HLOOKUP(Y$5,$B$6:$K$15,Points!$A11+1,FALSE)=\"TBD\",\"\",VLOOKUP(HLOOKUP(Y$5,$B$6:$K$15,Points!$A11+1,FALSE),'Cars & Results'!$A$7:$BZ$317,2*Y$5+6,FALSE))","v":7},0,{"$f":"IF(HLOOKUP(AA$5,$B$6:$K$15,Points!$A11+1,FALSE)=\"TBD\",\"\",VLOOKUP(HLOOKUP(AA$5,$B$6:$K$15,Points!$A11+1,FALSE),'Cars & Results'!$A$7:$BZ$317,2*AA$5+6,FALSE))","v":45},45,{"$f":"IF(HLOOKUP(AC$5,$B$6:$K$15,Points!$A11+1,FALSE)=\"TBD\",\"\",VLOOKUP(HLOOKUP(AC$5,$B$6:$K$15,Points!$A11+1,FALSE),'Cars & Results'!$A$7:$BZ$317,2*AC$5+6,FALSE))","v":31},0,{"$f":"IF(HLOOKUP(AE$5,$B$6:$K$15,Points!$A11+1,FALSE)=\"TBD\",\"\",VLOOKUP(HLOOKUP(AE$5,$B$6:$K$15,Points!$A11+1,FALSE),'Cars & Results'!$A$7:$BZ$317,2*AE$5+6,FALSE))","v":38},0,{"$f":"IF(HLOOKUP(AG$5,$B$6:$K$15,Points!$A11+1,FALSE)=\"TBD\",\"\",VLOOKUP(HLOOKUP(AG$5,$B$6:$K$15,Points!$A11+1,FALSE),'Cars & Results'!$A$7:$BZ$317,2*AG$5+6,FALSE))","v":16},{"$f":"IF(HLOOKUP(AG$5,$B$6:$K$15,Points!$A11+1,FALSE)=\"TBD\",\"\",IF(AND(VLOOKUP(HLOOKUP(AG$5,$B$6:$K$15,Points!$A11+1,FALSE),'Cars & Results'!$A$7:$BZ$317,2*AG$5+5)<=3,$A$15<=25),AG15*1,IF(AND(VLOOKUP(HLOOKUP(AG$5,$B$6:$K$15,Points!$A11+1,FALSE),'Cars & Results'!$A$7:$BZ$317,2*AG$5+5)<=10,$A$15>25),AG15*3,0)))","v":0}]
[null,null,null,null,null,null,null,null,null,null,null,null,null,"Segment 1",null,{"$f":"IF(INDIRECT(ADDRESS(321,5+(O5*2),1,1,\"Cars & Results\"),TRUE)=\"Y\",IF(ISERROR(MATCH(INDIRECT(ADDRESS(318,5+(O5*2),1,1,\"Cars & Results\"),TRUE),B7:B15,0))=TRUE,0,10),\"\")","v":0},null,{"$f":"IF(INDIRECT(ADDRESS(321,5+(Q5*2),1,1,\"Cars & Results\"),TRUE)=\"Y\",IF(ISERROR(MATCH(INDIRECT(ADDRESS(318,5+(Q5*2),1,1,\"Cars & Results\"),TRUE),C7:C15,0))=TRUE,0,10),\"\")","v":10},null,{"$f":"IF(INDIRECT(ADDRESS(321,5+(S5*2),1,1,\"Cars & Results\"),TRUE)=\"Y\",IF(ISERROR(MATCH(INDIRECT(ADDRESS(318,5+(S5*2),1,1,\"Cars & Results\"),TRUE),D7:D15,0))=TRUE,0,10),\"\")","v":10},null,{"$f":"IF(INDIRECT(ADDRESS(321,5+(U5*2),1,1,\"Cars & Results\"),TRUE)=\"Y\",IF(ISERROR(MATCH(INDIRECT(ADDRESS(318,5+(U5*2),1,1,\"Cars & Results\"),TRUE),E7:E15,0))=TRUE,0,10),\"\")","v":0},null,{"$f":"IF(INDIRECT(ADDRESS(321,5+(W5*2),1,1,\"Cars & Results\"),TRUE)=\"Y\",IF(ISERROR(MATCH(INDIRECT(ADDRESS(318,5+(W5*2),1,1,\"Cars & Results\"),TRUE),F7:F15,0))=TRUE,0,10),\"\")","v":0},null,{"$f":"IF(INDIRECT(ADDRESS(321,5+(Y5*2),1,1,\"Cars & Results\"),TRUE)=\"Y\",IF(ISERROR(MATCH(INDIRECT(ADDRESS(318,5+(Y5*2),1,1,\"Cars & Results\"),TRUE),G7:G15,0))=TRUE,0,10),\"\")","v":10},null,{"$f":"IF(INDIRECT(ADDRESS(321,5+(AA5*2),1,1,\"Cars & Results\"),TRUE)=\"Y\",IF(ISERROR(MATCH(INDIRECT(ADDRESS(318,5+(AA5*2),1,1,\"Cars & Results\"),TRUE),H7:H15,0))=TRUE,0,10),\"\")","v":10},null,{"$f":"IF(INDIRECT(ADDRESS(321,5+(AC5*2),1,1,\"Cars & Results\"),TRUE)=\"Y\",IF(ISERROR(MATCH(INDIRECT(ADDRESS(318,5+(AC5*2),1,1,\"Cars & Results\"),TRUE),I7:I15,0))=TRUE,0,10),\"\")","v":0},null,{"$f":"IF(INDIRECT(ADDRESS(321,5+(AE5*2),1,1,\"Cars & Results\"),TRUE)=\"Y\",IF(ISERROR(MATCH(INDIRECT(ADDRESS(318,5+(AE5*2),1,1,\"Cars & Results\"),TRUE),J7:J15,0))=TRUE,0,10),\"\")","v":0},null,{"$f":"IF(INDIRECT(ADDRESS(321,5+(AG5*2),1,1,\"Cars & Results\"),TRUE)=\"Y\",IF(ISERROR(MATCH(INDIRECT(ADDRESS(318,5+(AG5*2),1,1,\"Cars & Results\"),TRUE),K7:K15,0))=TRUE,0,10),\"\")","v":0}]
[null,null,null,null,null,null,null,null,null,null,null,null,null,"Segment 2",null,{"$f":"IF(INDIRECT(ADDRESS(321,5+(O5*2),1,1,\"Cars & Results\"),TRUE)=\"Y\",IF(ISERROR(MATCH(INDIRECT(ADDRESS(319,5+(O5*2),1,1,\"Cars & Results\"),TRUE),B7:B15,0))=TRUE,0,10),\"\")","v":10},null,{"$f":"IF(INDIRECT(ADDRESS(321,5+(Q5*2),1,1,\"Cars & Results\"),TRUE)=\"Y\",IF(ISERROR(MATCH(INDIRECT(ADDRESS(319,5+(Q5*2),1,1,\"Cars & Results\"),TRUE),C7:C15,0))=TRUE,0,10),\"\")","v":0},null,{"$f":"IF(INDIRECT(ADDRESS(321,5+(S5*2),1,1,\"Cars & Results\"),TRUE)=\"Y\",IF(ISERROR(MATCH(INDIRECT(ADDRESS(319,5+(S5*2),1,1,\"Cars & Results\"),TRUE),D7:D15,0))=TRUE,0,10),\"\")","v":0},null,{"$f":"IF(INDIRECT(ADDRESS(321,5+(U5*2),1,1,\"Cars & Results\"),TRUE)=\"Y\",IF(ISERROR(MATCH(INDIRECT(ADDRESS(319,5+(U5*2),1,1,\"Cars & Results\"),TRUE),E7:E15,0))=TRUE,0,10),\"\")","v":10},null,{"$f":"IF(INDIRECT(ADDRESS(321,5+(W5*2),1,1,\"Cars & Results\"),TRUE)=\"Y\",IF(ISERROR(MATCH(INDIRECT(ADDRESS(319,5+(W5*2),1,1,\"Cars & Results\"),TRUE),F7:F15,0))=TRUE,0,10),\"\")","v":0},null,{"$f":"IF(INDIRECT(ADDRESS(321,5+(Y5*2),1,1,\"Cars & Results\"),TRUE)=\"Y\",IF(ISERROR(MATCH(INDIRECT(ADDRESS(319,5+(Y5*2),1,1,\"Cars & Results\"),TRUE),G7:G15,0))=TRUE,0,10),\"\")","v":10},null,{"$f":"IF(INDIRECT(ADDRESS(321,5+(AA5*2),1,1,\"Cars & Results\"),TRUE)=\"Y\",IF(ISERROR(MATCH(INDIRECT(ADDRESS(319,5+(AA5*2),1,1,\"Cars & Results\"),TRUE),H7:H15,0))=TRUE,0,10),\"\")","v":10},null,{"$f":"IF(INDIRECT(ADDRESS(321,5+(AC5*2),1,1,\"Cars & Results\"),TRUE)=\"Y\",IF(ISERROR(MATCH(INDIRECT(ADDRESS(319,5+(AC5*2),1,1,\"Cars & Results\"),TRUE),I7:I15,0))=TRUE,0,10),\"\")","v":0},null,{"$f":"IF(INDIRECT(ADDRESS(321,5+(AE5*2),1,1,\"Cars & Results\"),TRUE)=\"Y\",IF(ISERROR(MATCH(INDIRECT(ADDRESS(319,5+(AE5*2),1,1,\"Cars & Results\"),TRUE),J7:J15,0))=TRUE,0,10),\"\")","v":0},null,{"$f":"IF(INDIRECT(ADDRESS(321,5+(AG5*2),1,1,\"Cars & Results\"),TRUE)=\"Y\",IF(ISERROR(MATCH(INDIRECT(ADDRESS(319,5+(AG5*2),1,1,\"Cars & Results\"),TRUE),K7:K15,0))=TRUE,0,10),\"\")","v":0}]
[null,null,null,null,null,null,null,null,null,null,null,null,null,"Segment 3",null,{"$f":"IF(INDIRECT(ADDRESS(321,5+(O5*2),1,1,\"Cars & Results\"),TRUE)=\"Y\",IF(ISERROR(MATCH(INDIRECT(ADDRESS(320,5+(O5*2),1,1,\"Cars & Results\"),TRUE),B7:B15,0))=TRUE,0,15),\"\")","v":15},null,{"$f":"IF(INDIRECT(ADDRESS(321,5+(Q5*2),1,1,\"Cars & Results\"),TRUE)=\"Y\",IF(ISERROR(MATCH(INDIRECT(ADDRESS(320,5+(Q5*2),1,1,\"Cars & Results\"),TRUE),C7:C15,0))=TRUE,0,15),\"\")","v":15},null,{"$f":"IF(INDIRECT(ADDRESS(321,5+(S5*2),1,1,\"Cars & Results\"),TRUE)=\"Y\",IF(ISERROR(MATCH(INDIRECT(ADDRESS(320,5+(S5*2),1,1,\"Cars & Results\"),TRUE),D7:D15,0))=TRUE,0,15),\"\")","v":0},null,{"$f":"IF(INDIRECT(ADDRESS(321,5+(U5*2),1,1,\"Cars & Results\"),TRUE)=\"Y\",IF(ISERROR(MATCH(INDIRECT(ADDRESS(320,5+(U5*2),1,1,\"Cars & Results\"),TRUE),E7:E15,0))=TRUE,0,15),\"\")","v":0},null,{"$f":"IF(INDIRECT(ADDRESS(321,5+(W5*2),1,1,\"Cars & Results\"),TRUE)=\"Y\",IF(ISERROR(MATCH(INDIRECT(ADDRESS(320,5+(W5*2),1,1,\"Cars & Results\"),TRUE),F7:F15,0))=TRUE,0,15),\"\")","v":15},null,{"$f":"IF(INDIRECT(ADDRESS(321,5+(Y5*2),1,1,\"Cars & Results\"),TRUE)=\"Y\",IF(ISERROR(MATCH(INDIRECT(ADDRESS(320,5+(Y5*2),1,1,\"Cars & Results\"),TRUE),G7:G15,0))=TRUE,0,15),\"\")","v":15},null,{"$f":"IF(INDIRECT(ADDRESS(321,5+(AA5*2),1,1,\"Cars & Results\"),TRUE)=\"Y\",IF(ISERROR(MATCH(INDIRECT(ADDRESS(320,5+(AA5*2),1,1,\"Cars & Results\"),TRUE),H7:H15,0))=TRUE,0,15),\"\")","v":15},null,{"$f":"IF(INDIRECT(ADDRESS(321,5+(AC5*2),1,1,\"Cars & Results\"),TRUE)=\"Y\",IF(ISERROR(MATCH(INDIRECT(ADDRESS(320,5+(AC5*2),1,1,\"Cars & Results\"),TRUE),I7:I15,0))=TRUE,0,15),\"\")","v":0},null,{"$f":"IF(INDIRECT(ADDRESS(321,5+(AE5*2),1,1,\"Cars & Results\"),TRUE)=\"Y\",IF(ISERROR(MATCH(INDIRECT(ADDRESS(320,5+(AE5*2),1,1,\"Cars & Results\"),TRUE),J7:J15,0))=TRUE,0,15),\"\")","v":0},null,{"$f":"IF(INDIRECT(ADDRESS(321,5+(AG5*2),1,1,\"Cars & Results\"),TRUE)=\"Y\",IF(ISERROR(MATCH(INDIRECT(ADDRESS(320,5+(AG5*2),1,1,\"Cars & Results\"),TRUE),K7:K15,0))=TRUE,0,15),\"\")","v":0}]
[null,{"$f":"SUM(B7:B15)","v":362},316,356,336,394,468,328,316,null,null,null,null,null,{"$f":"SUM(O7:O15)","v":188},null,{"$f":"SUM(Q7:Q15)","v":225},null,{"$f":"SUM(S7:S15)","v":180},null,{"$f":"SUM(U7:U15)","v":168},null,{"$f":"SUM(W7:W15)","v":170},null,{"$f":"SUM(Y7:Y15)","v":124},null,{"$f":"SUM(AA7:AA15)","v":197},null,{"$f":"SUM(AC7:AC15)","v":151},null,{"$f":"SUM(AE7:AE15)","v":180},null,{"$f":"SUM(AG7:AG15)","v":142}]
[null,null,null,null,null,null,null,null,null,null,null,null,null,null,null,{"$f":"SUM(P7:P19)","v":25},null,{"$f":"SUM(R7:R19)","v":25},null,{"$f":"SUM(T7:T19)","v":10},null,{"$f":"SUM(V7:V19)","v":10},null,{"$f":"SUM(X7:X19)","v":60.5},null,{"$f":"SUM(Z7:Z19)","v":35},null,{"$f":"SUM(AB7:AB19)","v":80},null,{"$f":"SUM(AD7:AD19)","v":18.5},null,{"$f":"SUM(AF7:AF19)","v":0},null,{"$f":"SUM(AH7:AH19)","v":0}]
[null,null,null,null,null,null,null,null,null,null,null,null,null,"Race Total",{"$f":"O19+P20","v":213},null,{"$f":"Q19+R20","v":250},null,{"$f":"S19+T20","v":190},null,{"$f":"U19+V20","v":178},null,{"$f":"W19+X20","v":230.5},null,{"$f":"Y19+Z20","v":159},null,{"$f":"AA19+AB20","v":277},null,{"$f":"AC19+AD20","v":169.5},null,{"$f":"AE19+AF20","v":180},null,{"$f":"AG19+AH20","v":142},null,{"$f":"SUM(O21:AH21)","v":1989}]
[null,null,null,null,null,null,null,null,null,null,"1-8"]
[null,null,null,null,null,null,null,null,null,null,"9-16"]
[null,null,null,null,null,null,null,null,null,null,"17-23"]
[null,null,null,null,null,null,null,null,null,null,"24-30"]
[null,null,null,null,null,null,null,null,null,null,"31-35"]
[null,null,null,null,null,null,null,null,null,null,">35"]
[null,null,null,null,null,null,null,null,null,null,"Provisional"]

{"sheet":"Steve Sheppard","index":14,"n_rows":28,"n_cols":35,"rows_kept":28,"cut":false,"hidden":false,"merged":[[4,28,4,29],[4,30,4,31],[4,32,4,33],[20,28,20,29],[20,30,20,31],[20,32,20,33],[2,28,2,29],[2,30,2,31],[2,32,2,33],[3,28,3,29],[3,30,3,31],[3,32,3,33],[0,28,0,29],[0,30,0,31],[0,32,0,33],[1,28,1,29],[1,30,1,31],[1,32,1,33],[20,20,20,21],[4,20,4,21],[3,14,3,15],[3,16,3,17],[3,18,3,19],[20,14,20,15],[20,16,20,17],[20,18,20,19],[4,14,4,15],[4,16,4,17],[4,18,4,19],[2,14,2,15],[2,16,2,17],[2,18,2,19],[0,22,0,23],[0,24,0,25],[0,14,0,15],[0,16,0,17],[0,18,0,19],[1,14,1,15],[1,16,1,17],[1,18,1,19],[0,26,0,27],[3,20,3,21],[3,22,3,23],[3,24,3,25],[3,26,3,27],[1,20,1,21],[1,22,1,23],[1,26,1,27],[2,22,2,23],[2,24,2,25],[2,26,2,27],[1,24,1,25],[2,20,2,21],[0,20,0,21],[20,22,20,23],[20,24,20,25],[20,26,20,27],[4,24,4,25],[4,26,4,27],[4,22,4,23]]}
[null,null,null,null,null,null,null,null,null,null,null,null,null,null,{"$f":"VLOOKUP(O$5,Schedule!$A$8:$J$43,2,FALSE)","v":"2019-09-15"},null,{"$f":"VLOOKUP(Q$5,Schedule!$A$8:$J$43,2,FALSE)","v":"2019-09-21"},null,{"$f":"VLOOKUP(S$5,Schedule!$A$8:$J$43,2,FALSE)","v":"2019-09-29"},null,{"$f":"VLOOKUP(U$5,Schedule!$A$8:$J$43,2,FALSE)","v":"2019-10-06"},null,{"$f":"VLOOKUP(W$5,Schedule!$A$8:$J$43,2,FALSE)","v":"2019-10-13"},null,{"$f":"VLOOKUP(Y$5,Schedule!$A$8:$J$43,2,FALSE)","v":"2019-10-20"},null,{"$f":"VLOOKUP(AA$5,Schedule!$A$8:$J$43,2,FALSE)","v":"2019-10-27"},null,{"$f":"VLOOKUP(AC$5,Schedule!$A$8:$J$43,2,FALSE)","v":"2019-11-03"},null,{"$f":"VLOOKUP(AE$5,Schedule!$A$8:$J$43,2,FALSE)","v":"2019-11-10"},null,{"$f":"VLOOKUP(AG$5,Schedule!$A$8:$J$43,2,FALSE)","v":"2019-11-17"}]
[null,null,null,null,null,null,null,null,null,null,null,null,null,null,{"$f":"LEFT(VLOOKUP(O$5,Schedule!$A$8:$J$43,3,FALSE),15)","v":"South Point 400"},null,{"$f":"LEFT(VLOOKUP(Q$5,Schedule!$A$8:$J$43,3,FALSE),15)","v":"Federated Auto "},null,{"$f":"LEFT(VLOOKUP(S$5,Schedule!$A$8:$J$43,3,FALSE),15)","v":"Bank of America"},null,{"$f":"LEFT(VLOOKUP(U$5,Schedule!$A$8:$J$43,3,FALSE),15)","v":"MENCS Race at D"},null,{"$f":"LEFT(VLOOKUP(W$5,Schedule!$A$8:$J$43,3,FALSE),15)","v":"1000Bulbs.com 5"},null,{"$f":"LEFT(VLOOKUP(Y$5,Schedule!$A$8:$J$43,3,FALSE),15)","v":"Hollywood Casin"},null,{"$f":"LEFT(VLOOKUP(AA$5,Schedule!$A$8:$J$43,3,FALSE),15)","v":"First Data 500"},null,{"$f":"LEFT(VLOOKUP(AC$5,Schedule!$A$8:$J$43,3,FALSE),15)","v":"AAA Texas 500"},null,{"$f":"LEFT(VLOOKUP(AE$5,Schedule!$A$8:$J$43,3,FALSE),15)","v":"MENCS Race at I"},null,{"$f":"LEFT(VLOOKUP(AG$5,Schedule!$A$8:$J$43,3,FALSE),15)","v":"Ford EcoBoost 4"}]
[null,null,null,null,null,null,null,null,null,null,null,null,null,null,{"$f":"VLOOKUP(O$5,Schedule!$A$8:$J$43,2,FALSE)","v":"2019-09-15"},null,{"$f":"VLOOKUP(Q$5,Schedule!$A$8:$J$43,2,FALSE)","v":"2019-09-21"},null,{"$f":"VLOOKUP(S$5,Schedule!$A$8:$J$43,2,FALSE)","v":"2019-09-29"},null,{"$f":"VLOOKUP(U$5,Schedule!$A$8:$J$43,2,FALSE)","v":"2019-10-06"},null,{"$f":"VLOOKUP(W$5,Schedule!$A$8:$J$43,2,FALSE)","v":"2019-10-13"},null,{"$f":"VLOOKUP(Y$5,Schedule!$A$8:$J$43,2,FALSE)","v":"2019-10-20"},null,{"$f":"VLOOKUP(AA$5,Schedule!$A$8:$J$43,2,FALSE)","v":"2019-10-27"},null,{"$f":"VLOOKUP(AC$5,Schedule!$A$8:$J$43,2,FALSE)","v":"2019-11-03"},null,{"$f":"VLOOKUP(AE$5,Schedule!$A$8:$J$43,2,FALSE)","v":"2019-11-10"},null,{"$f":"VLOOKUP(AG$5,Schedule!$A$8:$J$43,2,FALSE)","v":"2019-11-17"}]
[null,null,null,null,null,null,null,null,null,null,null,null,null,null,{"$f":"VLOOKUP(O$5,Schedule!$A$4:$J$43,5,FALSE)","v":"Las Vegas"},null,{"$f":"VLOOKUP(Q$5,Schedule!$A$4:$J$43,5,FALSE)","v":"Richmond "},null,{"$f":"VLOOKUP(S$5,Schedule!$A$4:$J$43,5,FALSE)","v":"Charlotte "},null,{"$f":"VLOOKUP(U$5,Schedule!$A$4:$J$43,5,FALSE)","v":"Dover "},null,{"$f":"VLOOKUP(W$5,Schedule!$A$4:$J$43,5,FALSE)","v":"Talladega "},null,{"$f":"VLOOKUP(Y$5,Schedule!$A$4:$J$43,5,FALSE)","v":"Kansas "},null,{"$f":"VLOOKUP(AA$5,Schedule!$A$4:$J$43,5,FALSE)","v":"Martinsville "},null,{"$f":"VLOOKUP(AC$5,Schedule!$A$4:$J$43,5,FALSE)","v":"Texas "},null,{"$f":"VLOOKUP(AE$5,Schedule!$A$4:$J$43,5,FALSE)","v":"Phoenix"},null,{"$f":"VLOOKUP(AG$5,Schedule!$A$4:$J$43,5,FALSE)","v":"Homestead–Miami "}]
["Owner","Week","Week","Week","Week","Week","Week","Week","Week","Week","Week",2,3,4,27,null,28,null,29,null,30,null,31,null,32,null,33,null,34,null,35,null,36,null,"Total"]
["Points",27,28,29,30,31,32,33,34,35,36,"Driver","Make","Sponsor","Points","Bonus","Points","Bonus","Points","Bonus","Points","Bonus","Points","Bonus","Points","Bonus","Points","Bonus","Points","Bonus","Points","Bonus","Points","Bonus","Points"]
[{"$f":"VLOOKUP(HLOOKUP('Pick Distribution'!$P$2,$B$6:$K$15,$L$5),'Current Owner Standings'!$A$71:$B$480,2,FALSE)","v":2},18,18,18,18,19,19,19,4,4,4,{"$f":"IF(ISNA(VLOOKUP($K7,'Cars & Results'!$A$6:$K$317,L$5,FALSE)),\"Invalid Number\",VLOOKUP($K7,'Cars & Results'!$A$6:$K$317,L$5,FALSE))","v":"Kevin Harvick"},{"$f":"IF(ISNA(VLOOKUP($K7,'Cars & Results'!$A$6:$K$317,M$5,FALSE)),\"Invalid Number\",VLOOKUP($K7,'Cars & Results'!$A$6:$K$317,M$5,FALSE))","v":"Ford"},{"$f":"IF(ISNA(VLOOKUP($K7,'Cars & Results'!$A$6:$K$317,N$5,FALSE)),\"Invalid Number\",VLOOKUP($K7,'Cars & Results'!$A$6:$K$317,N$5,FALSE))","v":"Stewart-Haas Racing"},{"$f":"IF(HLOOKUP(O$5,$B$6:$K$15,Points!$A3+1,FALSE)=\"TBD\",\"\",VLOOKUP(HLOOKUP(O$5,$B$6:$K$15,Points!$A3+1,FALSE),'Cars & Results'!$A$7:$BZ$317,2*O$5+6,FALSE))","v":18},{"$f":"IF(HLOOKUP(O$5,$B$6:$K$15,Points!$A3+1,FALSE)=\"TBD\",\"\",0)","v":0},{"$f":"IF(HLOOKUP(Q$5,$B$6:$K$15,Points!$A3+1,FALSE)=\"TBD\",\"\",VLOOKUP(HLOOKUP(Q$5,$B$6:$K$15,Points!$A3+1,FALSE),'Cars & Results'!$A$7:$BZ$317,2*Q$5+6,FALSE))","v":54},{"$f":"IF(HLOOKUP(Q$5,$B$6:$K$15,Points!$A3+1,FALSE)=\"TBD\",\"\",0)","v":0},{"$f":"IF(HLOOKUP(S$5,$B$6:$K$15,Points!$A3+1,FALSE)=\"TBD\",\"\",VLOOKUP(HLOOKUP(S$5,$B$6:$K$15,Points!$A3+1,FALSE),'Cars & Results'!$A$7:$BZ$317,2*S$5+6,FALSE))","v":1},{"$f":"IF(HLOOKUP(S$5,$B$6:$K$15,Points!$A3+1,FALSE)=\"TBD\",\"\",0)","v":0},{"$f":"IF(HLOOKUP(U$5,$B$6:$K$15,Points!$A3+1,FALSE)=\"TBD\",\"\",VLOOKUP(HLOOKUP(U$5,$B$6:$K$15,Points!$A3+1,FALSE),'Cars & Results'!$A$7:$BZ$317,2*U$5+6,FALSE))","v":34},{"$f":"IF(HLOOKUP(U$5,$B$6:$K$15,Points!$A3+1,FALSE)=\"TBD\",\"\",0)","v":0},{"$f":"IF(HLOOKUP(W$5,$B$6:$K$15,Points!$A3+1,FALSE)=\"TBD\",\"\",VLOOKUP(HLOOKUP(W$5,$B$6:$K$15,Points!$A3+1,FALSE),'Cars & Results'!$A$7:$BZ$317,2*W$5+6,FALSE))","v":11},{"$f":"IF(HLOOKUP(W$5,$B$6:$K$15,Points!$A3+1,FALSE)=\"TBD\",\"\",0)","v":0},{"$f":"IF(HLOOKUP(Y$5,$B$6:$K$15,Points!$A3+1,FALSE)=\"TBD\",\"\",VLOOKUP(HLOOKUP(Y$5,$B$6:$K$15,Points!$A3+1,FALSE),'Cars & Results'!$A$7:$BZ$317,2*Y$5+6,FALSE))","v":60},{"$f":"IF(HLOOKUP(Y$5,$B$6:$K$15,Points!$A3+1,FALSE)=\"TBD\",\"\",0)","v":0},{"$f":"IF(HLOOKUP(AA$5,$B$6:$K$15,Points!$A3+1,FALSE)=\"TBD\",\"\",VLOOKUP(HLOOKUP(AA$5,$B$6:$K$15,Points!$A3+1,FALSE),'Cars & Results'!$A$7:$BZ$317,2*AA$5+6,FALSE))","v":60},{"$f":"IF(HLOOKUP(AA$5,$B$6:$K$15,Points!$A3+1,FALSE)=\"TBD\",\"\",0)","v":0},{"$f":"IF(HLOOKUP(AC$5,$B$6:$K$15,Points!$A3+1,FALSE)=\"TBD\",\"\",VLOOKUP(HLOOKUP(AC$5,$B$6:$K$15,Points!$A3+1,FALSE),'Cars & Results'!$A$7:$BZ$317,2*AC$5+6,FALSE))","v":55},{"$f":"IF(HLOOKUP(AC$5,$B$6:$K$15,Points!$A3+1,FALSE)=\"TBD\",\"\",0)","v":0},{"$f":"IF(HLOOKUP(AE$5,$B$6:$K$15,Points!$A3+1,FALSE)=\"TBD\",\"\",VLOOKUP(HLOOKUP(AE$5,$B$6:$K$15,Points!$A3+1,FALSE),'Cars & Results'!$A$7:$BZ$317,2*AE$5+6,FALSE))","v":38},{"$f":"IF(HLOOKUP(AE$5,$B$6:$K$15,Points!$A3+1,FALSE)=\"TBD\",\"\",0)","v":0},{"$f":"IF(HLOOKUP(AG$5,$B$6:$K$15,Points!$A3+1,FALSE)=\"TBD\",\"\",VLOOKUP(HLOOKUP(AG$5,$B$6:$K$15,Points!$A3+1,FALSE),'Cars & Results'!$A$7:$BZ$317,2*AG$5+6,FALSE))","v":33},{"$f":"IF(HLOOKUP(AG$5,$B$6:$K$15,Points!$A3+1,FALSE)=\"TBD\",\"\",0)","v":0}]
[{"$f":"VLOOKUP(HLOOKUP('Pick Distribution'!$P$2,$B$6:$K$15,3),'Current Owner Standings'!$A$71:$B$480,2,FALSE)","v":11},88,88,88,88,9,9,20,2,2,9,{"$f":"IF(ISNA(VLOOKUP($K8,'Cars & Results'!$A$6:$K$317,L$5,FALSE)),\"Invalid Number\",VLOOKUP($K8,'Cars & Results'!$A$6:$K$317,L$5,FALSE))","v":"Chase Elliott"},{"$f":"IF(ISNA(VLOOKUP($K8,'Cars & Results'!$A$6:$K$317,M$5,FALSE)),\"Invalid Number\",VLOOKUP($K8,'Cars & Results'!$A$6:$K$317,M$5,FALSE))","v":"Chevrolet"},{"$f":"IF(ISNA(VLOOKUP($K8,'Cars & Results'!$A$6:$K$317,N$5,FALSE)),\"Invalid Number\",VLOOKUP($K8,'Cars & Results'!$A$6:$K$317,N$5,FALSE))","v":"Hendrick Motorsports"},{"$f":"IF(HLOOKUP(O$5,$B$6:$K$15,Points!$A4+1,FALSE)=\"TBD\",\"\",VLOOKUP(HLOOKUP(O$5,$B$6:$K$15,Points!$A4+1,FALSE),'Cars & Results'!$A$7:$BZ$317,2*O$5+6,FALSE))","v":32},{"$f":"IF(HLOOKUP(O$5,$B$6:$KI$15,Points!$A4+1,FALSE)=\"TBD\",\"\",IF(VLOOKUP(HLOOKUP(O$5,$B$6:$K$15,Points!$A4+1,FALSE),'Cars & Results'!$A$7:$BZ$317,2*O$5+5)=1,O8*0.25,0))","v":0},{"$f":"IF(HLOOKUP(Q$5,$B$6:$K$15,Points!$A4+1,FALSE)=\"TBD\",\"\",VLOOKUP(HLOOKUP(Q$5,$B$6:$K$15,Points!$A4+1,FALSE),'Cars & Results'!$A$7:$BZ$317,2*Q$5+6,FALSE))","v":14},{"$f":"IF(HLOOKUP(Q$5,$B$6:$KI$15,Points!$A4+1,FALSE)=\"TBD\",\"\",IF(VLOOKUP(HLOOKUP(Q$5,$B$6:$K$15,Points!$A4+1,FALSE),'Cars & Results'!$A$7:$BZ$317,2*Q$5+5)=1,Q8*0.25,0))","v":0},{"$f":"IF(HLOOKUP(S$5,$B$6:$K$15,Points!$A4+1,FALSE)=\"TBD\",\"\",VLOOKUP(HLOOKUP(S$5,$B$6:$K$15,Points!$A4+1,FALSE),'Cars & Results'!$A$7:$BZ$317,2*S$5+6,FALSE))","v":35},{"$f":"IF(HLOOKUP(S$5,$B$6:$KI$15,Points!$A4+1,FALSE)=\"TBD\",\"\",IF(VLOOKUP(HLOOKUP(S$5,$B$6:$K$15,Points!$A4+1,FALSE),'Cars & Results'!$A$7:$BZ$317,2*S$5+5)=1,S8*0.25,0))","v":0},{"$f":"IF(HLOOKUP(U$5,$B$6:$K$15,Points!$A4+1,FALSE)=\"TBD\",\"\",VLOOKUP(HLOOKUP(U$5,$B$6:$K$15,Points!$A4+1,FALSE),'Cars & Results'!$A$7:$BZ$317,2*U$5+6,FALSE))","v":44},{"$f":"IF(HLOOKUP(U$5,$B$6:$KI$15,Points!$A4+1,FALSE)=\"TBD\",\"\",IF(VLOOKUP(HLOOKUP(U$5,$B$6:$K$15,Points!$A4+1,FALSE),'Cars & Results'!$A$7:$BZ$317,2*U$5+5)=1,U8*0.25,0))","v":0},{"$f":"IF(HLOOKUP(W$5,$B$6:$K$15,Points!$A4+1,FALSE)=\"TBD\",\"\",VLOOKUP(HLOOKUP(W$5,$B$6:$K$15,Points!$A4+1,FALSE),'Cars & Results'!$A$7:$BZ$317,2*W$5+6,FALSE))","v":29},{"$f":"IF(HLOOKUP(W$5,$B$6:$KI$15,Points!$A4+1,FALSE)=\"TBD\",\"\",IF(VLOOKUP(HLOOKUP(W$5,$B$6:$K$15,Points!$A4+1,FALSE),'Cars & Results'!$A$7:$BZ$317,2*W$5+5)=1,W8*0.25,0))","v":0},{"$f":"IF(HLOOKUP(Y$5,$B$6:$K$15,Points!$A4+1,FALSE)=\"TBD\",\"\",VLOOKUP(HLOOKUP(Y$5,$B$6:$K$15,Points!$A4+1,FALSE),'Cars & Results'!$A$7:$BZ$317,2*Y$5+6,FALSE))","v":4},{"$f":"IF(HLOOKUP(Y$5,$B$6:$KI$15,Points!$A4+1,FALSE)=\"TBD\",\"\",IF(VLOOKUP(HLOOKUP(Y$5,$B$6:$K$15,Points!$A4+1,FALSE),'Cars & Results'!$A$7:$BZ$317,2*Y$5+5)=1,Y8*0.25,0))","v":0},{"$f":"IF(HLOOKUP(AA$5,$B$6:$K$15,Points!$A4+1,FALSE)=\"TBD\",\"\",VLOOKUP(HLOOKUP(AA$5,$B$6:$K$15,Points!$A4+1,FALSE),'Cars & Results'!$A$7:$BZ$317,2*AA$5+6,FALSE))","v":19},{"$f":"IF(HLOOKUP(AA$5,$B$6:$KI$15,Points!$A4+1,FALSE)=\"TBD\",\"\",IF(VLOOKUP(HLOOKUP(AA$5,$B$6:$K$15,Points!$A4+1,FALSE),'Cars & Results'!$A$7:$BZ$317,2*AA$5+5)=1,AA8*0.25,0))","v":0},{"$f":"IF(HLOOKUP(AC$5,$B$6:$K$15,Points!$A4+1,FALSE)=\"TBD\",\"\",VLOOKUP(HLOOKUP(AC$5,$B$6:$K$15,Points!$A4+1,FALSE),'Cars & Results'!$A$7:$BZ$317,2*AC$5+6,FALSE))","v":1},{"$f":"IF(HLOOKUP(AC$5,$B$6:$KI$15,Points!$A4+1,FALSE)=\"TBD\",\"\",IF(VLOOKUP(HLOOKUP(AC$5,$B$6:$K$15,Points!$A4+1,FALSE),'Cars & Results'!$A$7:$BZ$317,2*AC$5+5)=1,AC8*0.25,0))","v":0},{"$f":"IF(HLOOKUP(AE$5,$B$6:$K$15,Points!$A4+1,FALSE)=\"TBD\",\"\",VLOOKUP(HLOOKUP(AE$5,$B$6:$K$15,Points!$A4+1,FALSE),'Cars & Results'!$A$7:$BZ$317,2*AE$5+6,FALSE))","v":34},{"$f":"IF(HLOOKUP(AE$5,$B$6:$KI$15,Points!$A4+1,FALSE)=\"TBD\",\"\",IF(VLOOKUP(HLOOKUP(AE$5,$B$6:$K$15,Points!$A4+1,FALSE),'Cars & Results'!$A$7:$BZ$317,2*AE$5+5)=1,AE8*0.25,0))","v":0},{"$f":"IF(HLOOKUP(AG$5,$B$6:$K$15,Points!$A4+1,FALSE)=\"TBD\",\"\",VLOOKUP(HLOOKUP(AG$5,$B$6:$K$15,Points!$A4+1,FALSE),'Cars & Results'!$A$7:$BZ$317,2*AG$5+6,FALSE))","v":22},{"$f":"IF(HLOOKUP(AG$5,$B$6:$KI$15,Points!$A4+1,FALSE)=\"TBD\",\"\",IF(VLOOKUP(HLOOKUP(AG$5,$B$6:$K$15,Points!$A4+1,FALSE),'Cars & Results'!$A$7:$BZ$317,2*AG$5+5)=1,AG8*0.25,0))","v":0}]
[{"$f":"VLOOKUP(HLOOKUP('Pick Distribution'!$P$2,$B$6:$K$15,4),'Current Owner Standings'!$A$71:$B$480,2,FALSE)","v":17},41,41,41,41,41,41,41,41,41,41,{"$f":"IF(ISNA(VLOOKUP($K9,'Cars & Results'!$A$6:$K$317,L$5,FALSE)),\"Invalid Number\",VLOOKUP($K9,'Cars & Results'!$A$6:$K$317,L$5,FALSE))","v":"Daniel Suárez"},{"$f":"IF(ISNA(VLOOKUP($K9,'Cars & Results'!$A$6:$K$317,M$5,FALSE)),\"Invalid Number\",VLOOKUP($K9,'Cars & Results'!$A$6:$K$317,M$5,FALSE))","v":"Ford"},{"$f":"IF(ISNA(VLOOKUP($K9,'Cars & Results'!$A$6:$K$317,N$5,FALSE)),\"Invalid Number\",VLOOKUP($K9,'Cars & Results'!$A$6:$K$317,N$5,FALSE))","v":"Stewart-Haas Racing"},{"$f":"IF(HLOOKUP(O$5,$B$6:$K$15,Points!$A5+1,FALSE)=\"TBD\",\"\",VLOOKUP(HLOOKUP(O$5,$B$6:$K$15,Points!$A5+1,FALSE),'Cars & Results'!$A$7:$BZ$317,2*O$5+6,FALSE))","v":24},{"$f":"IF(HLOOKUP(O$5,$B$6:$K$15,Points!$A5+1,FALSE)=\"TBD\",\"\",IF(VLOOKUP(HLOOKUP(O$5,$B$6:$K$15,Points!$A5+1,FALSE),'Cars & Results'!$A$7:$BZ$317,2*O$5+5)<=5,O9*0.5,0))","v":0},{"$f":"IF(HLOOKUP(Q$5,$B$6:$K$15,Points!$A5+1,FALSE)=\"TBD\",\"\",VLOOKUP(HLOOKUP(Q$5,$B$6:$K$15,Points!$A5+1,FALSE),'Cars & Results'!$A$7:$BZ$317,2*Q$5+6,FALSE))","v":28},{"$f":"IF(HLOOKUP(Q$5,$B$6:$K$15,Points!$A5+1,FALSE)=\"TBD\",\"\",IF(VLOOKUP(HLOOKUP(Q$5,$B$6:$K$15,Points!$A5+1,FALSE),'Cars & Results'!$A$7:$BZ$317,2*Q$5+5)<=5,Q9*0.5,0))","v":0},{"$f":"IF(HLOOKUP(S$5,$B$6:$K$15,Points!$A5+1,FALSE)=\"TBD\",\"\",VLOOKUP(HLOOKUP(S$5,$B$6:$K$15,Points!$A5+1,FALSE),'Cars & Results'!$A$7:$BZ$317,2*S$5+6,FALSE))","v":7},{"$f":"IF(HLOOKUP(S$5,$B$6:$K$15,Points!$A5+1,FALSE)=\"TBD\",\"\",IF(VLOOKUP(HLOOKUP(S$5,$B$6:$K$15,Points!$A5+1,FALSE),'Cars & Results'!$A$7:$BZ$317,2*S$5+5)<=5,S9*0.5,0))","v":0},{"$f":"IF(HLOOKUP(U$5,$B$6:$K$15,Points!$A5+1,FALSE)=\"TBD\",\"\",VLOOKUP(HLOOKUP(U$5,$B$6:$K$15,Points!$A5+1,FALSE),'Cars & Results'!$A$7:$BZ$317,2*U$5+6,FALSE))","v":23},{"$f":"IF(HLOOKUP(U$5,$B$6:$K$15,Points!$A5+1,FALSE)=\"TBD\",\"\",IF(VLOOKUP(HLOOKUP(U$5,$B$6:$K$15,Points!$A5+1,FALSE),'Cars & Results'!$A$7:$BZ$317,2*U$5+5)<=5,U9*0.5,0))","v":0},{"$f":"IF(HLOOKUP(W$5,$B$6:$K$15,Points!$A5+1,FALSE)=\"TBD\",\"\",VLOOKUP(HLOOKUP(W$5,$B$6:$K$15,Points!$A5+1,FALSE),'Cars & Results'!$A$7:$BZ$317,2*W$5+6,FALSE))","v":14},{"$f":"IF(HLOOKUP(W$5,$B$6:$K$15,Points!$A5+1,FALSE)=\"TBD\",\"\",IF(VLOOKUP(HLOOKUP(W$5,$B$6:$K$15,Points!$A5+1,FALSE),'Cars & Results'!$A$7:$BZ$317,2*W$5+5)<=5,W9*0.5,0))","v":0},{"$f":"IF(HLOOKUP(Y$5,$B$6:$K$15,Points!$A5+1,FALSE)=\"TBD\",\"\",VLOOKUP(HLOOKUP(Y$5,$B$6:$K$15,Points!$A5+1,FALSE),'Cars & Results'!$A$7:$BZ$317,2*Y$5+6,FALSE))","v":7},{"$f":"IF(HLOOKUP(Y$5,$B$6:$K$15,Points!$A5+1,FALSE)=\"TBD\",\"\",IF(VLOOKUP(HLOOKUP(Y$5,$B$6:$K$15,Points!$A5+1,FALSE),'Cars & Results'!$A$7:$BZ$317,2*Y$5+5)<=5,Y9*0.5,0))","v":0},{"$f":"IF(HLOOKUP(AA$5,$B$6:$K$15,Points!$A5+1,FALSE)=\"TBD\",\"\",VLOOKUP(HLOOKUP(AA$5,$B$6:$K$15,Points!$A5+1,FALSE),'Cars & Results'!$A$7:$BZ$317,2*AA$5+6,FALSE))","v":7},{"$f":"IF(HLOOKUP(AA$5,$B$6:$K$15,Points!$A5+1,FALSE)=\"TBD\",\"\",IF(VLOOKUP(HLOOKUP(AA$5,$B$6:$K$15,Points!$A5+1,FALSE),'Cars & Results'!$A$7:$BZ$317,2*AA$5+5)<=5,AA9*0.5,0))","v":0},{"$f":"IF(HLOOKUP(AC$5,$B$6:$K$15,Points!$A5+1,FALSE)=\"TBD\",\"\",VLOOKUP(HLOOKUP(AC$5,$B$6:$K$15,Points!$A5+1,FALSE),'Cars & Results'!$A$7:$BZ$317,2*AC$5+6,FALSE))","v":37},{"$f":"IF(HLOOKUP(AC$5,$B$6:$K$15,Points!$A5+1,FALSE)=\"TBD\",\"\",IF(VLOOKUP(HLOOKUP(AC$5,$B$6:$K$15,Points!$A5+1,FALSE),'Cars & Results'!$A$7:$BZ$317,2*AC$5+5)<=5,AC9*0.5,0))","v":18.5},{"$f":"IF(HLOOKUP(AE$5,$B$6:$K$15,Points!$A5+1,FALSE)=\"TBD\",\"\",VLOOKUP(HLOOKUP(AE$5,$B$6:$K$15,Points!$A5+1,FALSE),'Cars & Results'!$A$7:$BZ$317,2*AE$5+6,FALSE))","v":22},{"$f":"IF(HLOOKUP(AE$5,$B$6:$K$15,Points!$A5+1,FALSE)=\"TBD\",\"\",IF(VLOOKUP(HLOOKUP(AE$5,$B$6:$K$15,Points!$A5+1,FALSE),'Cars & Results'!$A$7:$BZ$317,2*AE$5+5)<=5,AE9*0.5,0))","v":0},{"$f":"IF(HLOOKUP(AG$5,$B$6:$K$15,Points!$A5+1,FALSE)=\"TBD\",\"\",VLOOKUP(HLOOKUP(AG$5,$B$6:$K$15,Points!$A5+1,FALSE),'Cars & Results'!$A$7:$BZ$317,2*AG$5+6,FALSE))","v":23},{"$f":"IF(HLOOKUP(AG$5,$B$6:$K$15,Points!$A5+1,FALSE)=\"TBD\",\"\",IF(VLOOKUP(HLOOKUP(AG$5,$B$6:$K$15,Points!$A5+1,FALSE),'Cars & Results'!$A$7:$BZ$317,2*AG$5+5)<=5,AG9*0.5,0))","v":0}]
[{"$f":"VLOOKUP(HLOOKUP('Pick Distribution'!$P$2,$B$6:$K$15,5),'Current Owner Standings'!$A$71:$B$480,2,FALSE)","v":18},48,48,48,48,48,48,48,48,48,48,{"$f":"IF(ISNA(VLOOKUP($K10,'Cars & Results'!$A$6:$K$317,L$5,FALSE)),\"Invalid Number\",VLOOKUP($K10,'Cars & Results'!$A$6:$K$317,L$5,FALSE))","v":"Jimmie Johnson"},{"$f":"IF(ISNA(VLOOKUP($K10,'Cars & Results'!$A$6:$K$317,M$5,FALSE)),\"Invalid Number\",VLOOKUP($K10,'Cars & Results'!$A$6:$K$317,M$5,FALSE))","v":"Chevrolet"},{"$f":"IF(ISNA(VLOOKUP($K10,'Cars & Results'!$A$6:$K$317,N$5,FALSE)),\"Invalid Number\",VLOOKUP($K10,'Cars & Results'!$A$6:$K$317,N$5,FALSE))","v":"Hendrick Motorsports"},{"$f":"IF(HLOOKUP(O$5,$B$6:$K$15,Points!$A6+1,FALSE)=\"TBD\",\"\",VLOOKUP(HLOOKUP(O$5,$B$6:$K$15,Points!$A6+1,FALSE),'Cars & Results'!$A$7:$BZ$317,2*O$5+6,FALSE))","v":26},{"$f":"IF(HLOOKUP(O$5,$B$6:$K$15,Points!$A6+1,FALSE)=\"TBD\",\"\",IF(VLOOKUP(HLOOKUP(O$5,$B$6:$K$15,Points!$A6+1,FALSE),'Cars & Results'!$A$7:$BZ$317,2*O$5+5)<=5,O10*0.5,0))","v":0},{"$f":"IF(HLOOKUP(Q$5,$B$6:$K$15,Points!$A6+1,FALSE)=\"TBD\",\"\",VLOOKUP(HLOOKUP(Q$5,$B$6:$K$15,Points!$A6+1,FALSE),'Cars & Results'!$A$7:$BZ$317,2*Q$5+6,FALSE))","v":31},{"$f":"IF(HLOOKUP(Q$5,$B$6:$K$15,Points!$A6+1,FALSE)=\"TBD\",\"\",IF(VLOOKUP(HLOOKUP(Q$5,$B$6:$K$15,Points!$A6+1,FALSE),'Cars & Results'!$A$7:$BZ$317,2*Q$5+5)<=5,Q10*0.5,0))","v":0},{"$f":"IF(HLOOKUP(S$5,$B$6:$K$15,Points!$A6+1,FALSE)=\"TBD\",\"\",VLOOKUP(HLOOKUP(S$5,$B$6:$K$15,Points!$A6+1,FALSE),'Cars & Results'!$A$7:$BZ$317,2*S$5+6,FALSE))","v":35},{"$f":"IF(HLOOKUP(S$5,$B$6:$K$15,Points!$A6+1,FALSE)=\"TBD\",\"\",IF(VLOOKUP(HLOOKUP(S$5,$B$6:$K$15,Points!$A6+1,FALSE),'Cars & Results'!$A$7:$BZ$317,2*S$5+5)<=5,S10*0.5,0))","v":0},{"$f":"IF(HLOOKUP(U$5,$B$6:$K$15,Points!$A6+1,FALSE)=\"TBD\",\"\",VLOOKUP(HLOOKUP(U$5,$B$6:$K$15,Points!$A6+1,FALSE),'Cars & Results'!$A$7:$BZ$317,2*U$5+6,FALSE))","v":39},{"$f":"IF(HLOOKUP(U$5,$B$6:$K$15,Points!$A6+1,FALSE)=\"TBD\",\"\",IF(VLOOKUP(HLOOKUP(U$5,$B$6:$K$15,Points!$A6+1,FALSE),'Cars & Results'!$A$7:$BZ$317,2*U$5+5)<=5,U10*0.5,0))","v":0},{"$f":"IF(HLOOKUP(W$5,$B$6:$K$15,Points!$A6+1,FALSE)=\"TBD\",\"\",VLOOKUP(HLOOKUP(W$5,$B$6:$K$15,Points!$A6+1,FALSE),'Cars & Results'!$A$7:$BZ$317,2*W$5+6,FALSE))","v":5},{"$f":"IF(HLOOKUP(W$5,$B$6:$K$15,Points!$A6+1,FALSE)=\"TBD\",\"\",IF(VLOOKUP(HLOOKUP(W$5,$B$6:$K$15,Points!$A6+1,FALSE),'Cars & Results'!$A$7:$BZ$317,2*W$5+5)<=5,W10*0.5,0))","v":0},{"$f":"IF(HLOOKUP(Y$5,$B$6:$K$15,Points!$A6+1,FALSE)=\"TBD\",\"\",VLOOKUP(HLOOKUP(Y$5,$B$6:$K$15,Points!$A6+1,FALSE),'Cars & Results'!$A$7:$BZ$317,2*Y$5+6,FALSE))","v":1},{"$f":"IF(HLOOKUP(Y$5,$B$6:$K$15,Points!$A6+1,FALSE)=\"TBD\",\"\",IF(VLOOKUP(HLOOKUP(Y$5,$B$6:$K$15,Points!$A6+1,FALSE),'Cars & Results'!$A$7:$BZ$317,2*Y$5+5)<=5,Y10*0.5,0))","v":0},{"$f":"IF(HLOOKUP(AA$5,$B$6:$K$15,Points!$A6+1,FALSE)=\"TBD\",\"\",VLOOKUP(HLOOKUP(AA$5,$B$6:$K$15,Points!$A6+1,FALSE),'Cars & Results'!$A$7:$BZ$317,2*AA$5+6,FALSE))","v":1},{"$f":"IF(HLOOKUP(AA$5,$B$6:$K$15,Points!$A6+1,FALSE)=\"TBD\",\"\",IF(VLOOKUP(HLOOKUP(AA$5,$B$6:$K$15,Points!$A6+1,FALSE),'Cars & Results'!$A$7:$BZ$317,2*AA$5+5)<=5,AA10*0.5,0))","v":0},{"$f":"IF(HLOOKUP(AC$5,$B$6:$K$15,Points!$A6+1,FALSE)=\"TBD\",\"\",VLOOKUP(HLOOKUP(AC$5,$B$6:$K$15,Points!$A6+1,FALSE),'Cars & Results'!$A$7:$BZ$317,2*AC$5+6,FALSE))","v":11},{"$f":"IF(HLOOKUP(AC$5,$B$6:$K$15,Points!$A6+1,FALSE)=\"TBD\",\"\",IF(VLOOKUP(HLOOKUP(AC$5,$B$6:$K$15,Points!$A6+1,FALSE),'Cars & Results'!$A$7:$BZ$317,2*AC$5+5)<=5,AC10*0.5,0))","v":0},{"$f":"IF(HLOOKUP(AE$5,$B$6:$K$15,Points!$A6+1,FALSE)=\"TBD\",\"\",VLOOKUP(HLOOKUP(AE$5,$B$6:$K$15,Points!$A6+1,FALSE),'Cars & Results'!$A$7:$BZ$317,2*AE$5+6,FALSE))","v":23},{"$f":"IF(HLOOKUP(AE$5,$B$6:$K$15,Points!$A6+1,FALSE)=\"TBD\",\"\",IF(VLOOKUP(HLOOKUP(AE$5,$B$6:$K$15,Points!$A6+1,FALSE),'Cars & Results'!$A$7:$BZ$317,2*AE$5+5)<=5,AE10*0.5,0))","v":0},{"$f":"IF(HLOOKUP(AG$5,$B$6:$K$15,Points!$A6+1,FALSE)=\"TBD\",\"\",VLOOKUP(HLOOKUP(AG$5,$B$6:$K$15,Points!$A6+1,FALSE),'Cars & Results'!$A$7:$BZ$317,2*AG$5+6,FALSE))","v":28},{"$f":"IF(HLOOKUP(AG$5,$B$6:$K$15,Points!$A6+1,FALSE)=\"TBD\",\"\",IF(VLOOKUP(HLOOKUP(AG$5,$B$6:$K$15,Points!$A6+1,FALSE),'Cars & Results'!$A$7:$BZ$317,2*AG$5+5)<=5,AG10*0.5,0))","v":0}]
[{"$f":"VLOOKUP(HLOOKUP('Pick Distribution'!$P$2,$B$6:$K$15,6),'Current Owner Standings'!$A$71:$B$480,2,FALSE)","v":24},13,13,13,13,13,13,13,13,13,13,{"$f":"IF(ISNA(VLOOKUP($K11,'Cars & Results'!$A$6:$K$317,L$5,FALSE)),\"Invalid Number\",VLOOKUP($K11,'Cars & Results'!$A$6:$K$317,L$5,FALSE))","v":"Ty Dillon"},{"$f":"IF(ISNA(VLOOKUP($K11,'Cars & Results'!$A$6:$K$317,M$5,FALSE)),\"Invalid Number\",VLOOKUP($K11,'Cars & Results'!$A$6:$K$317,M$5,FALSE))","v":"Chevrolet"},{"$f":"IF(ISNA(VLOOKUP($K11,'Cars & Results'!$A$6:$K$317,N$5,FALSE)),\"Invalid Number\",VLOOKUP($K11,'Cars & Results'!$A$6:$K$317,N$5,FALSE))","v":"Germain Racing"},{"$f":"IF(HLOOKUP(O$5,$B$6:$K$15,Points!$A7+1,FALSE)=\"TBD\",\"\",VLOOKUP(HLOOKUP(O$5,$B$6:$K$15,Points!$A7+1,FALSE),'Cars & Results'!$A$7:$BZ$317,2*O$5+6,FALSE))","v":21},{"$f":"IF(HLOOKUP(O$5,$B$6:$K$15,Points!$A7+1,FALSE)=\"TBD\",\"\",IF(VLOOKUP(HLOOKUP(O$5,$B$6:$K$15,Points!$A7+1,FALSE),'Cars & Results'!$A$7:$BZ$317,2*O$5+5)<=10,O11*1.5,0))","v":0},{"$f":"IF(HLOOKUP(Q$5,$B$6:$K$15,Points!$A7+1,FALSE)=\"TBD\",\"\",VLOOKUP(HLOOKUP(Q$5,$B$6:$K$15,Points!$A7+1,FALSE),'Cars & Results'!$A$7:$BZ$317,2*Q$5+6,FALSE))","v":11},{"$f":"IF(HLOOKUP(Q$5,$B$6:$K$15,Points!$A7+1,FALSE)=\"TBD\",\"\",IF(VLOOKUP(HLOOKUP(Q$5,$B$6:$K$15,Points!$A7+1,FALSE),'Cars & Results'!$A$7:$BZ$317,2*Q$5+5)<=10,Q11*1.5,0))","v":0},{"$f":"IF(HLOOKUP(S$5,$B$6:$K$15,Points!$A7+1,FALSE)=\"TBD\",\"\",VLOOKUP(HLOOKUP(S$5,$B$6:$K$15,Points!$A7+1,FALSE),'Cars & Results'!$A$7:$BZ$317,2*S$5+6,FALSE))","v":22},{"$f":"IF(HLOOKUP(S$5,$B$6:$K$15,Points!$A7+1,FALSE)=\"TBD\",\"\",IF(VLOOKUP(HLOOKUP(S$5,$B$6:$K$15,Points!$A7+1,FALSE),'Cars & Results'!$A$7:$BZ$317,2*S$5+5)<=10,S11*1.5,0))","v":0},{"$f":"IF(HLOOKUP(U$5,$B$6:$K$15,Points!$A7+1,FALSE)=\"TBD\",\"\",VLOOKUP(HLOOKUP(U$5,$B$6:$K$15,Points!$A7+1,FALSE),'Cars & Results'!$A$7:$BZ$317,2*U$5+6,FALSE))","v":14},{"$f":"IF(HLOOKUP(U$5,$B$6:$K$15,Points!$A7+1,FALSE)=\"TBD\",\"\",IF(VLOOKUP(HLOOKUP(U$5,$B$6:$K$15,Points!$A7+1,FALSE),'Cars & Results'!$A$7:$BZ$317,2*U$5+5)<=10,U11*1.5,0))","v":0},{"$f":"IF(HLOOKUP(W$5,$B$6:$K$15,Points!$A7+1,FALSE)=\"TBD\",\"\",VLOOKUP(HLOOKUP(W$5,$B$6:$K$15,Points!$A7+1,FALSE),'Cars & Results'!$A$7:$BZ$317,2*W$5+6,FALSE))","v":27},{"$f":"IF(HLOOKUP(W$5,$B$6:$K$15,Points!$A7+1,FALSE)=\"TBD\",\"\",IF(VLOOKUP(HLOOKUP(W$5,$B$6:$K$15,Points!$A7+1,FALSE),'Cars & Results'!$A$7:$BZ$317,2*W$5+5)<=10,W11*1.5,0))","v":40.5},{"$f":"IF(HLOOKUP(Y$5,$B$6:$K$15,Points!$A7+1,FALSE)=\"TBD\",\"\",VLOOKUP(HLOOKUP(Y$5,$B$6:$K$15,Points!$A7+1,FALSE),'Cars & Results'!$A$7:$BZ$317,2*Y$5+6,FALSE))","v":13},{"$f":"IF(HLOOKUP(Y$5,$B$6:$K$15,Points!$A7+1,FALSE)=\"TBD\",\"\",IF(VLOOKUP(HLOOKUP(Y$5,$B$6:$K$15,Points!$A7+1,FALSE),'Cars & Results'!$A$7:$BZ$317,2*Y$5+5)<=10,Y11*1.5,0))","v":0},{"$f":"IF(HLOOKUP(AA$5,$B$6:$K$15,Points!$A7+1,FALSE)=\"TBD\",\"\",VLOOKUP(HLOOKUP(AA$5,$B$6:$K$15,Points!$A7+1,FALSE),'Cars & Results'!$A$7:$BZ$317,2*AA$5+6,FALSE))","v":13},{"$f":"IF(HLOOKUP(AA$5,$B$6:$K$15,Points!$A7+1,FALSE)=\"TBD\",\"\",IF(VLOOKUP(HLOOKUP(AA$5,$B$6:$K$15,Points!$A7+1,FALSE),'Cars & Results'!$A$7:$BZ$317,2*AA$5+5)<=10,AA11*1.5,0))","v":0},{"$f":"IF(HLOOKUP(AC$5,$B$6:$K$15,Points!$A7+1,FALSE)=\"TBD\",\"\",VLOOKUP(HLOOKUP(AC$5,$B$6:$K$15,Points!$A7+1,FALSE),'Cars & Results'!$A$7:$BZ$317,2*AC$5+6,FALSE))","v":19},{"$f":"IF(HLOOKUP(AC$5,$B$6:$K$15,Points!$A7+1,FALSE)=\"TBD\",\"\",IF(VLOOKUP(HLOOKUP(AC$5,$B$6:$K$15,Points!$A7+1,FALSE),'Cars & Results'!$A$7:$BZ$317,2*AC$5+5)<=10,AC11*1.5,0))","v":0},{"$f":"IF(HLOOKUP(AE$5,$B$6:$K$15,Points!$A7+1,FALSE)=\"TBD\",\"\",VLOOKUP(HLOOKUP(AE$5,$B$6:$K$15,Points!$A7+1,FALSE),'Cars & Results'!$A$7:$BZ$317,2*AE$5+6,FALSE))","v":17},{"$f":"IF(HLOOKUP(AE$5,$B$6:$K$15,Points!$A7+1,FALSE)=\"TBD\",\"\",IF(VLOOKUP(HLOOKUP(AE$5,$B$6:$K$15,Points!$A7+1,FALSE),'Cars & Results'!$A$7:$BZ$317,2*AE$5+5)<=10,AE11*1.5,0))","v":0},{"$f":"IF(HLOOKUP(AG$5,$B$6:$K$15,Points!$A7+1,FALSE)=\"TBD\",\"\",VLOOKUP(HLOOKUP(AG$5,$B$6:$K$15,Points!$A7+1,FALSE),'Cars & Results'!$A$7:$BZ$317,2*AG$5+6,FALSE))","v":13},{"$f":"IF(HLOOKUP(AG$5,$B$6:$K$15,Points!$A7+1,FALSE)=\"TBD\",\"\",IF(VLOOKUP(HLOOKUP(AG$5,$B$6:$K$15,Points!$A7+1,FALSE),'Cars & Results'!$A$7:$BZ$317,2*AG$5+5)<=10,AG11*1.5,0))","v":0}]
[{"$f":"VLOOKUP(HLOOKUP('Pick Distribution'!$P$2,$B$6:$K$15,7),'Current Owner Standings'!$A$71:$B$480,2,FALSE)","v":25},8,8,8,8,8,8,8,8,8,8,{"$f":"IF(ISNA(VLOOKUP($K12,'Cars & Results'!$A$6:$K$317,L$5,FALSE)),\"Invalid Number\",VLOOKUP($K12,'Cars & Results'!$A$6:$K$317,L$5,FALSE))","v":"Daniel Hemric (R)"},{"$f":"IF(ISNA(VLOOKUP($K12,'Cars & Results'!$A$6:$K$317,M$5,FALSE)),\"Invalid Number\",VLOOKUP($K12,'Cars & Results'!$A$6:$K$317,M$5,FALSE))","v":"Chevrolet"},{"$f":"IF(ISNA(VLOOKUP($K12,'Cars & Results'!$A$6:$K$317,N$5,FALSE)),\"Invalid Number\",VLOOKUP($K12,'Cars & Results'!$A$6:$K$317,N$5,FALSE))","v":"Richard Childress Racing"},{"$f":"IF(HLOOKUP(O$5,$B$6:$K$15,Points!$A8+1,FALSE)=\"TBD\",\"\",VLOOKUP(HLOOKUP(O$5,$B$6:$K$15,Points!$A8+1,FALSE),'Cars & Results'!$A$7:$BZ$317,2*O$5+6,FALSE))","v":20},{"$f":"IF(HLOOKUP(O$5,$B$6:$K$15,Points!$A8+1,FALSE)=\"TBD\",\"\",IF(VLOOKUP(HLOOKUP(O$5,$B$6:$K$15,Points!$A8+1,FALSE),'Cars & Results'!$A$7:$BZ$317,2*O$5+5)<=10,O12*1.5,0))","v":0},{"$f":"IF(HLOOKUP(Q$5,$B$6:$K$15,Points!$A8+1,FALSE)=\"TBD\",\"\",VLOOKUP(HLOOKUP(Q$5,$B$6:$K$15,Points!$A8+1,FALSE),'Cars & Results'!$A$7:$BZ$317,2*Q$5+6,FALSE))","v":12},{"$f":"IF(HLOOKUP(Q$5,$B$6:$K$15,Points!$A8+1,FALSE)=\"TBD\",\"\",IF(VLOOKUP(HLOOKUP(Q$5,$B$6:$K$15,Points!$A8+1,FALSE),'Cars & Results'!$A$7:$BZ$317,2*Q$5+5)<=10,Q12*1.5,0))","v":0},{"$f":"IF(HLOOKUP(S$5,$B$6:$K$15,Points!$A8+1,FALSE)=\"TBD\",\"\",VLOOKUP(HLOOKUP(S$5,$B$6:$K$15,Points!$A8+1,FALSE),'Cars & Results'!$A$7:$BZ$317,2*S$5+6,FALSE))","v":4},{"$f":"IF(HLOOKUP(S$5,$B$6:$K$15,Points!$A8+1,FALSE)=\"TBD\",\"\",IF(VLOOKUP(HLOOKUP(S$5,$B$6:$K$15,Points!$A8+1,FALSE),'Cars & Results'!$A$7:$BZ$317,2*S$5+5)<=10,S12*1.5,0))","v":0},{"$f":"IF(HLOOKUP(U$5,$B$6:$K$15,Points!$A8+1,FALSE)=\"TBD\",\"\",VLOOKUP(HLOOKUP(U$5,$B$6:$K$15,Points!$A8+1,FALSE),'Cars & Results'!$A$7:$BZ$317,2*U$5+6,FALSE))","v":16},{"$f":"IF(HLOOKUP(U$5,$B$6:$K$15,Points!$A8+1,FALSE)=\"TBD\",\"\",IF(VLOOKUP(HLOOKUP(U$5,$B$6:$K$15,Points!$A8+1,FALSE),'Cars & Results'!$A$7:$BZ$317,2*U$5+5)<=10,U12*1.5,0))","v":0},{"$f":"IF(HLOOKUP(W$5,$B$6:$K$15,Points!$A8+1,FALSE)=\"TBD\",\"\",VLOOKUP(HLOOKUP(W$5,$B$6:$K$15,Points!$A8+1,FALSE),'Cars & Results'!$A$7:$BZ$317,2*W$5+6,FALSE))","v":16},{"$f":"IF(HLOOKUP(W$5,$B$6:$K$15,Points!$A8+1,FALSE)=\"TBD\",\"\",IF(VLOOKUP(HLOOKUP(W$5,$B$6:$K$15,Points!$A8+1,FALSE),'Cars & Results'!$A$7:$BZ$317,2*W$5+5)<=10,W12*1.5,0))","v":0},{"$f":"IF(HLOOKUP(Y$5,$B$6:$K$15,Points!$A8+1,FALSE)=\"TBD\",\"\",VLOOKUP(HLOOKUP(Y$5,$B$6:$K$15,Points!$A8+1,FALSE),'Cars & Results'!$A$7:$BZ$317,2*Y$5+6,FALSE))","v":20},{"$f":"IF(HLOOKUP(Y$5,$B$6:$K$15,Points!$A8+1,FALSE)=\"TBD\",\"\",IF(VLOOKUP(HLOOKUP(Y$5,$B$6:$K$15,Points!$A8+1,FALSE),'Cars & Results'!$A$7:$BZ$317,2*Y$5+5)<=10,Y12*1.5,0))","v":0},{"$f":"IF(HLOOKUP(AA$5,$B$6:$K$15,Points!$A8+1,FALSE)=\"TBD\",\"\",VLOOKUP(HLOOKUP(AA$5,$B$6:$K$15,Points!$A8+1,FALSE),'Cars & Results'!$A$7:$BZ$317,2*AA$5+6,FALSE))","v":20},{"$f":"IF(HLOOKUP(AA$5,$B$6:$K$15,Points!$A8+1,FALSE)=\"TBD\",\"\",IF(VLOOKUP(HLOOKUP(AA$5,$B$6:$K$15,Points!$A8+1,FALSE),'Cars & Results'!$A$7:$BZ$317,2*AA$5+5)<=10,AA12*1.5,0))","v":0},{"$f":"IF(HLOOKUP(AC$5,$B$6:$K$15,Points!$A8+1,FALSE)=\"TBD\",\"\",VLOOKUP(HLOOKUP(AC$5,$B$6:$K$15,Points!$A8+1,FALSE),'Cars & Results'!$A$7:$BZ$317,2*AC$5+6,FALSE))","v":22},{"$f":"IF(HLOOKUP(AC$5,$B$6:$K$15,Points!$A8+1,FALSE)=\"TBD\",\"\",IF(VLOOKUP(HLOOKUP(AC$5,$B$6:$K$15,Points!$A8+1,FALSE),'Cars & Results'!$A$7:$BZ$317,2*AC$5+5)<=10,AC12*1.5,0))","v":0},{"$f":"IF(HLOOKUP(AE$5,$B$6:$K$15,Points!$A8+1,FALSE)=\"TBD\",\"\",VLOOKUP(HLOOKUP(AE$5,$B$6:$K$15,Points!$A8+1,FALSE),'Cars & Results'!$A$7:$BZ$317,2*AE$5+6,FALSE))","v":16},{"$f":"IF(HLOOKUP(AE$5,$B$6:$K$15,Points!$A8+1,FALSE)=\"TBD\",\"\",IF(VLOOKUP(HLOOKUP(AE$5,$B$6:$K$15,Points!$A8+1,FALSE),'Cars & Results'!$A$7:$BZ$317,2*AE$5+5)<=10,AE12*1.5,0))","v":0},{"$f":"IF(HLOOKUP(AG$5,$B$6:$K$15,Points!$A8+1,FALSE)=\"TBD\",\"\",VLOOKUP(HLOOKUP(AG$5,$B$6:$K$15,Points!$A8+1,FALSE),'Cars & Results'!$A$7:$BZ$317,2*AG$5+6,FALSE))","v":29},{"$f":"IF(HLOOKUP(AG$5,$B$6:$K$15,Points!$A8+1,FALSE)=\"TBD\",\"\",IF(VLOOKUP(HLOOKUP(AG$5,$B$6:$K$15,Points!$A8+1,FALSE),'Cars & Results'!$A$7:$BZ$317,2*AG$5+5)<=10,AG12*1.5,0))","v":0}]
[{"$f":"VLOOKUP(HLOOKUP('Pick Distribution'!$P$2,$B$6:$K$15,8),'Current Owner Standings'!$A$71:$B$480,2,FALSE)","v":31},36,36,36,36,36,38,38,36,15,38,{"$f":"IF(ISNA(VLOOKUP($K13,'Cars & Results'!$A$6:$K$317,L$5,FALSE)),\"Invalid Number\",VLOOKUP($K13,'Cars & Results'!$A$6:$K$317,L$5,FALSE))","v":"David Ragan"},{"$f":"IF(ISNA(VLOOKUP($K13,'Cars & Results'!$A$6:$K$317,M$5,FALSE)),\"Invalid Number\",VLOOKUP($K13,'Cars & Results'!$A$6:$K$317,M$5,FALSE))","v":"Ford"},{"$f":"IF(ISNA(VLOOKUP($K13,'Cars & Results'!$A$6:$K$317,N$5,FALSE)),\"Invalid Number\",VLOOKUP($K13,'Cars & Results'!$A$6:$K$317,N$5,FALSE))","v":"Front Row Motorsports"},{"$f":"IF(HLOOKUP(O$5,$B$6:$K$15,Points!$A9+1,FALSE)=\"TBD\",\"\",VLOOKUP(HLOOKUP(O$5,$B$6:$K$15,Points!$A9+1,FALSE),'Cars & Results'!$A$7:$BZ$317,2*O$5+6,FALSE))","v":7},{"$f":"IF(HLOOKUP(O$5,$B$6:$K$15,Points!$A9+1,FALSE)=\"TBD\",\"\",IF(VLOOKUP(HLOOKUP(O$5,$B$6:$K$15,Points!$A9+1,FALSE),'Cars & Results'!$A$7:$BZ$317,2*O$5+5)<=10,O13*2,0))","v":0},{"$f":"IF(HLOOKUP(Q$5,$B$6:$K$15,Points!$A9+1,FALSE)=\"TBD\",\"\",VLOOKUP(HLOOKUP(Q$5,$B$6:$K$15,Points!$A9+1,FALSE),'Cars & Results'!$A$7:$BZ$317,2*Q$5+6,FALSE))","v":17},{"$f":"IF(HLOOKUP(Q$5,$B$6:$K$15,Points!$A9+1,FALSE)=\"TBD\",\"\",IF(VLOOKUP(HLOOKUP(Q$5,$B$6:$K$15,Points!$A9+1,FALSE),'Cars & Results'!$A$7:$BZ$317,2*Q$5+5)<=10,Q13*2,0))","v":0},{"$f":"IF(HLOOKUP(S$5,$B$6:$K$15,Points!$A9+1,FALSE)=\"TBD\",\"\",VLOOKUP(HLOOKUP(S$5,$B$6:$K$15,Points!$A9+1,FALSE),'Cars & Results'!$A$7:$BZ$317,2*S$5+6,FALSE))","v":12},{"$f":"IF(HLOOKUP(S$5,$B$6:$K$15,Points!$A9+1,FALSE)=\"TBD\",\"\",IF(VLOOKUP(HLOOKUP(S$5,$B$6:$K$15,Points!$A9+1,FALSE),'Cars & Results'!$A$7:$BZ$317,2*S$5+5)<=10,S13*2,0))","v":0},{"$f":"IF(HLOOKUP(U$5,$B$6:$K$15,Points!$A9+1,FALSE)=\"TBD\",\"\",VLOOKUP(HLOOKUP(U$5,$B$6:$K$15,Points!$A9+1,FALSE),'Cars & Results'!$A$7:$BZ$317,2*U$5+6,FALSE))","v":12},{"$f":"IF(HLOOKUP(U$5,$B$6:$K$15,Points!$A9+1,FALSE)=\"TBD\",\"\",IF(VLOOKUP(HLOOKUP(U$5,$B$6:$K$15,Points!$A9+1,FALSE),'Cars & Results'!$A$7:$BZ$317,2*U$5+5)<=10,U13*2,0))","v":0},{"$f":"IF(HLOOKUP(W$5,$B$6:$K$15,Points!$A9+1,FALSE)=\"TBD\",\"\",VLOOKUP(HLOOKUP(W$5,$B$6:$K$15,Points!$A9+1,FALSE),'Cars & Results'!$A$7:$BZ$317,2*W$5+6,FALSE))","v":24},{"$f":"IF(HLOOKUP(W$5,$B$6:$K$15,Points!$A9+1,FALSE)=\"TBD\",\"\",IF(VLOOKUP(HLOOKUP(W$5,$B$6:$K$15,Points!$A9+1,FALSE),'Cars & Results'!$A$7:$BZ$317,2*W$5+5)<=10,W13*2,0))","v":0},{"$f":"IF(HLOOKUP(Y$5,$B$6:$K$15,Points!$A9+1,FALSE)=\"TBD\",\"\",VLOOKUP(HLOOKUP(Y$5,$B$6:$K$15,Points!$A9+1,FALSE),'Cars & Results'!$A$7:$BZ$317,2*Y$5+6,FALSE))","v":26},{"$f":"IF(HLOOKUP(Y$5,$B$6:$K$15,Points!$A9+1,FALSE)=\"TBD\",\"\",IF(VLOOKUP(HLOOKUP(Y$5,$B$6:$K$15,Points!$A9+1,FALSE),'Cars & Results'!$A$7:$BZ$317,2*Y$5+5)<=10,Y13*2,0))","v":0},{"$f":"IF(HLOOKUP(AA$5,$B$6:$K$15,Points!$A9+1,FALSE)=\"TBD\",\"\",VLOOKUP(HLOOKUP(AA$5,$B$6:$K$15,Points!$A9+1,FALSE),'Cars & Results'!$A$7:$BZ$317,2*AA$5+6,FALSE))","v":26},{"$f":"IF(HLOOKUP(AA$5,$B$6:$K$15,Points!$A9+1,FALSE)=\"TBD\",\"\",IF(VLOOKUP(HLOOKUP(AA$5,$B$6:$K$15,Points!$A9+1,FALSE),'Cars & Results'!$A$7:$BZ$317,2*AA$5+5)<=10,AA13*2,0))","v":0},{"$f":"IF(HLOOKUP(AC$5,$B$6:$K$15,Points!$A9+1,FALSE)=\"TBD\",\"\",VLOOKUP(HLOOKUP(AC$5,$B$6:$K$15,Points!$A9+1,FALSE),'Cars & Results'!$A$7:$BZ$317,2*AC$5+6,FALSE))","v":16},{"$f":"IF(HLOOKUP(AC$5,$B$6:$K$15,Points!$A9+1,FALSE)=\"TBD\",\"\",IF(VLOOKUP(HLOOKUP(AC$5,$B$6:$K$15,Points!$A9+1,FALSE),'Cars & Results'!$A$7:$BZ$317,2*AC$5+5)<=10,AC13*2,0))","v":0},{"$f":"IF(HLOOKUP(AE$5,$B$6:$K$15,Points!$A9+1,FALSE)=\"TBD\",\"\",VLOOKUP(HLOOKUP(AE$5,$B$6:$K$15,Points!$A9+1,FALSE),'Cars & Results'!$A$7:$BZ$317,2*AE$5+6,FALSE))","v":9},{"$f":"IF(HLOOKUP(AE$5,$B$6:$K$15,Points!$A9+1,FALSE)=\"TBD\",\"\",IF(VLOOKUP(HLOOKUP(AE$5,$B$6:$K$15,Points!$A9+1,FALSE),'Cars & Results'!$A$7:$BZ$317,2*AE$5+5)<=10,AE13*2,0))","v":0},{"$f":"IF(HLOOKUP(AG$5,$B$6:$K$15,Points!$A9+1,FALSE)=\"TBD\",\"\",VLOOKUP(HLOOKUP(AG$5,$B$6:$K$15,Points!$A9+1,FALSE),'Cars & Results'!$A$7:$BZ$317,2*AG$5+6,FALSE))","v":10},{"$f":"IF(HLOOKUP(AG$5,$B$6:$K$15,Points!$A9+1,FALSE)=\"TBD\",\"\",IF(VLOOKUP(HLOOKUP(AG$5,$B$6:$K$15,Points!$A9+1,FALSE),'Cars & Results'!$A$7:$BZ$317,2*AG$5+5)<=10,AG13*2,0))","v":0}]
[{"$f":"VLOOKUP(HLOOKUP('Pick Distribution'!$P$2,$B$6:$K$15,9),'Current Owner Standings'!$A$71:$B$480,2,FALSE)","v":36},52,52,52,52,52,52,52,27,27,27,{"$f":"IF(ISNA(VLOOKUP($K14,'Cars & Results'!$A$6:$K$317,L$5,FALSE)),\"Invalid Number\",VLOOKUP($K14,'Cars & Results'!$A$6:$K$317,L$5,FALSE))","v":"Ross Chastain (i)"},{"$f":"IF(ISNA(VLOOKUP($K14,'Cars & Results'!$A$6:$K$317,M$5,FALSE)),\"Invalid Number\",VLOOKUP($K14,'Cars & Results'!$A$6:$K$317,M$5,FALSE))","v":"Chevrolet"},{"$f":"IF(ISNA(VLOOKUP($K14,'Cars & Results'!$A$6:$K$317,N$5,FALSE)),\"Invalid Number\",VLOOKUP($K14,'Cars & Results'!$A$6:$K$317,N$5,FALSE))","v":"Premium Motorsports"},{"$f":"IF(HLOOKUP(O$5,$B$6:$K$15,Points!$A10+1,FALSE)=\"TBD\",\"\",VLOOKUP(HLOOKUP(O$5,$B$6:$K$15,Points!$A10+1,FALSE),'Cars & Results'!$A$7:$BZ$317,2*O$5+6,FALSE))","v":2},{"$f":"IF(HLOOKUP(O$5,$B$6:$K$15,Points!$A10+1,FALSE)=\"TBD\",\"\",IF(VLOOKUP(HLOOKUP(O$5,$B$6:$K$15,Points!$A10+1,FALSE),'Cars & Results'!$A$7:$BZ$317,2*O$5+5)<=10,O14*3,0))","v":0},{"$f":"IF(HLOOKUP(Q$5,$B$6:$K$15,Points!$A10+1,FALSE)=\"TBD\",\"\",VLOOKUP(HLOOKUP(Q$5,$B$6:$K$15,Points!$A10+1,FALSE),'Cars & Results'!$A$7:$BZ$317,2*Q$5+6,FALSE))","v":4},{"$f":"IF(HLOOKUP(Q$5,$B$6:$K$15,Points!$A10+1,FALSE)=\"TBD\",\"\",IF(VLOOKUP(HLOOKUP(Q$5,$B$6:$K$15,Points!$A10+1,FALSE),'Cars & Results'!$A$7:$BZ$317,2*Q$5+5)<=10,Q14*3,0))","v":0},{"$f":"IF(HLOOKUP(S$5,$B$6:$K$15,Points!$A10+1,FALSE)=\"TBD\",\"\",VLOOKUP(HLOOKUP(S$5,$B$6:$K$15,Points!$A10+1,FALSE),'Cars & Results'!$A$7:$BZ$317,2*S$5+6,FALSE))","v":1},{"$f":"IF(HLOOKUP(S$5,$B$6:$K$15,Points!$A10+1,FALSE)=\"TBD\",\"\",IF(VLOOKUP(HLOOKUP(S$5,$B$6:$K$15,Points!$A10+1,FALSE),'Cars & Results'!$A$7:$BZ$317,2*S$5+5)<=10,S14*3,0))","v":0},{"$f":"IF(HLOOKUP(U$5,$B$6:$K$15,Points!$A10+1,FALSE)=\"TBD\",\"\",VLOOKUP(HLOOKUP(U$5,$B$6:$K$15,Points!$A10+1,FALSE),'Cars & Results'!$A$7:$BZ$317,2*U$5+6,FALSE))","v":5},{"$f":"IF(HLOOKUP(U$5,$B$6:$K$15,Points!$A10+1,FALSE)=\"TBD\",\"\",IF(VLOOKUP(HLOOKUP(U$5,$B$6:$K$15,Points!$A10+1,FALSE),'Cars & Results'!$A$7:$BZ$317,2*U$5+5)<=10,U14*3,0))","v":0},{"$f":"IF(HLOOKUP(W$5,$B$6:$K$15,Points!$A10+1,FALSE)=\"TBD\",\"\",VLOOKUP(HLOOKUP(W$5,$B$6:$K$15,Points!$A10+1,FALSE),'Cars & Results'!$A$7:$BZ$317,2*W$5+6,FALSE))","v":0},{"$f":"IF(HLOOKUP(W$5,$B$6:$K$15,Points!$A10+1,FALSE)=\"TBD\",\"\",IF(VLOOKUP(HLOOKUP(W$5,$B$6:$K$15,Points!$A10+1,FALSE),'Cars & Results'!$A$7:$BZ$317,2*W$5+5)<=10,W14*3,0))","v":0},{"$f":"IF(HLOOKUP(Y$5,$B$6:$K$15,Points!$A10+1,FALSE)=\"TBD\",\"\",VLOOKUP(HLOOKUP(Y$5,$B$6:$K$15,Points!$A10+1,FALSE),'Cars & Results'!$A$7:$BZ$317,2*Y$5+6,FALSE))","v":5},{"$f":"IF(HLOOKUP(Y$5,$B$6:$K$15,Points!$A10+1,FALSE)=\"TBD\",\"\",IF(VLOOKUP(HLOOKUP(Y$5,$B$6:$K$15,Points!$A10+1,FALSE),'Cars & Results'!$A$7:$BZ$317,2*Y$5+5)<=10,Y14*3,0))","v":0},{"$f":"IF(HLOOKUP(AA$5,$B$6:$K$15,Points!$A10+1,FALSE)=\"TBD\",\"\",VLOOKUP(HLOOKUP(AA$5,$B$6:$K$15,Points!$A10+1,FALSE),'Cars & Results'!$A$7:$BZ$317,2*AA$5+6,FALSE))","v":5},{"$f":"IF(HLOOKUP(AA$5,$B$6:$K$15,Points!$A10+1,FALSE)=\"TBD\",\"\",IF(VLOOKUP(HLOOKUP(AA$5,$B$6:$K$15,Points!$A10+1,FALSE),'Cars & Results'!$A$7:$BZ$317,2*AA$5+5)<=10,AA14*3,0))","v":0},{"$f":"IF(HLOOKUP(AC$5,$B$6:$K$15,Points!$A10+1,FALSE)=\"TBD\",\"\",VLOOKUP(HLOOKUP(AC$5,$B$6:$K$15,Points!$A10+1,FALSE),'Cars & Results'!$A$7:$BZ$317,2*AC$5+6,FALSE))","v":6},{"$f":"IF(HLOOKUP(AC$5,$B$6:$K$15,Points!$A10+1,FALSE)=\"TBD\",\"\",IF(VLOOKUP(HLOOKUP(AC$5,$B$6:$K$15,Points!$A10+1,FALSE),'Cars & Results'!$A$7:$BZ$317,2*AC$5+5)<=10,AC14*3,0))","v":0},{"$f":"IF(HLOOKUP(AE$5,$B$6:$K$15,Points!$A10+1,FALSE)=\"TBD\",\"\",VLOOKUP(HLOOKUP(AE$5,$B$6:$K$15,Points!$A10+1,FALSE),'Cars & Results'!$A$7:$BZ$317,2*AE$5+6,FALSE))","v":3},{"$f":"IF(HLOOKUP(AE$5,$B$6:$K$15,Points!$A10+1,FALSE)=\"TBD\",\"\",IF(VLOOKUP(HLOOKUP(AE$5,$B$6:$K$15,Points!$A10+1,FALSE),'Cars & Results'!$A$7:$BZ$317,2*AE$5+5)<=10,AE14*3,0))","v":0},{"$f":"IF(HLOOKUP(AG$5,$B$6:$K$15,Points!$A10+1,FALSE)=\"TBD\",\"\",VLOOKUP(HLOOKUP(AG$5,$B$6:$K$15,Points!$A10+1,FALSE),'Cars & Results'!$A$7:$BZ$317,2*AG$5+6,FALSE))","v":2},{"$f":"IF(HLOOKUP(AG$5,$B$6:$K$15,Points!$A10+1,FALSE)=\"TBD\",\"\",IF(VLOOKUP(HLOOKUP(AG$5,$B$6:$K$15,Points!$A10+1,FALSE),'Cars & Results'!$A$7:$BZ$317,2*AG$5+5)<=10,AG14*3,0))","v":0}]
[{"$f":"VLOOKUP(HLOOKUP('Pick Distribution'!$P$2,$B$6:$K$15,10),'Current Owner Standings'!$A$71:$B$480,2,FALSE)","v":6},22,4,19,54,11,2,53,10,18,42,{"$f":"IF(ISNA(VLOOKUP($K15,'Cars & Results'!$A$6:$K$317,L$5,FALSE)),\"Invalid Number\",VLOOKUP($K15,'Cars & Results'!$A$6:$K$317,L$5,FALSE))","v":"Kyle Larson"},{"$f":"IF(ISNA(VLOOKUP($K15,'Cars & Results'!$A$6:$K$317,M$5,FALSE)),\"Invalid Number\",VLOOKUP($K15,'Cars & Results'!$A$6:$K$317,M$5,FALSE))","v":"Chevrolet"},{"$f":"IF(ISNA(VLOOKUP($K15,'Cars & Results'!$A$6:$K$317,N$5,FALSE)),\"Invalid Number\",VLOOKUP($K15,'Cars & Results'!$A$6:$K$317,N$5,FALSE))","v":"Chip Ganassi Racing"},{"$f":"IF(HLOOKUP(O$5,$B$6:$K$15,Points!$A11+1,FALSE)=\"TBD\",\"\",VLOOKUP(HLOOKUP(O$5,$B$6:$K$15,Points!$A11+1,FALSE),'Cars & Results'!$A$7:$BZ$317,2*O$5+6,FALSE))","v":47},{"$f":"IF(HLOOKUP(O$5,$B$6:$K$15,Points!$A11+1,FALSE)=\"TBD\",\"\",IF(AND(VLOOKUP(HLOOKUP(O$5,$B$6:$K$15,Points!$A11+1,FALSE),'Cars & Results'!$A$7:$BZ$317,2*O$5+5)<=3,$A$15<=25),O15*1,IF(AND(VLOOKUP(HLOOKUP(O$5,$B$6:$K$15,Points!$A11+1,FALSE),'Cars & Results'!$A$7:$BZ$317,2*O$5+5)<=10,$A$15>25),O15*3,0)))","v":0},{"$f":"IF(HLOOKUP(Q$5,$B$6:$K$15,Points!$A11+1,FALSE)=\"TBD\",\"\",VLOOKUP(HLOOKUP(Q$5,$B$6:$K$15,Points!$A11+1,FALSE),'Cars & Results'!$A$7:$BZ$317,2*Q$5+6,FALSE))","v":41},0,{"$f":"IF(HLOOKUP(S$5,$B$6:$K$15,Points!$A11+1,FALSE)=\"TBD\",\"\",VLOOKUP(HLOOKUP(S$5,$B$6:$K$15,Points!$A11+1,FALSE),'Cars & Results'!$A$7:$BZ$317,2*S$5+6,FALSE))","v":34},0,{"$f":"IF(HLOOKUP(U$5,$B$6:$K$15,Points!$A11+1,FALSE)=\"TBD\",\"\",VLOOKUP(HLOOKUP(U$5,$B$6:$K$15,Points!$A11+1,FALSE),'Cars & Results'!$A$7:$BZ$317,2*U$5+6,FALSE))","v":4},0,{"$f":"IF(HLOOKUP(W$5,$B$6:$K$15,Points!$A11+1,FALSE)=\"TBD\",\"\",VLOOKUP(HLOOKUP(W$5,$B$6:$K$15,Points!$A11+1,FALSE),'Cars & Results'!$A$7:$BZ$317,2*W$5+6,FALSE))","v":34},34,{"$f":"IF(HLOOKUP(Y$5,$B$6:$K$15,Points!$A11+1,FALSE)=\"TBD\",\"\",VLOOKUP(HLOOKUP(Y$5,$B$6:$K$15,Points!$A11+1,FALSE),'Cars & Results'!$A$7:$BZ$317,2*Y$5+6,FALSE))","v":35},0,{"$f":"IF(HLOOKUP(AA$5,$B$6:$K$15,Points!$A11+1,FALSE)=\"TBD\",\"\",VLOOKUP(HLOOKUP(AA$5,$B$6:$K$15,Points!$A11+1,FALSE),'Cars & Results'!$A$7:$BZ$317,2*AA$5+6,FALSE))","v":9},0,{"$f":"IF(HLOOKUP(AC$5,$B$6:$K$15,Points!$A11+1,FALSE)=\"TBD\",\"\",VLOOKUP(HLOOKUP(AC$5,$B$6:$K$15,Points!$A11+1,FALSE),'Cars & Results'!$A$7:$BZ$317,2*AC$5+6,FALSE))","v":45},45,{"$f":"IF(HLOOKUP(AE$5,$B$6:$K$15,Points!$A11+1,FALSE)=\"TBD\",\"\",VLOOKUP(HLOOKUP(AE$5,$B$6:$K$15,Points!$A11+1,FALSE),'Cars & Results'!$A$7:$BZ$317,2*AE$5+6,FALSE))","v":50},50,{"$f":"IF(HLOOKUP(AG$5,$B$6:$K$15,Points!$A11+1,FALSE)=\"TBD\",\"\",VLOOKUP(HLOOKUP(AG$5,$B$6:$K$15,Points!$A11+1,FALSE),'Cars & Results'!$A$7:$BZ$317,2*AG$5+6,FALSE))","v":0},{"$f":"IF(HLOOKUP(AG$5,$B$6:$K$15,Points!$A11+1,FALSE)=\"TBD\",\"\",IF(AND(VLOOKUP(HLOOKUP(AG$5,$B$6:$K$15,Points!$A11+1,FALSE),'Cars & Results'!$A$7:$BZ$317,2*AG$5+5)<=3,$A$15<=25),AG15*1,IF(AND(VLOOKUP(HLOOKUP(AG$5,$B$6:$K$15,Points!$A11+1,FALSE),'Cars & Results'!$A$7:$BZ$317,2*AG$5+5)<=10,$A$15>25),AG15*3,0)))","v":0}]
[null,null,null,null,null,null,null,null,null,null,null,null,null,"Segment 1",null,{"$f":"IF(INDIRECT(ADDRESS(321,5+(O5*2),1,1,\"Cars & Results\"),TRUE)=\"Y\",IF(ISERROR(MATCH(INDIRECT(ADDRESS(318,5+(O5*2),1,1,\"Cars & Results\"),TRUE),B7:B15,0))=TRUE,0,10),\"\")","v":10},null,{"$f":"IF(INDIRECT(ADDRESS(321,5+(Q5*2),1,1,\"Cars & Results\"),TRUE)=\"Y\",IF(ISERROR(MATCH(INDIRECT(ADDRESS(318,5+(Q5*2),1,1,\"Cars & Results\"),TRUE),C7:C15,0))=TRUE,0,10),\"\")","v":0},null,{"$f":"IF(INDIRECT(ADDRESS(321,5+(S5*2),1,1,\"Cars & Results\"),TRUE)=\"Y\",IF(ISERROR(MATCH(INDIRECT(ADDRESS(318,5+(S5*2),1,1,\"Cars & Results\"),TRUE),D7:D15,0))=TRUE,0,10),\"\")","v":0},null,{"$f":"IF(INDIRECT(ADDRESS(321,5+(U5*2),1,1,\"Cars & Results\"),TRUE)=\"Y\",IF(ISERROR(MATCH(INDIRECT(ADDRESS(318,5+(U5*2),1,1,\"Cars & Results\"),TRUE),E7:E15,0))=TRUE,0,10),\"\")","v":0},null,{"$f":"IF(INDIRECT(ADDRESS(321,5+(W5*2),1,1,\"Cars & Results\"),TRUE)=\"Y\",IF(ISERROR(MATCH(INDIRECT(ADDRESS(318,5+(W5*2),1,1,\"Cars & Results\"),TRUE),F7:F15,0))=TRUE,0,10),\"\")","v":0},null,{"$f":"IF(INDIRECT(ADDRESS(321,5+(Y5*2),1,1,\"Cars & Results\"),TRUE)=\"Y\",IF(ISERROR(MATCH(INDIRECT(ADDRESS(318,5+(Y5*2),1,1,\"Cars & Results\"),TRUE),G7:G15,0))=TRUE,0,10),\"\")","v":10},null,{"$f":"IF(INDIRECT(ADDRESS(321,5+(AA5*2),1,1,\"Cars & Results\"),TRUE)=\"Y\",IF(ISERROR(MATCH(INDIRECT(ADDRESS(318,5+(AA5*2),1,1,\"Cars & Results\"),TRUE),H7:H15,0))=TRUE,0,10),\"\")","v":10},null,{"$f":"IF(INDIRECT(ADDRESS(321,5+(AC5*2),1,1,\"Cars & Results\"),TRUE)=\"Y\",IF(ISERROR(MATCH(INDIRECT(ADDRESS(318,5+(AC5*2),1,1,\"Cars & Results\"),TRUE),I7:I15,0))=TRUE,0,10),\"\")","v":10},null,{"$f":"IF(INDIRECT(ADDRESS(321,5+(AE5*2),1,1,\"Cars & Results\"),TRUE)=\"Y\",IF(ISERROR(MATCH(INDIRECT(ADDRESS(318,5+(AE5*2),1,1,\"Cars & Results\"),TRUE),J7:J15,0))=TRUE,0,10),\"\")","v":0},null,{"$f":"IF(INDIRECT(ADDRESS(321,5+(AG5*2),1,1,\"Cars & Results\"),TRUE)=\"Y\",IF(ISERROR(MATCH(INDIRECT(ADDRESS(318,5+(AG5*2),1,1,\"Cars & Results\"),TRUE),K7:K15,0))=TRUE,0,10),\"\")","v":0}]
[null,null,null,null,null,null,null,null,null,null,null,null,null,"Segment 2",null,{"$f":"IF(INDIRECT(ADDRESS(321,5+(O5*2),1,1,\"Cars & Results\"),TRUE)=\"Y\",IF(ISERROR(MATCH(INDIRECT(ADDRESS(319,5+(O5*2),1,1,\"Cars & Results\"),TRUE),B7:B15,0))=TRUE,0,10),\"\")","v":0},null,{"$f":"IF(INDIRECT(ADDRESS(321,5+(Q5*2),1,1,\"Cars & Results\"),TRUE)=\"Y\",IF(ISERROR(MATCH(INDIRECT(ADDRESS(319,5+(Q5*2),1,1,\"Cars & Results\"),TRUE),C7:C15,0))=TRUE,0,10),\"\")","v":10},null,{"$f":"IF(INDIRECT(ADDRESS(321,5+(S5*2),1,1,\"Cars & Results\"),TRUE)=\"Y\",IF(ISERROR(MATCH(INDIRECT(ADDRESS(319,5+(S5*2),1,1,\"Cars & Results\"),TRUE),D7:D15,0))=TRUE,0,10),\"\")","v":0},null,{"$f":"IF(INDIRECT(ADDRESS(321,5+(U5*2),1,1,\"Cars & Results\"),TRUE)=\"Y\",IF(ISERROR(MATCH(INDIRECT(ADDRESS(319,5+(U5*2),1,1,\"Cars & Results\"),TRUE),E7:E15,0))=TRUE,0,10),\"\")","v":0},null,{"$f":"IF(INDIRECT(ADDRESS(321,5+(W5*2),1,1,\"Cars & Results\"),TRUE)=\"Y\",IF(ISERROR(MATCH(INDIRECT(ADDRESS(319,5+(W5*2),1,1,\"Cars & Results\"),TRUE),F7:F15,0))=TRUE,0,10),\"\")","v":0},null,{"$f":"IF(INDIRECT(ADDRESS(321,5+(Y5*2),1,1,\"Cars & Results\"),TRUE)=\"Y\",IF(ISERROR(MATCH(INDIRECT(ADDRESS(319,5+(Y5*2),1,1,\"Cars & Results\"),TRUE),G7:G15,0))=TRUE,0,10),\"\")","v":10},null,{"$f":"IF(INDIRECT(ADDRESS(321,5+(AA5*2),1,1,\"Cars & Results\"),TRUE)=\"Y\",IF(ISERROR(MATCH(INDIRECT(ADDRESS(319,5+(AA5*2),1,1,\"Cars & Results\"),TRUE),H7:H15,0))=TRUE,0,10),\"\")","v":10},null,{"$f":"IF(INDIRECT(ADDRESS(321,5+(AC5*2),1,1,\"Cars & Results\"),TRUE)=\"Y\",IF(ISERROR(MATCH(INDIRECT(ADDRESS(319,5+(AC5*2),1,1,\"Cars & Results\"),TRUE),I7:I15,0))=TRUE,0,10),\"\")","v":10},null,{"$f":"IF(INDIRECT(ADDRESS(321,5+(AE5*2),1,1,\"Cars & Results\"),TRUE)=\"Y\",IF(ISERROR(MATCH(INDIRECT(ADDRESS(319,5+(AE5*2),1,1,\"Cars & Results\"),TRUE),J7:J15,0))=TRUE,0,10),\"\")","v":0},null,{"$f":"IF(INDIRECT(ADDRESS(321,5+(AG5*2),1,1,\"Cars & Results\"),TRUE)=\"Y\",IF(ISERROR(MATCH(INDIRECT(ADDRESS(319,5+(AG5*2),1,1,\"Cars & Results\"),TRUE),K7:K15,0))=TRUE,0,10),\"\")","v":0}]
[null,null,null,null,null,null,null,null,null,null,null,null,null,"Segment 3",null,{"$f":"IF(INDIRECT(ADDRESS(321,5+(O5*2),1,1,\"Cars & Results\"),TRUE)=\"Y\",IF(ISERROR(MATCH(INDIRECT(ADDRESS(320,5+(O5*2),1,1,\"Cars & Results\"),TRUE),B7:B15,0))=TRUE,0,15),\"\")","v":0},null,{"$f":"IF(INDIRECT(ADDRESS(321,5+(Q5*2),1,1,\"Cars & Results\"),TRUE)=\"Y\",IF(ISERROR(MATCH(INDIRECT(ADDRESS(320,5+(Q5*2),1,1,\"Cars & Results\"),TRUE),C7:C15,0))=TRUE,0,15),\"\")","v":0},null,{"$f":"IF(INDIRECT(ADDRESS(321,5+(S5*2),1,1,\"Cars & Results\"),TRUE)=\"Y\",IF(ISERROR(MATCH(INDIRECT(ADDRESS(320,5+(S5*2),1,1,\"Cars & Results\"),TRUE),D7:D15,0))=TRUE,0,15),\"\")","v":0},null,{"$f":"IF(INDIRECT(ADDRESS(321,5+(U5*2),1,1,\"Cars & Results\"),TRUE)=\"Y\",IF(ISERROR(MATCH(INDIRECT(ADDRESS(320,5+(U5*2),1,1,\"Cars & Results\"),TRUE),E7:E15,0))=TRUE,0,15),\"\")","v":0},null,{"$f":"IF(INDIRECT(ADDRESS(321,5+(W5*2),1,1,\"Cars & Results\"),TRUE)=\"Y\",IF(ISERROR(MATCH(INDIRECT(ADDRESS(320,5+(W5*2),1,1,\"Cars & Results\"),TRUE),F7:F15,0))=TRUE,0,15),\"\")","v":0},null,{"$f":"IF(INDIRECT(ADDRESS(321,5+(Y5*2),1,1,\"Cars & Results\"),TRUE)=\"Y\",IF(ISERROR(MATCH(INDIRECT(ADDRESS(320,5+(Y5*2),1,1,\"Cars & Results\"),TRUE),G7:G15,0))=TRUE,0,15),\"\")","v":15},null,{"$f":"IF(INDIRECT(ADDRESS(321,5+(AA5*2),1,1,\"Cars & Results\"),TRUE)=\"Y\",IF(ISERROR(MATCH(INDIRECT(ADDRESS(320,5+(AA5*2),1,1,\"Cars & Results\"),TRUE),H7:H15,0))=TRUE,0,15),\"\")","v":15},null,{"$f":"IF(INDIRECT(ADDRESS(321,5+(AC5*2),1,1,\"Cars & Results\"),TRUE)=\"Y\",IF(ISERROR(MATCH(INDIRECT(ADDRESS(320,5+(AC5*2),1,1,\"Cars & Results\"),TRUE),I7:I15,0))=TRUE,0,15),\"\")","v":15},null,{"$f":"IF(INDIRECT(ADDRESS(321,5+(AE5*2),1,1,\"Cars & Results\"),TRUE)=\"Y\",IF(ISERROR(MATCH(INDIRECT(ADDRESS(320,5+(AE5*2),1,1,\"Cars & Results\"),TRUE),J7:J15,0))=TRUE,0,15),\"\")","v":0},null,{"$f":"IF(INDIRECT(ADDRESS(321,5+(AG5*2),1,1,\"Cars & Results\"),TRUE)=\"Y\",IF(ISERROR(MATCH(INDIRECT(ADDRESS(320,5+(AG5*2),1,1,\"Cars & Results\"),TRUE),K7:K15,0))=TRUE,0,15),\"\")","v":0}]
[null,{"$f":"SUM(B7:B15)","v":326},308,323,358,237,230,292,189,null,null,null,null,null,{"$f":"SUM(O7:O15)","v":197},null,{"$f":"SUM(Q7:Q15)","v":212},null,{"$f":"SUM(S7:S15)","v":151},null,{"$f":"SUM(U7:U15)","v":191},null,{"$f":"SUM(W7:W15)","v":160},null,{"$f":"SUM(Y7:Y15)","v":171},null,{"$f":"SUM(AA7:AA15)","v":160},null,{"$f":"SUM(AC7:AC15)","v":212},null,{"$f":"SUM(AE7:AE15)","v":212},null,{"$f":"SUM(AG7:AG15)","v":160}]
[null,null,null,null,null,null,null,null,null,null,null,null,null,null,null,{"$f":"SUM(P7:P19)","v":10},null,{"$f":"SUM(R7:R19)","v":10},null,{"$f":"SUM(T7:T19)","v":0},null,{"$f":"SUM(V7:V19)","v":0},null,{"$f":"SUM(X7:X19)","v":74.5},null,{"$f":"SUM(Z7:Z19)","v":35},null,{"$f":"SUM(AB7:AB19)","v":35},null,{"$f":"SUM(AD7:AD19)","v":98.5},null,{"$f":"SUM(AF7:AF19)","v":50},null,{"$f":"SUM(AH7:AH19)","v":0}]
[null,null,null,null,null,null,null,null,null,null,null,null,null,"Race Total",{"$f":"O19+P20","v":207},null,{"$f":"Q19+R20","v":222},null,{"$f":"S19+T20","v":151},null,{"$f":"U19+V20","v":191},null,{"$f":"W19+X20","v":234.5},null,{"$f":"Y19+Z20","v":206},null,{"$f":"AA19+AB20","v":195},null,{"$f":"AC19+AD20","v":310.5},null,{"$f":"AE19+AF20","v":262},null,{"$f":"AG19+AH20","v":160},null,{"$f":"SUM(O21:AH21)","v":2139}]
[null,null,null,null,null,null,null,null,null,null,"1-8"]
[null,null,null,null,null,null,null,null,null,null,"9-16"]
[null,null,null,null,null,null,null,null,null,null,"17-23"]
[null,null,null,null,null,null,null,null,null,null,"24-30"]
[null,null,null,null,null,null,null,null,null,null,"31-35"]
[null,null,null,null,null,null,null,null,null,null,">35"]
[null,null,null,null,null,null,null,null,null,null,"Provisional"]

{"sheet":"Points","index":15,"n_rows":43,"n_cols":8,"rows_kept":43,"cut":false,"hidden":false,"merged":[]}
["Finishing Position","Points","Group 7 Points","Difference","Bonus Points",null,null,"Group 1 - Positions 1-8, 1 Car"]
[0,0,0,null,null,null,null,"Group 2 - Positions 9-16, 1 Car"]
[1,40,40,null,"Segment 1 Winner",10,null,"Group 3 - Positions 17-23, 1 Car"]
[2,39,39,{"$f":"B3-B4","v":1},"Segment 2 Winner",10,null,"Group 4 - Positions 24-30, 1 Car"]
[3,38,38,{"$f":"B4-B5","v":1},"Segment 3 Winner",15,null,"Group 5 - Positions 31-35, 1 Car"]
[4,37,37,1,null,null,null,"Group 6 - Positions 36+, 1 Car "]
[5,36,36,1,"Group 1","No Bonus",null,"Group 7 - Provisional.  Valid for 1 wk per segment and must be changed each week."]
[6,35,35,1,"Group 2 - Win","25% Bonus"]
[7,34,34,1,"Group 3 - Top 5 Finish","50% Bonus"]
[8,33,33,1,"Group 4 - Top 10 Finish","150% Bonus"]
[9,32,32,1,"Group 5 - Top 10 Finish","200% Bonus"]
[10,31,31,1,"Group 6 - Top 10 Finish","300% Bonus"]
[11,30,30,1,"Group 7 - Top 3 Finish","100% Bonus","If car is in top 25 in Points"]
[12,29,29,1,"Group 7 - Top 10 Finish","300% Bonus","If car is outside top 25 in Points"]
[13,28,28,1]
[14,27,27,1]
[15,26,26,1]
[16,25,25,1]
[17,24,24,1]
[18,23,23,1]
[19,22,22,1]
[20,21,21,1]
[21,20,20,1]
[22,19,19,1]
[23,18,18,1]
[24,17,17,1]
[25,16,16,1]
[26,15,15,1]
[27,14,14,1]
[28,13,13,1]
[29,12,12,1]
[30,11,11,1]
[31,10,10,{"$f":"B32-B33","v":1}]
[32,9,9,1]
[33,8,8,1]
[34,7,7,1]
[35,6,6,1]
[36,5,5,1]
[37,4,4,1]
[38,3,3,1]
[39,2,2,1]
[40,1,1,1]
["DNS",-25]

{"sheet":"Schedule","index":16,"n_rows":43,"n_cols":15,"rows_kept":43,"cut":false,"hidden":false,"merged":[[1,1,2,5]]}
[]
[null,"Sprint Cup Schedule"]
[]
["Race Number","Scheduled","Race Name","Track","Name","Segment 1","Segment 2","Segment 3","Segment 4","Track Size","Race Length","Television","Time/","Qualifying","Happy Hour"]
[null,"2018-02-11","Advance Auto Parts Clash*","Daytona International Speedway",{"$f":"LEFT(D5,FIND(\" \",D5))","v":"Daytona "},75,null,null,null,2.5,187.5,"FS1","03:00:00","N/A","2018-02-10T10:35:00"]
[null,"2018-02-15","Can-Am Duel At Daytona #1*","Daytona International Speedway",{"$f":"LEFT(D6,FIND(\" \",D6))","v":"Daytona "},60,null,null,null,2.5,150,"FS1","07:00:00","2018-02-11T12:15:00","2018-02-10T11:05:00"]
[null,"2018-02-15","Can-Am Duel At Daytona #2*","Daytona International Speedway","Daytona ",60,null,null,null,2.5,150,"FS1","~9:00","2018-02-11T12:15:00","2018-02-10T11:05:00"]
[{"$f":"[1]Sheet2!A4","v":1},{"$f":"[1]Sheet2!D4","v":"2019-02-17"},{"$f":"[1]Sheet2!B4","v":"Daytona 500"},{"$f":"[1]Sheet2!C4","v":"Daytona International Speedway, Daytona Beach, Florida"},"Daytona ",60,120,200,null,2.5,500,"FOX","02:30:00","2018-02-11T12:15:00","2018-02-17T12:05:00"]
[{"$f":"[1]Sheet2!A5","v":2},{"$f":"[1]Sheet2!D5","v":"2019-02-24"},{"$f":"[1]Sheet2!B5","v":"Folds of Honor QuikTrip 500"},{"$f":"[1]Sheet2!C5","v":"Atlanta Motor Speedway, Hampton, Georgia"},"Atlanta ",85,170,325,null,1.54,500.5,"FOX","02:00:00","2018-02-24T05:15:00","2018-02-23T12:00:00"]
[{"$f":"[1]Sheet2!A6","v":3},{"$f":"[1]Sheet2!D6","v":"2019-03-03"},{"$f":"[1]Sheet2!B6","v":"Pennzoil 400 presented by Jiffy Lube"},{"$f":"[1]Sheet2!C6","v":"Las Vegas Motor Speedway, Las Vegas, Nevada"},"Las Vegas",80,160,267,null,1.5,400.5,"FOX","03:30:00","TBA","TBA"]
[{"$f":"[1]Sheet2!A7","v":4},{"$f":"[1]Sheet2!D7","v":"2019-03-10"},{"$f":"[1]Sheet2!B7","v":"TicketGuardian 500"},{"$f":"[1]Sheet2!C7","v":"ISM Raceway, Avondale, Arizona"},"Phoenix",75,150,312,null,1,312,"FOX","03:30:00","TBA","TBA"]
[{"$f":"[1]Sheet2!A8","v":5},{"$f":"[1]Sheet2!D8","v":"2019-03-17"},{"$f":"[1]Sheet2!B8","v":"Auto Club 400"},{"$f":"[1]Sheet2!C8","v":"Auto Club Speedway, Fontana, California"},"Fontana",60,120,200,null,2,400,"FOX","03:30:00","TBA","TBA"]
[{"$f":"[1]Sheet2!A9","v":6},{"$f":"[1]Sheet2!D9","v":"2019-03-24"},{"$f":"[1]Sheet2!B9","v":"STP 500"},{"$f":"[1]Sheet2!C9","v":"Martinsville Speedway, Ridgeway, Virginia"},"Martinsville ",130,260,500,null,0.52600000000000002,263,"FS1","02:00:00","TBA","TBA"]
[{"$f":"[1]Sheet2!A10","v":7},{"$f":"[1]Sheet2!D10","v":"2019-03-31"},{"$f":"[1]Sheet2!B10","v":"O'Reilly Auto Parts 500"},{"$f":"[1]Sheet2!C10","v":"Texas Motor Speedway, Fort Worth, Texas"},"Texas ",85,170,334,null,1.5,500.5,"FS1","02:00:00","TBA","TBA"]
[{"$f":"[1]Sheet2!A11","v":8},{"$f":"[1]Sheet2!D11","v":"2019-04-07"},{"$f":"[1]Sheet2!B11","v":"Food City 500"},{"$f":"[1]Sheet2!C11","v":"Bristol Motor Speedway, Bristol, Tennessee"},"Bristol ",125,250,500,null,0.53300000000000003,266.5,"FOX","02:00:00","TBA","TBA"]
[{"$f":"[1]Sheet2!A12","v":9},{"$f":"[1]Sheet2!D12","v":"2019-04-13"},{"$f":"[1]Sheet2!B12","v":"Toyota Owners 400"},{"$f":"[1]Sheet2!C12","v":"Richmond Raceway, Richmond, Virginia"},"Richmond ",100,200,400,null,0.75,300,"FOX","06:30:00","TBA","TBA"]
[{"$f":"[1]Sheet2!A13","v":10},{"$f":"[1]Sheet2!D13","v":"2019-04-28"},{"$f":"[1]Sheet2!B13","v":"GEICO 500"},{"$f":"[1]Sheet2!C13","v":"Talladega Superspeedway, Lincoln, Alabama"},"Talladega ",55,110,188,null,2.66,500.08,"FOX","02:00:00","TBA","TBA"]
[{"$f":"[1]Sheet2!A14","v":11},{"$f":"[1]Sheet2!D14","v":"2019-05-05"},{"$f":"[1]Sheet2!B14","v":"MENCS Race at Dover"},{"$f":"[1]Sheet2!C14","v":"Dover International Speedway, Dover, Delaware"},"Dover ",120,240,400,null,1,400,"FS1","02:00:00","TBA","TBA"]
[{"$f":"[1]Sheet2!A15","v":12},{"$f":"[1]Sheet2!D15","v":"2019-05-11"},{"$f":"[1]Sheet2!B15","v":"MENCS Race at Kansas"},{"$f":"[1]Sheet2!C15","v":"Kansas Speedway, Kansas City, Kansas"},"Kansas ",80,160,267,null,1.5,400.5,"FS1","08:00:00","TBA","TBA"]
[{"$f":"[1]Sheet2!A16","v":13},{"$f":"[1]Sheet2!D16","v":"2019-05-26"},{"$f":"[1]Sheet2!B16","v":"Coca-Cola 600"},{"$f":"[1]Sheet2!C16","v":"Charlotte Motor Speedway, Concord, North Carolina"},"Charlotte ",100,200,300,400,1.5,600,"FOX","06:00:00","TBA","TBA"]
[{"$f":"[1]Sheet2!A17","v":14},{"$f":"[1]Sheet2!D17","v":"2019-06-02"},{"$f":"[1]Sheet2!B17","v":"Pocono 400"},{"$f":"[1]Sheet2!C17","v":"Pocono Raceway, Long Pond, Pennsylvania"},"Pocono ",50,100,160,null,2.5,400,"FS1","02:00:00","TBA","TBA"]
[{"$f":"[1]Sheet2!A18","v":15},{"$f":"[1]Sheet2!D18","v":"2019-06-09"},{"$f":"[1]Sheet2!B18","v":"FireKeepers Casino 400"},{"$f":"[1]Sheet2!C18","v":"Michigan International Speedway, Brooklyn, Michigan"},"Michigan ",60,120,200,null,2,400,"FOX","02:00:00","TBA","TBA"]
[{"$f":"[1]Sheet2!A19","v":16},{"$f":"[1]Sheet2!D19","v":"2019-06-23"},{"$f":"[1]Sheet2!B19","v":"Toyota/Save Mart 350"},{"$f":"[1]Sheet2!C19","v":"Sonoma Raceway, Sonoma, California"},"Sonoma ",25,50,110,null,1.99,224,"FS1","03:00:00","TBA","TBA"]
[{"$f":"[1]Sheet2!A20","v":17},{"$f":"[1]Sheet2!D20","v":"2019-06-30"},{"$f":"[1]Sheet2!B20","v":"Camping World 400"},{"$f":"[1]Sheet2!C20","v":"Chicagoland Speedway, Joliet, Illinois"},"Chicagoland ",80,160,267,null,1.5,400.5,"NBCSN","02:30:00","TBA","TBA"]
[{"$f":"[1]Sheet2!A21","v":18},{"$f":"[1]Sheet2!D21","v":"2019-07-06"},{"$f":"[1]Sheet2!B21","v":"Coke Zero Sugar 400"},{"$f":"[1]Sheet2!C21","v":"Daytona International Speedway, Daytona Beach, Florida"},"Daytona ",40,80,160,null,2.5,400,"NBC","07:00:00","TBA","TBA"]
[{"$f":"[1]Sheet2!A22","v":19},{"$f":"[1]Sheet2!D22","v":"2019-07-13"},{"$f":"[1]Sheet2!B22","v":"Quaker State 400 presented by Walmart"},{"$f":"[1]Sheet2!C22","v":"Kentucky Speedway, Sparta, Kentucky"},"Kentucky ",80,160,267,null,1.5,400.5,"NBCSN","07:30:00","TBA","TBA"]
[{"$f":"[1]Sheet2!A23","v":20},{"$f":"[1]Sheet2!D23","v":"2019-07-21"},{"$f":"[1]Sheet2!B23","v":"Foxwoods Resort Casino 301"},{"$f":"[1]Sheet2!C23","v":"New Hampshire Motor Speedway, Loudon, New Hampshire"},"New Hamp",75,150,301,null,1.0580000000000001,318.45999999999998,"NBCSN","02:00:00","TBA","TBA"]
[{"$f":"[1]Sheet2!A24","v":21},{"$f":"[1]Sheet2!D24","v":"2019-07-28"},{"$f":"[1]Sheet2!B24","v":"Gander Outdoors 400"},{"$f":"[1]Sheet2!C24","v":"Pocono Raceway, Long Pond, Pennsylvania"},"Pocono ",50,100,160,null,2.5,400,"NBCSN","02:30:00","TBA","TBA"]
[{"$f":"[1]Sheet2!A25","v":22},{"$f":"[1]Sheet2!D25","v":"2019-08-04"},{"$f":"[1]Sheet2!B25","v":"Go Bowling at The Glen"},{"$f":"[1]Sheet2!C25","v":"Watkins Glen International, Watkins Glen, New York"},"Watkins ",20,40,90,null,2.4500000000000002,220.5,"NBC","02:30:00","TBA","TBA"]
[{"$f":"[1]Sheet2!A26","v":23},{"$f":"[1]Sheet2!D26","v":"2019-08-11"},{"$f":"[1]Sheet2!B26","v":"Consumers Energy 400"},{"$f":"[1]Sheet2!C26","v":"Michigan International Speedway, Brooklyn, Michigan"},"Michigan ",60,120,200,null,2,400,"NBCSN","02:30:00","TBA","TBA"]
[{"$f":"[1]Sheet2!A27","v":24},{"$f":"[1]Sheet2!D27","v":"2019-08-17"},{"$f":"[1]Sheet2!B27","v":"Bass Pro Shops NRA Night Race"},{"$f":"[1]Sheet2!C27","v":"Bristol Motor Speedway, Bristol, Tennessee"},"Bristol ",125,250,500,null,0.53300000000000003,266.5,"NBCSN","07:30:00","TBA","TBA"]
[{"$f":"[1]Sheet2!A28","v":25},{"$f":"[1]Sheet2!D28","v":"2019-09-01"},{"$f":"[1]Sheet2!B28","v":"Bojangles' Southern 500"},{"$f":"[1]Sheet2!C28","v":"Darlington Raceway, Darlington, South Carolina"},"Darlington ",100,200,267,null,1.3660000000000001,501.3,"NBCSN","06:00:00","TBA","TBA"]
[{"$f":"[1]Sheet2!A29","v":26},{"$f":"[1]Sheet2!D29","v":"2019-09-08"},{"$f":"[1]Sheet2!B29","v":"Big Machine Vodka 400 at the Brickyard"},{"$f":"[1]Sheet2!C29","v":"Indianapolis Motor Speedway, Speedway, Indiana"},"Indianapolis ",50,100,160,null,2.5,400,"NBCSN","02:00:00","TBA","TBA"]
[{"$f":"[1]Sheet2!A30","v":27},{"$f":"[1]Sheet2!D30","v":"2019-09-15"},{"$f":"[1]Sheet2!B30","v":"South Point 400"},{"$f":"[1]Sheet2!C30","v":"Las Vegas Motor Speedway, Las Vegas, Nevada"},"Las Vegas",80,160,267,null,1.5,400.5,"NBCSN","03:00:00","TBA","TBA"]
[{"$f":"[1]Sheet2!A31","v":28},{"$f":"[1]Sheet2!D31","v":"2019-09-21"},{"$f":"[1]Sheet2!B31","v":"Federated Auto Parts 400"},{"$f":"[1]Sheet2!C31","v":"Richmond Raceway, Richmond, Virginia"},"Richmond ",100,200,400,null,0.75,300,"NBCSN","07:30:00","TBA","TBA"]
[{"$f":"[1]Sheet2!A32","v":29},{"$f":"[1]Sheet2!D32","v":"2019-09-29"},{"$f":"[1]Sheet2!B32","v":"Bank of America Roval 400"},{"$f":"[1]Sheet2!C32","v":"Charlotte Motor Speedway, Concord, North Carolina, (Roval)"},"Charlotte ",30,60,130,null,"2.4(roval)",312,"NBC","02:00:00","TBA","TBA"]
[{"$f":"[1]Sheet2!A33","v":30},{"$f":"[1]Sheet2!D33","v":"2019-10-06"},{"$f":"[1]Sheet2!B33","v":"MENCS Race at Dover"},{"$f":"[1]Sheet2!C33","v":"Dover International Speedway, Dover, Delaware"},"Dover ",120,240,400,null,1,400,"NBCSN","02:00:00","TBA","TBA"]
[{"$f":"[1]Sheet2!A34","v":31},{"$f":"[1]Sheet2!D34","v":"2019-10-13"},{"$f":"[1]Sheet2!B34","v":"1000Bulbs.com 500"},{"$f":"[1]Sheet2!C34","v":"Talladega Superspeedway, Lincoln, Alabama"},"Talladega ",55,110,188,null,2.66,500.08,"NBC","02:00:00","TBA","TBA"]
[{"$f":"[1]Sheet2!A35","v":32},{"$f":"[1]Sheet2!D35","v":"2019-10-20"},{"$f":"[1]Sheet2!B35","v":"Hollywood Casino 400"},{"$f":"[1]Sheet2!C35","v":"Kansas Speedway, Kansas City, Kansas"},"Kansas ",80,160,267,null,1.5,400.5,"NBC","02:00:00","TBA","TBA"]
[{"$f":"[1]Sheet2!A36","v":33},{"$f":"[1]Sheet2!D36","v":"2019-10-27"},{"$f":"[1]Sheet2!B36","v":"First Data 500"},{"$f":"[1]Sheet2!C36","v":"Martinsville Speedway, Ridgeway, Virginia"},"Martinsville ",130,260,500,null,0.52600000000000002,263,"NBCSN","02:30:00","TBA","TBA"]
[{"$f":"[1]Sheet2!A37","v":34},{"$f":"[1]Sheet2!D37","v":"2019-11-03"},{"$f":"[1]Sheet2!B37","v":"AAA Texas 500"},{"$f":"[1]Sheet2!C37","v":"Texas Motor Speedway, Fort Worth, Texas"},"Texas ",85,170,334,null,1.5,500.5,"NBCSN","03:00:00","TBA","TBA"]
[{"$f":"[1]Sheet2!A38","v":35},{"$f":"[1]Sheet2!D38","v":"2019-11-10"},{"$f":"[1]Sheet2!B38","v":"MENCS Race at ISM Raceway"},{"$f":"[1]Sheet2!C38","v":"ISM Raceway, Avondale, Arizona"},"Phoenix",75,150,312,null,1,312,"NBC","02:30:00","TBA","TBA"]
[{"$f":"[1]Sheet2!A39","v":36},{"$f":"[1]Sheet2!D39","v":"2019-11-17"},{"$f":"[1]Sheet2!B39","v":"Ford EcoBoost 400"},{"$f":"[1]Sheet2!C39","v":"Homestead–Miami Speedway, Homestead, Florida"},"Homestead–Miami ",80,160,267,null,1.5,400,"NBC","02:30:00","TBA","TBA"]

{"sheet":"Sheet2","index":17,"n_rows":40,"n_cols":12,"rows_kept":40,"cut":false,"hidden":false,"merged":[]}
["Race Number","Scheduled","Track Location","Race Name","Location","Laps","Track Size","Race Length","Television","Time/","Qualifying","Happy Hour"]
["*","2018-02-11","Daytona International Speedway","Advance Auto Parts Clash*","Daytona Beach, FL",75,2.5,187.5,"FS1","03:00:00","N/A","2018-02-10T10:35:00"]
["*","2018-02-15","Daytona International Speedway","Can-Am Duel At Daytona #1*","Daytona Beach, FL",60,2.5,150,"FS1","07:00:00","2018-02-11T12:15:00","2018-02-10T11:05:00"]
["*","2018-02-15","Daytona International Speedway","Can-Am Duel At Daytona #2*","Daytona Beach, FL",60,2.5,150,"FS1","~9:00","2018-02-11T12:15:00","2018-02-10T11:05:00"]
[1,"2018-02-18","Daytona International Speedway","Daytona 500","Daytona Beach, FL","60/120/200",2.5,500,"FOX","02:30:00","2018-02-11T12:15:00","2018-02-17T12:05:00"]
[2,"2018-02-25","Atlanta Motor Speedway","Folds of Honor QuikTrip 500","Hampton, GA","85/170/325",1.54,500.5,"FOX","02:00:00","2018-02-24T05:15:00","2018-02-23T12:00:00"]
[3,"2018-03-04","Las Vegas Motor Speedway","Kobalt 400","Las Vegas, NV","80/160/267",1.5,400.5,"FOX","03:30:00","TBA","TBA"]
[4,"2018-03-11","ISM Raceway","Camping World 500(k)","Avondale, AZ","75/150/312",1,312,"FOX","03:30:00","TBA","TBA"]
[5,"2018-03-18","Auto Club Speedway","Auto Club 400","Fontana, CA","60/120/200",2,400,"FOX","03:30:00","TBA","TBA"]
[6,"2018-03-25","Martinsville Speedway","STP 500","Martinsville, VA","130/260/500",0.52600000000000002,263,"FS1","02:00:00","TBA","TBA"]
[7,"2018-04-08","Texas Motor Speedway","O'Reilly Auto Parts 500","Fort Worth, TX","85/170/334",1.5,500.5,"FS1","02:00:00","TBA","TBA"]
[8,"2018-04-15","Bristol Motor Speedway","Food City 500","Bristol, TN","125/250/500",0.53300000000000003,266.5,"FOX","02:00:00","TBA","TBA"]
[9,"2018-04-21","Richmond Raceway","Toyota Owners 400","Richmond, VA","100/200/400",0.75,300,"FOX","06:30:00","TBA","TBA"]
[10,"2018-04-29","Talladega Superspeedway","GEICO 500","Talladega, AL","55/110/188",2.66,500.08,"FOX","02:00:00","TBA","TBA"]
[11,"2018-05-06","Dover International Speedway","AAA 400 Drive for Autism","Dover, DE","120/240/400",1,400,"FS1","02:00:00","TBA","TBA"]
[12,"2018-05-12","Kansas Speedway","Go Bowling 400","Kansas City, KS","80/160/267",1.5,400.5,"FS1","08:00:00","TBA","TBA"]
[13,"2018-05-27","Charlotte Motor Speedway","Coca-Cola 600","Concord, NC","100/200/300/400",1.5,600,"FOX","06:00:00","TBA","TBA"]
[14,"2018-06-03","Pocono Raceway","Pocono 400","Long Pond, PA","50/100/160",2.5,400,"FS1","02:00:00","TBA","TBA"]
[15,"2018-06-10","Michigan International Speedway","FireKeepers Casino 400","Brooklyn, MI","60/120/200",2,400,"FOX","02:00:00","TBA","TBA"]
[16,"2018-06-24","Sonoma Raceway","Toyota/Save Mart 350","Sonoma, CA","25/50/110",1.99,224,"FS1","03:00:00","TBA","TBA"]
[17,"2018-07-01","Chicagoland Speedway","Overton's 400","Joliet, IL","80/160/267",1.5,400.5,"NBCSN","02:30:00","TBA","TBA"]
[18,"2018-07-07","Daytona International Speedway","Coke Zero 400","Daytona Beach, FL","40/80/160",2.5,400,"NBC","07:00:00","TBA","TBA"]
[19,"2018-07-14","Kentucky Speedway","Quaker State 400","Sparta, KY","80/160/267",1.5,400.5,"NBCSN","07:30:00","TBA","TBA"]
[20,"2018-07-22","New Hampshire Motor Speedway","New Hampshire 301","Loudon, NH","75/150/301",1.0580000000000001,318.45999999999998,"NBCSN","02:00:00","TBA","TBA"]
[21,"2018-07-29","Pocono Raceway","Gander Outdoors 400","Long Pond, PA","50/100/160",2.5,400,"NBCSN","02:30:00","TBA","TBA"]
[22,"2018-08-05","Watkins Glen International","Go Bowling at The Glen","Watkins Glen, NY","20/40/90",2.4500000000000002,220.5,"NBC","02:30:00","TBA","TBA"]
[23,"2018-08-12","Michigan International Speedway","Pure Michigan 400","Brooklyn, MI","60/120/200",2,400,"NBCSN","02:30:00","TBA","TBA"]
[24,"2018-08-18","Bristol Motor Speedway","Bass Pro Shops NRA Night Race","Bristol, TN","125/250/500",0.53300000000000003,266.5,"NBCSN","07:30:00","TBA","TBA"]
[25,"2018-09-02","Darlington Raceway","Bojangles' Southern 500","Darlington, SC","100/200/267",1.3660000000000001,501.3,"NBCSN","06:00:00","TBA","TBA"]
[26,"2018-09-09","Indianapolis Motor Speedway","Big Machine Vodka 400 at the Brickyard","Speedway, IN","50/100/160",2.5,400,"NBCSN","02:00:00","TBA","TBA"]
[27,"2018-09-16","Las Vegas Motor Speedway","South Point 400","Las Vegas, NV","80/160/267",1.5,400.5,"NBCSN","03:00:00","TBA","TBA"]
[28,"2018-09-22","Richmond Raceway","Federated Auto Parts 400","Richmond, VA","100/200/400",0.75,300,"NBCSN","07:30:00","TBA","TBA"]
[29,"2018-09-30","Charlotte Motor Speedway","Bank of America 500(k)","Concord, NC","30/60/130","2.4(roval)",312,"NBC","02:00:00","TBA","TBA"]
[30,"2018-10-07","Dover International Speedway","Delaware 400","Dover, DE","120/240/400",1,400,"NBCSN","02:00:00","TBA","TBA"]
[31,"2018-10-14","Talladega Superspeedway","Alabama 500","Talladega, AL","55/110/188",2.66,500.08,"NBC","02:00:00","TBA","TBA"]
[32,"2018-10-21","Kansas Speedway","Hollywood Casino 400","Kansas City, KS","80/160/267",1.5,400.5,"NBC","02:00:00","TBA","TBA"]
[33,"2018-10-28","Martinsville Speedway","First Data 500","Martinsville, VA","130/260/500",0.52600000000000002,263,"NBCSN","02:30:00","TBA","TBA"]
[34,"2018-11-04","Texas Motor Speedway","AAA Texas 500","Fort Worth, TX","85/170/334",1.5,500.5,"NBCSN","03:00:00","TBA","TBA"]
[35,"2018-11-11","ISM Raceway","Can-Am 500(k)","Avondale, AZ","75/150/312",1,312,"NBC","02:30:00","TBA","TBA"]
[36,"2018-11-18","Homestead-Miami Speedway","Ford EcoBoost 400","Homestead, FL","80/160/267",1.5,400,"NBC","02:30:00","TBA","TBA"]

{"sheet":"Show me the Money","index":18,"n_rows":26,"n_cols":15,"rows_kept":26,"cut":false,"hidden":false,"merged":[]}
["Player","Sort","Segment 1","Segment 2","Segment 3","Segment 4","Total","Year End Pool","Total Cost","Cash Received","Winnings Rolled","Winnings","Bonus Pool","Net Winnings","WinningsPaid"]
["Jeff Buehrle",{"$f":"MID(A2,FIND(\" \", A2)+1,LEN(A2))&\", \"&LEFT(A2,FIND(\" \",A2)-1)","v":"Buehrle, Jeff"},25,25,25,25,{"$f":"SUM(C2:F2)","v":100},{"$f":"25+0+25","v":50},{"$f":"G2+H2","v":150},0,0,{"$f":"90+35","v":125},{"$f":"H9*0.05","v":5},{"$f":"(L2+M2)-I2-J2","v":-20},0]
["Doug Gebauer","Gebauer, Doug",25,25,25,25,100,0,100,0,0,{"$f":"0","v":0},0,-100,0]
["Trey George","George, Trey",25,25,25,25,100,0,100,0,0,{"$f":"0+0+35","v":35},0,-65,0]
["Ron Mason","Mason, Ron",25,25,25,25,100,0,100,0,0,{"$f":"0+90+90","v":180},{"$f":"H9*0.15","v":15},95,0]
["Brad McLean","McLean, Brad",25,25,25,25,100,{"$f":"0+0+25","v":25},125,0,0,{"$f":"50+50+50+90","v":240},{"$f":"$H$9*0.75","v":75},190,0]
["Donna McLean","McLean, Donna",25,25,25,25,100,0,100,0,0,{"$f":"35+35","v":70},0,-30,0]
["Steve Sheppard","Sheppard, Steve",25,25,25,25,100,{"$f":"0+0+0+25","v":25},125,0,0,{"$f":"0+0+0+50","v":50},{"$f":"H9*0.05","v":5},-70,0]
["Total Segment Pot",null,{"$f":"SUM(C2:C8)","v":175},175,175,175,700,100,800,0,0,700,100,0,0]
["1st Place",null,{"$f":"C9-C11-C12","v":90},{"$f":"D9-D11-D12","v":90},{"$f":"E9-E11-E12","v":90},{"$f":"F9-F11-F12","v":90}]
["2nd Place",null,{"$f":"IF(C9*0.25<50,50,C9*0.25)","v":50},{"$f":"IF(D9*0.25<50,50,D9*0.25)","v":50},50,50]
["3rd Place",null,{"$f":"IF(C9*0.15<35,35,C9*0.15)","v":35},{"$f":"IF(D9*0.15<35,35,D9*0.15)","v":35},35,35]
[]
[]
[]
[]
[]
[null,null,"Winnings","Bonus Pool","Cost to Play","2018 Carry Over","You Win","You Pay"]
["Jeff Buehrle",null,125,5,150,0,0,{"$f":"E19-C19-D19","v":20}]
["Doug Gebauer",null,0,0,100,171.25,{"$f":"F20-E20","v":71.25},0]
["Trey George",null,35,0,100,0,0,{"$f":"E21-C21","v":65}]
["Ron Mason",null,180,15,100,136.25,{"$f":"C22+D22-E22+F22","v":231.25},0]
["Brad McLean",null,240,75,125,0,{"$f":"C23+D23-E23","v":190},0]
["Donna McLean",null,70,0,100,0,0,{"$f":"E24-C24","v":30}]
["Steve Sheppard",null,50,5,125,0,0,{"$f":"E25-C25-D25","v":70}]
[null,null,{"$f":"SUM(C19:C25)","v":700},{"$f":"SUM(D19:D25)","v":100},800,{"$f":"SUM(F19:F25)","v":307.5},{"$f":"SUM(G19:G25)","v":492.5},{"$f":"SUM(H19:H25)","v":185}]

{"sheet":"Rules","index":19,"n_rows":41,"n_cols":2,"rows_kept":41,"cut":false,"hidden":false,"merged":[]}
["Rule","Description"]
[1,"General"]
[1.1000000000000001,"The season will consist of 4 segments of 9 races each"]
[1.2,"Each segment will cost $25 per player to enter.  $100 per season"]
[1.3,"Winners will be declared at the end of each segment paying out to the top 3 finishers.  1st place upto 60%, 2nd place 25% (Minimum $50), 3rd place 15% (Minimum $25)"]
[1.5,"There are no limits on the number of changes you may make to your team prior to the beginning of each segment"]
[1.6,"Team consists of 13 cars in 7 groups."]
[1.7,"Groupings and car positions are based on each car's current car owner points standings as posted on www.nascar.com"]
[1.8,"Group 1 - Positions 1-6, Group 2 - Positions 7-12, Group 3 - Positions 13-20, Group 4 - Positions 21-30, Group 5 - Positions 31-35, Group 6 - Positions >35, Group 7 - Provisional"]
["1.8.1","Provisional Entry - Car not already on your team and listed on the entry list for the current weeks race.  Provisional Pick must be dropped from your team each week and can be used on your team as a provisional pick only once per segment."]
[1.9,"Week 1 - Daytona 500 positions are based on 2008 Car owner standings"]
[2,"The Play"]
[2.1,"Each week you must drop those cars that do not maintain their position in each of the 7 groups.  These are your weekly mandatory changes and will be highlighted in red."]
[2.2000000000000002,"Each week you may change up to 4 other cars in addition to your manatory changes.  (You may not add a car that was a mandatory change from rule 2.1.)  These are known as your optional changes."]
[2.2999999999999998,"Each week you may purchase additional changes (above the limit from rule 2.2) for $10 each additional change.  This money will be added to the year end pool and distributed as per rule 5.1"]
[2.4,"All changes must be submitted prior to the beginning of each race's qualifying session.  If qualifying is rained out positions will be set by NASCAR and owner points.  No changes will be accepted once the starting lineup has been posted to www.nascar.com"]
[2.5,"Any mandatory changes not submitted prior to the beginning of qualifying will be changed by the administrator.  The car at the bottom of each group will be substituted working up in the standings.  For group 6 the administrator will start at position 43 and work up.  For group 7 the administrator will start at position 50 and work up."]
[2.6,"Prior to the beginning of 9th race in each segment, any player may purchase up to 500 points in increments of 100 points.  $5 for every 100 points, $25 maximum."]
[3,"Points"]
[3.1,"Point totals will be reset after each segment."]
[3.2,"20 points for Pole"]
[3.3,"10 points for outside pole"]
[3.4,"5 Points for a car leading a lap in a race"]
[3.5,"10 Points for car leading the most laps in a race"]
[3.6,"Points for each finishing position are awarded on a decreasing scale.  See Points tab in the spreadsheet for actual points by finishing position"]
[3.7,"-100 points if your car does not make the race."]
[3.8,"-200 points if your group 7 car does not make the race"]
[4,"Bonus Points"]
[4.0999999999999996,"Group 1 car receives no finishing position bonus"]
[4.2,"Group 2 car Wins the race - 25% point bonus for that car"]
[4.3,"Group 3 car finshies in top 5 - 50% point bonus for that car"]
[4.4000000000000004,"Group 4 car finishes in top 10 - 150% point bonus for that car"]
[4.5,"Group 5 car finishes in top 10 - 200% point bonus for that car"]
[4.5999999999999996,"Group 6 car finishes in top 10 - 300% point bonus for that car"]
[4.7,"Group 7 car finishes in top   3 - 100% point bonus for cars inside the top 25 in points"]
[4.8,"Group 7 car finishes in top 10 - 300% point bonus for cars outside the top 25 in points"]
[5,"End of Season Pot"]
[5.0999999999999996,"All cash accumulated based on Rule 2.3 and 2.6 will be added to a separate \"End of Season\" point fund.  "]
[5.2,"The \"End of Season\" point fund will be paid to the top 3 season point totals excluding any purchased points from rule 2.6."]
[5.3,"You must participate in all 4 segments in order to qualify for the \"End of Season\" point fund."]
[5.4,"Payouts will be made as follows: 1st place 75%, 2nd place 15%, 3rd place 5%, and Last place 5%"]

{"sheet":"Pick Distribution","index":20,"n_rows":48,"n_cols":16,"rows_kept":48,"cut":false,"hidden":false,"merged":[]}
[null,"Driver","Ron Mason","Jeff Buehrle","Doug Gebauer","Trey George","Brad McLean","Donna McLean","Steve Sheppard","Frequency",null,null,null,null,null,"Week"]
[1,{"$f":"LOOKUP(A2,'Cars & Results'!$A$7:$A$215,'Cars & Results'!$B$7:$B$215)","v":"Kurt Busch"},{"$f":"IF(ISNA(VLOOKUP($A2,'Ron Mason'!$B$7:$C$15,1,FALSE)),\"\",$A2)","v":1},{"$f":"IF(ISNA(VLOOKUP($A2,'Jeff Buehrle'!$B$7:$C$15,1,FALSE)),\"\",$A2)","v":""},{"$f":"IF(ISNA(VLOOKUP($A2,'Doug Gebauer'!$B$7:$C$15,1,FALSE)),\"\",$A2)","v":""},{"$f":"IF(ISNA(VLOOKUP($A2,'Trey George'!$B$7:$C$15,1,FALSE)),\"\",$A2)","v":""},{"$f":"IF(ISNA(VLOOKUP($A2,'Brad McLean'!$B$7:$C$15,1,FALSE)),\"\",$A2)","v":""},{"$f":"IF(ISNA(VLOOKUP($A2,'Donna McLean'!$B$7:$C$15,1,FALSE)),\"\",$A2)","v":""},{"$f":"IF(ISNA(VLOOKUP($A2,'Steve Sheppard'!$B$7:$C$15,1,FALSE)),\"\",$A2)","v":""},{"$f":"9-COUNTBLANK(C2:I2)","v":3},null,null,null,null,null,36]
[2,{"$f":"LOOKUP(A3,'Cars & Results'!$A$7:$A$215,'Cars & Results'!$B$7:$B$215)","v":"Brad Keselowski"},{"$f":"IF(ISNA(VLOOKUP($A3,'Ron Mason'!$B$7:$C$15,1,FALSE)),\"\",$A3)","v":""},{"$f":"IF(ISNA(VLOOKUP($A3,'Jeff Buehrle'!$B$7:$C$15,1,FALSE)),\"\",$A3)","v":2},{"$f":"IF(ISNA(VLOOKUP($A3,'Doug Gebauer'!$B$7:$C$15,1,FALSE)),\"\",$A3)","v":2},{"$f":"IF(ISNA(VLOOKUP($A3,'Trey George'!$B$7:$C$15,1,FALSE)),\"\",$A3)","v":""},{"$f":"IF(ISNA(VLOOKUP($A3,'Brad McLean'!$B$7:$C$15,1,FALSE)),\"\",$A3)","v":2},{"$f":"IF(ISNA(VLOOKUP($A3,'Donna McLean'!$B$7:$C$15,1,FALSE)),\"\",$A3)","v":""},{"$f":"IF(ISNA(VLOOKUP($A3,'Steve Sheppard'!$B$7:$C$15,1,FALSE)),\"\",$A3)","v":""},5]
[3,{"$f":"LOOKUP(A4,'Cars & Results'!$A$7:$A$215,'Cars & Results'!$B$7:$B$215)","v":"Austin Dillon"},{"$f":"IF(ISNA(VLOOKUP($A4,'Ron Mason'!$B$7:$C$15,1,FALSE)),\"\",$A4)","v":""},{"$f":"IF(ISNA(VLOOKUP($A4,'Jeff Buehrle'!$B$7:$C$15,1,FALSE)),\"\",$A4)","v":""},{"$f":"IF(ISNA(VLOOKUP($A4,'Doug Gebauer'!$B$7:$C$15,1,FALSE)),\"\",$A4)","v":""},{"$f":"IF(ISNA(VLOOKUP($A4,'Trey George'!$B$7:$C$15,1,FALSE)),\"\",$A4)","v":3},{"$f":"IF(ISNA(VLOOKUP($A4,'Brad McLean'!$B$7:$C$15,1,FALSE)),\"\",$A4)","v":""},{"$f":"IF(ISNA(VLOOKUP($A4,'Donna McLean'!$B$7:$C$15,1,FALSE)),\"\",$A4)","v":""},{"$f":"IF(ISNA(VLOOKUP($A4,'Steve Sheppard'!$B$7:$C$15,1,FALSE)),\"\",$A4)","v":""},3]
[4,{"$f":"LOOKUP(A5,'Cars & Results'!$A$7:$A$215,'Cars & Results'!$B$7:$B$215)","v":"Kevin Harvick"},{"$f":"IF(ISNA(VLOOKUP($A5,'Ron Mason'!$B$7:$C$15,1,FALSE)),\"\",$A5)","v":4},{"$f":"IF(ISNA(VLOOKUP($A5,'Jeff Buehrle'!$B$7:$C$15,1,FALSE)),\"\",$A5)","v":""},{"$f":"IF(ISNA(VLOOKUP($A5,'Doug Gebauer'!$B$7:$C$15,1,FALSE)),\"\",$A5)","v":""},{"$f":"IF(ISNA(VLOOKUP($A5,'Trey George'!$B$7:$C$15,1,FALSE)),\"\",$A5)","v":4},{"$f":"IF(ISNA(VLOOKUP($A5,'Brad McLean'!$B$7:$C$15,1,FALSE)),\"\",$A5)","v":4},{"$f":"IF(ISNA(VLOOKUP($A5,'Donna McLean'!$B$7:$C$15,1,FALSE)),\"\",$A5)","v":""},{"$f":"IF(ISNA(VLOOKUP($A5,'Steve Sheppard'!$B$7:$C$15,1,FALSE)),\"\",$A5)","v":""},5]
[5,{"$f":"LOOKUP(A6,'Cars & Results'!$A$7:$A$215,'Cars & Results'!$B$7:$B$215)","v":""},{"$f":"IF(ISNA(VLOOKUP($A6,'Ron Mason'!$B$7:$C$15,1,FALSE)),\"\",$A6)","v":""},{"$f":"IF(ISNA(VLOOKUP($A6,'Jeff Buehrle'!$B$7:$C$15,1,FALSE)),\"\",$A6)","v":""},{"$f":"IF(ISNA(VLOOKUP($A6,'Doug Gebauer'!$B$7:$C$15,1,FALSE)),\"\",$A6)","v":""},{"$f":"IF(ISNA(VLOOKUP($A6,'Trey George'!$B$7:$C$15,1,FALSE)),\"\",$A6)","v":""},{"$f":"IF(ISNA(VLOOKUP($A6,'Brad McLean'!$B$7:$C$15,1,FALSE)),\"\",$A6)","v":""},{"$f":"IF(ISNA(VLOOKUP($A6,'Donna McLean'!$B$7:$C$15,1,FALSE)),\"\",$A6)","v":""},{"$f":"IF(ISNA(VLOOKUP($A6,'Steve Sheppard'!$B$7:$C$15,1,FALSE)),\"\",$A6)","v":""},2]
[6,{"$f":"LOOKUP(A7,'Cars & Results'!$A$7:$A$215,'Cars & Results'!$B$7:$B$215)","v":"Ryan Newman"},{"$f":"IF(ISNA(VLOOKUP($A7,'Ron Mason'!$B$7:$C$15,1,FALSE)),\"\",$A7)","v":""},{"$f":"IF(ISNA(VLOOKUP($A7,'Jeff Buehrle'!$B$7:$C$15,1,FALSE)),\"\",$A7)","v":""},{"$f":"IF(ISNA(VLOOKUP($A7,'Doug Gebauer'!$B$7:$C$15,1,FALSE)),\"\",$A7)","v":""},{"$f":"IF(ISNA(VLOOKUP($A7,'Trey George'!$B$7:$C$15,1,FALSE)),\"\",$A7)","v":""},{"$f":"IF(ISNA(VLOOKUP($A7,'Brad McLean'!$B$7:$C$15,1,FALSE)),\"\",$A7)","v":""},{"$f":"IF(ISNA(VLOOKUP($A7,'Donna McLean'!$B$7:$C$15,1,FALSE)),\"\",$A7)","v":""},{"$f":"IF(ISNA(VLOOKUP($A7,'Steve Sheppard'!$B$7:$C$15,1,FALSE)),\"\",$A7)","v":""},2]
[7,{"$f":"LOOKUP(A8,'Cars & Results'!$A$7:$A$215,'Cars & Results'!$B$7:$B$215)","v":""},{"$f":"IF(ISNA(VLOOKUP($A8,'Ron Mason'!$B$7:$C$15,1,FALSE)),\"\",$A8)","v":""},{"$f":"IF(ISNA(VLOOKUP($A8,'Jeff Buehrle'!$B$7:$C$15,1,FALSE)),\"\",$A8)","v":""},{"$f":"IF(ISNA(VLOOKUP($A8,'Doug Gebauer'!$B$7:$C$15,1,FALSE)),\"\",$A8)","v":""},{"$f":"IF(ISNA(VLOOKUP($A8,'Trey George'!$B$7:$C$15,1,FALSE)),\"\",$A8)","v":""},{"$f":"IF(ISNA(VLOOKUP($A8,'Brad McLean'!$B$7:$C$15,1,FALSE)),\"\",$A8)","v":""},{"$f":"IF(ISNA(VLOOKUP($A8,'Donna McLean'!$B$7:$C$15,1,FALSE)),\"\",$A8)","v":""},{"$f":"IF(ISNA(VLOOKUP($A8,'Steve Sheppard'!$B$7:$C$15,1,FALSE)),\"\",$A8)","v":""},2]
[10,{"$f":"LOOKUP(A9,'Cars & Results'!$A$7:$A$215,'Cars & Results'!$B$7:$B$215)","v":"Aric Almirola"},{"$f":"IF(ISNA(VLOOKUP($A9,'Ron Mason'!$B$7:$C$15,1,FALSE)),\"\",$A9)","v":""},{"$f":"IF(ISNA(VLOOKUP($A9,'Jeff Buehrle'!$B$7:$C$15,1,FALSE)),\"\",$A9)","v":""},{"$f":"IF(ISNA(VLOOKUP($A9,'Doug Gebauer'!$B$7:$C$15,1,FALSE)),\"\",$A9)","v":""},{"$f":"IF(ISNA(VLOOKUP($A9,'Trey George'!$B$7:$C$15,1,FALSE)),\"\",$A9)","v":""},{"$f":"IF(ISNA(VLOOKUP($A9,'Brad McLean'!$B$7:$C$15,1,FALSE)),\"\",$A9)","v":""},{"$f":"IF(ISNA(VLOOKUP($A9,'Donna McLean'!$B$7:$C$15,1,FALSE)),\"\",$A9)","v":""},{"$f":"IF(ISNA(VLOOKUP($A9,'Steve Sheppard'!$B$7:$C$15,1,FALSE)),\"\",$A9)","v":""},2]
[11,{"$f":"LOOKUP(A10,'Cars & Results'!$A$7:$A$215,'Cars & Results'!$B$7:$B$215)","v":"Denny Hamlin"},{"$f":"IF(ISNA(VLOOKUP($A10,'Ron Mason'!$B$7:$C$15,1,FALSE)),\"\",$A10)","v":""},{"$f":"IF(ISNA(VLOOKUP($A10,'Jeff Buehrle'!$B$7:$C$15,1,FALSE)),\"\",$A10)","v":""},{"$f":"IF(ISNA(VLOOKUP($A10,'Doug Gebauer'!$B$7:$C$15,1,FALSE)),\"\",$A10)","v":""},{"$f":"IF(ISNA(VLOOKUP($A10,'Trey George'!$B$7:$C$15,1,FALSE)),\"\",$A10)","v":""},{"$f":"IF(ISNA(VLOOKUP($A10,'Brad McLean'!$B$7:$C$15,1,FALSE)),\"\",$A10)","v":""},{"$f":"IF(ISNA(VLOOKUP($A10,'Donna McLean'!$B$7:$C$15,1,FALSE)),\"\",$A10)","v":""},{"$f":"IF(ISNA(VLOOKUP($A10,'Steve Sheppard'!$B$7:$C$15,1,FALSE)),\"\",$A10)","v":""},2]
[13,{"$f":"LOOKUP(A11,'Cars & Results'!$A$7:$A$215,'Cars & Results'!$B$7:$B$215)","v":"Ty Dillon"},{"$f":"IF(ISNA(VLOOKUP($A11,'Ron Mason'!$B$7:$C$15,1,FALSE)),\"\",$A11)","v":""},{"$f":"IF(ISNA(VLOOKUP($A11,'Jeff Buehrle'!$B$7:$C$15,1,FALSE)),\"\",$A11)","v":13},{"$f":"IF(ISNA(VLOOKUP($A11,'Doug Gebauer'!$B$7:$C$15,1,FALSE)),\"\",$A11)","v":13},{"$f":"IF(ISNA(VLOOKUP($A11,'Trey George'!$B$7:$C$15,1,FALSE)),\"\",$A11)","v":""},{"$f":"IF(ISNA(VLOOKUP($A11,'Brad McLean'!$B$7:$C$15,1,FALSE)),\"\",$A11)","v":13},{"$f":"IF(ISNA(VLOOKUP($A11,'Donna McLean'!$B$7:$C$15,1,FALSE)),\"\",$A11)","v":""},{"$f":"IF(ISNA(VLOOKUP($A11,'Steve Sheppard'!$B$7:$C$15,1,FALSE)),\"\",$A11)","v":13},6]
[14,{"$f":"LOOKUP(A12,'Cars & Results'!$A$7:$A$215,'Cars & Results'!$B$7:$B$215)","v":"Clint Bowyer"},{"$f":"IF(ISNA(VLOOKUP($A12,'Ron Mason'!$B$7:$C$15,1,FALSE)),\"\",$A12)","v":14},{"$f":"IF(ISNA(VLOOKUP($A12,'Jeff Buehrle'!$B$7:$C$15,1,FALSE)),\"\",$A12)","v":""},{"$f":"IF(ISNA(VLOOKUP($A12,'Doug Gebauer'!$B$7:$C$15,1,FALSE)),\"\",$A12)","v":""},{"$f":"IF(ISNA(VLOOKUP($A12,'Trey George'!$B$7:$C$15,1,FALSE)),\"\",$A12)","v":14},{"$f":"IF(ISNA(VLOOKUP($A12,'Brad McLean'!$B$7:$C$15,1,FALSE)),\"\",$A12)","v":""},{"$f":"IF(ISNA(VLOOKUP($A12,'Donna McLean'!$B$7:$C$15,1,FALSE)),\"\",$A12)","v":""},{"$f":"IF(ISNA(VLOOKUP($A12,'Steve Sheppard'!$B$7:$C$15,1,FALSE)),\"\",$A12)","v":""},4]
[15,{"$f":"LOOKUP(A13,'Cars & Results'!$A$7:$A$215,'Cars & Results'!$B$7:$B$215)","v":"Joe Nemechek (i)"},{"$f":"IF(ISNA(VLOOKUP($A13,'Ron Mason'!$B$7:$C$15,1,FALSE)),\"\",$A13)","v":""},{"$f":"IF(ISNA(VLOOKUP($A13,'Jeff Buehrle'!$B$7:$C$15,1,FALSE)),\"\",$A13)","v":""},{"$f":"IF(ISNA(VLOOKUP($A13,'Doug Gebauer'!$B$7:$C$15,1,FALSE)),\"\",$A13)","v":15},{"$f":"IF(ISNA(VLOOKUP($A13,'Trey George'!$B$7:$C$15,1,FALSE)),\"\",$A13)","v":""},{"$f":"IF(ISNA(VLOOKUP($A13,'Brad McLean'!$B$7:$C$15,1,FALSE)),\"\",$A13)","v":15},{"$f":"IF(ISNA(VLOOKUP($A13,'Donna McLean'!$B$7:$C$15,1,FALSE)),\"\",$A13)","v":""},{"$f":"IF(ISNA(VLOOKUP($A13,'Steve Sheppard'!$B$7:$C$15,1,FALSE)),\"\",$A13)","v":""},4]
[16,{"$f":"LOOKUP(A14,'Cars & Results'!$A$7:$A$215,'Cars & Results'!$B$7:$B$215)","v":""},{"$f":"IF(ISNA(VLOOKUP($A14,'Ron Mason'!$B$7:$C$15,1,FALSE)),\"\",$A14)","v":""},{"$f":"IF(ISNA(VLOOKUP($A14,'Jeff Buehrle'!$B$7:$C$15,1,FALSE)),\"\",$A14)","v":""},{"$f":"IF(ISNA(VLOOKUP($A14,'Doug Gebauer'!$B$7:$C$15,1,FALSE)),\"\",$A14)","v":""},{"$f":"IF(ISNA(VLOOKUP($A14,'Trey George'!$B$7:$C$15,1,FALSE)),\"\",$A14)","v":""},{"$f":"IF(ISNA(VLOOKUP($A14,'Brad McLean'!$B$7:$C$15,1,FALSE)),\"\",$A14)","v":""},{"$f":"IF(ISNA(VLOOKUP($A14,'Donna McLean'!$B$7:$C$15,1,FALSE)),\"\",$A14)","v":""},{"$f":"IF(ISNA(VLOOKUP($A14,'Steve Sheppard'!$B$7:$C$15,1,FALSE)),\"\",$A14)","v":""},2]
[17,{"$f":"LOOKUP(A15,'Cars & Results'!$A$7:$A$215,'Cars & Results'!$B$7:$B$215)","v":"Ricky Stenhouse Jr."},{"$f":"IF(ISNA(VLOOKUP($A15,'Ron Mason'!$B$7:$C$15,1,FALSE)),\"\",$A15)","v":""},{"$f":"IF(ISNA(VLOOKUP($A15,'Jeff Buehrle'!$B$7:$C$15,1,FALSE)),\"\",$A15)","v":""},{"$f":"IF(ISNA(VLOOKUP($A15,'Doug Gebauer'!$B$7:$C$15,1,FALSE)),\"\",$A15)","v":""},{"$f":"IF(ISNA(VLOOKUP($A15,'Trey George'!$B$7:$C$15,1,FALSE)),\"\",$A15)","v":""},{"$f":"IF(ISNA(VLOOKUP($A15,'Brad McLean'!$B$7:$C$15,1,FALSE)),\"\",$A15)","v":""},{"$f":"IF(ISNA(VLOOKUP($A15,'Donna McLean'!$B$7:$C$15,1,FALSE)),\"\",$A15)","v":""},{"$f":"IF(ISNA(VLOOKUP($A15,'Steve Sheppard'!$B$7:$C$15,1,FALSE)),\"\",$A15)","v":""},2]
[18,{"$f":"LOOKUP(A16,'Cars & Results'!$A$7:$A$215,'Cars & Results'!$B$7:$B$215)","v":"Kyle Busch"},{"$f":"IF(ISNA(VLOOKUP($A16,'Ron Mason'!$B$7:$C$15,1,FALSE)),\"\",$A16)","v":""},{"$f":"IF(ISNA(VLOOKUP($A16,'Jeff Buehrle'!$B$7:$C$15,1,FALSE)),\"\",$A16)","v":""},{"$f":"IF(ISNA(VLOOKUP($A16,'Doug Gebauer'!$B$7:$C$15,1,FALSE)),\"\",$A16)","v":18},{"$f":"IF(ISNA(VLOOKUP($A16,'Trey George'!$B$7:$C$15,1,FALSE)),\"\",$A16)","v":""},{"$f":"IF(ISNA(VLOOKUP($A16,'Brad McLean'!$B$7:$C$15,1,FALSE)),\"\",$A16)","v":""},{"$f":"IF(ISNA(VLOOKUP($A16,'Donna McLean'!$B$7:$C$15,1,FALSE)),\"\",$A16)","v":18},{"$f":"IF(ISNA(VLOOKUP($A16,'Steve Sheppard'!$B$7:$C$15,1,FALSE)),\"\",$A16)","v":18},5]
[19,{"$f":"LOOKUP(A17,'Cars & Results'!$A$7:$A$215,'Cars & Results'!$B$7:$B$215)","v":"Martin Truex Jr."},{"$f":"IF(ISNA(VLOOKUP($A17,'Ron Mason'!$B$7:$C$15,1,FALSE)),\"\",$A17)","v":""},{"$f":"IF(ISNA(VLOOKUP($A17,'Jeff Buehrle'!$B$7:$C$15,1,FALSE)),\"\",$A17)","v":""},{"$f":"IF(ISNA(VLOOKUP($A17,'Doug Gebauer'!$B$7:$C$15,1,FALSE)),\"\",$A17)","v":""},{"$f":"IF(ISNA(VLOOKUP($A17,'Trey George'!$B$7:$C$15,1,FALSE)),\"\",$A17)","v":""},{"$f":"IF(ISNA(VLOOKUP($A17,'Brad McLean'!$B$7:$C$15,1,FALSE)),\"\",$A17)","v":""},{"$f":"IF(ISNA(VLOOKUP($A17,'Donna McLean'!$B$7:$C$15,1,FALSE)),\"\",$A17)","v":19},{"$f":"IF(ISNA(VLOOKUP($A17,'Steve Sheppard'!$B$7:$C$15,1,FALSE)),\"\",$A17)","v":""},3]
[20,{"$f":"LOOKUP(A18,'Cars & Results'!$A$7:$A$215,'Cars & Results'!$B$7:$B$215)","v":"Erik Jones"},{"$f":"IF(ISNA(VLOOKUP($A18,'Ron Mason'!$B$7:$C$15,1,FALSE)),\"\",$A18)","v":""},{"$f":"IF(ISNA(VLOOKUP($A18,'Jeff Buehrle'!$B$7:$C$15,1,FALSE)),\"\",$A18)","v":""},{"$f":"IF(ISNA(VLOOKUP($A18,'Doug Gebauer'!$B$7:$C$15,1,FALSE)),\"\",$A18)","v":""},{"$f":"IF(ISNA(VLOOKUP($A18,'Trey George'!$B$7:$C$15,1,FALSE)),\"\",$A18)","v":""},{"$f":"IF(ISNA(VLOOKUP($A18,'Brad McLean'!$B$7:$C$15,1,FALSE)),\"\",$A18)","v":""},{"$f":"IF(ISNA(VLOOKUP($A18,'Donna McLean'!$B$7:$C$15,1,FALSE)),\"\",$A18)","v":""},{"$f":"IF(ISNA(VLOOKUP($A18,'Steve Sheppard'!$B$7:$C$15,1,FALSE)),\"\",$A18)","v":""},2]
[21,{"$f":"LOOKUP(A19,'Cars & Results'!$A$7:$A$215,'Cars & Results'!$B$7:$B$215)","v":"Paul Menard"},{"$f":"IF(ISNA(VLOOKUP($A19,'Ron Mason'!$B$7:$C$15,1,FALSE)),\"\",$A19)","v":""},{"$f":"IF(ISNA(VLOOKUP($A19,'Jeff Buehrle'!$B$7:$C$15,1,FALSE)),\"\",$A19)","v":""},{"$f":"IF(ISNA(VLOOKUP($A19,'Doug Gebauer'!$B$7:$C$15,1,FALSE)),\"\",$A19)","v":""},{"$f":"IF(ISNA(VLOOKUP($A19,'Trey George'!$B$7:$C$15,1,FALSE)),\"\",$A19)","v":""},{"$f":"IF(ISNA(VLOOKUP($A19,'Brad McLean'!$B$7:$C$15,1,FALSE)),\"\",$A19)","v":21},{"$f":"IF(ISNA(VLOOKUP($A19,'Donna McLean'!$B$7:$C$15,1,FALSE)),\"\",$A19)","v":""},{"$f":"IF(ISNA(VLOOKUP($A19,'Steve Sheppard'!$B$7:$C$15,1,FALSE)),\"\",$A19)","v":""},3]
[22,{"$f":"LOOKUP(A20,'Cars & Results'!$A$7:$A$215,'Cars & Results'!$B$7:$B$215)","v":"Joey Logano"},{"$f":"IF(ISNA(VLOOKUP($A20,'Ron Mason'!$B$7:$C$15,1,FALSE)),\"\",$A20)","v":""},{"$f":"IF(ISNA(VLOOKUP($A20,'Jeff Buehrle'!$B$7:$C$15,1,FALSE)),\"\",$A20)","v":22},{"$f":"IF(ISNA(VLOOKUP($A20,'Doug Gebauer'!$B$7:$C$15,1,FALSE)),\"\",$A20)","v":""},{"$f":"IF(ISNA(VLOOKUP($A20,'Trey George'!$B$7:$C$15,1,FALSE)),\"\",$A20)","v":""},{"$f":"IF(ISNA(VLOOKUP($A20,'Brad McLean'!$B$7:$C$15,1,FALSE)),\"\",$A20)","v":""},{"$f":"IF(ISNA(VLOOKUP($A20,'Donna McLean'!$B$7:$C$15,1,FALSE)),\"\",$A20)","v":""},{"$f":"IF(ISNA(VLOOKUP($A20,'Steve Sheppard'!$B$7:$C$15,1,FALSE)),\"\",$A20)","v":22},4]
[23,{"$f":"LOOKUP(A21,'Cars & Results'!$A$7:$A$215,'Cars & Results'!$B$7:$B$215)","v":""},{"$f":"IF(ISNA(VLOOKUP($A21,'Ron Mason'!$B$7:$C$15,1,FALSE)),\"\",$A21)","v":""},{"$f":"IF(ISNA(VLOOKUP($A21,'Jeff Buehrle'!$B$7:$C$15,1,FALSE)),\"\",$A21)","v":""},{"$f":"IF(ISNA(VLOOKUP($A21,'Doug Gebauer'!$B$7:$C$15,1,FALSE)),\"\",$A21)","v":""},{"$f":"IF(ISNA(VLOOKUP($A21,'Trey George'!$B$7:$C$15,1,FALSE)),\"\",$A21)","v":""},{"$f":"IF(ISNA(VLOOKUP($A21,'Brad McLean'!$B$7:$C$15,1,FALSE)),\"\",$A21)","v":""},{"$f":"IF(ISNA(VLOOKUP($A21,'Donna McLean'!$B$7:$C$15,1,FALSE)),\"\",$A21)","v":""},{"$f":"IF(ISNA(VLOOKUP($A21,'Steve Sheppard'!$B$7:$C$15,1,FALSE)),\"\",$A21)","v":""},2]
[24,{"$f":"LOOKUP(A22,'Cars & Results'!$A$7:$A$215,'Cars & Results'!$B$7:$B$215)","v":"William Byron"},{"$f":"IF(ISNA(VLOOKUP($A22,'Ron Mason'!$B$7:$C$15,1,FALSE)),\"\",$A22)","v":""},{"$f":"IF(ISNA(VLOOKUP($A22,'Jeff Buehrle'!$B$7:$C$15,1,FALSE)),\"\",$A22)","v":""},{"$f":"IF(ISNA(VLOOKUP($A22,'Doug Gebauer'!$B$7:$C$15,1,FALSE)),\"\",$A22)","v":""},{"$f":"IF(ISNA(VLOOKUP($A22,'Trey George'!$B$7:$C$15,1,FALSE)),\"\",$A22)","v":""},{"$f":"IF(ISNA(VLOOKUP($A22,'Brad McLean'!$B$7:$C$15,1,FALSE)),\"\",$A22)","v":""},{"$f":"IF(ISNA(VLOOKUP($A22,'Donna McLean'!$B$7:$C$15,1,FALSE)),\"\",$A22)","v":""},{"$f":"IF(ISNA(VLOOKUP($A22,'Steve Sheppard'!$B$7:$C$15,1,FALSE)),\"\",$A22)","v":""},2]
[26,{"$f":"LOOKUP(A23,'Cars & Results'!$A$7:$A$215,'Cars & Results'!$B$7:$B$215)","v":""},{"$f":"IF(ISNA(VLOOKUP($A23,'Ron Mason'!$B$7:$C$15,1,FALSE)),\"\",$A23)","v":""},{"$f":"IF(ISNA(VLOOKUP($A23,'Jeff Buehrle'!$B$7:$C$15,1,FALSE)),\"\",$A23)","v":""},{"$f":"IF(ISNA(VLOOKUP($A23,'Doug Gebauer'!$B$7:$C$15,1,FALSE)),\"\",$A23)","v":""},{"$f":"IF(ISNA(VLOOKUP($A23,'Trey George'!$B$7:$C$15,1,FALSE)),\"\",$A23)","v":""},{"$f":"IF(ISNA(VLOOKUP($A23,'Brad McLean'!$B$7:$C$15,1,FALSE)),\"\",$A23)","v":""},{"$f":"IF(ISNA(VLOOKUP($A23,'Donna McLean'!$B$7:$C$15,1,FALSE)),\"\",$A23)","v":""},{"$f":"IF(ISNA(VLOOKUP($A23,'Steve Sheppard'!$B$7:$C$15,1,FALSE)),\"\",$A23)","v":""},2]
[27,{"$f":"LOOKUP(A24,'Cars & Results'!$A$7:$A$215,'Cars & Results'!$B$7:$B$215)","v":"Ross Chastain (i)"},{"$f":"IF(ISNA(VLOOKUP($A24,'Ron Mason'!$B$7:$C$15,1,FALSE)),\"\",$A24)","v":27},{"$f":"IF(ISNA(VLOOKUP($A24,'Jeff Buehrle'!$B$7:$C$15,1,FALSE)),\"\",$A24)","v":27},{"$f":"IF(ISNA(VLOOKUP($A24,'Doug Gebauer'!$B$7:$C$15,1,FALSE)),\"\",$A24)","v":""},{"$f":"IF(ISNA(VLOOKUP($A24,'Trey George'!$B$7:$C$15,1,FALSE)),\"\",$A24)","v":""},{"$f":"IF(ISNA(VLOOKUP($A24,'Brad McLean'!$B$7:$C$15,1,FALSE)),\"\",$A24)","v":""},{"$f":"IF(ISNA(VLOOKUP($A24,'Donna McLean'!$B$7:$C$15,1,FALSE)),\"\",$A24)","v":27},{"$f":"IF(ISNA(VLOOKUP($A24,'Steve Sheppard'!$B$7:$C$15,1,FALSE)),\"\",$A24)","v":""},5]
[30,{"$f":"LOOKUP(A25,'Cars & Results'!$A$7:$A$215,'Cars & Results'!$B$7:$B$215)","v":""},{"$f":"IF(ISNA(VLOOKUP($A25,'Ron Mason'!$B$7:$C$15,1,FALSE)),\"\",$A25)","v":""},{"$f":"IF(ISNA(VLOOKUP($A25,'Jeff Buehrle'!$B$7:$C$15,1,FALSE)),\"\",$A25)","v":""},{"$f":"IF(ISNA(VLOOKUP($A25,'Doug Gebauer'!$B$7:$C$15,1,FALSE)),\"\",$A25)","v":""},{"$f":"IF(ISNA(VLOOKUP($A25,'Trey George'!$B$7:$C$15,1,FALSE)),\"\",$A25)","v":""},{"$f":"IF(ISNA(VLOOKUP($A25,'Brad McLean'!$B$7:$C$15,1,FALSE)),\"\",$A25)","v":""},{"$f":"IF(ISNA(VLOOKUP($A25,'Donna McLean'!$B$7:$C$15,1,FALSE)),\"\",$A25)","v":""},{"$f":"IF(ISNA(VLOOKUP($A25,'Steve Sheppard'!$B$7:$C$15,1,FALSE)),\"\",$A25)","v":""},2]
[31,{"$f":"LOOKUP(A26,'Cars & Results'!$A$7:$A$215,'Cars & Results'!$B$7:$B$215)","v":""},{"$f":"IF(ISNA(VLOOKUP($A26,'Ron Mason'!$B$7:$C$15,1,FALSE)),\"\",$A26)","v":""},{"$f":"IF(ISNA(VLOOKUP($A26,'Jeff Buehrle'!$B$7:$C$15,1,FALSE)),\"\",$A26)","v":""},{"$f":"IF(ISNA(VLOOKUP($A26,'Doug Gebauer'!$B$7:$C$15,1,FALSE)),\"\",$A26)","v":""},{"$f":"IF(ISNA(VLOOKUP($A26,'Trey George'!$B$7:$C$15,1,FALSE)),\"\",$A26)","v":""},{"$f":"IF(ISNA(VLOOKUP($A26,'Brad McLean'!$B$7:$C$15,1,FALSE)),\"\",$A26)","v":""},{"$f":"IF(ISNA(VLOOKUP($A26,'Donna McLean'!$B$7:$C$15,1,FALSE)),\"\",$A26)","v":""},{"$f":"IF(ISNA(VLOOKUP($A26,'Steve Sheppard'!$B$7:$C$15,1,FALSE)),\"\",$A26)","v":""},2]
[32,{"$f":"LOOKUP(A27,'Cars & Results'!$A$7:$A$215,'Cars & Results'!$B$7:$B$215)","v":"Corey LaJoie"},{"$f":"IF(ISNA(VLOOKUP($A27,'Ron Mason'!$B$7:$C$15,1,FALSE)),\"\",$A27)","v":""},{"$f":"IF(ISNA(VLOOKUP($A27,'Jeff Buehrle'!$B$7:$C$15,1,FALSE)),\"\",$A27)","v":""},{"$f":"IF(ISNA(VLOOKUP($A27,'Doug Gebauer'!$B$7:$C$15,1,FALSE)),\"\",$A27)","v":""},{"$f":"IF(ISNA(VLOOKUP($A27,'Trey George'!$B$7:$C$15,1,FALSE)),\"\",$A27)","v":""},{"$f":"IF(ISNA(VLOOKUP($A27,'Brad McLean'!$B$7:$C$15,1,FALSE)),\"\",$A27)","v":""},{"$f":"IF(ISNA(VLOOKUP($A27,'Donna McLean'!$B$7:$C$15,1,FALSE)),\"\",$A27)","v":""},{"$f":"IF(ISNA(VLOOKUP($A27,'Steve Sheppard'!$B$7:$C$15,1,FALSE)),\"\",$A27)","v":""},2]
[34,{"$f":"LOOKUP(A28,'Cars & Results'!$A$7:$A$215,'Cars & Results'!$B$7:$B$215)","v":"Michael McDowell"},{"$f":"IF(ISNA(VLOOKUP($A28,'Ron Mason'!$B$7:$C$15,1,FALSE)),\"\",$A28)","v":34},{"$f":"IF(ISNA(VLOOKUP($A28,'Jeff Buehrle'!$B$7:$C$15,1,FALSE)),\"\",$A28)","v":""},{"$f":"IF(ISNA(VLOOKUP($A28,'Doug Gebauer'!$B$7:$C$15,1,FALSE)),\"\",$A28)","v":34},{"$f":"IF(ISNA(VLOOKUP($A28,'Trey George'!$B$7:$C$15,1,FALSE)),\"\",$A28)","v":""},{"$f":"IF(ISNA(VLOOKUP($A28,'Brad McLean'!$B$7:$C$15,1,FALSE)),\"\",$A28)","v":""},{"$f":"IF(ISNA(VLOOKUP($A28,'Donna McLean'!$B$7:$C$15,1,FALSE)),\"\",$A28)","v":""},{"$f":"IF(ISNA(VLOOKUP($A28,'Steve Sheppard'!$B$7:$C$15,1,FALSE)),\"\",$A28)","v":""},4]
[35,{"$f":"LOOKUP(A29,'Cars & Results'!$A$7:$A$215,'Cars & Results'!$B$7:$B$215)","v":""},{"$f":"IF(ISNA(VLOOKUP($A29,'Ron Mason'!$B$7:$C$15,1,FALSE)),\"\",$A29)","v":""},{"$f":"IF(ISNA(VLOOKUP($A29,'Jeff Buehrle'!$B$7:$C$15,1,FALSE)),\"\",$A29)","v":""},{"$f":"IF(ISNA(VLOOKUP($A29,'Doug Gebauer'!$B$7:$C$15,1,FALSE)),\"\",$A29)","v":""},{"$f":"IF(ISNA(VLOOKUP($A29,'Trey George'!$B$7:$C$15,1,FALSE)),\"\",$A29)","v":""},{"$f":"IF(ISNA(VLOOKUP($A29,'Brad McLean'!$B$7:$C$15,1,FALSE)),\"\",$A29)","v":""},{"$f":"IF(ISNA(VLOOKUP($A29,'Donna McLean'!$B$7:$C$15,1,FALSE)),\"\",$A29)","v":""},{"$f":"IF(ISNA(VLOOKUP($A29,'Steve Sheppard'!$B$7:$C$15,1,FALSE)),\"\",$A29)","v":""},2]
[38,{"$f":"LOOKUP(A30,'Cars & Results'!$A$7:$A$215,'Cars & Results'!$B$7:$B$215)","v":"David Ragan"},{"$f":"IF(ISNA(VLOOKUP($A30,'Ron Mason'!$B$7:$C$15,1,FALSE)),\"\",$A30)","v":""},{"$f":"IF(ISNA(VLOOKUP($A30,'Jeff Buehrle'!$B$7:$C$15,1,FALSE)),\"\",$A30)","v":""},{"$f":"IF(ISNA(VLOOKUP($A30,'Doug Gebauer'!$B$7:$C$15,1,FALSE)),\"\",$A30)","v":""},{"$f":"IF(ISNA(VLOOKUP($A30,'Trey George'!$B$7:$C$15,1,FALSE)),\"\",$A30)","v":""},{"$f":"IF(ISNA(VLOOKUP($A30,'Brad McLean'!$B$7:$C$15,1,FALSE)),\"\",$A30)","v":""},{"$f":"IF(ISNA(VLOOKUP($A30,'Donna McLean'!$B$7:$C$15,1,FALSE)),\"\",$A30)","v":""},{"$f":"IF(ISNA(VLOOKUP($A30,'Steve Sheppard'!$B$7:$C$15,1,FALSE)),\"\",$A30)","v":""},2]
[40,{"$f":"LOOKUP(A31,'Cars & Results'!$A$7:$A$215,'Cars & Results'!$B$7:$B$215)","v":""},{"$f":"IF(ISNA(VLOOKUP($A31,'Ron Mason'!$B$7:$C$15,1,FALSE)),\"\",$A31)","v":""},{"$f":"IF(ISNA(VLOOKUP($A31,'Jeff Buehrle'!$B$7:$C$15,1,FALSE)),\"\",$A31)","v":""},{"$f":"IF(ISNA(VLOOKUP($A31,'Doug Gebauer'!$B$7:$C$15,1,FALSE)),\"\",$A31)","v":""},{"$f":"IF(ISNA(VLOOKUP($A31,'Trey George'!$B$7:$C$15,1,FALSE)),\"\",$A31)","v":""},{"$f":"IF(ISNA(VLOOKUP($A31,'Brad McLean'!$B$7:$C$15,1,FALSE)),\"\",$A31)","v":""},{"$f":"IF(ISNA(VLOOKUP($A31,'Donna McLean'!$B$7:$C$15,1,FALSE)),\"\",$A31)","v":""},{"$f":"IF(ISNA(VLOOKUP($A31,'Steve Sheppard'!$B$7:$C$15,1,FALSE)),\"\",$A31)","v":""},2]
[41,{"$f":"LOOKUP(A32,'Cars & Results'!$A$7:$A$215,'Cars & Results'!$B$7:$B$215)","v":"Daniel Suárez"},{"$f":"IF(ISNA(VLOOKUP($A32,'Ron Mason'!$B$7:$C$15,1,FALSE)),\"\",$A32)","v":41},{"$f":"IF(ISNA(VLOOKUP($A32,'Jeff Buehrle'!$B$7:$C$15,1,FALSE)),\"\",$A32)","v":41},{"$f":"IF(ISNA(VLOOKUP($A32,'Doug Gebauer'!$B$7:$C$15,1,FALSE)),\"\",$A32)","v":41},{"$f":"IF(ISNA(VLOOKUP($A32,'Trey George'!$B$7:$C$15,1,FALSE)),\"\",$A32)","v":""},{"$f":"IF(ISNA(VLOOKUP($A32,'Brad McLean'!$B$7:$C$15,1,FALSE)),\"\",$A32)","v":""},{"$f":"IF(ISNA(VLOOKUP($A32,'Donna McLean'!$B$7:$C$15,1,FALSE)),\"\",$A32)","v":41},{"$f":"IF(ISNA(VLOOKUP($A32,'Steve Sheppard'!$B$7:$C$15,1,FALSE)),\"\",$A32)","v":41},7]
[42,{"$f":"LOOKUP(A33,'Cars & Results'!$A$7:$A$215,'Cars & Results'!$B$7:$B$215)","v":"Kyle Larson"},{"$f":"IF(ISNA(VLOOKUP($A33,'Ron Mason'!$B$7:$C$15,1,FALSE)),\"\",$A33)","v":""},{"$f":"IF(ISNA(VLOOKUP($A33,'Jeff Buehrle'!$B$7:$C$15,1,FALSE)),\"\",$A33)","v":42},{"$f":"IF(ISNA(VLOOKUP($A33,'Doug Gebauer'!$B$7:$C$15,1,FALSE)),\"\",$A33)","v":42},{"$f":"IF(ISNA(VLOOKUP($A33,'Trey George'!$B$7:$C$15,1,FALSE)),\"\",$A33)","v":""},{"$f":"IF(ISNA(VLOOKUP($A33,'Brad McLean'!$B$7:$C$15,1,FALSE)),\"\",$A33)","v":""},{"$f":"IF(ISNA(VLOOKUP($A33,'Donna McLean'!$B$7:$C$15,1,FALSE)),\"\",$A33)","v":42},{"$f":"IF(ISNA(VLOOKUP($A33,'Steve Sheppard'!$B$7:$C$15,1,FALSE)),\"\",$A33)","v":""},5]
[43,{"$f":"LOOKUP(A34,'Cars & Results'!$A$7:$A$215,'Cars & Results'!$B$7:$B$215)","v":"Darrell Wallace Jr."},{"$f":"IF(ISNA(VLOOKUP($A34,'Ron Mason'!$B$7:$C$15,1,FALSE)),\"\",$A34)","v":""},{"$f":"IF(ISNA(VLOOKUP($A34,'Jeff Buehrle'!$B$7:$C$15,1,FALSE)),\"\",$A34)","v":43},{"$f":"IF(ISNA(VLOOKUP($A34,'Doug Gebauer'!$B$7:$C$15,1,FALSE)),\"\",$A34)","v":""},{"$f":"IF(ISNA(VLOOKUP($A34,'Trey George'!$B$7:$C$15,1,FALSE)),\"\",$A34)","v":43},{"$f":"IF(ISNA(VLOOKUP($A34,'Brad McLean'!$B$7:$C$15,1,FALSE)),\"\",$A34)","v":""},{"$f":"IF(ISNA(VLOOKUP($A34,'Donna McLean'!$B$7:$C$15,1,FALSE)),\"\",$A34)","v":43},{"$f":"IF(ISNA(VLOOKUP($A34,'Steve Sheppard'!$B$7:$C$15,1,FALSE)),\"\",$A34)","v":""},5]
[44,{"$f":"LOOKUP(A35,'Cars & Results'!$A$7:$A$215,'Cars & Results'!$B$7:$B$215)","v":""},{"$f":"IF(ISNA(VLOOKUP($A35,'Ron Mason'!$B$7:$C$15,1,FALSE)),\"\",$A35)","v":""},{"$f":"IF(ISNA(VLOOKUP($A35,'Jeff Buehrle'!$B$7:$C$15,1,FALSE)),\"\",$A35)","v":""},{"$f":"IF(ISNA(VLOOKUP($A35,'Doug Gebauer'!$B$7:$C$15,1,FALSE)),\"\",$A35)","v":""},{"$f":"IF(ISNA(VLOOKUP($A35,'Trey George'!$B$7:$C$15,1,FALSE)),\"\",$A35)","v":""},{"$f":"IF(ISNA(VLOOKUP($A35,'Brad McLean'!$B$7:$C$15,1,FALSE)),\"\",$A35)","v":""},{"$f":"IF(ISNA(VLOOKUP($A35,'Donna McLean'!$B$7:$C$15,1,FALSE)),\"\",$A35)","v":""},{"$f":"IF(ISNA(VLOOKUP($A35,'Steve Sheppard'!$B$7:$C$15,1,FALSE)),\"\",$A35)","v":""},2]
[46,{"$f":"LOOKUP(A36,'Cars & Results'!$A$7:$A$215,'Cars & Results'!$B$7:$B$215)","v":""},{"$f":"IF(ISNA(VLOOKUP($A36,'Ron Mason'!$B$7:$C$15,1,FALSE)),\"\",$A36)","v":""},{"$f":"IF(ISNA(VLOOKUP($A36,'Jeff Buehrle'!$B$7:$C$15,1,FALSE)),\"\",$A36)","v":""},{"$f":"IF(ISNA(VLOOKUP($A36,'Doug Gebauer'!$B$7:$C$15,1,FALSE)),\"\",$A36)","v":""},{"$f":"IF(ISNA(VLOOKUP($A36,'Trey George'!$B$7:$C$15,1,FALSE)),\"\",$A36)","v":""},{"$f":"IF(ISNA(VLOOKUP($A36,'Brad McLean'!$B$7:$C$15,1,FALSE)),\"\",$A36)","v":""},{"$f":"IF(ISNA(VLOOKUP($A36,'Donna McLean'!$B$7:$C$15,1,FALSE)),\"\",$A36)","v":""},{"$f":"IF(ISNA(VLOOKUP($A36,'Steve Sheppard'!$B$7:$C$15,1,FALSE)),\"\",$A36)","v":""},2]
[47,{"$f":"LOOKUP(A37,'Cars & Results'!$A$7:$A$215,'Cars & Results'!$B$7:$B$215)","v":"Ryan Preece (R)"},{"$f":"IF(ISNA(VLOOKUP($A37,'Ron Mason'!$B$7:$C$15,1,FALSE)),\"\",$A37)","v":""},{"$f":"IF(ISNA(VLOOKUP($A37,'Jeff Buehrle'!$B$7:$C$15,1,FALSE)),\"\",$A37)","v":""},{"$f":"IF(ISNA(VLOOKUP($A37,'Doug Gebauer'!$B$7:$C$15,1,FALSE)),\"\",$A37)","v":""},{"$f":"IF(ISNA(VLOOKUP($A37,'Trey George'!$B$7:$C$15,1,FALSE)),\"\",$A37)","v":""},{"$f":"IF(ISNA(VLOOKUP($A37,'Brad McLean'!$B$7:$C$15,1,FALSE)),\"\",$A37)","v":47},{"$f":"IF(ISNA(VLOOKUP($A37,'Donna McLean'!$B$7:$C$15,1,FALSE)),\"\",$A37)","v":47},{"$f":"IF(ISNA(VLOOKUP($A37,'Steve Sheppard'!$B$7:$C$15,1,FALSE)),\"\",$A37)","v":""},4]
[48,{"$f":"LOOKUP(A38,'Cars & Results'!$A$7:$A$215,'Cars & Results'!$B$7:$B$215)","v":"Jimmie Johnson"},{"$f":"IF(ISNA(VLOOKUP($A38,'Ron Mason'!$B$7:$C$15,1,FALSE)),\"\",$A38)","v":""},{"$f":"IF(ISNA(VLOOKUP($A38,'Jeff Buehrle'!$B$7:$C$15,1,FALSE)),\"\",$A38)","v":48},{"$f":"IF(ISNA(VLOOKUP($A38,'Doug Gebauer'!$B$7:$C$15,1,FALSE)),\"\",$A38)","v":48},{"$f":"IF(ISNA(VLOOKUP($A38,'Trey George'!$B$7:$C$15,1,FALSE)),\"\",$A38)","v":48},{"$f":"IF(ISNA(VLOOKUP($A38,'Brad McLean'!$B$7:$C$15,1,FALSE)),\"\",$A38)","v":48},{"$f":"IF(ISNA(VLOOKUP($A38,'Donna McLean'!$B$7:$C$15,1,FALSE)),\"\",$A38)","v":48},{"$f":"IF(ISNA(VLOOKUP($A38,'Steve Sheppard'!$B$7:$C$15,1,FALSE)),\"\",$A38)","v":48},8]
[59,{"$f":"LOOKUP(A39,'Cars & Results'!$A$7:$A$215,'Cars & Results'!$B$7:$B$215)","v":""},{"$f":"IF(ISNA(VLOOKUP($A39,'Ron Mason'!$B$7:$C$15,1,FALSE)),\"\",$A39)","v":""},{"$f":"IF(ISNA(VLOOKUP($A39,'Jeff Buehrle'!$B$7:$C$15,1,FALSE)),\"\",$A39)","v":""},{"$f":"IF(ISNA(VLOOKUP($A39,'Doug Gebauer'!$B$7:$C$15,1,FALSE)),\"\",$A39)","v":""},{"$f":"IF(ISNA(VLOOKUP($A39,'Trey George'!$B$7:$C$15,1,FALSE)),\"\",$A39)","v":""},{"$f":"IF(ISNA(VLOOKUP($A39,'Brad McLean'!$B$7:$C$15,1,FALSE)),\"\",$A39)","v":""},{"$f":"IF(ISNA(VLOOKUP($A39,'Donna McLean'!$B$7:$C$15,1,FALSE)),\"\",$A39)","v":""},{"$f":"IF(ISNA(VLOOKUP($A39,'Steve Sheppard'!$B$7:$C$15,1,FALSE)),\"\",$A39)","v":""},2]
[78,{"$f":"LOOKUP(A40,'Cars & Results'!$A$7:$A$215,'Cars & Results'!$B$7:$B$215)","v":""},{"$f":"IF(ISNA(VLOOKUP($A40,'Ron Mason'!$B$7:$C$15,1,FALSE)),\"\",$A40)","v":""},{"$f":"IF(ISNA(VLOOKUP($A40,'Jeff Buehrle'!$B$7:$C$15,1,FALSE)),\"\",$A40)","v":""},{"$f":"IF(ISNA(VLOOKUP($A40,'Doug Gebauer'!$B$7:$C$15,1,FALSE)),\"\",$A40)","v":""},{"$f":"IF(ISNA(VLOOKUP($A40,'Trey George'!$B$7:$C$15,1,FALSE)),\"\",$A40)","v":""},{"$f":"IF(ISNA(VLOOKUP($A40,'Brad McLean'!$B$7:$C$15,1,FALSE)),\"\",$A40)","v":""},{"$f":"IF(ISNA(VLOOKUP($A40,'Donna McLean'!$B$7:$C$15,1,FALSE)),\"\",$A40)","v":""},{"$f":"IF(ISNA(VLOOKUP($A40,'Steve Sheppard'!$B$7:$C$15,1,FALSE)),\"\",$A40)","v":""},2]
[83,{"$f":"LOOKUP(A41,'Cars & Results'!$A$7:$A$215,'Cars & Results'!$B$7:$B$215)","v":""},{"$f":"IF(ISNA(VLOOKUP($A41,'Ron Mason'!$B$7:$C$15,1,FALSE)),\"\",$A41)","v":""},{"$f":"IF(ISNA(VLOOKUP($A41,'Jeff Buehrle'!$B$7:$C$15,1,FALSE)),\"\",$A41)","v":""},{"$f":"IF(ISNA(VLOOKUP($A41,'Doug Gebauer'!$B$7:$C$15,1,FALSE)),\"\",$A41)","v":""},{"$f":"IF(ISNA(VLOOKUP($A41,'Trey George'!$B$7:$C$15,1,FALSE)),\"\",$A41)","v":""},{"$f":"IF(ISNA(VLOOKUP($A41,'Brad McLean'!$B$7:$C$15,1,FALSE)),\"\",$A41)","v":""},{"$f":"IF(ISNA(VLOOKUP($A41,'Donna McLean'!$B$7:$C$15,1,FALSE)),\"\",$A41)","v":""},{"$f":"IF(ISNA(VLOOKUP($A41,'Steve Sheppard'!$B$7:$C$15,1,FALSE)),\"\",$A41)","v":""},2]
[88,{"$f":"LOOKUP(A42,'Cars & Results'!$A$7:$A$215,'Cars & Results'!$B$7:$B$215)","v":"Alex Bowman"},{"$f":"IF(ISNA(VLOOKUP($A42,'Ron Mason'!$B$7:$C$15,1,FALSE)),\"\",$A42)","v":""},{"$f":"IF(ISNA(VLOOKUP($A42,'Jeff Buehrle'!$B$7:$C$15,1,FALSE)),\"\",$A42)","v":""},{"$f":"IF(ISNA(VLOOKUP($A42,'Doug Gebauer'!$B$7:$C$15,1,FALSE)),\"\",$A42)","v":""},{"$f":"IF(ISNA(VLOOKUP($A42,'Trey George'!$B$7:$C$15,1,FALSE)),\"\",$A42)","v":""},{"$f":"IF(ISNA(VLOOKUP($A42,'Brad McLean'!$B$7:$C$15,1,FALSE)),\"\",$A42)","v":""},{"$f":"IF(ISNA(VLOOKUP($A42,'Donna McLean'!$B$7:$C$15,1,FALSE)),\"\",$A42)","v":""},{"$f":"IF(ISNA(VLOOKUP($A42,'Steve Sheppard'!$B$7:$C$15,1,FALSE)),\"\",$A42)","v":88},3]
[93,{"$f":"LOOKUP(A43,'Cars & Results'!$A$7:$A$215,'Cars & Results'!$B$7:$B$215)","v":""},{"$f":"IF(ISNA(VLOOKUP($A43,'Ron Mason'!$B$7:$C$15,1,FALSE)),\"\",$A43)","v":""},{"$f":"IF(ISNA(VLOOKUP($A43,'Jeff Buehrle'!$B$7:$C$15,1,FALSE)),\"\",$A43)","v":""},{"$f":"IF(ISNA(VLOOKUP($A43,'Doug Gebauer'!$B$7:$C$15,1,FALSE)),\"\",$A43)","v":""},{"$f":"IF(ISNA(VLOOKUP($A43,'Trey George'!$B$7:$C$15,1,FALSE)),\"\",$A43)","v":""},{"$f":"IF(ISNA(VLOOKUP($A43,'Brad McLean'!$B$7:$C$15,1,FALSE)),\"\",$A43)","v":""},{"$f":"IF(ISNA(VLOOKUP($A43,'Donna McLean'!$B$7:$C$15,1,FALSE)),\"\",$A43)","v":""},{"$f":"IF(ISNA(VLOOKUP($A43,'Steve Sheppard'!$B$7:$C$15,1,FALSE)),\"\",$A43)","v":""},2]
[95,{"$f":"LOOKUP(A44,'Cars & Results'!$A$7:$A$215,'Cars & Results'!$B$7:$B$215)","v":"Matt DiBenedetto"},{"$f":"IF(ISNA(VLOOKUP($A44,'Ron Mason'!$B$7:$C$15,1,FALSE)),\"\",$A44)","v":95},{"$f":"IF(ISNA(VLOOKUP($A44,'Jeff Buehrle'!$B$7:$C$15,1,FALSE)),\"\",$A44)","v":""},{"$f":"IF(ISNA(VLOOKUP($A44,'Doug Gebauer'!$B$7:$C$15,1,FALSE)),\"\",$A44)","v":""},{"$f":"IF(ISNA(VLOOKUP($A44,'Trey George'!$B$7:$C$15,1,FALSE)),\"\",$A44)","v":""},{"$f":"IF(ISNA(VLOOKUP($A44,'Brad McLean'!$B$7:$C$15,1,FALSE)),\"\",$A44)","v":""},{"$f":"IF(ISNA(VLOOKUP($A44,'Donna McLean'!$B$7:$C$15,1,FALSE)),\"\",$A44)","v":""},{"$f":"IF(ISNA(VLOOKUP($A44,'Steve Sheppard'!$B$7:$C$15,1,FALSE)),\"\",$A44)","v":""},3]
[98,{"$f":"LOOKUP(A45,'Cars & Results'!$A$7:$A$215,'Cars & Results'!$B$7:$B$215)","v":""},{"$f":"IF(ISNA(VLOOKUP($A45,'Ron Mason'!$B$7:$C$15,1,FALSE)),\"\",$A45)","v":""},{"$f":"IF(ISNA(VLOOKUP($A45,'Jeff Buehrle'!$B$7:$C$15,1,FALSE)),\"\",$A45)","v":""},{"$f":"IF(ISNA(VLOOKUP($A45,'Doug Gebauer'!$B$7:$C$15,1,FALSE)),\"\",$A45)","v":""},{"$f":"IF(ISNA(VLOOKUP($A45,'Trey George'!$B$7:$C$15,1,FALSE)),\"\",$A45)","v":""},{"$f":"IF(ISNA(VLOOKUP($A45,'Brad McLean'!$B$7:$C$15,1,FALSE)),\"\",$A45)","v":""},{"$f":"IF(ISNA(VLOOKUP($A45,'Donna McLean'!$B$7:$C$15,1,FALSE)),\"\",$A45)","v":""},{"$f":"IF(ISNA(VLOOKUP($A45,'Steve Sheppard'!$B$7:$C$15,1,FALSE)),\"\",$A45)","v":""},2]
[null,null,{"$f":"SUM(C2:C45)","v":216},238,213,112,150,285,230,137]
[null,null,{"$f":"HLOOKUP($P$2,'Ron Mason'!$B$6:$I$19,14,FALSE)","v":{"$error":"#N/A"}},{"$f":"HLOOKUP($P$2,'Jeff Buehrle'!$B$6:$K$19,14,FALSE)","v":0},{"$f":"HLOOKUP($P$2,'Doug Gebauer'!$B$6:$K$19,14,FALSE)","v":0},{"$f":"HLOOKUP($P$2,'Trey George'!$B$6:$K$19,14,FALSE)","v":0},{"$f":"HLOOKUP($P$2,'Brad McLean'!$B$6:$K$19,14,FALSE)","v":0},{"$f":"HLOOKUP($P$2,'Donna McLean'!$B$6:$K$19,14,FALSE)","v":0},{"$f":"HLOOKUP($P$2,'Steve Sheppard'!$B$6:$K$19,14,FALSE)","v":0},{"$f":"9*9","v":81}]
[null,null,{"$f":"44-COUNTBLANK(C2:C45)","v":7},{"$f":"44-COUNTBLANK(D2:D45)","v":8},8,5,7,8,6,{"$f":"J46-J47","v":56}]