{"text_format":"1","workbook":"xlsx","n_sheets":21,"sheets":["Standings","Entry List","Current Owner Standings (2)","Last Race Results (2)","Sheet1","Last Race Results","Current Owner Standings","Cars & Results","Kevin Blossom","Jeff Buehrle","Doug Gebauer","Trey George","Ron Mason","Brad McLean","Donna McLean","Steve Sheppard","Points","Schedule","Show me the Money","Rules","Pick Distribution"],"not_rendered":{"charts":0,"images":6,"macros":1,"external_links":2,"defined_names":18,"comments":1,"pivot_tables":0},"unopened":[],"bounds":{"document_bytes":16777216,"sheet_cells":100000,"rows_first":2000,"rows_last":500,"rows_between":2000,"halvings":0,"cell_chars":16384,"cell_head_chars":4096},"cells_cut":0,"cells_raw":0,"read":"whole","date_system":"1900"}

{"sheet":"Standings","index":0,"n_rows":19,"n_cols":19,"rows_kept":19,"cut":false,"hidden":false,"merged":[[17,2,17,12],[18,2,18,12],[16,2,16,12],[15,2,15,12]]}
["Player","Sort",{"$f":"Schedule!E26","v":"Kentucky "},{"$f":"Schedule!E27","v":"New Hamp"},{"$f":"Schedule!E28","v":"Pocono "},{"$f":"Schedule!E29","v":"Watkins "},{"$f":"Schedule!E30","v":"Michigan "},{"$f":"Schedule!E31","v":"Bristol "},{"$f":"Schedule!E32","v":"Darlington "},{"$f":"Schedule!E33","v":"Indianapolis "},"Purchased  Points","Segment Total","Points Behind","Segment 1 Score","Segment 2 Score","Segment 3 Score","Segment 4 Score","YTD Score","YTD Behind"]
["Ron Mason","Mason, Ron",{"$f":"'Ron Mason'!M21","v":332},{"$f":"'Ron Mason'!O21","v":278},{"$f":"'Ron Mason'!Q21","v":256.5},{"$f":"'Ron Mason'!S21","v":280.5},{"$f":"'Ron Mason'!U21","v":178},{"$f":"'Ron Mason'!W21","v":238},{"$f":"'Ron Mason'!Y21","v":166},{"$f":"'Ron Mason'!AA21","v":296},null,{"$f":"SUM(C2:K2)","v":2025},{"$f":"L2-$L$2","v":0},{"$f":"'[1]Ron Mason'!$AC$21","v":2642.25},{"$f":"'[2]Ron Mason'!$AI$21","v":0},null,null,{"$f":"SUM(N2:Q2)+L2","v":4667.25},{"$f":"R2-$R$2","v":0}]
["Steve Sheppard",{"$f":"MID(A3,FIND(\" \", A3)+1,LEN(A3))&\", \"&LEFT(A3,FIND(\" \",A3)-1)","v":"Sheppard, Steve"},{"$f":"'Steve Sheppard'!M21","v":165},{"$f":"'Steve Sheppard'!O21","v":286},{"$f":"'Steve Sheppard'!Q21","v":302},{"$f":"'Steve Sheppard'!S21","v":199.5},{"$f":"'Steve Sheppard'!U21","v":239},{"$f":"'Steve Sheppard'!W21","v":235},{"$f":"'Steve Sheppard'!Y21","v":242},{"$f":"'Steve Sheppard'!AA21","v":209},null,1877.5,-147.5,{"$f":"'[1]Steve Sheppard'!$AC$21","v":1855.5},{"$f":"'[2]Steve Sheppard'!$AI$21","v":0},null,null,3733,-934.25]
["Doug Gebauer","Gebauer, Doug",{"$f":"'Doug Gebauer'!M21","v":308},{"$f":"'Doug Gebauer'!O21","v":160},{"$f":"'Doug Gebauer'!Q21","v":308.5},{"$f":"'Doug Gebauer'!S21","v":216},{"$f":"'Doug Gebauer'!U21","v":199},{"$f":"'Doug Gebauer'!W21","v":162},{"$f":"'Doug Gebauer'!Y21","v":218},{"$f":"'Doug Gebauer'!AA21","v":195},100,1866.5,-158.5,{"$f":"'[1]Doug Gebauer'!$AC$21","v":2834.75},{"$f":"'[2]Doug Gebauer'!$AI$21","v":0},null,null,4701.25,34]
["Donna McLean","McLean, Donna",{"$f":"'Donna McLean'!M21","v":276},{"$f":"'Donna McLean'!O21","v":275},{"$f":"'Donna McLean'!Q21","v":272},{"$f":"'Donna McLean'!S21","v":268.5},{"$f":"'Donna McLean'!U21","v":151},{"$f":"'Donna McLean'!W21","v":170},{"$f":"'Donna McLean'!Y21","v":137},{"$f":"'Donna McLean'!AA21","v":133},null,1682.5,-342.5,{"$f":"'[1]Donna McLean'!$AC$21","v":2241.25},{"$f":"'[2]Donna McLean'!$AI$21","v":0},null,null,3923.75,-743.5]
["Jeff Buehrle","Buehrle, Jeff",{"$f":"'Jeff Buehrle'!M21","v":256},{"$f":"'Jeff Buehrle'!O21","v":195},{"$f":"'Jeff Buehrle'!Q21","v":222.5},{"$f":"'Jeff Buehrle'!S21","v":187},{"$f":"'Jeff Buehrle'!U21","v":306},{"$f":"'Jeff Buehrle'!W21","v":163},{"$f":"'Jeff Buehrle'!Y21","v":193},{"$f":"'Jeff Buehrle'!AA21","v":201},null,1723.5,-301.5,{"$f":"'[1]Jeff Buehrle'!$AC$21","v":2042.5},{"$f":"'[2]Jeff Buehrle'!$AI$21","v":0},null,null,3766,-901.25]
["Brad McLean","McLean, Brad",{"$f":"'Brad McLean'!M21","v":212},{"$f":"'Brad McLean'!O21","v":204},{"$f":"'Brad McLean'!Q21","v":190.5},{"$f":"'Brad McLean'!S21","v":268},{"$f":"'Brad McLean'!U21","v":242},{"$f":"'Brad McLean'!W21","v":128},{"$f":"'Brad McLean'!Y21","v":182},{"$f":"'Brad McLean'!AA21","v":170},null,1596.5,-428.5,{"$f":"'[1]Brad McLean'!$AC$21","v":2497.75},{"$f":"'[2]Brad McLean'!$AI$21","v":0},null,null,4094.25,-573]
["Trey George","George, Trey",{"$f":"'Trey George'!M21","v":233},{"$f":"'Trey George'!O21","v":174},{"$f":"'Trey George'!Q21","v":121},{"$f":"'Trey George'!S21","v":164},{"$f":"'Trey George'!U21","v":149.5},{"$f":"'Trey George'!W21","v":149},{"$f":"'Trey George'!Y21","v":163},{"$f":"'Trey George'!AA21","v":170},null,1323.5,-701.5,{"$f":"'[1]Trey George'!$AC$21","v":1750.25},{"$f":"'[2]Trey George'!$AI$21","v":0},null,null,3073.75,-1593.5]
["Kevin Blossom","Blossom, Kevin",{"$f":"'Kevin Blossom'!M21","v":178},{"$f":"'Kevin Blossom'!O21","v":141},{"$f":"'Kevin Blossom'!Q21","v":173.5},{"$f":"'Kevin Blossom'!S21","v":179},{"$f":"'Kevin Blossom'!U21","v":145},{"$f":"'Kevin Blossom'!W21","v":162},{"$f":"'Kevin Blossom'!Y21","v":113},{"$f":"'Kevin Blossom'!AA21","v":177},null,1268.5,-756.5,{"$f":"'[1]Kevin Blossom'!$AC$21","v":2224.25},{"$f":"'[2]Kevin Blossom'!$AI$21","v":0},null,null,{"$f":"SUM(N9:O9)+L9","v":3492.75},-1174.5]
[]
["Average Score",null,{"$f":"AVERAGE(C2:C9)","v":245},214.125,230.8125,220.3125,201.1875,175.875,176.75,193.875,null,{"$f":"AVERAGE(L2:L9)","v":1670.4375}]
["* Rookie"]
[null,null,null,null,null,null,null,null,null,null,null,"1st"]
[null,null,"Last Updated: 9/14/2018 4:35:32 PM",null,null,null,null,null,null,null,null,"2nd"]
[null,null,null,null,null,null,null,null,null,null,null,"3rd"]
[]
[null,null,"Ready for Picks"]
[null,null,"Unofficial Race Results Posted"]
[null,null,"Official Race Results Posted"]

{"sheet":"Entry List","index":1,"n_rows":94,"n_cols":9,"rows_kept":94,"cut":false,"hidden":false,"merged":[]}
[{"$f":"IF(B1=\"\",\"\",B1)","v":""},null,null,null,null,null,null,null,"https://en.wikipedia.org/wiki/2018_Monster_Energy_NASCAR_Cup_Series#Schedule"]
[{"$f":"IF(B2=\"\",\"\",B2)","v":""}]
[{"$f":"IF(B3=\"\",\"\",B3)","v":""}]
["Entry#","Entry#","No.","Driver","Team","Manufacturer"]
[{"$f":"IF(C5=\"\",\"\",C5)","v":0},1,0,"Landon Cassill (i)","StarCom Racing","Chevrolet"]
[{"$f":"IF(C6=\"\",\"\",C6)","v":1},2,1,"Jamie McMurray","Chip Ganassi Racing","Chevrolet"]
[2,3,2,"Brad Keselowski","Team Penske","Ford"]
[3,4,3,"Austin Dillon","Richard Childress Racing","Chevrolet"]
[4,5,4,"Kevin Harvick","Stewart-Haas Racing","Ford"]
[6,6,6,"Matt Kenseth","Roush Fenway Racing","Ford"]
[7,7,7,"Reed Sorenson","Premium Motorsports","Chevrolet"]
[9,8,9,"Chase Elliott","Hendrick Motorsports","Chevrolet"]
[10,9,10,"Aric Almirola","Stewart-Haas Racing","Ford"]
[11,10,11,"Denny Hamlin","Joe Gibbs Racing","Toyota"]
[12,11,12,"Ryan Blaney","Team Penske","Ford"]
[13,12,13,"Ty Dillon","Germain Racing","Chevrolet"]
[14,13,14,"Clint Bowyer","Stewart-Haas Racing","Ford"]
[15,14,15,"Ross Chastain (i)","Premium Motorsports","Chevrolet"]
[17,15,17,"Ricky Stenhouse Jr.","Roush Fenway Racing","Ford"]
[18,16,18,"Kyle Busch","Joe Gibbs Racing","Toyota"]
[19,17,19,"Daniel Suárez","Joe Gibbs Racing","Toyota"]
[20,18,20,"Erik Jones","Joe Gibbs Racing","Toyota"]
[21,19,21,"Paul Menard","Wood Brothers Racing","Ford"]
[22,20,22,"Joey Logano","Team Penske","Ford"]
[23,21,23,"J. J. Yeley (i)","BK Racing","Toyota"]
[24,22,24,"William Byron (R)","Hendrick Motorsports","Chevrolet"]
[31,23,31,"Ryan Newman","Richard Childress Racing","Chevrolet"]
[32,24,32,"Matt DiBenedetto","Go Fas Racing","Ford"]
[34,25,34,"Michael McDowell","Front Row Motorsports","Ford"]
[37,26,37,"Chris Buescher","JTG Daugherty Racing","Chevrolet"]
[38,27,38,"David Ragan","Front Row Motorsports","Ford"]
[41,28,41,"Kurt Busch","Stewart-Haas Racing","Ford"]
[42,29,42,"Kyle Larson","Chip Ganassi Racing","Chevrolet"]
[43,30,43,"Darrell Wallace Jr. (R)","Richard Petty Motorsports","Chevrolet"]
[47,31,47,"A. J. Allmendinger","JTG Daugherty Racing","Chevrolet"]
[48,32,48,"Jimmie Johnson","Hendrick Motorsports","Chevrolet"]
[51,33,51,"David Starr (i)","Rick Ware Racing","Ford"]
[52,34,52,"B. J. McLeod (i)","Rick Ware Racing","Ford"]
[66,35,66,"Timmy Hill (i)","MBM Motorsports","Toyota"]
[72,36,72,"Corey LaJoie","TriStar Motorsports","Chevrolet"]
[78,37,78,"Martin Truex Jr.","Furniture Row Racing","Toyota"]
[88,38,88,"Alex Bowman","Hendrick Motorsports","Chevrolet"]
[{"$f":"IF(C43=\"\",\"\",C43)","v":95},39,95,"Regan Smith","Leavine Family Racing","Chevrolet"]
[96,40,96,"Jeffrey Earnhardt","Gaunt Brothers Racing","Toyota"]
[99,41,99,"Gray Gaulding","StarCom Racing","Chevrolet"]
[""]
[]
[]
[]
[]
[]
[]
[]
[]
[]
[]
[]
[]
[]
[]
[]
[]
[]
[]
[]
[]
[]
[]
[]
[]
[]
[]
[]
[]
[]
[]
[]
[]
[]
[]
[]
[]
[]
[]
[]
[]
[]
[]
[]
[]
[]
[]
[]
["  "]

{"sheet":"Current Owner Standings (2)","index":2,"n_rows":497,"n_cols":35,"rows_kept":497,"cut":false,"hidden":true,"merged":[]}
[]
["RANK","+/-","CAR","OWNER","POINTS","BEHIND","STARTS","WINS","TOP 5","TOP 10","Driver"]
[1,"--","#16","Jack Roush",312,"Leader",8,1,5,6,{"$f":"IF(ISNA(VLOOKUP(VALUE(RIGHT(C3,LEN(C3)-1)),'Entry List'!$B$2:$B$103,2,FALSE)),\"Not Entered\", VLOOKUP(VALUE(RIGHT(C3,LEN(C3)-1)),'Entry List'!$B$2:$B$103,2,FALSE))","v":{"$error":"#REF!"}}]
[2,2,"#56","Michael Waltrip",297,-15,8,0,3,6,{"$f":"IF(ISNA(VLOOKUP(VALUE(RIGHT(C4,LEN(C4)-1)),'Entry List'!$B$2:$B$103,2,FALSE)),\"Not Entered\", VLOOKUP(VALUE(RIGHT(C4,LEN(C4)-1)),'Entry List'!$B$2:$B$103,2,FALSE))","v":"Not Entered"}]
[3,-1,"#17","John Henry",295,-17,8,1,5,5,{"$f":"IF(ISNA(VLOOKUP(VALUE(RIGHT(C5,LEN(C5)-1)),'Entry List'!$B$2:$B$103,2,FALSE)),\"Not Entered\", VLOOKUP(VALUE(RIGHT(C5,LEN(C5)-1)),'Entry List'!$B$2:$B$103,2,FALSE))","v":{"$error":"#REF!"}}]
[4,-1,"#88","Rick Hendrick",291,-21,8,0,3,6,{"$f":"IF(ISNA(VLOOKUP(VALUE(RIGHT(C6,LEN(C6)-1)),'Entry List'!$B$2:$B$103,2,FALSE)),\"Not Entered\", VLOOKUP(VALUE(RIGHT(C6,LEN(C6)-1)),'Entry List'!$B$2:$B$103,2,FALSE))","v":"Not Entered"}]
[5,1,"#11","J D Gibbs",289,-23,8,2,3,4,{"$f":"IF(ISNA(VLOOKUP(VALUE(RIGHT(C7,LEN(C7)-1)),'Entry List'!$B$2:$B$103,2,FALSE)),\"Not Entered\", VLOOKUP(VALUE(RIGHT(C7,LEN(C7)-1)),'Entry List'!$B$2:$B$103,2,FALSE))","v":{"$error":"#REF!"}}]
[6,-1,"#29","Richard Childress",287,-25,8,0,2,5,{"$f":"IF(ISNA(VLOOKUP(VALUE(RIGHT(C8,LEN(C8)-1)),'Entry List'!$B$2:$B$103,2,FALSE)),\"Not Entered\", VLOOKUP(VALUE(RIGHT(C8,LEN(C8)-1)),'Entry List'!$B$2:$B$103,2,FALSE))","v":{"$error":"#REF!"}}]
[7,2,"#48","Jeff Gordon",275,-37,8,0,4,6,{"$f":"IF(ISNA(VLOOKUP(VALUE(RIGHT(C9,LEN(C9)-1)),'Entry List'!$B$2:$B$103,2,FALSE)),\"Not Entered\", VLOOKUP(VALUE(RIGHT(C9,LEN(C9)-1)),'Entry List'!$B$2:$B$103,2,FALSE))","v":"Not Entered"}]
[8,"--","#14","Margaret Haas",265,-47,8,2,2,3,{"$f":"IF(ISNA(VLOOKUP(VALUE(RIGHT(C10,LEN(C10)-1)),'Entry List'!$B$2:$B$103,2,FALSE)),\"Not Entered\", VLOOKUP(VALUE(RIGHT(C10,LEN(C10)-1)),'Entry List'!$B$2:$B$103,2,FALSE))","v":{"$error":"#REF!"}}]
[9,3,"#99","Jack Roush",251,-61,8,0,2,5,{"$f":"IF(ISNA(VLOOKUP(VALUE(RIGHT(C11,LEN(C11)-1)),'Entry List'!$B$2:$B$103,2,FALSE)),\"Not Entered\", VLOOKUP(VALUE(RIGHT(C11,LEN(C11)-1)),'Entry List'!$B$2:$B$103,2,FALSE))","v":"Not Entered"}]
[10,"--","#39","Tony Stewart",249,-63,8,1,2,3,{"$f":"IF(ISNA(VLOOKUP(VALUE(RIGHT(C12,LEN(C12)-1)),'Entry List'!$B$2:$B$103,2,FALSE)),\"Not Entered\", VLOOKUP(VALUE(RIGHT(C12,LEN(C12)-1)),'Entry List'!$B$2:$B$103,2,FALSE))","v":{"$error":"#REF!"}}]
[11,-4,"#55","Bill Jenkins",247,-65,8,0,2,4,{"$f":"IF(ISNA(VLOOKUP(VALUE(RIGHT(C13,LEN(C13)-1)),'Entry List'!$B$2:$B$103,2,FALSE)),\"Not Entered\", VLOOKUP(VALUE(RIGHT(C13,LEN(C13)-1)),'Entry List'!$B$2:$B$103,2,FALSE))","v":"Not Entered"}]
[12,-1,"#15","Rob Kauffman",227,-85,8,0,1,3,{"$f":"IF(ISNA(VLOOKUP(VALUE(RIGHT(C14,LEN(C14)-1)),'Entry List'!$B$2:$B$103,2,FALSE)),\"Not Entered\", VLOOKUP(VALUE(RIGHT(C14,LEN(C14)-1)),'Entry List'!$B$2:$B$103,2,FALSE))","v":{"$error":"#REF!"}}]
[13,1,"#20","Joe Gibbs",221,-91,8,0,0,2,{"$f":"IF(ISNA(VLOOKUP(VALUE(RIGHT(C15,LEN(C15)-1)),'Entry List'!$B$2:$B$103,2,FALSE)),\"Not Entered\", VLOOKUP(VALUE(RIGHT(C15,LEN(C15)-1)),'Entry List'!$B$2:$B$103,2,FALSE))","v":{"$error":"#REF!"}}]
[14,1,"#18","Joe Gibbs",218,-94,8,0,1,3,{"$f":"IF(ISNA(VLOOKUP(VALUE(RIGHT(C16,LEN(C16)-1)),'Entry List'!$B$2:$B$103,2,FALSE)),\"Not Entered\", VLOOKUP(VALUE(RIGHT(C16,LEN(C16)-1)),'Entry List'!$B$2:$B$103,2,FALSE))","v":{"$error":"#REF!"}}]
[15,-2,"#27","Richard Childress",218,-94,8,0,0,3,{"$f":"IF(ISNA(VLOOKUP(VALUE(RIGHT(C17,LEN(C17)-1)),'Entry List'!$B$2:$B$103,2,FALSE)),\"Not Entered\", VLOOKUP(VALUE(RIGHT(C17,LEN(C17)-1)),'Entry List'!$B$2:$B$103,2,FALSE))","v":{"$error":"#REF!"}},null,null,null,null,null,null,null,null,null,{"$f":"IF(INDIRECT(ADDRESS(320,5+(T2*2),1,1,\"Cars & Results\"),TRUE)=\"Y\",IF(ISERROR(MATCH(INDIRECT(ADDRESS(317,5+(T2*2),1,1,\"Cars & Results\"),TRUE),C4:C16,0))=TRUE,0,20),\"\")","v":""},null,{"$f":"IF(INDIRECT(ADDRESS(320,5+(V2*2),1,1,\"Cars & Results\"),TRUE)=\"Y\",IF(ISERROR(MATCH(INDIRECT(ADDRESS(317,5+(V2*2),1,1,\"Cars & Results\"),TRUE),D4:D16,0))=TRUE,0,20),\"\")","v":""},null,{"$f":"IF(INDIRECT(ADDRESS(320,5+(X2*2),1,1,\"Cars & Results\"),TRUE)=\"Y\",IF(ISERROR(MATCH(INDIRECT(ADDRESS(317,5+(X2*2),1,1,\"Cars & Results\"),TRUE),E4:E16,0))=TRUE,0,20),\"\")","v":""},null,{"$f":"IF(INDIRECT(ADDRESS(320,5+(Z2*2),1,1,\"Cars & Results\"),TRUE)=\"Y\",IF(ISERROR(MATCH(INDIRECT(ADDRESS(317,5+(Z2*2),1,1,\"Cars & Results\"),TRUE),F4:F16,0))=TRUE,0,20),\"\")","v":""},null,{"$f":"IF(INDIRECT(ADDRESS(320,5+(AB2*2),1,1,\"Cars & Results\"),TRUE)=\"Y\",IF(ISERROR(MATCH(INDIRECT(ADDRESS(317,5+(AB2*2),1,1,\"Cars & Results\"),TRUE),K4:K16,0))=TRUE,0,20),\"\")","v":""},null,{"$f":"IF(INDIRECT(ADDRESS(320,5+(AD2*2),1,1,\"Cars & Results\"),TRUE)=\"Y\",IF(ISERROR(MATCH(INDIRECT(ADDRESS(317,5+(AD2*2),1,1,\"Cars & Results\"),TRUE),L4:L16,0))=TRUE,0,20),\"\")","v":""},null,{"$f":"IF(INDIRECT(ADDRESS(320,5+(AF2*2),1,1,\"Cars & Results\"),TRUE)=\"Y\",IF(ISERROR(MATCH(INDIRECT(ADDRESS(317,5+(AF2*2),1,1,\"Cars & Results\"),TRUE),M4:M16,0))=TRUE,0,20),\"\")","v":""},null,{"$f":"IF(INDIRECT(ADDRESS(320,5+(AH2*2),1,1,\"Cars & Results\"),TRUE)=\"Y\",IF(ISERROR(MATCH(INDIRECT(ADDRESS(317,5+(AH2*2),1,1,\"Cars & Results\"),TRUE),N4:N16,0))=TRUE,0,20),\"\")","v":""}]
[16,"--","#2","Roger Penske",217,-95,8,1,2,3,{"$f":"IF(ISNA(VLOOKUP(VALUE(RIGHT(C18,LEN(C18)-1)),'Entry List'!$B$2:$B$103,2,FALSE)),\"Not Entered\", VLOOKUP(VALUE(RIGHT(C18,LEN(C18)-1)),'Entry List'!$B$2:$B$103,2,FALSE))","v":{"$error":"#REF!"}},null,null,null,null,null,null,null,null,null,{"$f":"IF(INDIRECT(ADDRESS(320,5+(T2*2),1,1,\"Cars & Results\"),TRUE)=\"Y\",IF(ISERROR(MATCH(INDIRECT(ADDRESS(318,5+(T2*2),1,1,\"Cars & Results\"),TRUE),C4:C16,0))=TRUE,0,10),\"\")","v":""},null,{"$f":"IF(INDIRECT(ADDRESS(320,5+(V2*2),1,1,\"Cars & Results\"),TRUE)=\"Y\",IF(ISERROR(MATCH(INDIRECT(ADDRESS(318,5+(V2*2),1,1,\"Cars & Results\"),TRUE),D4:D16,0))=TRUE,0,10),\"\")","v":""},null,{"$f":"IF(INDIRECT(ADDRESS(320,5+(X2*2),1,1,\"Cars & Results\"),TRUE)=\"Y\",IF(ISERROR(MATCH(INDIRECT(ADDRESS(318,5+(X2*2),1,1,\"Cars & Results\"),TRUE),E4:E16,0))=TRUE,0,10),\"\")","v":""},null,{"$f":"IF(INDIRECT(ADDRESS(320,5+(Z2*2),1,1,\"Cars & Results\"),TRUE)=\"Y\",IF(ISERROR(MATCH(INDIRECT(ADDRESS(318,5+(Z2*2),1,1,\"Cars & Results\"),TRUE),F4:F16,0))=TRUE,0,10),\"\")","v":""},null,{"$f":"IF(INDIRECT(ADDRESS(320,5+(AB2*2),1,1,\"Cars & Results\"),TRUE)=\"Y\",IF(ISERROR(MATCH(INDIRECT(ADDRESS(318,5+(AB2*2),1,1,\"Cars & Results\"),TRUE),K4:K16,0))=TRUE,0,10),\"\")","v":""},null,{"$f":"IF(INDIRECT(ADDRESS(320,5+(AD2*2),1,1,\"Cars & Results\"),TRUE)=\"Y\",IF(ISERROR(MATCH(INDIRECT(ADDRESS(318,5+(AD2*2),1,1,\"Cars & Results\"),TRUE),L4:L16,0))=TRUE,0,10),\"\")","v":""},null,{"$f":"IF(INDIRECT(ADDRESS(320,5+(AF2*2),1,1,\"Cars & Results\"),TRUE)=\"Y\",IF(ISERROR(MATCH(INDIRECT(ADDRESS(318,5+(AF2*2),1,1,\"Cars & Results\"),TRUE),M4:M16,0))=TRUE,0,10),\"\")","v":""},null,{"$f":"IF(INDIRECT(ADDRESS(320,5+(AH2*2),1,1,\"Cars & Results\"),TRUE)=\"Y\",IF(ISERROR(MATCH(INDIRECT(ADDRESS(318,5+(AH2*2),1,1,\"Cars & Results\"),TRUE),N4:N16,0))=TRUE,0,10),\"\")","v":""}]
[17,2,"#42","Chip Ganassi",207,-105,8,0,0,1,{"$f":"IF(ISNA(VLOOKUP(VALUE(RIGHT(C19,LEN(C19)-1)),'Entry List'!$B$2:$B$103,2,FALSE)),\"Not Entered\", VLOOKUP(VALUE(RIGHT(C19,LEN(C19)-1)),'Entry List'!$B$2:$B$103,2,FALSE))","v":"Not Entered"},null,null,null,null,null,null,null,null,null,{"$f":"IF(INDIRECT(ADDRESS(320,5+(T2*2),1,1,\"Cars & Results\"),TRUE)=\"Y\",IF(ISERROR(MATCH(INDIRECT(ADDRESS(319,5+(T2*2),1,1,\"Cars & Results\"),TRUE),C4:C16,0))=TRUE,0,10),\"\")","v":""},null,{"$f":"IF(INDIRECT(ADDRESS(320,5+(V2*2),1,1,\"Cars & Results\"),TRUE)=\"Y\",IF(ISERROR(MATCH(INDIRECT(ADDRESS(319,5+(V2*2),1,1,\"Cars & Results\"),TRUE),D4:D16,0))=TRUE,0,10),\"\")","v":""},null,{"$f":"IF(INDIRECT(ADDRESS(320,5+(X2*2),1,1,\"Cars & Results\"),TRUE)=\"Y\",IF(ISERROR(MATCH(INDIRECT(ADDRESS(319,5+(X2*2),1,1,\"Cars & Results\"),TRUE),E4:E16,0))=TRUE,0,10),\"\")","v":""},null,{"$f":"IF(INDIRECT(ADDRESS(320,5+(Z2*2),1,1,\"Cars & Results\"),TRUE)=\"Y\",IF(ISERROR(MATCH(INDIRECT(ADDRESS(319,5+(Z2*2),1,1,\"Cars & Results\"),TRUE),F4:F16,0))=TRUE,0,10),\"\")","v":""},null,{"$f":"IF(INDIRECT(ADDRESS(320,5+(AB2*2),1,1,\"Cars & Results\"),TRUE)=\"Y\",IF(ISERROR(MATCH(INDIRECT(ADDRESS(319,5+(AB2*2),1,1,\"Cars & Results\"),TRUE),K4:K16,0))=TRUE,0,10),\"\")","v":""},null,{"$f":"IF(INDIRECT(ADDRESS(320,5+(AD2*2),1,1,\"Cars & Results\"),TRUE)=\"Y\",IF(ISERROR(MATCH(INDIRECT(ADDRESS(319,5+(AD2*2),1,1,\"Cars & Results\"),TRUE),L4:L16,0))=TRUE,0,10),\"\")","v":""},null,{"$f":"IF(INDIRECT(ADDRESS(320,5+(AF2*2),1,1,\"Cars & Results\"),TRUE)=\"Y\",IF(ISERROR(MATCH(INDIRECT(ADDRESS(319,5+(AF2*2),1,1,\"Cars & Results\"),TRUE),M4:M16,0))=TRUE,0,10),\"\")","v":""},null,{"$f":"IF(INDIRECT(ADDRESS(320,5+(AH2*2),1,1,\"Cars & Results\"),TRUE)=\"Y\",IF(ISERROR(MATCH(INDIRECT(ADDRESS(319,5+(AH2*2),1,1,\"Cars & Results\"),TRUE),N4:N16,0))=TRUE,0,10),\"\")","v":""}]
[18,-1,"#31","Richard Childress",201,-111,8,0,1,2,{"$f":"IF(ISNA(VLOOKUP(VALUE(RIGHT(C20,LEN(C20)-1)),'Entry List'!$B$2:$B$103,2,FALSE)),\"Not Entered\", VLOOKUP(VALUE(RIGHT(C20,LEN(C20)-1)),'Entry List'!$B$2:$B$103,2,FALSE))","v":{"$error":"#REF!"}}]
[19,-1,"#24","Rick Hendrick",200,-112,8,0,1,2,{"$f":"IF(ISNA(VLOOKUP(VALUE(RIGHT(C21,LEN(C21)-1)),'Entry List'!$B$2:$B$103,2,FALSE)),\"Not Entered\", VLOOKUP(VALUE(RIGHT(C21,LEN(C21)-1)),'Entry List'!$B$2:$B$103,2,FALSE))","v":{"$error":"#REF!"}}]
[20,3,"#1","Felix Sabates",190,-122,8,0,0,2,{"$f":"IF(ISNA(VLOOKUP(VALUE(RIGHT(C22,LEN(C22)-1)),'Entry List'!$B$2:$B$103,2,FALSE)),\"Not Entered\", VLOOKUP(VALUE(RIGHT(C22,LEN(C22)-1)),'Entry List'!$B$2:$B$103,2,FALSE))","v":{"$error":"#REF!"}}]
[21,1,"#43","Richard Petty",187,-125,8,0,0,1,{"$f":"IF(ISNA(VLOOKUP(VALUE(RIGHT(C23,LEN(C23)-1)),'Entry List'!$B$2:$B$103,2,FALSE)),\"Not Entered\", VLOOKUP(VALUE(RIGHT(C23,LEN(C23)-1)),'Entry List'!$B$2:$B$103,2,FALSE))","v":"Not Entered"}]
[22,2,"#9","Richard Petty",187,-125,8,0,0,0,{"$f":"IF(ISNA(VLOOKUP(VALUE(RIGHT(C24,LEN(C24)-1)),'Entry List'!$B$2:$B$103,2,FALSE)),\"Not Entered\", VLOOKUP(VALUE(RIGHT(C24,LEN(C24)-1)),'Entry List'!$B$2:$B$103,2,FALSE))","v":{"$error":"#REF!"}}]
[23,-2,"#78","Barney Visser",187,-125,8,0,0,0,{"$f":"IF(ISNA(VLOOKUP(VALUE(RIGHT(C25,LEN(C25)-1)),'Entry List'!$B$2:$B$103,2,FALSE)),\"Not Entered\", VLOOKUP(VALUE(RIGHT(C25,LEN(C25)-1)),'Entry List'!$B$2:$B$103,2,FALSE))","v":"Not Entered"}]
[24,-4,"#22","Walter Czarnecki",185,-127,8,0,1,1,{"$f":"IF(ISNA(VLOOKUP(VALUE(RIGHT(C26,LEN(C26)-1)),'Entry List'!$B$2:$B$103,2,FALSE)),\"Not Entered\", VLOOKUP(VALUE(RIGHT(C26,LEN(C26)-1)),'Entry List'!$B$2:$B$103,2,FALSE))","v":{"$error":"#REF!"}}]
[25,1,"#51","James Finch",174,-138,8,0,0,1,{"$f":"IF(ISNA(VLOOKUP(VALUE(RIGHT(C27,LEN(C27)-1)),'Entry List'!$B$2:$B$103,2,FALSE)),\"Not Entered\", VLOOKUP(VALUE(RIGHT(C27,LEN(C27)-1)),'Entry List'!$B$2:$B$103,2,FALSE))","v":"Not Entered"}]
[26,1,"#5","Linda Hendrick",166,-146,8,0,0,2,{"$f":"IF(ISNA(VLOOKUP(VALUE(RIGHT(C28,LEN(C28)-1)),'Entry List'!$B$2:$B$103,2,FALSE)),\"Not Entered\", VLOOKUP(VALUE(RIGHT(C28,LEN(C28)-1)),'Entry List'!$B$2:$B$103,2,FALSE))","v":{"$error":"#REF!"}}]
[27,-2,"#47","Tad Geschickter",161,-151,8,0,0,0,{"$f":"IF(ISNA(VLOOKUP(VALUE(RIGHT(C29,LEN(C29)-1)),'Entry List'!$B$2:$B$103,2,FALSE)),\"Not Entered\", VLOOKUP(VALUE(RIGHT(C29,LEN(C29)-1)),'Entry List'!$B$2:$B$103,2,FALSE))","v":"Not Entered"}]
[28,"--","#13","Bob Germain",137,-175,8,0,0,0,{"$f":"IF(ISNA(VLOOKUP(VALUE(RIGHT(C30,LEN(C30)-1)),'Entry List'!$B$2:$B$103,2,FALSE)),\"Not Entered\", VLOOKUP(VALUE(RIGHT(C30,LEN(C30)-1)),'Entry List'!$B$2:$B$103,2,FALSE))","v":{"$error":"#REF!"}}]
[29,1,"#38","Brad Jenkins",126,-186,8,0,0,0,{"$f":"IF(ISNA(VLOOKUP(VALUE(RIGHT(C31,LEN(C31)-1)),'Entry List'!$B$2:$B$103,2,FALSE)),\"Not Entered\", VLOOKUP(VALUE(RIGHT(C31,LEN(C31)-1)),'Entry List'!$B$2:$B$103,2,FALSE))","v":{"$error":"#REF!"}}]
[30,-1,"#34","Bob Jenkins",123,-189,8,0,0,0,{"$f":"IF(ISNA(VLOOKUP(VALUE(RIGHT(C32,LEN(C32)-1)),'Entry List'!$B$2:$B$103,2,FALSE)),\"Not Entered\", VLOOKUP(VALUE(RIGHT(C32,LEN(C32)-1)),'Entry List'!$B$2:$B$103,2,FALSE))","v":{"$error":"#REF!"}}]
[31,2,"#93","Thomas Ueberall",122,-190,8,0,0,0,{"$f":"IF(ISNA(VLOOKUP(VALUE(RIGHT(C33,LEN(C33)-1)),'Entry List'!$B$2:$B$103,2,FALSE)),\"Not Entered\", VLOOKUP(VALUE(RIGHT(C33,LEN(C33)-1)),'Entry List'!$B$2:$B$103,2,FALSE))","v":"Not Entered"}]
[32,"--","#32","Jack Roush",120,-192,8,0,0,0,{"$f":"IF(ISNA(VLOOKUP(VALUE(RIGHT(C34,LEN(C34)-1)),'Entry List'!$B$2:$B$103,2,FALSE)),\"Not Entered\", VLOOKUP(VALUE(RIGHT(C34,LEN(C34)-1)),'Entry List'!$B$2:$B$103,2,FALSE))","v":{"$error":"#REF!"}}]
[33,-2,"#36","Allan Heinke",111,-201,8,0,0,0,{"$f":"IF(ISNA(VLOOKUP(VALUE(RIGHT(C35,LEN(C35)-1)),'Entry List'!$B$2:$B$103,2,FALSE)),\"Not Entered\", VLOOKUP(VALUE(RIGHT(C35,LEN(C35)-1)),'Entry List'!$B$2:$B$103,2,FALSE))","v":{"$error":"#REF!"}}]
[34,"--","#10","Tommy Baldwin",109,-203,8,0,0,0,{"$f":"IF(ISNA(VLOOKUP(VALUE(RIGHT(C36,LEN(C36)-1)),'Entry List'!$B$2:$B$103,2,FALSE)),\"Not Entered\", VLOOKUP(VALUE(RIGHT(C36,LEN(C36)-1)),'Entry List'!$B$2:$B$103,2,FALSE))","v":{"$error":"#REF!"}}]
[35,"--","#83","Thomas Ueberall",101,-211,8,0,0,0,{"$f":"IF(ISNA(VLOOKUP(VALUE(RIGHT(C37,LEN(C37)-1)),'Entry List'!$B$2:$B$103,2,FALSE)),\"Not Entered\", VLOOKUP(VALUE(RIGHT(C37,LEN(C37)-1)),'Entry List'!$B$2:$B$103,2,FALSE))","v":"Not Entered"}]
[36,"--","#33","Richard Childress",90,-222,7,0,0,0,{"$f":"IF(ISNA(VLOOKUP(VALUE(RIGHT(C38,LEN(C38)-1)),'Entry List'!$B$2:$B$103,2,FALSE)),\"Not Entered\", VLOOKUP(VALUE(RIGHT(C38,LEN(C38)-1)),'Entry List'!$B$2:$B$103,2,FALSE))","v":{"$error":"#REF!"}}]
[37,2,"#249","Jay Robinson",73,-239,7,0,0,0,{"$f":"IF(ISNA(VLOOKUP(VALUE(RIGHT(C39,LEN(C39)-1)),'Entry List'!$B$2:$B$103,2,FALSE)),\"Not Entered\", VLOOKUP(VALUE(RIGHT(C39,LEN(C39)-1)),'Entry List'!$B$2:$B$103,2,FALSE))","v":"Not Entered"}]
[38,-1,"#30","Kevin Buckler",69,-243,7,0,0,0,{"$f":"IF(ISNA(VLOOKUP(VALUE(RIGHT(C40,LEN(C40)-1)),'Entry List'!$B$2:$B$103,2,FALSE)),\"Not Entered\", VLOOKUP(VALUE(RIGHT(C40,LEN(C40)-1)),'Entry List'!$B$2:$B$103,2,FALSE))","v":{"$error":"#REF!"}}]
[39,-1,"#21","Glen Wood",60,-252,3,0,0,1,{"$f":"IF(ISNA(VLOOKUP(VALUE(RIGHT(C41,LEN(C41)-1)),'Entry List'!$B$2:$B$103,2,FALSE)),\"Not Entered\", VLOOKUP(VALUE(RIGHT(C41,LEN(C41)-1)),'Entry List'!$B$2:$B$103,2,FALSE))","v":{"$error":"#REF!"}}]
[40,"--","#26","Jerry Freeze",56,-256,8,0,0,0,{"$f":"IF(ISNA(VLOOKUP(VALUE(RIGHT(C42,LEN(C42)-1)),'Entry List'!$B$2:$B$103,2,FALSE)),\"Not Entered\", VLOOKUP(VALUE(RIGHT(C42,LEN(C42)-1)),'Entry List'!$B$2:$B$103,2,FALSE))","v":{"$error":"#REF!"}}]
[41,"--","#98","Mike Curb",51,-261,8,0,0,0,{"$f":"IF(ISNA(VLOOKUP(VALUE(RIGHT(C43,LEN(C43)-1)),'Entry List'!$B$2:$B$103,2,FALSE)),\"Not Entered\", VLOOKUP(VALUE(RIGHT(C43,LEN(C43)-1)),'Entry List'!$B$2:$B$103,2,FALSE))","v":"Not Entered"}]
[42,"--","#87","Andrea Nemechek",35,-277,6,0,0,0,{"$f":"IF(ISNA(VLOOKUP(VALUE(RIGHT(C44,LEN(C44)-1)),'Entry List'!$B$2:$B$103,2,FALSE)),\"Not Entered\", VLOOKUP(VALUE(RIGHT(C44,LEN(C44)-1)),'Entry List'!$B$2:$B$103,2,FALSE))","v":"Not Entered"}]
[43,"--","#132","Frank Stoddard, Jr",27,-285,1,0,0,0,{"$f":"IF(ISNA(VLOOKUP(VALUE(RIGHT(C45,LEN(C45)-1)),'Entry List'!$B$2:$B$103,2,FALSE)),\"Not Entered\", VLOOKUP(VALUE(RIGHT(C45,LEN(C45)-1)),'Entry List'!$B$2:$B$103,2,FALSE))","v":"Not Entered"}]
[44,"--","#12","Roger Penske",26,-286,1,0,0,0,{"$f":"IF(ISNA(VLOOKUP(VALUE(RIGHT(C46,LEN(C46)-1)),'Entry List'!$B$2:$B$103,2,FALSE)),\"Not Entered\", VLOOKUP(VALUE(RIGHT(C46,LEN(C46)-1)),'Entry List'!$B$2:$B$103,2,FALSE))","v":{"$error":"#REF!"}}]
[45,-1,"#23","Robert Richardson",13,-299,6,0,0,0,{"$f":"IF(ISNA(VLOOKUP(VALUE(RIGHT(C47,LEN(C47)-1)),'Entry List'!$B$2:$B$103,2,FALSE)),\"Not Entered\", VLOOKUP(VALUE(RIGHT(C47,LEN(C47)-1)),'Entry List'!$B$2:$B$103,2,FALSE))","v":{"$error":"#REF!"}}]
[46,-1,"#119","Randy Humphrey",10,-302,3,0,0,0,{"$f":"IF(ISNA(VLOOKUP(VALUE(RIGHT(C48,LEN(C48)-1)),'Entry List'!$B$2:$B$103,2,FALSE)),\"Not Entered\", VLOOKUP(VALUE(RIGHT(C48,LEN(C48)-1)),'Entry List'!$B$2:$B$103,2,FALSE))","v":"Not Entered"}]
[47,-1,"#7","Robby Gordon",6,-306,2,0,0,0,{"$f":"IF(ISNA(VLOOKUP(VALUE(RIGHT(C49,LEN(C49)-1)),'Entry List'!$B$2:$B$103,2,FALSE)),\"Not Entered\", VLOOKUP(VALUE(RIGHT(C49,LEN(C49)-1)),'Entry List'!$B$2:$B$103,2,FALSE))","v":{"$error":"#REF!"}}]
[48,-1,"#74","Vickie Compton",5,-307,3,0,0,0,{"$f":"IF(ISNA(VLOOKUP(VALUE(RIGHT(C50,LEN(C50)-1)),'Entry List'!$B$2:$B$103,2,FALSE)),\"Not Entered\", VLOOKUP(VALUE(RIGHT(C50,LEN(C50)-1)),'Entry List'!$B$2:$B$103,2,FALSE))","v":"Not Entered"}]
[49,-1,"#37","Larry Gunselman",2,-310,1,0,0,0,{"$f":"IF(ISNA(VLOOKUP(VALUE(RIGHT(C51,LEN(C51)-1)),'Entry List'!$B$2:$B$103,2,FALSE)),\"Not Entered\", VLOOKUP(VALUE(RIGHT(C51,LEN(C51)-1)),'Entry List'!$B$2:$B$103,2,FALSE))","v":{"$error":"#REF!"}}]
[50,-1,"#195","Bob Leavine",1,-311,1,0,0,0,{"$f":"IF(ISNA(VLOOKUP(VALUE(RIGHT(C52,LEN(C52)-1)),'Entry List'!$B$2:$B$103,2,FALSE)),\"Not Entered\", VLOOKUP(VALUE(RIGHT(C52,LEN(C52)-1)),'Entry List'!$B$2:$B$103,2,FALSE))","v":"Not Entered"}]
[51,-1,"#140","Michael Hillman",0,-312,0,0,0,0,{"$f":"IF(ISNA(VLOOKUP(VALUE(RIGHT(C57,LEN(C57)-1)),'Entry List'!$B$2:$B$103,2,FALSE)),\"Not Entered\", VLOOKUP(VALUE(RIGHT(C57,LEN(C57)-1)),'Entry List'!$B$2:$B$103,2,FALSE))","v":"Not Entered"}]
[52,-1,"#52","Kelly Owen",0,-312,0,0,0,0]
[53,"--","#179","Archie St Hilaire",0,-312,0,0,0,0]
[54,-2,"#97","Andrea Nemechek",0,-312,0,0,0,0]
[55,-2,"#109","Brack Maggard",0,-312,0,0,0,0]
[]
[]
[]
[]
[]
[]
[]
[]
[]
[]
[]
[]
[]
[]
[]
[]
[]
[]
[]
[]
[]
[]
[]
[]
[]
[]
[]
[]
[]
[]
["00",{"$f":"IF(ISNA(MATCH(\"#\"&A88,'Current Owner Standings (2)'!$C$3:$C$87,0)),99,MATCH(\"#\"&A88,'Current Owner Standings (2)'!$C$3:$C$87,0))","v":99},null,{"$f":"IF(ISNA(MATCH(\"#\"&C88,'Current Owner Standings (2)'!$C$2:$C$187,0)),99,MATCH(\"#\"&C88,'Current Owner Standings (2)'!$C$2:$C$187,0))","v":99}]
["01",{"$f":"IF(ISNA(MATCH(\"#\"&A89,'Current Owner Standings (2)'!$C$3:$C$87,0)),99,MATCH(\"#\"&A89,'Current Owner Standings (2)'!$C$3:$C$87,0))","v":99}]
["02",{"$f":"IF(ISNA(MATCH(\"#\"&A90,'Current Owner Standings (2)'!$C$3:$C$87,0)),99,MATCH(\"#\"&A90,'Current Owner Standings (2)'!$C$3:$C$87,0))","v":99}]
["03",{"$f":"IF(ISNA(MATCH(\"#\"&A91,'Current Owner Standings (2)'!$C$3:$C$87,0)),99,MATCH(\"#\"&A91,'Current Owner Standings (2)'!$C$3:$C$87,0))","v":99}]
["04",{"$f":"IF(ISNA(MATCH(\"#\"&A92,'Current Owner Standings (2)'!$C$3:$C$87,0)),99,MATCH(\"#\"&A92,'Current Owner Standings (2)'!$C$3:$C$87,0))","v":99}]
["05",{"$f":"IF(ISNA(MATCH(\"#\"&A93,'Current Owner Standings (2)'!$C$3:$C$87,0)),99,MATCH(\"#\"&A93,'Current Owner Standings (2)'!$C$3:$C$87,0))","v":99}]
["06",{"$f":"IF(ISNA(MATCH(\"#\"&A94,'Current Owner Standings (2)'!$C$3:$C$87,0)),99,MATCH(\"#\"&A94,'Current Owner Standings (2)'!$C$3:$C$87,0))","v":99}]
["07",{"$f":"IF(ISNA(MATCH(\"#\"&A95,'Current Owner Standings (2)'!$C$3:$C$87,0)),99,MATCH(\"#\"&A95,'Current Owner Standings (2)'!$C$3:$C$87,0))","v":99}]
["08",{"$f":"IF(ISNA(MATCH(\"#\"&A96,'Current Owner Standings (2)'!$C$3:$C$87,0)),99,MATCH(\"#\"&A96,'Current Owner Standings (2)'!$C$3:$C$87,0))","v":99}]
["09",{"$f":"IF(ISNA(MATCH(\"#\"&A97,'Current Owner Standings (2)'!$C$3:$C$87,0)),99,MATCH(\"#\"&A97,'Current Owner Standings (2)'!$C$3:$C$87,0))","v":99}]
[1,{"$f":"IF(ISNA(MATCH(\"#\"&A98,'Current Owner Standings (2)'!$C$3:$C$87,0)),99,MATCH(\"#\"&A98,'Current Owner Standings (2)'!$C$3:$C$87,0))","v":20}]
[2,{"$f":"IF(ISNA(MATCH(\"#\"&A99,'Current Owner Standings (2)'!$C$3:$C$87,0)),99,MATCH(\"#\"&A99,'Current Owner Standings (2)'!$C$3:$C$87,0))","v":16}]
[3,{"$f":"IF(ISNA(MATCH(\"#\"&A100,'Current Owner Standings (2)'!$C$3:$C$87,0)),99,MATCH(\"#\"&A100,'Current Owner Standings (2)'!$C$3:$C$87,0))","v":99}]
[4,{"$f":"IF(ISNA(MATCH(\"#\"&A101,'Current Owner Standings (2)'!$C$3:$C$87,0)),99,MATCH(\"#\"&A101,'Current Owner Standings (2)'!$C$3:$C$87,0))","v":99}]
[5,{"$f":"IF(ISNA(MATCH(\"#\"&A102,'Current Owner Standings (2)'!$C$3:$C$87,0)),99,MATCH(\"#\"&A102,'Current Owner Standings (2)'!$C$3:$C$87,0))","v":26}]
[6,{"$f":"IF(ISNA(MATCH(\"#\"&A103,'Current Owner Standings (2)'!$C$3:$C$87,0)),99,MATCH(\"#\"&A103,'Current Owner Standings (2)'!$C$3:$C$87,0))","v":99}]
[7,{"$f":"IF(ISNA(MATCH(\"#\"&A104,'Current Owner Standings (2)'!$C$3:$C$87,0)),99,MATCH(\"#\"&A104,'Current Owner Standings (2)'!$C$3:$C$87,0))","v":47}]
[8,{"$f":"IF(ISNA(MATCH(\"#\"&A105,'Current Owner Standings (2)'!$C$3:$C$87,0)),99,MATCH(\"#\"&A105,'Current Owner Standings (2)'!$C$3:$C$87,0))","v":99}]
[9,{"$f":"IF(ISNA(MATCH(\"#\"&A106,'Current Owner Standings (2)'!$C$3:$C$87,0)),99,MATCH(\"#\"&A106,'Current Owner Standings (2)'!$C$3:$C$87,0))","v":22}]
[10,{"$f":"IF(ISNA(MATCH(\"#\"&A107,'Current Owner Standings (2)'!$C$3:$C$87,0)),99,MATCH(\"#\"&A107,'Current Owner Standings (2)'!$C$3:$C$87,0))","v":34}]
[11,{"$f":"IF(ISNA(MATCH(\"#\"&A108,'Current Owner Standings (2)'!$C$3:$C$87,0)),99,MATCH(\"#\"&A108,'Current Owner Standings (2)'!$C$3:$C$87,0))","v":5}]
[12,{"$f":"IF(ISNA(MATCH(\"#\"&A109,'Current Owner Standings (2)'!$C$3:$C$87,0)),99,MATCH(\"#\"&A109,'Current Owner Standings (2)'!$C$3:$C$87,0))","v":44}]
[13,{"$f":"IF(ISNA(MATCH(\"#\"&A110,'Current Owner Standings (2)'!$C$3:$C$87,0)),99,MATCH(\"#\"&A110,'Current Owner Standings (2)'!$C$3:$C$87,0))","v":28}]
[14,{"$f":"IF(ISNA(MATCH(\"#\"&A111,'Current Owner Standings (2)'!$C$3:$C$87,0)),99,MATCH(\"#\"&A111,'Current Owner Standings (2)'!$C$3:$C$87,0))","v":8}]
[15,{"$f":"IF(ISNA(MATCH(\"#\"&A112,'Current Owner Standings (2)'!$C$3:$C$87,0)),99,MATCH(\"#\"&A112,'Current Owner Standings (2)'!$C$3:$C$87,0))","v":12}]
[16,{"$f":"IF(ISNA(MATCH(\"#\"&A113,'Current Owner Standings (2)'!$C$3:$C$87,0)),99,MATCH(\"#\"&A113,'Current Owner Standings (2)'!$C$3:$C$87,0))","v":1}]
[17,{"$f":"IF(ISNA(MATCH(\"#\"&A114,'Current Owner Standings (2)'!$C$3:$C$87,0)),99,MATCH(\"#\"&A114,'Current Owner Standings (2)'!$C$3:$C$87,0))","v":3}]
[18,{"$f":"IF(ISNA(MATCH(\"#\"&A115,'Current Owner Standings (2)'!$C$3:$C$87,0)),99,MATCH(\"#\"&A115,'Current Owner Standings (2)'!$C$3:$C$87,0))","v":14}]
[19,{"$f":"IF(ISNA(MATCH(\"#\"&A116,'Current Owner Standings (2)'!$C$3:$C$87,0)),99,MATCH(\"#\"&A116,'Current Owner Standings (2)'!$C$3:$C$87,0))","v":99}]
[20,{"$f":"IF(ISNA(MATCH(\"#\"&A117,'Current Owner Standings (2)'!$C$3:$C$87,0)),99,MATCH(\"#\"&A117,'Current Owner Standings (2)'!$C$3:$C$87,0))","v":13}]
[21,{"$f":"IF(ISNA(MATCH(\"#\"&A118,'Current Owner Standings (2)'!$C$3:$C$87,0)),99,MATCH(\"#\"&A118,'Current Owner Standings (2)'!$C$3:$C$87,0))","v":39}]
[22,{"$f":"IF(ISNA(MATCH(\"#\"&A119,'Current Owner Standings (2)'!$C$3:$C$87,0)),99,MATCH(\"#\"&A119,'Current Owner Standings (2)'!$C$3:$C$87,0))","v":24}]
[23,{"$f":"IF(ISNA(MATCH(\"#\"&A120,'Current Owner Standings (2)'!$C$3:$C$87,0)),99,MATCH(\"#\"&A120,'Current Owner Standings (2)'!$C$3:$C$87,0))","v":45}]
[24,{"$f":"IF(ISNA(MATCH(\"#\"&A121,'Current Owner Standings (2)'!$C$3:$C$87,0)),99,MATCH(\"#\"&A121,'Current Owner Standings (2)'!$C$3:$C$87,0))","v":19}]
[25,{"$f":"IF(ISNA(MATCH(\"#\"&A122,'Current Owner Standings (2)'!$C$3:$C$87,0)),99,MATCH(\"#\"&A122,'Current Owner Standings (2)'!$C$3:$C$87,0))","v":99}]
[26,{"$f":"IF(ISNA(MATCH(\"#\"&A123,'Current Owner Standings (2)'!$C$3:$C$87,0)),99,MATCH(\"#\"&A123,'Current Owner Standings (2)'!$C$3:$C$87,0))","v":40}]
[27,{"$f":"IF(ISNA(MATCH(\"#\"&A124,'Current Owner Standings (2)'!$C$3:$C$87,0)),99,MATCH(\"#\"&A124,'Current Owner Standings (2)'!$C$3:$C$87,0))","v":15}]
[28,{"$f":"IF(ISNA(MATCH(\"#\"&A125,'Current Owner Standings (2)'!$C$3:$C$87,0)),99,MATCH(\"#\"&A125,'Current Owner Standings (2)'!$C$3:$C$87,0))","v":99}]
[29,{"$f":"IF(ISNA(MATCH(\"#\"&A126,'Current Owner Standings (2)'!$C$3:$C$87,0)),99,MATCH(\"#\"&A126,'Current Owner Standings (2)'!$C$3:$C$87,0))","v":6}]
[30,{"$f":"IF(ISNA(MATCH(\"#\"&A127,'Current Owner Standings (2)'!$C$3:$C$87,0)),99,MATCH(\"#\"&A127,'Current Owner Standings (2)'!$C$3:$C$87,0))","v":38}]
[31,{"$f":"IF(ISNA(MATCH(\"#\"&A128,'Current Owner Standings (2)'!$C$3:$C$87,0)),99,MATCH(\"#\"&A128,'Current Owner Standings (2)'!$C$3:$C$87,0))","v":18}]
[32,{"$f":"IF(ISNA(MATCH(\"#\"&A129,'Current Owner Standings (2)'!$C$3:$C$87,0)),99,MATCH(\"#\"&A129,'Current Owner Standings (2)'!$C$3:$C$87,0))","v":32}]
[33,{"$f":"IF(ISNA(MATCH(\"#\"&A130,'Current Owner Standings (2)'!$C$3:$C$87,0)),99,MATCH(\"#\"&A130,'Current Owner Standings (2)'!$C$3:$C$87,0))","v":36}]
[34,{"$f":"IF(ISNA(MATCH(\"#\"&A131,'Current Owner Standings (2)'!$C$3:$C$87,0)),99,MATCH(\"#\"&A131,'Current Owner Standings (2)'!$C$3:$C$87,0))","v":30}]
[35,{"$f":"IF(ISNA(MATCH(\"#\"&A132,'Current Owner Standings (2)'!$C$3:$C$87,0)),99,MATCH(\"#\"&A132,'Current Owner Standings (2)'!$C$3:$C$87,0))","v":99}]
[36,{"$f":"IF(ISNA(MATCH(\"#\"&A133,'Current Owner Standings (2)'!$C$3:$C$87,0)),99,MATCH(\"#\"&A133,'Current Owner Standings (2)'!$C$3:$C$87,0))","v":33}]
[37,{"$f":"IF(ISNA(MATCH(\"#\"&A134,'Current Owner Standings (2)'!$C$3:$C$87,0)),99,MATCH(\"#\"&A134,'Current Owner Standings (2)'!$C$3:$C$87,0))","v":49}]
[38,{"$f":"IF(ISNA(MATCH(\"#\"&A135,'Current Owner Standings (2)'!$C$3:$C$87,0)),99,MATCH(\"#\"&A135,'Current Owner Standings (2)'!$C$3:$C$87,0))","v":29}]
[39,{"$f":"IF(ISNA(MATCH(\"#\"&A136,'Current Owner Standings (2)'!$C$3:$C$87,0)),99,MATCH(\"#\"&A136,'Current Owner Standings (2)'!$C$3:$C$87,0))","v":10}]
[40,{"$f":"IF(ISNA(MATCH(\"#\"&A137,'Current Owner Standings (2)'!$C$3:$C$87,0)),99,MATCH(\"#\"&A137,'Current Owner Standings (2)'!$C$3:$C$87,0))","v":99}]
[41,{"$f":"IF(ISNA(MATCH(\"#\"&A138,'Current Owner Standings (2)'!$C$3:$C$87,0)),99,MATCH(\"#\"&A138,'Current Owner Standings (2)'!$C$3:$C$87,0))","v":99}]
[42,{"$f":"IF(ISNA(MATCH(\"#\"&A139,'Current Owner Standings (2)'!$C$3:$C$87,0)),99,MATCH(\"#\"&A139,'Current Owner Standings (2)'!$C$3:$C$87,0))","v":17}]
[43,{"$f":"IF(ISNA(MATCH(\"#\"&A140,'Current Owner Standings (2)'!$C$3:$C$87,0)),99,MATCH(\"#\"&A140,'Current Owner Standings (2)'!$C$3:$C$87,0))","v":21}]
[44,{"$f":"IF(ISNA(MATCH(\"#\"&A141,'Current Owner Standings (2)'!$C$3:$C$87,0)),99,MATCH(\"#\"&A141,'Current Owner Standings (2)'!$C$3:$C$87,0))","v":99}]
[45,{"$f":"IF(ISNA(MATCH(\"#\"&A142,'Current Owner Standings (2)'!$C$3:$C$87,0)),99,MATCH(\"#\"&A142,'Current Owner Standings (2)'!$C$3:$C$87,0))","v":99}]
[46,{"$f":"IF(ISNA(MATCH(\"#\"&A143,'Current Owner Standings (2)'!$C$3:$C$87,0)),99,MATCH(\"#\"&A143,'Current Owner Standings (2)'!$C$3:$C$87,0))","v":99}]
[47,{"$f":"IF(ISNA(MATCH(\"#\"&A144,'Current Owner Standings (2)'!$C$3:$C$87,0)),99,MATCH(\"#\"&A144,'Current Owner Standings (2)'!$C$3:$C$87,0))","v":27}]
[48,{"$f":"IF(ISNA(MATCH(\"#\"&A145,'Current Owner Standings (2)'!$C$3:$C$87,0)),99,MATCH(\"#\"&A145,'Current Owner Standings (2)'!$C$3:$C$87,0))","v":7}]
[49,{"$f":"IF(ISNA(MATCH(\"#\"&A146,'Current Owner Standings (2)'!$C$3:$C$87,0)),99,MATCH(\"#\"&A146,'Current Owner Standings (2)'!$C$3:$C$87,0))","v":99}]
[50,{"$f":"IF(ISNA(MATCH(\"#\"&A147,'Current Owner Standings (2)'!$C$3:$C$87,0)),99,MATCH(\"#\"&A147,'Current Owner Standings (2)'!$C$3:$C$87,0))","v":99}]
[51,{"$f":"IF(ISNA(MATCH(\"#\"&A148,'Current Owner Standings (2)'!$C$3:$C$87,0)),99,MATCH(\"#\"&A148,'Current Owner Standings (2)'!$C$3:$C$87,0))","v":25}]
[52,{"$f":"IF(ISNA(MATCH(\"#\"&A149,'Current Owner Standings (2)'!$C$3:$C$87,0)),99,MATCH(\"#\"&A149,'Current Owner Standings (2)'!$C$3:$C$87,0))","v":52}]
[53,{"$f":"IF(ISNA(MATCH(\"#\"&A150,'Current Owner Standings (2)'!$C$3:$C$87,0)),99,MATCH(\"#\"&A150,'Current Owner Standings (2)'!$C$3:$C$87,0))","v":99}]
[54,{"$f":"IF(ISNA(MATCH(\"#\"&A151,'Current Owner Standings (2)'!$C$3:$C$87,0)),99,MATCH(\"#\"&A151,'Current Owner Standings (2)'!$C$3:$C$87,0))","v":99}]
[55,{"$f":"IF(ISNA(MATCH(\"#\"&A152,'Current Owner Standings (2)'!$C$3:$C$87,0)),99,MATCH(\"#\"&A152,'Current Owner Standings (2)'!$C$3:$C$87,0))","v":11}]
[56,{"$f":"IF(ISNA(MATCH(\"#\"&A153,'Current Owner Standings (2)'!$C$3:$C$87,0)),99,MATCH(\"#\"&A153,'Current Owner Standings (2)'!$C$3:$C$87,0))","v":2}]
[57,{"$f":"IF(ISNA(MATCH(\"#\"&A154,'Current Owner Standings (2)'!$C$3:$C$87,0)),99,MATCH(\"#\"&A154,'Current Owner Standings (2)'!$C$3:$C$87,0))","v":99}]
[58,{"$f":"IF(ISNA(MATCH(\"#\"&A155,'Current Owner Standings (2)'!$C$3:$C$87,0)),99,MATCH(\"#\"&A155,'Current Owner Standings (2)'!$C$3:$C$87,0))","v":99}]
[59,{"$f":"IF(ISNA(MATCH(\"#\"&A156,'Current Owner Standings (2)'!$C$3:$C$87,0)),99,MATCH(\"#\"&A156,'Current Owner Standings (2)'!$C$3:$C$87,0))","v":99}]
[60,{"$f":"IF(ISNA(MATCH(\"#\"&A157,'Current Owner Standings (2)'!$C$3:$C$87,0)),99,MATCH(\"#\"&A157,'Current Owner Standings (2)'!$C$3:$C$87,0))","v":99}]
[61,{"$f":"IF(ISNA(MATCH(\"#\"&A158,'Current Owner Standings (2)'!$C$3:$C$87,0)),99,MATCH(\"#\"&A158,'Current Owner Standings (2)'!$C$3:$C$87,0))","v":99}]
[62,{"$f":"IF(ISNA(MATCH(\"#\"&A159,'Current Owner Standings (2)'!$C$3:$C$87,0)),99,MATCH(\"#\"&A159,'Current Owner Standings (2)'!$C$3:$C$87,0))","v":99}]
[63,{"$f":"IF(ISNA(MATCH(\"#\"&A160,'Current Owner Standings (2)'!$C$3:$C$87,0)),99,MATCH(\"#\"&A160,'Current Owner Standings (2)'!$C$3:$C$87,0))","v":99}]
[64,{"$f":"IF(ISNA(MATCH(\"#\"&A161,'Current Owner Standings (2)'!$C$3:$C$87,0)),99,MATCH(\"#\"&A161,'Current Owner Standings (2)'!$C$3:$C$87,0))","v":99}]
[65,{"$f":"IF(ISNA(MATCH(\"#\"&A162,'Current Owner Standings (2)'!$C$3:$C$87,0)),99,MATCH(\"#\"&A162,'Current Owner Standings (2)'!$C$3:$C$87,0))","v":99}]
[66,{"$f":"IF(ISNA(MATCH(\"#\"&A163,'Current Owner Standings (2)'!$C$3:$C$87,0)),99,MATCH(\"#\"&A163,'Current Owner Standings (2)'!$C$3:$C$87,0))","v":99}]
[67,{"$f":"IF(ISNA(MATCH(\"#\"&A164,'Current Owner Standings (2)'!$C$3:$C$87,0)),99,MATCH(\"#\"&A164,'Current Owner Standings (2)'!$C$3:$C$87,0))","v":99}]
[68,{"$f":"IF(ISNA(MATCH(\"#\"&A165,'Current Owner Standings (2)'!$C$3:$C$87,0)),99,MATCH(\"#\"&A165,'Current Owner Standings (2)'!$C$3:$C$87,0))","v":99}]
[69,{"$f":"IF(ISNA(MATCH(\"#\"&A166,'Current Owner Standings (2)'!$C$3:$C$87,0)),99,MATCH(\"#\"&A166,'Current Owner Standings (2)'!$C$3:$C$87,0))","v":99}]
[70,{"$f":"IF(ISNA(MATCH(\"#\"&A167,'Current Owner Standings (2)'!$C$3:$C$87,0)),99,MATCH(\"#\"&A167,'Current Owner Standings (2)'!$C$3:$C$87,0))","v":99}]
[71,{"$f":"IF(ISNA(MATCH(\"#\"&A168,'Current Owner Standings (2)'!$C$3:$C$87,0)),99,MATCH(\"#\"&A168,'Current Owner Standings (2)'!$C$3:$C$87,0))","v":99}]
[72,{"$f":"IF(ISNA(MATCH(\"#\"&A169,'Current Owner Standings (2)'!$C$3:$C$87,0)),99,MATCH(\"#\"&A169,'Current Owner Standings (2)'!$C$3:$C$87,0))","v":99}]
[73,{"$f":"IF(ISNA(MATCH(\"#\"&A170,'Current Owner Standings (2)'!$C$3:$C$87,0)),99,MATCH(\"#\"&A170,'Current Owner Standings (2)'!$C$3:$C$87,0))","v":99}]
[74,{"$f":"IF(ISNA(MATCH(\"#\"&A171,'Current Owner Standings (2)'!$C$3:$C$87,0)),99,MATCH(\"#\"&A171,'Current Owner Standings (2)'!$C$3:$C$87,0))","v":48}]
[75,{"$f":"IF(ISNA(MATCH(\"#\"&A172,'Current Owner Standings (2)'!$C$3:$C$87,0)),99,MATCH(\"#\"&A172,'Current Owner Standings (2)'!$C$3:$C$87,0))","v":99}]
[76,{"$f":"IF(ISNA(MATCH(\"#\"&A173,'Current Owner Standings (2)'!$C$3:$C$87,0)),99,MATCH(\"#\"&A173,'Current Owner Standings (2)'!$C$3:$C$87,0))","v":99}]
[77,{"$f":"IF(ISNA(MATCH(\"#\"&A174,'Current Owner Standings (2)'!$C$3:$C$87,0)),99,MATCH(\"#\"&A174,'Current Owner Standings (2)'!$C$3:$C$87,0))","v":99}]
[78,{"$f":"IF(ISNA(MATCH(\"#\"&A175,'Current Owner Standings (2)'!$C$3:$C$87,0)),99,MATCH(\"#\"&A175,'Current Owner Standings (2)'!$C$3:$C$87,0))","v":23}]
[79,{"$f":"IF(ISNA(MATCH(\"#\"&A176,'Current Owner Standings (2)'!$C$3:$C$87,0)),99,MATCH(\"#\"&A176,'Current Owner Standings (2)'!$C$3:$C$87,0))","v":99}]
[80,{"$f":"IF(ISNA(MATCH(\"#\"&A177,'Current Owner Standings (2)'!$C$3:$C$87,0)),99,MATCH(\"#\"&A177,'Current Owner Standings (2)'!$C$3:$C$87,0))","v":99}]
[81,{"$f":"IF(ISNA(MATCH(\"#\"&A178,'Current Owner Standings (2)'!$C$3:$C$87,0)),99,MATCH(\"#\"&A178,'Current Owner Standings (2)'!$C$3:$C$87,0))","v":99}]
[82,{"$f":"IF(ISNA(MATCH(\"#\"&A179,'Current Owner Standings (2)'!$C$3:$C$87,0)),99,MATCH(\"#\"&A179,'Current Owner Standings (2)'!$C$3:$C$87,0))","v":99}]
[83,{"$f":"IF(ISNA(MATCH(\"#\"&A180,'Current Owner Standings (2)'!$C$3:$C$87,0)),99,MATCH(\"#\"&A180,'Current Owner Standings (2)'!$C$3:$C$87,0))","v":35}]
[84,{"$f":"IF(ISNA(MATCH(\"#\"&A181,'Current Owner Standings (2)'!$C$3:$C$87,0)),99,MATCH(\"#\"&A181,'Current Owner Standings (2)'!$C$3:$C$87,0))","v":99}]
[85,{"$f":"IF(ISNA(MATCH(\"#\"&A182,'Current Owner Standings (2)'!$C$3:$C$87,0)),99,MATCH(\"#\"&A182,'Current Owner Standings (2)'!$C$3:$C$87,0))","v":99}]
[86,{"$f":"IF(ISNA(MATCH(\"#\"&A183,'Current Owner Standings (2)'!$C$3:$C$87,0)),99,MATCH(\"#\"&A183,'Current Owner Standings (2)'!$C$3:$C$87,0))","v":99}]
[87,{"$f":"IF(ISNA(MATCH(\"#\"&A184,'Current Owner Standings (2)'!$C$3:$C$87,0)),99,MATCH(\"#\"&A184,'Current Owner Standings (2)'!$C$3:$C$87,0))","v":42}]
[88,{"$f":"IF(ISNA(MATCH(\"#\"&A185,'Current Owner Standings (2)'!$C$3:$C$87,0)),99,MATCH(\"#\"&A185,'Current Owner Standings (2)'!$C$3:$C$87,0))","v":4}]
[89,{"$f":"IF(ISNA(MATCH(\"#\"&A186,'Current Owner Standings (2)'!$C$3:$C$87,0)),99,MATCH(\"#\"&A186,'Current Owner Standings (2)'!$C$3:$C$87,0))","v":99}]
[90,{"$f":"IF(ISNA(MATCH(\"#\"&A187,'Current Owner Standings (2)'!$C$3:$C$87,0)),99,MATCH(\"#\"&A187,'Current Owner Standings (2)'!$C$3:$C$87,0))","v":99}]
[91,{"$f":"IF(ISNA(MATCH(\"#\"&A188,'Current Owner Standings (2)'!$C$3:$C$87,0)),99,MATCH(\"#\"&A188,'Current Owner Standings (2)'!$C$3:$C$87,0))","v":99}]
[92,{"$f":"IF(ISNA(MATCH(\"#\"&A189,'Current Owner Standings (2)'!$C$3:$C$87,0)),99,MATCH(\"#\"&A189,'Current Owner Standings (2)'!$C$3:$C$87,0))","v":99}]
[93,{"$f":"IF(ISNA(MATCH(\"#\"&A190,'Current Owner Standings (2)'!$C$3:$C$87,0)),99,MATCH(\"#\"&A190,'Current Owner Standings (2)'!$C$3:$C$87,0))","v":31}]
[94,{"$f":"IF(ISNA(MATCH(\"#\"&A191,'Current Owner Standings (2)'!$C$3:$C$87,0)),99,MATCH(\"#\"&A191,'Current Owner Standings (2)'!$C$3:$C$87,0))","v":99}]
[95,{"$f":"IF(ISNA(MATCH(\"#\"&A192,'Current Owner Standings (2)'!$C$3:$C$87,0)),99,MATCH(\"#\"&A192,'Current Owner Standings (2)'!$C$3:$C$87,0))","v":99}]
[96,{"$f":"IF(ISNA(MATCH(\"#\"&A193,'Current Owner Standings (2)'!$C$3:$C$87,0)),99,MATCH(\"#\"&A193,'Current Owner Standings (2)'!$C$3:$C$87,0))","v":99}]
[97,{"$f":"IF(ISNA(MATCH(\"#\"&A194,'Current Owner Standings (2)'!$C$3:$C$87,0)),99,MATCH(\"#\"&A194,'Current Owner Standings (2)'!$C$3:$C$87,0))","v":54}]
[98,{"$f":"IF(ISNA(MATCH(\"#\"&A195,'Current Owner Standings (2)'!$C$3:$C$87,0)),99,MATCH(\"#\"&A195,'Current Owner Standings (2)'!$C$3:$C$87,0))","v":41}]
[99,{"$f":"IF(ISNA(MATCH(\"#\"&A196,'Current Owner Standings (2)'!$C$3:$C$87,0)),99,MATCH(\"#\"&A196,'Current Owner Standings (2)'!$C$3:$C$87,0))","v":9}]
[100,{"$f":"IF(ISNA(MATCH(\"#\"&A197,'Current Owner Standings (2)'!$C$3:$C$87,0)),99,MATCH(\"#\"&A197,'Current Owner Standings (2)'!$C$3:$C$87,0))","v":99}]
[101,{"$f":"IF(ISNA(MATCH(\"#\"&A198,'Current Owner Standings (2)'!$C$3:$C$87,0)),99,MATCH(\"#\"&A198,'Current Owner Standings (2)'!$C$3:$C$87,0))","v":99}]
[102,{"$f":"IF(ISNA(MATCH(\"#\"&A199,'Current Owner Standings (2)'!$C$3:$C$87,0)),99,MATCH(\"#\"&A199,'Current Owner Standings (2)'!$C$3:$C$87,0))","v":99}]
[103,{"$f":"IF(ISNA(MATCH(\"#\"&A200,'Current Owner Standings (2)'!$C$3:$C$87,0)),99,MATCH(\"#\"&A200,'Current Owner Standings (2)'!$C$3:$C$87,0))","v":99}]
[104,{"$f":"IF(ISNA(MATCH(\"#\"&A201,'Current Owner Standings (2)'!$C$3:$C$87,0)),99,MATCH(\"#\"&A201,'Current Owner Standings (2)'!$C$3:$C$87,0))","v":99}]
[105,{"$f":"IF(ISNA(MATCH(\"#\"&A202,'Current Owner Standings (2)'!$C$3:$C$87,0)),99,MATCH(\"#\"&A202,'Current Owner Standings (2)'!$C$3:$C$87,0))","v":99}]
[106,{"$f":"IF(ISNA(MATCH(\"#\"&A203,'Current Owner Standings (2)'!$C$3:$C$87,0)),99,MATCH(\"#\"&A203,'Current Owner Standings (2)'!$C$3:$C$87,0))","v":99}]
[107,{"$f":"IF(ISNA(MATCH(\"#\"&A204,'Current Owner Standings (2)'!$C$3:$C$87,0)),99,MATCH(\"#\"&A204,'Current Owner Standings (2)'!$C$3:$C$87,0))","v":99}]
[108,{"$f":"IF(ISNA(MATCH(\"#\"&A205,'Current Owner Standings (2)'!$C$3:$C$87,0)),99,MATCH(\"#\"&A205,'Current Owner Standings (2)'!$C$3:$C$87,0))","v":99}]
[109,{"$f":"IF(ISNA(MATCH(\"#\"&A206,'Current Owner Standings (2)'!$C$3:$C$87,0)),99,MATCH(\"#\"&A206,'Current Owner Standings (2)'!$C$3:$C$87,0))","v":55}]
[110,{"$f":"IF(ISNA(MATCH(\"#\"&A207,'Current Owner Standings (2)'!$C$3:$C$87,0)),99,MATCH(\"#\"&A207,'Current Owner Standings (2)'!$C$3:$C$87,0))","v":99}]
[111,{"$f":"IF(ISNA(MATCH(\"#\"&A208,'Current Owner Standings (2)'!$C$3:$C$87,0)),99,MATCH(\"#\"&A208,'Current Owner Standings (2)'!$C$3:$C$87,0))","v":99}]
[112,{"$f":"IF(ISNA(MATCH(\"#\"&A209,'Current Owner Standings (2)'!$C$3:$C$87,0)),99,MATCH(\"#\"&A209,'Current Owner Standings (2)'!$C$3:$C$87,0))","v":99}]
[113,{"$f":"IF(ISNA(MATCH(\"#\"&A210,'Current Owner Standings (2)'!$C$3:$C$87,0)),99,MATCH(\"#\"&A210,'Current Owner Standings (2)'!$C$3:$C$87,0))","v":99}]
[114,{"$f":"IF(ISNA(MATCH(\"#\"&A211,'Current Owner Standings (2)'!$C$3:$C$87,0)),99,MATCH(\"#\"&A211,'Current Owner Standings (2)'!$C$3:$C$87,0))","v":99}]
[115,{"$f":"IF(ISNA(MATCH(\"#\"&A212,'Current Owner Standings (2)'!$C$3:$C$87,0)),99,MATCH(\"#\"&A212,'Current Owner Standings (2)'!$C$3:$C$87,0))","v":99}]
[116,{"$f":"IF(ISNA(MATCH(\"#\"&A213,'Current Owner Standings (2)'!$C$3:$C$87,0)),99,MATCH(\"#\"&A213,'Current Owner Standings (2)'!$C$3:$C$87,0))","v":99}]
[117,{"$f":"IF(ISNA(MATCH(\"#\"&A214,'Current Owner Standings (2)'!$C$3:$C$87,0)),99,MATCH(\"#\"&A214,'Current Owner Standings (2)'!$C$3:$C$87,0))","v":99}]
[118,{"$f":"IF(ISNA(MATCH(\"#\"&A215,'Current Owner Standings (2)'!$C$3:$C$87,0)),99,MATCH(\"#\"&A215,'Current Owner Standings (2)'!$C$3:$C$87,0))","v":99}]
[119,{"$f":"IF(ISNA(MATCH(\"#\"&A216,'Current Owner Standings (2)'!$C$3:$C$87,0)),99,MATCH(\"#\"&A216,'Current Owner Standings (2)'!$C$3:$C$87,0))","v":46}]
[120,{"$f":"IF(ISNA(MATCH(\"#\"&A217,'Current Owner Standings (2)'!$C$3:$C$87,0)),99,MATCH(\"#\"&A217,'Current Owner Standings (2)'!$C$3:$C$87,0))","v":99}]
[121,{"$f":"IF(ISNA(MATCH(\"#\"&A218,'Current Owner Standings (2)'!$C$3:$C$87,0)),99,MATCH(\"#\"&A218,'Current Owner Standings (2)'!$C$3:$C$87,0))","v":99}]
[122,{"$f":"IF(ISNA(MATCH(\"#\"&A219,'Current Owner Standings (2)'!$C$3:$C$87,0)),99,MATCH(\"#\"&A219,'Current Owner Standings (2)'!$C$3:$C$87,0))","v":99}]
[123,{"$f":"IF(ISNA(MATCH(\"#\"&A220,'Current Owner Standings (2)'!$C$3:$C$87,0)),99,MATCH(\"#\"&A220,'Current Owner Standings (2)'!$C$3:$C$87,0))","v":99}]
[124,{"$f":"IF(ISNA(MATCH(\"#\"&A221,'Current Owner Standings (2)'!$C$3:$C$87,0)),99,MATCH(\"#\"&A221,'Current Owner Standings (2)'!$C$3:$C$87,0))","v":99}]
[125,{"$f":"IF(ISNA(MATCH(\"#\"&A222,'Current Owner Standings (2)'!$C$3:$C$87,0)),99,MATCH(\"#\"&A222,'Current Owner Standings (2)'!$C$3:$C$87,0))","v":99}]
[126,{"$f":"IF(ISNA(MATCH(\"#\"&A223,'Current Owner Standings (2)'!$C$3:$C$87,0)),99,MATCH(\"#\"&A223,'Current Owner Standings (2)'!$C$3:$C$87,0))","v":99}]
[127,{"$f":"IF(ISNA(MATCH(\"#\"&A224,'Current Owner Standings (2)'!$C$3:$C$87,0)),99,MATCH(\"#\"&A224,'Current Owner Standings (2)'!$C$3:$C$87,0))","v":99}]
[128,{"$f":"IF(ISNA(MATCH(\"#\"&A225,'Current Owner Standings (2)'!$C$3:$C$87,0)),99,MATCH(\"#\"&A225,'Current Owner Standings (2)'!$C$3:$C$87,0))","v":99}]
[129,{"$f":"IF(ISNA(MATCH(\"#\"&A226,'Current Owner Standings (2)'!$C$3:$C$87,0)),99,MATCH(\"#\"&A226,'Current Owner Standings (2)'!$C$3:$C$87,0))","v":99}]
[130,{"$f":"IF(ISNA(MATCH(\"#\"&A227,'Current Owner Standings (2)'!$C$3:$C$87,0)),99,MATCH(\"#\"&A227,'Current Owner Standings (2)'!$C$3:$C$87,0))","v":99}]
[131,{"$f":"IF(ISNA(MATCH(\"#\"&A228,'Current Owner Standings (2)'!$C$3:$C$87,0)),99,MATCH(\"#\"&A228,'Current Owner Standings (2)'!$C$3:$C$87,0))","v":99}]
[132,{"$f":"IF(ISNA(MATCH(\"#\"&A229,'Current Owner Standings (2)'!$C$3:$C$87,0)),99,MATCH(\"#\"&A229,'Current Owner Standings (2)'!$C$3:$C$87,0))","v":43}]
[133,{"$f":"IF(ISNA(MATCH(\"#\"&A230,'Current Owner Standings (2)'!$C$3:$C$87,0)),99,MATCH(\"#\"&A230,'Current Owner Standings (2)'!$C$3:$C$87,0))","v":99}]
[134,{"$f":"IF(ISNA(MATCH(\"#\"&A231,'Current Owner Standings (2)'!$C$3:$C$87,0)),99,MATCH(\"#\"&A231,'Current Owner Standings (2)'!$C$3:$C$87,0))","v":99}]
[135,{"$f":"IF(ISNA(MATCH(\"#\"&A232,'Current Owner Standings (2)'!$C$3:$C$87,0)),99,MATCH(\"#\"&A232,'Current Owner Standings (2)'!$C$3:$C$87,0))","v":99}]
[136,{"$f":"IF(ISNA(MATCH(\"#\"&A233,'Current Owner Standings (2)'!$C$3:$C$87,0)),99,MATCH(\"#\"&A233,'Current Owner Standings (2)'!$C$3:$C$87,0))","v":99}]
[137,{"$f":"IF(ISNA(MATCH(\"#\"&A234,'Current Owner Standings (2)'!$C$3:$C$87,0)),99,MATCH(\"#\"&A234,'Current Owner Standings (2)'!$C$3:$C$87,0))","v":99}]
[138,{"$f":"IF(ISNA(MATCH(\"#\"&A235,'Current Owner Standings (2)'!$C$3:$C$87,0)),99,MATCH(\"#\"&A235,'Current Owner Standings (2)'!$C$3:$C$87,0))","v":99}]
[139,{"$f":"IF(ISNA(MATCH(\"#\"&A236,'Current Owner Standings (2)'!$C$3:$C$87,0)),99,MATCH(\"#\"&A236,'Current Owner Standings (2)'!$C$3:$C$87,0))","v":99}]
[140,{"$f":"IF(ISNA(MATCH(\"#\"&A237,'Current Owner Standings (2)'!$C$3:$C$87,0)),99,MATCH(\"#\"&A237,'Current Owner Standings (2)'!$C$3:$C$87,0))","v":51}]
[141,{"$f":"IF(ISNA(MATCH(\"#\"&A238,'Current Owner Standings (2)'!$C$3:$C$87,0)),99,MATCH(\"#\"&A238,'Current Owner Standings (2)'!$C$3:$C$87,0))","v":99}]
[142,{"$f":"IF(ISNA(MATCH(\"#\"&A239,'Current Owner Standings (2)'!$C$3:$C$87,0)),99,MATCH(\"#\"&A239,'Current Owner Standings (2)'!$C$3:$C$87,0))","v":99}]
[143,{"$f":"IF(ISNA(MATCH(\"#\"&A240,'Current Owner Standings (2)'!$C$3:$C$87,0)),99,MATCH(\"#\"&A240,'Current Owner Standings (2)'!$C$3:$C$87,0))","v":99}]
[144,{"$f":"IF(ISNA(MATCH(\"#\"&A241,'Current Owner Standings (2)'!$C$3:$C$87,0)),99,MATCH(\"#\"&A241,'Current Owner Standings (2)'!$C$3:$C$87,0))","v":99}]
[145,{"$f":"IF(ISNA(MATCH(\"#\"&A242,'Current Owner Standings (2)'!$C$3:$C$87,0)),99,MATCH(\"#\"&A242,'Current Owner Standings (2)'!$C$3:$C$87,0))","v":99}]
[146,{"$f":"IF(ISNA(MATCH(\"#\"&A243,'Current Owner Standings (2)'!$C$3:$C$87,0)),99,MATCH(\"#\"&A243,'Current Owner Standings (2)'!$C$3:$C$87,0))","v":99}]
[147,{"$f":"IF(ISNA(MATCH(\"#\"&A244,'Current Owner Standings (2)'!$C$3:$C$87,0)),99,MATCH(\"#\"&A244,'Current Owner Standings (2)'!$C$3:$C$87,0))","v":99}]
[148,{"$f":"IF(ISNA(MATCH(\"#\"&A245,'Current Owner Standings (2)'!$C$3:$C$87,0)),99,MATCH(\"#\"&A245,'Current Owner Standings (2)'!$C$3:$C$87,0))","v":99}]
[149,{"$f":"IF(ISNA(MATCH(\"#\"&A246,'Current Owner Standings (2)'!$C$3:$C$87,0)),99,MATCH(\"#\"&A246,'Current Owner Standings (2)'!$C$3:$C$87,0))","v":99}]
[150,{"$f":"IF(ISNA(MATCH(\"#\"&A247,'Current Owner Standings (2)'!$C$3:$C$87,0)),99,MATCH(\"#\"&A247,'Current Owner Standings (2)'!$C$3:$C$87,0))","v":99}]
[151,{"$f":"IF(ISNA(MATCH(\"#\"&A248,'Current Owner Standings (2)'!$C$3:$C$87,0)),99,MATCH(\"#\"&A248,'Current Owner Standings (2)'!$C$3:$C$87,0))","v":99}]
[152,{"$f":"IF(ISNA(MATCH(\"#\"&A249,'Current Owner Standings (2)'!$C$3:$C$87,0)),99,MATCH(\"#\"&A249,'Current Owner Standings (2)'!$C$3:$C$87,0))","v":99}]
[153,{"$f":"IF(ISNA(MATCH(\"#\"&A250,'Current Owner Standings (2)'!$C$3:$C$87,0)),99,MATCH(\"#\"&A250,'Current Owner Standings (2)'!$C$3:$C$87,0))","v":99}]
[154,{"$f":"IF(ISNA(MATCH(\"#\"&A251,'Current Owner Standings (2)'!$C$3:$C$87,0)),99,MATCH(\"#\"&A251,'Current Owner Standings (2)'!$C$3:$C$87,0))","v":99}]
[155,{"$f":"IF(ISNA(MATCH(\"#\"&A252,'Current Owner Standings (2)'!$C$3:$C$87,0)),99,MATCH(\"#\"&A252,'Current Owner Standings (2)'!$C$3:$C$87,0))","v":99}]
[156,{"$f":"IF(ISNA(MATCH(\"#\"&A253,'Current Owner Standings (2)'!$C$3:$C$87,0)),99,MATCH(\"#\"&A253,'Current Owner Standings (2)'!$C$3:$C$87,0))","v":99}]
[157,{"$f":"IF(ISNA(MATCH(\"#\"&A254,'Current Owner Standings (2)'!$C$3:$C$87,0)),99,MATCH(\"#\"&A254,'Current Owner Standings (2)'!$C$3:$C$87,0))","v":99}]
[158,{"$f":"IF(ISNA(MATCH(\"#\"&A255,'Current Owner Standings (2)'!$C$3:$C$87,0)),99,MATCH(\"#\"&A255,'Current Owner Standings (2)'!$C$3:$C$87,0))","v":99}]
[159,{"$f":"IF(ISNA(MATCH(\"#\"&A256,'Current Owner Standings (2)'!$C$3:$C$87,0)),99,MATCH(\"#\"&A256,'Current Owner Standings (2)'!$C$3:$C$87,0))","v":99}]
[160,{"$f":"IF(ISNA(MATCH(\"#\"&A257,'Current Owner Standings (2)'!$C$3:$C$87,0)),99,MATCH(\"#\"&A257,'Current Owner Standings (2)'!$C$3:$C$87,0))","v":99}]
[161,{"$f":"IF(ISNA(MATCH(\"#\"&A258,'Current Owner Standings (2)'!$C$3:$C$87,0)),99,MATCH(\"#\"&A258,'Current Owner Standings (2)'!$C$3:$C$87,0))","v":99}]
[162,{"$f":"IF(ISNA(MATCH(\"#\"&A259,'Current Owner Standings (2)'!$C$3:$C$87,0)),99,MATCH(\"#\"&A259,'Current Owner Standings (2)'!$C$3:$C$87,0))","v":99}]
[163,{"$f":"IF(ISNA(MATCH(\"#\"&A260,'Current Owner Standings (2)'!$C$3:$C$87,0)),99,MATCH(\"#\"&A260,'Current Owner Standings (2)'!$C$3:$C$87,0))","v":99}]
[164,{"$f":"IF(ISNA(MATCH(\"#\"&A261,'Current Owner Standings (2)'!$C$3:$C$87,0)),99,MATCH(\"#\"&A261,'Current Owner Standings (2)'!$C$3:$C$87,0))","v":99}]
[165,{"$f":"IF(ISNA(MATCH(\"#\"&A262,'Current Owner Standings (2)'!$C$3:$C$87,0)),99,MATCH(\"#\"&A262,'Current Owner Standings (2)'!$C$3:$C$87,0))","v":99}]
[166,{"$f":"IF(ISNA(MATCH(\"#\"&A263,'Current Owner Standings (2)'!$C$3:$C$87,0)),99,MATCH(\"#\"&A263,'Current Owner Standings (2)'!$C$3:$C$87,0))","v":99}]
[167,{"$f":"IF(ISNA(MATCH(\"#\"&A264,'Current Owner Standings (2)'!$C$3:$C$87,0)),99,MATCH(\"#\"&A264,'Current Owner Standings (2)'!$C$3:$C$87,0))","v":99}]
[168,{"$f":"IF(ISNA(MATCH(\"#\"&A265,'Current Owner Standings (2)'!$C$3:$C$87,0)),99,MATCH(\"#\"&A265,'Current Owner Standings (2)'!$C$3:$C$87,0))","v":99}]
[169,{"$f":"IF(ISNA(MATCH(\"#\"&A266,'Current Owner Standings (2)'!$C$3:$C$87,0)),99,MATCH(\"#\"&A266,'Current Owner Standings (2)'!$C$3:$C$87,0))","v":99}]
[170,{"$f":"IF(ISNA(MATCH(\"#\"&A267,'Current Owner Standings (2)'!$C$3:$C$87,0)),99,MATCH(\"#\"&A267,'Current Owner Standings (2)'!$C$3:$C$87,0))","v":99}]
[171,{"$f":"IF(ISNA(MATCH(\"#\"&A268,'Current Owner Standings (2)'!$C$3:$C$87,0)),99,MATCH(\"#\"&A268,'Current Owner Standings (2)'!$C$3:$C$87,0))","v":99}]
[172,{"$f":"IF(ISNA(MATCH(\"#\"&A269,'Current Owner Standings (2)'!$C$3:$C$87,0)),99,MATCH(\"#\"&A269,'Current Owner Standings (2)'!$C$3:$C$87,0))","v":99}]
[173,{"$f":"IF(ISNA(MATCH(\"#\"&A270,'Current Owner Standings (2)'!$C$3:$C$87,0)),99,MATCH(\"#\"&A270,'Current Owner Standings (2)'!$C$3:$C$87,0))","v":99}]
[174,{"$f":"IF(ISNA(MATCH(\"#\"&A271,'Current Owner Standings (2)'!$C$3:$C$87,0)),99,MATCH(\"#\"&A271,'Current Owner Standings (2)'!$C$3:$C$87,0))","v":99}]
[175,{"$f":"IF(ISNA(MATCH(\"#\"&A272,'Current Owner Standings (2)'!$C$3:$C$87,0)),99,MATCH(\"#\"&A272,'Current Owner Standings (2)'!$C$3:$C$87,0))","v":99}]
[176,{"$f":"IF(ISNA(MATCH(\"#\"&A273,'Current Owner Standings (2)'!$C$3:$C$87,0)),99,MATCH(\"#\"&A273,'Current Owner Standings (2)'!$C$3:$C$87,0))","v":99}]
[177,{"$f":"IF(ISNA(MATCH(\"#\"&A274,'Current Owner Standings (2)'!$C$3:$C$87,0)),99,MATCH(\"#\"&A274,'Current Owner Standings (2)'!$C$3:$C$87,0))","v":99}]
[178,{"$f":"IF(ISNA(MATCH(\"#\"&A275,'Current Owner Standings (2)'!$C$3:$C$87,0)),99,MATCH(\"#\"&A275,'Current Owner Standings (2)'!$C$3:$C$87,0))","v":99}]
[179,{"$f":"IF(ISNA(MATCH(\"#\"&A276,'Current Owner Standings (2)'!$C$3:$C$87,0)),99,MATCH(\"#\"&A276,'Current Owner Standings (2)'!$C$3:$C$87,0))","v":53}]
[180,{"$f":"IF(ISNA(MATCH(\"#\"&A277,'Current Owner Standings (2)'!$C$3:$C$87,0)),99,MATCH(\"#\"&A277,'Current Owner Standings (2)'!$C$3:$C$87,0))","v":99}]
[181,{"$f":"IF(ISNA(MATCH(\"#\"&A278,'Current Owner Standings (2)'!$C$3:$C$87,0)),99,MATCH(\"#\"&A278,'Current Owner Standings (2)'!$C$3:$C$87,0))","v":99}]
[182,{"$f":"IF(ISNA(MATCH(\"#\"&A279,'Current Owner Standings (2)'!$C$3:$C$87,0)),99,MATCH(\"#\"&A279,'Current Owner Standings (2)'!$C$3:$C$87,0))","v":99}]
[183,{"$f":"IF(ISNA(MATCH(\"#\"&A280,'Current Owner Standings (2)'!$C$3:$C$87,0)),99,MATCH(\"#\"&A280,'Current Owner Standings (2)'!$C$3:$C$87,0))","v":99}]
[184,{"$f":"IF(ISNA(MATCH(\"#\"&A281,'Current Owner Standings (2)'!$C$3:$C$87,0)),99,MATCH(\"#\"&A281,'Current Owner Standings (2)'!$C$3:$C$87,0))","v":99}]
[185,{"$f":"IF(ISNA(MATCH(\"#\"&A282,'Current Owner Standings (2)'!$C$3:$C$87,0)),99,MATCH(\"#\"&A282,'Current Owner Standings (2)'!$C$3:$C$87,0))","v":99}]
[186,{"$f":"IF(ISNA(MATCH(\"#\"&A283,'Current Owner Standings (2)'!$C$3:$C$87,0)),99,MATCH(\"#\"&A283,'Current Owner Standings (2)'!$C$3:$C$87,0))","v":99}]
[187,{"$f":"IF(ISNA(MATCH(\"#\"&A284,'Current Owner Standings (2)'!$C$3:$C$87,0)),99,MATCH(\"#\"&A284,'Current Owner Standings (2)'!$C$3:$C$87,0))","v":99}]
[188,{"$f":"IF(ISNA(MATCH(\"#\"&A285,'Current Owner Standings (2)'!$C$3:$C$87,0)),99,MATCH(\"#\"&A285,'Current Owner Standings (2)'!$C$3:$C$87,0))","v":99}]
[189,{"$f":"IF(ISNA(MATCH(\"#\"&A286,'Current Owner Standings (2)'!$C$3:$C$87,0)),99,MATCH(\"#\"&A286,'Current Owner Standings (2)'!$C$3:$C$87,0))","v":99}]
[190,{"$f":"IF(ISNA(MATCH(\"#\"&A287,'Current Owner Standings (2)'!$C$3:$C$87,0)),99,MATCH(\"#\"&A287,'Current Owner Standings (2)'!$C$3:$C$87,0))","v":99}]
[191,{"$f":"IF(ISNA(MATCH(\"#\"&A288,'Current Owner Standings (2)'!$C$3:$C$87,0)),99,MATCH(\"#\"&A288,'Current Owner Standings (2)'!$C$3:$C$87,0))","v":99}]
[192,{"$f":"IF(ISNA(MATCH(\"#\"&A289,'Current Owner Standings (2)'!$C$3:$C$87,0)),99,MATCH(\"#\"&A289,'Current Owner Standings (2)'!$C$3:$C$87,0))","v":99}]
[193,{"$f":"IF(ISNA(MATCH(\"#\"&A290,'Current Owner Standings (2)'!$C$3:$C$87,0)),99,MATCH(\"#\"&A290,'Current Owner Standings (2)'!$C$3:$C$87,0))","v":99}]
[194,{"$f":"IF(ISNA(MATCH(\"#\"&A291,'Current Owner Standings (2)'!$C$3:$C$87,0)),99,MATCH(\"#\"&A291,'Current Owner Standings (2)'!$C$3:$C$87,0))","v":99}]
[195,{"$f":"IF(ISNA(MATCH(\"#\"&A292,'Current Owner Standings (2)'!$C$3:$C$87,0)),99,MATCH(\"#\"&A292,'Current Owner Standings (2)'!$C$3:$C$87,0))","v":50}]
[196,{"$f":"IF(ISNA(MATCH(\"#\"&A293,'Current Owner Standings (2)'!$C$3:$C$87,0)),99,MATCH(\"#\"&A293,'Current Owner Standings (2)'!$C$3:$C$87,0))","v":99}]
[197,{"$f":"IF(ISNA(MATCH(\"#\"&A294,'Current Owner Standings (2)'!$C$3:$C$87,0)),99,MATCH(\"#\"&A294,'Current Owner Standings (2)'!$C$3:$C$87,0))","v":99}]
[198,{"$f":"IF(ISNA(MATCH(\"#\"&A295,'Current Owner Standings (2)'!$C$3:$C$87,0)),99,MATCH(\"#\"&A295,'Current Owner Standings (2)'!$C$3:$C$87,0))","v":99}]
[199,{"$f":"IF(ISNA(MATCH(\"#\"&A296,'Current Owner Standings (2)'!$C$3:$C$87,0)),99,MATCH(\"#\"&A296,'Current Owner Standings (2)'!$C$3:$C$87,0))","v":99}]
[200,{"$f":"IF(ISNA(MATCH(\"#\"&A297,'Current Owner Standings (2)'!$C$3:$C$87,0)),99,MATCH(\"#\"&A297,'Current Owner Standings (2)'!$C$3:$C$87,0))","v":99}]
[201,{"$f":"IF(ISNA(MATCH(\"#\"&A298,'Current Owner Standings (2)'!$C$3:$C$87,0)),99,MATCH(\"#\"&A298,'Current Owner Standings (2)'!$C$3:$C$87,0))","v":99}]
[202,{"$f":"IF(ISNA(MATCH(\"#\"&A299,'Current Owner Standings (2)'!$C$3:$C$87,0)),99,MATCH(\"#\"&A299,'Current Owner Standings (2)'!$C$3:$C$87,0))","v":99}]
[203,{"$f":"IF(ISNA(MATCH(\"#\"&A300,'Current Owner Standings (2)'!$C$3:$C$87,0)),99,MATCH(\"#\"&A300,'Current Owner Standings (2)'!$C$3:$C$87,0))","v":99}]
[204,{"$f":"IF(ISNA(MATCH(\"#\"&A301,'Current Owner Standings (2)'!$C$3:$C$87,0)),99,MATCH(\"#\"&A301,'Current Owner Standings (2)'!$C$3:$C$87,0))","v":99}]
[205,{"$f":"IF(ISNA(MATCH(\"#\"&A302,'Current Owner Standings (2)'!$C$3:$C$87,0)),99,MATCH(\"#\"&A302,'Current Owner Standings (2)'!$C$3:$C$87,0))","v":99}]
[206,{"$f":"IF(ISNA(MATCH(\"#\"&A303,'Current Owner Standings (2)'!$C$3:$C$87,0)),99,MATCH(\"#\"&A303,'Current Owner Standings (2)'!$C$3:$C$87,0))","v":99}]
[207,{"$f":"IF(ISNA(MATCH(\"#\"&A304,'Current Owner Standings (2)'!$C$3:$C$87,0)),99,MATCH(\"#\"&A304,'Current Owner Standings (2)'!$C$3:$C$87,0))","v":99}]
[208,{"$f":"IF(ISNA(MATCH(\"#\"&A305,'Current Owner Standings (2)'!$C$3:$C$87,0)),99,MATCH(\"#\"&A305,'Current Owner Standings (2)'!$C$3:$C$87,0))","v":99}]
[209,{"$f":"IF(ISNA(MATCH(\"#\"&A306,'Current Owner Standings (2)'!$C$3:$C$87,0)),99,MATCH(\"#\"&A306,'Current Owner Standings (2)'!$C$3:$C$87,0))","v":99}]
[210,{"$f":"IF(ISNA(MATCH(\"#\"&A307,'Current Owner Standings (2)'!$C$3:$C$87,0)),99,MATCH(\"#\"&A307,'Current Owner Standings (2)'!$C$3:$C$87,0))","v":99}]
[211,{"$f":"IF(ISNA(MATCH(\"#\"&A308,'Current Owner Standings (2)'!$C$3:$C$87,0)),99,MATCH(\"#\"&A308,'Current Owner Standings (2)'!$C$3:$C$87,0))","v":99}]
[212,{"$f":"IF(ISNA(MATCH(\"#\"&A309,'Current Owner Standings (2)'!$C$3:$C$87,0)),99,MATCH(\"#\"&A309,'Current Owner Standings (2)'!$C$3:$C$87,0))","v":99}]
[213,{"$f":"IF(ISNA(MATCH(\"#\"&A310,'Current Owner Standings (2)'!$C$3:$C$87,0)),99,MATCH(\"#\"&A310,'Current Owner Standings (2)'!$C$3:$C$87,0))","v":99}]
[214,{"$f":"IF(ISNA(MATCH(\"#\"&A311,'Current Owner Standings (2)'!$C$3:$C$87,0)),99,MATCH(\"#\"&A311,'Current Owner Standings (2)'!$C$3:$C$87,0))","v":99}]
[215,{"$f":"IF(ISNA(MATCH(\"#\"&A312,'Current Owner Standings (2)'!$C$3:$C$87,0)),99,MATCH(\"#\"&A312,'Current Owner Standings (2)'!$C$3:$C$87,0))","v":99}]
[216,{"$f":"IF(ISNA(MATCH(\"#\"&A313,'Current Owner Standings (2)'!$C$3:$C$87,0)),99,MATCH(\"#\"&A313,'Current Owner Standings (2)'!$C$3:$C$87,0))","v":99}]
[217,{"$f":"IF(ISNA(MATCH(\"#\"&A314,'Current Owner Standings (2)'!$C$3:$C$87,0)),99,MATCH(\"#\"&A314,'Current Owner Standings (2)'!$C$3:$C$87,0))","v":99}]
[218,{"$f":"IF(ISNA(MATCH(\"#\"&A315,'Current Owner Standings (2)'!$C$3:$C$87,0)),99,MATCH(\"#\"&A315,'Current Owner Standings (2)'!$C$3:$C$87,0))","v":99}]
[219,{"$f":"IF(ISNA(MATCH(\"#\"&A316,'Current Owner Standings (2)'!$C$3:$C$87,0)),99,MATCH(\"#\"&A316,'Current Owner Standings (2)'!$C$3:$C$87,0))","v":99}]
[220,{"$f":"IF(ISNA(MATCH(\"#\"&A317,'Current Owner Standings (2)'!$C$3:$C$87,0)),99,MATCH(\"#\"&A317,'Current Owner Standings (2)'!$C$3:$C$87,0))","v":99}]
[221,{"$f":"IF(ISNA(MATCH(\"#\"&A318,'Current Owner Standings (2)'!$C$3:$C$87,0)),99,MATCH(\"#\"&A318,'Current Owner Standings (2)'!$C$3:$C$87,0))","v":99}]
[222,{"$f":"IF(ISNA(MATCH(\"#\"&A319,'Current Owner Standings (2)'!$C$3:$C$87,0)),99,MATCH(\"#\"&A319,'Current Owner Standings (2)'!$C$3:$C$87,0))","v":99}]
[223,{"$f":"IF(ISNA(MATCH(\"#\"&A320,'Current Owner Standings (2)'!$C$3:$C$87,0)),99,MATCH(\"#\"&A320,'Current Owner Standings (2)'!$C$3:$C$87,0))","v":99}]
[224,{"$f":"IF(ISNA(MATCH(\"#\"&A321,'Current Owner Standings (2)'!$C$3:$C$87,0)),99,MATCH(\"#\"&A321,'Current Owner Standings (2)'!$C$3:$C$87,0))","v":99}]
[225,{"$f":"IF(ISNA(MATCH(\"#\"&A322,'Current Owner Standings (2)'!$C$3:$C$87,0)),99,MATCH(\"#\"&A322,'Current Owner Standings (2)'!$C$3:$C$87,0))","v":99}]
[226,{"$f":"IF(ISNA(MATCH(\"#\"&A323,'Current Owner Standings (2)'!$C$3:$C$87,0)),99,MATCH(\"#\"&A323,'Current Owner Standings (2)'!$C$3:$C$87,0))","v":99}]
[227,{"$f":"IF(ISNA(MATCH(\"#\"&A324,'Current Owner Standings (2)'!$C$3:$C$87,0)),99,MATCH(\"#\"&A324,'Current Owner Standings (2)'!$C$3:$C$87,0))","v":99}]
[228,{"$f":"IF(ISNA(MATCH(\"#\"&A325,'Current Owner Standings (2)'!$C$3:$C$87,0)),99,MATCH(\"#\"&A325,'Current Owner Standings (2)'!$C$3:$C$87,0))","v":99}]
[229,{"$f":"IF(ISNA(MATCH(\"#\"&A326,'Current Owner Standings (2)'!$C$3:$C$87,0)),99,MATCH(\"#\"&A326,'Current Owner Standings (2)'!$C$3:$C$87,0))","v":99}]
[230,{"$f":"IF(ISNA(MATCH(\"#\"&A327,'Current Owner Standings (2)'!$C$3:$C$87,0)),99,MATCH(\"#\"&A327,'Current Owner Standings (2)'!$C$3:$C$87,0))","v":99}]
[231,{"$f":"IF(ISNA(MATCH(\"#\"&A328,'Current Owner Standings (2)'!$C$3:$C$87,0)),99,MATCH(\"#\"&A328,'Current Owner Standings (2)'!$C$3:$C$87,0))","v":99}]
[232,{"$f":"IF(ISNA(MATCH(\"#\"&A329,'Current Owner Standings (2)'!$C$3:$C$87,0)),99,MATCH(\"#\"&A329,'Current Owner Standings (2)'!$C$3:$C$87,0))","v":99}]
[233,{"$f":"IF(ISNA(MATCH(\"#\"&A330,'Current Owner Standings (2)'!$C$3:$C$87,0)),99,MATCH(\"#\"&A330,'Current Owner Standings (2)'!$C$3:$C$87,0))","v":99}]
[234,{"$f":"IF(ISNA(MATCH(\"#\"&A331,'Current Owner Standings (2)'!$C$3:$C$87,0)),99,MATCH(\"#\"&A331,'Current Owner Standings (2)'!$C$3:$C$87,0))","v":99}]
[235,{"$f":"IF(ISNA(MATCH(\"#\"&A332,'Current Owner Standings (2)'!$C$3:$C$87,0)),99,MATCH(\"#\"&A332,'Current Owner Standings (2)'!$C$3:$C$87,0))","v":99}]
[236,{"$f":"IF(ISNA(MATCH(\"#\"&A333,'Current Owner Standings (2)'!$C$3:$C$87,0)),99,MATCH(\"#\"&A333,'Current Owner Standings (2)'!$C$3:$C$87,0))","v":99}]
[237,{"$f":"IF(ISNA(MATCH(\"#\"&A334,'Current Owner Standings (2)'!$C$3:$C$87,0)),99,MATCH(\"#\"&A334,'Current Owner Standings (2)'!$C$3:$C$87,0))","v":99}]
[238,{"$f":"IF(ISNA(MATCH(\"#\"&A335,'Current Owner Standings (2)'!$C$3:$C$87,0)),99,MATCH(\"#\"&A335,'Current Owner Standings (2)'!$C$3:$C$87,0))","v":99}]
[239,{"$f":"IF(ISNA(MATCH(\"#\"&A336,'Current Owner Standings (2)'!$C$3:$C$87,0)),99,MATCH(\"#\"&A336,'Current Owner Standings (2)'!$C$3:$C$87,0))","v":99}]
[240,{"$f":"IF(ISNA(MATCH(\"#\"&A337,'Current Owner Standings (2)'!$C$3:$C$87,0)),99,MATCH(\"#\"&A337,'Current Owner Standings (2)'!$C$3:$C$87,0))","v":99}]
[241,{"$f":"IF(ISNA(MATCH(\"#\"&A338,'Current Owner Standings (2)'!$C$3:$C$87,0)),99,MATCH(\"#\"&A338,'Current Owner Standings (2)'!$C$3:$C$87,0))","v":99}]
[242,{"$f":"IF(ISNA(MATCH(\"#\"&A339,'Current Owner Standings (2)'!$C$3:$C$87,0)),99,MATCH(\"#\"&A339,'Current Owner Standings (2)'!$C$3:$C$87,0))","v":99}]
[243,{"$f":"IF(ISNA(MATCH(\"#\"&A340,'Current Owner Standings (2)'!$C$3:$C$87,0)),99,MATCH(\"#\"&A340,'Current Owner Standings (2)'!$C$3:$C$87,0))","v":99}]
[244,{"$f":"IF(ISNA(MATCH(\"#\"&A341,'Current Owner Standings (2)'!$C$3:$C$87,0)),99,MATCH(\"#\"&A341,'Current Owner Standings (2)'!$C$3:$C$87,0))","v":99}]
[245,{"$f":"IF(ISNA(MATCH(\"#\"&A342,'Current Owner Standings (2)'!$C$3:$C$87,0)),99,MATCH(\"#\"&A342,'Current Owner Standings (2)'!$C$3:$C$87,0))","v":99}]
[246,{"$f":"IF(ISNA(MATCH(\"#\"&A343,'Current Owner Standings (2)'!$C$3:$C$87,0)),99,MATCH(\"#\"&A343,'Current Owner Standings (2)'!$C$3:$C$87,0))","v":99}]
[247,{"$f":"IF(ISNA(MATCH(\"#\"&A344,'Current Owner Standings (2)'!$C$3:$C$87,0)),99,MATCH(\"#\"&A344,'Current Owner Standings (2)'!$C$3:$C$87,0))","v":99}]
[248,{"$f":"IF(ISNA(MATCH(\"#\"&A345,'Current Owner Standings (2)'!$C$3:$C$87,0)),99,MATCH(\"#\"&A345,'Current Owner Standings (2)'!$C$3:$C$87,0))","v":99}]
[249,{"$f":"IF(ISNA(MATCH(\"#\"&A346,'Current Owner Standings (2)'!$C$3:$C$87,0)),99,MATCH(\"#\"&A346,'Current Owner Standings (2)'!$C$3:$C$87,0))","v":37}]
[250,{"$f":"IF(ISNA(MATCH(\"#\"&A347,'Current Owner Standings (2)'!$C$3:$C$87,0)),99,MATCH(\"#\"&A347,'Current Owner Standings (2)'!$C$3:$C$87,0))","v":99}]
[251,{"$f":"IF(ISNA(MATCH(\"#\"&A348,'Current Owner Standings (2)'!$C$3:$C$87,0)),99,MATCH(\"#\"&A348,'Current Owner Standings (2)'!$C$3:$C$87,0))","v":99}]
[252,{"$f":"IF(ISNA(MATCH(\"#\"&A349,'Current Owner Standings (2)'!$C$3:$C$87,0)),99,MATCH(\"#\"&A349,'Current Owner Standings (2)'!$C$3:$C$87,0))","v":99}]
[253,{"$f":"IF(ISNA(MATCH(\"#\"&A350,'Current Owner Standings (2)'!$C$3:$C$87,0)),99,MATCH(\"#\"&A350,'Current Owner Standings (2)'!$C$3:$C$87,0))","v":99}]
[254,{"$f":"IF(ISNA(MATCH(\"#\"&A351,'Current Owner Standings (2)'!$C$3:$C$87,0)),99,MATCH(\"#\"&A351,'Current Owner Standings (2)'!$C$3:$C$87,0))","v":99}]
[255,{"$f":"IF(ISNA(MATCH(\"#\"&A352,'Current Owner Standings (2)'!$C$3:$C$87,0)),99,MATCH(\"#\"&A352,'Current Owner Standings (2)'!$C$3:$C$87,0))","v":99}]
[256,{"$f":"IF(ISNA(MATCH(\"#\"&A353,'Current Owner Standings (2)'!$C$3:$C$87,0)),99,MATCH(\"#\"&A353,'Current Owner Standings (2)'!$C$3:$C$87,0))","v":99}]
[257,{"$f":"IF(ISNA(MATCH(\"#\"&A354,'Current Owner Standings (2)'!$C$3:$C$87,0)),99,MATCH(\"#\"&A354,'Current Owner Standings (2)'!$C$3:$C$87,0))","v":99}]
[258,{"$f":"IF(ISNA(MATCH(\"#\"&A355,'Current Owner Standings (2)'!$C$3:$C$87,0)),99,MATCH(\"#\"&A355,'Current Owner Standings (2)'!$C$3:$C$87,0))","v":99}]
[259,{"$f":"IF(ISNA(MATCH(\"#\"&A356,'Current Owner Standings (2)'!$C$3:$C$87,0)),99,MATCH(\"#\"&A356,'Current Owner Standings (2)'!$C$3:$C$87,0))","v":99}]
[260,{"$f":"IF(ISNA(MATCH(\"#\"&A357,'Current Owner Standings (2)'!$C$3:$C$87,0)),99,MATCH(\"#\"&A357,'Current Owner Standings (2)'!$C$3:$C$87,0))","v":99}]
[261,{"$f":"IF(ISNA(MATCH(\"#\"&A358,'Current Owner Standings (2)'!$C$3:$C$87,0)),99,MATCH(\"#\"&A358,'Current Owner Standings (2)'!$C$3:$C$87,0))","v":99}]
[262,{"$f":"IF(ISNA(MATCH(\"#\"&A359,'Current Owner Standings (2)'!$C$3:$C$87,0)),99,MATCH(\"#\"&A359,'Current Owner Standings (2)'!$C$3:$C$87,0))","v":99}]
[263,{"$f":"IF(ISNA(MATCH(\"#\"&A360,'Current Owner Standings (2)'!$C$3:$C$87,0)),99,MATCH(\"#\"&A360,'Current Owner Standings (2)'!$C$3:$C$87,0))","v":99}]
[264,{"$f":"IF(ISNA(MATCH(\"#\"&A361,'Current Owner Standings (2)'!$C$3:$C$87,0)),99,MATCH(\"#\"&A361,'Current Owner Standings (2)'!$C$3:$C$87,0))","v":99}]
[265,{"$f":"IF(ISNA(MATCH(\"#\"&A362,'Current Owner Standings (2)'!$C$3:$C$87,0)),99,MATCH(\"#\"&A362,'Current Owner Standings (2)'!$C$3:$C$87,0))","v":99}]
[266,{"$f":"IF(ISNA(MATCH(\"#\"&A363,'Current Owner Standings (2)'!$C$3:$C$87,0)),99,MATCH(\"#\"&A363,'Current Owner Standings (2)'!$C$3:$C$87,0))","v":99}]
[267,{"$f":"IF(ISNA(MATCH(\"#\"&A364,'Current Owner Standings (2)'!$C$3:$C$87,0)),99,MATCH(\"#\"&A364,'Current Owner Standings (2)'!$C$3:$C$87,0))","v":99}]
[268,{"$f":"IF(ISNA(MATCH(\"#\"&A365,'Current Owner Standings (2)'!$C$3:$C$87,0)),99,MATCH(\"#\"&A365,'Current Owner Standings (2)'!$C$3:$C$87,0))","v":99}]
[269,{"$f":"IF(ISNA(MATCH(\"#\"&A366,'Current Owner Standings (2)'!$C$3:$C$87,0)),99,MATCH(\"#\"&A366,'Current Owner Standings (2)'!$C$3:$C$87,0))","v":99}]
[270,{"$f":"IF(ISNA(MATCH(\"#\"&A367,'Current Owner Standings (2)'!$C$3:$C$87,0)),99,MATCH(\"#\"&A367,'Current Owner Standings (2)'!$C$3:$C$87,0))","v":99}]
[271,{"$f":"IF(ISNA(MATCH(\"#\"&A368,'Current Owner Standings (2)'!$C$3:$C$87,0)),99,MATCH(\"#\"&A368,'Current Owner Standings (2)'!$C$3:$C$87,0))","v":99}]
[272,{"$f":"IF(ISNA(MATCH(\"#\"&A369,'Current Owner Standings (2)'!$C$3:$C$87,0)),99,MATCH(\"#\"&A369,'Current Owner Standings (2)'!$C$3:$C$87,0))","v":99}]
[273,{"$f":"IF(ISNA(MATCH(\"#\"&A370,'Current Owner Standings (2)'!$C$3:$C$87,0)),99,MATCH(\"#\"&A370,'Current Owner Standings (2)'!$C$3:$C$87,0))","v":99}]
[274,{"$f":"IF(ISNA(MATCH(\"#\"&A371,'Current Owner Standings (2)'!$C$3:$C$87,0)),99,MATCH(\"#\"&A371,'Current Owner Standings (2)'!$C$3:$C$87,0))","v":99}]
[275,{"$f":"IF(ISNA(MATCH(\"#\"&A372,'Current Owner Standings (2)'!$C$3:$C$87,0)),99,MATCH(\"#\"&A372,'Current Owner Standings (2)'!$C$3:$C$87,0))","v":99}]
[276,{"$f":"IF(ISNA(MATCH(\"#\"&A373,'Current Owner Standings (2)'!$C$3:$C$87,0)),99,MATCH(\"#\"&A373,'Current Owner Standings (2)'!$C$3:$C$87,0))","v":99}]
[277,{"$f":"IF(ISNA(MATCH(\"#\"&A374,'Current Owner Standings (2)'!$C$3:$C$87,0)),99,MATCH(\"#\"&A374,'Current Owner Standings (2)'!$C$3:$C$87,0))","v":99}]
[278,{"$f":"IF(ISNA(MATCH(\"#\"&A375,'Current Owner Standings (2)'!$C$3:$C$87,0)),99,MATCH(\"#\"&A375,'Current Owner Standings (2)'!$C$3:$C$87,0))","v":99}]
[279,{"$f":"IF(ISNA(MATCH(\"#\"&A376,'Current Owner Standings (2)'!$C$3:$C$87,0)),99,MATCH(\"#\"&A376,'Current Owner Standings (2)'!$C$3:$C$87,0))","v":99}]
[280,{"$f":"IF(ISNA(MATCH(\"#\"&A377,'Current Owner Standings (2)'!$C$3:$C$87,0)),99,MATCH(\"#\"&A377,'Current Owner Standings (2)'!$C$3:$C$87,0))","v":99}]
[281,{"$f":"IF(ISNA(MATCH(\"#\"&A378,'Current Owner Standings (2)'!$C$3:$C$87,0)),99,MATCH(\"#\"&A378,'Current Owner Standings (2)'!$C$3:$C$87,0))","v":99}]
[282,{"$f":"IF(ISNA(MATCH(\"#\"&A379,'Current Owner Standings (2)'!$C$3:$C$87,0)),99,MATCH(\"#\"&A379,'Current Owner Standings (2)'!$C$3:$C$87,0))","v":99}]
[283,{"$f":"IF(ISNA(MATCH(\"#\"&A380,'Current Owner Standings (2)'!$C$3:$C$87,0)),99,MATCH(\"#\"&A380,'Current Owner Standings (2)'!$C$3:$C$87,0))","v":99}]
[284,{"$f":"IF(ISNA(MATCH(\"#\"&A381,'Current Owner Standings (2)'!$C$3:$C$87,0)),99,MATCH(\"#\"&A381,'Current Owner Standings (2)'!$C$3:$C$87,0))","v":99}]
[285,{"$f":"IF(ISNA(MATCH(\"#\"&A382,'Current Owner Standings (2)'!$C$3:$C$87,0)),99,MATCH(\"#\"&A382,'Current Owner Standings (2)'!$C$3:$C$87,0))","v":99}]
[286,{"$f":"IF(ISNA(MATCH(\"#\"&A383,'Current Owner Standings (2)'!$C$3:$C$87,0)),99,MATCH(\"#\"&A383,'Current Owner Standings (2)'!$C$3:$C$87,0))","v":99}]
[287,{"$f":"IF(ISNA(MATCH(\"#\"&A384,'Current Owner Standings (2)'!$C$3:$C$87,0)),99,MATCH(\"#\"&A384,'Current Owner Standings (2)'!$C$3:$C$87,0))","v":99}]
[288,{"$f":"IF(ISNA(MATCH(\"#\"&A385,'Current Owner Standings (2)'!$C$3:$C$87,0)),99,MATCH(\"#\"&A385,'Current Owner Standings (2)'!$C$3:$C$87,0))","v":99}]
[289,{"$f":"IF(ISNA(MATCH(\"#\"&A386,'Current Owner Standings (2)'!$C$3:$C$87,0)),99,MATCH(\"#\"&A386,'Current Owner Standings (2)'!$C$3:$C$87,0))","v":99}]
[290,{"$f":"IF(ISNA(MATCH(\"#\"&A387,'Current Owner Standings (2)'!$C$3:$C$87,0)),99,MATCH(\"#\"&A387,'Current Owner Standings (2)'!$C$3:$C$87,0))","v":99}]
[291,{"$f":"IF(ISNA(MATCH(\"#\"&A388,'Current Owner Standings (2)'!$C$3:$C$87,0)),99,MATCH(\"#\"&A388,'Current Owner Standings (2)'!$C$3:$C$87,0))","v":99}]
[292,{"$f":"IF(ISNA(MATCH(\"#\"&A389,'Current Owner Standings (2)'!$C$3:$C$87,0)),99,MATCH(\"#\"&A389,'Current Owner Standings (2)'!$C$3:$C$87,0))","v":99}]
[293,{"$f":"IF(ISNA(MATCH(\"#\"&A390,'Current Owner Standings (2)'!$C$3:$C$87,0)),99,MATCH(\"#\"&A390,'Current Owner Standings (2)'!$C$3:$C$87,0))","v":99}]
[294,{"$f":"IF(ISNA(MATCH(\"#\"&A391,'Current Owner Standings (2)'!$C$3:$C$87,0)),99,MATCH(\"#\"&A391,'Current Owner Standings (2)'!$C$3:$C$87,0))","v":99}]
[295,{"$f":"IF(ISNA(MATCH(\"#\"&A392,'Current Owner Standings (2)'!$C$3:$C$87,0)),99,MATCH(\"#\"&A392,'Current Owner Standings (2)'!$C$3:$C$87,0))","v":99}]
[296,{"$f":"IF(ISNA(MATCH(\"#\"&A393,'Current Owner Standings (2)'!$C$3:$C$87,0)),99,MATCH(\"#\"&A393,'Current Owner Standings (2)'!$C$3:$C$87,0))","v":99}]
[297,{"$f":"IF(ISNA(MATCH(\"#\"&A394,'Current Owner Standings (2)'!$C$3:$C$87,0)),99,MATCH(\"#\"&A394,'Current Owner Standings (2)'!$C$3:$C$87,0))","v":99}]
[298,{"$f":"IF(ISNA(MATCH(\"#\"&A395,'Current Owner Standings (2)'!$C$3:$C$87,0)),99,MATCH(\"#\"&A395,'Current Owner Standings (2)'!$C$3:$C$87,0))","v":99}]
[299,{"$f":"IF(ISNA(MATCH(\"#\"&A396,'Current Owner Standings (2)'!$C$3:$C$87,0)),99,MATCH(\"#\"&A396,'Current Owner Standings (2)'!$C$3:$C$87,0))","v":99}]
[300,{"$f":"IF(ISNA(MATCH(\"#\"&A397,'Current Owner Standings (2)'!$C$3:$C$87,0)),99,MATCH(\"#\"&A397,'Current Owner Standings (2)'!$C$3:$C$87,0))","v":99}]
[301,{"$f":"IF(ISNA(MATCH(\"#\"&A398,'Current Owner Standings (2)'!$C$3:$C$87,0)),99,MATCH(\"#\"&A398,'Current Owner Standings (2)'!$C$3:$C$87,0))","v":99}]
[302,{"$f":"IF(ISNA(MATCH(\"#\"&A399,'Current Owner Standings (2)'!$C$3:$C$87,0)),99,MATCH(\"#\"&A399,'Current Owner Standings (2)'!$C$3:$C$87,0))","v":99}]
[303,{"$f":"IF(ISNA(MATCH(\"#\"&A400,'Current Owner Standings (2)'!$C$3:$C$87,0)),99,MATCH(\"#\"&A400,'Current Owner Standings (2)'!$C$3:$C$87,0))","v":99}]
[304,{"$f":"IF(ISNA(MATCH(\"#\"&A401,'Current Owner Standings (2)'!$C$3:$C$87,0)),99,MATCH(\"#\"&A401,'Current Owner Standings (2)'!$C$3:$C$87,0))","v":99}]
[305,{"$f":"IF(ISNA(MATCH(\"#\"&A402,'Current Owner Standings (2)'!$C$3:$C$87,0)),99,MATCH(\"#\"&A402,'Current Owner Standings (2)'!$C$3:$C$87,0))","v":99}]
[306,{"$f":"IF(ISNA(MATCH(\"#\"&A403,'Current Owner Standings (2)'!$C$3:$C$87,0)),99,MATCH(\"#\"&A403,'Current Owner Standings (2)'!$C$3:$C$87,0))","v":99}]
[307,{"$f":"IF(ISNA(MATCH(\"#\"&A404,'Current Owner Standings (2)'!$C$3:$C$87,0)),99,MATCH(\"#\"&A404,'Current Owner Standings (2)'!$C$3:$C$87,0))","v":99}]
[308,{"$f":"IF(ISNA(MATCH(\"#\"&A405,'Current Owner Standings (2)'!$C$3:$C$87,0)),99,MATCH(\"#\"&A405,'Current Owner Standings (2)'!$C$3:$C$87,0))","v":99}]
[309,{"$f":"IF(ISNA(MATCH(\"#\"&A406,'Current Owner Standings (2)'!$C$3:$C$87,0)),99,MATCH(\"#\"&A406,'Current Owner Standings (2)'!$C$3:$C$87,0))","v":99}]
[310,{"$f":"IF(ISNA(MATCH(\"#\"&A407,'Current Owner Standings (2)'!$C$3:$C$87,0)),99,MATCH(\"#\"&A407,'Current Owner Standings (2)'!$C$3:$C$87,0))","v":99}]
[311,{"$f":"IF(ISNA(MATCH(\"#\"&A408,'Current Owner Standings (2)'!$C$3:$C$87,0)),99,MATCH(\"#\"&A408,'Current Owner Standings (2)'!$C$3:$C$87,0))","v":99}]
[312,{"$f":"IF(ISNA(MATCH(\"#\"&A409,'Current Owner Standings (2)'!$C$3:$C$87,0)),99,MATCH(\"#\"&A409,'Current Owner Standings (2)'!$C$3:$C$87,0))","v":99}]
[313,{"$f":"IF(ISNA(MATCH(\"#\"&A410,'Current Owner Standings (2)'!$C$3:$C$87,0)),99,MATCH(\"#\"&A410,'Current Owner Standings (2)'!$C$3:$C$87,0))","v":99}]
[314,{"$f":"IF(ISNA(MATCH(\"#\"&A411,'Current Owner Standings (2)'!$C$3:$C$87,0)),99,MATCH(\"#\"&A411,'Current Owner Standings (2)'!$C$3:$C$87,0))","v":99}]
[315,{"$f":"IF(ISNA(MATCH(\"#\"&A412,'Current Owner Standings (2)'!$C$3:$C$87,0)),99,MATCH(\"#\"&A412,'Current Owner Standings (2)'!$C$3:$C$87,0))","v":99}]
[316,{"$f":"IF(ISNA(MATCH(\"#\"&A413,'Current Owner Standings (2)'!$C$3:$C$87,0)),99,MATCH(\"#\"&A413,'Current Owner Standings (2)'!$C$3:$C$87,0))","v":99}]
[317,{"$f":"IF(ISNA(MATCH(\"#\"&A414,'Current Owner Standings (2)'!$C$3:$C$87,0)),99,MATCH(\"#\"&A414,'Current Owner Standings (2)'!$C$3:$C$87,0))","v":99}]
[318,{"$f":"IF(ISNA(MATCH(\"#\"&A415,'Current Owner Standings (2)'!$C$3:$C$87,0)),99,MATCH(\"#\"&A415,'Current Owner Standings (2)'!$C$3:$C$87,0))","v":99}]
[319,{"$f":"IF(ISNA(MATCH(\"#\"&A416,'Current Owner Standings (2)'!$C$3:$C$87,0)),99,MATCH(\"#\"&A416,'Current Owner Standings (2)'!$C$3:$C$87,0))","v":99}]
[320,{"$f":"IF(ISNA(MATCH(\"#\"&A417,'Current Owner Standings (2)'!$C$3:$C$87,0)),99,MATCH(\"#\"&A417,'Current Owner Standings (2)'!$C$3:$C$87,0))","v":99}]
[321,{"$f":"IF(ISNA(MATCH(\"#\"&A418,'Current Owner Standings (2)'!$C$3:$C$87,0)),99,MATCH(\"#\"&A418,'Current Owner Standings (2)'!$C$3:$C$87,0))","v":99}]
[322,{"$f":"IF(ISNA(MATCH(\"#\"&A419,'Current Owner Standings (2)'!$C$3:$C$87,0)),99,MATCH(\"#\"&A419,'Current Owner Standings (2)'!$C$3:$C$87,0))","v":99}]
[323,{"$f":"IF(ISNA(MATCH(\"#\"&A420,'Current Owner Standings (2)'!$C$3:$C$87,0)),99,MATCH(\"#\"&A420,'Current Owner Standings (2)'!$C$3:$C$87,0))","v":99}]
[324,{"$f":"IF(ISNA(MATCH(\"#\"&A421,'Current Owner Standings (2)'!$C$3:$C$87,0)),99,MATCH(\"#\"&A421,'Current Owner Standings (2)'!$C$3:$C$87,0))","v":99}]
[325,{"$f":"IF(ISNA(MATCH(\"#\"&A422,'Current Owner Standings (2)'!$C$3:$C$87,0)),99,MATCH(\"#\"&A422,'Current Owner Standings (2)'!$C$3:$C$87,0))","v":99}]
[326,{"$f":"IF(ISNA(MATCH(\"#\"&A423,'Current Owner Standings (2)'!$C$3:$C$87,0)),99,MATCH(\"#\"&A423,'Current Owner Standings (2)'!$C$3:$C$87,0))","v":99}]
[327,{"$f":"IF(ISNA(MATCH(\"#\"&A424,'Current Owner Standings (2)'!$C$3:$C$87,0)),99,MATCH(\"#\"&A424,'Current Owner Standings (2)'!$C$3:$C$87,0))","v":99}]
[328,{"$f":"IF(ISNA(MATCH(\"#\"&A425,'Current Owner Standings (2)'!$C$3:$C$87,0)),99,MATCH(\"#\"&A425,'Current Owner Standings (2)'!$C$3:$C$87,0))","v":99}]
[329,{"$f":"IF(ISNA(MATCH(\"#\"&A426,'Current Owner Standings (2)'!$C$3:$C$87,0)),99,MATCH(\"#\"&A426,'Current Owner Standings (2)'!$C$3:$C$87,0))","v":99}]
[330,{"$f":"IF(ISNA(MATCH(\"#\"&A427,'Current Owner Standings (2)'!$C$3:$C$87,0)),99,MATCH(\"#\"&A427,'Current Owner Standings (2)'!$C$3:$C$87,0))","v":99}]
[331,{"$f":"IF(ISNA(MATCH(\"#\"&A428,'Current Owner Standings (2)'!$C$3:$C$87,0)),99,MATCH(\"#\"&A428,'Current Owner Standings (2)'!$C$3:$C$87,0))","v":99}]
[332,{"$f":"IF(ISNA(MATCH(\"#\"&A429,'Current Owner Standings (2)'!$C$3:$C$87,0)),99,MATCH(\"#\"&A429,'Current Owner Standings (2)'!$C$3:$C$87,0))","v":99}]
[333,{"$f":"IF(ISNA(MATCH(\"#\"&A430,'Current Owner Standings (2)'!$C$3:$C$87,0)),99,MATCH(\"#\"&A430,'Current Owner Standings (2)'!$C$3:$C$87,0))","v":99}]
[334,{"$f":"IF(ISNA(MATCH(\"#\"&A431,'Current Owner Standings (2)'!$C$3:$C$87,0)),99,MATCH(\"#\"&A431,'Current Owner Standings (2)'!$C$3:$C$87,0))","v":99}]
[335,{"$f":"IF(ISNA(MATCH(\"#\"&A432,'Current Owner Standings (2)'!$C$3:$C$87,0)),99,MATCH(\"#\"&A432,'Current Owner Standings (2)'!$C$3:$C$87,0))","v":99}]
[336,{"$f":"IF(ISNA(MATCH(\"#\"&A433,'Current Owner Standings (2)'!$C$3:$C$87,0)),99,MATCH(\"#\"&A433,'Current Owner Standings (2)'!$C$3:$C$87,0))","v":99}]
[337,{"$f":"IF(ISNA(MATCH(\"#\"&A434,'Current Owner Standings (2)'!$C$3:$C$87,0)),99,MATCH(\"#\"&A434,'Current Owner Standings (2)'!$C$3:$C$87,0))","v":99}]
[338,{"$f":"IF(ISNA(MATCH(\"#\"&A435,'Current Owner Standings (2)'!$C$3:$C$87,0)),99,MATCH(\"#\"&A435,'Current Owner Standings (2)'!$C$3:$C$87,0))","v":99}]
[339,{"$f":"IF(ISNA(MATCH(\"#\"&A436,'Current Owner Standings (2)'!$C$3:$C$87,0)),99,MATCH(\"#\"&A436,'Current Owner Standings (2)'!$C$3:$C$87,0))","v":99}]
[340,{"$f":"IF(ISNA(MATCH(\"#\"&A437,'Current Owner Standings (2)'!$C$3:$C$87,0)),99,MATCH(\"#\"&A437,'Current Owner Standings (2)'!$C$3:$C$87,0))","v":99}]
[341,{"$f":"IF(ISNA(MATCH(\"#\"&A438,'Current Owner Standings (2)'!$C$3:$C$87,0)),99,MATCH(\"#\"&A438,'Current Owner Standings (2)'!$C$3:$C$87,0))","v":99}]
[342,{"$f":"IF(ISNA(MATCH(\"#\"&A439,'Current Owner Standings (2)'!$C$3:$C$87,0)),99,MATCH(\"#\"&A439,'Current Owner Standings (2)'!$C$3:$C$87,0))","v":99}]
[343,{"$f":"IF(ISNA(MATCH(\"#\"&A440,'Current Owner Standings (2)'!$C$3:$C$87,0)),99,MATCH(\"#\"&A440,'Current Owner Standings (2)'!$C$3:$C$87,0))","v":99}]
[344,{"$f":"IF(ISNA(MATCH(\"#\"&A441,'Current Owner Standings (2)'!$C$3:$C$87,0)),99,MATCH(\"#\"&A441,'Current Owner Standings (2)'!$C$3:$C$87,0))","v":99}]
[345,{"$f":"IF(ISNA(MATCH(\"#\"&A442,'Current Owner Standings (2)'!$C$3:$C$87,0)),99,MATCH(\"#\"&A442,'Current Owner Standings (2)'!$C$3:$C$87,0))","v":99}]
[346,{"$f":"IF(ISNA(MATCH(\"#\"&A443,'Current Owner Standings (2)'!$C$3:$C$87,0)),99,MATCH(\"#\"&A443,'Current Owner Standings (2)'!$C$3:$C$87,0))","v":99}]
[347,{"$f":"IF(ISNA(MATCH(\"#\"&A444,'Current Owner Standings (2)'!$C$3:$C$87,0)),99,MATCH(\"#\"&A444,'Current Owner Standings (2)'!$C$3:$C$87,0))","v":99}]
[348,{"$f":"IF(ISNA(MATCH(\"#\"&A445,'Current Owner Standings (2)'!$C$3:$C$87,0)),99,MATCH(\"#\"&A445,'Current Owner Standings (2)'!$C$3:$C$87,0))","v":99}]
[349,{"$f":"IF(ISNA(MATCH(\"#\"&A446,'Current Owner Standings (2)'!$C$3:$C$87,0)),99,MATCH(\"#\"&A446,'Current Owner Standings (2)'!$C$3:$C$87,0))","v":99}]
[350,{"$f":"IF(ISNA(MATCH(\"#\"&A447,'Current Owner Standings (2)'!$C$3:$C$87,0)),99,MATCH(\"#\"&A447,'Current Owner Standings (2)'!$C$3:$C$87,0))","v":99}]
[351,{"$f":"IF(ISNA(MATCH(\"#\"&A448,'Current Owner Standings (2)'!$C$3:$C$87,0)),99,MATCH(\"#\"&A448,'Current Owner Standings (2)'!$C$3:$C$87,0))","v":99}]
[352,{"$f":"IF(ISNA(MATCH(\"#\"&A449,'Current Owner Standings (2)'!$C$3:$C$87,0)),99,MATCH(\"#\"&A449,'Current Owner Standings (2)'!$C$3:$C$87,0))","v":99}]
[353,{"$f":"IF(ISNA(MATCH(\"#\"&A450,'Current Owner Standings (2)'!$C$3:$C$87,0)),99,MATCH(\"#\"&A450,'Current Owner Standings (2)'!$C$3:$C$87,0))","v":99}]
[354,{"$f":"IF(ISNA(MATCH(\"#\"&A451,'Current Owner Standings (2)'!$C$3:$C$87,0)),99,MATCH(\"#\"&A451,'Current Owner Standings (2)'!$C$3:$C$87,0))","v":99}]
[355,{"$f":"IF(ISNA(MATCH(\"#\"&A452,'Current Owner Standings (2)'!$C$3:$C$87,0)),99,MATCH(\"#\"&A452,'Current Owner Standings (2)'!$C$3:$C$87,0))","v":99}]
[356,{"$f":"IF(ISNA(MATCH(\"#\"&A453,'Current Owner Standings (2)'!$C$3:$C$87,0)),99,MATCH(\"#\"&A453,'Current Owner Standings (2)'!$C$3:$C$87,0))","v":99}]
[357,{"$f":"IF(ISNA(MATCH(\"#\"&A454,'Current Owner Standings (2)'!$C$3:$C$87,0)),99,MATCH(\"#\"&A454,'Current Owner Standings (2)'!$C$3:$C$87,0))","v":99}]
[358,{"$f":"IF(ISNA(MATCH(\"#\"&A455,'Current Owner Standings (2)'!$C$3:$C$87,0)),99,MATCH(\"#\"&A455,'Current Owner Standings (2)'!$C$3:$C$87,0))","v":99}]
[359,{"$f":"IF(ISNA(MATCH(\"#\"&A456,'Current Owner Standings (2)'!$C$3:$C$87,0)),99,MATCH(\"#\"&A456,'Current Owner Standings (2)'!$C$3:$C$87,0))","v":99}]
[360,{"$f":"IF(ISNA(MATCH(\"#\"&A457,'Current Owner Standings (2)'!$C$3:$C$87,0)),99,MATCH(\"#\"&A457,'Current Owner Standings (2)'!$C$3:$C$87,0))","v":99}]
[361,{"$f":"IF(ISNA(MATCH(\"#\"&A458,'Current Owner Standings (2)'!$C$3:$C$87,0)),99,MATCH(\"#\"&A458,'Current Owner Standings (2)'!$C$3:$C$87,0))","v":99}]
[362,{"$f":"IF(ISNA(MATCH(\"#\"&A459,'Current Owner Standings (2)'!$C$3:$C$87,0)),99,MATCH(\"#\"&A459,'Current Owner Standings (2)'!$C$3:$C$87,0))","v":99}]
[363,{"$f":"IF(ISNA(MATCH(\"#\"&A460,'Current Owner Standings (2)'!$C$3:$C$87,0)),99,MATCH(\"#\"&A460,'Current Owner Standings (2)'!$C$3:$C$87,0))","v":99}]
[364,{"$f":"IF(ISNA(MATCH(\"#\"&A461,'Current Owner Standings (2)'!$C$3:$C$87,0)),99,MATCH(\"#\"&A461,'Current Owner Standings (2)'!$C$3:$C$87,0))","v":99}]
[365,{"$f":"IF(ISNA(MATCH(\"#\"&A462,'Current Owner Standings (2)'!$C$3:$C$87,0)),99,MATCH(\"#\"&A462,'Current Owner Standings (2)'!$C$3:$C$87,0))","v":99}]
[366,{"$f":"IF(ISNA(MATCH(\"#\"&A463,'Current Owner Standings (2)'!$C$3:$C$87,0)),99,MATCH(\"#\"&A463,'Current Owner Standings (2)'!$C$3:$C$87,0))","v":99}]
[367,{"$f":"IF(ISNA(MATCH(\"#\"&A464,'Current Owner Standings (2)'!$C$3:$C$87,0)),99,MATCH(\"#\"&A464,'Current Owner Standings (2)'!$C$3:$C$87,0))","v":99}]
[368,{"$f":"IF(ISNA(MATCH(\"#\"&A465,'Current Owner Standings (2)'!$C$3:$C$87,0)),99,MATCH(\"#\"&A465,'Current Owner Standings (2)'!$C$3:$C$87,0))","v":99}]
[369,{"$f":"IF(ISNA(MATCH(\"#\"&A466,'Current Owner Standings (2)'!$C$3:$C$87,0)),99,MATCH(\"#\"&A466,'Current Owner Standings (2)'!$C$3:$C$87,0))","v":99}]
[370,{"$f":"IF(ISNA(MATCH(\"#\"&A467,'Current Owner Standings (2)'!$C$3:$C$87,0)),99,MATCH(\"#\"&A467,'Current Owner Standings (2)'!$C$3:$C$87,0))","v":99}]
[371,{"$f":"IF(ISNA(MATCH(\"#\"&A468,'Current Owner Standings (2)'!$C$3:$C$87,0)),99,MATCH(\"#\"&A468,'Current Owner Standings (2)'!$C$3:$C$87,0))","v":99}]
[372,{"$f":"IF(ISNA(MATCH(\"#\"&A469,'Current Owner Standings (2)'!$C$3:$C$87,0)),99,MATCH(\"#\"&A469,'Current Owner Standings (2)'!$C$3:$C$87,0))","v":99}]
[373,{"$f":"IF(ISNA(MATCH(\"#\"&A470,'Current Owner Standings (2)'!$C$3:$C$87,0)),99,MATCH(\"#\"&A470,'Current Owner Standings (2)'!$C$3:$C$87,0))","v":99}]
[374,{"$f":"IF(ISNA(MATCH(\"#\"&A471,'Current Owner Standings (2)'!$C$3:$C$87,0)),99,MATCH(\"#\"&A471,'Current Owner Standings (2)'!$C$3:$C$87,0))","v":99}]
[375,{"$f":"IF(ISNA(MATCH(\"#\"&A472,'Current Owner Standings (2)'!$C$3:$C$87,0)),99,MATCH(\"#\"&A472,'Current Owner Standings (2)'!$C$3:$C$87,0))","v":99}]
[376,{"$f":"IF(ISNA(MATCH(\"#\"&A473,'Current Owner Standings (2)'!$C$3:$C$87,0)),99,MATCH(\"#\"&A473,'Current Owner Standings (2)'!$C$3:$C$87,0))","v":99}]
[377,{"$f":"IF(ISNA(MATCH(\"#\"&A474,'Current Owner Standings (2)'!$C$3:$C$87,0)),99,MATCH(\"#\"&A474,'Current Owner Standings (2)'!$C$3:$C$87,0))","v":99}]
[378,{"$f":"IF(ISNA(MATCH(\"#\"&A475,'Current Owner Standings (2)'!$C$3:$C$87,0)),99,MATCH(\"#\"&A475,'Current Owner Standings (2)'!$C$3:$C$87,0))","v":99}]
[379,{"$f":"IF(ISNA(MATCH(\"#\"&A476,'Current Owner Standings (2)'!$C$3:$C$87,0)),99,MATCH(\"#\"&A476,'Current Owner Standings (2)'!$C$3:$C$87,0))","v":99}]
[380,{"$f":"IF(ISNA(MATCH(\"#\"&A477,'Current Owner Standings (2)'!$C$3:$C$87,0)),99,MATCH(\"#\"&A477,'Current Owner Standings (2)'!$C$3:$C$87,0))","v":99}]
[381,{"$f":"IF(ISNA(MATCH(\"#\"&A478,'Current Owner Standings (2)'!$C$3:$C$87,0)),99,MATCH(\"#\"&A478,'Current Owner Standings (2)'!$C$3:$C$87,0))","v":99}]
[382,{"$f":"IF(ISNA(MATCH(\"#\"&A479,'Current Owner Standings (2)'!$C$3:$C$87,0)),99,MATCH(\"#\"&A479,'Current Owner Standings (2)'!$C$3:$C$87,0))","v":99}]
[383,{"$f":"IF(ISNA(MATCH(\"#\"&A480,'Current Owner Standings (2)'!$C$3:$C$87,0)),99,MATCH(\"#\"&A480,'Current Owner Standings (2)'!$C$3:$C$87,0))","v":99}]
[384,{"$f":"IF(ISNA(MATCH(\"#\"&A481,'Current Owner Standings (2)'!$C$3:$C$87,0)),99,MATCH(\"#\"&A481,'Current Owner Standings (2)'!$C$3:$C$87,0))","v":99}]
[385,{"$f":"IF(ISNA(MATCH(\"#\"&A482,'Current Owner Standings (2)'!$C$3:$C$87,0)),99,MATCH(\"#\"&A482,'Current Owner Standings (2)'!$C$3:$C$87,0))","v":99}]
[386,{"$f":"IF(ISNA(MATCH(\"#\"&A483,'Current Owner Standings (2)'!$C$3:$C$87,0)),99,MATCH(\"#\"&A483,'Current Owner Standings (2)'!$C$3:$C$87,0))","v":99}]
[387,{"$f":"IF(ISNA(MATCH(\"#\"&A484,'Current Owner Standings (2)'!$C$3:$C$87,0)),99,MATCH(\"#\"&A484,'Current Owner Standings (2)'!$C$3:$C$87,0))","v":99}]
[388,{"$f":"IF(ISNA(MATCH(\"#\"&A485,'Current Owner Standings (2)'!$C$3:$C$87,0)),99,MATCH(\"#\"&A485,'Current Owner Standings (2)'!$C$3:$C$87,0))","v":99}]
[389,{"$f":"IF(ISNA(MATCH(\"#\"&A486,'Current Owner Standings (2)'!$C$3:$C$87,0)),99,MATCH(\"#\"&A486,'Current Owner Standings (2)'!$C$3:$C$87,0))","v":99}]
[390,{"$f":"IF(ISNA(MATCH(\"#\"&A487,'Current Owner Standings (2)'!$C$3:$C$87,0)),99,MATCH(\"#\"&A487,'Current Owner Standings (2)'!$C$3:$C$87,0))","v":99}]
[391,{"$f":"IF(ISNA(MATCH(\"#\"&A488,'Current Owner Standings (2)'!$C$3:$C$87,0)),99,MATCH(\"#\"&A488,'Current Owner Standings (2)'!$C$3:$C$87,0))","v":99}]
[392,{"$f":"IF(ISNA(MATCH(\"#\"&A489,'Current Owner Standings (2)'!$C$3:$C$87,0)),99,MATCH(\"#\"&A489,'Current Owner Standings (2)'!$C$3:$C$87,0))","v":99}]
[393,{"$f":"IF(ISNA(MATCH(\"#\"&A490,'Current Owner Standings (2)'!$C$3:$C$87,0)),99,MATCH(\"#\"&A490,'Current Owner Standings (2)'!$C$3:$C$87,0))","v":99}]
[394,{"$f":"IF(ISNA(MATCH(\"#\"&A491,'Current Owner Standings (2)'!$C$3:$C$87,0)),99,MATCH(\"#\"&A491,'Current Owner Standings (2)'!$C$3:$C$87,0))","v":99}]
[395,{"$f":"IF(ISNA(MATCH(\"#\"&A492,'Current Owner Standings (2)'!$C$3:$C$87,0)),99,MATCH(\"#\"&A492,'Current Owner Standings (2)'!$C$3:$C$87,0))","v":99}]
[396,{"$f":"IF(ISNA(MATCH(\"#\"&A493,'Current Owner Standings (2)'!$C$3:$C$87,0)),99,MATCH(\"#\"&A493,'Current Owner Standings (2)'!$C$3:$C$87,0))","v":99}]
[397,{"$f":"IF(ISNA(MATCH(\"#\"&A494,'Current Owner Standings (2)'!$C$3:$C$87,0)),99,MATCH(\"#\"&A494,'Current Owner Standings (2)'!$C$3:$C$87,0))","v":99}]
[398,{"$f":"IF(ISNA(MATCH(\"#\"&A495,'Current Owner Standings (2)'!$C$3:$C$87,0)),99,MATCH(\"#\"&A495,'Current Owner Standings (2)'!$C$3:$C$87,0))","v":99}]
[399,{"$f":"IF(ISNA(MATCH(\"#\"&A496,'Current Owner Standings (2)'!$C$3:$C$87,0)),99,MATCH(\"#\"&A496,'Current Owner Standings (2)'!$C$3:$C$87,0))","v":99}]
[400,{"$f":"IF(ISNA(MATCH(\"#\"&A497,'Current Owner Standings (2)'!$C$3:$C$87,0)),99,MATCH(\"#\"&A497,'Current Owner Standings (2)'!$C$3:$C$87,0))","v":99}]

{"sheet":"Last Race Results (2)","index":3,"n_rows":264,"n_cols":24,"rows_kept":264,"cut":false,"hidden":true,"merged":[]}
[null,null,null,null,null,null,null,null,null,null,null,null,null,null,"http://msn.foxsports.com/nascar/results?circuit=2"]
[]
["Car","Leader","Finish","ST","CAR","DRIVER","MAKE","Most laps","PTS/BNS","LAPS","STATUS","Laps Lead","Winnings"]
[null,null,null,null,null,null,null,null,null,null,null,null,null,null,"Position","Driver","Manufacturer","Start","Laps","Led","Status","Points","Bonus","Earnings"]
[{"$f":"VALUE(MID(P5,2,FIND(\" \",P5)-1))","v":48},{"$f":"VALUE(RIGHT(I5,LEN(I5)-FIND(\"/\",I5,1)))","v":0},{"$f":"O5","v":1},{"$f":"R5","v":14},{"$f":"VALUE(MID(P5,2,FIND(\" \",P5)-1))","v":48},{"$f":"RIGHT(P5,LEN(P5)-FIND(\" \",P5))","v":"Jimmie Johnson "},{"$f":"Q5","v":"Chevrolet"},{"$f":"IF(W5=5,\"Y\",\"\")","v":""},{"$f":"V5&\"/\"&W5","v":"40/0"},{"$f":"S5","v":268},{"$f":"U5","v":"Running"},{"$f":"T5","v":3},{"$f":"X5","v":0},null,1,"#48 Jimmie Johnson ","Chevrolet",14,268,3,"Running",40,0,0]
[42,2,2,24,42,"Kyle Larson ","Chevrolet",{"$f":"IF(W6>=2,\"Y\",\"\")","v":"Y"},{"$f":"V6&\"/\"&W6","v":"41/2"},{"$f":"S6","v":268},{"$f":"U6","v":"Running"},{"$f":"T6","v":132},{"$f":"X6","v":0},null,2,"#42 Kyle Larson ","Chevrolet",24,268,132,"Running",41,2,0]
[4,1,3,1,4,"Kevin Harvick ","Chevrolet","","39/1",268,"Running",79,0,null,3,"#4 Kevin Harvick ","Chevrolet",1,268,79,"Running",39,1,0]
[22,0,4,13,22,"Joey Logano ","Ford","","37/0",268,"Running",6,0,null,4,"#22 Joey Logano ","Ford",13,268,6,"Running",37,0,0]
[1,0,5,15,1,"Jamie McMurray ","Chevrolet","","36/0",268,"Running",0,0,null,5,"#1 Jamie McMurray ","Chevrolet",15,268,0,"Running",36,0,0]
[18,0,6,9,18,"Kyle Busch ","Toyota","","35/0",268,"Running",1,0,null,6,"#18 Kyle Busch ","Toyota",9,268,1,"Running",35,0,0]
[20,0,7,7,20,"Matt Kenseth ","Toyota","","34/0",268,"Running",0,0,null,7,"#20 Matt Kenseth ","Toyota",7,268,0,"Running",34,0,0]
[47,0,8,12,47,"AJ Allmendinger ","Chevrolet","","33/0",268,"Running",0,0,null,8,"#47 AJ Allmendinger ","Chevrolet",12,268,0,"Running",33,0,0]
[11,0,9,4,11,"Denny Hamlin ","Toyota","","32/0",268,"Running",0,0,null,9,"#11 Denny Hamlin ","Toyota",4,268,0,"Running",32,0,0]
[59,0,10,26,59,"Michael McDowell ","Chevrolet","","31/0",268,"Running",0,0,null,10,"#59 Michael McDowell ","Chevrolet",26,268,0,"Running",31,0,0]
[24,0,11,5,24,"Chase Elliott ","Chevrolet","","30/0",268,"Running",0,0,null,11,"#24 Chase Elliott ","Chevrolet",5,268,0,"Running",30,0,0]
[3,0,12,17,3,"Austin Dillon ","Chevrolet","","29/0",268,"Running",0,0,null,12,"#3 Austin Dillon ","Chevrolet",17,268,0,"Running",29,0,0]
[41,0,13,16,41,"Kurt Busch ","Chevrolet","","28/0",268,"Running",0,0,null,13,"#41 Kurt Busch ","Chevrolet",16,268,0,"Running",28,0,0]
[27,0,14,28,27,"Paul Menard ","Chevrolet","","27/0",268,"Running",0,0,null,14,"#27 Paul Menard ","Chevrolet",28,268,0,"Running",27,0,0]
[44,0,15,22,44,"Brian Scott ","Ford","","26/0",268,"Running",0,0,null,15,"#44 Brian Scott ","Ford",22,268,0,"Running",26,0,0]
[88,0,16,19,88,"Alex Bowman ","Chevrolet","","0/0",268,"Running",0,0,null,16,"#88 Alex Bowman ","Chevrolet",19,268,0,"Running",0,0,0]
[16,0,17,21,16,"Greg Biffle ","Ford","","24/0",267,"Running",0,0,null,17,"#16 Greg Biffle ","Ford",21,267,0,"Running",24,0,0]
[13,0,18,23,13,"Casey Mears ","Chevrolet","","23/0",267,"Running",0,0,null,18,"#13 Casey Mears ","Chevrolet",23,267,0,"Running",23,0,0]
[10,0,19,30,10,"Danica Patrick ","Chevrolet","","22/0",266,"Running",0,0,null,19,"#10 Danica Patrick ","Chevrolet",30,266,0,"Running",22,0,0]
[6,0,20,20,6,"Trevor Bayne ","Ford","","21/0",266,"Running",0,0,null,20,"#6 Trevor Bayne ","Ford",20,266,0,"Running",21,0,0]
[38,0,21,32,38,"Landon Cassill ","Ford","","20/0",266,"Running",0,0,null,21,"#38 Landon Cassill ","Ford",32,266,0,"Running",20,0,0]
[14,0,22,11,14,"Tony Stewart ","Chevrolet","","19/0",266,"Running",0,0,null,22,"#14 Tony Stewart ","Chevrolet",11,266,0,"Running",19,0,0]
[15,0,23,33,15,"Clint Bowyer ","Chevrolet","","18/0",266,"Running",0,0,null,23,"#15 Clint Bowyer ","Chevrolet",33,266,0,"Running",18,0,0]
[34,0,24,27,34,"Chris Buescher ","Ford","","17/0",266,"Running",0,0,null,24,"#34 Chris Buescher ","Ford",27,266,0,"Running",17,0,0]
[31,0,25,3,31,"Ryan Newman ","Chevrolet","","16/0",264,"Accident",0,0,null,25,"#31 Ryan Newman ","Chevrolet",3,264,0,"Accident",16,0,0]
[21,0,26,8,21,"Ryan Blaney ","Ford","","15/0",264,"Running",0,0,null,26,"#21 Ryan Blaney ","Ford",8,264,0,"Running",15,0,0]
[93,0,27,31,93,"Matt DiBenedetto ","Toyota","","14/0",264,"Running",0,0,null,27,"#93 Matt DiBenedetto ","Toyota",31,264,0,"Running",14,0,0]
[46,0,28,40,46,"Michael Annett ","Chevrolet","","13/0",264,"Running",0,0,null,28,"#46 Michael Annett ","Chevrolet",40,264,0,"Running",13,0,0]
[23,0,29,36,23,"David Ragan ","Toyota","","12/0",264,"Running",0,0,null,29,"#23 David Ragan ","Toyota",36,264,0,"Running",12,0,0]
[17,0,30,18,17,"Ricky Stenhouse Jr. ","Ford","","11/0",262,"Accident",0,0,null,30,"#17 Ricky Stenhouse Jr. ","Ford",18,262,0,"Accident",11,0,0]
[83,0,31,38,83,"Jeffrey Earnhardt ","Toyota","","10/0",261,"Running",0,0,null,31,"#83 Jeffrey Earnhardt ","Toyota",38,261,0,"Running",10,0,0]
[55,0,32,37,55,"Reed Sorenson ","Toyota","","9/0",259,"Running",0,0,null,32,"#55 Reed Sorenson ","Toyota",37,259,0,"Running",9,0,0]
[95,0,33,34,95,"Ty Dillon ","Chevrolet","","0/0",258,"Accident",0,0,null,33,"#95 Ty Dillon ","Chevrolet",34,258,0,"Accident",0,0,0]
[19,0,34,10,19,"Carl Edwards ","Toyota","","7/0",257,"Accident",47,0,null,34,"#19 Carl Edwards ","Toyota",10,257,47,"Accident",7,0,0]
[2,0,35,2,2,"Brad Keselowski ","Ford","","6/0",257,"Accident",0,0,null,35,"#2 Brad Keselowski ","Ford",2,257,0,"Accident",6,0,0]
[78,0,36,6,78,"Martin Truex Jr. ","Toyota","","5/0",257,"Accident",0,0,null,36,"#78 Martin Truex Jr. ","Toyota",6,257,0,"Accident",5,0,0]
[5,0,37,29,5,"Kasey Kahne ","Chevrolet","","4/0",257,"Accident",0,0,null,37,"#5 Kasey Kahne ","Chevrolet",29,257,0,"Accident",4,0,0]
[7,0,38,35,7,"Regan Smith ","Chevrolet","","3/0",255,"Accident",0,0,null,38,"#7 Regan Smith ","Chevrolet",35,255,0,"Accident",3,0,0]
[32,0,39,39,32,"Dylan Lupton ","Ford","","0/0",250,"Running",0,0,null,39,"#32 Dylan Lupton ","Ford",39,250,0,"Running",0,0,0]
[43,0,40,25,43,"Aric Almirola ","Ford","","1/0",213,"Running",0,0,null,40,"#43 Aric Almirola ","Ford",25,213,0,"Running",1,0,0]
[]
[]
[]
[]
[]
[]
[]
[]
[]
[]
[]
[]
[]
[]
[]
[]
[]
[]
[]
[]
[]
[]
[]
[]
[]
[]
[]
[]
[]
[]
[]
[]
[]
[]
[]
[]
[]
[]
[]
[]
[]
[]
[]
[]
[]
[]
[]
[]
[]
[]
[]
[]
[]
[]
[]
[]
[]
[]
[]
[]
[]
[]
[]
[]
[]
[]
[]
[]
[]
[]
[]
[]
[]
[]
[]
[]
[]
[]
[]
[]
[]
[]
[]
[]
[]
[]
[]
[]
[]
[]
[]
[]
[]
[]
[]
[]
[]
[]
[]
[]
[]
[]
[]
[]
[]
[]
[]
[]
[]
[]
[]
[]
[]
[]
[]
[]
[]
[]
[]
[]
[]
[]
[]
[]
[]
[]
[]
[]
[]
[]
[]
[]
[]
[]
[]
[]
[]
[]
[]
[]
[]
[]
[]
[]
[]
[]
[]
[]
[]
[]
[]
[]
[]
[]
[]
[]
[]
[]
[]
[]
[null,null,null,null,null,null,null,null,null,null,null,null,null,null,"Pos","Driver","MFG","Start","Laps","Led","Status","Pts","Bonus","Earnings"]
[null,null,null,null,null,null,null,null,null,null,null,null,null,null,1,"#4 Kevin Harvick ","Chevrolet",13,312,224,"Running",48,5,260048]
[null,null,null,null,null,null,null,null,null,null,null,null,null,null,2,"#88 Dale Earnhardt Jr. ","Chevrolet",5,312,0,"Running",42,0,172240]
[null,null,null,null,null,null,null,null,null,null,null,null,null,null,3,"#2 Brad Keselowski ","Ford",1,312,3,"Running",42,1,180673]
[null,null,null,null,null,null,null,null,null,null,null,null,null,null,4,"#22 Joey Logano ","Ford",2,312,71,"Running",41,1,159641]
[null,null,null,null,null,null,null,null,null,null,null,null,null,null,5,"#24 Jeff Gordon ","Chevrolet",17,312,4,"Running",40,1,159326]
[null,null,null,null,null,null,null,null,null,null,null,null,null,null,6,"#48 Jimmie Johnson ","Chevrolet",4,312,0,"Running",38,0,152266]
[null,null,null,null,null,null,null,null,null,null,null,null,null,null,7,"#31 Ryan Newman ","Chevrolet",15,312,6,"Running",38,1,104380]
[null,null,null,null,null,null,null,null,null,null,null,null,null,null,8,"#99 Carl Edwards ","Ford",23,312,1,"Running",37,1,117330]
[null,null,null,null,null,null,null,null,null,null,null,null,null,null,9,"#18 Kyle Busch ","Toyota",7,312,0,"Running",35,0,132871]
[null,null,null,null,null,null,null,null,null,null,null,null,null,null,10,"#1 Jamie McMurray ","Chevrolet",3,312,0,"Running",34,0,122444]
[null,null,null,null,null,null,null,null,null,null,null,null,null,null,11,"#5 Kasey Kahne ","Chevrolet",11,312,0,"Running",33,0,101430]
[null,null,null,null,null,null,null,null,null,null,null,null,null,null,12,"#20 Matt Kenseth ","Toyota",19,312,0,"Running",32,0,130266]
[null,null,null,null,null,null,null,null,null,null,null,null,null,null,13,"#15 Clint Bowyer ","Toyota",14,312,1,"Running",32,1,118671]
[null,null,null,null,null,null,null,null,null,null,null,null,null,null,14,"#13 Casey Mears ","Chevrolet",18,312,0,"Running",30,0,108513]
[null,null,null,null,null,null,null,null,null,null,null,null,null,null,15,"#43 Aric Almirola ","Ford",9,312,0,"Running",29,0,119066]
[null,null,null,null,null,null,null,null,null,null,null,null,null,null,16,"#14 Tony Stewart ","Chevrolet",20,312,0,"Running",28,0,114963]
[null,null,null,null,null,null,null,null,null,null,null,null,null,null,17,"#16 Greg Biffle ","Ford",6,312,0,"Running",27,0,120480]
[null,null,null,null,null,null,null,null,null,null,null,null,null,null,18,"#17 Ricky Stenhouse Jr. ","Ford",21,312,0,"Running",26,0,115605]
[null,null,null,null,null,null,null,null,null,null,null,null,null,null,19,"#11 Denny Hamlin ","Toyota",12,312,0,"Running",25,0,87480]
[null,null,null,null,null,null,null,null,null,null,null,null,null,null,20,"#42 Kyle Larson ","Chevrolet",8,312,0,"Running",24,0,108200]
[null,null,null,null,null,null,null,null,null,null,null,null,null,null,21,"#9 Marcos Ambrose ","Ford",29,311,0,"Running",23,0,105250]
[null,null,null,null,null,null,null,null,null,null,null,null,null,null,22,"#78 Martin Truex Jr. ","Chevrolet",27,311,0,"Running",22,0,106538]
[null,null,null,null,null,null,null,null,null,null,null,null,null,null,23,"#27 Paul Menard ","Chevrolet",22,311,0,"Running",21,0,105594]
[null,null,null,null,null,null,null,null,null,null,null,null,null,null,24,"#3 Austin Dillon ","Chevrolet",24,311,0,"Running",20,0,123466]
[null,null,null,null,null,null,null,null,null,null,null,null,null,null,25,"#55 Brian Vickers ","Toyota",16,311,0,"Running",19,0,110680]
[null,null,null,null,null,null,null,null,null,null,null,null,null,null,26,"#47 A J Allmendinger ","Chevrolet",25,310,0,"Running",18,0,93938]
[null,null,null,null,null,null,null,null,null,null,null,null,null,null,27,"#26 Cole Whitt ","Toyota",31,310,0,"Running",17,0,74355]
[null,null,null,null,null,null,null,null,null,null,null,null,null,null,28,"#34 David Ragan ","Ford",30,310,0,"Running",16,0,99588]
[null,null,null,null,null,null,null,null,null,null,null,null,null,null,29,"#38 David Gilliland ","Ford",28,309,2,"Running",16,1,96863]
[null,null,null,null,null,null,null,null,null,null,null,null,null,null,30,"#51 Justin Allgaier ","Chevrolet",43,309,0,"Running",14,0,96002]
[null,null,null,null,null,null,null,null,null,null,null,null,null,null,31,"#36 Reed Sorenson ","Chevrolet",39,308,0,"Running",13,0,76790]
[null,null,null,null,null,null,null,null,null,null,null,null,null,null,32,"#33 Brian Scott ","Chevrolet",32,308,0,"Running",0,0,76105]
[null,null,null,null,null,null,null,null,null,null,null,null,null,null,33,"#95 Michael McDowell ","Ford",26,307,0,"Running",11,0,73480]
[null,null,null,null,null,null,null,null,null,null,null,null,null,null,34,"#7 Michael Annett ","Chevrolet",41,307,0,"Running",10,0,73355]
[null,null,null,null,null,null,null,null,null,null,null,null,null,null,35,"#83 Ryan Truex ","Toyota",34,307,0,"Running",9,0,73230]
[null,null,null,null,null,null,null,null,null,null,null,null,null,null,36,"#10 Danica Patrick ","Chevrolet",33,306,0,"Running",8,0,81075]
[null,null,null,null,null,null,null,null,null,null,null,null,null,null,37,"#35 Blake Koch ","Ford",37,306,0,"Running",0,0,72946]
[null,null,null,null,null,null,null,null,null,null,null,null,null,null,38,"#32 Travis Kvapil ","Ford",40,302,0,"Running",6,0,68380]
[null,null,null,null,null,null,null,null,null,null,null,null,null,null,39,"#41 Kurt Busch ","Chevrolet",10,292,0,"Engine",5,0,64380]
[null,null,null,null,null,null,null,null,null,null,null,null,null,null,40,"#66 Joe Nemechek ","Toyota",38,292,0,"Running",0,0,68380]
[null,null,null,null,null,null,null,null,null,null,null,null,null,null,41,"#23 Alex Bowman ","Toyota",35,230,0,"Brakes",3,0,56380]
[null,null,null,null,null,null,null,null,null,null,null,null,null,null,42,"#30 Parker Kligerman ","Toyota",36,226,0,"Engine",2,0,52380]
[null,null,null,null,null,null,null,null,null,null,null,null,null,null,43,"#87 Morgan Shepherd ","Toyota",42,28,0,"Brakes",0,0,48880]
[null,null,null,null,null,null,null,null,null,null,null,null,null,null,"MSN Ad Configuration"]
[]
[null,null,null,null,null,null,null,null,null,null,null,null,null,null,"DEFAULT"]
[null,null,null,null,null,null,null,null,null,null,null,null,null,null,"PG=SPTFBB"]
[null,null,null,null,null,null,null,null,null,null,null,null,null,null,"AP=1089"]
[null,null,null,null,null,null,null,null,null,null,null,null,null,null,"SIZE=300x250"]
[]
[null,null,null,null,null,null,null,null,null,null,null,null,null,null,"2 COLUMN"]
[null,null,null,null,null,null,null,null,null,null,null,null,null,null,"PG=SPTFBB"]
[null,null,null,null,null,null,null,null,null,null,null,null,null,null,"AP=1089"]
[null,null,null,null,null,null,null,null,null,null,null,null,null,null,"SIZE=300x250"]
[]
[null,null,null,null,null,null,null,null,null,null,null,null,null,null,"1 COLUMN"]
[null,null,null,null,null,null,null,null,null,null,null,null,null,null,"PG=SPTFBB"]
[null,null,null,null,null,null,null,null,null,null,null,null,null,null,"AP=1089"]
[null,null,null,null,null,null,null,null,null,null,null,null,null,null,"SIZE=300x250"]

{"sheet":"Sheet1","index":4,"n_rows":69,"n_cols":8,"rows_kept":69,"cut":false,"hidden":false,"merged":[]}
["Pos","Grid","No","Driver","Team","Manufacturer","Laps","Points"]
[1,6,2,"Brad Keselowski","Team Penske","Ford",160,49]
[2,13,20,"Erik Jones","Joe Gibbs Racing","Toyota",160,44]
[3,10,11,"Denny Hamlin","Joe Gibbs Racing","Toyota",160,42]
[4,2,4,"Kevin Harvick","Stewart-Haas Racing","Ford",160,33]
[5,8,14,"Clint Bowyer","Stewart-Haas Racing","Ford",160,42]
[6,4,41,"Kurt Busch","Stewart-Haas Racing","Ford",160,46]
[7,21,1,"Jamie McMurray","Chip Ganassi Racing","Chevrolet",160,30]
[8,1,18,"Kyle Busch","Joe Gibbs Racing","Toyota",160,35]
[9,19,21,"Paul Menard","Wood Brothers Racing","Ford",160,31]
[10,17,31,"Ryan Newman","Richard Childress Racing","Chevrolet",160,29]
[11,9,12,"Ryan Blaney","Team Penske","Ford",160,26]
[12,29,6,"Matt Kenseth","Roush Fenway Racing","Ford",160,35]
[13,5,22,"Joey Logano","Team Penske","Ford",160,31]
[14,7,42,"Kyle Larson","Chip Ganassi Racing","Chevrolet",160,30]
[15,11,9,"Chase Elliott","Hendrick Motorsports","Chevrolet",160,33]
[16,14,48,"Jimmie Johnson","Hendrick Motorsports","Chevrolet",160,22]
[17,26,34,"Michael McDowell","Front Row Motorsports","Ford",160,20]
[18,20,19,"Daniel Suárez","Joe Gibbs Racing","Toyota",160,24]
[19,22,24,"William Byron (R)","Hendrick Motorsports","Chevrolet",160,21]
[20,27,95,"Regan Smith","Leavine Family Racing","Chevrolet",160,17]
[21,30,13,"Ty Dillon","Germain Racing","Chevrolet",160,16]
[22,18,3,"Austin Dillon","Richard Childress Racing","Chevrolet",160,15]
[23,12,10,"Aric Almirola","Stewart-Haas Racing","Ford",159,18]
[24,25,38,"David Ragan","Front Row Motorsports","Ford",159,13]
[25,23,37,"Chris Buescher","JTG Daugherty Racing","Chevrolet",158,12]
[26,32,15,"Ross Chastain (i)","Premium Motorsports","Chevrolet",158,11]
[27,33,72,"Corey LaJoie","TriStar Motorsports","Chevrolet",158,10]
[28,38,7,"Reed Sorenson","Premium Motorsports","Chevrolet",158,9]
[29,35,23,"J. J. Yeley (i)","BK Racing","Toyota",157,8]
[30,40,52,"B. J. McLeod (i)","Rick Ware Racing","Ford",157,7]
[31,34,"00","Landon Cassill (i)","StarCom Racing","Chevrolet",150,6]
[32,37,96,"Jeffrey Earnhardt","Gaunt Brothers Racing","Toyota",150,5]
[33,15,88,"Alex Bowman","Hendrick Motorsports","Chevrolet",142,4]
[34,16,17,"Ricky Stenhouse Jr.","Roush Fenway Racing","Ford",136,3]
[35,39,66,"Timmy Hill (i)","MBM Motorsports","Toyota",124,2]
[36,31,32,"Matt DiBenedetto","Go Fas Racing","Ford",89,1]
[37,24,47,"A. J. Allmendinger","JTG Daugherty Racing","Chevrolet",66,1]
[38,28,43,"Darrell Wallace Jr. (R)","Richard Petty Motorsports","Chevrolet",57,1]
[39,36,51,"David Starr (i)","Rick Ware Racing","Chevrolet",57,1]
[40,3,78,"Martin Truex Jr.","Furniture Row Racing","Toyota",41,1]
[]
["Pos","No","Driver","Team","Manufacturer","Points"]
[1,14,"Clint Bowyer","Stewart-Haas Racing","Ford",10]
[2,41,"Kurt Busch","Stewart-Haas Racing","Ford",9]
[3,11,"Denny Hamlin","Joe Gibbs Racing","Toyota",8]
[4,42,"Kyle Larson","Chip Ganassi Racing","Chevrolet",7]
[5,18,"Kyle Busch","Joe Gibbs Racing","Toyota",6]
[6,2,"Brad Keselowski","Team Penske","Ford",5]
[7,10,"Aric Almirola","Stewart-Haas Racing","Ford",4]
[8,21,"Paul Menard","Wood Brothers Racing","Ford",3]
[9,9,"Chase Elliott","Hendrick Motorsports","Chevrolet",2]
[10,20,"Erik Jones","Joe Gibbs Racing","Toyota",1]
[]
[]
["Pos","No","Driver","Team","Manufacturer","Points"]
[1,6,"Matt Kenseth","Roush Fenway Racing","Ford",10]
[2,9,"Chase Elliott","Hendrick Motorsports","Chevrolet",9]
[3,20,"Erik Jones","Joe Gibbs Racing","Toyota",8]
[4,22,"Joey Logano","Team Penske","Ford",7]
[5,41,"Kurt Busch","Stewart-Haas Racing","Ford",6]
[6,19,"Daniel Suárez","Joe Gibbs Racing","Toyota",5]
[7,2,"Brad Keselowski","Team Penske","Ford",4]
[8,24,"William Byron","Hendrick Motorsports","Chevrolet",3]
[9,31,"Ryan Newman","Richard Childress Racing","Chevrolet",2]
[10,48,"Jimmie Johnson","Hendrick Motorsports","Chevrolet",1]
[]
[]
["Pos","No","Driver","Team","Manufacturer","Points"]

{"sheet":"Last Race Results","index":5,"n_rows":264,"n_cols":11,"rows_kept":264,"cut":false,"hidden":false,"merged":[]}
[null,"https://en.wikipedia.org/wiki/2018_Monster_Energy_NASCAR_Cup_Series#Schedule"]
[]
[]
["Car Number","Position","Car #","Driver","Team","Manuafurer","Laps","Points","S1 Points","S2 Point","Total"]
[{"$f":"VALUE(C5)","v":2},{"$f":"VALUE(Sheet1!A2)","v":1},{"$f":"Sheet1!C2","v":2},{"$f":"Sheet1!D2","v":"Brad Keselowski"},{"$f":"Sheet1!E2","v":"Team Penske"},{"$f":"Sheet1!F2","v":"Ford"},{"$f":"Sheet1!G2","v":160},{"$f":"Sheet1!H2","v":49},{"$f":"IF(ISNA(VLOOKUP(C5,Sheet1!$B$44:$F$53,5,FALSE)),0,VALUE(VLOOKUP(C5,Sheet1!$B$44:$F$53,5,FALSE)))","v":5},{"$f":"IF(ISNA(VLOOKUP(C5,Sheet1!$B$57:$F$68,5,FALSE)),0,VALUE(VLOOKUP(C5,Sheet1!$B$57:$F$68,5,FALSE)))","v":4},{"$f":"VALUE(H5)","v":49}]
[{"$f":"VALUE(C6)","v":20},{"$f":"VALUE(Sheet1!A3)","v":2},{"$f":"Sheet1!C3","v":20},{"$f":"Sheet1!D3","v":"Erik Jones"},{"$f":"Sheet1!E3","v":"Joe Gibbs Racing"},{"$f":"Sheet1!F3","v":"Toyota"},{"$f":"Sheet1!G3","v":160},{"$f":"Sheet1!H3","v":44},{"$f":"IF(ISNA(VLOOKUP(C6,Sheet1!$B$44:$F$53,5,FALSE)),0,VALUE(VLOOKUP(C6,Sheet1!$B$44:$F$53,5,FALSE)))","v":1},{"$f":"IF(ISNA(VLOOKUP(C6,Sheet1!$B$57:$F$68,5,FALSE)),0,VALUE(VLOOKUP(C6,Sheet1!$B$57:$F$68,5,FALSE)))","v":8},{"$f":"VALUE(H6)","v":44}]
[11,{"$f":"VALUE(Sheet1!A4)","v":3},{"$f":"Sheet1!C4","v":11},{"$f":"Sheet1!D4","v":"Denny Hamlin"},{"$f":"Sheet1!E4","v":"Joe Gibbs Racing"},{"$f":"Sheet1!F4","v":"Toyota"},{"$f":"Sheet1!G4","v":160},{"$f":"Sheet1!H4","v":42},{"$f":"IF(ISNA(VLOOKUP(C7,Sheet1!$B$44:$F$53,5,FALSE)),0,VALUE(VLOOKUP(C7,Sheet1!$B$44:$F$53,5,FALSE)))","v":8},{"$f":"IF(ISNA(VLOOKUP(C7,Sheet1!$B$57:$F$68,5,FALSE)),0,VALUE(VLOOKUP(C7,Sheet1!$B$57:$F$68,5,FALSE)))","v":0},42]
[4,{"$f":"VALUE(Sheet1!A5)","v":4},{"$f":"Sheet1!C5","v":4},{"$f":"Sheet1!D5","v":"Kevin Harvick"},{"$f":"Sheet1!E5","v":"Stewart-Haas Racing"},{"$f":"Sheet1!F5","v":"Ford"},{"$f":"Sheet1!G5","v":160},{"$f":"Sheet1!H5","v":33},{"$f":"IF(ISNA(VLOOKUP(C8,Sheet1!$B$44:$F$53,5,FALSE)),0,VALUE(VLOOKUP(C8,Sheet1!$B$44:$F$53,5,FALSE)))","v":0},{"$f":"IF(ISNA(VLOOKUP(C8,Sheet1!$B$57:$F$68,5,FALSE)),0,VALUE(VLOOKUP(C8,Sheet1!$B$57:$F$68,5,FALSE)))","v":0},33]
[14,{"$f":"VALUE(Sheet1!A6)","v":5},{"$f":"Sheet1!C6","v":14},{"$f":"Sheet1!D6","v":"Clint Bowyer"},{"$f":"Sheet1!E6","v":"Stewart-Haas Racing"},{"$f":"Sheet1!F6","v":"Ford"},{"$f":"Sheet1!G6","v":160},{"$f":"Sheet1!H6","v":42},{"$f":"IF(ISNA(VLOOKUP(C9,Sheet1!$B$44:$F$53,5,FALSE)),0,VALUE(VLOOKUP(C9,Sheet1!$B$44:$F$53,5,FALSE)))","v":10},{"$f":"IF(ISNA(VLOOKUP(C9,Sheet1!$B$57:$F$68,5,FALSE)),0,VALUE(VLOOKUP(C9,Sheet1!$B$57:$F$68,5,FALSE)))","v":0},42]
[41,{"$f":"VALUE(Sheet1!A7)","v":6},{"$f":"Sheet1!C7","v":41},{"$f":"Sheet1!D7","v":"Kurt Busch"},{"$f":"Sheet1!E7","v":"Stewart-Haas Racing"},{"$f":"Sheet1!F7","v":"Ford"},{"$f":"Sheet1!G7","v":160},{"$f":"Sheet1!H7","v":46},{"$f":"IF(ISNA(VLOOKUP(C10,Sheet1!$B$44:$F$53,5,FALSE)),0,VALUE(VLOOKUP(C10,Sheet1!$B$44:$F$53,5,FALSE)))","v":9},{"$f":"IF(ISNA(VLOOKUP(C10,Sheet1!$B$57:$F$68,5,FALSE)),0,VALUE(VLOOKUP(C10,Sheet1!$B$57:$F$68,5,FALSE)))","v":6},46]
[1,{"$f":"VALUE(Sheet1!A8)","v":7},{"$f":"Sheet1!C8","v":1},{"$f":"Sheet1!D8","v":"Jamie McMurray"},{"$f":"Sheet1!E8","v":"Chip Ganassi Racing"},{"$f":"Sheet1!F8","v":"Chevrolet"},{"$f":"Sheet1!G8","v":160},{"$f":"Sheet1!H8","v":30},{"$f":"IF(ISNA(VLOOKUP(C11,Sheet1!$B$44:$F$53,5,FALSE)),0,VALUE(VLOOKUP(C11,Sheet1!$B$44:$F$53,5,FALSE)))","v":0},{"$f":"IF(ISNA(VLOOKUP(C11,Sheet1!$B$57:$F$68,5,FALSE)),0,VALUE(VLOOKUP(C11,Sheet1!$B$57:$F$68,5,FALSE)))","v":0},30]
[18,{"$f":"VALUE(Sheet1!A9)","v":8},{"$f":"Sheet1!C9","v":18},{"$f":"Sheet1!D9","v":"Kyle Busch"},{"$f":"Sheet1!E9","v":"Joe Gibbs Racing"},{"$f":"Sheet1!F9","v":"Toyota"},{"$f":"Sheet1!G9","v":160},{"$f":"Sheet1!H9","v":35},{"$f":"IF(ISNA(VLOOKUP(C12,Sheet1!$B$44:$F$53,5,FALSE)),0,VALUE(VLOOKUP(C12,Sheet1!$B$44:$F$53,5,FALSE)))","v":6},{"$f":"IF(ISNA(VLOOKUP(C12,Sheet1!$B$57:$F$68,5,FALSE)),0,VALUE(VLOOKUP(C12,Sheet1!$B$57:$F$68,5,FALSE)))","v":0},35]
[21,{"$f":"VALUE(Sheet1!A10)","v":9},{"$f":"Sheet1!C10","v":21},{"$f":"Sheet1!D10","v":"Paul Menard"},{"$f":"Sheet1!E10","v":"Wood Brothers Racing"},{"$f":"Sheet1!F10","v":"Ford"},{"$f":"Sheet1!G10","v":160},{"$f":"Sheet1!H10","v":31},{"$f":"IF(ISNA(VLOOKUP(C13,Sheet1!$B$44:$F$53,5,FALSE)),0,VALUE(VLOOKUP(C13,Sheet1!$B$44:$F$53,5,FALSE)))","v":3},{"$f":"IF(ISNA(VLOOKUP(C13,Sheet1!$B$57:$F$68,5,FALSE)),0,VALUE(VLOOKUP(C13,Sheet1!$B$57:$F$68,5,FALSE)))","v":0},31]
[31,{"$f":"VALUE(Sheet1!A11)","v":10},{"$f":"Sheet1!C11","v":31},{"$f":"Sheet1!D11","v":"Ryan Newman"},{"$f":"Sheet1!E11","v":"Richard Childress Racing"},{"$f":"Sheet1!F11","v":"Chevrolet"},{"$f":"Sheet1!G11","v":160},{"$f":"Sheet1!H11","v":29},{"$f":"IF(ISNA(VLOOKUP(C14,Sheet1!$B$44:$F$53,5,FALSE)),0,VALUE(VLOOKUP(C14,Sheet1!$B$44:$F$53,5,FALSE)))","v":0},{"$f":"IF(ISNA(VLOOKUP(C14,Sheet1!$B$57:$F$68,5,FALSE)),0,VALUE(VLOOKUP(C14,Sheet1!$B$57:$F$68,5,FALSE)))","v":2},29]
[12,{"$f":"VALUE(Sheet1!A12)","v":11},{"$f":"Sheet1!C12","v":12},{"$f":"Sheet1!D12","v":"Ryan Blaney"},{"$f":"Sheet1!E12","v":"Team Penske"},{"$f":"Sheet1!F12","v":"Ford"},{"$f":"Sheet1!G12","v":160},{"$f":"Sheet1!H12","v":26},{"$f":"IF(ISNA(VLOOKUP(C15,Sheet1!$B$44:$F$53,5,FALSE)),0,VALUE(VLOOKUP(C15,Sheet1!$B$44:$F$53,5,FALSE)))","v":0},{"$f":"IF(ISNA(VLOOKUP(C15,Sheet1!$B$57:$F$68,5,FALSE)),0,VALUE(VLOOKUP(C15,Sheet1!$B$57:$F$68,5,FALSE)))","v":0},26]
[6,{"$f":"VALUE(Sheet1!A13)","v":12},{"$f":"Sheet1!C13","v":6},{"$f":"Sheet1!D13","v":"Matt Kenseth"},{"$f":"Sheet1!E13","v":"Roush Fenway Racing"},{"$f":"Sheet1!F13","v":"Ford"},{"$f":"Sheet1!G13","v":160},{"$f":"Sheet1!H13","v":35},{"$f":"IF(ISNA(VLOOKUP(C16,Sheet1!$B$44:$F$53,5,FALSE)),0,VALUE(VLOOKUP(C16,Sheet1!$B$44:$F$53,5,FALSE)))","v":0},{"$f":"IF(ISNA(VLOOKUP(C16,Sheet1!$B$57:$F$68,5,FALSE)),0,VALUE(VLOOKUP(C16,Sheet1!$B$57:$F$68,5,FALSE)))","v":10},35]
[22,{"$f":"VALUE(Sheet1!A14)","v":13},{"$f":"Sheet1!C14","v":22},{"$f":"Sheet1!D14","v":"Joey Logano"},{"$f":"Sheet1!E14","v":"Team Penske"},{"$f":"Sheet1!F14","v":"Ford"},{"$f":"Sheet1!G14","v":160},{"$f":"Sheet1!H14","v":31},{"$f":"IF(ISNA(VLOOKUP(C17,Sheet1!$B$44:$F$53,5,FALSE)),0,VALUE(VLOOKUP(C17,Sheet1!$B$44:$F$53,5,FALSE)))","v":0},{"$f":"IF(ISNA(VLOOKUP(C17,Sheet1!$B$57:$F$68,5,FALSE)),0,VALUE(VLOOKUP(C17,Sheet1!$B$57:$F$68,5,FALSE)))","v":7},31]
[42,{"$f":"VALUE(Sheet1!A15)","v":14},{"$f":"Sheet1!C15","v":42},{"$f":"Sheet1!D15","v":"Kyle Larson"},{"$f":"Sheet1!E15","v":"Chip Ganassi Racing"},{"$f":"Sheet1!F15","v":"Chevrolet"},{"$f":"Sheet1!G15","v":160},{"$f":"Sheet1!H15","v":30},{"$f":"IF(ISNA(VLOOKUP(C18,Sheet1!$B$44:$F$53,5,FALSE)),0,VALUE(VLOOKUP(C18,Sheet1!$B$44:$F$53,5,FALSE)))","v":7},{"$f":"IF(ISNA(VLOOKUP(C18,Sheet1!$B$57:$F$68,5,FALSE)),0,VALUE(VLOOKUP(C18,Sheet1!$B$57:$F$68,5,FALSE)))","v":0},30]
[9,{"$f":"VALUE(Sheet1!A16)","v":15},{"$f":"Sheet1!C16","v":9},{"$f":"Sheet1!D16","v":"Chase Elliott"},{"$f":"Sheet1!E16","v":"Hendrick Motorsports"},{"$f":"Sheet1!F16","v":"Chevrolet"},{"$f":"Sheet1!G16","v":160},{"$f":"Sheet1!H16","v":33},{"$f":"IF(ISNA(VLOOKUP(C19,Sheet1!$B$44:$F$53,5,FALSE)),0,VALUE(VLOOKUP(C19,Sheet1!$B$44:$F$53,5,FALSE)))","v":2},{"$f":"IF(ISNA(VLOOKUP(C19,Sheet1!$B$57:$F$68,5,FALSE)),0,VALUE(VLOOKUP(C19,Sheet1!$B$57:$F$68,5,FALSE)))","v":9},33]
[48,{"$f":"VALUE(Sheet1!A17)","v":16},{"$f":"Sheet1!C17","v":48},{"$f":"Sheet1!D17","v":"Jimmie Johnson"},{"$f":"Sheet1!E17","v":"Hendrick Motorsports"},{"$f":"Sheet1!F17","v":"Chevrolet"},{"$f":"Sheet1!G17","v":160},{"$f":"Sheet1!H17","v":22},{"$f":"IF(ISNA(VLOOKUP(C20,Sheet1!$B$44:$F$53,5,FALSE)),0,VALUE(VLOOKUP(C20,Sheet1!$B$44:$F$53,5,FALSE)))","v":0},{"$f":"IF(ISNA(VLOOKUP(C20,Sheet1!$B$57:$F$68,5,FALSE)),0,VALUE(VLOOKUP(C20,Sheet1!$B$57:$F$68,5,FALSE)))","v":1},22]
[34,{"$f":"VALUE(Sheet1!A18)","v":17},{"$f":"Sheet1!C18","v":34},{"$f":"Sheet1!D18","v":"Michael McDowell"},{"$f":"Sheet1!E18","v":"Front Row Motorsports"},{"$f":"Sheet1!F18","v":"Ford"},{"$f":"Sheet1!G18","v":160},{"$f":"Sheet1!H18","v":20},{"$f":"IF(ISNA(VLOOKUP(C21,Sheet1!$B$44:$F$53,5,FALSE)),0,VALUE(VLOOKUP(C21,Sheet1!$B$44:$F$53,5,FALSE)))","v":0},{"$f":"IF(ISNA(VLOOKUP(C21,Sheet1!$B$57:$F$68,5,FALSE)),0,VALUE(VLOOKUP(C21,Sheet1!$B$57:$F$68,5,FALSE)))","v":0},20]
[19,{"$f":"VALUE(Sheet1!A19)","v":18},{"$f":"Sheet1!C19","v":19},{"$f":"Sheet1!D19","v":"Daniel Suárez"},{"$f":"Sheet1!E19","v":"Joe Gibbs Racing"},{"$f":"Sheet1!F19","v":"Toyota"},{"$f":"Sheet1!G19","v":160},{"$f":"Sheet1!H19","v":24},{"$f":"IF(ISNA(VLOOKUP(C22,Sheet1!$B$44:$F$53,5,FALSE)),0,VALUE(VLOOKUP(C22,Sheet1!$B$44:$F$53,5,FALSE)))","v":0},{"$f":"IF(ISNA(VLOOKUP(C22,Sheet1!$B$57:$F$68,5,FALSE)),0,VALUE(VLOOKUP(C22,Sheet1!$B$57:$F$68,5,FALSE)))","v":5},24]
[24,{"$f":"VALUE(Sheet1!A20)","v":19},{"$f":"Sheet1!C20","v":24},{"$f":"Sheet1!D20","v":"William Byron (R)"},{"$f":"Sheet1!E20","v":"Hendrick Motorsports"},{"$f":"Sheet1!F20","v":"Chevrolet"},{"$f":"Sheet1!G20","v":160},18,{"$f":"IF(ISNA(VLOOKUP(C23,Sheet1!$B$44:$F$53,5,FALSE)),0,VALUE(VLOOKUP(C23,Sheet1!$B$44:$F$53,5,FALSE)))","v":0},{"$f":"IF(ISNA(VLOOKUP(C23,Sheet1!$B$57:$F$68,5,FALSE)),0,VALUE(VLOOKUP(C23,Sheet1!$B$57:$F$68,5,FALSE)))","v":3},18]
[95,{"$f":"VALUE(Sheet1!A21)","v":20},{"$f":"Sheet1!C21","v":95},{"$f":"Sheet1!D21","v":"Regan Smith"},{"$f":"Sheet1!E21","v":"Leavine Family Racing"},{"$f":"Sheet1!F21","v":"Chevrolet"},{"$f":"Sheet1!G21","v":160},{"$f":"Sheet1!H21","v":17},{"$f":"IF(ISNA(VLOOKUP(C24,Sheet1!$B$44:$F$53,5,FALSE)),0,VALUE(VLOOKUP(C24,Sheet1!$B$44:$F$53,5,FALSE)))","v":0},{"$f":"IF(ISNA(VLOOKUP(C24,Sheet1!$B$57:$F$68,5,FALSE)),0,VALUE(VLOOKUP(C24,Sheet1!$B$57:$F$68,5,FALSE)))","v":0},17]
[13,{"$f":"VALUE(Sheet1!A22)","v":21},{"$f":"Sheet1!C22","v":13},{"$f":"Sheet1!D22","v":"Ty Dillon"},{"$f":"Sheet1!E22","v":"Germain Racing"},{"$f":"Sheet1!F22","v":"Chevrolet"},{"$f":"Sheet1!G22","v":160},{"$f":"Sheet1!H22","v":16},{"$f":"IF(ISNA(VLOOKUP(C25,Sheet1!$B$44:$F$53,5,FALSE)),0,VALUE(VLOOKUP(C25,Sheet1!$B$44:$F$53,5,FALSE)))","v":0},{"$f":"IF(ISNA(VLOOKUP(C25,Sheet1!$B$57:$F$68,5,FALSE)),0,VALUE(VLOOKUP(C25,Sheet1!$B$57:$F$68,5,FALSE)))","v":0},16]
[3,{"$f":"VALUE(Sheet1!A23)","v":22},{"$f":"Sheet1!C23","v":3},{"$f":"Sheet1!D23","v":"Austin Dillon"},{"$f":"Sheet1!E23","v":"Richard Childress Racing"},{"$f":"Sheet1!F23","v":"Chevrolet"},{"$f":"Sheet1!G23","v":160},{"$f":"Sheet1!H23","v":15},{"$f":"IF(ISNA(VLOOKUP(C26,Sheet1!$B$44:$F$53,5,FALSE)),0,VALUE(VLOOKUP(C26,Sheet1!$B$44:$F$53,5,FALSE)))","v":0},{"$f":"IF(ISNA(VLOOKUP(C26,Sheet1!$B$57:$F$68,5,FALSE)),0,VALUE(VLOOKUP(C26,Sheet1!$B$57:$F$68,5,FALSE)))","v":0},15]
[10,{"$f":"VALUE(Sheet1!A24)","v":23},{"$f":"Sheet1!C24","v":10},{"$f":"Sheet1!D24","v":"Aric Almirola"},{"$f":"Sheet1!E24","v":"Stewart-Haas Racing"},{"$f":"Sheet1!F24","v":"Ford"},{"$f":"Sheet1!G24","v":159},{"$f":"Sheet1!H24","v":18},{"$f":"IF(ISNA(VLOOKUP(C27,Sheet1!$B$44:$F$53,5,FALSE)),0,VALUE(VLOOKUP(C27,Sheet1!$B$44:$F$53,5,FALSE)))","v":4},{"$f":"IF(ISNA(VLOOKUP(C27,Sheet1!$B$57:$F$68,5,FALSE)),0,VALUE(VLOOKUP(C27,Sheet1!$B$57:$F$68,5,FALSE)))","v":0},18]
[38,{"$f":"VALUE(Sheet1!A25)","v":24},{"$f":"Sheet1!C25","v":38},{"$f":"Sheet1!D25","v":"David Ragan"},{"$f":"Sheet1!E25","v":"Front Row Motorsports"},{"$f":"Sheet1!F25","v":"Ford"},{"$f":"Sheet1!G25","v":159},{"$f":"Sheet1!H25","v":13},{"$f":"IF(ISNA(VLOOKUP(C28,Sheet1!$B$44:$F$53,5,FALSE)),0,VALUE(VLOOKUP(C28,Sheet1!$B$44:$F$53,5,FALSE)))","v":0},{"$f":"IF(ISNA(VLOOKUP(C28,Sheet1!$B$57:$F$68,5,FALSE)),0,VALUE(VLOOKUP(C28,Sheet1!$B$57:$F$68,5,FALSE)))","v":0},13]
[37,{"$f":"VALUE(Sheet1!A26)","v":25},{"$f":"Sheet1!C26","v":37},{"$f":"Sheet1!D26","v":"Chris Buescher"},{"$f":"Sheet1!E26","v":"JTG Daugherty Racing"},{"$f":"Sheet1!F26","v":"Chevrolet"},{"$f":"Sheet1!G26","v":158},{"$f":"Sheet1!H26","v":12},{"$f":"IF(ISNA(VLOOKUP(C29,Sheet1!$B$44:$F$53,5,FALSE)),0,VALUE(VLOOKUP(C29,Sheet1!$B$44:$F$53,5,FALSE)))","v":0},{"$f":"IF(ISNA(VLOOKUP(C29,Sheet1!$B$57:$F$68,5,FALSE)),0,VALUE(VLOOKUP(C29,Sheet1!$B$57:$F$68,5,FALSE)))","v":0},12]
[15,{"$f":"VALUE(Sheet1!A27)","v":26},{"$f":"Sheet1!C27","v":15},{"$f":"Sheet1!D27","v":"Ross Chastain (i)"},{"$f":"Sheet1!E27","v":"Premium Motorsports"},{"$f":"Sheet1!F27","v":"Chevrolet"},{"$f":"Sheet1!G27","v":158},{"$f":"Sheet1!H27","v":11},{"$f":"IF(ISNA(VLOOKUP(C30,Sheet1!$B$44:$F$53,5,FALSE)),0,VALUE(VLOOKUP(C30,Sheet1!$B$44:$F$53,5,FALSE)))","v":0},{"$f":"IF(ISNA(VLOOKUP(C30,Sheet1!$B$57:$F$68,5,FALSE)),0,VALUE(VLOOKUP(C30,Sheet1!$B$57:$F$68,5,FALSE)))","v":0},11]
[72,{"$f":"VALUE(Sheet1!A28)","v":27},{"$f":"Sheet1!C28","v":72},{"$f":"Sheet1!D28","v":"Corey LaJoie"},{"$f":"Sheet1!E28","v":"TriStar Motorsports"},{"$f":"Sheet1!F28","v":"Chevrolet"},{"$f":"Sheet1!G28","v":158},10,{"$f":"IF(ISNA(VLOOKUP(C31,Sheet1!$B$44:$F$53,5,FALSE)),0,VALUE(VLOOKUP(C31,Sheet1!$B$44:$F$53,5,FALSE)))","v":0},{"$f":"IF(ISNA(VLOOKUP(C31,Sheet1!$B$57:$F$68,5,FALSE)),0,VALUE(VLOOKUP(C31,Sheet1!$B$57:$F$68,5,FALSE)))","v":0},10]
[7,{"$f":"VALUE(Sheet1!A29)","v":28},{"$f":"Sheet1!C29","v":7},{"$f":"Sheet1!D29","v":"Reed Sorenson"},{"$f":"Sheet1!E29","v":"Premium Motorsports"},{"$f":"Sheet1!F29","v":"Chevrolet"},{"$f":"Sheet1!G29","v":158},{"$f":"Sheet1!H29","v":9},{"$f":"IF(ISNA(VLOOKUP(C32,Sheet1!$B$44:$F$53,5,FALSE)),0,VALUE(VLOOKUP(C32,Sheet1!$B$44:$F$53,5,FALSE)))","v":0},{"$f":"IF(ISNA(VLOOKUP(C32,Sheet1!$B$57:$F$68,5,FALSE)),0,VALUE(VLOOKUP(C32,Sheet1!$B$57:$F$68,5,FALSE)))","v":0},9]
[23,{"$f":"VALUE(Sheet1!A30)","v":29},{"$f":"Sheet1!C30","v":23},{"$f":"Sheet1!D30","v":"J. J. Yeley (i)"},{"$f":"Sheet1!E30","v":"BK Racing"},{"$f":"Sheet1!F30","v":"Toyota"},{"$f":"Sheet1!G30","v":157},{"$f":"Sheet1!H30","v":8},{"$f":"IF(ISNA(VLOOKUP(C33,Sheet1!$B$44:$F$53,5,FALSE)),0,VALUE(VLOOKUP(C33,Sheet1!$B$44:$F$53,5,FALSE)))","v":0},{"$f":"IF(ISNA(VLOOKUP(C33,Sheet1!$B$57:$F$68,5,FALSE)),0,VALUE(VLOOKUP(C33,Sheet1!$B$57:$F$68,5,FALSE)))","v":0},8]
[52,{"$f":"VALUE(Sheet1!A31)","v":30},{"$f":"Sheet1!C31","v":52},{"$f":"Sheet1!D31","v":"B. J. McLeod (i)"},{"$f":"Sheet1!E31","v":"Rick Ware Racing"},{"$f":"Sheet1!F31","v":"Ford"},{"$f":"Sheet1!G31","v":157},{"$f":"Sheet1!H31","v":7},{"$f":"IF(ISNA(VLOOKUP(C34,Sheet1!$B$44:$F$53,5,FALSE)),0,VALUE(VLOOKUP(C34,Sheet1!$B$44:$F$53,5,FALSE)))","v":0},{"$f":"IF(ISNA(VLOOKUP(C34,Sheet1!$B$57:$F$68,5,FALSE)),0,VALUE(VLOOKUP(C34,Sheet1!$B$57:$F$68,5,FALSE)))","v":0},7]
[{"$f":"(C35)","v":"00"},{"$f":"VALUE(Sheet1!A32)","v":31},{"$f":"Sheet1!C32","v":"00"},{"$f":"Sheet1!D32","v":"Landon Cassill (i)"},{"$f":"Sheet1!E32","v":"StarCom Racing"},{"$f":"Sheet1!F32","v":"Chevrolet"},{"$f":"Sheet1!G32","v":150},{"$f":"Sheet1!H32","v":6},{"$f":"IF(ISNA(VLOOKUP(C35,Sheet1!$B$44:$F$53,5,FALSE)),0,VALUE(VLOOKUP(C35,Sheet1!$B$44:$F$53,5,FALSE)))","v":0},{"$f":"IF(ISNA(VLOOKUP(C35,Sheet1!$B$57:$F$68,5,FALSE)),0,VALUE(VLOOKUP(C35,Sheet1!$B$57:$F$68,5,FALSE)))","v":0},6]
[96,{"$f":"VALUE(Sheet1!A33)","v":32},{"$f":"Sheet1!C33","v":96},{"$f":"Sheet1!D33","v":"Jeffrey Earnhardt"},{"$f":"Sheet1!E33","v":"Gaunt Brothers Racing"},{"$f":"Sheet1!F33","v":"Toyota"},{"$f":"Sheet1!G33","v":150},{"$f":"Sheet1!H33","v":5},{"$f":"IF(ISNA(VLOOKUP(C36,Sheet1!$B$44:$F$53,5,FALSE)),0,VALUE(VLOOKUP(C36,Sheet1!$B$44:$F$53,5,FALSE)))","v":0},{"$f":"IF(ISNA(VLOOKUP(C36,Sheet1!$B$57:$F$68,5,FALSE)),0,VALUE(VLOOKUP(C36,Sheet1!$B$57:$F$68,5,FALSE)))","v":0},5]
[88,{"$f":"VALUE(Sheet1!A34)","v":33},{"$f":"Sheet1!C34","v":88},{"$f":"Sheet1!D34","v":"Alex Bowman"},{"$f":"Sheet1!E34","v":"Hendrick Motorsports"},{"$f":"Sheet1!F34","v":"Chevrolet"},{"$f":"Sheet1!G34","v":142},4,{"$f":"IF(ISNA(VLOOKUP(C37,Sheet1!$B$44:$F$53,5,FALSE)),0,VALUE(VLOOKUP(C37,Sheet1!$B$44:$F$53,5,FALSE)))","v":0},{"$f":"IF(ISNA(VLOOKUP(C37,Sheet1!$B$57:$F$68,5,FALSE)),0,VALUE(VLOOKUP(C37,Sheet1!$B$57:$F$68,5,FALSE)))","v":0},4]
[17,{"$f":"VALUE(Sheet1!A35)","v":34},{"$f":"Sheet1!C35","v":17},{"$f":"Sheet1!D35","v":"Ricky Stenhouse Jr."},{"$f":"Sheet1!E35","v":"Roush Fenway Racing"},{"$f":"Sheet1!F35","v":"Ford"},{"$f":"Sheet1!G35","v":136},3,{"$f":"IF(ISNA(VLOOKUP(C38,Sheet1!$B$44:$F$53,5,FALSE)),0,VALUE(VLOOKUP(C38,Sheet1!$B$44:$F$53,5,FALSE)))","v":0},{"$f":"IF(ISNA(VLOOKUP(C38,Sheet1!$B$57:$F$68,5,FALSE)),0,VALUE(VLOOKUP(C38,Sheet1!$B$57:$F$68,5,FALSE)))","v":0},3]
[66,{"$f":"VALUE(Sheet1!A36)","v":35},{"$f":"Sheet1!C36","v":66},{"$f":"Sheet1!D36","v":"Timmy Hill (i)"},{"$f":"Sheet1!E36","v":"MBM Motorsports"},{"$f":"Sheet1!F36","v":"Toyota"},{"$f":"Sheet1!G36","v":124},{"$f":"Sheet1!H36","v":2},{"$f":"IF(ISNA(VLOOKUP(C39,Sheet1!$B$44:$F$53,5,FALSE)),0,VALUE(VLOOKUP(C39,Sheet1!$B$44:$F$53,5,FALSE)))","v":0},{"$f":"IF(ISNA(VLOOKUP(C39,Sheet1!$B$57:$F$68,5,FALSE)),0,VALUE(VLOOKUP(C39,Sheet1!$B$57:$F$68,5,FALSE)))","v":0},2]
[32,{"$f":"VALUE(Sheet1!A37)","v":36},{"$f":"Sheet1!C37","v":32},{"$f":"Sheet1!D37","v":"Matt DiBenedetto"},{"$f":"Sheet1!E37","v":"Go Fas Racing"},{"$f":"Sheet1!F37","v":"Ford"},{"$f":"Sheet1!G37","v":89},1,{"$f":"IF(ISNA(VLOOKUP(C40,Sheet1!$B$44:$F$53,5,FALSE)),0,VALUE(VLOOKUP(C40,Sheet1!$B$44:$F$53,5,FALSE)))","v":0},{"$f":"IF(ISNA(VLOOKUP(C40,Sheet1!$B$57:$F$68,5,FALSE)),0,VALUE(VLOOKUP(C40,Sheet1!$B$57:$F$68,5,FALSE)))","v":0},1]
[47,{"$f":"VALUE(Sheet1!A38)","v":37},{"$f":"Sheet1!C38","v":47},{"$f":"Sheet1!D38","v":"A. J. Allmendinger"},{"$f":"Sheet1!E38","v":"JTG Daugherty Racing"},{"$f":"Sheet1!F38","v":"Chevrolet"},{"$f":"Sheet1!G38","v":66},{"$f":"Sheet1!H38","v":1},{"$f":"IF(ISNA(VLOOKUP(C41,Sheet1!$B$44:$F$53,5,FALSE)),0,VALUE(VLOOKUP(C41,Sheet1!$B$44:$F$53,5,FALSE)))","v":0},{"$f":"IF(ISNA(VLOOKUP(C41,Sheet1!$B$57:$F$68,5,FALSE)),0,VALUE(VLOOKUP(C41,Sheet1!$B$57:$F$68,5,FALSE)))","v":0},1]
[43,{"$f":"VALUE(Sheet1!A39)","v":38},{"$f":"Sheet1!C39","v":43},{"$f":"Sheet1!D39","v":"Darrell Wallace Jr. (R)"},{"$f":"Sheet1!E39","v":"Richard Petty Motorsports"},{"$f":"Sheet1!F39","v":"Chevrolet"},{"$f":"Sheet1!G39","v":57},{"$f":"Sheet1!H39","v":1},{"$f":"IF(ISNA(VLOOKUP(C42,Sheet1!$B$44:$F$53,5,FALSE)),0,VALUE(VLOOKUP(C42,Sheet1!$B$44:$F$53,5,FALSE)))","v":0},{"$f":"IF(ISNA(VLOOKUP(C42,Sheet1!$B$57:$F$68,5,FALSE)),0,VALUE(VLOOKUP(C42,Sheet1!$B$57:$F$68,5,FALSE)))","v":0},1]
[{"$f":"VALUE(C43)","v":51},{"$f":"VALUE(Sheet1!A40)","v":39},{"$f":"Sheet1!C40","v":51},{"$f":"Sheet1!D40","v":"David Starr (i)"},{"$f":"Sheet1!E40","v":"Rick Ware Racing"},{"$f":"Sheet1!F40","v":"Chevrolet"},{"$f":"Sheet1!G40","v":57},{"$f":"Sheet1!H40","v":1},{"$f":"IF(ISNA(VLOOKUP(C43,Sheet1!$B$44:$F$53,5,FALSE)),0,VALUE(VLOOKUP(C43,Sheet1!$B$44:$F$53,5,FALSE)))","v":0},{"$f":"IF(ISNA(VLOOKUP(C43,Sheet1!$B$57:$F$68,5,FALSE)),0,VALUE(VLOOKUP(C43,Sheet1!$B$57:$F$68,5,FALSE)))","v":0},{"$f":"VALUE(H43)","v":1}]
[78,{"$f":"VALUE(Sheet1!A41)","v":40},{"$f":"Sheet1!C41","v":78},{"$f":"Sheet1!D41","v":"Martin Truex Jr."},{"$f":"Sheet1!E41","v":"Furniture Row Racing"},{"$f":"Sheet1!F41","v":"Toyota"},{"$f":"Sheet1!G41","v":41},{"$f":"Sheet1!H41","v":1},{"$f":"IF(ISNA(VLOOKUP(C44,Sheet1!$B$44:$F$53,5,FALSE)),0,VALUE(VLOOKUP(C44,Sheet1!$B$44:$F$53,5,FALSE)))","v":0},{"$f":"IF(ISNA(VLOOKUP(C44,Sheet1!$B$57:$F$68,5,FALSE)),0,VALUE(VLOOKUP(C44,Sheet1!$B$57:$F$68,5,FALSE)))","v":0},1]
[]
[]
[]
[]
[]
[]
[]
[]
[]
[]
[]
[]
[]
[]
[]
[]
[]
[]
[]
[]
[]
[]
[]
[]
[]
[]
[]
[]
[]
[]
[]
[]
[]
[]
[]
[]
[]
[]
[]
[]
[]
[]
[]
[]
[]
[]
[]
[]
[]
[]
[]
[]
[]
[]
[]
[]
[]
[]
[]
[]
[]
[]
[]
[]
[]
[]
[]
[]
[]
[]
[]
[]
[]
[]
[]
[]
[]
[]
[]
[]
[]
[]
[]
[]
[]
[]
[]
[]
[]
[]
[]
[]
[]
[]
[]
[]
[]
[]
[]
[]
[]
[]
[]
[]
[]
[]
[]
[]
[]
[]
[]
[]
[]
[]
[]
[]
[]
[]
[]
[]
[]
[]
[]
[]
[]
[]
[]
[]
[]
[]
[]
[]
[]
[]
[]
[]
[]
[]
[]
[]
[]
[]
[]
[]
[]
[]
[]
[]
[]
[]
[]
[]
[]
[]
[]
[]
[]
[]
[]
[]
[null,"Pos",null,"Driver","MFG","Start","Laps","Led"]
[null,1,null,"#4 Kevin Harvick ","Chevrolet",13,312,224]
[null,2,null,"#88 Dale Earnhardt Jr. ","Chevrolet",5,312,0]
[null,3,null,"#2 Brad Keselowski ","Ford",1,312,3]
[null,4,null,"#22 Joey Logano ","Ford",2,312,71]
[null,5,null,"#24 Jeff Gordon ","Chevrolet",17,312,4]
[null,6,null,"#48 Jimmie Johnson ","Chevrolet",4,312,0]
[null,7,null,"#31 Ryan Newman ","Chevrolet",15,312,6]
[null,8,null,"#99 Carl Edwards ","Ford",23,312,1]
[null,9,null,"#18 Kyle Busch ","Toyota",7,312,0]
[null,10,null,"#1 Jamie McMurray ","Chevrolet",3,312,0]
[null,11,null,"#5 Kasey Kahne ","Chevrolet",11,312,0]
[null,12,null,"#20 Matt Kenseth ","Toyota",19,312,0]
[null,13,null,"#15 Clint Bowyer ","Toyota",14,312,1]
[null,14,null,"#13 Casey Mears ","Chevrolet",18,312,0]
[null,15,null,"#43 Aric Almirola ","Ford",9,312,0]
[null,16,null,"#14 Tony Stewart ","Chevrolet",20,312,0]
[null,17,null,"#16 Greg Biffle ","Ford",6,312,0]
[null,18,null,"#17 Ricky Stenhouse Jr. ","Ford",21,312,0]
[null,19,null,"#11 Denny Hamlin ","Toyota",12,312,0]
[null,20,null,"#42 Kyle Larson ","Chevrolet",8,312,0]
[null,21,null,"#9 Marcos Ambrose ","Ford",29,311,0]
[null,22,null,"#78 Martin Truex Jr. ","Chevrolet",27,311,0]
[null,23,null,"#27 Paul Menard ","Chevrolet",22,311,0]
[null,24,null,"#3 Austin Dillon ","Chevrolet",24,311,0]
[null,25,null,"#55 Brian Vickers ","Toyota",16,311,0]
[null,26,null,"#47 A J Allmendinger ","Chevrolet",25,310,0]
[null,27,null,"#26 Cole Whitt ","Toyota",31,310,0]
[null,28,null,"#34 David Ragan ","Ford",30,310,0]
[null,29,null,"#38 David Gilliland ","Ford",28,309,2]
[null,30,null,"#51 Justin Allgaier ","Chevrolet",43,309,0]
[null,31,null,"#36 Reed Sorenson ","Chevrolet",39,308,0]
[null,32,null,"#33 Brian Scott ","Chevrolet",32,308,0]
[null,33,null,"#95 Michael McDowell ","Ford",26,307,0]
[null,34,null,"#7 Michael Annett ","Chevrolet",41,307,0]
[null,35,null,"#83 Ryan Truex ","Toyota",34,307,0]
[null,36,null,"#10 Danica Patrick ","Chevrolet",33,306,0]
[null,37,null,"#35 Blake Koch ","Ford",37,306,0]
[null,38,null,"#32 Travis Kvapil ","Ford",40,302,0]
[null,39,null,"#41 Kurt Busch ","Chevrolet",10,292,0]
[null,40,null,"#66 Joe Nemechek ","Toyota",38,292,0]
[null,41,null,"#23 Alex Bowman ","Toyota",35,230,0]
[null,42,null,"#30 Parker Kligerman ","Toyota",36,226,0]
[null,43,null,"#87 Morgan Shepherd ","Toyota",42,28,0]
[null,"MSN Ad Configuration"]
[]
[null,"DEFAULT"]
[null,"PG=SPTFBB"]
[null,"AP=1089"]
[null,"SIZE=300x250"]
[]
[null,"2 COLUMN"]
[null,"PG=SPTFBB"]
[null,"AP=1089"]
[null,"SIZE=300x250"]
[]
[null,"1 COLUMN"]
[null,"PG=SPTFBB"]
[null,"AP=1089"]
[null,"SIZE=300x250"]

{"sheet":"Current Owner Standings","index":6,"n_rows":480,"n_cols":41,"rows_kept":480,"cut":false,"hidden":false,"merged":[]}
["2013 Sprint Cup Series",null,null,null,null,null,null,null,null,null,null,null,null,null,null,null,null,null,null,null,null,null,"http://scores.nbcsports.com/racing/index.asp?page=owner&series=NASCAR&sort=1"]
[]
["RK",null,"OWNER","Car #","Points","Behind","Wins","Starts","Top 5","Top 10","DNF","Attempts",null,null,null,null,"DNF","DRIVER",null,null,"Rank","Car #","Owner","Points","Behind","Wins","Starts","Top 5","Top 10","DNF",null,"Rank","Owner","Car #","Points","Ldr","Nxt","Race Wins","Stage Wins","Playoff Pts.","Attempts"]
[1,null,{"$f":"VLOOKUP($A4,$U$4:$AD$51,3,FALSE)","v":"Joe Gibbs Racing"},{"$f":"VLOOKUP($A4,$U$4:$AD$51,2,FALSE)","v":18},{"$f":"VLOOKUP($A4,$U$4:$AD$51,4,FALSE)","v":1038},{"$f":"VLOOKUP($A4,$U$4:$AD$51,5,FALSE)","v":"-"},{"$f":"VLOOKUP($A4,$U$4:$AD$51,6,FALSE)","v":6},{"$f":"VLOOKUP($A4,$U$4:$AD$51,7,FALSE)","v":25},{"$f":"VLOOKUP($A4,$U$4:$AD$51,8,FALSE)","v":17},{"$f":"VLOOKUP($A4,$U$4:$AD$51,9,FALSE)","v":20},{"$f":"VLOOKUP($A4,$U$4:$AD$510,10,FALSE)","v":2},{"$f":"VLOOKUP($A4,$U$4:$AD$51,3,FALSE)","v":"Joe Gibbs Racing"},{"$f":"VLOOKUP($A4,$U$4:$AD$45,9,FALSE)","v":20},20,20,20,{"$f":"VLOOKUP($A4,$U$4:$AD$51,10,FALSE)","v":2},{"$f":"IF(ISNA(VLOOKUP(VALUE(D4),'Entry List'!$A$2:$F$87,4,FALSE)),\"Not Entered\", VLOOKUP(VALUE(D4),'Entry List'!$A$3:$F$87,4,FALSE))","v":"Kyle Busch"},null,null,1,18,"Joe Gibbs Racing",1038,"-",6,25,17,20,2,null,1,"Furniture Row Racing",78,780,0,0,3,14,29,20]
[2,null,{"$f":"VLOOKUP($A5,$U$4:$AD$51,3,FALSE)","v":"Stewart-Haas Racing"},{"$f":"VLOOKUP($A5,$U$4:$AD$51,2,FALSE)","v":4},{"$f":"VLOOKUP($A5,$U$4:$AD$51,4,FALSE)","v":999},{"$f":"VLOOKUP($A5,$U$4:$AD$51,5,FALSE)","v":39},{"$f":"VLOOKUP($A5,$U$4:$AD$51,6,FALSE)","v":7},{"$f":"VLOOKUP($A5,$U$4:$AD$51,7,FALSE)","v":25},{"$f":"VLOOKUP($A5,$U$4:$AD$51,8,FALSE)","v":18},{"$f":"VLOOKUP($A5,$U$4:$AD$51,9,FALSE)","v":21},{"$f":"VLOOKUP($A5,$U$4:$AD$510,10,FALSE)","v":3},{"$f":"VLOOKUP($A5,$AF$4:$AO$51,10,FALSE)","v":20},21,21,21,21,3,{"$f":"IF(ISNA(VLOOKUP(VALUE(D5),'Entry List'!$A$2:$F$87,4,FALSE)),\"Not Entered\", VLOOKUP(VALUE(D5),'Entry List'!$A$3:$F$87,4,FALSE))","v":"Kevin Harvick"},null,null,2,4,"Stewart-Haas Racing",999,39,7,25,18,21,3,null,2,"Chip Ganassi Racing",42,732,-48,-48,2,3,13,20]
[3,null,"Furniture Row Racing",78,883,155,4,25,15,15,4,20,15,15,15,15,4,{"$f":"IF(ISNA(VLOOKUP(VALUE(D6),'Entry List'!$A$2:$F$87,4,FALSE)),\"Not Entered\", VLOOKUP(VALUE(D6),'Entry List'!$A$3:$F$87,4,FALSE))","v":"Martin Truex Jr."},null,null,3,78,"Furniture Row Racing",883,155,4,25,15,15,4,null,3,"Stewart-Haas Racing",4,683,-97,-49,1,3,8,20]
[4,null,"Stewart-Haas Racing",41,835,203,1,25,4,16,3,20,16,16,16,16,3,{"$f":"IF(ISNA(VLOOKUP(VALUE(D7),'Entry List'!$A$2:$F$87,4,FALSE)),\"Not Entered\", VLOOKUP(VALUE(D7),'Entry List'!$A$3:$F$87,4,FALSE))","v":"Kurt Busch"},null,null,4,41,"Stewart-Haas Racing",835,203,1,25,4,16,3,null,4,"Joe Gibbs Racing",18,673,-107,-10,0,7,7,20]
[5,null,"Team Penske",22,818,220,1,25,7,18,2,20,18,18,18,18,2,{"$f":"IF(ISNA(VLOOKUP(VALUE(D8),'Entry List'!$A$2:$F$87,4,FALSE)),\"Not Entered\", VLOOKUP(VALUE(D8),'Entry List'!$A$3:$F$87,4,FALSE))","v":"Joey Logano"},null,null,5,22,"Team Penske",818,220,1,25,7,18,2,null,5,"Joe Gibbs Racing",11,612,-168,-61,1,2,7,20]
[6,null,"Team Penske",2,785,253,1,25,7,13,5,20,13,13,13,13,5,{"$f":"IF(ISNA(VLOOKUP(VALUE(D9),'Entry List'!$A$2:$F$87,4,FALSE)),\"Not Entered\", VLOOKUP(VALUE(D9),'Entry List'!$A$3:$F$87,4,FALSE))","v":"Brad Keselowski"},null,null,6,2,"Team Penske",785,253,1,25,7,13,5,null,6,"Team Penske",2,601,-179,-11,2,3,13,20]
[7,null,"Chip Ganassi Racing",42,783,255,0,25,8,14,3,20,14,14,14,14,3,{"$f":"IF(ISNA(VLOOKUP(VALUE(D10),'Entry List'!$A$2:$F$87,4,FALSE)),\"Not Entered\", VLOOKUP(VALUE(D10),'Entry List'!$A$3:$F$87,4,FALSE))","v":"Kyle Larson"},null,null,7,42,"Chip Ganassi Racing",783,255,0,25,8,14,3,null,7,"Chip Ganassi Racing",1,599,-181,-2,0,0,0,20]
[8,null,"Stewart-Haas Racing",14,777,261,2,25,6,11,4,20,11,11,11,11,4,{"$f":"IF(ISNA(VLOOKUP(VALUE(D11),'Entry List'!$A$2:$F$87,4,FALSE)),\"Not Entered\", VLOOKUP(VALUE(D11),'Entry List'!$A$3:$F$87,4,FALSE))","v":"Clint Bowyer"},null,null,8,14,"Stewart-Haas Racing",777,261,2,25,6,11,4,null,8,"Hendrick Motorsports",24,588,-192,-11,0,2,2,20]
[9,null,"Team Penske",12,755,283,0,25,5,12,4,20,12,12,12,12,4,{"$f":"IF(ISNA(VLOOKUP(VALUE(D12),'Entry List'!$A$2:$F$87,4,FALSE)),\"Not Entered\", VLOOKUP(VALUE(D12),'Entry List'!$A$3:$F$87,4,FALSE))","v":"Ryan Blaney"},null,null,9,12,"Team Penske",755,283,0,25,5,12,4,null,9,"Joe Gibbs Racing",20,566,-214,-22,0,2,2,20]
[10,null,"Joe Gibbs Racing",11,738,300,0,25,6,13,3,20,13,13,13,13,3,{"$f":"IF(ISNA(VLOOKUP(VALUE(D13),'Entry List'!$A$2:$F$87,4,FALSE)),\"Not Entered\", VLOOKUP(VALUE(D13),'Entry List'!$A$3:$F$87,4,FALSE))","v":"Denny Hamlin"},null,null,10,11,"Joe Gibbs Racing",738,300,0,25,6,13,3,null,10,"Hendrick Motorsports",48,564,-216,-2,3,1,16,20]
[11,null,"Hendrick Motorsports",9,737,301,1,25,8,14,3,20,14,14,14,14,3,{"$f":"IF(ISNA(VLOOKUP(VALUE(D14),'Entry List'!$A$2:$F$87,4,FALSE)),\"Not Entered\", VLOOKUP(VALUE(D14),'Entry List'!$A$3:$F$87,4,FALSE))","v":"Chase Elliott"},null,null,11,9,"Hendrick Motorsports",737,301,1,25,8,14,3,null,11,"Stewart-Haas Racing",14,533,-247,-31,0,0,0,20]
[12,null,"Stewart-Haas Racing",10,681,357,0,25,1,10,2,20,10,10,10,10,2,{"$f":"IF(ISNA(VLOOKUP(VALUE(D15),'Entry List'!$A$2:$F$87,4,FALSE)),\"Not Entered\", VLOOKUP(VALUE(D15),'Entry List'!$A$3:$F$87,4,FALSE))","v":"Aric Almirola"},null,null,12,10,"Stewart-Haas Racing",681,357,0,25,1,10,2,null,12,"Wood Brothers Racing",21,516,-264,-17,1,3,8,20]
[13,null,"Joe Gibbs Racing",20,679,359,1,25,5,13,2,20,{"$f":"VLOOKUP($A16,$U$4:$AD$51,9,FALSE)","v":13},13,13,13,2,{"$f":"IF(ISNA(VLOOKUP(VALUE(D16),'Entry List'!$A$2:$F$87,4,FALSE)),\"Not Entered\", VLOOKUP(VALUE(D16),'Entry List'!$A$3:$F$87,4,FALSE))","v":"Erik Jones"},null,null,13,20,"Joe Gibbs Racing",679,359,1,25,5,13,2,null,13,"Team Penske",22,515,-265,-1,1,1,1,20]
[14,null,"Hendrick Motorsports",48,605,433,0,25,2,8,4,20,8,8,8,8,4,{"$f":"IF(ISNA(VLOOKUP(VALUE(D17),'Entry List'!$A$2:$F$87,4,FALSE)),\"Not Entered\", VLOOKUP(VALUE(D17),'Entry List'!$A$3:$F$87,4,FALSE))","v":"Jimmie Johnson"},null,null,14,48,"Hendrick Motorsports",605,433,0,25,2,8,4,null,14,"Stewart-Haas Racing",41,463,-317,-52,1,0,5,20]
[15,null,"Hendrick Motorsports",88,586,452,0,25,2,9,1,20,9,9,9,9,1,{"$f":"IF(ISNA(VLOOKUP(VALUE(D18),'Entry List'!$A$2:$F$87,4,FALSE)),\"Not Entered\", VLOOKUP(VALUE(D18),'Entry List'!$A$3:$F$87,4,FALSE))","v":"Alex Bowman"},null,null,15,88,"Hendrick Motorsports",586,452,0,25,2,9,1,null,15,"Richard Childress Racing",31,462,-318,-1,1,0,5,20]
[16,null,"Roush Fenway Racing",17,518,520,0,25,2,3,2,20,3,3,3,3,2,{"$f":"IF(ISNA(VLOOKUP(VALUE(D19),'Entry List'!$A$2:$F$87,4,FALSE)),\"Not Entered\", VLOOKUP(VALUE(D19),'Entry List'!$A$3:$F$87,4,FALSE))","v":"Ricky Stenhouse Jr."},null,null,16,17,"Roush Fenway Racing",518,520,0,25,2,3,2,null,16,"Roush Fenway Racing",17,443,-337,-19,2,0,10,20]
[17,null,"Richard Childress Racing",31,503,535,0,25,0,6,3,20,6,6,6,6,3,{"$f":"IF(ISNA(VLOOKUP(VALUE(D20),'Entry List'!$A$2:$F$87,4,FALSE)),\"Not Entered\", VLOOKUP(VALUE(D20),'Entry List'!$A$3:$F$87,4,FALSE))","v":"Ryan Newman"},null,null,17,31,"Richard Childress Racing",503,535,0,25,0,6,3,null,17,"Furniture Row Racing",77,440,-340,-3,0,0,0,20]
[18,null,"Richard Childress Racing",3,496,542,1,25,2,4,2,20,4,4,4,4,2,{"$f":"IF(ISNA(VLOOKUP(VALUE(D21),'Entry List'!$A$2:$F$87,4,FALSE)),\"Not Entered\", VLOOKUP(VALUE(D21),'Entry List'!$A$3:$F$87,4,FALSE))","v":"Austin Dillon"},null,null,18,3,"Richard Childress Racing",496,542,1,25,2,4,2,null,18,"Joe Gibbs Racing",19,434,-346,-6,0,0,0,20]
[19,null,"Wood Brothers Racing",21,493,545,0,25,1,4,4,20,4,4,4,4,4,{"$f":"IF(ISNA(VLOOKUP(VALUE(D22),'Entry List'!$A$2:$F$87,4,FALSE)),\"Not Entered\", VLOOKUP(VALUE(D22),'Entry List'!$A$3:$F$87,4,FALSE))","v":"Paul Menard"},null,null,19,21,"Wood Brothers Racing",493,545,0,25,1,4,4,null,19,"Roush Fenway Racing",6,386,-394,-48,0,0,0,20]
[20,null,"Joe Gibbs Racing",19,487,551,0,25,3,6,2,20,6,6,6,6,2,{"$f":"IF(ISNA(VLOOKUP(VALUE(D23),'Entry List'!$A$2:$F$87,4,FALSE)),\"Not Entered\", VLOOKUP(VALUE(D23),'Entry List'!$A$3:$F$87,4,FALSE))","v":"Daniel Suárez"},null,null,20,19,"Joe Gibbs Racing",487,551,0,25,3,6,2,null,20,"Hendrick Motorsports",5,383,-397,-3,1,0,5,20]
[21,null,"Chip Ganassi Racing",1,464,574,0,25,1,5,4,20,5,5,5,5,4,{"$f":"IF(ISNA(VLOOKUP(VALUE(D24),'Entry List'!$A$2:$F$87,4,FALSE)),\"Not Entered\", VLOOKUP(VALUE(D24),'Entry List'!$A$3:$F$87,4,FALSE))","v":"Jamie McMurray"},null,null,21,1,"Chip Ganassi Racing",464,574,0,25,1,5,4,null,21,"Richard Childress Racing",3,379,-401,-4,1,0,5,20]
[22,null,"Hendrick Motorsports",24,444,594,0,25,0,3,5,20,3,3,3,3,5,{"$f":"IF(ISNA(VLOOKUP(VALUE(D25),'Entry List'!$A$2:$F$87,4,FALSE)),\"Not Entered\", VLOOKUP(VALUE(D25),'Entry List'!$A$3:$F$87,4,FALSE))","v":"William Byron (R)"},null,null,22,24,"Hendrick Motorsports",444,594,0,25,0,3,5,null,22,"Hendrick Motorsports",88,353,-427,-26,0,0,0,20]
[23,null,"JTG Daugherty Racing",37,404,634,0,25,2,2,3,20,{"$f":"VLOOKUP($A26,$U$4:$AD$51,9,FALSE)","v":2},2,2,2,3,{"$f":"IF(ISNA(VLOOKUP(VALUE(D26),'Entry List'!$A$2:$F$87,4,FALSE)),\"Not Entered\", VLOOKUP(VALUE(D26),'Entry List'!$A$3:$F$87,4,FALSE))","v":"Chris Buescher"},null,null,23,37,"JTG Daugherty Racing",404,634,0,25,2,2,3,null,23,"Richard Childress Racing",27,345,-435,-8,0,0,0,20]
[24,null,"JTG Daugherty Racing",47,391,647,0,25,1,3,5,20,3,3,3,3,5,{"$f":"IF(ISNA(VLOOKUP(VALUE(D27),'Entry List'!$A$2:$F$87,4,FALSE)),\"Not Entered\", VLOOKUP(VALUE(D27),'Entry List'!$A$3:$F$87,4,FALSE))","v":"A. J. Allmendinger"},null,null,24,47,"JTG Daugherty Racing",391,647,0,25,1,3,5,null,24,"Germain Racing",13,340,-440,-5,0,0,0,20]
[25,null,"Front Row Motorsports",38,368,670,0,25,0,1,2,20,1,1,1,1,2,{"$f":"IF(ISNA(VLOOKUP(VALUE(D28),'Entry List'!$A$2:$F$87,4,FALSE)),\"Not Entered\", VLOOKUP(VALUE(D28),'Entry List'!$A$3:$F$87,4,FALSE))","v":"David Ragan"},null,null,25,38,"Front Row Motorsports",368,670,0,25,0,1,2,null,25,"Richard Petty Motorsports",43,337,-443,-3,0,0,0,20]
[26,null,"Front Row Motorsports",34,361,677,0,25,0,1,5,20,1,1,1,1,5,{"$f":"IF(ISNA(VLOOKUP(VALUE(D29),'Entry List'!$A$2:$F$87,4,FALSE)),\"Not Entered\", VLOOKUP(VALUE(D29),'Entry List'!$A$3:$F$87,4,FALSE))","v":"Michael McDowell"},null,null,26,34,"Front Row Motorsports",361,677,0,25,0,1,5,null,26,"JTG Daugherty Racing",37,311,-469,-26,0,0,0,20]
[27,null,"Leavine Family Racing",95,358,680,0,25,1,1,3,20,1,1,1,1,3,{"$f":"IF(ISNA(VLOOKUP(VALUE(D30),'Entry List'!$A$2:$F$87,4,FALSE)),\"Not Entered\", VLOOKUP(VALUE(D30),'Entry List'!$A$3:$F$87,4,FALSE))","v":"Regan Smith"},null,null,27,95,"Leavine Family Racing",358,680,0,25,1,1,3,null,27,"Leavine Family Racing",95,305,-475,-6,0,0,0,20]
[28,null,"Richard Petty Motorsports",43,357,681,0,25,1,2,3,20,2,2,2,2,3,{"$f":"IF(ISNA(VLOOKUP(VALUE(D31),'Entry List'!$A$2:$F$87,4,FALSE)),\"Not Entered\", VLOOKUP(VALUE(D31),'Entry List'!$A$3:$F$87,4,FALSE))","v":"Darrell Wallace Jr. (R)"},null,null,28,43,"Richard Petty Motorsports",357,681,0,25,1,2,3,null,28,"JTG Daugherty Racing",47,302,-478,-3,0,0,0,20]
[29,null,"Roush Fenway Racing",6,343,695,0,25,0,0,6,20,0,0,0,0,6,{"$f":"IF(ISNA(VLOOKUP(VALUE(D32),'Entry List'!$A$2:$F$87,4,FALSE)),\"Not Entered\", VLOOKUP(VALUE(D32),'Entry List'!$A$3:$F$87,4,FALSE))","v":"Matt Kenseth"},null,null,29,6,"Roush Fenway Racing",343,695,0,25,0,0,6,null,29,"Stewart-Haas Racing",10,280,-500,-22,0,0,0,20]
[30,null,"Germain Racing",13,326,712,0,25,0,1,3,20,1,1,1,1,3,{"$f":"IF(ISNA(VLOOKUP(VALUE(D33),'Entry List'!$A$2:$F$87,4,FALSE)),\"Not Entered\", VLOOKUP(VALUE(D33),'Entry List'!$A$3:$F$87,4,FALSE))","v":"Ty Dillon"},null,null,30,13,"Germain Racing",326,712,0,25,0,1,3,null,30,"Front Row Motorsports",38,251,-529,-29,0,0,0,20]
[31,null,"Go FAS Racing",32,267,771,0,25,0,1,5,20,1,1,1,1,5,{"$f":"IF(ISNA(VLOOKUP(VALUE(D34),'Entry List'!$A$2:$F$87,4,FALSE)),\"Not Entered\", VLOOKUP(VALUE(D34),'Entry List'!$A$3:$F$87,4,FALSE))","v":"Matt DiBenedetto"},null,null,31,32,"Go FAS Racing",267,771,0,25,0,1,5,null,31,"GO FAS Racing",32,232,-548,-19,0,0,0,20]
[32,null,"Premium Motorsports",15,219,819,0,25,0,0,5,20,0,0,0,0,5,{"$f":"IF(ISNA(VLOOKUP(VALUE(D35),'Entry List'!$A$2:$F$87,4,FALSE)),\"Not Entered\", VLOOKUP(VALUE(D35),'Entry List'!$A$3:$F$87,4,FALSE))","v":"Ross Chastain (i)"},null,null,32,15,"Premium Motorsports",219,819,0,25,0,0,5,null,32,"Front Row Motorsports",34,218,-562,-14,0,0,0,20]
[33,null,"TriStar Motorsports",72,179,859,0,25,0,0,8,20,{"$f":"VLOOKUP($A36,$U$4:$AD$51,9,FALSE)","v":0},0,0,0,8,{"$f":"IF(ISNA(VLOOKUP(VALUE(D36),'Entry List'!$A$2:$F$87,4,FALSE)),\"Not Entered\", VLOOKUP(VALUE(D36),'Entry List'!$A$3:$F$87,4,FALSE))","v":"Corey LaJoie"},null,null,33,72,"TriStar Motorsports",179,859,0,25,0,0,8,null,33,"TriStar Motorsports",72,213,-567,-5,0,0,0,20]
[34,null,"StarCom Racing","00",172,866,0,25,0,0,4,20,0,0,0,0,4,{"$f":"IF(ISNA(VLOOKUP(VALUE(D37),'Entry List'!$A$2:$F$87,4,FALSE)),\"Not Entered\", VLOOKUP(VALUE(D37),'Entry List'!$A$3:$F$87,4,FALSE))","v":"Landon Cassill (i)"},null,null,34,"00","StarCom Racing",172,866,0,25,0,0,4,null,34,"Premium Motorsports",15,162,-618,-51,0,0,0,20]
[35,null,"BK Racing",23,166,872,0,25,0,0,4,20,0,0,0,0,4,{"$f":"IF(ISNA(VLOOKUP(D38,'Entry List'!$A$2:$F$87,4,FALSE)),\"Not Entered\", VLOOKUP(D38,'Entry List'!$A$3:$F$87,4,FALSE))","v":"J. J. Yeley (i)"},null,null,35,23,"BK Racing",166,872,0,25,0,0,4,null,35,"BK Racing",23,139,-641,-23,0,0,0,20]
[36,null,"Rick Ware Racing",51,142,896,0,25,0,0,6,18,0,0,0,0,6,{"$f":"IF(ISNA(VLOOKUP(VALUE(D39),'Entry List'!$A$2:$F$87,4,FALSE)),\"Not Entered\", VLOOKUP(VALUE(D39),'Entry List'!$A$3:$F$87,4,FALSE))","v":"David Starr (i)"},null,null,36,51,"Rick Ware Racing",142,896,0,25,0,0,6,null,36,"BK Racing",83,125,-655,-14,0,0,0,18]
[37,null,"Gaunt Brothers Racing",96,130,908,0,13,0,0,2,20,0,0,0,0,2,{"$f":"IF(ISNA(VLOOKUP(VALUE(D40),'Entry List'!$A$2:$F$87,4,FALSE)),\"Not Entered\", VLOOKUP(VALUE(D40),'Entry List'!$A$3:$F$87,4,FALSE))","v":"Jeffrey Earnhardt"},null,null,37,96,"Gaunt Brothers Racing",130,908,0,13,0,0,2,null,37,"Circle Sport / TMG",33,97,-683,-28,0,0,0,20]
[38,null,"Premium Motorsports",107,105,933,0,18,0,0,5,6,0,0,0,0,5,{"$f":"IF(ISNA(VLOOKUP(VALUE(D41),'Entry List'!$A$2:$F$87,4,FALSE)),\"Not Entered\", VLOOKUP(VALUE(D41),'Entry List'!$A$3:$F$87,4,FALSE))","v":"Not Entered"},null,null,38,107,"Premium Motorsports",105,933,0,18,0,0,5,null,38,"Tommy Baldwin Racing",7,75,-705,-22,0,0,0,6]
[39,null,"Beard Motorsports",162,49,989,0,3,0,0,1,3,0,0,0,0,1,{"$f":"IF(ISNA(VLOOKUP(VALUE(D42),'Entry List'!$A$2:$F$87,4,FALSE)),\"Not Entered\", VLOOKUP(VALUE(D42),'Entry List'!$A$3:$F$87,4,FALSE))","v":"Not Entered"},null,null,39,162,"Beard Motorsports",49,989,0,3,0,0,1,null,39,"Beard Motorsports",175,67,-713,-8,0,0,0,3]
[40,null,"StarCom Racing",199,44,994,0,11,0,0,3,16,0,0,0,0,3,{"$f":"IF(ISNA(VLOOKUP(VALUE(D43),'Entry List'!$A$2:$F$87,4,FALSE)),\"Not Entered\", VLOOKUP(VALUE(D43),'Entry List'!$A$3:$F$87,4,FALSE))","v":"Not Entered"},null,null,40,199,"StarCom Racing",44,994,0,11,0,0,3,null,40,"Premium Motorsports",55,54,-726,-13,0,0,0,16]
[41,null,"RBR Enterprises",92,37,1001,0,2,0,0,0,17,0,0,0,0,0,{"$f":"IF(ISNA(VLOOKUP(VALUE(D44),'Entry List'!$A$2:$F$87,4,FALSE)),\"Not Entered\", VLOOKUP(VALUE(D44),'Entry List'!$A$3:$F$87,4,FALSE))","v":"Not Entered"},null,null,41,92,"RBR Enterprises",37,1001,0,2,0,0,0,null,41,"Rick Ware Racing",51,50,-730,-4,0,0,0,17]
[42,null,"Motorsports Business Management",66,32,1006,0,10,0,0,4,4,0,0,0,0,4,{"$f":"IF(ISNA(VLOOKUP(VALUE(D45),'Entry List'!$A$2:$F$87,4,FALSE)),\"Not Entered\", VLOOKUP(VALUE(D45),'Entry List'!$A$3:$F$87,4,FALSE))","v":"Timmy Hill (i)"},null,null,42,66,"Motorsports Business Management",32,1006,0,10,0,0,4,null,42,"Horace Long",266,44,-736,-6,0,0,0,4]
[43,null,"Phoenix Air Racing",166,15,1023,0,1,0,0,0,2,0,0,0,0,0,{"$f":"IF(ISNA(VLOOKUP(VALUE(D46),'Entry List'!$A$2:$F$87,4,FALSE)),\"Not Entered\", VLOOKUP(VALUE(D46),'Entry List'!$A$3:$F$87,4,FALSE))","v":"Not Entered"},null,null,43,166,"Phoenix Air Racing",15,1023,0,1,0,0,0,null,43,"Gaunt Brothers Racing",96,1,-779,-43,0,0,0,2]
[44,null,"Rick Ware Racing",52,7,1031,0,2,0,0,1,{"$error":"#N/A"},0,0,0,0,1,{"$f":"IF(ISNA(VLOOKUP(VALUE(D47),'Entry List'!$A$2:$F$87,4,FALSE)),\"Not Entered\", VLOOKUP(VALUE(D47),'Entry List'!$A$3:$F$87,4,FALSE))","v":"B. J. McLeod (i)"},null,null,44,52,"Rick Ware Racing",7,1031,0,2,0,0,1]
[45,null,"Richard Childress Racing",8,5,1033,0,1,0,0,0,{"$error":"#N/A"},0,0,0,0,0,{"$f":"IF(ISNA(VLOOKUP(VALUE(D48),'Entry List'!$A$2:$F$87,4,FALSE)),\"Not Entered\", VLOOKUP(VALUE(D48),'Entry List'!$A$3:$F$87,4,FALSE))","v":"Not Entered"},null,null,45,8,"Richard Childress Racing",5,1033,0,1,0,0,0]
[46,null,"NY Racing Team",7,1,1037,0,1,0,0,1,{"$error":"#N/A"},0,0,0,0,1,{"$f":"IF(ISNA(VLOOKUP(VALUE(D49),'Entry List'!$A$2:$F$87,4,FALSE)),\"Not Entered\", VLOOKUP(VALUE(D49),'Entry List'!$A$3:$F$87,4,FALSE))","v":"Reed Sorenson"},null,null,46,7,"NY Racing Team",1,1037,0,1,0,0,1]
[]
[]
[]
[]
[]
[]
[]
[]
[]
[]
[]
[]
[]
[]
[]
[]
[]
[]
[]
[]
[]
["00",{"$f":"IF(ISNA(MATCH(A71,'Current Owner Standings'!$D$4:$D$70,0)),99,MATCH(A71,'Current Owner Standings'!$D$4:$D$70,0))","v":34},null,{"$f":"IF(ISNA(MATCH(\"#\"&C71,'Current Owner Standings'!$C$2:$C$170,0)),99,MATCH(\"#\"&C71,'Current Owner Standings'!$C$2:$C$170,0))","v":99}]
["01",{"$f":"IF(ISNA(MATCH(A72,'Current Owner Standings'!$D$4:$D$70,0)),99,MATCH(A72,'Current Owner Standings'!$D$4:$D$70,0))","v":99}]
["02",{"$f":"IF(ISNA(MATCH(A73,'Current Owner Standings'!$D$4:$D$70,0)),99,MATCH(A73,'Current Owner Standings'!$D$4:$D$70,0))","v":99}]
["03",{"$f":"IF(ISNA(MATCH(A74,'Current Owner Standings'!$D$4:$D$70,0)),99,MATCH(A74,'Current Owner Standings'!$D$4:$D$70,0))","v":99}]
["04",{"$f":"IF(ISNA(MATCH(A75,'Current Owner Standings'!$D$4:$D$70,0)),99,MATCH(A75,'Current Owner Standings'!$D$4:$D$70,0))","v":99}]
["05",{"$f":"IF(ISNA(MATCH(A76,'Current Owner Standings'!$D$4:$D$70,0)),99,MATCH(A76,'Current Owner Standings'!$D$4:$D$70,0))","v":99}]
["06",{"$f":"IF(ISNA(MATCH(A77,'Current Owner Standings'!$D$4:$D$70,0)),99,MATCH(A77,'Current Owner Standings'!$D$4:$D$70,0))","v":99}]
["07",{"$f":"IF(ISNA(MATCH(A78,'Current Owner Standings'!$D$4:$D$70,0)),99,MATCH(A78,'Current Owner Standings'!$D$4:$D$70,0))","v":99}]
["08",{"$f":"IF(ISNA(MATCH(A79,'Current Owner Standings'!$D$4:$D$70,0)),99,MATCH(A79,'Current Owner Standings'!$D$4:$D$70,0))","v":99}]
["09",{"$f":"IF(ISNA(MATCH(A80,'Current Owner Standings'!$D$4:$D$70,0)),99,MATCH(A80,'Current Owner Standings'!$D$4:$D$70,0))","v":99}]
[1,{"$f":"IF(ISNA(MATCH(A81,'Current Owner Standings'!$D$4:$D$70,0)),99,MATCH(A81,'Current Owner Standings'!$D$4:$D$70,0))","v":21}]
[2,{"$f":"IF(ISNA(MATCH(A82,'Current Owner Standings'!$D$4:$D$70,0)),99,MATCH(A82,'Current Owner Standings'!$D$4:$D$70,0))","v":6}]
[3,{"$f":"IF(ISNA(MATCH(A83,'Current Owner Standings'!$D$4:$D$70,0)),99,MATCH(A83,'Current Owner Standings'!$D$4:$D$70,0))","v":18}]
[4,{"$f":"IF(ISNA(MATCH(A84,'Current Owner Standings'!$D$4:$D$70,0)),99,MATCH(A84,'Current Owner Standings'!$D$4:$D$70,0))","v":2}]
[5,{"$f":"IF(ISNA(MATCH(A85,'Current Owner Standings'!$D$4:$D$70,0)),99,MATCH(A85,'Current Owner Standings'!$D$4:$D$70,0))","v":99}]
[6,{"$f":"IF(ISNA(MATCH(A86,'Current Owner Standings'!$D$4:$D$70,0)),99,MATCH(A86,'Current Owner Standings'!$D$4:$D$70,0))","v":29}]
[7,{"$f":"IF(ISNA(MATCH(A87,'Current Owner Standings'!$D$4:$D$70,0)),99,MATCH(A87,'Current Owner Standings'!$D$4:$D$70,0))","v":46}]
[8,{"$f":"IF(ISNA(MATCH(A88,'Current Owner Standings'!$D$4:$D$70,0)),99,MATCH(A88,'Current Owner Standings'!$D$4:$D$70,0))","v":45}]
[9,{"$f":"IF(ISNA(MATCH(A89,'Current Owner Standings'!$D$4:$D$70,0)),99,MATCH(A89,'Current Owner Standings'!$D$4:$D$70,0))","v":11}]
[10,{"$f":"IF(ISNA(MATCH(A90,'Current Owner Standings'!$D$4:$D$70,0)),99,MATCH(A90,'Current Owner Standings'!$D$4:$D$70,0))","v":12}]
[11,{"$f":"IF(ISNA(MATCH(A91,'Current Owner Standings'!$D$4:$D$70,0)),99,MATCH(A91,'Current Owner Standings'!$D$4:$D$70,0))","v":10}]
[12,{"$f":"IF(ISNA(MATCH(A92,'Current Owner Standings'!$D$4:$D$70,0)),99,MATCH(A92,'Current Owner Standings'!$D$4:$D$70,0))","v":9}]
[13,{"$f":"IF(ISNA(MATCH(A93,'Current Owner Standings'!$D$4:$D$70,0)),99,MATCH(A93,'Current Owner Standings'!$D$4:$D$70,0))","v":30}]
[14,{"$f":"IF(ISNA(MATCH(A94,'Current Owner Standings'!$D$4:$D$70,0)),99,MATCH(A94,'Current Owner Standings'!$D$4:$D$70,0))","v":8}]
[15,{"$f":"IF(ISNA(MATCH(A95,'Current Owner Standings'!$D$4:$D$70,0)),99,MATCH(A95,'Current Owner Standings'!$D$4:$D$70,0))","v":32}]
[16,{"$f":"IF(ISNA(MATCH(A96,'Current Owner Standings'!$D$4:$D$70,0)),99,MATCH(A96,'Current Owner Standings'!$D$4:$D$70,0))","v":99}]
[17,{"$f":"IF(ISNA(MATCH(A97,'Current Owner Standings'!$D$4:$D$70,0)),99,MATCH(A97,'Current Owner Standings'!$D$4:$D$70,0))","v":16}]
[18,{"$f":"IF(ISNA(MATCH(A98,'Current Owner Standings'!$D$4:$D$70,0)),99,MATCH(A98,'Current Owner Standings'!$D$4:$D$70,0))","v":1}]
[19,{"$f":"IF(ISNA(MATCH(A99,'Current Owner Standings'!$D$4:$D$70,0)),99,MATCH(A99,'Current Owner Standings'!$D$4:$D$70,0))","v":20}]
[20,{"$f":"IF(ISNA(MATCH(A100,'Current Owner Standings'!$D$4:$D$70,0)),99,MATCH(A100,'Current Owner Standings'!$D$4:$D$70,0))","v":13}]
[21,{"$f":"IF(ISNA(MATCH(A101,'Current Owner Standings'!$D$4:$D$70,0)),99,MATCH(A101,'Current Owner Standings'!$D$4:$D$70,0))","v":19}]
[22,{"$f":"IF(ISNA(MATCH(A102,'Current Owner Standings'!$D$4:$D$70,0)),99,MATCH(A102,'Current Owner Standings'!$D$4:$D$70,0))","v":5}]
[23,{"$f":"IF(ISNA(MATCH(A103,'Current Owner Standings'!$D$4:$D$70,0)),99,MATCH(A103,'Current Owner Standings'!$D$4:$D$70,0))","v":35}]
[24,{"$f":"IF(ISNA(MATCH(A104,'Current Owner Standings'!$D$4:$D$70,0)),99,MATCH(A104,'Current Owner Standings'!$D$4:$D$70,0))","v":22}]
[25,{"$f":"IF(ISNA(MATCH(A105,'Current Owner Standings'!$D$4:$D$70,0)),99,MATCH(A105,'Current Owner Standings'!$D$4:$D$70,0))","v":99}]
[26,{"$f":"IF(ISNA(MATCH(A106,'Current Owner Standings'!$D$4:$D$70,0)),99,MATCH(A106,'Current Owner Standings'!$D$4:$D$70,0))","v":99}]
[27,{"$f":"IF(ISNA(MATCH(A107,'Current Owner Standings'!$D$4:$D$70,0)),99,MATCH(A107,'Current Owner Standings'!$D$4:$D$70,0))","v":99}]
[28,{"$f":"IF(ISNA(MATCH(A108,'Current Owner Standings'!$D$4:$D$70,0)),99,MATCH(A108,'Current Owner Standings'!$D$4:$D$70,0))","v":99}]
[29,{"$f":"IF(ISNA(MATCH(A109,'Current Owner Standings'!$D$4:$D$70,0)),99,MATCH(A109,'Current Owner Standings'!$D$4:$D$70,0))","v":99}]
[30,{"$f":"IF(ISNA(MATCH(A110,'Current Owner Standings'!$D$4:$D$70,0)),99,MATCH(A110,'Current Owner Standings'!$D$4:$D$70,0))","v":99}]
[31,{"$f":"IF(ISNA(MATCH(A111,'Current Owner Standings'!$D$4:$D$70,0)),99,MATCH(A111,'Current Owner Standings'!$D$4:$D$70,0))","v":17}]
[32,{"$f":"IF(ISNA(MATCH(A112,'Current Owner Standings'!$D$4:$D$70,0)),99,MATCH(A112,'Current Owner Standings'!$D$4:$D$70,0))","v":31}]
[33,{"$f":"IF(ISNA(MATCH(A113,'Current Owner Standings'!$D$4:$D$70,0)),99,MATCH(A113,'Current Owner Standings'!$D$4:$D$70,0))","v":99}]
[34,{"$f":"IF(ISNA(MATCH(A114,'Current Owner Standings'!$D$4:$D$70,0)),99,MATCH(A114,'Current Owner Standings'!$D$4:$D$70,0))","v":26}]
[35,{"$f":"IF(ISNA(MATCH(A115,'Current Owner Standings'!$D$4:$D$70,0)),99,MATCH(A115,'Current Owner Standings'!$D$4:$D$70,0))","v":99}]
[36,{"$f":"IF(ISNA(MATCH(A116,'Current Owner Standings'!$D$4:$D$70,0)),99,MATCH(A116,'Current Owner Standings'!$D$4:$D$70,0))","v":99}]
[37,{"$f":"IF(ISNA(MATCH(A117,'Current Owner Standings'!$D$4:$D$70,0)),99,MATCH(A117,'Current Owner Standings'!$D$4:$D$70,0))","v":23}]
[38,{"$f":"IF(ISNA(MATCH(A118,'Current Owner Standings'!$D$4:$D$70,0)),99,MATCH(A118,'Current Owner Standings'!$D$4:$D$70,0))","v":25}]
[39,{"$f":"IF(ISNA(MATCH(A119,'Current Owner Standings'!$D$4:$D$70,0)),99,MATCH(A119,'Current Owner Standings'!$D$4:$D$70,0))","v":99}]
[40,{"$f":"IF(ISNA(MATCH(A120,'Current Owner Standings'!$D$4:$D$70,0)),99,MATCH(A120,'Current Owner Standings'!$D$4:$D$70,0))","v":99}]
[41,{"$f":"IF(ISNA(MATCH(A121,'Current Owner Standings'!$D$4:$D$70,0)),99,MATCH(A121,'Current Owner Standings'!$D$4:$D$70,0))","v":4}]
[42,{"$f":"IF(ISNA(MATCH(A122,'Current Owner Standings'!$D$4:$D$70,0)),99,MATCH(A122,'Current Owner Standings'!$D$4:$D$70,0))","v":7}]
[43,{"$f":"IF(ISNA(MATCH(A123,'Current Owner Standings'!$D$4:$D$70,0)),99,MATCH(A123,'Current Owner Standings'!$D$4:$D$70,0))","v":28}]
[44,{"$f":"IF(ISNA(MATCH(A124,'Current Owner Standings'!$D$4:$D$70,0)),99,MATCH(A124,'Current Owner Standings'!$D$4:$D$70,0))","v":99}]
[45,{"$f":"IF(ISNA(MATCH(A125,'Current Owner Standings'!$D$4:$D$70,0)),99,MATCH(A125,'Current Owner Standings'!$D$4:$D$70,0))","v":99}]
[46,{"$f":"IF(ISNA(MATCH(A126,'Current Owner Standings'!$D$4:$D$70,0)),99,MATCH(A126,'Current Owner Standings'!$D$4:$D$70,0))","v":99}]
[47,{"$f":"IF(ISNA(MATCH(A127,'Current Owner Standings'!$D$4:$D$70,0)),99,MATCH(A127,'Current Owner Standings'!$D$4:$D$70,0))","v":24}]
[48,{"$f":"IF(ISNA(MATCH(A128,'Current Owner Standings'!$D$4:$D$70,0)),99,MATCH(A128,'Current Owner Standings'!$D$4:$D$70,0))","v":14}]
[49,{"$f":"IF(ISNA(MATCH(A129,'Current Owner Standings'!$D$4:$D$70,0)),99,MATCH(A129,'Current Owner Standings'!$D$4:$D$70,0))","v":99}]
[50,{"$f":"IF(ISNA(MATCH(A130,'Current Owner Standings'!$D$4:$D$70,0)),99,MATCH(A130,'Current Owner Standings'!$D$4:$D$70,0))","v":99}]
[51,{"$f":"IF(ISNA(MATCH(A131,'Current Owner Standings'!$D$4:$D$70,0)),99,MATCH(A131,'Current Owner Standings'!$D$4:$D$70,0))","v":36}]
[52,{"$f":"IF(ISNA(MATCH(A132,'Current Owner Standings'!$D$4:$D$70,0)),99,MATCH(A132,'Current Owner Standings'!$D$4:$D$70,0))","v":44}]
[53,{"$f":"IF(ISNA(MATCH(A133,'Current Owner Standings'!$D$4:$D$70,0)),99,MATCH(A133,'Current Owner Standings'!$D$4:$D$70,0))","v":99}]
[54,{"$f":"IF(ISNA(MATCH(A134,'Current Owner Standings'!$D$4:$D$70,0)),99,MATCH(A134,'Current Owner Standings'!$D$4:$D$70,0))","v":99}]
[55,{"$f":"IF(ISNA(MATCH(A135,'Current Owner Standings'!$D$4:$D$70,0)),99,MATCH(A135,'Current Owner Standings'!$D$4:$D$70,0))","v":99}]
[56,{"$f":"IF(ISNA(MATCH(A136,'Current Owner Standings'!$D$4:$D$70,0)),99,MATCH(A136,'Current Owner Standings'!$D$4:$D$70,0))","v":99}]
[57,{"$f":"IF(ISNA(MATCH(A137,'Current Owner Standings'!$D$4:$D$70,0)),99,MATCH(A137,'Current Owner Standings'!$D$4:$D$70,0))","v":99}]
[58,{"$f":"IF(ISNA(MATCH(A138,'Current Owner Standings'!$D$4:$D$70,0)),99,MATCH(A138,'Current Owner Standings'!$D$4:$D$70,0))","v":99}]
[59,{"$f":"IF(ISNA(MATCH(A139,'Current Owner Standings'!$D$4:$D$70,0)),99,MATCH(A139,'Current Owner Standings'!$D$4:$D$70,0))","v":99}]
[60,{"$f":"IF(ISNA(MATCH(A140,'Current Owner Standings'!$D$4:$D$70,0)),99,MATCH(A140,'Current Owner Standings'!$D$4:$D$70,0))","v":99}]
[61,{"$f":"IF(ISNA(MATCH(A141,'Current Owner Standings'!$D$4:$D$70,0)),99,MATCH(A141,'Current Owner Standings'!$D$4:$D$70,0))","v":99}]
[62,{"$f":"IF(ISNA(MATCH(A142,'Current Owner Standings'!$D$4:$D$70,0)),99,MATCH(A142,'Current Owner Standings'!$D$4:$D$70,0))","v":99}]
[63,{"$f":"IF(ISNA(MATCH(A143,'Current Owner Standings'!$D$4:$D$70,0)),99,MATCH(A143,'Current Owner Standings'!$D$4:$D$70,0))","v":99}]
[64,{"$f":"IF(ISNA(MATCH(A144,'Current Owner Standings'!$D$4:$D$70,0)),99,MATCH(A144,'Current Owner Standings'!$D$4:$D$70,0))","v":99}]
[65,{"$f":"IF(ISNA(MATCH(A145,'Current Owner Standings'!$D$4:$D$70,0)),99,MATCH(A145,'Current Owner Standings'!$D$4:$D$70,0))","v":99}]
[66,{"$f":"IF(ISNA(MATCH(A146,'Current Owner Standings'!$D$4:$D$70,0)),99,MATCH(A146,'Current Owner Standings'!$D$4:$D$70,0))","v":42}]
[67,{"$f":"IF(ISNA(MATCH(A147,'Current Owner Standings'!$D$4:$D$70,0)),99,MATCH(A147,'Current Owner Standings'!$D$4:$D$70,0))","v":99}]
[68,{"$f":"IF(ISNA(MATCH(A148,'Current Owner Standings'!$D$4:$D$70,0)),99,MATCH(A148,'Current Owner Standings'!$D$4:$D$70,0))","v":99}]
[69,{"$f":"IF(ISNA(MATCH(A149,'Current Owner Standings'!$D$4:$D$70,0)),99,MATCH(A149,'Current Owner Standings'!$D$4:$D$70,0))","v":99}]
[70,{"$f":"IF(ISNA(MATCH(A150,'Current Owner Standings'!$D$4:$D$70,0)),99,MATCH(A150,'Current Owner Standings'!$D$4:$D$70,0))","v":99}]
[71,{"$f":"IF(ISNA(MATCH(A151,'Current Owner Standings'!$D$4:$D$70,0)),99,MATCH(A151,'Current Owner Standings'!$D$4:$D$70,0))","v":99}]
[72,{"$f":"IF(ISNA(MATCH(A152,'Current Owner Standings'!$D$4:$D$70,0)),99,MATCH(A152,'Current Owner Standings'!$D$4:$D$70,0))","v":33}]
[73,{"$f":"IF(ISNA(MATCH(A153,'Current Owner Standings'!$D$4:$D$70,0)),99,MATCH(A153,'Current Owner Standings'!$D$4:$D$70,0))","v":99}]
[74,{"$f":"IF(ISNA(MATCH(A154,'Current Owner Standings'!$D$4:$D$70,0)),99,MATCH(A154,'Current Owner Standings'!$D$4:$D$70,0))","v":99}]
[75,{"$f":"IF(ISNA(MATCH(A155,'Current Owner Standings'!$D$4:$D$70,0)),99,MATCH(A155,'Current Owner Standings'!$D$4:$D$70,0))","v":99}]
[76,{"$f":"IF(ISNA(MATCH(A156,'Current Owner Standings'!$D$4:$D$70,0)),99,MATCH(A156,'Current Owner Standings'!$D$4:$D$70,0))","v":99}]
[77,{"$f":"IF(ISNA(MATCH(A157,'Current Owner Standings'!$D$4:$D$70,0)),99,MATCH(A157,'Current Owner Standings'!$D$4:$D$70,0))","v":99}]
[78,{"$f":"IF(ISNA(MATCH(A158,'Current Owner Standings'!$D$4:$D$70,0)),99,MATCH(A158,'Current Owner Standings'!$D$4:$D$70,0))","v":3}]
[79,{"$f":"IF(ISNA(MATCH(A159,'Current Owner Standings'!$D$4:$D$70,0)),99,MATCH(A159,'Current Owner Standings'!$D$4:$D$70,0))","v":99}]
[80,{"$f":"IF(ISNA(MATCH(A160,'Current Owner Standings'!$D$4:$D$70,0)),99,MATCH(A160,'Current Owner Standings'!$D$4:$D$70,0))","v":99}]
[81,{"$f":"IF(ISNA(MATCH(A161,'Current Owner Standings'!$D$4:$D$70,0)),99,MATCH(A161,'Current Owner Standings'!$D$4:$D$70,0))","v":99}]
[82,{"$f":"IF(ISNA(MATCH(A162,'Current Owner Standings'!$D$4:$D$70,0)),99,MATCH(A162,'Current Owner Standings'!$D$4:$D$70,0))","v":99}]
[83,{"$f":"IF(ISNA(MATCH(A163,'Current Owner Standings'!$D$4:$D$70,0)),99,MATCH(A163,'Current Owner Standings'!$D$4:$D$70,0))","v":99}]
[84,{"$f":"IF(ISNA(MATCH(A164,'Current Owner Standings'!$D$4:$D$70,0)),99,MATCH(A164,'Current Owner Standings'!$D$4:$D$70,0))","v":99}]
[85,{"$f":"IF(ISNA(MATCH(A165,'Current Owner Standings'!$D$4:$D$70,0)),99,MATCH(A165,'Current Owner Standings'!$D$4:$D$70,0))","v":99}]
[86,{"$f":"IF(ISNA(MATCH(A166,'Current Owner Standings'!$D$4:$D$70,0)),99,MATCH(A166,'Current Owner Standings'!$D$4:$D$70,0))","v":99}]
[87,{"$f":"IF(ISNA(MATCH(A167,'Current Owner Standings'!$D$4:$D$70,0)),99,MATCH(A167,'Current Owner Standings'!$D$4:$D$70,0))","v":99}]
[88,{"$f":"IF(ISNA(MATCH(A168,'Current Owner Standings'!$D$4:$D$70,0)),99,MATCH(A168,'Current Owner Standings'!$D$4:$D$70,0))","v":15}]
[89,{"$f":"IF(ISNA(MATCH(A169,'Current Owner Standings'!$D$4:$D$70,0)),99,MATCH(A169,'Current Owner Standings'!$D$4:$D$70,0))","v":99}]
[90,{"$f":"IF(ISNA(MATCH(A170,'Current Owner Standings'!$D$4:$D$70,0)),99,MATCH(A170,'Current Owner Standings'!$D$4:$D$70,0))","v":99}]
[91,{"$f":"IF(ISNA(MATCH(A171,'Current Owner Standings'!$D$4:$D$70,0)),99,MATCH(A171,'Current Owner Standings'!$D$4:$D$70,0))","v":99}]
[92,{"$f":"IF(ISNA(MATCH(A172,'Current Owner Standings'!$D$4:$D$70,0)),99,MATCH(A172,'Current Owner Standings'!$D$4:$D$70,0))","v":41}]
[93,{"$f":"IF(ISNA(MATCH(A173,'Current Owner Standings'!$D$4:$D$70,0)),99,MATCH(A173,'Current Owner Standings'!$D$4:$D$70,0))","v":99}]
[94,{"$f":"IF(ISNA(MATCH(A174,'Current Owner Standings'!$D$4:$D$70,0)),99,MATCH(A174,'Current Owner Standings'!$D$4:$D$70,0))","v":99}]
[95,{"$f":"IF(ISNA(MATCH(A175,'Current Owner Standings'!$D$4:$D$70,0)),99,MATCH(A175,'Current Owner Standings'!$D$4:$D$70,0))","v":27}]
[96,{"$f":"IF(ISNA(MATCH(A176,'Current Owner Standings'!$D$4:$D$70,0)),99,MATCH(A176,'Current Owner Standings'!$D$4:$D$70,0))","v":37}]
[97,{"$f":"IF(ISNA(MATCH(A177,'Current Owner Standings'!$D$4:$D$70,0)),99,MATCH(A177,'Current Owner Standings'!$D$4:$D$70,0))","v":99}]
[98,{"$f":"IF(ISNA(MATCH(A178,'Current Owner Standings'!$D$4:$D$70,0)),99,MATCH(A178,'Current Owner Standings'!$D$4:$D$70,0))","v":99}]
[99,{"$f":"IF(ISNA(MATCH(A179,'Current Owner Standings'!$D$4:$D$70,0)),99,MATCH(A179,'Current Owner Standings'!$D$4:$D$70,0))","v":99}]
[100,{"$f":"IF(ISNA(MATCH(A180,'Current Owner Standings'!$D$4:$D$70,0)),99,MATCH(A180,'Current Owner Standings'!$D$4:$D$70,0))","v":99}]
[101,{"$f":"IF(ISNA(MATCH(A181,'Current Owner Standings'!$D$4:$D$70,0)),99,MATCH(A181,'Current Owner Standings'!$D$4:$D$70,0))","v":99}]
[102,{"$f":"IF(ISNA(MATCH(A182,'Current Owner Standings'!$D$4:$D$70,0)),99,MATCH(A182,'Current Owner Standings'!$D$4:$D$70,0))","v":99}]
[103,{"$f":"IF(ISNA(MATCH(A183,'Current Owner Standings'!$D$4:$D$70,0)),99,MATCH(A183,'Current Owner Standings'!$D$4:$D$70,0))","v":99}]
[104,{"$f":"IF(ISNA(MATCH(A184,'Current Owner Standings'!$D$4:$D$70,0)),99,MATCH(A184,'Current Owner Standings'!$D$4:$D$70,0))","v":99}]
[105,{"$f":"IF(ISNA(MATCH(A185,'Current Owner Standings'!$D$4:$D$70,0)),99,MATCH(A185,'Current Owner Standings'!$D$4:$D$70,0))","v":99}]
[106,{"$f":"IF(ISNA(MATCH(A186,'Current Owner Standings'!$D$4:$D$70,0)),99,MATCH(A186,'Current Owner Standings'!$D$4:$D$70,0))","v":99}]
[107,{"$f":"IF(ISNA(MATCH(A187,'Current Owner Standings'!$D$4:$D$70,0)),99,MATCH(A187,'Current Owner Standings'!$D$4:$D$70,0))","v":38}]
[108,{"$f":"IF(ISNA(MATCH(A188,'Current Owner Standings'!$D$4:$D$70,0)),99,MATCH(A188,'Current Owner Standings'!$D$4:$D$70,0))","v":99}]
[109,{"$f":"IF(ISNA(MATCH(A189,'Current Owner Standings'!$D$4:$D$70,0)),99,MATCH(A189,'Current Owner Standings'!$D$4:$D$70,0))","v":99}]
[110,{"$f":"IF(ISNA(MATCH(A190,'Current Owner Standings'!$D$4:$D$70,0)),99,MATCH(A190,'Current Owner Standings'!$D$4:$D$70,0))","v":99}]
[111,{"$f":"IF(ISNA(MATCH(A191,'Current Owner Standings'!$D$4:$D$70,0)),99,MATCH(A191,'Current Owner Standings'!$D$4:$D$70,0))","v":99}]
[112,{"$f":"IF(ISNA(MATCH(A192,'Current Owner Standings'!$D$4:$D$70,0)),99,MATCH(A192,'Current Owner Standings'!$D$4:$D$70,0))","v":99}]
[113,{"$f":"IF(ISNA(MATCH(A193,'Current Owner Standings'!$D$4:$D$70,0)),99,MATCH(A193,'Current Owner Standings'!$D$4:$D$70,0))","v":99}]
[114,{"$f":"IF(ISNA(MATCH(A194,'Current Owner Standings'!$D$4:$D$70,0)),99,MATCH(A194,'Current Owner Standings'!$D$4:$D$70,0))","v":99}]
[115,{"$f":"IF(ISNA(MATCH(A195,'Current Owner Standings'!$D$4:$D$70,0)),99,MATCH(A195,'Current Owner Standings'!$D$4:$D$70,0))","v":99}]
[116,{"$f":"IF(ISNA(MATCH(A196,'Current Owner Standings'!$D$4:$D$70,0)),99,MATCH(A196,'Current Owner Standings'!$D$4:$D$70,0))","v":99}]
[117,{"$f":"IF(ISNA(MATCH(A197,'Current Owner Standings'!$D$4:$D$70,0)),99,MATCH(A197,'Current Owner Standings'!$D$4:$D$70,0))","v":99}]
[118,{"$f":"IF(ISNA(MATCH(A198,'Current Owner Standings'!$D$4:$D$70,0)),99,MATCH(A198,'Current Owner Standings'!$D$4:$D$70,0))","v":99}]
[119,{"$f":"IF(ISNA(MATCH(A199,'Current Owner Standings'!$D$4:$D$70,0)),99,MATCH(A199,'Current Owner Standings'!$D$4:$D$70,0))","v":99}]
[120,{"$f":"IF(ISNA(MATCH(A200,'Current Owner Standings'!$D$4:$D$70,0)),99,MATCH(A200,'Current Owner Standings'!$D$4:$D$70,0))","v":99}]
[121,{"$f":"IF(ISNA(MATCH(A201,'Current Owner Standings'!$D$4:$D$70,0)),99,MATCH(A201,'Current Owner Standings'!$D$4:$D$70,0))","v":99}]
[122,{"$f":"IF(ISNA(MATCH(A202,'Current Owner Standings'!$D$4:$D$70,0)),99,MATCH(A202,'Current Owner Standings'!$D$4:$D$70,0))","v":99}]
[123,{"$f":"IF(ISNA(MATCH(A203,'Current Owner Standings'!$D$4:$D$70,0)),99,MATCH(A203,'Current Owner Standings'!$D$4:$D$70,0))","v":99}]
[124,{"$f":"IF(ISNA(MATCH(A204,'Current Owner Standings'!$D$4:$D$70,0)),99,MATCH(A204,'Current Owner Standings'!$D$4:$D$70,0))","v":99}]
[125,{"$f":"IF(ISNA(MATCH(A205,'Current Owner Standings'!$D$4:$D$70,0)),99,MATCH(A205,'Current Owner Standings'!$D$4:$D$70,0))","v":99}]
[126,{"$f":"IF(ISNA(MATCH(A206,'Current Owner Standings'!$D$4:$D$70,0)),99,MATCH(A206,'Current Owner Standings'!$D$4:$D$70,0))","v":99}]
[127,{"$f":"IF(ISNA(MATCH(A207,'Current Owner Standings'!$D$4:$D$70,0)),99,MATCH(A207,'Current Owner Standings'!$D$4:$D$70,0))","v":99}]
[128,{"$f":"IF(ISNA(MATCH(A208,'Current Owner Standings'!$D$4:$D$70,0)),99,MATCH(A208,'Current Owner Standings'!$D$4:$D$70,0))","v":99}]
[129,{"$f":"IF(ISNA(MATCH(A209,'Current Owner Standings'!$D$4:$D$70,0)),99,MATCH(A209,'Current Owner Standings'!$D$4:$D$70,0))","v":99}]
[130,{"$f":"IF(ISNA(MATCH(A210,'Current Owner Standings'!$D$4:$D$70,0)),99,MATCH(A210,'Current Owner Standings'!$D$4:$D$70,0))","v":99}]
[131,{"$f":"IF(ISNA(MATCH(A211,'Current Owner Standings'!$D$4:$D$70,0)),99,MATCH(A211,'Current Owner Standings'!$D$4:$D$70,0))","v":99}]
[132,{"$f":"IF(ISNA(MATCH(A212,'Current Owner Standings'!$D$4:$D$70,0)),99,MATCH(A212,'Current Owner Standings'!$D$4:$D$70,0))","v":99}]
[133,{"$f":"IF(ISNA(MATCH(A213,'Current Owner Standings'!$D$4:$D$70,0)),99,MATCH(A213,'Current Owner Standings'!$D$4:$D$70,0))","v":99}]
[134,{"$f":"IF(ISNA(MATCH(A214,'Current Owner Standings'!$D$4:$D$70,0)),99,MATCH(A214,'Current Owner Standings'!$D$4:$D$70,0))","v":99}]
[135,{"$f":"IF(ISNA(MATCH(A215,'Current Owner Standings'!$D$4:$D$70,0)),99,MATCH(A215,'Current Owner Standings'!$D$4:$D$70,0))","v":99}]
[136,{"$f":"IF(ISNA(MATCH(A216,'Current Owner Standings'!$D$4:$D$70,0)),99,MATCH(A216,'Current Owner Standings'!$D$4:$D$70,0))","v":99}]
[137,{"$f":"IF(ISNA(MATCH(A217,'Current Owner Standings'!$D$4:$D$70,0)),99,MATCH(A217,'Current Owner Standings'!$D$4:$D$70,0))","v":99}]
[138,{"$f":"IF(ISNA(MATCH(A218,'Current Owner Standings'!$D$4:$D$70,0)),99,MATCH(A218,'Current Owner Standings'!$D$4:$D$70,0))","v":99}]
[139,{"$f":"IF(ISNA(MATCH(A219,'Current Owner Standings'!$D$4:$D$70,0)),99,MATCH(A219,'Current Owner Standings'!$D$4:$D$70,0))","v":99}]
[140,{"$f":"IF(ISNA(MATCH(A220,'Current Owner Standings'!$D$4:$D$70,0)),99,MATCH(A220,'Current Owner Standings'!$D$4:$D$70,0))","v":99}]
[141,{"$f":"IF(ISNA(MATCH(A221,'Current Owner Standings'!$D$4:$D$70,0)),99,MATCH(A221,'Current Owner Standings'!$D$4:$D$70,0))","v":99}]
[142,{"$f":"IF(ISNA(MATCH(A222,'Current Owner Standings'!$D$4:$D$70,0)),99,MATCH(A222,'Current Owner Standings'!$D$4:$D$70,0))","v":99}]
[143,{"$f":"IF(ISNA(MATCH(A223,'Current Owner Standings'!$D$4:$D$70,0)),99,MATCH(A223,'Current Owner Standings'!$D$4:$D$70,0))","v":99}]
[144,{"$f":"IF(ISNA(MATCH(A224,'Current Owner Standings'!$D$4:$D$70,0)),99,MATCH(A224,'Current Owner Standings'!$D$4:$D$70,0))","v":99}]
[145,{"$f":"IF(ISNA(MATCH(A225,'Current Owner Standings'!$D$4:$D$70,0)),99,MATCH(A225,'Current Owner Standings'!$D$4:$D$70,0))","v":99}]
[146,{"$f":"IF(ISNA(MATCH(A226,'Current Owner Standings'!$D$4:$D$70,0)),99,MATCH(A226,'Current Owner Standings'!$D$4:$D$70,0))","v":99}]
[147,{"$f":"IF(ISNA(MATCH(A227,'Current Owner Standings'!$D$4:$D$70,0)),99,MATCH(A227,'Current Owner Standings'!$D$4:$D$70,0))","v":99}]
[148,{"$f":"IF(ISNA(MATCH(A228,'Current Owner Standings'!$D$4:$D$70,0)),99,MATCH(A228,'Current Owner Standings'!$D$4:$D$70,0))","v":99}]
[149,{"$f":"IF(ISNA(MATCH(A229,'Current Owner Standings'!$D$4:$D$70,0)),99,MATCH(A229,'Current Owner Standings'!$D$4:$D$70,0))","v":99}]
[150,{"$f":"IF(ISNA(MATCH(A230,'Current Owner Standings'!$D$4:$D$70,0)),99,MATCH(A230,'Current Owner Standings'!$D$4:$D$70,0))","v":99}]
[151,{"$f":"IF(ISNA(MATCH(A231,'Current Owner Standings'!$D$4:$D$70,0)),99,MATCH(A231,'Current Owner Standings'!$D$4:$D$70,0))","v":99}]
[152,{"$f":"IF(ISNA(MATCH(A232,'Current Owner Standings'!$D$4:$D$70,0)),99,MATCH(A232,'Current Owner Standings'!$D$4:$D$70,0))","v":99}]
[153,{"$f":"IF(ISNA(MATCH(A233,'Current Owner Standings'!$D$4:$D$70,0)),99,MATCH(A233,'Current Owner Standings'!$D$4:$D$70,0))","v":99}]
[154,{"$f":"IF(ISNA(MATCH(A234,'Current Owner Standings'!$D$4:$D$70,0)),99,MATCH(A234,'Current Owner Standings'!$D$4:$D$70,0))","v":99}]
[155,{"$f":"IF(ISNA(MATCH(A235,'Current Owner Standings'!$D$4:$D$70,0)),99,MATCH(A235,'Current Owner Standings'!$D$4:$D$70,0))","v":99}]
[156,{"$f":"IF(ISNA(MATCH(A236,'Current Owner Standings'!$D$4:$D$70,0)),99,MATCH(A236,'Current Owner Standings'!$D$4:$D$70,0))","v":99}]
[157,{"$f":"IF(ISNA(MATCH(A237,'Current Owner Standings'!$D$4:$D$70,0)),99,MATCH(A237,'Current Owner Standings'!$D$4:$D$70,0))","v":99}]
[158,{"$f":"IF(ISNA(MATCH(A238,'Current Owner Standings'!$D$4:$D$70,0)),99,MATCH(A238,'Current Owner Standings'!$D$4:$D$70,0))","v":99}]
[159,{"$f":"IF(ISNA(MATCH(A239,'Current Owner Standings'!$D$4:$D$70,0)),99,MATCH(A239,'Current Owner Standings'!$D$4:$D$70,0))","v":99}]
[160,{"$f":"IF(ISNA(MATCH(A240,'Current Owner Standings'!$D$4:$D$70,0)),99,MATCH(A240,'Current Owner Standings'!$D$4:$D$70,0))","v":99}]
[161,{"$f":"IF(ISNA(MATCH(A241,'Current Owner Standings'!$D$4:$D$70,0)),99,MATCH(A241,'Current Owner Standings'!$D$4:$D$70,0))","v":99}]
[162,{"$f":"IF(ISNA(MATCH(A242,'Current Owner Standings'!$D$4:$D$70,0)),99,MATCH(A242,'Current Owner Standings'!$D$4:$D$70,0))","v":39}]
[163,{"$f":"IF(ISNA(MATCH(A243,'Current Owner Standings'!$D$4:$D$70,0)),99,MATCH(A243,'Current Owner Standings'!$D$4:$D$70,0))","v":99}]
[164,{"$f":"IF(ISNA(MATCH(A244,'Current Owner Standings'!$D$4:$D$70,0)),99,MATCH(A244,'Current Owner Standings'!$D$4:$D$70,0))","v":99}]
[165,{"$f":"IF(ISNA(MATCH(A245,'Current Owner Standings'!$D$4:$D$70,0)),99,MATCH(A245,'Current Owner Standings'!$D$4:$D$70,0))","v":99}]
[166,{"$f":"IF(ISNA(MATCH(A246,'Current Owner Standings'!$D$4:$D$70,0)),99,MATCH(A246,'Current Owner Standings'!$D$4:$D$70,0))","v":43}]
[167,{"$f":"IF(ISNA(MATCH(A247,'Current Owner Standings'!$D$4:$D$70,0)),99,MATCH(A247,'Current Owner Standings'!$D$4:$D$70,0))","v":99}]
[168,{"$f":"IF(ISNA(MATCH(A248,'Current Owner Standings'!$D$4:$D$70,0)),99,MATCH(A248,'Current Owner Standings'!$D$4:$D$70,0))","v":99}]
[169,{"$f":"IF(ISNA(MATCH(A249,'Current Owner Standings'!$D$4:$D$70,0)),99,MATCH(A249,'Current Owner Standings'!$D$4:$D$70,0))","v":99}]
[170,{"$f":"IF(ISNA(MATCH(A250,'Current Owner Standings'!$D$4:$D$70,0)),99,MATCH(A250,'Current Owner Standings'!$D$4:$D$70,0))","v":99}]
[171,{"$f":"IF(ISNA(MATCH(A251,'Current Owner Standings'!$D$4:$D$70,0)),99,MATCH(A251,'Current Owner Standings'!$D$4:$D$70,0))","v":99}]
[172,{"$f":"IF(ISNA(MATCH(A252,'Current Owner Standings'!$D$4:$D$70,0)),99,MATCH(A252,'Current Owner Standings'!$D$4:$D$70,0))","v":99}]
[173,{"$f":"IF(ISNA(MATCH(A253,'Current Owner Standings'!$D$4:$D$70,0)),99,MATCH(A253,'Current Owner Standings'!$D$4:$D$70,0))","v":99}]
[174,{"$f":"IF(ISNA(MATCH(A254,'Current Owner Standings'!$D$4:$D$70,0)),99,MATCH(A254,'Current Owner Standings'!$D$4:$D$70,0))","v":99}]
[175,{"$f":"IF(ISNA(MATCH(A255,'Current Owner Standings'!$D$4:$D$70,0)),99,MATCH(A255,'Current Owner Standings'!$D$4:$D$70,0))","v":99}]
[176,{"$f":"IF(ISNA(MATCH(A256,'Current Owner Standings'!$D$4:$D$70,0)),99,MATCH(A256,'Current Owner Standings'!$D$4:$D$70,0))","v":99}]
[177,{"$f":"IF(ISNA(MATCH(A257,'Current Owner Standings'!$D$4:$D$70,0)),99,MATCH(A257,'Current Owner Standings'!$D$4:$D$70,0))","v":99}]
[178,{"$f":"IF(ISNA(MATCH(A258,'Current Owner Standings'!$D$4:$D$70,0)),99,MATCH(A258,'Current Owner Standings'!$D$4:$D$70,0))","v":99}]
[179,{"$f":"IF(ISNA(MATCH(A259,'Current Owner Standings'!$D$4:$D$70,0)),99,MATCH(A259,'Current Owner Standings'!$D$4:$D$70,0))","v":99}]
[180,{"$f":"IF(ISNA(MATCH(A260,'Current Owner Standings'!$D$4:$D$70,0)),99,MATCH(A260,'Current Owner Standings'!$D$4:$D$70,0))","v":99}]
[181,{"$f":"IF(ISNA(MATCH(A261,'Current Owner Standings'!$D$4:$D$70,0)),99,MATCH(A261,'Current Owner Standings'!$D$4:$D$70,0))","v":99}]
[182,{"$f":"IF(ISNA(MATCH(A262,'Current Owner Standings'!$D$4:$D$70,0)),99,MATCH(A262,'Current Owner Standings'!$D$4:$D$70,0))","v":99}]
[183,{"$f":"IF(ISNA(MATCH(A263,'Current Owner Standings'!$D$4:$D$70,0)),99,MATCH(A263,'Current Owner Standings'!$D$4:$D$70,0))","v":99}]
[184,{"$f":"IF(ISNA(MATCH(A264,'Current Owner Standings'!$D$4:$D$70,0)),99,MATCH(A264,'Current Owner Standings'!$D$4:$D$70,0))","v":99}]
[185,{"$f":"IF(ISNA(MATCH(A265,'Current Owner Standings'!$D$4:$D$70,0)),99,MATCH(A265,'Current Owner Standings'!$D$4:$D$70,0))","v":99}]
[186,{"$f":"IF(ISNA(MATCH(A266,'Current Owner Standings'!$D$4:$D$70,0)),99,MATCH(A266,'Current Owner Standings'!$D$4:$D$70,0))","v":99}]
[187,{"$f":"IF(ISNA(MATCH(A267,'Current Owner Standings'!$D$4:$D$70,0)),99,MATCH(A267,'Current Owner Standings'!$D$4:$D$70,0))","v":99}]
[188,{"$f":"IF(ISNA(MATCH(A268,'Current Owner Standings'!$D$4:$D$70,0)),99,MATCH(A268,'Current Owner Standings'!$D$4:$D$70,0))","v":99}]
[189,{"$f":"IF(ISNA(MATCH(A269,'Current Owner Standings'!$D$4:$D$70,0)),99,MATCH(A269,'Current Owner Standings'!$D$4:$D$70,0))","v":99}]
[190,{"$f":"IF(ISNA(MATCH(A270,'Current Owner Standings'!$D$4:$D$70,0)),99,MATCH(A270,'Current Owner Standings'!$D$4:$D$70,0))","v":99}]
[191,{"$f":"IF(ISNA(MATCH(A271,'Current Owner Standings'!$D$4:$D$70,0)),99,MATCH(A271,'Current Owner Standings'!$D$4:$D$70,0))","v":99}]
[192,{"$f":"IF(ISNA(MATCH(A272,'Current Owner Standings'!$D$4:$D$70,0)),99,MATCH(A272,'Current Owner Standings'!$D$4:$D$70,0))","v":99}]
[193,{"$f":"IF(ISNA(MATCH(A273,'Current Owner Standings'!$D$4:$D$70,0)),99,MATCH(A273,'Current Owner Standings'!$D$4:$D$70,0))","v":99}]
[194,{"$f":"IF(ISNA(MATCH(A274,'Current Owner Standings'!$D$4:$D$70,0)),99,MATCH(A274,'Current Owner Standings'!$D$4:$D$70,0))","v":99}]
[195,{"$f":"IF(ISNA(MATCH(A275,'Current Owner Standings'!$D$4:$D$70,0)),99,MATCH(A275,'Current Owner Standings'!$D$4:$D$70,0))","v":99}]
[196,{"$f":"IF(ISNA(MATCH(A276,'Current Owner Standings'!$D$4:$D$70,0)),99,MATCH(A276,'Current Owner Standings'!$D$4:$D$70,0))","v":99}]
[197,{"$f":"IF(ISNA(MATCH(A277,'Current Owner Standings'!$D$4:$D$70,0)),99,MATCH(A277,'Current Owner Standings'!$D$4:$D$70,0))","v":99}]
[198,{"$f":"IF(ISNA(MATCH(A278,'Current Owner Standings'!$D$4:$D$70,0)),99,MATCH(A278,'Current Owner Standings'!$D$4:$D$70,0))","v":99}]
[199,{"$f":"IF(ISNA(MATCH(A279,'Current Owner Standings'!$D$4:$D$70,0)),99,MATCH(A279,'Current Owner Standings'!$D$4:$D$70,0))","v":40}]
[200,{"$f":"IF(ISNA(MATCH(A280,'Current Owner Standings'!$D$4:$D$70,0)),99,MATCH(A280,'Current Owner Standings'!$D$4:$D$70,0))","v":99}]
[201,{"$f":"IF(ISNA(MATCH(A281,'Current Owner Standings'!$D$4:$D$70,0)),99,MATCH(A281,'Current Owner Standings'!$D$4:$D$70,0))","v":99}]
[202,{"$f":"IF(ISNA(MATCH(A282,'Current Owner Standings'!$D$4:$D$70,0)),99,MATCH(A282,'Current Owner Standings'!$D$4:$D$70,0))","v":99}]
[203,{"$f":"IF(ISNA(MATCH(A283,'Current Owner Standings'!$D$4:$D$70,0)),99,MATCH(A283,'Current Owner Standings'!$D$4:$D$70,0))","v":99}]
[204,{"$f":"IF(ISNA(MATCH(A284,'Current Owner Standings'!$D$4:$D$70,0)),99,MATCH(A284,'Current Owner Standings'!$D$4:$D$70,0))","v":99}]
[205,{"$f":"IF(ISNA(MATCH(A285,'Current Owner Standings'!$D$4:$D$70,0)),99,MATCH(A285,'Current Owner Standings'!$D$4:$D$70,0))","v":99}]
[206,{"$f":"IF(ISNA(MATCH(A286,'Current Owner Standings'!$D$4:$D$70,0)),99,MATCH(A286,'Current Owner Standings'!$D$4:$D$70,0))","v":99}]
[207,{"$f":"IF(ISNA(MATCH(A287,'Current Owner Standings'!$D$4:$D$70,0)),99,MATCH(A287,'Current Owner Standings'!$D$4:$D$70,0))","v":99}]
[208,{"$f":"IF(ISNA(MATCH(A288,'Current Owner Standings'!$D$4:$D$70,0)),99,MATCH(A288,'Current Owner Standings'!$D$4:$D$70,0))","v":99}]
[209,{"$f":"IF(ISNA(MATCH(A289,'Current Owner Standings'!$D$4:$D$70,0)),99,MATCH(A289,'Current Owner Standings'!$D$4:$D$70,0))","v":99}]
[210,{"$f":"IF(ISNA(MATCH(A290,'Current Owner Standings'!$D$4:$D$70,0)),99,MATCH(A290,'Current Owner Standings'!$D$4:$D$70,0))","v":99}]
[211,{"$f":"IF(ISNA(MATCH(A291,'Current Owner Standings'!$D$4:$D$70,0)),99,MATCH(A291,'Current Owner Standings'!$D$4:$D$70,0))","v":99}]
[212,{"$f":"IF(ISNA(MATCH(A292,'Current Owner Standings'!$D$4:$D$70,0)),99,MATCH(A292,'Current Owner Standings'!$D$4:$D$70,0))","v":99}]
[213,{"$f":"IF(ISNA(MATCH(A293,'Current Owner Standings'!$D$4:$D$70,0)),99,MATCH(A293,'Current Owner Standings'!$D$4:$D$70,0))","v":99}]
[214,{"$f":"IF(ISNA(MATCH(A294,'Current Owner Standings'!$D$4:$D$70,0)),99,MATCH(A294,'Current Owner Standings'!$D$4:$D$70,0))","v":99}]
[215,{"$f":"IF(ISNA(MATCH(A295,'Current Owner Standings'!$D$4:$D$70,0)),99,MATCH(A295,'Current Owner Standings'!$D$4:$D$70,0))","v":99}]
[216,{"$f":"IF(ISNA(MATCH(A296,'Current Owner Standings'!$D$4:$D$70,0)),99,MATCH(A296,'Current Owner Standings'!$D$4:$D$70,0))","v":99}]
[217,{"$f":"IF(ISNA(MATCH(A297,'Current Owner Standings'!$D$4:$D$70,0)),99,MATCH(A297,'Current Owner Standings'!$D$4:$D$70,0))","v":99}]
[218,{"$f":"IF(ISNA(MATCH(A298,'Current Owner Standings'!$D$4:$D$70,0)),99,MATCH(A298,'Current Owner Standings'!$D$4:$D$70,0))","v":99}]
[219,{"$f":"IF(ISNA(MATCH(A299,'Current Owner Standings'!$D$4:$D$70,0)),99,MATCH(A299,'Current Owner Standings'!$D$4:$D$70,0))","v":99}]
[220,{"$f":"IF(ISNA(MATCH(A300,'Current Owner Standings'!$D$4:$D$70,0)),99,MATCH(A300,'Current Owner Standings'!$D$4:$D$70,0))","v":99}]
[221,{"$f":"IF(ISNA(MATCH(A301,'Current Owner Standings'!$D$4:$D$70,0)),99,MATCH(A301,'Current Owner Standings'!$D$4:$D$70,0))","v":99}]
[222,{"$f":"IF(ISNA(MATCH(A302,'Current Owner Standings'!$D$4:$D$70,0)),99,MATCH(A302,'Current Owner Standings'!$D$4:$D$70,0))","v":99}]
[223,{"$f":"IF(ISNA(MATCH(A303,'Current Owner Standings'!$D$4:$D$70,0)),99,MATCH(A303,'Current Owner Standings'!$D$4:$D$70,0))","v":99}]
[224,{"$f":"IF(ISNA(MATCH(A304,'Current Owner Standings'!$D$4:$D$70,0)),99,MATCH(A304,'Current Owner Standings'!$D$4:$D$70,0))","v":99}]
[225,{"$f":"IF(ISNA(MATCH(A305,'Current Owner Standings'!$D$4:$D$70,0)),99,MATCH(A305,'Current Owner Standings'!$D$4:$D$70,0))","v":99}]
[226,{"$f":"IF(ISNA(MATCH(A306,'Current Owner Standings'!$D$4:$D$70,0)),99,MATCH(A306,'Current Owner Standings'!$D$4:$D$70,0))","v":99}]
[227,{"$f":"IF(ISNA(MATCH(A307,'Current Owner Standings'!$D$4:$D$70,0)),99,MATCH(A307,'Current Owner Standings'!$D$4:$D$70,0))","v":99}]
[228,{"$f":"IF(ISNA(MATCH(A308,'Current Owner Standings'!$D$4:$D$70,0)),99,MATCH(A308,'Current Owner Standings'!$D$4:$D$70,0))","v":99}]
[229,{"$f":"IF(ISNA(MATCH(A309,'Current Owner Standings'!$D$4:$D$70,0)),99,MATCH(A309,'Current Owner Standings'!$D$4:$D$70,0))","v":99}]
[230,{"$f":"IF(ISNA(MATCH(A310,'Current Owner Standings'!$D$4:$D$70,0)),99,MATCH(A310,'Current Owner Standings'!$D$4:$D$70,0))","v":99}]
[231,{"$f":"IF(ISNA(MATCH(A311,'Current Owner Standings'!$D$4:$D$70,0)),99,MATCH(A311,'Current Owner Standings'!$D$4:$D$70,0))","v":99}]
[232,{"$f":"IF(ISNA(MATCH(A312,'Current Owner Standings'!$D$4:$D$70,0)),99,MATCH(A312,'Current Owner Standings'!$D$4:$D$70,0))","v":99}]
[233,{"$f":"IF(ISNA(MATCH(A313,'Current Owner Standings'!$D$4:$D$70,0)),99,MATCH(A313,'Current Owner Standings'!$D$4:$D$70,0))","v":99}]
[234,{"$f":"IF(ISNA(MATCH(A314,'Current Owner Standings'!$D$4:$D$70,0)),99,MATCH(A314,'Current Owner Standings'!$D$4:$D$70,0))","v":99}]
[235,{"$f":"IF(ISNA(MATCH(A315,'Current Owner Standings'!$D$4:$D$70,0)),99,MATCH(A315,'Current Owner Standings'!$D$4:$D$70,0))","v":99}]
[236,{"$f":"IF(ISNA(MATCH(A316,'Current Owner Standings'!$D$4:$D$70,0)),99,MATCH(A316,'Current Owner Standings'!$D$4:$D$70,0))","v":99}]
[237,{"$f":"IF(ISNA(MATCH(A317,'Current Owner Standings'!$D$4:$D$70,0)),99,MATCH(A317,'Current Owner Standings'!$D$4:$D$70,0))","v":99}]
[238,{"$f":"IF(ISNA(MATCH(A318,'Current Owner Standings'!$D$4:$D$70,0)),99,MATCH(A318,'Current Owner Standings'!$D$4:$D$70,0))","v":99}]
[239,{"$f":"IF(ISNA(MATCH(A319,'Current Owner Standings'!$D$4:$D$70,0)),99,MATCH(A319,'Current Owner Standings'!$D$4:$D$70,0))","v":99}]
[240,{"$f":"IF(ISNA(MATCH(A320,'Current Owner Standings'!$D$4:$D$70,0)),99,MATCH(A320,'Current Owner Standings'!$D$4:$D$70,0))","v":99}]
[241,{"$f":"IF(ISNA(MATCH(A321,'Current Owner Standings'!$D$4:$D$70,0)),99,MATCH(A321,'Current Owner Standings'!$D$4:$D$70,0))","v":99}]
[242,{"$f":"IF(ISNA(MATCH(A322,'Current Owner Standings'!$D$4:$D$70,0)),99,MATCH(A322,'Current Owner Standings'!$D$4:$D$70,0))","v":99}]
[243,{"$f":"IF(ISNA(MATCH(A323,'Current Owner Standings'!$D$4:$D$70,0)),99,MATCH(A323,'Current Owner Standings'!$D$4:$D$70,0))","v":99}]
[244,{"$f":"IF(ISNA(MATCH(A324,'Current Owner Standings'!$D$4:$D$70,0)),99,MATCH(A324,'Current Owner Standings'!$D$4:$D$70,0))","v":99}]
[245,{"$f":"IF(ISNA(MATCH(A325,'Current Owner Standings'!$D$4:$D$70,0)),99,MATCH(A325,'Current Owner Standings'!$D$4:$D$70,0))","v":99}]
[246,{"$f":"IF(ISNA(MATCH(A326,'Current Owner Standings'!$D$4:$D$70,0)),99,MATCH(A326,'Current Owner Standings'!$D$4:$D$70,0))","v":99}]
[247,{"$f":"IF(ISNA(MATCH(A327,'Current Owner Standings'!$D$4:$D$70,0)),99,MATCH(A327,'Current Owner Standings'!$D$4:$D$70,0))","v":99}]
[248,{"$f":"IF(ISNA(MATCH(A328,'Current Owner Standings'!$D$4:$D$70,0)),99,MATCH(A328,'Current Owner Standings'!$D$4:$D$70,0))","v":99}]
[249,{"$f":"IF(ISNA(MATCH(A329,'Current Owner Standings'!$D$4:$D$70,0)),99,MATCH(A329,'Current Owner Standings'!$D$4:$D$70,0))","v":99}]
[250,{"$f":"IF(ISNA(MATCH(A330,'Current Owner Standings'!$D$4:$D$70,0)),99,MATCH(A330,'Current Owner Standings'!$D$4:$D$70,0))","v":99}]
[251,{"$f":"IF(ISNA(MATCH(A331,'Current Owner Standings'!$D$4:$D$70,0)),99,MATCH(A331,'Current Owner Standings'!$D$4:$D$70,0))","v":99}]
[252,{"$f":"IF(ISNA(MATCH(A332,'Current Owner Standings'!$D$4:$D$70,0)),99,MATCH(A332,'Current Owner Standings'!$D$4:$D$70,0))","v":99}]
[253,{"$f":"IF(ISNA(MATCH(A333,'Current Owner Standings'!$D$4:$D$70,0)),99,MATCH(A333,'Current Owner Standings'!$D$4:$D$70,0))","v":99}]
[254,{"$f":"IF(ISNA(MATCH(A334,'Current Owner Standings'!$D$4:$D$70,0)),99,MATCH(A334,'Current Owner Standings'!$D$4:$D$70,0))","v":99}]
[255,{"$f":"IF(ISNA(MATCH(A335,'Current Owner Standings'!$D$4:$D$70,0)),99,MATCH(A335,'Current Owner Standings'!$D$4:$D$70,0))","v":99}]
[256,{"$f":"IF(ISNA(MATCH(A336,'Current Owner Standings'!$D$4:$D$70,0)),99,MATCH(A336,'Current Owner Standings'!$D$4:$D$70,0))","v":99}]
[257,{"$f":"IF(ISNA(MATCH(A337,'Current Owner Standings'!$D$4:$D$70,0)),99,MATCH(A337,'Current Owner Standings'!$D$4:$D$70,0))","v":99}]
[258,{"$f":"IF(ISNA(MATCH(A338,'Current Owner Standings'!$D$4:$D$70,0)),99,MATCH(A338,'Current Owner Standings'!$D$4:$D$70,0))","v":99}]
[259,{"$f":"IF(ISNA(MATCH(A339,'Current Owner Standings'!$D$4:$D$70,0)),99,MATCH(A339,'Current Owner Standings'!$D$4:$D$70,0))","v":99}]
[260,{"$f":"IF(ISNA(MATCH(A340,'Current Owner Standings'!$D$4:$D$70,0)),99,MATCH(A340,'Current Owner Standings'!$D$4:$D$70,0))","v":99}]
[261,{"$f":"IF(ISNA(MATCH(A341,'Current Owner Standings'!$D$4:$D$70,0)),99,MATCH(A341,'Current Owner Standings'!$D$4:$D$70,0))","v":99}]
[262,{"$f":"IF(ISNA(MATCH(A342,'Current Owner Standings'!$D$4:$D$70,0)),99,MATCH(A342,'Current Owner Standings'!$D$4:$D$70,0))","v":99}]
[263,{"$f":"IF(ISNA(MATCH(A343,'Current Owner Standings'!$D$4:$D$70,0)),99,MATCH(A343,'Current Owner Standings'!$D$4:$D$70,0))","v":99}]
[264,{"$f":"IF(ISNA(MATCH(A344,'Current Owner Standings'!$D$4:$D$70,0)),99,MATCH(A344,'Current Owner Standings'!$D$4:$D$70,0))","v":99}]
[265,{"$f":"IF(ISNA(MATCH(A345,'Current Owner Standings'!$D$4:$D$70,0)),99,MATCH(A345,'Current Owner Standings'!$D$4:$D$70,0))","v":99}]
[266,{"$f":"IF(ISNA(MATCH(A346,'Current Owner Standings'!$D$4:$D$70,0)),99,MATCH(A346,'Current Owner Standings'!$D$4:$D$70,0))","v":99}]
[267,{"$f":"IF(ISNA(MATCH(A347,'Current Owner Standings'!$D$4:$D$70,0)),99,MATCH(A347,'Current Owner Standings'!$D$4:$D$70,0))","v":99}]
[268,{"$f":"IF(ISNA(MATCH(A348,'Current Owner Standings'!$D$4:$D$70,0)),99,MATCH(A348,'Current Owner Standings'!$D$4:$D$70,0))","v":99}]
[269,{"$f":"IF(ISNA(MATCH(A349,'Current Owner Standings'!$D$4:$D$70,0)),99,MATCH(A349,'Current Owner Standings'!$D$4:$D$70,0))","v":99}]
[270,{"$f":"IF(ISNA(MATCH(A350,'Current Owner Standings'!$D$4:$D$70,0)),99,MATCH(A350,'Current Owner Standings'!$D$4:$D$70,0))","v":99}]
[271,{"$f":"IF(ISNA(MATCH(A351,'Current Owner Standings'!$D$4:$D$70,0)),99,MATCH(A351,'Current Owner Standings'!$D$4:$D$70,0))","v":99}]
[272,{"$f":"IF(ISNA(MATCH(A352,'Current Owner Standings'!$D$4:$D$70,0)),99,MATCH(A352,'Current Owner Standings'!$D$4:$D$70,0))","v":99}]
[273,{"$f":"IF(ISNA(MATCH(A353,'Current Owner Standings'!$D$4:$D$70,0)),99,MATCH(A353,'Current Owner Standings'!$D$4:$D$70,0))","v":99}]
[274,{"$f":"IF(ISNA(MATCH(A354,'Current Owner Standings'!$D$4:$D$70,0)),99,MATCH(A354,'Current Owner Standings'!$D$4:$D$70,0))","v":99}]
[275,{"$f":"IF(ISNA(MATCH(A355,'Current Owner Standings'!$D$4:$D$70,0)),99,MATCH(A355,'Current Owner Standings'!$D$4:$D$70,0))","v":99}]
[276,{"$f":"IF(ISNA(MATCH(A356,'Current Owner Standings'!$D$4:$D$70,0)),99,MATCH(A356,'Current Owner Standings'!$D$4:$D$70,0))","v":99}]
[277,{"$f":"IF(ISNA(MATCH(A357,'Current Owner Standings'!$D$4:$D$70,0)),99,MATCH(A357,'Current Owner Standings'!$D$4:$D$70,0))","v":99}]
[278,{"$f":"IF(ISNA(MATCH(A358,'Current Owner Standings'!$D$4:$D$70,0)),99,MATCH(A358,'Current Owner Standings'!$D$4:$D$70,0))","v":99}]
[279,{"$f":"IF(ISNA(MATCH(A359,'Current Owner Standings'!$D$4:$D$70,0)),99,MATCH(A359,'Current Owner Standings'!$D$4:$D$70,0))","v":99}]
[280,{"$f":"IF(ISNA(MATCH(A360,'Current Owner Standings'!$D$4:$D$70,0)),99,MATCH(A360,'Current Owner Standings'!$D$4:$D$70,0))","v":99}]
[281,{"$f":"IF(ISNA(MATCH(A361,'Current Owner Standings'!$D$4:$D$70,0)),99,MATCH(A361,'Current Owner Standings'!$D$4:$D$70,0))","v":99}]
[282,{"$f":"IF(ISNA(MATCH(A362,'Current Owner Standings'!$D$4:$D$70,0)),99,MATCH(A362,'Current Owner Standings'!$D$4:$D$70,0))","v":99}]
[283,{"$f":"IF(ISNA(MATCH(A363,'Current Owner Standings'!$D$4:$D$70,0)),99,MATCH(A363,'Current Owner Standings'!$D$4:$D$70,0))","v":99}]
[284,{"$f":"IF(ISNA(MATCH(A364,'Current Owner Standings'!$D$4:$D$70,0)),99,MATCH(A364,'Current Owner Standings'!$D$4:$D$70,0))","v":99}]
[285,{"$f":"IF(ISNA(MATCH(A365,'Current Owner Standings'!$D$4:$D$70,0)),99,MATCH(A365,'Current Owner Standings'!$D$4:$D$70,0))","v":99}]
[286,{"$f":"IF(ISNA(MATCH(A366,'Current Owner Standings'!$D$4:$D$70,0)),99,MATCH(A366,'Current Owner Standings'!$D$4:$D$70,0))","v":99}]
[287,{"$f":"IF(ISNA(MATCH(A367,'Current Owner Standings'!$D$4:$D$70,0)),99,MATCH(A367,'Current Owner Standings'!$D$4:$D$70,0))","v":99}]
[288,{"$f":"IF(ISNA(MATCH(A368,'Current Owner Standings'!$D$4:$D$70,0)),99,MATCH(A368,'Current Owner Standings'!$D$4:$D$70,0))","v":99}]
[289,{"$f":"IF(ISNA(MATCH(A369,'Current Owner Standings'!$D$4:$D$70,0)),99,MATCH(A369,'Current Owner Standings'!$D$4:$D$70,0))","v":99}]
[290,{"$f":"IF(ISNA(MATCH(A370,'Current Owner Standings'!$D$4:$D$70,0)),99,MATCH(A370,'Current Owner Standings'!$D$4:$D$70,0))","v":99}]
[291,{"$f":"IF(ISNA(MATCH(A371,'Current Owner Standings'!$D$4:$D$70,0)),99,MATCH(A371,'Current Owner Standings'!$D$4:$D$70,0))","v":99}]
[292,{"$f":"IF(ISNA(MATCH(A372,'Current Owner Standings'!$D$4:$D$70,0)),99,MATCH(A372,'Current Owner Standings'!$D$4:$D$70,0))","v":99}]
[293,{"$f":"IF(ISNA(MATCH(A373,'Current Owner Standings'!$D$4:$D$70,0)),99,MATCH(A373,'Current Owner Standings'!$D$4:$D$70,0))","v":99}]
[294,{"$f":"IF(ISNA(MATCH(A374,'Current Owner Standings'!$D$4:$D$70,0)),99,MATCH(A374,'Current Owner Standings'!$D$4:$D$70,0))","v":99}]
[295,{"$f":"IF(ISNA(MATCH(A375,'Current Owner Standings'!$D$4:$D$70,0)),99,MATCH(A375,'Current Owner Standings'!$D$4:$D$70,0))","v":99}]
[296,{"$f":"IF(ISNA(MATCH(A376,'Current Owner Standings'!$D$4:$D$70,0)),99,MATCH(A376,'Current Owner Standings'!$D$4:$D$70,0))","v":99}]
[297,{"$f":"IF(ISNA(MATCH(A377,'Current Owner Standings'!$D$4:$D$70,0)),99,MATCH(A377,'Current Owner Standings'!$D$4:$D$70,0))","v":99}]
[298,{"$f":"IF(ISNA(MATCH(A378,'Current Owner Standings'!$D$4:$D$70,0)),99,MATCH(A378,'Current Owner Standings'!$D$4:$D$70,0))","v":99}]
[299,{"$f":"IF(ISNA(MATCH(A379,'Current Owner Standings'!$D$4:$D$70,0)),99,MATCH(A379,'Current Owner Standings'!$D$4:$D$70,0))","v":99}]
[300,{"$f":"IF(ISNA(MATCH(A380,'Current Owner Standings'!$D$4:$D$70,0)),99,MATCH(A380,'Current Owner Standings'!$D$4:$D$70,0))","v":99}]
[301,{"$f":"IF(ISNA(MATCH(A381,'Current Owner Standings'!$D$4:$D$70,0)),99,MATCH(A381,'Current Owner Standings'!$D$4:$D$70,0))","v":99}]
[302,{"$f":"IF(ISNA(MATCH(A382,'Current Owner Standings'!$D$4:$D$70,0)),99,MATCH(A382,'Current Owner Standings'!$D$4:$D$70,0))","v":99}]
[303,{"$f":"IF(ISNA(MATCH(A383,'Current Owner Standings'!$D$4:$D$70,0)),99,MATCH(A383,'Current Owner Standings'!$D$4:$D$70,0))","v":99}]
[304,{"$f":"IF(ISNA(MATCH(A384,'Current Owner Standings'!$D$4:$D$70,0)),99,MATCH(A384,'Current Owner Standings'!$D$4:$D$70,0))","v":99}]
[305,{"$f":"IF(ISNA(MATCH(A385,'Current Owner Standings'!$D$4:$D$70,0)),99,MATCH(A385,'Current Owner Standings'!$D$4:$D$70,0))","v":99}]
[306,{"$f":"IF(ISNA(MATCH(A386,'Current Owner Standings'!$D$4:$D$70,0)),99,MATCH(A386,'Current Owner Standings'!$D$4:$D$70,0))","v":99}]
[307,{"$f":"IF(ISNA(MATCH(A387,'Current Owner Standings'!$D$4:$D$70,0)),99,MATCH(A387,'Current Owner Standings'!$D$4:$D$70,0))","v":99}]
[308,{"$f":"IF(ISNA(MATCH(A388,'Current Owner Standings'!$D$4:$D$70,0)),99,MATCH(A388,'Current Owner Standings'!$D$4:$D$70,0))","v":99}]
[309,{"$f":"IF(ISNA(MATCH(A389,'Current Owner Standings'!$D$4:$D$70,0)),99,MATCH(A389,'Current Owner Standings'!$D$4:$D$70,0))","v":99}]
[310,{"$f":"IF(ISNA(MATCH(A390,'Current Owner Standings'!$D$4:$D$70,0)),99,MATCH(A390,'Current Owner Standings'!$D$4:$D$70,0))","v":99}]
[311,{"$f":"IF(ISNA(MATCH(A391,'Current Owner Standings'!$D$4:$D$70,0)),99,MATCH(A391,'Current Owner Standings'!$D$4:$D$70,0))","v":99}]
[312,{"$f":"IF(ISNA(MATCH(A392,'Current Owner Standings'!$D$4:$D$70,0)),99,MATCH(A392,'Current Owner Standings'!$D$4:$D$70,0))","v":99}]
[313,{"$f":"IF(ISNA(MATCH(A393,'Current Owner Standings'!$D$4:$D$70,0)),99,MATCH(A393,'Current Owner Standings'!$D$4:$D$70,0))","v":99}]
[314,{"$f":"IF(ISNA(MATCH(A394,'Current Owner Standings'!$D$4:$D$70,0)),99,MATCH(A394,'Current Owner Standings'!$D$4:$D$70,0))","v":99}]
[315,{"$f":"IF(ISNA(MATCH(A395,'Current Owner Standings'!$D$4:$D$70,0)),99,MATCH(A395,'Current Owner Standings'!$D$4:$D$70,0))","v":99}]
[316,{"$f":"IF(ISNA(MATCH(A396,'Current Owner Standings'!$D$4:$D$70,0)),99,MATCH(A396,'Current Owner Standings'!$D$4:$D$70,0))","v":99}]
[317,{"$f":"IF(ISNA(MATCH(A397,'Current Owner Standings'!$D$4:$D$70,0)),99,MATCH(A397,'Current Owner Standings'!$D$4:$D$70,0))","v":99}]
[318,{"$f":"IF(ISNA(MATCH(A398,'Current Owner Standings'!$D$4:$D$70,0)),99,MATCH(A398,'Current Owner Standings'!$D$4:$D$70,0))","v":99}]
[319,{"$f":"IF(ISNA(MATCH(A399,'Current Owner Standings'!$D$4:$D$70,0)),99,MATCH(A399,'Current Owner Standings'!$D$4:$D$70,0))","v":99}]
[320,{"$f":"IF(ISNA(MATCH(A400,'Current Owner Standings'!$D$4:$D$70,0)),99,MATCH(A400,'Current Owner Standings'!$D$4:$D$70,0))","v":99}]
[321,{"$f":"IF(ISNA(MATCH(A401,'Current Owner Standings'!$D$4:$D$70,0)),99,MATCH(A401,'Current Owner Standings'!$D$4:$D$70,0))","v":99}]
[322,{"$f":"IF(ISNA(MATCH(A402,'Current Owner Standings'!$D$4:$D$70,0)),99,MATCH(A402,'Current Owner Standings'!$D$4:$D$70,0))","v":99}]
[323,{"$f":"IF(ISNA(MATCH(A403,'Current Owner Standings'!$D$4:$D$70,0)),99,MATCH(A403,'Current Owner Standings'!$D$4:$D$70,0))","v":99}]
[324,{"$f":"IF(ISNA(MATCH(A404,'Current Owner Standings'!$D$4:$D$70,0)),99,MATCH(A404,'Current Owner Standings'!$D$4:$D$70,0))","v":99}]
[325,{"$f":"IF(ISNA(MATCH(A405,'Current Owner Standings'!$D$4:$D$70,0)),99,MATCH(A405,'Current Owner Standings'!$D$4:$D$70,0))","v":99}]
[326,{"$f":"IF(ISNA(MATCH(A406,'Current Owner Standings'!$D$4:$D$70,0)),99,MATCH(A406,'Current Owner Standings'!$D$4:$D$70,0))","v":99}]
[327,{"$f":"IF(ISNA(MATCH(A407,'Current Owner Standings'!$D$4:$D$70,0)),99,MATCH(A407,'Current Owner Standings'!$D$4:$D$70,0))","v":99}]
[328,{"$f":"IF(ISNA(MATCH(A408,'Current Owner Standings'!$D$4:$D$70,0)),99,MATCH(A408,'Current Owner Standings'!$D$4:$D$70,0))","v":99}]
[329,{"$f":"IF(ISNA(MATCH(A409,'Current Owner Standings'!$D$4:$D$70,0)),99,MATCH(A409,'Current Owner Standings'!$D$4:$D$70,0))","v":99}]
[330,{"$f":"IF(ISNA(MATCH(A410,'Current Owner Standings'!$D$4:$D$70,0)),99,MATCH(A410,'Current Owner Standings'!$D$4:$D$70,0))","v":99}]
[331,{"$f":"IF(ISNA(MATCH(A411,'Current Owner Standings'!$D$4:$D$70,0)),99,MATCH(A411,'Current Owner Standings'!$D$4:$D$70,0))","v":99}]
[332,{"$f":"IF(ISNA(MATCH(A412,'Current Owner Standings'!$D$4:$D$70,0)),99,MATCH(A412,'Current Owner Standings'!$D$4:$D$70,0))","v":99}]
[333,{"$f":"IF(ISNA(MATCH(A413,'Current Owner Standings'!$D$4:$D$70,0)),99,MATCH(A413,'Current Owner Standings'!$D$4:$D$70,0))","v":99}]
[334,{"$f":"IF(ISNA(MATCH(A414,'Current Owner Standings'!$D$4:$D$70,0)),99,MATCH(A414,'Current Owner Standings'!$D$4:$D$70,0))","v":99}]
[335,{"$f":"IF(ISNA(MATCH(A415,'Current Owner Standings'!$D$4:$D$70,0)),99,MATCH(A415,'Current Owner Standings'!$D$4:$D$70,0))","v":99}]
[336,{"$f":"IF(ISNA(MATCH(A416,'Current Owner Standings'!$D$4:$D$70,0)),99,MATCH(A416,'Current Owner Standings'!$D$4:$D$70,0))","v":99}]
[337,{"$f":"IF(ISNA(MATCH(A417,'Current Owner Standings'!$D$4:$D$70,0)),99,MATCH(A417,'Current Owner Standings'!$D$4:$D$70,0))","v":99}]
[338,{"$f":"IF(ISNA(MATCH(A418,'Current Owner Standings'!$D$4:$D$70,0)),99,MATCH(A418,'Current Owner Standings'!$D$4:$D$70,0))","v":99}]
[339,{"$f":"IF(ISNA(MATCH(A419,'Current Owner Standings'!$D$4:$D$70,0)),99,MATCH(A419,'Current Owner Standings'!$D$4:$D$70,0))","v":99}]
[340,{"$f":"IF(ISNA(MATCH(A420,'Current Owner Standings'!$D$4:$D$70,0)),99,MATCH(A420,'Current Owner Standings'!$D$4:$D$70,0))","v":99}]
[341,{"$f":"IF(ISNA(MATCH(A421,'Current Owner Standings'!$D$4:$D$70,0)),99,MATCH(A421,'Current Owner Standings'!$D$4:$D$70,0))","v":99}]
[342,{"$f":"IF(ISNA(MATCH(A422,'Current Owner Standings'!$D$4:$D$70,0)),99,MATCH(A422,'Current Owner Standings'!$D$4:$D$70,0))","v":99}]
[343,{"$f":"IF(ISNA(MATCH(A423,'Current Owner Standings'!$D$4:$D$70,0)),99,MATCH(A423,'Current Owner Standings'!$D$4:$D$70,0))","v":99}]
[344,{"$f":"IF(ISNA(MATCH(A424,'Current Owner Standings'!$D$4:$D$70,0)),99,MATCH(A424,'Current Owner Standings'!$D$4:$D$70,0))","v":99}]
[345,{"$f":"IF(ISNA(MATCH(A425,'Current Owner Standings'!$D$4:$D$70,0)),99,MATCH(A425,'Current Owner Standings'!$D$4:$D$70,0))","v":99}]
[346,{"$f":"IF(ISNA(MATCH(A426,'Current Owner Standings'!$D$4:$D$70,0)),99,MATCH(A426,'Current Owner Standings'!$D$4:$D$70,0))","v":99}]
[347,{"$f":"IF(ISNA(MATCH(A427,'Current Owner Standings'!$D$4:$D$70,0)),99,MATCH(A427,'Current Owner Standings'!$D$4:$D$70,0))","v":99}]
[348,{"$f":"IF(ISNA(MATCH(A428,'Current Owner Standings'!$D$4:$D$70,0)),99,MATCH(A428,'Current Owner Standings'!$D$4:$D$70,0))","v":99}]
[349,{"$f":"IF(ISNA(MATCH(A429,'Current Owner Standings'!$D$4:$D$70,0)),99,MATCH(A429,'Current Owner Standings'!$D$4:$D$70,0))","v":99}]
[350,{"$f":"IF(ISNA(MATCH(A430,'Current Owner Standings'!$D$4:$D$70,0)),99,MATCH(A430,'Current Owner Standings'!$D$4:$D$70,0))","v":99}]
[351,{"$f":"IF(ISNA(MATCH(A431,'Current Owner Standings'!$D$4:$D$70,0)),99,MATCH(A431,'Current Owner Standings'!$D$4:$D$70,0))","v":99}]
[352,{"$f":"IF(ISNA(MATCH(A432,'Current Owner Standings'!$D$4:$D$70,0)),99,MATCH(A432,'Current Owner Standings'!$D$4:$D$70,0))","v":99}]
[353,{"$f":"IF(ISNA(MATCH(A433,'Current Owner Standings'!$D$4:$D$70,0)),99,MATCH(A433,'Current Owner Standings'!$D$4:$D$70,0))","v":99}]
[354,{"$f":"IF(ISNA(MATCH(A434,'Current Owner Standings'!$D$4:$D$70,0)),99,MATCH(A434,'Current Owner Standings'!$D$4:$D$70,0))","v":99}]
[355,{"$f":"IF(ISNA(MATCH(A435,'Current Owner Standings'!$D$4:$D$70,0)),99,MATCH(A435,'Current Owner Standings'!$D$4:$D$70,0))","v":99}]
[356,{"$f":"IF(ISNA(MATCH(A436,'Current Owner Standings'!$D$4:$D$70,0)),99,MATCH(A436,'Current Owner Standings'!$D$4:$D$70,0))","v":99}]
[357,{"$f":"IF(ISNA(MATCH(A437,'Current Owner Standings'!$D$4:$D$70,0)),99,MATCH(A437,'Current Owner Standings'!$D$4:$D$70,0))","v":99}]
[358,{"$f":"IF(ISNA(MATCH(A438,'Current Owner Standings'!$D$4:$D$70,0)),99,MATCH(A438,'Current Owner Standings'!$D$4:$D$70,0))","v":99}]
[359,{"$f":"IF(ISNA(MATCH(A439,'Current Owner Standings'!$D$4:$D$70,0)),99,MATCH(A439,'Current Owner Standings'!$D$4:$D$70,0))","v":99}]
[360,{"$f":"IF(ISNA(MATCH(A440,'Current Owner Standings'!$D$4:$D$70,0)),99,MATCH(A440,'Current Owner Standings'!$D$4:$D$70,0))","v":99}]
[361,{"$f":"IF(ISNA(MATCH(A441,'Current Owner Standings'!$D$4:$D$70,0)),99,MATCH(A441,'Current Owner Standings'!$D$4:$D$70,0))","v":99}]
[362,{"$f":"IF(ISNA(MATCH(A442,'Current Owner Standings'!$D$4:$D$70,0)),99,MATCH(A442,'Current Owner Standings'!$D$4:$D$70,0))","v":99}]
[363,{"$f":"IF(ISNA(MATCH(A443,'Current Owner Standings'!$D$4:$D$70,0)),99,MATCH(A443,'Current Owner Standings'!$D$4:$D$70,0))","v":99}]
[364,{"$f":"IF(ISNA(MATCH(A444,'Current Owner Standings'!$D$4:$D$70,0)),99,MATCH(A444,'Current Owner Standings'!$D$4:$D$70,0))","v":99}]
[365,{"$f":"IF(ISNA(MATCH(A445,'Current Owner Standings'!$D$4:$D$70,0)),99,MATCH(A445,'Current Owner Standings'!$D$4:$D$70,0))","v":99}]
[366,{"$f":"IF(ISNA(MATCH(A446,'Current Owner Standings'!$D$4:$D$70,0)),99,MATCH(A446,'Current Owner Standings'!$D$4:$D$70,0))","v":99}]
[367,{"$f":"IF(ISNA(MATCH(A447,'Current Owner Standings'!$D$4:$D$70,0)),99,MATCH(A447,'Current Owner Standings'!$D$4:$D$70,0))","v":99}]
[368,{"$f":"IF(ISNA(MATCH(A448,'Current Owner Standings'!$D$4:$D$70,0)),99,MATCH(A448,'Current Owner Standings'!$D$4:$D$70,0))","v":99}]
[369,{"$f":"IF(ISNA(MATCH(A449,'Current Owner Standings'!$D$4:$D$70,0)),99,MATCH(A449,'Current Owner Standings'!$D$4:$D$70,0))","v":99}]
[370,{"$f":"IF(ISNA(MATCH(A450,'Current Owner Standings'!$D$4:$D$70,0)),99,MATCH(A450,'Current Owner Standings'!$D$4:$D$70,0))","v":99}]
[371,{"$f":"IF(ISNA(MATCH(A451,'Current Owner Standings'!$D$4:$D$70,0)),99,MATCH(A451,'Current Owner Standings'!$D$4:$D$70,0))","v":99}]
[372,{"$f":"IF(ISNA(MATCH(A452,'Current Owner Standings'!$D$4:$D$70,0)),99,MATCH(A452,'Current Owner Standings'!$D$4:$D$70,0))","v":99}]
[373,{"$f":"IF(ISNA(MATCH(A453,'Current Owner Standings'!$D$4:$D$70,0)),99,MATCH(A453,'Current Owner Standings'!$D$4:$D$70,0))","v":99}]
[374,{"$f":"IF(ISNA(MATCH(A454,'Current Owner Standings'!$D$4:$D$70,0)),99,MATCH(A454,'Current Owner Standings'!$D$4:$D$70,0))","v":99}]
[375,{"$f":"IF(ISNA(MATCH(A455,'Current Owner Standings'!$D$4:$D$70,0)),99,MATCH(A455,'Current Owner Standings'!$D$4:$D$70,0))","v":99}]
[376,{"$f":"IF(ISNA(MATCH(A456,'Current Owner Standings'!$D$4:$D$70,0)),99,MATCH(A456,'Current Owner Standings'!$D$4:$D$70,0))","v":99}]
[377,{"$f":"IF(ISNA(MATCH(A457,'Current Owner Standings'!$D$4:$D$70,0)),99,MATCH(A457,'Current Owner Standings'!$D$4:$D$70,0))","v":99}]
[378,{"$f":"IF(ISNA(MATCH(A458,'Current Owner Standings'!$D$4:$D$70,0)),99,MATCH(A458,'Current Owner Standings'!$D$4:$D$70,0))","v":99}]
[379,{"$f":"IF(ISNA(MATCH(A459,'Current Owner Standings'!$D$4:$D$70,0)),99,MATCH(A459,'Current Owner Standings'!$D$4:$D$70,0))","v":99}]
[380,{"$f":"IF(ISNA(MATCH(A460,'Current Owner Standings'!$D$4:$D$70,0)),99,MATCH(A460,'Current Owner Standings'!$D$4:$D$70,0))","v":99}]
[381,{"$f":"IF(ISNA(MATCH(A461,'Current Owner Standings'!$D$4:$D$70,0)),99,MATCH(A461,'Current Owner Standings'!$D$4:$D$70,0))","v":99}]
[382,{"$f":"IF(ISNA(MATCH(A462,'Current Owner Standings'!$D$4:$D$70,0)),99,MATCH(A462,'Current Owner Standings'!$D$4:$D$70,0))","v":99}]
[383,{"$f":"IF(ISNA(MATCH(A463,'Current Owner Standings'!$D$4:$D$70,0)),99,MATCH(A463,'Current Owner Standings'!$D$4:$D$70,0))","v":99}]
[384,{"$f":"IF(ISNA(MATCH(A464,'Current Owner Standings'!$D$4:$D$70,0)),99,MATCH(A464,'Current Owner Standings'!$D$4:$D$70,0))","v":99}]
[385,{"$f":"IF(ISNA(MATCH(A465,'Current Owner Standings'!$D$4:$D$70,0)),99,MATCH(A465,'Current Owner Standings'!$D$4:$D$70,0))","v":99}]
[386,{"$f":"IF(ISNA(MATCH(A466,'Current Owner Standings'!$D$4:$D$70,0)),99,MATCH(A466,'Current Owner Standings'!$D$4:$D$70,0))","v":99}]
[387,{"$f":"IF(ISNA(MATCH(A467,'Current Owner Standings'!$D$4:$D$70,0)),99,MATCH(A467,'Current Owner Standings'!$D$4:$D$70,0))","v":99}]
[388,{"$f":"IF(ISNA(MATCH(A468,'Current Owner Standings'!$D$4:$D$70,0)),99,MATCH(A468,'Current Owner Standings'!$D$4:$D$70,0))","v":99}]
[389,{"$f":"IF(ISNA(MATCH(A469,'Current Owner Standings'!$D$4:$D$70,0)),99,MATCH(A469,'Current Owner Standings'!$D$4:$D$70,0))","v":99}]
[390,{"$f":"IF(ISNA(MATCH(A470,'Current Owner Standings'!$D$4:$D$70,0)),99,MATCH(A470,'Current Owner Standings'!$D$4:$D$70,0))","v":99}]
[391,{"$f":"IF(ISNA(MATCH(A471,'Current Owner Standings'!$D$4:$D$70,0)),99,MATCH(A471,'Current Owner Standings'!$D$4:$D$70,0))","v":99}]
[392,{"$f":"IF(ISNA(MATCH(A472,'Current Owner Standings'!$D$4:$D$70,0)),99,MATCH(A472,'Current Owner Standings'!$D$4:$D$70,0))","v":99}]
[393,{"$f":"IF(ISNA(MATCH(A473,'Current Owner Standings'!$D$4:$D$70,0)),99,MATCH(A473,'Current Owner Standings'!$D$4:$D$70,0))","v":99}]
[394,{"$f":"IF(ISNA(MATCH(A474,'Current Owner Standings'!$D$4:$D$70,0)),99,MATCH(A474,'Current Owner Standings'!$D$4:$D$70,0))","v":99}]
[395,{"$f":"IF(ISNA(MATCH(A475,'Current Owner Standings'!$D$4:$D$70,0)),99,MATCH(A475,'Current Owner Standings'!$D$4:$D$70,0))","v":99}]
[396,{"$f":"IF(ISNA(MATCH(A476,'Current Owner Standings'!$D$4:$D$70,0)),99,MATCH(A476,'Current Owner Standings'!$D$4:$D$70,0))","v":99}]
[397,{"$f":"IF(ISNA(MATCH(A477,'Current Owner Standings'!$D$4:$D$70,0)),99,MATCH(A477,'Current Owner Standings'!$D$4:$D$70,0))","v":99}]
[398,{"$f":"IF(ISNA(MATCH(A478,'Current Owner Standings'!$D$4:$D$70,0)),99,MATCH(A478,'Current Owner Standings'!$D$4:$D$70,0))","v":99}]
[399,{"$f":"IF(ISNA(MATCH(A479,'Current Owner Standings'!$D$4:$D$70,0)),99,MATCH(A479,'Current Owner Standings'!$D$4:$D$70,0))","v":99}]
[400,{"$f":"IF(ISNA(MATCH(A480,'Current Owner Standings'!$D$4:$D$70,0)),99,MATCH(A480,'Current Owner Standings'!$D$4:$D$70,0))","v":99}]

{"sheet":"Cars & Results","index":7,"n_rows":321,"n_cols":78,"rows_kept":321,"cut":false,"hidden":false,"merged":[[4,64,4,65],[4,66,4,67],[4,68,4,69],[4,70,4,71],[3,76,3,77],[2,72,2,73],[2,74,2,75],[4,72,4,73],[4,74,4,75],[4,76,4,77],[0,74,0,75],[0,76,0,77],[3,64,3,65],[3,66,3,67],[3,68,3,69],[3,70,3,71],[3,72,3,73],[3,74,3,75],[2,64,2,65],[2,66,2,67],[0,68,0,69],[0,66,0,67],[0,72,0,73],[2,62,2,63],[2,76,2,77],[1,76,1,77],[1,64,1,65],[1,66,1,67],[1,68,1,69],[1,70,1,71],[1,72,1,73],[2,68,2,69],[2,70,2,71],[1,16,1,17],[0,6,0,7],[0,8,0,9],[0,26,0,27],[1,26,1,27],[0,40,0,41],[1,40,1,41],[1,74,1,75],[2,10,2,11],[2,12,2,13],[0,70,0,71],[0,64,0,65],[0,18,0,19],[1,18,1,19],[0,20,0,21],[1,20,1,21],[2,20,2,21],[2,8,2,9],[0,10,0,11],[0,12,0,13],[0,14,0,15],[0,16,0,17],[2,40,2,41],[0,38,0,39],[3,6,3,7],[3,8,3,9],[3,10,3,11],[3,12,3,13],[1,6,1,7],[1,8,1,9],[1,10,1,11],[1,12,1,13],[4,20,4,21],[4,14,4,15],[4,16,4,17],[3,14,3,15],[3,16,3,17],[1,14,1,15],[4,6,4,7],[4,8,4,9],[4,10,4,11],[4,12,4,13],[2,18,2,19],[3,18,3,19],[2,14,2,15],[2,16,2,17],[4,18,4,19],[2,6,2,7],[3,20,3,21],[0,32,0,33],[1,32,1,33],[2,32,2,33],[3,32,3,33],[0,30,0,31],[1,30,1,31],[2,30,2,31],[3,30,3,31],[2,26,2,27],[0,28,0,29],[1,28,1,29],[2,28,2,29],[4,22,4,23],[0,24,0,25],[1,24,1,25],[2,24,2,25],[3,24,3,25],[0,22,0,23],[1,22,1,23],[2,22,2,23],[3,22,3,23],[4,24,4,25],[4,26,4,27],[3,26,3,27],[4,28,4,29],[3,28,3,29],[3,46,3,47],[4,46,4,47],[4,36,4,37],[4,32,4,33],[4,30,4,31],[4,34,4,35],[4,44,4,45],[4,42,4,43],[4,38,4,39],[4,40,4,41],[0,42,0,43],[3,42,3,43],[1,42,1,43],[2,46,2,47],[3,34,3,35],[2,42,2,43],[3,40,3,41],[2,38,2,39],[0,34,0,35],[1,38,1,39],[3,38,3,39],[1,34,1,35],[2,34,2,35],[0,48,0,49],[1,48,1,49],[2,48,2,49],[3,48,3,49],[2,44,2,45],[3,44,3,45],[0,44,0,45],[1,44,1,45],[0,46,0,47],[1,46,1,47],[4,62,4,63],[0,60,0,61],[1,60,1,61],[2,60,2,61],[3,60,3,61],[0,36,0,37],[1,36,1,37],[2,36,2,37],[3,36,3,37],[3,62,3,63],[0,52,0,53],[1,52,1,53],[2,52,2,53],[3,52,3,53],[0,50,0,51],[4,48,4,49],[3,50,3,51],[1,50,1,51],[2,50,2,51],[4,50,4,51],[4,60,4,61],[0,62,0,63],[1,62,1,63],[4,58,4,59],[3,58,3,59],[0,58,0,59],[1,58,1,59],[2,58,2,59],[4,54,4,55],[4,52,4,53],[0,54,0,55],[1,54,1,55],[2,54,2,55],[3,54,3,55],[4,56,4,57],[0,56,0,57],[1,56,1,57],[2,56,2,57],[3,56,3,57]]}
[null,null,null,null,null,null,{"$f":"VLOOKUP(G$5,Schedule!$A$7:$G$43,2,FALSE)","v":"2018-02-18"},null,{"$f":"VLOOKUP(I$5,Schedule!$A$7:$G$43,2,FALSE)","v":"2018-02-25"},null,{"$f":"VLOOKUP(K$5,Schedule!$A$7:$G$43,2,FALSE)","v":"2018-03-04"},null,{"$f":"VLOOKUP(M$5,Schedule!$A$7:$G$43,2,FALSE)","v":"2018-03-11"},null,{"$f":"VLOOKUP(O$5,Schedule!$A$7:$G$43,2,FALSE)","v":"2018-03-18"},null,{"$f":"VLOOKUP(Q$5,Schedule!$A$7:$G$43,2,FALSE)","v":"2018-03-25"},null,{"$f":"VLOOKUP(S$5,Schedule!$A$7:$G$43,2,FALSE)","v":"2018-04-08"},null,{"$f":"VLOOKUP(U$5,Schedule!$A$7:$G$43,2,FALSE)","v":"2018-04-15"},null,{"$f":"VLOOKUP(W$5,Schedule!$A$7:$G$43,2,FALSE)","v":"2018-04-21"},null,{"$f":"VLOOKUP(Y$5,Schedule!$A$7:$G$43,2,FALSE)","v":"2018-04-29"},null,{"$f":"VLOOKUP(AA$5,Schedule!$A$7:$G$43,2,FALSE)","v":"2018-05-06"},null,{"$f":"VLOOKUP(AC$5,Schedule!$A$7:$G$43,2,FALSE)","v":"2018-05-12"},null,{"$f":"VLOOKUP(AE$5,Schedule!$A$7:$G$43,2,FALSE)","v":"2018-05-27"},null,{"$f":"VLOOKUP(AG$5,Schedule!$A$7:$G$43,2,FALSE)","v":"2018-06-03"},null,{"$f":"VLOOKUP(AI$5,Schedule!$A$7:$G$43,2,FALSE)","v":"2018-06-10"},null,{"$f":"VLOOKUP(AK$5,Schedule!$A$7:$G$43,2,FALSE)","v":"2018-06-24"},null,{"$f":"VLOOKUP(AM$5,Schedule!$A$7:$G$43,2,FALSE)","v":"2018-07-01"},null,{"$f":"VLOOKUP(AO$5,Schedule!$A$7:$G$43,2,FALSE)","v":"2018-07-07"},null,{"$f":"VLOOKUP(AQ$5,Schedule!$A$7:$G$43,2,FALSE)","v":"2018-07-14"},null,{"$f":"VLOOKUP(AS$5,Schedule!$A$7:$G$43,2,FALSE)","v":"2018-07-22"},null,{"$f":"VLOOKUP(AU$5,Schedule!$A$7:$G$43,2,FALSE)","v":"2018-07-29"},null,{"$f":"VLOOKUP(AW$5,Schedule!$A$7:$G$43,2,FALSE)","v":"2018-08-05"},null,{"$f":"VLOOKUP(AY$5,Schedule!$A$7:$G$43,2,FALSE)","v":"2018-08-12"},null,{"$f":"VLOOKUP(BA$5,Schedule!$A$7:$G$43,2,FALSE)","v":"2018-08-18"},null,{"$f":"VLOOKUP(BC$5,Schedule!$A$7:$G$43,2,FALSE)","v":"2018-09-02"},null,{"$f":"VLOOKUP(BE$5,Schedule!$A$7:$G$43,2,FALSE)","v":"2018-09-09"},null,{"$f":"VLOOKUP(BG$5,Schedule!$A$7:$G$43,2,FALSE)","v":"2018-09-16"},null,{"$f":"VLOOKUP(BI$5,Schedule!$A$7:$G$43,2,FALSE)","v":"2018-09-22"},null,{"$f":"VLOOKUP(BK$5,Schedule!$A$7:$G$43,2,FALSE)","v":"2018-09-30"},null,{"$f":"VLOOKUP(BM$5,Schedule!$A$7:$G$43,2,FALSE)","v":"2018-10-07"},null,{"$f":"VLOOKUP(BO$5,Schedule!$A$7:$G$43,2,FALSE)","v":"2018-10-14"},null,{"$f":"VLOOKUP(BQ$5,Schedule!$A$7:$G$43,2,FALSE)","v":"2018-10-21"},null,{"$f":"VLOOKUP(BS$5,Schedule!$A$7:$G$43,2,FALSE)","v":"2018-10-28"},null,{"$f":"VLOOKUP(BU$5,Schedule!$A$7:$G$43,2,FALSE)","v":"2018-11-04"},null,{"$f":"VLOOKUP(BW$5,Schedule!$A$7:$G$43,2,FALSE)","v":"2018-11-11"},null,{"$f":"VLOOKUP(BY$5,Schedule!$A$7:$G$44,2,FALSE)","v":"2018-11-18"}]
[null,null,null,null,null,null,{"$f":"VLOOKUP(G$5,Schedule!$A$7:$G$43,3,FALSE)","v":"Daytona 500"},null,{"$f":"VLOOKUP(I$5,Schedule!$A$7:$G$43,3,FALSE)","v":"Folds of Honor QuikTrip 500"},null,{"$f":"VLOOKUP(K$5,Schedule!$A$7:$G$43,3,FALSE)","v":"Kobalt 400"},null,{"$f":"VLOOKUP(M$5,Schedule!$A$7:$G$43,3,FALSE)","v":"Camping World 500(k)"},null,{"$f":"VLOOKUP(O$5,Schedule!$A$7:$G$43,3,FALSE)","v":"Auto Club 400"},null,{"$f":"VLOOKUP(Q$5,Schedule!$A$7:$G$43,3,FALSE)","v":"STP 500"},null,{"$f":"VLOOKUP(S$5,Schedule!$A$7:$G$43,3,FALSE)","v":"O'Reilly Auto Parts 500"},null,{"$f":"VLOOKUP(U$5,Schedule!$A$7:$G$43,3,FALSE)","v":"Food City 500"},null,{"$f":"VLOOKUP(W$5,Schedule!$A$7:$G$43,3,FALSE)","v":"Toyota Owners 400"},null,{"$f":"VLOOKUP(Y$5,Schedule!$A$7:$G$43,3,FALSE)","v":"GEICO 500"},null,{"$f":"VLOOKUP(AA$5,Schedule!$A$7:$G$43,3,FALSE)","v":"AAA 400 Drive for Autism"},null,{"$f":"VLOOKUP(AC$5,Schedule!$A$7:$G$43,3,FALSE)","v":"Go Bowling 400"},null,{"$f":"VLOOKUP(AE$5,Schedule!$A$7:$G$43,3,FALSE)","v":"Coca-Cola 600"},null,{"$f":"VLOOKUP(AG$5,Schedule!$A$7:$G$43,3,FALSE)","v":"Pocono 400"},null,{"$f":"VLOOKUP(AI$5,Schedule!$A$7:$G$43,3,FALSE)","v":"FireKeepers Casino 400"},null,{"$f":"VLOOKUP(AK$5,Schedule!$A$7:$G$43,3,FALSE)","v":"Toyota/Save Mart 350"},null,{"$f":"VLOOKUP(AM$5,Schedule!$A$7:$G$43,3,FALSE)","v":"Overton's 400"},null,{"$f":"VLOOKUP(AO$5,Schedule!$A$7:$G$43,3,FALSE)","v":"Coke Zero 400"},null,{"$f":"VLOOKUP(AQ$5,Schedule!$A$7:$G$43,3,FALSE)","v":"Quaker State 400"},null,{"$f":"VLOOKUP(AS$5,Schedule!$A$7:$G$43,3,FALSE)","v":"New Hampshire 301"},null,{"$f":"VLOOKUP(AU$5,Schedule!$A$7:$G$43,3,FALSE)","v":"Gander Outdoors 400"},null,{"$f":"VLOOKUP(AW$5,Schedule!$A$7:$G$43,3,FALSE)","v":"Go Bowling at The Glen"},null,{"$f":"VLOOKUP(AY$5,Schedule!$A$7:$G$43,3,FALSE)","v":"Pure Michigan 400"},null,{"$f":"VLOOKUP(BA$5,Schedule!$A$7:$G$43,3,FALSE)","v":"Bass Pro Shops NRA Night Race"},null,{"$f":"VLOOKUP(BC$5,Schedule!$A$7:$G$43,3,FALSE)","v":"Bojangles' Southern 500"},null,{"$f":"VLOOKUP(BE$5,Schedule!$A$7:$G$43,3,FALSE)","v":"Big Machine Vodka 400 at the Brickyard"},null,{"$f":"VLOOKUP(BG$5,Schedule!$A$7:$G$43,3,FALSE)","v":"South Point 400"},null,{"$f":"VLOOKUP(BI$5,Schedule!$A$7:$G$43,3,FALSE)","v":"Federated Auto Parts 400"},null,{"$f":"VLOOKUP(BK$5,Schedule!$A$7:$G$43,3,FALSE)","v":"Bank of America 500(k)"},null,{"$f":"VLOOKUP(BM$5,Schedule!$A$7:$G$43,3,FALSE)","v":"Delaware 400"},null,{"$f":"VLOOKUP(BO$5,Schedule!$A$7:$G$43,3,FALSE)","v":"Alabama 500"},null,{"$f":"VLOOKUP(BQ$5,Schedule!$A$7:$G$43,3,FALSE)","v":"Hollywood Casino 400"},null,{"$f":"VLOOKUP(BS$5,Schedule!$A$7:$G$43,3,FALSE)","v":"First Data 500"},null,{"$f":"VLOOKUP(BU$5,Schedule!$A$7:$G$43,3,FALSE)","v":"AAA Texas 500"},null,{"$f":"VLOOKUP(BW$5,Schedule!$A$7:$G$43,3,FALSE)","v":"Can-Am 500(k)"},null,{"$f":"VLOOKUP(BY$5,Schedule!$A$7:$G$44,3,FALSE)","v":"Ford EcoBoost 400"}]
[null,null,null,null,null,null,{"$f":"VLOOKUP(G$5,Schedule!$A$7:$G$43,4,FALSE)","v":"Daytona International Speedway"},null,{"$f":"VLOOKUP(I$5,Schedule!$A$7:$G$43,4,FALSE)","v":"Atlanta Motor Speedway"},null,{"$f":"VLOOKUP(K$5,Schedule!$A$7:$G$43,4,FALSE)","v":"Las Vegas Motor Speedway"},null,{"$f":"VLOOKUP(M$5,Schedule!$A$7:$G$43,4,FALSE)","v":"ISM Raceway"},null,{"$f":"VLOOKUP(O$5,Schedule!$A$7:$G$43,4,FALSE)","v":"Auto Club Speedway"},null,{"$f":"VLOOKUP(Q$5,Schedule!$A$7:$G$43,4,FALSE)","v":"Martinsville Speedway"},null,{"$f":"VLOOKUP(S$5,Schedule!$A$7:$G$43,4,FALSE)","v":"Texas Motor Speedway"},null,{"$f":"VLOOKUP(U$5,Schedule!$A$7:$G$43,4,FALSE)","v":"Bristol Motor Speedway"},null,{"$f":"VLOOKUP(W$5,Schedule!$A$7:$G$43,4,FALSE)","v":"Richmond Raceway"},null,{"$f":"VLOOKUP(Y$5,Schedule!$A$7:$G$43,4,FALSE)","v":"Talladega Superspeedway"},null,{"$f":"VLOOKUP(AA$5,Schedule!$A$7:$G$43,4,FALSE)","v":"Dover International Speedway"},null,{"$f":"VLOOKUP(AC$5,Schedule!$A$7:$G$43,4,FALSE)","v":"Kansas Speedway"},null,{"$f":"VLOOKUP(AE$5,Schedule!$A$7:$G$43,4,FALSE)","v":"Charlotte Motor Speedway"},null,{"$f":"VLOOKUP(AG$5,Schedule!$A$7:$G$43,4,FALSE)","v":"Pocono Raceway"},null,{"$f":"VLOOKUP(AI$5,Schedule!$A$7:$G$43,4,FALSE)","v":"Michigan International Speedway"},null,{"$f":"VLOOKUP(AK$5,Schedule!$A$7:$G$43,4,FALSE)","v":"Sonoma Raceway"},null,{"$f":"VLOOKUP(AM$5,Schedule!$A$7:$G$43,4,FALSE)","v":"Chicagoland Speedway"},null,{"$f":"VLOOKUP(AO$5,Schedule!$A$7:$G$43,4,FALSE)","v":"Daytona International Speedway"},null,{"$f":"VLOOKUP(AQ$5,Schedule!$A$7:$G$43,4,FALSE)","v":"Kentucky Speedway"},null,{"$f":"VLOOKUP(AS$5,Schedule!$A$7:$G$43,4,FALSE)","v":"New Hampshire Motor Speedway"},null,{"$f":"VLOOKUP(AU$5,Schedule!$A$7:$G$43,4,FALSE)","v":"Pocono Raceway"},null,{"$f":"VLOOKUP(AW$5,Schedule!$A$7:$G$43,4,FALSE)","v":"Watkins Glen International"},null,{"$f":"VLOOKUP(AY$5,Schedule!$A$7:$G$43,4,FALSE)","v":"Michigan International Speedway"},null,{"$f":"VLOOKUP(BA$5,Schedule!$A$7:$G$43,4,FALSE)","v":"Bristol Motor Speedway"},null,{"$f":"VLOOKUP(BC$5,Schedule!$A$7:$G$43,4,FALSE)","v":"Darlington Raceway"},null,{"$f":"VLOOKUP(BE$5,Schedule!$A$7:$G$43,4,FALSE)","v":"Indianapolis Motor Speedway"},null,{"$f":"VLOOKUP(BG$5,Schedule!$A$7:$G$43,4,FALSE)","v":"Las Vegas Motor Speedway"},null,{"$f":"VLOOKUP(BI$5,Schedule!$A$7:$G$43,4,FALSE)","v":"Richmond Raceway"},null,{"$f":"VLOOKUP(BK$5,Schedule!$A$7:$G$43,4,FALSE)","v":"Charlotte Motor Speedway"},null,{"$f":"VLOOKUP(BM$5,Schedule!$A$7:$G$43,4,FALSE)","v":"Dover International Speedway"},null,{"$f":"VLOOKUP(BO$5,Schedule!$A$7:$G$43,4,FALSE)","v":"Talladega Superspeedway"},null,{"$f":"VLOOKUP(BQ$5,Schedule!$A$7:$G$43,4,FALSE)","v":"Kansas Speedway"},null,{"$f":"VLOOKUP(BS$5,Schedule!$A$7:$G$43,4,FALSE)","v":"Martinsville Speedway"},null,{"$f":"VLOOKUP(BU$5,Schedule!$A$7:$G$43,4,FALSE)","v":"Texas Motor Speedway"},null,{"$f":"VLOOKUP(BW$5,Schedule!$A$7:$G$43,4,FALSE)","v":"ISM Raceway"},null,{"$f":"VLOOKUP(BY$5,Schedule!$A$7:$G$44,4,FALSE)","v":"Homestead-Miami Speedway"}]
[null,null,null,null,null,null,{"$f":"VLOOKUP(G$5,Schedule!$A$7:$G$43,7,FALSE)","v":"1900-04-29"},null,{"$f":"VLOOKUP(I$5,Schedule!$A$7:$G$43,7,FALSE)","v":"1900-06-18"},null,{"$f":"VLOOKUP(K$5,Schedule!$A$7:$G$43,7,FALSE)","v":"1900-06-08"},null,{"$f":"VLOOKUP(M$5,Schedule!$A$7:$G$43,7,FALSE)","v":"1900-05-29"},null,{"$f":"VLOOKUP(O$5,Schedule!$A$7:$G$43,7,FALSE)","v":"1900-04-29"},null,{"$f":"VLOOKUP(Q$5,Schedule!$A$7:$G$43,7,FALSE)","v":"1900-09-16"},null,{"$f":"VLOOKUP(S$5,Schedule!$A$7:$G$43,7,FALSE)","v":"1900-06-18"},null,{"$f":"VLOOKUP(U$5,Schedule!$A$7:$G$43,7,FALSE)","v":"1900-09-06"},null,{"$f":"VLOOKUP(W$5,Schedule!$A$7:$G$43,7,FALSE)","v":"1900-07-18"},null,{"$f":"VLOOKUP(Y$5,Schedule!$A$7:$G$43,7,FALSE)","v":"1900-04-19"},null,{"$f":"VLOOKUP(AA$5,Schedule!$A$7:$G$43,7,FALSE)","v":"1900-08-27"},null,{"$f":"VLOOKUP(AC$5,Schedule!$A$7:$G$43,7,FALSE)","v":"1900-06-08"},null,{"$f":"VLOOKUP(AE$5,Schedule!$A$7:$G$43,7,FALSE)","v":"1900-07-18"},null,{"$f":"VLOOKUP(AG$5,Schedule!$A$7:$G$43,7,FALSE)","v":"1900-04-09"},null,{"$f":"VLOOKUP(AI$5,Schedule!$A$7:$G$43,7,FALSE)","v":"1900-04-29"},null,{"$f":"VLOOKUP(AK$5,Schedule!$A$7:$G$43,7,FALSE)","v":"1900-02-19"},null,{"$f":"VLOOKUP(AM$5,Schedule!$A$7:$G$43,7,FALSE)","v":"1900-06-08"},null,{"$f":"VLOOKUP(AO$5,Schedule!$A$7:$G$43,7,FALSE)","v":"1900-03-20"},null,{"$f":"VLOOKUP(AQ$5,Schedule!$A$7:$G$43,7,FALSE)","v":"1900-06-08"},null,{"$f":"VLOOKUP(AS$5,Schedule!$A$7:$G$43,7,FALSE)","v":"1900-05-29"},null,{"$f":"VLOOKUP(AU$5,Schedule!$A$7:$G$43,7,FALSE)","v":"1900-04-09"},null,{"$f":"VLOOKUP(AW$5,Schedule!$A$7:$G$43,7,FALSE)","v":"1900-02-09"},null,{"$f":"VLOOKUP(AY$5,Schedule!$A$7:$G$43,7,FALSE)","v":"1900-04-29"},null,{"$f":"VLOOKUP(BA$5,Schedule!$A$7:$G$43,7,FALSE)","v":"1900-09-06"},null,{"$f":"VLOOKUP(BC$5,Schedule!$A$7:$G$43,7,FALSE)","v":"1900-07-18"},null,{"$f":"VLOOKUP(BE$5,Schedule!$A$7:$G$43,7,FALSE)","v":"1900-04-09"},null,{"$f":"VLOOKUP(BG$5,Schedule!$A$7:$G$43,7,FALSE)","v":"1900-06-08"},null,{"$f":"VLOOKUP(BI$5,Schedule!$A$7:$G$43,7,FALSE)","v":"1900-07-18"},null,{"$f":"VLOOKUP(BK$5,Schedule!$A$7:$G$43,7,FALSE)","v":60},null,{"$f":"VLOOKUP(BM$5,Schedule!$A$7:$G$43,7,FALSE)","v":"1900-08-27"},null,{"$f":"VLOOKUP(BO$5,Schedule!$A$7:$G$43,7,FALSE)","v":"1900-04-19"},null,{"$f":"VLOOKUP(BQ$5,Schedule!$A$7:$G$43,7,FALSE)","v":"1900-06-08"},null,{"$f":"VLOOKUP(BS$5,Schedule!$A$7:$G$43,7,FALSE)","v":"1900-09-16"},null,{"$f":"VLOOKUP(BU$5,Schedule!$A$7:$G$43,7,FALSE)","v":"1900-06-18"},null,{"$f":"VLOOKUP(BW$5,Schedule!$A$7:$G$43,7,FALSE)","v":"1900-05-29"},null,{"$f":"VLOOKUP(BY$5,Schedule!$A$7:$G$44,7,FALSE)","v":"1900-06-08"}]
[null,4,6,5,5,4,1,null,2,null,3,null,4,null,5,null,6,null,7,null,8,null,9,null,10,null,11,null,12,null,13,null,14,null,15,null,16,null,17,null,18,null,19,null,20,null,21,null,22,null,23,null,24,null,25,null,26,null,27,null,28,null,29,null,30,null,31,null,32,null,33,null,34,null,35,null,36]
["Car","Driver","Make","Sponsor","Team","Home Town","Finishing Position","Points","Finishing Position","Points","Finishing Position","Lead (Y/N)","Finishing Position","Lead (Y/N)","Finishing Position","Lead (Y/N)","Finishing Position","Lead (Y/N)","Finishing Position","Lead (Y/N)","Finishing Position","Lead (Y/N)","Finishing Position","Lead (Y/N)","Finishing Position","Lead (Y/N)","Finishing Position","Lead (Y/N)","Finishing Position","Lead (Y/N)","Finishing Position","Lead (Y/N)","Finishing Position","Lead (Y/N)","Finishing Position","Lead (Y/N)","Finishing Position","Lead (Y/N)","Finishing Position","Lead (Y/N)","Finishing Position","Lead (Y/N)","Finishing Position","Lead (Y/N)","Finishing Position","Lead (Y/N)","Finishing Position","Lead (Y/N)","Finishing Position","Lead (Y/N)","Finishing Position","Lead (Y/N)","Finishing Position","Lead (Y/N)","Finishing Position","Lead (Y/N)","Finishing Position","Lead (Y/N)","Finishing Position","Lead (Y/N)","Finishing Position","Lead (Y/N)","Finishing Position","Lead (Y/N)","Finishing Position","Lead (Y/N)","Finishing Position","Lead (Y/N)","Finishing Position","Lead (Y/N)","Finishing Position","Lead (Y/N)","Finishing Position","Lead (Y/N)","Finishing Position","Lead (Y/N)","Finishing Position","Lead (Y/N)"]
["00",{"$f":"IF(ISNA(VLOOKUP($A7,'Entry List'!$A$1:$F$61,B$5,FALSE)),\"\",VLOOKUP($A7,'Entry List'!$A$1:$F$61,B$5,FALSE))","v":""},{"$f":"IF(ISNA(VLOOKUP($A7,'Entry List'!$A$1:$F$61,C$5,FALSE)),\"\",VLOOKUP($A7,'Entry List'!$A$1:$F$61,C$5,FALSE))","v":""},{"$f":"IF(ISNA(VLOOKUP($A7,'Entry List'!$A$1:$F$61,D$5,FALSE)),\"\",VLOOKUP($A7,'Entry List'!$A$1:$F$61,D$5,FALSE))","v":""},{"$f":"IF(ISNA(VLOOKUP($A7,'Entry List'!$A$1:$F$61,E$5,FALSE)),\"\",VLOOKUP($A7,'Entry List'!$A$1:$F$61,E$5,FALSE))","v":""},{"$f":"IF(ISNA(VLOOKUP($A7,'Entry List'!$A$1:$F$61,F$5,FALSE)),\"\",VLOOKUP($A7,'Entry List'!$A$1:$F$61,F$5,FALSE))","v":""},"DNS",0,"DNS",0,"DNS",0,31,6,31,6,31,6,"DNS",0,20,17,34,3,27,10,31,6,25,12,28,9,31,6,32,5,32,5,36,1,25,12,33,4,"DNS",0,"DNS",0,31,6,"DNS",0,25,12,30,7,{"$f":"IF('Last Race Results'!$B$5=0,0,IF(ISNA(VLOOKUP($A7,'Last Race Results'!$A$5:$J$44,2,FALSE)),\"DNS\",VLOOKUP($A7,'Last Race Results'!$A$5:$J$44,2,FALSE)))","v":31},{"$f":"IF('Last Race Results'!$B$5=0,0,IF(ISNA(VLOOKUP($A7,'Last Race Results'!$A$5:$K$44,11,FALSE)),0,VLOOKUP($A7,'Last Race Results'!$A$5:$K$44,11,FALSE)))","v":6},null,null,null,null,null,null,null,null,null,null,null,null,null,null,null,null,null,null,{"$f":"IF('Last Race Results'!$B$5=0,0,IF(ISNA(VLOOKUP($A7,'Last Race Results'!$A$5:$J$44,2,FALSE)),\"DNS\",VLOOKUP($A7,'Last Race Results'!$A$5:$J$44,2,FALSE)))","v":31},{"$f":"IF('Last Race Results'!$B$5=0,0,IF(ISNA(VLOOKUP($A7,'Last Race Results'!$A$5:$J$44,11,FALSE)),0,VLOOKUP($A7,'Last Race Results'!$A$5:$J$44,11,FALSE)))","v":{"$error":"#REF!"}}]
[1,{"$f":"IF(ISNA(VLOOKUP($A8,'Entry List'!$A$1:$F$61,B$5,FALSE)),\"\",VLOOKUP($A8,'Entry List'!$A$1:$F$61,B$5,FALSE))","v":"Jamie McMurray"},{"$f":"IF(ISNA(VLOOKUP($A8,'Entry List'!$A$1:$F$61,C$5,FALSE)),\"\",VLOOKUP($A8,'Entry List'!$A$1:$F$61,C$5,FALSE))","v":"Chevrolet"},{"$f":"IF(ISNA(VLOOKUP($A8,'Entry List'!$A$1:$F$61,D$5,FALSE)),\"\",VLOOKUP($A8,'Entry List'!$A$1:$F$61,D$5,FALSE))","v":"Chip Ganassi Racing"},{"$f":"IF(ISNA(VLOOKUP($A8,'Entry List'!$A$1:$F$61,E$5,FALSE)),\"\",VLOOKUP($A8,'Entry List'!$A$1:$F$61,E$5,FALSE))","v":"Chip Ganassi Racing"},null,16,21,19,18,36,1,26,11,17,20,26,11,3,38,19,18,19,18,28,9,16,21,31,6,6,37,15,22,10,30,37,1,12,29,30,7,17,20,18,19,20,25,7,35,21,16,29,8,9,30,{"$f":"IF('Last Race Results'!$B$5=0,0,IF(ISNA(VLOOKUP($A8,'Last Race Results'!$A$5:$J$44,2,FALSE)),\"DNS\",VLOOKUP($A8,'Last Race Results'!$A$5:$J$44,2,FALSE)))","v":7},{"$f":"IF('Last Race Results'!$B$5=0,0,IF(ISNA(VLOOKUP($A8,'Last Race Results'!$A$5:$K$44,11,FALSE)),0,VLOOKUP($A8,'Last Race Results'!$A$5:$K$44,11,FALSE)))","v":30},null,null,null,null,null,null,null,null,null,null,null,null,null,null,null,null,null,null,{"$f":"IF('Last Race Results'!$B$5=0,0,IF(ISNA(VLOOKUP($A8,'Last Race Results'!$A$5:$J$44,2,FALSE)),\"DNS\",VLOOKUP($A8,'Last Race Results'!$A$5:$J$44,2,FALSE)))","v":7},{"$f":"IF('Last Race Results'!$B$5=0,0,IF(ISNA(VLOOKUP($A8,'Last Race Results'!$A$5:$J$44,11,FALSE)),0,VLOOKUP($A8,'Last Race Results'!$A$5:$J$44,11,FALSE)))","v":{"$error":"#REF!"}}]
[2,{"$f":"IF(ISNA(VLOOKUP($A9,'Entry List'!$A$1:$F$61,B$5,FALSE)),\"\",VLOOKUP($A9,'Entry List'!$A$1:$F$61,B$5,FALSE))","v":"Brad Keselowski"},{"$f":"IF(ISNA(VLOOKUP($A9,'Entry List'!$A$1:$F$61,C$5,FALSE)),\"\",VLOOKUP($A9,'Entry List'!$A$1:$F$61,C$5,FALSE))","v":"Ford"},{"$f":"IF(ISNA(VLOOKUP($A9,'Entry List'!$A$1:$F$61,D$5,FALSE)),\"\",VLOOKUP($A9,'Entry List'!$A$1:$F$61,D$5,FALSE))","v":"Team Penske"},{"$f":"IF(ISNA(VLOOKUP($A9,'Entry List'!$A$1:$F$61,E$5,FALSE)),\"\",VLOOKUP($A9,'Entry List'!$A$1:$F$61,E$5,FALSE))","v":"Team Penske"},null,32,5,2,53,6,41,15,35,4,49,10,43,33,11,23,34,8,32,33,14,6,48,14,23,4,41,5,37,6,40,13,40,9,38,36,4,3,34,32,5,38,9,17,26,2,39,16,21,1,55,{"$f":"IF('Last Race Results'!$B$5=0,0,IF(ISNA(VLOOKUP($A9,'Last Race Results'!$A$5:$J$44,2,FALSE)),\"DNS\",VLOOKUP($A9,'Last Race Results'!$A$5:$J$44,2,FALSE)))","v":1},{"$f":"IF('Last Race Results'!$B$5=0,0,IF(ISNA(VLOOKUP($A9,'Last Race Results'!$A$5:$K$44,11,FALSE)),0,VLOOKUP($A9,'Last Race Results'!$A$5:$K$44,11,FALSE)))","v":49},null,null,null,null,null,null,null,null,null,null,null,null,null,null,null,null,null,null,{"$f":"IF('Last Race Results'!$B$5=0,0,IF(ISNA(VLOOKUP($A9,'Last Race Results'!$A$5:$J$44,2,FALSE)),\"DNS\",VLOOKUP($A9,'Last Race Results'!$A$5:$J$44,2,FALSE)))","v":1},{"$f":"IF('Last Race Results'!$B$5=0,0,IF(ISNA(VLOOKUP($A9,'Last Race Results'!$A$5:$J$44,11,FALSE)),0,VLOOKUP($A9,'Last Race Results'!$A$5:$J$44,11,FALSE)))","v":{"$error":"#REF!"}}]
[3,{"$f":"IF(ISNA(VLOOKUP($A10,'Entry List'!$A$1:$F$61,B$5,FALSE)),\"\",VLOOKUP($A10,'Entry List'!$A$1:$F$61,B$5,FALSE))","v":"Austin Dillon"},{"$f":"IF(ISNA(VLOOKUP($A10,'Entry List'!$A$1:$F$61,C$5,FALSE)),\"\",VLOOKUP($A10,'Entry List'!$A$1:$F$61,C$5,FALSE))","v":"Chevrolet"},{"$f":"IF(ISNA(VLOOKUP($A10,'Entry List'!$A$1:$F$61,D$5,FALSE)),\"\",VLOOKUP($A10,'Entry List'!$A$1:$F$61,D$5,FALSE))","v":"Richard Childress Racing"},{"$f":"IF(ISNA(VLOOKUP($A10,'Entry List'!$A$1:$F$61,E$5,FALSE)),\"\",VLOOKUP($A10,'Entry List'!$A$1:$F$61,E$5,FALSE))","v":"Richard Childress Racing"},null,1,42,14,23,13,24,17,20,10,27,30,7,26,11,15,24,15,25,35,2,26,11,17,20,34,3,12,29,14,23,16,21,37,1,9,33,22,15,21,16,13,24,27,10,4,39,13,24,16,21,{"$f":"IF('Last Race Results'!$B$5=0,0,IF(ISNA(VLOOKUP($A10,'Last Race Results'!$A$5:$J$44,2,FALSE)),\"DNS\",VLOOKUP($A10,'Last Race Results'!$A$5:$J$44,2,FALSE)))","v":22},{"$f":"IF('Last Race Results'!$B$5=0,0,IF(ISNA(VLOOKUP($A10,'Last Race Results'!$A$5:$K$44,11,FALSE)),0,VLOOKUP($A10,'Last Race Results'!$A$5:$K$44,11,FALSE)))","v":15},null,null,null,null,null,null,null,null,null,null,null,null,null,null,null,null,null,null,{"$f":"IF('Last Race Results'!$B$5=0,0,IF(ISNA(VLOOKUP($A10,'Last Race Results'!$A$5:$J$44,2,FALSE)),\"DNS\",VLOOKUP($A10,'Last Race Results'!$A$5:$J$44,2,FALSE)))","v":22},{"$f":"IF('Last Race Results'!$B$5=0,0,IF(ISNA(VLOOKUP($A10,'Last Race Results'!$A$5:$J$44,11,FALSE)),0,VLOOKUP($A10,'Last Race Results'!$A$5:$J$44,11,FALSE)))","v":{"$error":"#REF!"}}]
[4,{"$f":"IF(ISNA(VLOOKUP($A11,'Entry List'!$A$1:$F$61,B$5,FALSE)),\"\",VLOOKUP($A11,'Entry List'!$A$1:$F$61,B$5,FALSE))","v":"Kevin Harvick"},{"$f":"IF(ISNA(VLOOKUP($A11,'Entry List'!$A$1:$F$61,C$5,FALSE)),\"\",VLOOKUP($A11,'Entry List'!$A$1:$F$61,C$5,FALSE))","v":"Ford"},{"$f":"IF(ISNA(VLOOKUP($A11,'Entry List'!$A$1:$F$61,D$5,FALSE)),\"\",VLOOKUP($A11,'Entry List'!$A$1:$F$61,D$5,FALSE))","v":"Stewart-Haas Racing"},{"$f":"IF(ISNA(VLOOKUP($A11,'Entry List'!$A$1:$F$61,E$5,FALSE)),\"\",VLOOKUP($A11,'Entry List'!$A$1:$F$61,E$5,FALSE))","v":"Stewart-Haas Racing"},null,31,10,1,56,1,40,1,53,35,2,5,42,2,45,7,33,5,34,4,42,1,60,1,58,"DNS",0,4,52,2,52,2,35,3,50,19,18,5,48,1,51,4,52,10,31,1,60,10,36,4,39,{"$f":"IF('Last Race Results'!$B$5=0,0,IF(ISNA(VLOOKUP($A11,'Last Race Results'!$A$5:$J$44,2,FALSE)),\"DNS\",VLOOKUP($A11,'Last Race Results'!$A$5:$J$44,2,FALSE)))","v":4},{"$f":"IF('Last Race Results'!$B$5=0,0,IF(ISNA(VLOOKUP($A11,'Last Race Results'!$A$5:$K$44,11,FALSE)),0,VLOOKUP($A11,'Last Race Results'!$A$5:$K$44,11,FALSE)))","v":33},null,null,null,null,null,null,null,null,null,null,null,null,null,null,null,null,null,null,{"$f":"IF('Last Race Results'!$B$5=0,0,IF(ISNA(VLOOKUP($A11,'Last Race Results'!$A$5:$J$44,2,FALSE)),\"DNS\",VLOOKUP($A11,'Last Race Results'!$A$5:$J$44,2,FALSE)))","v":4},{"$f":"IF('Last Race Results'!$B$5=0,0,IF(ISNA(VLOOKUP($A11,'Last Race Results'!$A$5:$J$44,11,FALSE)),0,VLOOKUP($A11,'Last Race Results'!$A$5:$J$44,11,FALSE)))","v":{"$error":"#REF!"}}]
[5,{"$f":"IF(ISNA(VLOOKUP($A12,'Entry List'!$A$1:$F$61,B$5,FALSE)),\"\",VLOOKUP($A12,'Entry List'!$A$1:$F$61,B$5,FALSE))","v":""},{"$f":"IF(ISNA(VLOOKUP($A12,'Entry List'!$A$1:$F$61,C$5,FALSE)),\"\",VLOOKUP($A12,'Entry List'!$A$1:$F$61,C$5,FALSE))","v":""},{"$f":"IF(ISNA(VLOOKUP($A12,'Entry List'!$A$1:$F$61,D$5,FALSE)),\"\",VLOOKUP($A12,'Entry List'!$A$1:$F$61,D$5,FALSE))","v":""},{"$f":"IF(ISNA(VLOOKUP($A12,'Entry List'!$A$1:$F$61,E$5,FALSE)),\"\",VLOOKUP($A12,'Entry List'!$A$1:$F$61,E$5,FALSE))","v":""},null,"DNS",0,"DNS",0,"DNS",0,"DNS",0,"DNS",0,"DNS",0,"DNS",0,"DNS",0,"DNS",0,"DNS",0,"DNS",0,"DNS",0,"DNS",0,"DNS",0,"DNS",0,"DNS",0,"DNS",0,"DNS",0,"DNS",0,"DNS",0,"DNS",0,"DNS",0,"DNS",0,"DNS",0,"DNS",0,{"$f":"IF('Last Race Results'!$B$5=0,0,IF(ISNA(VLOOKUP($A12,'Last Race Results'!$A$5:$J$44,2,FALSE)),\"DNS\",VLOOKUP($A12,'Last Race Results'!$A$5:$J$44,2,FALSE)))","v":"DNS"},{"$f":"IF('Last Race Results'!$B$5=0,0,IF(ISNA(VLOOKUP($A12,'Last Race Results'!$A$5:$K$44,11,FALSE)),0,VLOOKUP($A12,'Last Race Results'!$A$5:$K$44,11,FALSE)))","v":0},null,null,null,null,null,null,null,null,null,null,null,null,null,null,null,null,null,null,{"$f":"IF('Last Race Results'!$B$5=0,0,IF(ISNA(VLOOKUP($A12,'Last Race Results'!$A$5:$J$44,2,FALSE)),\"DNS\",VLOOKUP($A12,'Last Race Results'!$A$5:$J$44,2,FALSE)))","v":"DNS"},{"$f":"IF('Last Race Results'!$B$5=0,0,IF(ISNA(VLOOKUP($A12,'Last Race Results'!$A$5:$J$44,11,FALSE)),0,VLOOKUP($A12,'Last Race Results'!$A$5:$J$44,11,FALSE)))","v":0}]
[6,{"$f":"IF(ISNA(VLOOKUP($A13,'Entry List'!$A$1:$F$61,B$5,FALSE)),\"\",VLOOKUP($A13,'Entry List'!$A$1:$F$61,B$5,FALSE))","v":"Matt Kenseth"},{"$f":"IF(ISNA(VLOOKUP($A13,'Entry List'!$A$1:$F$61,C$5,FALSE)),\"\",VLOOKUP($A13,'Entry List'!$A$1:$F$61,C$5,FALSE))","v":"Ford"},{"$f":"IF(ISNA(VLOOKUP($A13,'Entry List'!$A$1:$F$61,D$5,FALSE)),\"\",VLOOKUP($A13,'Entry List'!$A$1:$F$61,D$5,FALSE))","v":"Roush Fenway Racing"},{"$f":"IF(ISNA(VLOOKUP($A13,'Entry List'!$A$1:$F$61,E$5,FALSE)),\"\",VLOOKUP($A13,'Entry List'!$A$1:$F$61,E$5,FALSE))","v":"Roush Fenway Racing"},null,13,28,35,2,20,17,20,17,37,1,33,4,12,29,24,13,21,16,38,1,19,18,36,1,17,20,13,24,33,4,27,10,26,11,20,19,19,18,15,22,18,19,29,9,34,3,11,26,25,12,{"$f":"IF('Last Race Results'!$B$5=0,0,IF(ISNA(VLOOKUP($A13,'Last Race Results'!$A$5:$J$44,2,FALSE)),\"DNS\",VLOOKUP($A13,'Last Race Results'!$A$5:$J$44,2,FALSE)))","v":12},{"$f":"IF('Last Race Results'!$B$5=0,0,IF(ISNA(VLOOKUP($A13,'Last Race Results'!$A$5:$K$44,11,FALSE)),0,VLOOKUP($A13,'Last Race Results'!$A$5:$K$44,11,FALSE)))","v":35},null,null,null,null,null,null,null,null,null,null,null,null,null,null,null,null,null,null,{"$f":"IF('Last Race Results'!$B$5=0,0,IF(ISNA(VLOOKUP($A13,'Last Race Results'!$A$5:$J$44,2,FALSE)),\"DNS\",VLOOKUP($A13,'Last Race Results'!$A$5:$J$44,2,FALSE)))","v":12},{"$f":"IF('Last Race Results'!$B$5=0,0,IF(ISNA(VLOOKUP($A13,'Last Race Results'!$A$5:$J$44,11,FALSE)),0,VLOOKUP($A13,'Last Race Results'!$A$5:$J$44,11,FALSE)))","v":{"$error":"#REF!"}}]
[7,{"$f":"IF(ISNA(VLOOKUP($A14,'Entry List'!$A$1:$F$61,B$5,FALSE)),\"\",VLOOKUP($A14,'Entry List'!$A$1:$F$61,B$5,FALSE))","v":"Reed Sorenson"},{"$f":"IF(ISNA(VLOOKUP($A14,'Entry List'!$A$1:$F$61,C$5,FALSE)),\"\",VLOOKUP($A14,'Entry List'!$A$1:$F$61,C$5,FALSE))","v":"Chevrolet"},{"$f":"IF(ISNA(VLOOKUP($A14,'Entry List'!$A$1:$F$61,D$5,FALSE)),\"\",VLOOKUP($A14,'Entry List'!$A$1:$F$61,D$5,FALSE))","v":"Premium Motorsports"},{"$f":"IF(ISNA(VLOOKUP($A14,'Entry List'!$A$1:$F$61,E$5,FALSE)),\"\",VLOOKUP($A14,'Entry List'!$A$1:$F$61,E$5,FALSE))","v":"Premium Motorsports"},null,35,2,"DNS",0,"DNS",0,"DNS",0,"DNS",0,"DNS",0,"DNS",0,"DNS",0,"DNS",0,"DNS",0,"DNS",0,"DNS",0,38,1,32,5,34,3,"DNS",0,32,5,11,26,35,2,"DNS",0,32,5,"DNS",0,32,5,32,5,"DNS",0,{"$f":"IF('Last Race Results'!$B$5=0,0,IF(ISNA(VLOOKUP($A14,'Last Race Results'!$A$5:$J$44,2,FALSE)),\"DNS\",VLOOKUP($A14,'Last Race Results'!$A$5:$J$44,2,FALSE)))","v":28},{"$f":"IF('Last Race Results'!$B$5=0,0,IF(ISNA(VLOOKUP($A14,'Last Race Results'!$A$5:$K$44,11,FALSE)),0,VLOOKUP($A14,'Last Race Results'!$A$5:$K$44,11,FALSE)))","v":9},null,null,null,null,null,null,null,null,null,null,null,null,null,null,null,null,null,null,{"$f":"IF('Last Race Results'!$B$5=0,0,IF(ISNA(VLOOKUP($A14,'Last Race Results'!$A$5:$J$44,2,FALSE)),\"DNS\",VLOOKUP($A14,'Last Race Results'!$A$5:$J$44,2,FALSE)))","v":28},{"$f":"IF('Last Race Results'!$B$5=0,0,IF(ISNA(VLOOKUP($A14,'Last Race Results'!$A$5:$J$44,11,FALSE)),0,VLOOKUP($A14,'Last Race Results'!$A$5:$J$44,11,FALSE)))","v":{"$error":"#REF!"}}]
[8,{"$f":"IF(ISNA(VLOOKUP($A15,'Entry List'!$A$1:$F$61,B$5,FALSE)),\"\",VLOOKUP($A15,'Entry List'!$A$1:$F$61,B$5,FALSE))","v":""},{"$f":"IF(ISNA(VLOOKUP($A15,'Entry List'!$A$1:$F$61,C$5,FALSE)),\"\",VLOOKUP($A15,'Entry List'!$A$1:$F$61,C$5,FALSE))","v":""},{"$f":"IF(ISNA(VLOOKUP($A15,'Entry List'!$A$1:$F$61,D$5,FALSE)),\"\",VLOOKUP($A15,'Entry List'!$A$1:$F$61,D$5,FALSE))","v":""},{"$f":"IF(ISNA(VLOOKUP($A15,'Entry List'!$A$1:$F$61,E$5,FALSE)),\"\",VLOOKUP($A15,'Entry List'!$A$1:$F$61,E$5,FALSE))","v":""},null,"DNS",0,"DNS",0,"DNS",0,"DNS",0,"DNS",0,"DNS",0,"DNS",0,"DNS",0,32,5,"DNS",0,"DNS",0,"DNS",0,"DNS",0,"DNS",0,"DNS",0,"DNS",0,"DNS",0,"DNS",0,"DNS",0,"DNS",0,"DNS",0,"DNS",0,"DNS",0,"DNS",0,"DNS",0,{"$f":"IF('Last Race Results'!$B$5=0,0,IF(ISNA(VLOOKUP($A15,'Last Race Results'!$A$5:$J$44,2,FALSE)),\"DNS\",VLOOKUP($A15,'Last Race Results'!$A$5:$J$44,2,FALSE)))","v":"DNS"},{"$f":"IF('Last Race Results'!$B$5=0,0,IF(ISNA(VLOOKUP($A15,'Last Race Results'!$A$5:$K$44,11,FALSE)),0,VLOOKUP($A15,'Last Race Results'!$A$5:$K$44,11,FALSE)))","v":0},null,null,null,null,null,null,null,null,null,null,null,null,null,null,null,null,null,null,{"$f":"IF('Last Race Results'!$B$5=0,0,IF(ISNA(VLOOKUP($A15,'Last Race Results'!$A$5:$J$44,2,FALSE)),\"DNS\",VLOOKUP($A15,'Last Race Results'!$A$5:$J$44,2,FALSE)))","v":"DNS"},{"$f":"IF('Last Race Results'!$B$5=0,0,IF(ISNA(VLOOKUP($A15,'Last Race Results'!$A$5:$J$44,11,FALSE)),0,VLOOKUP($A15,'Last Race Results'!$A$5:$J$44,11,FALSE)))","v":0}]
[9,{"$f":"IF(ISNA(VLOOKUP($A16,'Entry List'!$A$1:$F$61,B$5,FALSE)),\"\",VLOOKUP($A16,'Entry List'!$A$1:$F$61,B$5,FALSE))","v":"Chase Elliott"},{"$f":"IF(ISNA(VLOOKUP($A16,'Entry List'!$A$1:$F$61,C$5,FALSE)),\"\",VLOOKUP($A16,'Entry List'!$A$1:$F$61,C$5,FALSE))","v":"Chevrolet"},{"$f":"IF(ISNA(VLOOKUP($A16,'Entry List'!$A$1:$F$61,D$5,FALSE)),\"\",VLOOKUP($A16,'Entry List'!$A$1:$F$61,D$5,FALSE))","v":"Hendrick Motorsports"},{"$f":"IF(ISNA(VLOOKUP($A16,'Entry List'!$A$1:$F$61,E$5,FALSE)),\"\",VLOOKUP($A16,'Entry List'!$A$1:$F$61,E$5,FALSE))","v":"Hendrick Motorsports"},null,33,7,10,27,34,8,3,39,16,21,9,28,11,33,29,8,2,39,3,34,12,29,12,29,11,30,10,38,9,28,4,49,19,24,34,9,13,25,5,51,7,49,1,50,9,28,3,50,5,40,{"$f":"IF('Last Race Results'!$B$5=0,0,IF(ISNA(VLOOKUP($A16,'Last Race Results'!$A$5:$J$44,2,FALSE)),\"DNS\",VLOOKUP($A16,'Last Race Results'!$A$5:$J$44,2,FALSE)))","v":15},{"$f":"IF('Last Race Results'!$B$5=0,0,IF(ISNA(VLOOKUP($A16,'Last Race Results'!$A$5:$K$44,11,FALSE)),0,VLOOKUP($A16,'Last Race Results'!$A$5:$K$44,11,FALSE)))","v":33},null,null,null,null,null,null,null,null,null,null,null,null,null,null,null,null,null,null,{"$f":"IF('Last Race Results'!$B$5=0,0,IF(ISNA(VLOOKUP($A16,'Last Race Results'!$A$5:$J$44,2,FALSE)),\"DNS\",VLOOKUP($A16,'Last Race Results'!$A$5:$J$44,2,FALSE)))","v":15},{"$f":"IF('Last Race Results'!$B$5=0,0,IF(ISNA(VLOOKUP($A16,'Last Race Results'!$A$5:$J$44,11,FALSE)),0,VLOOKUP($A16,'Last Race Results'!$A$5:$J$44,11,FALSE)))","v":{"$error":"#REF!"}}]
[10,{"$f":"IF(ISNA(VLOOKUP($A17,'Entry List'!$A$1:$F$61,B$5,FALSE)),\"\",VLOOKUP($A17,'Entry List'!$A$1:$F$61,B$5,FALSE))","v":"Aric Almirola"},{"$f":"IF(ISNA(VLOOKUP($A17,'Entry List'!$A$1:$F$61,C$5,FALSE)),\"\",VLOOKUP($A17,'Entry List'!$A$1:$F$61,C$5,FALSE))","v":"Ford"},{"$f":"IF(ISNA(VLOOKUP($A17,'Entry List'!$A$1:$F$61,D$5,FALSE)),\"\",VLOOKUP($A17,'Entry List'!$A$1:$F$61,D$5,FALSE))","v":"Stewart-Haas Racing"},{"$f":"IF(ISNA(VLOOKUP($A17,'Entry List'!$A$1:$F$61,E$5,FALSE)),\"\",VLOOKUP($A17,'Entry List'!$A$1:$F$61,E$5,FALSE))","v":"Stewart-Haas Racing"},null,11,33,13,33,10,27,7,30,12,29,14,23,32,6,6,34,17,37,7,30,11,26,9,38,13,34,7,30,11,27,8,38,25,22,27,10,8,31,3,41,25,12,22,15,7,37,31,19,14,23,{"$f":"IF('Last Race Results'!$B$5=0,0,IF(ISNA(VLOOKUP($A17,'Last Race Results'!$A$5:$J$44,2,FALSE)),\"DNS\",VLOOKUP($A17,'Last Race Results'!$A$5:$J$44,2,FALSE)))","v":23},{"$f":"IF('Last Race Results'!$B$5=0,0,IF(ISNA(VLOOKUP($A17,'Last Race Results'!$A$5:$K$44,11,FALSE)),0,VLOOKUP($A17,'Last Race Results'!$A$5:$K$44,11,FALSE)))","v":18},null,null,null,null,null,null,null,null,null,null,null,null,null,null,null,null,null,null,{"$f":"IF('Last Race Results'!$B$5=0,0,IF(ISNA(VLOOKUP($A17,'Last Race Results'!$A$5:$J$44,2,FALSE)),\"DNS\",VLOOKUP($A17,'Last Race Results'!$A$5:$J$44,2,FALSE)))","v":23},{"$f":"IF('Last Race Results'!$B$5=0,0,IF(ISNA(VLOOKUP($A17,'Last Race Results'!$A$5:$J$44,11,FALSE)),0,VLOOKUP($A17,'Last Race Results'!$A$5:$J$44,11,FALSE)))","v":{"$error":"#REF!"}}]
[11,{"$f":"IF(ISNA(VLOOKUP($A18,'Entry List'!$A$1:$F$61,B$5,FALSE)),\"\",VLOOKUP($A18,'Entry List'!$A$1:$F$61,B$5,FALSE))","v":"Denny Hamlin"},{"$f":"IF(ISNA(VLOOKUP($A18,'Entry List'!$A$1:$F$61,C$5,FALSE)),\"\",VLOOKUP($A18,'Entry List'!$A$1:$F$61,C$5,FALSE))","v":"Toyota"},{"$f":"IF(ISNA(VLOOKUP($A18,'Entry List'!$A$1:$F$61,D$5,FALSE)),\"\",VLOOKUP($A18,'Entry List'!$A$1:$F$61,D$5,FALSE))","v":"Joe Gibbs Racing"},{"$f":"IF(ISNA(VLOOKUP($A18,'Entry List'!$A$1:$F$61,E$5,FALSE)),\"\",VLOOKUP($A18,'Entry List'!$A$1:$F$61,E$5,FALSE))","v":"Joe Gibbs Racing"},null,3,35,4,40,17,20,4,40,6,39,12,29,34,5,14,23,3,34,14,23,7,30,5,36,3,49,35,8,12,29,10,37,7,32,38,1,16,21,13,24,10,35,13,32,8,34,14,23,10,31,{"$f":"IF('Last Race Results'!$B$5=0,0,IF(ISNA(VLOOKUP($A18,'Last Race Results'!$A$5:$J$44,2,FALSE)),\"DNS\",VLOOKUP($A18,'Last Race Results'!$A$5:$J$44,2,FALSE)))","v":3},{"$f":"IF('Last Race Results'!$B$5=0,0,IF(ISNA(VLOOKUP($A18,'Last Race Results'!$A$5:$K$44,11,FALSE)),0,VLOOKUP($A18,'Last Race Results'!$A$5:$K$44,11,FALSE)))","v":42},null,null,null,null,null,null,null,null,null,null,null,null,null,null,null,null,null,null,{"$f":"IF('Last Race Results'!$B$5=0,0,IF(ISNA(VLOOKUP($A18,'Last Race Results'!$A$5:$J$44,2,FALSE)),\"DNS\",VLOOKUP($A18,'Last Race Results'!$A$5:$J$44,2,FALSE)))","v":3},{"$f":"IF('Last Race Results'!$B$5=0,0,IF(ISNA(VLOOKUP($A18,'Last Race Results'!$A$5:$J$44,11,FALSE)),0,VLOOKUP($A18,'Last Race Results'!$A$5:$J$44,11,FALSE)))","v":{"$error":"#REF!"}}]
[12,{"$f":"IF(ISNA(VLOOKUP($A19,'Entry List'!$A$1:$F$61,B$5,FALSE)),\"\",VLOOKUP($A19,'Entry List'!$A$1:$F$61,B$5,FALSE))","v":"Ryan Blaney"},{"$f":"IF(ISNA(VLOOKUP($A19,'Entry List'!$A$1:$F$61,C$5,FALSE)),\"\",VLOOKUP($A19,'Entry List'!$A$1:$F$61,C$5,FALSE))","v":"Ford"},{"$f":"IF(ISNA(VLOOKUP($A19,'Entry List'!$A$1:$F$61,D$5,FALSE)),\"\",VLOOKUP($A19,'Entry List'!$A$1:$F$61,D$5,FALSE))","v":"Team Penske"},{"$f":"IF(ISNA(VLOOKUP($A19,'Entry List'!$A$1:$F$61,E$5,FALSE)),\"\",VLOOKUP($A19,'Entry List'!$A$1:$F$61,E$5,FALSE))","v":"Team Penske"},null,7,48,12,29,5,48,16,21,8,29,3,52,5,32,35,2,22,15,18,31,8,33,37,19,36,10,6,38,8,44,34,9,18,29,"DNS",0,2,50,7,38,12,28,12,27,5,48,7,46,15,22,{"$f":"IF('Last Race Results'!$B$5=0,0,IF(ISNA(VLOOKUP($A19,'Last Race Results'!$A$5:$J$44,2,FALSE)),\"DNS\",VLOOKUP($A19,'Last Race Results'!$A$5:$J$44,2,FALSE)))","v":11},{"$f":"IF('Last Race Results'!$B$5=0,0,IF(ISNA(VLOOKUP($A19,'Last Race Results'!$A$5:$K$44,11,FALSE)),0,VLOOKUP($A19,'Last Race Results'!$A$5:$K$44,11,FALSE)))","v":26},null,null,null,null,null,null,null,null,null,null,null,null,null,null,null,null,null,null,{"$f":"IF('Last Race Results'!$B$5=0,0,IF(ISNA(VLOOKUP($A19,'Last Race Results'!$A$5:$J$44,2,FALSE)),\"DNS\",VLOOKUP($A19,'Last Race Results'!$A$5:$J$44,2,FALSE)))","v":11},{"$f":"IF('Last Race Results'!$B$5=0,0,IF(ISNA(VLOOKUP($A19,'Last Race Results'!$A$5:$J$44,11,FALSE)),0,VLOOKUP($A19,'Last Race Results'!$A$5:$J$44,11,FALSE)))","v":{"$error":"#REF!"}}]
[13,{"$f":"IF(ISNA(VLOOKUP($A20,'Entry List'!$A$1:$F$61,B$5,FALSE)),\"\",VLOOKUP($A20,'Entry List'!$A$1:$F$61,B$5,FALSE))","v":"Ty Dillon"},{"$f":"IF(ISNA(VLOOKUP($A20,'Entry List'!$A$1:$F$61,C$5,FALSE)),\"\",VLOOKUP($A20,'Entry List'!$A$1:$F$61,C$5,FALSE))","v":"Chevrolet"},{"$f":"IF(ISNA(VLOOKUP($A20,'Entry List'!$A$1:$F$61,D$5,FALSE)),\"\",VLOOKUP($A20,'Entry List'!$A$1:$F$61,D$5,FALSE))","v":"Germain Racing"},{"$f":"IF(ISNA(VLOOKUP($A20,'Entry List'!$A$1:$F$61,E$5,FALSE)),\"\",VLOOKUP($A20,'Entry List'!$A$1:$F$61,E$5,FALSE))","v":"Germain Racing"},null,39,1,26,11,24,13,30,12,27,10,22,15,13,24,28,9,20,17,15,22,24,13,38,1,21,16,23,14,21,16,33,4,28,9,6,37,29,8,23,14,24,13,23,14,38,1,21,16,21,16,{"$f":"IF('Last Race Results'!$B$5=0,0,IF(ISNA(VLOOKUP($A20,'Last Race Results'!$A$5:$J$44,2,FALSE)),\"DNS\",VLOOKUP($A20,'Last Race Results'!$A$5:$J$44,2,FALSE)))","v":21},{"$f":"IF('Last Race Results'!$B$5=0,0,IF(ISNA(VLOOKUP($A20,'Last Race Results'!$A$5:$K$44,11,FALSE)),0,VLOOKUP($A20,'Last Race Results'!$A$5:$K$44,11,FALSE)))","v":16},null,null,null,null,null,null,null,null,null,null,null,null,null,null,null,null,null,null,{"$f":"IF('Last Race Results'!$B$5=0,0,IF(ISNA(VLOOKUP($A20,'Last Race Results'!$A$5:$J$44,2,FALSE)),\"DNS\",VLOOKUP($A20,'Last Race Results'!$A$5:$J$44,2,FALSE)))","v":21},{"$f":"IF('Last Race Results'!$B$5=0,0,IF(ISNA(VLOOKUP($A20,'Last Race Results'!$A$5:$J$44,11,FALSE)),0,VLOOKUP($A20,'Last Race Results'!$A$5:$J$44,11,FALSE)))","v":{"$error":"#REF!"}}]
[14,{"$f":"IF(ISNA(VLOOKUP($A21,'Entry List'!$A$1:$F$61,B$5,FALSE)),\"\",VLOOKUP($A21,'Entry List'!$A$1:$F$61,B$5,FALSE))","v":"Clint Bowyer"},{"$f":"IF(ISNA(VLOOKUP($A21,'Entry List'!$A$1:$F$61,C$5,FALSE)),\"\",VLOOKUP($A21,'Entry List'!$A$1:$F$61,C$5,FALSE))","v":"Ford"},{"$f":"IF(ISNA(VLOOKUP($A21,'Entry List'!$A$1:$F$61,D$5,FALSE)),\"\",VLOOKUP($A21,'Entry List'!$A$1:$F$61,D$5,FALSE))","v":"Stewart-Haas Racing"},{"$f":"IF(ISNA(VLOOKUP($A21,'Entry List'!$A$1:$F$61,E$5,FALSE)),\"\",VLOOKUP($A21,'Entry List'!$A$1:$F$61,E$5,FALSE))","v":"Stewart-Haas Racing"},null,15,22,3,45,18,19,6,32,11,30,1,55,9,39,8,37,9,43,31,6,2,45,9,26,13,29,20,32,1,57,3,34,5,35,22,15,12,35,35,9,11,39,11,26,12,29,6,44,36,1,{"$f":"IF('Last Race Results'!$B$5=0,0,IF(ISNA(VLOOKUP($A21,'Last Race Results'!$A$5:$J$44,2,FALSE)),\"DNS\",VLOOKUP($A21,'Last Race Results'!$A$5:$J$44,2,FALSE)))","v":5},{"$f":"IF('Last Race Results'!$B$5=0,0,IF(ISNA(VLOOKUP($A21,'Last Race Results'!$A$5:$K$44,11,FALSE)),0,VLOOKUP($A21,'Last Race Results'!$A$5:$K$44,11,FALSE)))","v":42},null,null,null,null,null,null,null,null,null,null,null,null,null,null,null,null,null,null,{"$f":"IF('Last Race Results'!$B$5=0,0,IF(ISNA(VLOOKUP($A21,'Last Race Results'!$A$5:$J$44,2,FALSE)),\"DNS\",VLOOKUP($A21,'Last Race Results'!$A$5:$J$44,2,FALSE)))","v":5},{"$f":"IF('Last Race Results'!$B$5=0,0,IF(ISNA(VLOOKUP($A21,'Last Race Results'!$A$5:$J$44,11,FALSE)),0,VLOOKUP($A21,'Last Race Results'!$A$5:$J$44,11,FALSE)))","v":{"$error":"#REF!"}}]
[15,{"$f":"IF(ISNA(VLOOKUP($A22,'Entry List'!$A$1:$F$61,B$5,FALSE)),\"\",VLOOKUP($A22,'Entry List'!$A$1:$F$61,B$5,FALSE))","v":"Ross Chastain (i)"},{"$f":"IF(ISNA(VLOOKUP($A22,'Entry List'!$A$1:$F$61,C$5,FALSE)),\"\",VLOOKUP($A22,'Entry List'!$A$1:$F$61,C$5,FALSE))","v":"Chevrolet"},{"$f":"IF(ISNA(VLOOKUP($A22,'Entry List'!$A$1:$F$61,D$5,FALSE)),\"\",VLOOKUP($A22,'Entry List'!$A$1:$F$61,D$5,FALSE))","v":"Premium Motorsports"},{"$f":"IF(ISNA(VLOOKUP($A22,'Entry List'!$A$1:$F$61,E$5,FALSE)),\"\",VLOOKUP($A22,'Entry List'!$A$1:$F$61,E$5,FALSE))","v":"Premium Motorsports"},null,"DNS",0,30,7,29,8,27,10,29,8,29,8,18,19,39,1,28,9,25,12,28,9,26,11,24,13,28,9,26,11,28,9,30,7,21,16,28,9,25,12,35,2,32,5,35,2,26,11,28,9,{"$f":"IF('Last Race Results'!$B$5=0,0,IF(ISNA(VLOOKUP($A22,'Last Race Results'!$A$5:$J$44,2,FALSE)),\"DNS\",VLOOKUP($A22,'Last Race Results'!$A$5:$J$44,2,FALSE)))","v":26},{"$f":"IF('Last Race Results'!$B$5=0,0,IF(ISNA(VLOOKUP($A22,'Last Race Results'!$A$5:$K$44,11,FALSE)),0,VLOOKUP($A22,'Last Race Results'!$A$5:$K$44,11,FALSE)))","v":11},null,null,null,null,null,null,null,null,null,null,null,null,null,null,null,null,null,null,{"$f":"IF('Last Race Results'!$B$5=0,0,IF(ISNA(VLOOKUP($A22,'Last Race Results'!$A$5:$J$44,2,FALSE)),\"DNS\",VLOOKUP($A22,'Last Race Results'!$A$5:$J$44,2,FALSE)))","v":26},{"$f":"IF('Last Race Results'!$B$5=0,0,IF(ISNA(VLOOKUP($A22,'Last Race Results'!$A$5:$J$44,11,FALSE)),0,VLOOKUP($A22,'Last Race Results'!$A$5:$J$44,11,FALSE)))","v":{"$error":"#REF!"}}]
[16,{"$f":"IF(ISNA(VLOOKUP($A23,'Entry List'!$A$1:$F$61,B$5,FALSE)),\"\",VLOOKUP($A23,'Entry List'!$A$1:$F$61,B$5,FALSE))","v":""},{"$f":"IF(ISNA(VLOOKUP($A23,'Entry List'!$A$1:$F$61,C$5,FALSE)),\"\",VLOOKUP($A23,'Entry List'!$A$1:$F$61,C$5,FALSE))","v":""},{"$f":"IF(ISNA(VLOOKUP($A23,'Entry List'!$A$1:$F$61,D$5,FALSE)),\"\",VLOOKUP($A23,'Entry List'!$A$1:$F$61,D$5,FALSE))","v":""},{"$f":"IF(ISNA(VLOOKUP($A23,'Entry List'!$A$1:$F$61,E$5,FALSE)),\"\",VLOOKUP($A23,'Entry List'!$A$1:$F$61,E$5,FALSE))","v":""},null,"DNS",0,"DNS",0,"DNS",0,"DNS",0,"DNS",0,"DNS",0,"DNS",0,"DNS",0,"DNS",0,"DNS",0,"DNS",0,"DNS",0,"DNS",0,"DNS",0,"DNS",0,"DNS",0,"DNS",0,"DNS",0,"DNS",0,"DNS",0,"DNS",0,"DNS",0,"DNS",0,"DNS",0,"DNS",0,{"$f":"IF('Last Race Results'!$B$5=0,0,IF(ISNA(VLOOKUP($A23,'Last Race Results'!$A$5:$J$44,2,FALSE)),\"DNS\",VLOOKUP($A23,'Last Race Results'!$A$5:$J$44,2,FALSE)))","v":"DNS"},{"$f":"IF('Last Race Results'!$B$5=0,0,IF(ISNA(VLOOKUP($A23,'Last Race Results'!$A$5:$K$44,11,FALSE)),0,VLOOKUP($A23,'Last Race Results'!$A$5:$K$44,11,FALSE)))","v":0},null,null,null,null,null,null,null,null,null,null,null,null,null,null,null,null,null,null,{"$f":"IF('Last Race Results'!$B$5=0,0,IF(ISNA(VLOOKUP($A23,'Last Race Results'!$A$5:$J$44,2,FALSE)),\"DNS\",VLOOKUP($A23,'Last Race Results'!$A$5:$J$44,2,FALSE)))","v":"DNS"},{"$f":"IF('Last Race Results'!$B$5=0,0,IF(ISNA(VLOOKUP($A23,'Last Race Results'!$A$5:$J$44,11,FALSE)),0,VLOOKUP($A23,'Last Race Results'!$A$5:$J$44,11,FALSE)))","v":0}]
[17,{"$f":"IF(ISNA(VLOOKUP($A24,'Entry List'!$A$1:$F$61,B$5,FALSE)),\"\",VLOOKUP($A24,'Entry List'!$A$1:$F$61,B$5,FALSE))","v":"Ricky Stenhouse Jr."},{"$f":"IF(ISNA(VLOOKUP($A24,'Entry List'!$A$1:$F$61,C$5,FALSE)),\"\",VLOOKUP($A24,'Entry List'!$A$1:$F$61,C$5,FALSE))","v":"Ford"},{"$f":"IF(ISNA(VLOOKUP($A24,'Entry List'!$A$1:$F$61,D$5,FALSE)),\"\",VLOOKUP($A24,'Entry List'!$A$1:$F$61,D$5,FALSE))","v":"Roush Fenway Racing"},{"$f":"IF(ISNA(VLOOKUP($A24,'Entry List'!$A$1:$F$61,E$5,FALSE)),\"\",VLOOKUP($A24,'Entry List'!$A$1:$F$61,E$5,FALSE))","v":"Roush Fenway Racing"},null,29,15,16,21,14,23,23,22,18,19,37,1,25,15,4,39,23,14,5,41,15,22,11,26,10,31,14,23,29,8,18,19,16,21,17,40,26,11,30,7,22,15,16,21,18,19,24,13,12,25,{"$f":"IF('Last Race Results'!$B$5=0,0,IF(ISNA(VLOOKUP($A24,'Last Race Results'!$A$5:$J$44,2,FALSE)),\"DNS\",VLOOKUP($A24,'Last Race Results'!$A$5:$J$44,2,FALSE)))","v":34},{"$f":"IF('Last Race Results'!$B$5=0,0,IF(ISNA(VLOOKUP($A24,'Last Race Results'!$A$5:$K$44,11,FALSE)),0,VLOOKUP($A24,'Last Race Results'!$A$5:$K$44,11,FALSE)))","v":3},null,null,null,null,null,null,null,null,null,null,null,null,null,null,null,null,null,null,{"$f":"IF('Last Race Results'!$B$5=0,0,IF(ISNA(VLOOKUP($A24,'Last Race Results'!$A$5:$J$44,2,FALSE)),\"DNS\",VLOOKUP($A24,'Last Race Results'!$A$5:$J$44,2,FALSE)))","v":34},{"$f":"IF('Last Race Results'!$B$5=0,0,IF(ISNA(VLOOKUP($A24,'Last Race Results'!$A$5:$J$44,11,FALSE)),0,VLOOKUP($A24,'Last Race Results'!$A$5:$J$44,11,FALSE)))","v":{"$error":"#REF!"}}]
[18,{"$f":"IF(ISNA(VLOOKUP($A25,'Entry List'!$A$1:$F$61,B$5,FALSE)),\"\",VLOOKUP($A25,'Entry List'!$A$1:$F$61,B$5,FALSE))","v":"Kyle Busch"},{"$f":"IF(ISNA(VLOOKUP($A25,'Entry List'!$A$1:$F$61,C$5,FALSE)),\"\",VLOOKUP($A25,'Entry List'!$A$1:$F$61,C$5,FALSE))","v":"Toyota"},{"$f":"IF(ISNA(VLOOKUP($A25,'Entry List'!$A$1:$F$61,D$5,FALSE)),\"\",VLOOKUP($A25,'Entry List'!$A$1:$F$61,D$5,FALSE))","v":"Joe Gibbs Racing"},{"$f":"IF(ISNA(VLOOKUP($A25,'Entry List'!$A$1:$F$61,E$5,FALSE)),\"\",VLOOKUP($A25,'Entry List'!$A$1:$F$61,E$5,FALSE))","v":"Joe Gibbs Racing"},null,25,12,7,43,2,43,2,52,3,51,2,50,1,59,1,49,1,50,13,32,35,19,10,37,1,70,3,51,4,40,5,32,1,40,33,13,4,50,2,45,1,47,3,43,3,52,20,17,7,35,{"$f":"IF('Last Race Results'!$B$5=0,0,IF(ISNA(VLOOKUP($A25,'Last Race Results'!$A$5:$J$44,2,FALSE)),\"DNS\",VLOOKUP($A25,'Last Race Results'!$A$5:$J$44,2,FALSE)))","v":8},{"$f":"IF('Last Race Results'!$B$5=0,0,IF(ISNA(VLOOKUP($A25,'Last Race Results'!$A$5:$K$44,11,FALSE)),0,VLOOKUP($A25,'Last Race Results'!$A$5:$K$44,11,FALSE)))","v":35},null,null,null,null,null,null,null,null,null,null,null,null,null,null,null,null,null,null,{"$f":"IF('Last Race Results'!$B$5=0,0,IF(ISNA(VLOOKUP($A25,'Last Race Results'!$A$5:$J$44,2,FALSE)),\"DNS\",VLOOKUP($A25,'Last Race Results'!$A$5:$J$44,2,FALSE)))","v":8},{"$f":"IF('Last Race Results'!$B$5=0,0,IF(ISNA(VLOOKUP($A25,'Last Race Results'!$A$5:$J$44,11,FALSE)),0,VLOOKUP($A25,'Last Race Results'!$A$5:$J$44,11,FALSE)))","v":{"$error":"#REF!"}}]
[19,{"$f":"IF(ISNA(VLOOKUP($A26,'Entry List'!$A$1:$F$61,B$5,FALSE)),\"\",VLOOKUP($A26,'Entry List'!$A$1:$F$61,B$5,FALSE))","v":"Daniel Suárez"},{"$f":"IF(ISNA(VLOOKUP($A26,'Entry List'!$A$1:$F$61,C$5,FALSE)),\"\",VLOOKUP($A26,'Entry List'!$A$1:$F$61,C$5,FALSE))","v":"Toyota"},{"$f":"IF(ISNA(VLOOKUP($A26,'Entry List'!$A$1:$F$61,D$5,FALSE)),\"\",VLOOKUP($A26,'Entry List'!$A$1:$F$61,D$5,FALSE))","v":"Joe Gibbs Racing"},{"$f":"IF(ISNA(VLOOKUP($A26,'Entry List'!$A$1:$F$61,E$5,FALSE)),\"\",VLOOKUP($A26,'Entry List'!$A$1:$F$61,E$5,FALSE))","v":"Joe Gibbs Racing"},null,37,1,15,23,26,11,8,29,23,14,18,19,29,8,11,26,10,27,10,27,3,46,28,9,15,22,24,13,30,7,15,25,11,26,35,2,15,26,22,15,2,41,4,34,11,26,18,19,29,8,{"$f":"IF('Last Race Results'!$B$5=0,0,IF(ISNA(VLOOKUP($A26,'Last Race Results'!$A$5:$J$44,2,FALSE)),\"DNS\",VLOOKUP($A26,'Last Race Results'!$A$5:$J$44,2,FALSE)))","v":18},{"$f":"IF('Last Race Results'!$B$5=0,0,IF(ISNA(VLOOKUP($A26,'Last Race Results'!$A$5:$K$44,11,FALSE)),0,VLOOKUP($A26,'Last Race Results'!$A$5:$K$44,11,FALSE)))","v":24},null,null,null,null,null,null,null,null,null,null,null,null,null,null,null,null,null,null,{"$f":"IF('Last Race Results'!$B$5=0,0,IF(ISNA(VLOOKUP($A26,'Last Race Results'!$A$5:$J$44,2,FALSE)),\"DNS\",VLOOKUP($A26,'Last Race Results'!$A$5:$J$44,2,FALSE)))","v":18},{"$f":"IF('Last Race Results'!$B$5=0,0,IF(ISNA(VLOOKUP($A26,'Last Race Results'!$A$5:$J$44,11,FALSE)),0,VLOOKUP($A26,'Last Race Results'!$A$5:$J$44,11,FALSE)))","v":{"$error":"#REF!"}}]
[20,{"$f":"IF(ISNA(VLOOKUP($A27,'Entry List'!$A$1:$F$61,B$5,FALSE)),\"\",VLOOKUP($A27,'Entry List'!$A$1:$F$61,B$5,FALSE))","v":"Erik Jones"},{"$f":"IF(ISNA(VLOOKUP($A27,'Entry List'!$A$1:$F$61,C$5,FALSE)),\"\",VLOOKUP($A27,'Entry List'!$A$1:$F$61,C$5,FALSE))","v":"Toyota"},{"$f":"IF(ISNA(VLOOKUP($A27,'Entry List'!$A$1:$F$61,D$5,FALSE)),\"\",VLOOKUP($A27,'Entry List'!$A$1:$F$61,D$5,FALSE))","v":"Joe Gibbs Racing"},{"$f":"IF(ISNA(VLOOKUP($A27,'Entry List'!$A$1:$F$61,E$5,FALSE)),\"\",VLOOKUP($A27,'Entry List'!$A$1:$F$61,E$5,FALSE))","v":"Joe Gibbs Racing"},null,36,1,11,26,8,29,9,29,7,39,17,20,4,41,26,16,13,24,39,1,18,19,7,32,19,29,29,8,15,24,7,30,6,32,1,40,7,32,16,21,5,32,5,39,13,24,5,39,8,44,{"$f":"IF('Last Race Results'!$B$5=0,0,IF(ISNA(VLOOKUP($A27,'Last Race Results'!$A$5:$J$44,2,FALSE)),\"DNS\",VLOOKUP($A27,'Last Race Results'!$A$5:$J$44,2,FALSE)))","v":2},{"$f":"IF('Last Race Results'!$B$5=0,0,IF(ISNA(VLOOKUP($A27,'Last Race Results'!$A$5:$K$44,11,FALSE)),0,VLOOKUP($A27,'Last Race Results'!$A$5:$K$44,11,FALSE)))","v":44},null,null,null,null,null,null,null,null,null,null,null,null,null,null,null,null,null,null,{"$f":"IF('Last Race Results'!$B$5=0,0,IF(ISNA(VLOOKUP($A27,'Last Race Results'!$A$5:$J$44,2,FALSE)),\"DNS\",VLOOKUP($A27,'Last Race Results'!$A$5:$J$44,2,FALSE)))","v":2},{"$f":"IF('Last Race Results'!$B$5=0,0,IF(ISNA(VLOOKUP($A27,'Last Race Results'!$A$5:$J$44,11,FALSE)),0,VLOOKUP($A27,'Last Race Results'!$A$5:$J$44,11,FALSE)))","v":{"$error":"#REF!"}}]
[21,{"$f":"IF(ISNA(VLOOKUP($A28,'Entry List'!$A$1:$F$61,B$5,FALSE)),\"\",VLOOKUP($A28,'Entry List'!$A$1:$F$61,B$5,FALSE))","v":"Paul Menard"},{"$f":"IF(ISNA(VLOOKUP($A28,'Entry List'!$A$1:$F$61,C$5,FALSE)),\"\",VLOOKUP($A28,'Entry List'!$A$1:$F$61,C$5,FALSE))","v":"Ford"},{"$f":"IF(ISNA(VLOOKUP($A28,'Entry List'!$A$1:$F$61,D$5,FALSE)),\"\",VLOOKUP($A28,'Entry List'!$A$1:$F$61,D$5,FALSE))","v":"Wood Brothers Racing"},{"$f":"IF(ISNA(VLOOKUP($A28,'Entry List'!$A$1:$F$61,E$5,FALSE)),\"\",VLOOKUP($A28,'Entry List'!$A$1:$F$61,E$5,FALSE))","v":"Wood Brothers Racing"},null,6,42,17,20,9,30,36,1,19,18,13,24,30,7,13,24,24,13,30,23,34,3,6,31,14,23,11,26,5,38,26,11,13,24,28,9,11,33,17,20,21,16,28,11,16,21,36,1,17,20,{"$f":"IF('Last Race Results'!$B$5=0,0,IF(ISNA(VLOOKUP($A28,'Last Race Results'!$A$5:$J$44,2,FALSE)),\"DNS\",VLOOKUP($A28,'Last Race Results'!$A$5:$J$44,2,FALSE)))","v":9},{"$f":"IF('Last Race Results'!$B$5=0,0,IF(ISNA(VLOOKUP($A28,'Last Race Results'!$A$5:$K$44,11,FALSE)),0,VLOOKUP($A28,'Last Race Results'!$A$5:$K$44,11,FALSE)))","v":31},null,null,null,null,null,null,null,null,null,null,null,null,null,null,null,null,null,null,{"$f":"IF('Last Race Results'!$B$5=0,0,IF(ISNA(VLOOKUP($A28,'Last Race Results'!$A$5:$J$44,2,FALSE)),\"DNS\",VLOOKUP($A28,'Last Race Results'!$A$5:$J$44,2,FALSE)))","v":9},{"$f":"IF('Last Race Results'!$B$5=0,0,IF(ISNA(VLOOKUP($A28,'Last Race Results'!$A$5:$J$44,11,FALSE)),0,VLOOKUP($A28,'Last Race Results'!$A$5:$J$44,11,FALSE)))","v":{"$error":"#REF!"}}]
[22,{"$f":"IF(ISNA(VLOOKUP($A29,'Entry List'!$A$1:$F$61,B$5,FALSE)),\"\",VLOOKUP($A29,'Entry List'!$A$1:$F$61,B$5,FALSE))","v":"Joey Logano"},{"$f":"IF(ISNA(VLOOKUP($A29,'Entry List'!$A$1:$F$61,C$5,FALSE)),\"\",VLOOKUP($A29,'Entry List'!$A$1:$F$61,C$5,FALSE))","v":"Ford"},{"$f":"IF(ISNA(VLOOKUP($A29,'Entry List'!$A$1:$F$61,D$5,FALSE)),\"\",VLOOKUP($A29,'Entry List'!$A$1:$F$61,D$5,FALSE))","v":"Team Penske"},{"$f":"IF(ISNA(VLOOKUP($A29,'Entry List'!$A$1:$F$61,E$5,FALSE)),\"\",VLOOKUP($A29,'Entry List'!$A$1:$F$61,E$5,FALSE))","v":"Team Penske"},null,4,41,6,39,7,43,19,20,5,45,6,35,6,46,9,28,4,53,1,58,13,27,3,47,22,15,9,28,7,38,19,18,8,33,39,1,10,30,9,31,26,11,37,1,10,32,4,45,2,50,{"$f":"IF('Last Race Results'!$B$5=0,0,IF(ISNA(VLOOKUP($A29,'Last Race Results'!$A$5:$J$44,2,FALSE)),\"DNS\",VLOOKUP($A29,'Last Race Results'!$A$5:$J$44,2,FALSE)))","v":13},{"$f":"IF('Last Race Results'!$B$5=0,0,IF(ISNA(VLOOKUP($A29,'Last Race Results'!$A$5:$K$44,11,FALSE)),0,VLOOKUP($A29,'Last Race Results'!$A$5:$K$44,11,FALSE)))","v":31},null,null,null,null,null,null,null,null,null,null,null,null,null,null,null,null,null,null,{"$f":"IF('Last Race Results'!$B$5=0,0,IF(ISNA(VLOOKUP($A29,'Last Race Results'!$A$5:$J$44,2,FALSE)),\"DNS\",VLOOKUP($A29,'Last Race Results'!$A$5:$J$44,2,FALSE)))","v":13},{"$f":"IF('Last Race Results'!$B$5=0,0,IF(ISNA(VLOOKUP($A29,'Last Race Results'!$A$5:$J$44,11,FALSE)),0,VLOOKUP($A29,'Last Race Results'!$A$5:$J$44,11,FALSE)))","v":{"$error":"#REF!"}}]
[23,{"$f":"IF(ISNA(VLOOKUP($A30,'Entry List'!$A$1:$F$61,B$5,FALSE)),\"\",VLOOKUP($A30,'Entry List'!$A$1:$F$61,B$5,FALSE))","v":"J. J. Yeley (i)"},{"$f":"IF(ISNA(VLOOKUP($A30,'Entry List'!$A$1:$F$61,C$5,FALSE)),\"\",VLOOKUP($A30,'Entry List'!$A$1:$F$61,C$5,FALSE))","v":"Toyota"},{"$f":"IF(ISNA(VLOOKUP($A30,'Entry List'!$A$1:$F$61,D$5,FALSE)),\"\",VLOOKUP($A30,'Entry List'!$A$1:$F$61,D$5,FALSE))","v":"BK Racing"},{"$f":"IF(ISNA(VLOOKUP($A30,'Entry List'!$A$1:$F$61,E$5,FALSE)),\"\",VLOOKUP($A30,'Entry List'!$A$1:$F$61,E$5,FALSE))","v":"BK Racing"},null,20,17,36,1,33,4,34,3,32,5,36,1,20,17,31,6,35,2,24,13,30,7,29,8,31,6,33,4,31,6,30,7,31,6,18,19,38,1,33,4,28,9,35,2,30,7,27,10,40,1,{"$f":"IF('Last Race Results'!$B$5=0,0,IF(ISNA(VLOOKUP($A30,'Last Race Results'!$A$5:$J$44,2,FALSE)),\"DNS\",VLOOKUP($A30,'Last Race Results'!$A$5:$J$44,2,FALSE)))","v":29},{"$f":"IF('Last Race Results'!$B$5=0,0,IF(ISNA(VLOOKUP($A30,'Last Race Results'!$A$5:$K$44,11,FALSE)),0,VLOOKUP($A30,'Last Race Results'!$A$5:$K$44,11,FALSE)))","v":8},null,null,null,null,null,null,null,null,null,null,null,null,null,null,null,null,null,null,{"$f":"IF('Last Race Results'!$B$5=0,0,IF(ISNA(VLOOKUP($A30,'Last Race Results'!$A$5:$J$44,2,FALSE)),\"DNS\",VLOOKUP($A30,'Last Race Results'!$A$5:$J$44,2,FALSE)))","v":29},{"$f":"IF('Last Race Results'!$B$5=0,0,IF(ISNA(VLOOKUP($A30,'Last Race Results'!$A$5:$J$44,11,FALSE)),0,VLOOKUP($A30,'Last Race Results'!$A$5:$J$44,11,FALSE)))","v":{"$error":"#REF!"}}]
[24,{"$f":"IF(ISNA(VLOOKUP($A31,'Entry List'!$A$1:$F$61,B$5,FALSE)),\"\",VLOOKUP($A31,'Entry List'!$A$1:$F$61,B$5,FALSE))","v":"William Byron (R)"},{"$f":"IF(ISNA(VLOOKUP($A31,'Entry List'!$A$1:$F$61,C$5,FALSE)),\"\",VLOOKUP($A31,'Entry List'!$A$1:$F$61,C$5,FALSE))","v":"Chevrolet"},{"$f":"IF(ISNA(VLOOKUP($A31,'Entry List'!$A$1:$F$61,D$5,FALSE)),\"\",VLOOKUP($A31,'Entry List'!$A$1:$F$61,D$5,FALSE))","v":"Hendrick Motorsports"},{"$f":"IF(ISNA(VLOOKUP($A31,'Entry List'!$A$1:$F$61,E$5,FALSE)),\"\",VLOOKUP($A31,'Entry List'!$A$1:$F$61,E$5,FALSE))","v":"Hendrick Motorsports"},null,23,14,18,19,27,10,12,29,15,23,20,17,10,27,18,19,12,29,29,10,14,23,33,4,39,1,18,19,13,28,25,12,20,17,32,12,20,17,14,23,6,32,8,37,36,1,23,14,35,2,{"$f":"IF('Last Race Results'!$B$5=0,0,IF(ISNA(VLOOKUP($A31,'Last Race Results'!$A$5:$J$44,2,FALSE)),\"DNS\",VLOOKUP($A31,'Last Race Results'!$A$5:$J$44,2,FALSE)))","v":19},{"$f":"IF('Last Race Results'!$B$5=0,0,IF(ISNA(VLOOKUP($A31,'Last Race Results'!$A$5:$K$44,11,FALSE)),0,VLOOKUP($A31,'Last Race Results'!$A$5:$K$44,11,FALSE)))","v":18},null,null,null,null,null,null,null,null,null,null,null,null,null,null,null,null,null,null,{"$f":"IF('Last Race Results'!$B$5=0,0,IF(ISNA(VLOOKUP($A31,'Last Race Results'!$A$5:$J$44,2,FALSE)),\"DNS\",VLOOKUP($A31,'Last Race Results'!$A$5:$J$44,2,FALSE)))","v":19},{"$f":"IF('Last Race Results'!$B$5=0,0,IF(ISNA(VLOOKUP($A31,'Last Race Results'!$A$5:$J$44,11,FALSE)),0,VLOOKUP($A31,'Last Race Results'!$A$5:$J$44,11,FALSE)))","v":{"$error":"#REF!"}}]
[25,{"$f":"IF(ISNA(VLOOKUP($A32,'Entry List'!$A$1:$F$61,B$5,FALSE)),\"\",VLOOKUP($A32,'Entry List'!$A$1:$F$61,B$5,FALSE))","v":""},{"$f":"IF(ISNA(VLOOKUP($A32,'Entry List'!$A$1:$F$61,C$5,FALSE)),\"\",VLOOKUP($A32,'Entry List'!$A$1:$F$61,C$5,FALSE))","v":""},{"$f":"IF(ISNA(VLOOKUP($A32,'Entry List'!$A$1:$F$61,D$5,FALSE)),\"\",VLOOKUP($A32,'Entry List'!$A$1:$F$61,D$5,FALSE))","v":""},{"$f":"IF(ISNA(VLOOKUP($A32,'Entry List'!$A$1:$F$61,E$5,FALSE)),\"\",VLOOKUP($A32,'Entry List'!$A$1:$F$61,E$5,FALSE))","v":""},null,"DNS",0,"DNS",0,"DNS",0,"DNS",0,"DNS",0,"DNS",0,"DNS",0,"DNS",0,"DNS",0,"DNS",0,"DNS",0,"DNS",0,"DNS",0,"DNS",0,"DNS",0,"DNS",0,"DNS",0,"DNS",0,"DNS",0,"DNS",0,"DNS",0,"DNS",0,"DNS",0,"DNS",0,"DNS",0,{"$f":"IF('Last Race Results'!$B$5=0,0,IF(ISNA(VLOOKUP($A32,'Last Race Results'!$A$5:$J$44,2,FALSE)),\"DNS\",VLOOKUP($A32,'Last Race Results'!$A$5:$J$44,2,FALSE)))","v":"DNS"},{"$f":"IF('Last Race Results'!$B$5=0,0,IF(ISNA(VLOOKUP($A32,'Last Race Results'!$A$5:$K$44,11,FALSE)),0,VLOOKUP($A32,'Last Race Results'!$A$5:$K$44,11,FALSE)))","v":0},null,null,null,null,null,null,null,null,null,null,null,null,null,null,null,null,null,null,{"$f":"IF('Last Race Results'!$B$5=0,0,IF(ISNA(VLOOKUP($A32,'Last Race Results'!$A$5:$J$44,2,FALSE)),\"DNS\",VLOOKUP($A32,'Last Race Results'!$A$5:$J$44,2,FALSE)))","v":"DNS"},{"$f":"IF('Last Race Results'!$B$5=0,0,IF(ISNA(VLOOKUP($A32,'Last Race Results'!$A$5:$J$44,11,FALSE)),0,VLOOKUP($A32,'Last Race Results'!$A$5:$J$44,11,FALSE)))","v":0}]
[26,{"$f":"IF(ISNA(VLOOKUP($A33,'Entry List'!$A$1:$F$61,B$5,FALSE)),\"\",VLOOKUP($A33,'Entry List'!$A$1:$F$61,B$5,FALSE))","v":""},{"$f":"IF(ISNA(VLOOKUP($A33,'Entry List'!$A$1:$F$61,C$5,FALSE)),\"\",VLOOKUP($A33,'Entry List'!$A$1:$F$61,C$5,FALSE))","v":""},{"$f":"IF(ISNA(VLOOKUP($A33,'Entry List'!$A$1:$F$61,D$5,FALSE)),\"\",VLOOKUP($A33,'Entry List'!$A$1:$F$61,D$5,FALSE))","v":""},{"$f":"IF(ISNA(VLOOKUP($A33,'Entry List'!$A$1:$F$61,E$5,FALSE)),\"\",VLOOKUP($A33,'Entry List'!$A$1:$F$61,E$5,FALSE))","v":""},null,"DNS",0,"DNS",0,"DNS",0,"DNS",0,"DNS",0,"DNS",0,"DNS",0,"DNS",0,"DNS",0,"DNS",0,"DNS",0,"DNS",0,"DNS",0,"DNS",0,"DNS",0,"DNS",0,"DNS",0,"DNS",0,"DNS",0,"DNS",0,"DNS",0,"DNS",0,"DNS",0,"DNS",0,"DNS",0,{"$f":"IF('Last Race Results'!$B$5=0,0,IF(ISNA(VLOOKUP($A33,'Last Race Results'!$A$5:$J$44,2,FALSE)),\"DNS\",VLOOKUP($A33,'Last Race Results'!$A$5:$J$44,2,FALSE)))","v":"DNS"},{"$f":"IF('Last Race Results'!$B$5=0,0,IF(ISNA(VLOOKUP($A33,'Last Race Results'!$A$5:$K$44,11,FALSE)),0,VLOOKUP($A33,'Last Race Results'!$A$5:$K$44,11,FALSE)))","v":0},null,null,null,null,null,null,null,null,null,null,null,null,null,null,null,null,null,null,{"$f":"IF('Last Race Results'!$B$5=0,0,IF(ISNA(VLOOKUP($A33,'Last Race Results'!$A$5:$J$44,2,FALSE)),\"DNS\",VLOOKUP($A33,'Last Race Results'!$A$5:$J$44,2,FALSE)))","v":"DNS"},{"$f":"IF('Last Race Results'!$B$5=0,0,IF(ISNA(VLOOKUP($A33,'Last Race Results'!$A$5:$J$44,11,FALSE)),0,VLOOKUP($A33,'Last Race Results'!$A$5:$J$44,11,FALSE)))","v":0}]
[27,{"$f":"IF(ISNA(VLOOKUP($A34,'Entry List'!$A$1:$F$61,B$5,FALSE)),\"\",VLOOKUP($A34,'Entry List'!$A$1:$F$61,B$5,FALSE))","v":""},{"$f":"IF(ISNA(VLOOKUP($A34,'Entry List'!$A$1:$F$61,C$5,FALSE)),\"\",VLOOKUP($A34,'Entry List'!$A$1:$F$61,C$5,FALSE))","v":""},{"$f":"IF(ISNA(VLOOKUP($A34,'Entry List'!$A$1:$F$61,D$5,FALSE)),\"\",VLOOKUP($A34,'Entry List'!$A$1:$F$61,D$5,FALSE))","v":""},{"$f":"IF(ISNA(VLOOKUP($A34,'Entry List'!$A$1:$F$61,E$5,FALSE)),\"\",VLOOKUP($A34,'Entry List'!$A$1:$F$61,E$5,FALSE))","v":""},null,"DNS",0,"DNS",0,"DNS",0,"DNS",0,"DNS",0,"DNS",0,"DNS",0,"DNS",0,"DNS",0,"DNS",0,"DNS",0,"DNS",0,"DNS",0,"DNS",0,"DNS",0,"DNS",0,"DNS",0,"DNS",0,"DNS",0,"DNS",0,"DNS",0,"DNS",0,"DNS",0,"DNS",0,"DNS",0,{"$f":"IF('Last Race Results'!$B$5=0,0,IF(ISNA(VLOOKUP($A34,'Last Race Results'!$A$5:$J$44,2,FALSE)),\"DNS\",VLOOKUP($A34,'Last Race Results'!$A$5:$J$44,2,FALSE)))","v":"DNS"},{"$f":"IF('Last Race Results'!$B$5=0,0,IF(ISNA(VLOOKUP($A34,'Last Race Results'!$A$5:$K$44,11,FALSE)),0,VLOOKUP($A34,'Last Race Results'!$A$5:$K$44,11,FALSE)))","v":0},null,null,null,null,null,null,null,null,null,null,null,null,null,null,null,null,null,null,{"$f":"IF('Last Race Results'!$B$5=0,0,IF(ISNA(VLOOKUP($A34,'Last Race Results'!$A$5:$J$44,2,FALSE)),\"DNS\",VLOOKUP($A34,'Last Race Results'!$A$5:$J$44,2,FALSE)))","v":"DNS"},{"$f":"IF('Last Race Results'!$B$5=0,0,IF(ISNA(VLOOKUP($A34,'Last Race Results'!$A$5:$J$44,11,FALSE)),0,VLOOKUP($A34,'Last Race Results'!$A$5:$J$44,11,FALSE)))","v":0}]
[28,{"$f":"IF(ISNA(VLOOKUP($A35,'Entry List'!$A$1:$F$61,B$5,FALSE)),\"\",VLOOKUP($A35,'Entry List'!$A$1:$F$61,B$5,FALSE))","v":""},{"$f":"IF(ISNA(VLOOKUP($A35,'Entry List'!$A$1:$F$61,C$5,FALSE)),\"\",VLOOKUP($A35,'Entry List'!$A$1:$F$61,C$5,FALSE))","v":""},{"$f":"IF(ISNA(VLOOKUP($A35,'Entry List'!$A$1:$F$61,D$5,FALSE)),\"\",VLOOKUP($A35,'Entry List'!$A$1:$F$61,D$5,FALSE))","v":""},{"$f":"IF(ISNA(VLOOKUP($A35,'Entry List'!$A$1:$F$61,E$5,FALSE)),\"\",VLOOKUP($A35,'Entry List'!$A$1:$F$61,E$5,FALSE))","v":""},null,"DNS",0,"DNS",0,"DNS",0,"DNS",0,"DNS",0,"DNS",0,"DNS",0,"DNS",0,"DNS",0,"DNS",0,"DNS",0,"DNS",0,"DNS",0,"DNS",0,"DNS",0,"DNS",0,"DNS",0,"DNS",0,"DNS",0,"DNS",0,"DNS",0,"DNS",0,"DNS",0,"DNS",0,"DNS",0,{"$f":"IF('Last Race Results'!$B$5=0,0,IF(ISNA(VLOOKUP($A35,'Last Race Results'!$A$5:$J$44,2,FALSE)),\"DNS\",VLOOKUP($A35,'Last Race Results'!$A$5:$J$44,2,FALSE)))","v":"DNS"},{"$f":"IF('Last Race Results'!$B$5=0,0,IF(ISNA(VLOOKUP($A35,'Last Race Results'!$A$5:$K$44,11,FALSE)),0,VLOOKUP($A35,'Last Race Results'!$A$5:$K$44,11,FALSE)))","v":0},null,null,null,null,null,null,null,null,null,null,null,null,null,null,null,null,null,null,{"$f":"IF('Last Race Results'!$B$5=0,0,IF(ISNA(VLOOKUP($A35,'Last Race Results'!$A$5:$J$44,2,FALSE)),\"DNS\",VLOOKUP($A35,'Last Race Results'!$A$5:$J$44,2,FALSE)))","v":"DNS"},{"$f":"IF('Last Race Results'!$B$5=0,0,IF(ISNA(VLOOKUP($A35,'Last Race Results'!$A$5:$J$44,11,FALSE)),0,VLOOKUP($A35,'Last Race Results'!$A$5:$J$44,11,FALSE)))","v":0}]
[29,{"$f":"IF(ISNA(VLOOKUP($A36,'Entry List'!$A$1:$F$61,B$5,FALSE)),\"\",VLOOKUP($A36,'Entry List'!$A$1:$F$61,B$5,FALSE))","v":""},{"$f":"IF(ISNA(VLOOKUP($A36,'Entry List'!$A$1:$F$61,C$5,FALSE)),\"\",VLOOKUP($A36,'Entry List'!$A$1:$F$61,C$5,FALSE))","v":""},{"$f":"IF(ISNA(VLOOKUP($A36,'Entry List'!$A$1:$F$61,D$5,FALSE)),\"\",VLOOKUP($A36,'Entry List'!$A$1:$F$61,D$5,FALSE))","v":""},{"$f":"IF(ISNA(VLOOKUP($A36,'Entry List'!$A$1:$F$61,E$5,FALSE)),\"\",VLOOKUP($A36,'Entry List'!$A$1:$F$61,E$5,FALSE))","v":""},null,"DNS",0,"DNS",0,"DNS",0,"DNS",0,"DNS",0,"DNS",0,"DNS",0,"DNS",0,"DNS",0,"DNS",0,"DNS",0,"DNS",0,"DNS",0,"DNS",0,"DNS",0,"DNS",0,"DNS",0,"DNS",0,"DNS",0,"DNS",0,"DNS",0,"DNS",0,"DNS",0,"DNS",0,"DNS",0,{"$f":"IF('Last Race Results'!$B$5=0,0,IF(ISNA(VLOOKUP($A36,'Last Race Results'!$A$5:$J$44,2,FALSE)),\"DNS\",VLOOKUP($A36,'Last Race Results'!$A$5:$J$44,2,FALSE)))","v":"DNS"},{"$f":"IF('Last Race Results'!$B$5=0,0,IF(ISNA(VLOOKUP($A36,'Last Race Results'!$A$5:$K$44,11,FALSE)),0,VLOOKUP($A36,'Last Race Results'!$A$5:$K$44,11,FALSE)))","v":0},null,null,null,null,null,null,null,null,null,null,null,null,null,null,null,null,null,null,{"$f":"IF('Last Race Results'!$B$5=0,0,IF(ISNA(VLOOKUP($A36,'Last Race Results'!$A$5:$J$44,2,FALSE)),\"DNS\",VLOOKUP($A36,'Last Race Results'!$A$5:$J$44,2,FALSE)))","v":"DNS"},{"$f":"IF('Last Race Results'!$B$5=0,0,IF(ISNA(VLOOKUP($A36,'Last Race Results'!$A$5:$J$44,11,FALSE)),0,VLOOKUP($A36,'Last Race Results'!$A$5:$J$44,11,FALSE)))","v":0}]
[30,{"$f":"IF(ISNA(VLOOKUP($A37,'Entry List'!$A$1:$F$61,B$5,FALSE)),\"\",VLOOKUP($A37,'Entry List'!$A$1:$F$61,B$5,FALSE))","v":""},{"$f":"IF(ISNA(VLOOKUP($A37,'Entry List'!$A$1:$F$61,C$5,FALSE)),\"\",VLOOKUP($A37,'Entry List'!$A$1:$F$61,C$5,FALSE))","v":""},{"$f":"IF(ISNA(VLOOKUP($A37,'Entry List'!$A$1:$F$61,D$5,FALSE)),\"\",VLOOKUP($A37,'Entry List'!$A$1:$F$61,D$5,FALSE))","v":""},{"$f":"IF(ISNA(VLOOKUP($A37,'Entry List'!$A$1:$F$61,E$5,FALSE)),\"\",VLOOKUP($A37,'Entry List'!$A$1:$F$61,E$5,FALSE))","v":""},null,"DNS",0,"DNS",0,"DNS",0,"DNS",0,"DNS",0,"DNS",0,"DNS",0,"DNS",0,"DNS",0,"DNS",0,"DNS",0,"DNS",0,"DNS",0,"DNS",0,"DNS",0,"DNS",0,"DNS",0,"DNS",0,"DNS",0,"DNS",0,"DNS",0,"DNS",0,"DNS",0,"DNS",0,"DNS",0,{"$f":"IF('Last Race Results'!$B$5=0,0,IF(ISNA(VLOOKUP($A37,'Last Race Results'!$A$5:$J$44,2,FALSE)),\"DNS\",VLOOKUP($A37,'Last Race Results'!$A$5:$J$44,2,FALSE)))","v":"DNS"},{"$f":"IF('Last Race Results'!$B$5=0,0,IF(ISNA(VLOOKUP($A37,'Last Race Results'!$A$5:$K$44,11,FALSE)),0,VLOOKUP($A37,'Last Race Results'!$A$5:$K$44,11,FALSE)))","v":0},null,null,null,null,null,null,null,null,null,null,null,null,null,null,null,null,null,null,{"$f":"IF('Last Race Results'!$B$5=0,0,IF(ISNA(VLOOKUP($A37,'Last Race Results'!$A$5:$J$44,2,FALSE)),\"DNS\",VLOOKUP($A37,'Last Race Results'!$A$5:$J$44,2,FALSE)))","v":"DNS"},{"$f":"IF('Last Race Results'!$B$5=0,0,IF(ISNA(VLOOKUP($A37,'Last Race Results'!$A$5:$J$44,11,FALSE)),0,VLOOKUP($A37,'Last Race Results'!$A$5:$J$44,11,FALSE)))","v":0}]
[31,{"$f":"IF(ISNA(VLOOKUP($A38,'Entry List'!$A$1:$F$61,B$5,FALSE)),\"\",VLOOKUP($A38,'Entry List'!$A$1:$F$61,B$5,FALSE))","v":"Ryan Newman"},{"$f":"IF(ISNA(VLOOKUP($A38,'Entry List'!$A$1:$F$61,C$5,FALSE)),\"\",VLOOKUP($A38,'Entry List'!$A$1:$F$61,C$5,FALSE))","v":"Chevrolet"},{"$f":"IF(ISNA(VLOOKUP($A38,'Entry List'!$A$1:$F$61,D$5,FALSE)),\"\",VLOOKUP($A38,'Entry List'!$A$1:$F$61,D$5,FALSE))","v":"Richard Childress Racing"},{"$f":"IF(ISNA(VLOOKUP($A38,'Entry List'!$A$1:$F$61,E$5,FALSE)),\"\",VLOOKUP($A38,'Entry List'!$A$1:$F$61,E$5,FALSE))","v":"Richard Childress Racing"},null,8,29,22,15,11,26,11,26,21,16,19,18,27,10,10,36,37,5,9,28,33,4,30,7,35,5,25,12,22,15,24,19,15,22,8,34,21,16,6,31,8,29,19,18,15,25,12,25,19,18,{"$f":"IF('Last Race Results'!$B$5=0,0,IF(ISNA(VLOOKUP($A38,'Last Race Results'!$A$5:$J$44,2,FALSE)),\"DNS\",VLOOKUP($A38,'Last Race Results'!$A$5:$J$44,2,FALSE)))","v":10},{"$f":"IF('Last Race Results'!$B$5=0,0,IF(ISNA(VLOOKUP($A38,'Last Race Results'!$A$5:$K$44,11,FALSE)),0,VLOOKUP($A38,'Last Race Results'!$A$5:$K$44,11,FALSE)))","v":29},null,null,null,null,null,null,null,null,null,null,null,null,null,null,null,null,null,null,{"$f":"IF('Last Race Results'!$B$5=0,0,IF(ISNA(VLOOKUP($A38,'Last Race Results'!$A$5:$J$44,2,FALSE)),\"DNS\",VLOOKUP($A38,'Last Race Results'!$A$5:$J$44,2,FALSE)))","v":10},{"$f":"IF('Last Race Results'!$B$5=0,0,IF(ISNA(VLOOKUP($A38,'Last Race Results'!$A$5:$J$44,11,FALSE)),0,VLOOKUP($A38,'Last Race Results'!$A$5:$J$44,11,FALSE)))","v":{"$error":"#REF!"}}]
[32,{"$f":"IF(ISNA(VLOOKUP($A39,'Entry List'!$A$1:$F$61,B$5,FALSE)),\"\",VLOOKUP($A39,'Entry List'!$A$1:$F$61,B$5,FALSE))","v":"Matt DiBenedetto"},{"$f":"IF(ISNA(VLOOKUP($A39,'Entry List'!$A$1:$F$61,C$5,FALSE)),\"\",VLOOKUP($A39,'Entry List'!$A$1:$F$61,C$5,FALSE))","v":"Ford"},{"$f":"IF(ISNA(VLOOKUP($A39,'Entry List'!$A$1:$F$61,D$5,FALSE)),\"\",VLOOKUP($A39,'Entry List'!$A$1:$F$61,D$5,FALSE))","v":"Go Fas Racing"},{"$f":"IF(ISNA(VLOOKUP($A39,'Entry List'!$A$1:$F$61,E$5,FALSE)),\"\",VLOOKUP($A39,'Entry List'!$A$1:$F$61,E$5,FALSE))","v":"Go Fas Racing"},null,27,10,31,6,22,15,25,12,"DNS",0,32,5,16,21,21,16,16,21,19,18,29,8,22,15,37,1,37,1,36,1,17,20,29,8,7,30,37,1,28,9,27,10,33,4,24,13,22,15,38,1,{"$f":"IF('Last Race Results'!$B$5=0,0,IF(ISNA(VLOOKUP($A39,'Last Race Results'!$A$5:$J$44,2,FALSE)),\"DNS\",VLOOKUP($A39,'Last Race Results'!$A$5:$J$44,2,FALSE)))","v":36},{"$f":"IF('Last Race Results'!$B$5=0,0,IF(ISNA(VLOOKUP($A39,'Last Race Results'!$A$5:$K$44,11,FALSE)),0,VLOOKUP($A39,'Last Race Results'!$A$5:$K$44,11,FALSE)))","v":1},null,null,null,null,null,null,null,null,null,null,null,null,null,null,null,null,null,null,{"$f":"IF('Last Race Results'!$B$5=0,0,IF(ISNA(VLOOKUP($A39,'Last Race Results'!$A$5:$J$44,2,FALSE)),\"DNS\",VLOOKUP($A39,'Last Race Results'!$A$5:$J$44,2,FALSE)))","v":36},{"$f":"IF('Last Race Results'!$B$5=0,0,IF(ISNA(VLOOKUP($A39,'Last Race Results'!$A$5:$J$44,11,FALSE)),0,VLOOKUP($A39,'Last Race Results'!$A$5:$J$44,11,FALSE)))","v":{"$error":"#REF!"}}]
[33,{"$f":"IF(ISNA(VLOOKUP($A40,'Entry List'!$A$1:$F$61,B$5,FALSE)),\"\",VLOOKUP($A40,'Entry List'!$A$1:$F$61,B$5,FALSE))","v":""},{"$f":"IF(ISNA(VLOOKUP($A40,'Entry List'!$A$1:$F$61,C$5,FALSE)),\"\",VLOOKUP($A40,'Entry List'!$A$1:$F$61,C$5,FALSE))","v":""},{"$f":"IF(ISNA(VLOOKUP($A40,'Entry List'!$A$1:$F$61,D$5,FALSE)),\"\",VLOOKUP($A40,'Entry List'!$A$1:$F$61,D$5,FALSE))","v":""},{"$f":"IF(ISNA(VLOOKUP($A40,'Entry List'!$A$1:$F$61,E$5,FALSE)),\"\",VLOOKUP($A40,'Entry List'!$A$1:$F$61,E$5,FALSE))","v":""},null,"DNS",0,"DNS",0,"DNS",0,"DNS",0,"DNS",0,"DNS",0,"DNS",0,"DNS",0,"DNS",0,"DNS",0,"DNS",0,"DNS",0,"DNS",0,"DNS",0,"DNS",0,"DNS",0,"DNS",0,"DNS",0,"DNS",0,"DNS",0,"DNS",0,"DNS",0,"DNS",0,"DNS",0,"DNS",0,{"$f":"IF('Last Race Results'!$B$5=0,0,IF(ISNA(VLOOKUP($A40,'Last Race Results'!$A$5:$J$44,2,FALSE)),\"DNS\",VLOOKUP($A40,'Last Race Results'!$A$5:$J$44,2,FALSE)))","v":"DNS"},{"$f":"IF('Last Race Results'!$B$5=0,0,IF(ISNA(VLOOKUP($A40,'Last Race Results'!$A$5:$K$44,11,FALSE)),0,VLOOKUP($A40,'Last Race Results'!$A$5:$K$44,11,FALSE)))","v":0},null,null,null,null,null,null,null,null,null,null,null,null,null,null,null,null,null,null,{"$f":"IF('Last Race Results'!$B$5=0,0,IF(ISNA(VLOOKUP($A40,'Last Race Results'!$A$5:$J$44,2,FALSE)),\"DNS\",VLOOKUP($A40,'Last Race Results'!$A$5:$J$44,2,FALSE)))","v":"DNS"},{"$f":"IF('Last Race Results'!$B$5=0,0,IF(ISNA(VLOOKUP($A40,'Last Race Results'!$A$5:$J$44,11,FALSE)),0,VLOOKUP($A40,'Last Race Results'!$A$5:$J$44,11,FALSE)))","v":0}]
[34,{"$f":"IF(ISNA(VLOOKUP($A41,'Entry List'!$A$1:$F$61,B$5,FALSE)),\"\",VLOOKUP($A41,'Entry List'!$A$1:$F$61,B$5,FALSE))","v":"Michael McDowell"},{"$f":"IF(ISNA(VLOOKUP($A41,'Entry List'!$A$1:$F$61,C$5,FALSE)),\"\",VLOOKUP($A41,'Entry List'!$A$1:$F$61,C$5,FALSE))","v":"Ford"},{"$f":"IF(ISNA(VLOOKUP($A41,'Entry List'!$A$1:$F$61,D$5,FALSE)),\"\",VLOOKUP($A41,'Entry List'!$A$1:$F$61,D$5,FALSE))","v":"Front Row Motorsports"},{"$f":"IF(ISNA(VLOOKUP($A41,'Entry List'!$A$1:$F$61,E$5,FALSE)),\"\",VLOOKUP($A41,'Entry List'!$A$1:$F$61,E$5,FALSE))","v":"Front Row Motorsports"},null,9,39,24,13,37,1,32,11,26,11,21,16,14,23,38,1,31,6,32,5,22,15,20,17,18,19,21,16,25,12,21,19,21,16,26,20,24,13,26,11,16,21,18,26,25,12,37,1,20,17,{"$f":"IF('Last Race Results'!$B$5=0,0,IF(ISNA(VLOOKUP($A41,'Last Race Results'!$A$5:$J$44,2,FALSE)),\"DNS\",VLOOKUP($A41,'Last Race Results'!$A$5:$J$44,2,FALSE)))","v":17},{"$f":"IF('Last Race Results'!$B$5=0,0,IF(ISNA(VLOOKUP($A41,'Last Race Results'!$A$5:$K$44,11,FALSE)),0,VLOOKUP($A41,'Last Race Results'!$A$5:$K$44,11,FALSE)))","v":20},null,null,null,null,null,null,null,null,null,null,null,null,null,null,null,null,null,null,{"$f":"IF('Last Race Results'!$B$5=0,0,IF(ISNA(VLOOKUP($A41,'Last Race Results'!$A$5:$J$44,2,FALSE)),\"DNS\",VLOOKUP($A41,'Last Race Results'!$A$5:$J$44,2,FALSE)))","v":17},{"$f":"IF('Last Race Results'!$B$5=0,0,IF(ISNA(VLOOKUP($A41,'Last Race Results'!$A$5:$J$44,11,FALSE)),0,VLOOKUP($A41,'Last Race Results'!$A$5:$J$44,11,FALSE)))","v":{"$error":"#REF!"}}]
[35,{"$f":"IF(ISNA(VLOOKUP($A42,'Entry List'!$A$1:$F$61,B$5,FALSE)),\"\",VLOOKUP($A42,'Entry List'!$A$1:$F$61,B$5,FALSE))","v":""},{"$f":"IF(ISNA(VLOOKUP($A42,'Entry List'!$A$1:$F$61,C$5,FALSE)),\"\",VLOOKUP($A42,'Entry List'!$A$1:$F$61,C$5,FALSE))","v":""},{"$f":"IF(ISNA(VLOOKUP($A42,'Entry List'!$A$1:$F$61,D$5,FALSE)),\"\",VLOOKUP($A42,'Entry List'!$A$1:$F$61,D$5,FALSE))","v":""},{"$f":"IF(ISNA(VLOOKUP($A42,'Entry List'!$A$1:$F$61,E$5,FALSE)),\"\",VLOOKUP($A42,'Entry List'!$A$1:$F$61,E$5,FALSE))","v":""},null,"DNS",0,"DNS",0,"DNS",0,"DNS",0,"DNS",0,"DNS",0,"DNS",0,"DNS",0,"DNS",0,"DNS",0,"DNS",0,"DNS",0,"DNS",0,"DNS",0,"DNS",0,"DNS",0,"DNS",0,"DNS",0,"DNS",0,"DNS",0,"DNS",0,"DNS",0,"DNS",0,"DNS",0,"DNS",0,{"$f":"IF('Last Race Results'!$B$5=0,0,IF(ISNA(VLOOKUP($A42,'Last Race Results'!$A$5:$J$44,2,FALSE)),\"DNS\",VLOOKUP($A42,'Last Race Results'!$A$5:$J$44,2,FALSE)))","v":"DNS"},{"$f":"IF('Last Race Results'!$B$5=0,0,IF(ISNA(VLOOKUP($A42,'Last Race Results'!$A$5:$K$44,11,FALSE)),0,VLOOKUP($A42,'Last Race Results'!$A$5:$K$44,11,FALSE)))","v":0},null,null,null,null,null,null,null,null,null,null,null,null,null,null,null,null,null,null,{"$f":"IF('Last Race Results'!$B$5=0,0,IF(ISNA(VLOOKUP($A42,'Last Race Results'!$A$5:$J$44,2,FALSE)),\"DNS\",VLOOKUP($A42,'Last Race Results'!$A$5:$J$44,2,FALSE)))","v":"DNS"},{"$f":"IF('Last Race Results'!$B$5=0,0,IF(ISNA(VLOOKUP($A42,'Last Race Results'!$A$5:$J$44,11,FALSE)),0,VLOOKUP($A42,'Last Race Results'!$A$5:$J$44,11,FALSE)))","v":0}]
[36,{"$f":"IF(ISNA(VLOOKUP($A43,'Entry List'!$A$1:$F$61,B$5,FALSE)),\"\",VLOOKUP($A43,'Entry List'!$A$1:$F$61,B$5,FALSE))","v":""},{"$f":"IF(ISNA(VLOOKUP($A43,'Entry List'!$A$1:$F$61,C$5,FALSE)),\"\",VLOOKUP($A43,'Entry List'!$A$1:$F$61,C$5,FALSE))","v":""},{"$f":"IF(ISNA(VLOOKUP($A43,'Entry List'!$A$1:$F$61,D$5,FALSE)),\"\",VLOOKUP($A43,'Entry List'!$A$1:$F$61,D$5,FALSE))","v":""},{"$f":"IF(ISNA(VLOOKUP($A43,'Entry List'!$A$1:$F$61,E$5,FALSE)),\"\",VLOOKUP($A43,'Entry List'!$A$1:$F$61,E$5,FALSE))","v":""},null,"DNS",0,"DNS",0,"DNS",0,"DNS",0,"DNS",0,"DNS",0,"DNS",0,"DNS",0,"DNS",0,"DNS",0,"DNS",0,"DNS",0,"DNS",0,"DNS",0,"DNS",0,"DNS",0,"DNS",0,"DNS",0,"DNS",0,"DNS",0,"DNS",0,"DNS",0,"DNS",0,"DNS",0,"DNS",0,{"$f":"IF('Last Race Results'!$B$5=0,0,IF(ISNA(VLOOKUP($A43,'Last Race Results'!$A$5:$J$44,2,FALSE)),\"DNS\",VLOOKUP($A43,'Last Race Results'!$A$5:$J$44,2,FALSE)))","v":"DNS"},{"$f":"IF('Last Race Results'!$B$5=0,0,IF(ISNA(VLOOKUP($A43,'Last Race Results'!$A$5:$K$44,11,FALSE)),0,VLOOKUP($A43,'Last Race Results'!$A$5:$K$44,11,FALSE)))","v":0},null,null,null,null,null,null,null,null,null,null,null,null,null,null,null,null,null,null,{"$f":"IF('Last Race Results'!$B$5=0,0,IF(ISNA(VLOOKUP($A43,'Last Race Results'!$A$5:$J$44,2,FALSE)),\"DNS\",VLOOKUP($A43,'Last Race Results'!$A$5:$J$44,2,FALSE)))","v":"DNS"},{"$f":"IF('Last Race Results'!$B$5=0,0,IF(ISNA(VLOOKUP($A43,'Last Race Results'!$A$5:$J$44,11,FALSE)),0,VLOOKUP($A43,'Last Race Results'!$A$5:$J$44,11,FALSE)))","v":0}]
[37,{"$f":"IF(ISNA(VLOOKUP($A44,'Entry List'!$A$1:$F$61,B$5,FALSE)),\"\",VLOOKUP($A44,'Entry List'!$A$1:$F$61,B$5,FALSE))","v":"Chris Buescher"},{"$f":"IF(ISNA(VLOOKUP($A44,'Entry List'!$A$1:$F$61,C$5,FALSE)),\"\",VLOOKUP($A44,'Entry List'!$A$1:$F$61,C$5,FALSE))","v":"Chevrolet"},{"$f":"IF(ISNA(VLOOKUP($A44,'Entry List'!$A$1:$F$61,D$5,FALSE)),\"\",VLOOKUP($A44,'Entry List'!$A$1:$F$61,D$5,FALSE))","v":"JTG Daugherty Racing"},{"$f":"IF(ISNA(VLOOKUP($A44,'Entry List'!$A$1:$F$61,E$5,FALSE)),\"\",VLOOKUP($A44,'Entry List'!$A$1:$F$61,E$5,FALSE))","v":"JTG Daugherty Racing"},null,5,32,25,12,15,22,29,8,30,7,23,14,15,22,36,1,26,11,11,26,20,17,34,3,29,8,17,20,24,13,12,29,22,15,5,32,23,14,20,17,37,1,20,20,20,17,19,18,13,24,{"$f":"IF('Last Race Results'!$B$5=0,0,IF(ISNA(VLOOKUP($A44,'Last Race Results'!$A$5:$J$44,2,FALSE)),\"DNS\",VLOOKUP($A44,'Last Race Results'!$A$5:$J$44,2,FALSE)))","v":25},{"$f":"IF('Last Race Results'!$B$5=0,0,IF(ISNA(VLOOKUP($A44,'Last Race Results'!$A$5:$K$44,11,FALSE)),0,VLOOKUP($A44,'Last Race Results'!$A$5:$K$44,11,FALSE)))","v":12},null,null,null,null,null,null,null,null,null,null,null,null,null,null,null,null,null,null,{"$f":"IF('Last Race Results'!$B$5=0,0,IF(ISNA(VLOOKUP($A44,'Last Race Results'!$A$5:$J$44,2,FALSE)),\"DNS\",VLOOKUP($A44,'Last Race Results'!$A$5:$J$44,2,FALSE)))","v":25},{"$f":"IF('Last Race Results'!$B$5=0,0,IF(ISNA(VLOOKUP($A44,'Last Race Results'!$A$5:$J$44,11,FALSE)),0,VLOOKUP($A44,'Last Race Results'!$A$5:$J$44,11,FALSE)))","v":{"$error":"#REF!"}}]
[38,{"$f":"IF(ISNA(VLOOKUP($A45,'Entry List'!$A$1:$F$61,B$5,FALSE)),\"\",VLOOKUP($A45,'Entry List'!$A$1:$F$61,B$5,FALSE))","v":"David Ragan"},{"$f":"IF(ISNA(VLOOKUP($A45,'Entry List'!$A$1:$F$61,C$5,FALSE)),\"\",VLOOKUP($A45,'Entry List'!$A$1:$F$61,C$5,FALSE))","v":"Ford"},{"$f":"IF(ISNA(VLOOKUP($A45,'Entry List'!$A$1:$F$61,D$5,FALSE)),\"\",VLOOKUP($A45,'Entry List'!$A$1:$F$61,D$5,FALSE))","v":"Front Row Motorsports"},{"$f":"IF(ISNA(VLOOKUP($A45,'Entry List'!$A$1:$F$61,E$5,FALSE)),\"\",VLOOKUP($A45,'Entry List'!$A$1:$F$61,E$5,FALSE))","v":"Front Row Motorsports"},null,30,7,23,14,23,14,22,15,25,12,25,12,23,14,12,29,33,4,6,36,27,10,13,24,25,12,16,21,38,1,22,15,38,1,15,22,18,19,29,8,19,18,26,11,27,10,17,20,18,19,{"$f":"IF('Last Race Results'!$B$5=0,0,IF(ISNA(VLOOKUP($A45,'Last Race Results'!$A$5:$J$44,2,FALSE)),\"DNS\",VLOOKUP($A45,'Last Race Results'!$A$5:$J$44,2,FALSE)))","v":24},{"$f":"IF('Last Race Results'!$B$5=0,0,IF(ISNA(VLOOKUP($A45,'Last Race Results'!$A$5:$K$44,11,FALSE)),0,VLOOKUP($A45,'Last Race Results'!$A$5:$K$44,11,FALSE)))","v":13},null,null,null,null,null,null,null,null,null,null,null,null,null,null,null,null,null,null,{"$f":"IF('Last Race Results'!$B$5=0,0,IF(ISNA(VLOOKUP($A45,'Last Race Results'!$A$5:$J$44,2,FALSE)),\"DNS\",VLOOKUP($A45,'Last Race Results'!$A$5:$J$44,2,FALSE)))","v":24},{"$f":"IF('Last Race Results'!$B$5=0,0,IF(ISNA(VLOOKUP($A45,'Last Race Results'!$A$5:$J$44,11,FALSE)),0,VLOOKUP($A45,'Last Race Results'!$A$5:$J$44,11,FALSE)))","v":{"$error":"#REF!"}}]
[39,{"$f":"IF(ISNA(VLOOKUP($A46,'Entry List'!$A$1:$F$61,B$5,FALSE)),\"\",VLOOKUP($A46,'Entry List'!$A$1:$F$61,B$5,FALSE))","v":""},{"$f":"IF(ISNA(VLOOKUP($A46,'Entry List'!$A$1:$F$61,C$5,FALSE)),\"\",VLOOKUP($A46,'Entry List'!$A$1:$F$61,C$5,FALSE))","v":""},{"$f":"IF(ISNA(VLOOKUP($A46,'Entry List'!$A$1:$F$61,D$5,FALSE)),\"\",VLOOKUP($A46,'Entry List'!$A$1:$F$61,D$5,FALSE))","v":""},{"$f":"IF(ISNA(VLOOKUP($A46,'Entry List'!$A$1:$F$61,E$5,FALSE)),\"\",VLOOKUP($A46,'Entry List'!$A$1:$F$61,E$5,FALSE))","v":""},null,"DNS",0,"DNS",0,"DNS",0,"DNS",0,"DNS",0,"DNS",0,"DNS",0,"DNS",0,"DNS",0,"DNS",0,"DNS",0,"DNS",0,"DNS",0,"DNS",0,"DNS",0,"DNS",0,"DNS",0,"DNS",0,"DNS",0,"DNS",0,"DNS",0,"DNS",0,"DNS",0,"DNS",0,"DNS",0,{"$f":"IF('Last Race Results'!$B$5=0,0,IF(ISNA(VLOOKUP($A46,'Last Race Results'!$A$5:$J$44,2,FALSE)),\"DNS\",VLOOKUP($A46,'Last Race Results'!$A$5:$J$44,2,FALSE)))","v":"DNS"},{"$f":"IF('Last Race Results'!$B$5=0,0,IF(ISNA(VLOOKUP($A46,'Last Race Results'!$A$5:$K$44,11,FALSE)),0,VLOOKUP($A46,'Last Race Results'!$A$5:$K$44,11,FALSE)))","v":0},null,null,null,null,null,null,null,null,null,null,null,null,null,null,null,null,null,null,{"$f":"IF('Last Race Results'!$B$5=0,0,IF(ISNA(VLOOKUP($A46,'Last Race Results'!$A$5:$J$44,2,FALSE)),\"DNS\",VLOOKUP($A46,'Last Race Results'!$A$5:$J$44,2,FALSE)))","v":"DNS"},{"$f":"IF('Last Race Results'!$B$5=0,0,IF(ISNA(VLOOKUP($A46,'Last Race Results'!$A$5:$J$44,11,FALSE)),0,VLOOKUP($A46,'Last Race Results'!$A$5:$J$44,11,FALSE)))","v":0}]
[40,{"$f":"IF(ISNA(VLOOKUP($A47,'Entry List'!$A$1:$F$61,B$5,FALSE)),\"\",VLOOKUP($A47,'Entry List'!$A$1:$F$61,B$5,FALSE))","v":""},{"$f":"IF(ISNA(VLOOKUP($A47,'Entry List'!$A$1:$F$61,C$5,FALSE)),\"\",VLOOKUP($A47,'Entry List'!$A$1:$F$61,C$5,FALSE))","v":""},{"$f":"IF(ISNA(VLOOKUP($A47,'Entry List'!$A$1:$F$61,D$5,FALSE)),\"\",VLOOKUP($A47,'Entry List'!$A$1:$F$61,D$5,FALSE))","v":""},{"$f":"IF(ISNA(VLOOKUP($A47,'Entry List'!$A$1:$F$61,E$5,FALSE)),\"\",VLOOKUP($A47,'Entry List'!$A$1:$F$61,E$5,FALSE))","v":""},null,"DNS",0,"DNS",0,"DNS",0,"DNS",0,"DNS",0,"DNS",0,"DNS",0,"DNS",0,"DNS",0,"DNS",0,"DNS",0,"DNS",0,"DNS",0,"DNS",0,"DNS",0,"DNS",0,"DNS",0,"DNS",0,"DNS",0,"DNS",0,"DNS",0,"DNS",0,"DNS",0,"DNS",0,"DNS",0,{"$f":"IF('Last Race Results'!$B$5=0,0,IF(ISNA(VLOOKUP($A47,'Last Race Results'!$A$5:$J$44,2,FALSE)),\"DNS\",VLOOKUP($A47,'Last Race Results'!$A$5:$J$44,2,FALSE)))","v":"DNS"},{"$f":"IF('Last Race Results'!$B$5=0,0,IF(ISNA(VLOOKUP($A47,'Last Race Results'!$A$5:$K$44,11,FALSE)),0,VLOOKUP($A47,'Last Race Results'!$A$5:$K$44,11,FALSE)))","v":0},null,null,null,null,null,null,null,null,null,null,null,null,null,null,null,null,null,null,{"$f":"IF('Last Race Results'!$B$5=0,0,IF(ISNA(VLOOKUP($A47,'Last Race Results'!$A$5:$J$44,2,FALSE)),\"DNS\",VLOOKUP($A47,'Last Race Results'!$A$5:$J$44,2,FALSE)))","v":"DNS"},{"$f":"IF('Last Race Results'!$B$5=0,0,IF(ISNA(VLOOKUP($A47,'Last Race Results'!$A$5:$J$44,11,FALSE)),0,VLOOKUP($A47,'Last Race Results'!$A$5:$J$44,11,FALSE)))","v":0}]
[41,{"$f":"IF(ISNA(VLOOKUP($A48,'Entry List'!$A$1:$F$61,B$5,FALSE)),\"\",VLOOKUP($A48,'Entry List'!$A$1:$F$61,B$5,FALSE))","v":"Kurt Busch"},{"$f":"IF(ISNA(VLOOKUP($A48,'Entry List'!$A$1:$F$61,C$5,FALSE)),\"\",VLOOKUP($A48,'Entry List'!$A$1:$F$61,C$5,FALSE))","v":"Ford"},{"$f":"IF(ISNA(VLOOKUP($A48,'Entry List'!$A$1:$F$61,D$5,FALSE)),\"\",VLOOKUP($A48,'Entry List'!$A$1:$F$61,D$5,FALSE))","v":"Stewart-Haas Racing"},{"$f":"IF(ISNA(VLOOKUP($A48,'Entry List'!$A$1:$F$61,E$5,FALSE)),\"\",VLOOKUP($A48,'Entry List'!$A$1:$F$61,E$5,FALSE))","v":"Stewart-Haas Racing"},null,26,21,8,41,35,9,10,40,14,23,11,33,7,47,22,17,11,41,2,38,5,38,8,35,8,36,19,18,3,46,6,31,17,36,37,6,6,35,8,45,9,31,9,28,6,45,1,46,6,39,{"$f":"IF('Last Race Results'!$B$5=0,0,IF(ISNA(VLOOKUP($A48,'Last Race Results'!$A$5:$J$44,2,FALSE)),\"DNS\",VLOOKUP($A48,'Last Race Results'!$A$5:$J$44,2,FALSE)))","v":6},{"$f":"IF('Last Race Results'!$B$5=0,0,IF(ISNA(VLOOKUP($A48,'Last Race Results'!$A$5:$K$44,11,FALSE)),0,VLOOKUP($A48,'Last Race Results'!$A$5:$K$44,11,FALSE)))","v":46},null,null,null,null,null,null,null,null,null,null,null,null,null,null,null,null,null,null,{"$f":"IF('Last Race Results'!$B$5=0,0,IF(ISNA(VLOOKUP($A48,'Last Race Results'!$A$5:$J$44,2,FALSE)),\"DNS\",VLOOKUP($A48,'Last Race Results'!$A$5:$J$44,2,FALSE)))","v":6},{"$f":"IF('Last Race Results'!$B$5=0,0,IF(ISNA(VLOOKUP($A48,'Last Race Results'!$A$5:$J$44,11,FALSE)),0,VLOOKUP($A48,'Last Race Results'!$A$5:$J$44,11,FALSE)))","v":{"$error":"#REF!"}}]
[42,{"$f":"IF(ISNA(VLOOKUP($A49,'Entry List'!$A$1:$F$61,B$5,FALSE)),\"\",VLOOKUP($A49,'Entry List'!$A$1:$F$61,B$5,FALSE))","v":"Kyle Larson"},{"$f":"IF(ISNA(VLOOKUP($A49,'Entry List'!$A$1:$F$61,C$5,FALSE)),\"\",VLOOKUP($A49,'Entry List'!$A$1:$F$61,C$5,FALSE))","v":"Chevrolet"},{"$f":"IF(ISNA(VLOOKUP($A49,'Entry List'!$A$1:$F$61,D$5,FALSE)),\"\",VLOOKUP($A49,'Entry List'!$A$1:$F$61,D$5,FALSE))","v":"Chip Ganassi Racing"},{"$f":"IF(ISNA(VLOOKUP($A49,'Entry List'!$A$1:$F$61,E$5,FALSE)),\"\",VLOOKUP($A49,'Entry List'!$A$1:$F$61,E$5,FALSE))","v":"Chip Ganassi Racing"},null,19,18,9,36,3,50,18,27,2,43,16,21,36,7,2,47,7,30,"DNS",0,10,27,4,49,7,46,2,43,28,18,14,23,2,52,29,20,9,37,12,25,23,20,6,34,17,21,2,48,3,54,{"$f":"IF('Last Race Results'!$B$5=0,0,IF(ISNA(VLOOKUP($A49,'Last Race Results'!$A$5:$J$44,2,FALSE)),\"DNS\",VLOOKUP($A49,'Last Race Results'!$A$5:$J$44,2,FALSE)))","v":14},{"$f":"IF('Last Race Results'!$B$5=0,0,IF(ISNA(VLOOKUP($A49,'Last Race Results'!$A$5:$K$44,11,FALSE)),0,VLOOKUP($A49,'Last Race Results'!$A$5:$K$44,11,FALSE)))","v":30},null,null,null,null,null,null,null,null,null,null,null,null,null,null,null,null,null,null,{"$f":"IF('Last Race Results'!$B$5=0,0,IF(ISNA(VLOOKUP($A49,'Last Race Results'!$A$5:$J$44,2,FALSE)),\"DNS\",VLOOKUP($A49,'Last Race Results'!$A$5:$J$44,2,FALSE)))","v":14},{"$f":"IF('Last Race Results'!$B$5=0,0,IF(ISNA(VLOOKUP($A49,'Last Race Results'!$A$5:$J$44,11,FALSE)),0,VLOOKUP($A49,'Last Race Results'!$A$5:$J$44,11,FALSE)))","v":{"$error":"#REF!"}}]
[43,{"$f":"IF(ISNA(VLOOKUP($A50,'Entry List'!$A$1:$F$61,B$5,FALSE)),\"\",VLOOKUP($A50,'Entry List'!$A$1:$F$61,B$5,FALSE))","v":"Darrell Wallace Jr. (R)"},{"$f":"IF(ISNA(VLOOKUP($A50,'Entry List'!$A$1:$F$61,C$5,FALSE)),\"\",VLOOKUP($A50,'Entry List'!$A$1:$F$61,C$5,FALSE))","v":"Chevrolet"},{"$f":"IF(ISNA(VLOOKUP($A50,'Entry List'!$A$1:$F$61,D$5,FALSE)),\"\",VLOOKUP($A50,'Entry List'!$A$1:$F$61,D$5,FALSE))","v":"Richard Petty Motorsports"},{"$f":"IF(ISNA(VLOOKUP($A50,'Entry List'!$A$1:$F$61,E$5,FALSE)),\"\",VLOOKUP($A50,'Entry List'!$A$1:$F$61,E$5,FALSE))","v":"Richard Petty Motorsports"},null,2,39,32,5,21,16,28,9,20,17,34,3,8,29,16,22,25,12,16,21,25,12,23,14,16,21,38,1,19,18,29,8,23,14,14,23,27,10,24,13,33,4,25,12,23,14,38,1,26,11,{"$f":"IF('Last Race Results'!$B$5=0,0,IF(ISNA(VLOOKUP($A50,'Last Race Results'!$A$5:$J$44,2,FALSE)),\"DNS\",VLOOKUP($A50,'Last Race Results'!$A$5:$J$44,2,FALSE)))","v":38},{"$f":"IF('Last Race Results'!$B$5=0,0,IF(ISNA(VLOOKUP($A50,'Last Race Results'!$A$5:$K$44,11,FALSE)),0,VLOOKUP($A50,'Last Race Results'!$A$5:$K$44,11,FALSE)))","v":1},null,null,null,null,null,null,null,null,null,null,null,null,null,null,null,null,null,null,{"$f":"IF('Last Race Results'!$B$5=0,0,IF(ISNA(VLOOKUP($A50,'Last Race Results'!$A$5:$J$44,2,FALSE)),\"DNS\",VLOOKUP($A50,'Last Race Results'!$A$5:$J$44,2,FALSE)))","v":38},{"$f":"IF('Last Race Results'!$B$5=0,0,IF(ISNA(VLOOKUP($A50,'Last Race Results'!$A$5:$J$44,11,FALSE)),0,VLOOKUP($A50,'Last Race Results'!$A$5:$J$44,11,FALSE)))","v":{"$error":"#REF!"}}]
[44,{"$f":"IF(ISNA(VLOOKUP($A51,'Entry List'!$A$1:$F$61,B$5,FALSE)),\"\",VLOOKUP($A51,'Entry List'!$A$1:$F$61,B$5,FALSE))","v":""},{"$f":"IF(ISNA(VLOOKUP($A51,'Entry List'!$A$1:$F$61,C$5,FALSE)),\"\",VLOOKUP($A51,'Entry List'!$A$1:$F$61,C$5,FALSE))","v":""},{"$f":"IF(ISNA(VLOOKUP($A51,'Entry List'!$A$1:$F$61,D$5,FALSE)),\"\",VLOOKUP($A51,'Entry List'!$A$1:$F$61,D$5,FALSE))","v":""},{"$f":"IF(ISNA(VLOOKUP($A51,'Entry List'!$A$1:$F$61,E$5,FALSE)),\"\",VLOOKUP($A51,'Entry List'!$A$1:$F$61,E$5,FALSE))","v":""},null,"DNS",0,"DNS",0,"DNS",0,"DNS",0,"DNS",0,"DNS",0,"DNS",0,"DNS",0,"DNS",0,"DNS",0,"DNS",0,"DNS",0,"DNS",0,"DNS",0,"DNS",0,"DNS",0,"DNS",0,"DNS",0,"DNS",0,"DNS",0,"DNS",0,"DNS",0,"DNS",0,"DNS",0,"DNS",0,{"$f":"IF('Last Race Results'!$B$5=0,0,IF(ISNA(VLOOKUP($A51,'Last Race Results'!$A$5:$J$44,2,FALSE)),\"DNS\",VLOOKUP($A51,'Last Race Results'!$A$5:$J$44,2,FALSE)))","v":"DNS"},{"$f":"IF('Last Race Results'!$B$5=0,0,IF(ISNA(VLOOKUP($A51,'Last Race Results'!$A$5:$K$44,11,FALSE)),0,VLOOKUP($A51,'Last Race Results'!$A$5:$K$44,11,FALSE)))","v":0},null,null,null,null,null,null,null,null,null,null,null,null,null,null,null,null,null,null,{"$f":"IF('Last Race Results'!$B$5=0,0,IF(ISNA(VLOOKUP($A51,'Last Race Results'!$A$5:$J$44,2,FALSE)),\"DNS\",VLOOKUP($A51,'Last Race Results'!$A$5:$J$44,2,FALSE)))","v":"DNS"},{"$f":"IF('Last Race Results'!$B$5=0,0,IF(ISNA(VLOOKUP($A51,'Last Race Results'!$A$5:$J$44,11,FALSE)),0,VLOOKUP($A51,'Last Race Results'!$A$5:$J$44,11,FALSE)))","v":0}]
[45,{"$f":"IF(ISNA(VLOOKUP($A52,'Entry List'!$A$1:$F$61,B$5,FALSE)),\"\",VLOOKUP($A52,'Entry List'!$A$1:$F$61,B$5,FALSE))","v":""},{"$f":"IF(ISNA(VLOOKUP($A52,'Entry List'!$A$1:$F$61,C$5,FALSE)),\"\",VLOOKUP($A52,'Entry List'!$A$1:$F$61,C$5,FALSE))","v":""},{"$f":"IF(ISNA(VLOOKUP($A52,'Entry List'!$A$1:$F$61,D$5,FALSE)),\"\",VLOOKUP($A52,'Entry List'!$A$1:$F$61,D$5,FALSE))","v":""},{"$f":"IF(ISNA(VLOOKUP($A52,'Entry List'!$A$1:$F$61,E$5,FALSE)),\"\",VLOOKUP($A52,'Entry List'!$A$1:$F$61,E$5,FALSE))","v":""},null,"DNS",0,"DNS",0,"DNS",0,"DNS",0,"DNS",0,"DNS",0,"DNS",0,"DNS",0,"DNS",0,"DNS",0,"DNS",0,"DNS",0,"DNS",0,"DNS",0,"DNS",0,"DNS",0,"DNS",0,"DNS",0,"DNS",0,"DNS",0,"DNS",0,"DNS",0,"DNS",0,"DNS",0,"DNS",0,{"$f":"IF('Last Race Results'!$B$5=0,0,IF(ISNA(VLOOKUP($A52,'Last Race Results'!$A$5:$J$44,2,FALSE)),\"DNS\",VLOOKUP($A52,'Last Race Results'!$A$5:$J$44,2,FALSE)))","v":"DNS"},{"$f":"IF('Last Race Results'!$B$5=0,0,IF(ISNA(VLOOKUP($A52,'Last Race Results'!$A$5:$K$44,11,FALSE)),0,VLOOKUP($A52,'Last Race Results'!$A$5:$K$44,11,FALSE)))","v":0},null,null,null,null,null,null,null,null,null,null,null,null,null,null,null,null,null,null,{"$f":"IF('Last Race Results'!$B$5=0,0,IF(ISNA(VLOOKUP($A52,'Last Race Results'!$A$5:$J$44,2,FALSE)),\"DNS\",VLOOKUP($A52,'Last Race Results'!$A$5:$J$44,2,FALSE)))","v":"DNS"},{"$f":"IF('Last Race Results'!$B$5=0,0,IF(ISNA(VLOOKUP($A52,'Last Race Results'!$A$5:$J$44,11,FALSE)),0,VLOOKUP($A52,'Last Race Results'!$A$5:$J$44,11,FALSE)))","v":0}]
[46,{"$f":"IF(ISNA(VLOOKUP($A53,'Entry List'!$A$1:$F$61,B$5,FALSE)),\"\",VLOOKUP($A53,'Entry List'!$A$1:$F$61,B$5,FALSE))","v":""},{"$f":"IF(ISNA(VLOOKUP($A53,'Entry List'!$A$1:$F$61,C$5,FALSE)),\"\",VLOOKUP($A53,'Entry List'!$A$1:$F$61,C$5,FALSE))","v":""},{"$f":"IF(ISNA(VLOOKUP($A53,'Entry List'!$A$1:$F$61,D$5,FALSE)),\"\",VLOOKUP($A53,'Entry List'!$A$1:$F$61,D$5,FALSE))","v":""},{"$f":"IF(ISNA(VLOOKUP($A53,'Entry List'!$A$1:$F$61,E$5,FALSE)),\"\",VLOOKUP($A53,'Entry List'!$A$1:$F$61,E$5,FALSE))","v":""},null,"DNS",0,"DNS",0,"DNS",0,"DNS",0,"DNS",0,"DNS",0,"DNS",0,"DNS",0,"DNS",0,"DNS",0,"DNS",0,"DNS",0,"DNS",0,"DNS",0,"DNS",0,"DNS",0,"DNS",0,"DNS",0,"DNS",0,"DNS",0,"DNS",0,"DNS",0,"DNS",0,"DNS",0,"DNS",0,{"$f":"IF('Last Race Results'!$B$5=0,0,IF(ISNA(VLOOKUP($A53,'Last Race Results'!$A$5:$J$44,2,FALSE)),\"DNS\",VLOOKUP($A53,'Last Race Results'!$A$5:$J$44,2,FALSE)))","v":"DNS"},{"$f":"IF('Last Race Results'!$B$5=0,0,IF(ISNA(VLOOKUP($A53,'Last Race Results'!$A$5:$K$44,11,FALSE)),0,VLOOKUP($A53,'Last Race Results'!$A$5:$K$44,11,FALSE)))","v":0},null,null,null,null,null,null,null,null,null,null,null,null,null,null,null,null,null,null,{"$f":"IF('Last Race Results'!$B$5=0,0,IF(ISNA(VLOOKUP($A53,'Last Race Results'!$A$5:$J$44,2,FALSE)),\"DNS\",VLOOKUP($A53,'Last Race Results'!$A$5:$J$44,2,FALSE)))","v":"DNS"},{"$f":"IF('Last Race Results'!$B$5=0,0,IF(ISNA(VLOOKUP($A53,'Last Race Results'!$A$5:$J$44,11,FALSE)),0,VLOOKUP($A53,'Last Race Results'!$A$5:$J$44,11,FALSE)))","v":0}]
[47,{"$f":"IF(ISNA(VLOOKUP($A54,'Entry List'!$A$1:$F$61,B$5,FALSE)),\"\",VLOOKUP($A54,'Entry List'!$A$1:$F$61,B$5,FALSE))","v":"A. J. Allmendinger"},{"$f":"IF(ISNA(VLOOKUP($A54,'Entry List'!$A$1:$F$61,C$5,FALSE)),\"\",VLOOKUP($A54,'Entry List'!$A$1:$F$61,C$5,FALSE))","v":"Chevrolet"},{"$f":"IF(ISNA(VLOOKUP($A54,'Entry List'!$A$1:$F$61,D$5,FALSE)),\"\",VLOOKUP($A54,'Entry List'!$A$1:$F$61,D$5,FALSE))","v":"JTG Daugherty Racing"},{"$f":"IF(ISNA(VLOOKUP($A54,'Entry List'!$A$1:$F$61,E$5,FALSE)),\"\",VLOOKUP($A54,'Entry List'!$A$1:$F$61,E$5,FALSE))","v":"JTG Daugherty Racing"},null,10,27,29,8,30,7,21,16,22,15,8,36,24,13,17,27,27,10,34,3,21,16,16,21,23,14,22,15,17,20,38,11,24,13,3,34,30,7,36,1,14,23,15,22,22,15,39,1,22,15,{"$f":"IF('Last Race Results'!$B$5=0,0,IF(ISNA(VLOOKUP($A54,'Last Race Results'!$A$5:$J$44,2,FALSE)),\"DNS\",VLOOKUP($A54,'Last Race Results'!$A$5:$J$44,2,FALSE)))","v":37},{"$f":"IF('Last Race Results'!$B$5=0,0,IF(ISNA(VLOOKUP($A54,'Last Race Results'!$A$5:$K$44,11,FALSE)),0,VLOOKUP($A54,'Last Race Results'!$A$5:$K$44,11,FALSE)))","v":1},null,null,null,null,null,null,null,null,null,null,null,null,null,null,null,null,null,null,{"$f":"IF('Last Race Results'!$B$5=0,0,IF(ISNA(VLOOKUP($A54,'Last Race Results'!$A$5:$J$44,2,FALSE)),\"DNS\",VLOOKUP($A54,'Last Race Results'!$A$5:$J$44,2,FALSE)))","v":37},{"$f":"IF('Last Race Results'!$B$5=0,0,IF(ISNA(VLOOKUP($A54,'Last Race Results'!$A$5:$J$44,11,FALSE)),0,VLOOKUP($A54,'Last Race Results'!$A$5:$J$44,11,FALSE)))","v":{"$error":"#REF!"}}]
[48,{"$f":"IF(ISNA(VLOOKUP($A55,'Entry List'!$A$1:$F$61,B$5,FALSE)),\"\",VLOOKUP($A55,'Entry List'!$A$1:$F$61,B$5,FALSE))","v":"Jimmie Johnson"},{"$f":"IF(ISNA(VLOOKUP($A55,'Entry List'!$A$1:$F$61,C$5,FALSE)),\"\",VLOOKUP($A55,'Entry List'!$A$1:$F$61,C$5,FALSE))","v":"Chevrolet"},{"$f":"IF(ISNA(VLOOKUP($A55,'Entry List'!$A$1:$F$61,D$5,FALSE)),\"\",VLOOKUP($A55,'Entry List'!$A$1:$F$61,D$5,FALSE))","v":"Hendrick Motorsports"},{"$f":"IF(ISNA(VLOOKUP($A55,'Entry List'!$A$1:$F$61,E$5,FALSE)),\"\",VLOOKUP($A55,'Entry List'!$A$1:$F$61,E$5,FALSE))","v":"Hendrick Motorsports"},null,38,1,27,10,12,29,14,23,9,38,15,24,35,2,3,46,6,31,12,29,9,38,19,18,5,41,8,33,20,17,11,42,14,23,23,19,14,23,10,38,17,25,30,16,28,9,9,32,39,1,{"$f":"IF('Last Race Results'!$B$5=0,0,IF(ISNA(VLOOKUP($A55,'Last Race Results'!$A$5:$J$44,2,FALSE)),\"DNS\",VLOOKUP($A55,'Last Race Results'!$A$5:$J$44,2,FALSE)))","v":16},{"$f":"IF('Last Race Results'!$B$5=0,0,IF(ISNA(VLOOKUP($A55,'Last Race Results'!$A$5:$K$44,11,FALSE)),0,VLOOKUP($A55,'Last Race Results'!$A$5:$K$44,11,FALSE)))","v":22},null,null,null,null,null,null,null,null,null,null,null,null,null,null,null,null,null,null,{"$f":"IF('Last Race Results'!$B$5=0,0,IF(ISNA(VLOOKUP($A55,'Last Race Results'!$A$5:$J$44,2,FALSE)),\"DNS\",VLOOKUP($A55,'Last Race Results'!$A$5:$J$44,2,FALSE)))","v":16},{"$f":"IF('Last Race Results'!$B$5=0,0,IF(ISNA(VLOOKUP($A55,'Last Race Results'!$A$5:$J$44,11,FALSE)),0,VLOOKUP($A55,'Last Race Results'!$A$5:$J$44,11,FALSE)))","v":{"$error":"#REF!"}}]
[49,{"$f":"IF(ISNA(VLOOKUP($A56,'Entry List'!$A$1:$F$61,B$5,FALSE)),\"\",VLOOKUP($A56,'Entry List'!$A$1:$F$61,B$5,FALSE))","v":""},{"$f":"IF(ISNA(VLOOKUP($A56,'Entry List'!$A$1:$F$61,C$5,FALSE)),\"\",VLOOKUP($A56,'Entry List'!$A$1:$F$61,C$5,FALSE))","v":""},{"$f":"IF(ISNA(VLOOKUP($A56,'Entry List'!$A$1:$F$61,D$5,FALSE)),\"\",VLOOKUP($A56,'Entry List'!$A$1:$F$61,D$5,FALSE))","v":""},{"$f":"IF(ISNA(VLOOKUP($A56,'Entry List'!$A$1:$F$61,E$5,FALSE)),\"\",VLOOKUP($A56,'Entry List'!$A$1:$F$61,E$5,FALSE))","v":""},null,"DNS",0,"DNS",0,"DNS",0,"DNS",0,"DNS",0,"DNS",0,"DNS",0,"DNS",0,"DNS",0,"DNS",0,"DNS",0,"DNS",0,"DNS",0,"DNS",0,"DNS",0,"DNS",0,"DNS",0,"DNS",0,"DNS",0,"DNS",0,"DNS",0,"DNS",0,"DNS",0,"DNS",0,"DNS",0,{"$f":"IF('Last Race Results'!$B$5=0,0,IF(ISNA(VLOOKUP($A56,'Last Race Results'!$A$5:$J$44,2,FALSE)),\"DNS\",VLOOKUP($A56,'Last Race Results'!$A$5:$J$44,2,FALSE)))","v":"DNS"},{"$f":"IF('Last Race Results'!$B$5=0,0,IF(ISNA(VLOOKUP($A56,'Last Race Results'!$A$5:$K$44,11,FALSE)),0,VLOOKUP($A56,'Last Race Results'!$A$5:$K$44,11,FALSE)))","v":0},null,null,null,null,null,null,null,null,null,null,null,null,null,null,null,null,null,null,{"$f":"IF('Last Race Results'!$B$5=0,0,IF(ISNA(VLOOKUP($A56,'Last Race Results'!$A$5:$J$44,2,FALSE)),\"DNS\",VLOOKUP($A56,'Last Race Results'!$A$5:$J$44,2,FALSE)))","v":"DNS"},{"$f":"IF('Last Race Results'!$B$5=0,0,IF(ISNA(VLOOKUP($A56,'Last Race Results'!$A$5:$J$44,11,FALSE)),0,VLOOKUP($A56,'Last Race Results'!$A$5:$J$44,11,FALSE)))","v":0}]
[50,{"$f":"IF(ISNA(VLOOKUP($A57,'Entry List'!$A$1:$F$61,B$5,FALSE)),\"\",VLOOKUP($A57,'Entry List'!$A$1:$F$61,B$5,FALSE))","v":""},{"$f":"IF(ISNA(VLOOKUP($A57,'Entry List'!$A$1:$F$61,C$5,FALSE)),\"\",VLOOKUP($A57,'Entry List'!$A$1:$F$61,C$5,FALSE))","v":""},{"$f":"IF(ISNA(VLOOKUP($A57,'Entry List'!$A$1:$F$61,D$5,FALSE)),\"\",VLOOKUP($A57,'Entry List'!$A$1:$F$61,D$5,FALSE))","v":""},{"$f":"IF(ISNA(VLOOKUP($A57,'Entry List'!$A$1:$F$61,E$5,FALSE)),\"\",VLOOKUP($A57,'Entry List'!$A$1:$F$61,E$5,FALSE))","v":""},null,"DNS",0,"DNS",0,"DNS",0,"DNS",0,"DNS",0,"DNS",0,"DNS",0,"DNS",0,"DNS",0,"DNS",0,"DNS",0,"DNS",0,"DNS",0,"DNS",0,"DNS",0,"DNS",0,"DNS",0,"DNS",0,"DNS",0,"DNS",0,"DNS",0,"DNS",0,"DNS",0,"DNS",0,"DNS",0,{"$f":"IF('Last Race Results'!$B$5=0,0,IF(ISNA(VLOOKUP($A57,'Last Race Results'!$A$5:$J$44,2,FALSE)),\"DNS\",VLOOKUP($A57,'Last Race Results'!$A$5:$J$44,2,FALSE)))","v":"DNS"},{"$f":"IF('Last Race Results'!$B$5=0,0,IF(ISNA(VLOOKUP($A57,'Last Race Results'!$A$5:$K$44,11,FALSE)),0,VLOOKUP($A57,'Last Race Results'!$A$5:$K$44,11,FALSE)))","v":0},null,null,null,null,null,null,null,null,null,null,null,null,null,null,null,null,null,null,{"$f":"IF('Last Race Results'!$B$5=0,0,IF(ISNA(VLOOKUP($A57,'Last Race Results'!$A$5:$J$44,2,FALSE)),\"DNS\",VLOOKUP($A57,'Last Race Results'!$A$5:$J$44,2,FALSE)))","v":"DNS"},{"$f":"IF('Last Race Results'!$B$5=0,0,IF(ISNA(VLOOKUP($A57,'Last Race Results'!$A$5:$J$44,11,FALSE)),0,VLOOKUP($A57,'Last Race Results'!$A$5:$J$44,11,FALSE)))","v":0}]
[51,{"$f":"IF(ISNA(VLOOKUP($A58,'Entry List'!$A$1:$F$61,B$5,FALSE)),\"\",VLOOKUP($A58,'Entry List'!$A$1:$F$61,B$5,FALSE))","v":"David Starr (i)"},{"$f":"IF(ISNA(VLOOKUP($A58,'Entry List'!$A$1:$F$61,C$5,FALSE)),\"\",VLOOKUP($A58,'Entry List'!$A$1:$F$61,C$5,FALSE))","v":"Ford"},{"$f":"IF(ISNA(VLOOKUP($A58,'Entry List'!$A$1:$F$61,D$5,FALSE)),\"\",VLOOKUP($A58,'Entry List'!$A$1:$F$61,D$5,FALSE))","v":"Rick Ware Racing"},{"$f":"IF(ISNA(VLOOKUP($A58,'Entry List'!$A$1:$F$61,E$5,FALSE)),\"\",VLOOKUP($A58,'Entry List'!$A$1:$F$61,E$5,FALSE))","v":"Rick Ware Racing"},null,12,0,33,4,25,12,33,4,33,4,35,2,22,15,37,1,36,1,36,1,36,1,35,2,33,4,26,11,37,1,31,6,35,2,16,21,32,5,34,3,40,1,36,1,31,6,33,4,32,5,{"$f":"IF('Last Race Results'!$B$5=0,0,IF(ISNA(VLOOKUP($A58,'Last Race Results'!$A$5:$J$44,2,FALSE)),\"DNS\",VLOOKUP($A58,'Last Race Results'!$A$5:$J$44,2,FALSE)))","v":39},{"$f":"IF('Last Race Results'!$B$5=0,0,IF(ISNA(VLOOKUP($A58,'Last Race Results'!$A$5:$K$44,11,FALSE)),0,VLOOKUP($A58,'Last Race Results'!$A$5:$K$44,11,FALSE)))","v":1},null,null,null,null,null,null,null,null,null,null,null,null,null,null,null,null,null,null,{"$f":"IF('Last Race Results'!$B$5=0,0,IF(ISNA(VLOOKUP($A58,'Last Race Results'!$A$5:$J$44,2,FALSE)),\"DNS\",VLOOKUP($A58,'Last Race Results'!$A$5:$J$44,2,FALSE)))","v":39},{"$f":"IF('Last Race Results'!$B$5=0,0,IF(ISNA(VLOOKUP($A58,'Last Race Results'!$A$5:$J$44,11,FALSE)),0,VLOOKUP($A58,'Last Race Results'!$A$5:$J$44,11,FALSE)))","v":{"$error":"#REF!"}}]
[52,{"$f":"IF(ISNA(VLOOKUP($A59,'Entry List'!$A$1:$F$61,B$5,FALSE)),\"\",VLOOKUP($A59,'Entry List'!$A$1:$F$61,B$5,FALSE))","v":"B. J. McLeod (i)"},{"$f":"IF(ISNA(VLOOKUP($A59,'Entry List'!$A$1:$F$61,C$5,FALSE)),\"\",VLOOKUP($A59,'Entry List'!$A$1:$F$61,C$5,FALSE))","v":"Ford"},{"$f":"IF(ISNA(VLOOKUP($A59,'Entry List'!$A$1:$F$61,D$5,FALSE)),\"\",VLOOKUP($A59,'Entry List'!$A$1:$F$61,D$5,FALSE))","v":"Rick Ware Racing"},{"$f":"IF(ISNA(VLOOKUP($A59,'Entry List'!$A$1:$F$61,E$5,FALSE)),\"\",VLOOKUP($A59,'Entry List'!$A$1:$F$61,E$5,FALSE))","v":"Rick Ware Racing"},null,"DNS",0,"DNS",0,"DNS",0,"DNS",0,"DNS",0,"DNS",0,"DNS",0,"DNS",0,"DNS",0,"DNS",0,"DNS",0,"DNS",0,"DNS",0,"DNS",0,"DNS",0,36,1,"DNS",0,"DNS",0,"DNS",0,"DNS",0,"DNS",0,"DNS",0,"DNS",0,"DNS",0,31,6,{"$f":"IF('Last Race Results'!$B$5=0,0,IF(ISNA(VLOOKUP($A59,'Last Race Results'!$A$5:$J$44,2,FALSE)),\"DNS\",VLOOKUP($A59,'Last Race Results'!$A$5:$J$44,2,FALSE)))","v":30},{"$f":"IF('Last Race Results'!$B$5=0,0,IF(ISNA(VLOOKUP($A59,'Last Race Results'!$A$5:$K$44,11,FALSE)),0,VLOOKUP($A59,'Last Race Results'!$A$5:$K$44,11,FALSE)))","v":7},null,null,null,null,null,null,null,null,null,null,null,null,null,null,null,null,null,null,{"$f":"IF('Last Race Results'!$B$5=0,0,IF(ISNA(VLOOKUP($A59,'Last Race Results'!$A$5:$J$44,2,FALSE)),\"DNS\",VLOOKUP($A59,'Last Race Results'!$A$5:$J$44,2,FALSE)))","v":30},{"$f":"IF('Last Race Results'!$B$5=0,0,IF(ISNA(VLOOKUP($A59,'Last Race Results'!$A$5:$J$44,11,FALSE)),0,VLOOKUP($A59,'Last Race Results'!$A$5:$J$44,11,FALSE)))","v":{"$error":"#REF!"}}]
[53,{"$f":"IF(ISNA(VLOOKUP($A60,'Entry List'!$A$1:$F$61,B$5,FALSE)),\"\",VLOOKUP($A60,'Entry List'!$A$1:$F$61,B$5,FALSE))","v":""},{"$f":"IF(ISNA(VLOOKUP($A60,'Entry List'!$A$1:$F$61,C$5,FALSE)),\"\",VLOOKUP($A60,'Entry List'!$A$1:$F$61,C$5,FALSE))","v":""},{"$f":"IF(ISNA(VLOOKUP($A60,'Entry List'!$A$1:$F$61,D$5,FALSE)),\"\",VLOOKUP($A60,'Entry List'!$A$1:$F$61,D$5,FALSE))","v":""},{"$f":"IF(ISNA(VLOOKUP($A60,'Entry List'!$A$1:$F$61,E$5,FALSE)),\"\",VLOOKUP($A60,'Entry List'!$A$1:$F$61,E$5,FALSE))","v":""},null,"DNS",0,"DNS",0,"DNS",0,"DNS",0,"DNS",0,"DNS",0,"DNS",0,"DNS",0,"DNS",0,"DNS",0,"DNS",0,"DNS",0,"DNS",0,"DNS",0,"DNS",0,"DNS",0,"DNS",0,"DNS",0,"DNS",0,"DNS",0,"DNS",0,"DNS",0,"DNS",0,"DNS",0,"DNS",0,{"$f":"IF('Last Race Results'!$B$5=0,0,IF(ISNA(VLOOKUP($A60,'Last Race Results'!$A$5:$J$44,2,FALSE)),\"DNS\",VLOOKUP($A60,'Last Race Results'!$A$5:$J$44,2,FALSE)))","v":"DNS"},{"$f":"IF('Last Race Results'!$B$5=0,0,IF(ISNA(VLOOKUP($A60,'Last Race Results'!$A$5:$K$44,11,FALSE)),0,VLOOKUP($A60,'Last Race Results'!$A$5:$K$44,11,FALSE)))","v":0},null,null,null,null,null,null,null,null,null,null,null,null,null,null,null,null,null,null,{"$f":"IF('Last Race Results'!$B$5=0,0,IF(ISNA(VLOOKUP($A60,'Last Race Results'!$A$5:$J$44,2,FALSE)),\"DNS\",VLOOKUP($A60,'Last Race Results'!$A$5:$J$44,2,FALSE)))","v":"DNS"},{"$f":"IF('Last Race Results'!$B$5=0,0,IF(ISNA(VLOOKUP($A60,'Last Race Results'!$A$5:$J$44,11,FALSE)),0,VLOOKUP($A60,'Last Race Results'!$A$5:$J$44,11,FALSE)))","v":0}]
[54,{"$f":"IF(ISNA(VLOOKUP($A61,'Entry List'!$A$1:$F$61,B$5,FALSE)),\"\",VLOOKUP($A61,'Entry List'!$A$1:$F$61,B$5,FALSE))","v":""},{"$f":"IF(ISNA(VLOOKUP($A61,'Entry List'!$A$1:$F$61,C$5,FALSE)),\"\",VLOOKUP($A61,'Entry List'!$A$1:$F$61,C$5,FALSE))","v":""},{"$f":"IF(ISNA(VLOOKUP($A61,'Entry List'!$A$1:$F$61,D$5,FALSE)),\"\",VLOOKUP($A61,'Entry List'!$A$1:$F$61,D$5,FALSE))","v":""},{"$f":"IF(ISNA(VLOOKUP($A61,'Entry List'!$A$1:$F$61,E$5,FALSE)),\"\",VLOOKUP($A61,'Entry List'!$A$1:$F$61,E$5,FALSE))","v":""},null,"DNS",0,"DNS",0,"DNS",0,"DNS",0,"DNS",0,"DNS",0,"DNS",0,"DNS",0,"DNS",0,"DNS",0,"DNS",0,"DNS",0,"DNS",0,"DNS",0,"DNS",0,"DNS",0,"DNS",0,"DNS",0,"DNS",0,"DNS",0,"DNS",0,"DNS",0,"DNS",0,"DNS",0,"DNS",0,{"$f":"IF('Last Race Results'!$B$5=0,0,IF(ISNA(VLOOKUP($A61,'Last Race Results'!$A$5:$J$44,2,FALSE)),\"DNS\",VLOOKUP($A61,'Last Race Results'!$A$5:$J$44,2,FALSE)))","v":"DNS"},{"$f":"IF('Last Race Results'!$B$5=0,0,IF(ISNA(VLOOKUP($A61,'Last Race Results'!$A$5:$K$44,11,FALSE)),0,VLOOKUP($A61,'Last Race Results'!$A$5:$K$44,11,FALSE)))","v":0},null,null,null,null,null,null,null,null,null,null,null,null,null,null,null,null,null,null,{"$f":"IF('Last Race Results'!$B$5=0,0,IF(ISNA(VLOOKUP($A61,'Last Race Results'!$A$5:$J$44,2,FALSE)),\"DNS\",VLOOKUP($A61,'Last Race Results'!$A$5:$J$44,2,FALSE)))","v":"DNS"},{"$f":"IF('Last Race Results'!$B$5=0,0,IF(ISNA(VLOOKUP($A61,'Last Race Results'!$A$5:$J$44,11,FALSE)),0,VLOOKUP($A61,'Last Race Results'!$A$5:$J$44,11,FALSE)))","v":0}]
[55,{"$f":"IF(ISNA(VLOOKUP($A62,'Entry List'!$A$1:$F$61,B$5,FALSE)),\"\",VLOOKUP($A62,'Entry List'!$A$1:$F$61,B$5,FALSE))","v":""},{"$f":"IF(ISNA(VLOOKUP($A62,'Entry List'!$A$1:$F$61,C$5,FALSE)),\"\",VLOOKUP($A62,'Entry List'!$A$1:$F$61,C$5,FALSE))","v":""},{"$f":"IF(ISNA(VLOOKUP($A62,'Entry List'!$A$1:$F$61,D$5,FALSE)),\"\",VLOOKUP($A62,'Entry List'!$A$1:$F$61,D$5,FALSE))","v":""},{"$f":"IF(ISNA(VLOOKUP($A62,'Entry List'!$A$1:$F$61,E$5,FALSE)),\"\",VLOOKUP($A62,'Entry List'!$A$1:$F$61,E$5,FALSE))","v":""},null,"DNS",0,"DNS",0,32,5,"DNS",0,34,3,"DNS",0,31,6,32,5,38,1,37,1,32,5,27,10,30,7,"DNS",0,"DNS",0,"DNS",0,"DNS",0,"DNS",0,"DNS",0,"DNS",0,"DNS",0,"DNS",0,"DNS",0,"DNS",0,"DNS",0,{"$f":"IF('Last Race Results'!$B$5=0,0,IF(ISNA(VLOOKUP($A62,'Last Race Results'!$A$5:$J$44,2,FALSE)),\"DNS\",VLOOKUP($A62,'Last Race Results'!$A$5:$J$44,2,FALSE)))","v":"DNS"},{"$f":"IF('Last Race Results'!$B$5=0,0,IF(ISNA(VLOOKUP($A62,'Last Race Results'!$A$5:$K$44,11,FALSE)),0,VLOOKUP($A62,'Last Race Results'!$A$5:$K$44,11,FALSE)))","v":0},null,null,null,null,null,null,null,null,null,null,null,null,null,null,null,null,null,null,{"$f":"IF('Last Race Results'!$B$5=0,0,IF(ISNA(VLOOKUP($A62,'Last Race Results'!$A$5:$J$44,2,FALSE)),\"DNS\",VLOOKUP($A62,'Last Race Results'!$A$5:$J$44,2,FALSE)))","v":"DNS"},{"$f":"IF('Last Race Results'!$B$5=0,0,IF(ISNA(VLOOKUP($A62,'Last Race Results'!$A$5:$J$44,11,FALSE)),0,VLOOKUP($A62,'Last Race Results'!$A$5:$J$44,11,FALSE)))","v":0}]
[56,{"$f":"IF(ISNA(VLOOKUP($A63,'Entry List'!$A$1:$F$61,B$5,FALSE)),\"\",VLOOKUP($A63,'Entry List'!$A$1:$F$61,B$5,FALSE))","v":""},{"$f":"IF(ISNA(VLOOKUP($A63,'Entry List'!$A$1:$F$61,C$5,FALSE)),\"\",VLOOKUP($A63,'Entry List'!$A$1:$F$61,C$5,FALSE))","v":""},{"$f":"IF(ISNA(VLOOKUP($A63,'Entry List'!$A$1:$F$61,D$5,FALSE)),\"\",VLOOKUP($A63,'Entry List'!$A$1:$F$61,D$5,FALSE))","v":""},{"$f":"IF(ISNA(VLOOKUP($A63,'Entry List'!$A$1:$F$61,E$5,FALSE)),\"\",VLOOKUP($A63,'Entry List'!$A$1:$F$61,E$5,FALSE))","v":""},null,"DNS",0,"DNS",0,"DNS",0,"DNS",0,"DNS",0,"DNS",0,"DNS",0,"DNS",0,"DNS",0,"DNS",0,"DNS",0,"DNS",0,"DNS",0,"DNS",0,"DNS",0,"DNS",0,"DNS",0,"DNS",0,"DNS",0,"DNS",0,"DNS",0,"DNS",0,"DNS",0,"DNS",0,"DNS",0,{"$f":"IF('Last Race Results'!$B$5=0,0,IF(ISNA(VLOOKUP($A63,'Last Race Results'!$A$5:$J$44,2,FALSE)),\"DNS\",VLOOKUP($A63,'Last Race Results'!$A$5:$J$44,2,FALSE)))","v":"DNS"},{"$f":"IF('Last Race Results'!$B$5=0,0,IF(ISNA(VLOOKUP($A63,'Last Race Results'!$A$5:$K$44,11,FALSE)),0,VLOOKUP($A63,'Last Race Results'!$A$5:$K$44,11,FALSE)))","v":0},null,null,null,null,null,null,null,null,null,null,null,null,null,null,null,null,null,null,{"$f":"IF('Last Race Results'!$B$5=0,0,IF(ISNA(VLOOKUP($A63,'Last Race Results'!$A$5:$J$44,2,FALSE)),\"DNS\",VLOOKUP($A63,'Last Race Results'!$A$5:$J$44,2,FALSE)))","v":"DNS"},{"$f":"IF('Last Race Results'!$B$5=0,0,IF(ISNA(VLOOKUP($A63,'Last Race Results'!$A$5:$J$44,11,FALSE)),0,VLOOKUP($A63,'Last Race Results'!$A$5:$J$44,11,FALSE)))","v":0}]
[57,{"$f":"IF(ISNA(VLOOKUP($A64,'Entry List'!$A$1:$F$61,B$5,FALSE)),\"\",VLOOKUP($A64,'Entry List'!$A$1:$F$61,B$5,FALSE))","v":""},{"$f":"IF(ISNA(VLOOKUP($A64,'Entry List'!$A$1:$F$61,C$5,FALSE)),\"\",VLOOKUP($A64,'Entry List'!$A$1:$F$61,C$5,FALSE))","v":""},{"$f":"IF(ISNA(VLOOKUP($A64,'Entry List'!$A$1:$F$61,D$5,FALSE)),\"\",VLOOKUP($A64,'Entry List'!$A$1:$F$61,D$5,FALSE))","v":""},{"$f":"IF(ISNA(VLOOKUP($A64,'Entry List'!$A$1:$F$61,E$5,FALSE)),\"\",VLOOKUP($A64,'Entry List'!$A$1:$F$61,E$5,FALSE))","v":""},null,"DNS",0,"DNS",0,"DNS",0,"DNS",0,"DNS",0,"DNS",0,"DNS",0,"DNS",0,"DNS",0,"DNS",0,"DNS",0,"DNS",0,"DNS",0,"DNS",0,"DNS",0,"DNS",0,"DNS",0,"DNS",0,"DNS",0,"DNS",0,"DNS",0,"DNS",0,"DNS",0,"DNS",0,"DNS",0,{"$f":"IF('Last Race Results'!$B$5=0,0,IF(ISNA(VLOOKUP($A64,'Last Race Results'!$A$5:$J$44,2,FALSE)),\"DNS\",VLOOKUP($A64,'Last Race Results'!$A$5:$J$44,2,FALSE)))","v":"DNS"},{"$f":"IF('Last Race Results'!$B$5=0,0,IF(ISNA(VLOOKUP($A64,'Last Race Results'!$A$5:$K$44,11,FALSE)),0,VLOOKUP($A64,'Last Race Results'!$A$5:$K$44,11,FALSE)))","v":0},null,null,null,null,null,null,null,null,null,null,null,null,null,null,null,null,null,null,{"$f":"IF('Last Race Results'!$B$5=0,0,IF(ISNA(VLOOKUP($A64,'Last Race Results'!$A$5:$J$44,2,FALSE)),\"DNS\",VLOOKUP($A64,'Last Race Results'!$A$5:$J$44,2,FALSE)))","v":"DNS"},{"$f":"IF('Last Race Results'!$B$5=0,0,IF(ISNA(VLOOKUP($A64,'Last Race Results'!$A$5:$J$44,11,FALSE)),0,VLOOKUP($A64,'Last Race Results'!$A$5:$J$44,11,FALSE)))","v":0}]
[58,{"$f":"IF(ISNA(VLOOKUP($A65,'Entry List'!$A$1:$F$61,B$5,FALSE)),\"\",VLOOKUP($A65,'Entry List'!$A$1:$F$61,B$5,FALSE))","v":""},{"$f":"IF(ISNA(VLOOKUP($A65,'Entry List'!$A$1:$F$61,C$5,FALSE)),\"\",VLOOKUP($A65,'Entry List'!$A$1:$F$61,C$5,FALSE))","v":""},{"$f":"IF(ISNA(VLOOKUP($A65,'Entry List'!$A$1:$F$61,D$5,FALSE)),\"\",VLOOKUP($A65,'Entry List'!$A$1:$F$61,D$5,FALSE))","v":""},{"$f":"IF(ISNA(VLOOKUP($A65,'Entry List'!$A$1:$F$61,E$5,FALSE)),\"\",VLOOKUP($A65,'Entry List'!$A$1:$F$61,E$5,FALSE))","v":""},null,"DNS",0,"DNS",0,"DNS",0,"DNS",0,"DNS",0,"DNS",0,"DNS",0,"DNS",0,"DNS",0,"DNS",0,"DNS",0,"DNS",0,"DNS",0,"DNS",0,"DNS",0,"DNS",0,"DNS",0,"DNS",0,"DNS",0,"DNS",0,"DNS",0,"DNS",0,"DNS",0,"DNS",0,"DNS",0,{"$f":"IF('Last Race Results'!$B$5=0,0,IF(ISNA(VLOOKUP($A65,'Last Race Results'!$A$5:$J$44,2,FALSE)),\"DNS\",VLOOKUP($A65,'Last Race Results'!$A$5:$J$44,2,FALSE)))","v":"DNS"},{"$f":"IF('Last Race Results'!$B$5=0,0,IF(ISNA(VLOOKUP($A65,'Last Race Results'!$A$5:$K$44,11,FALSE)),0,VLOOKUP($A65,'Last Race Results'!$A$5:$K$44,11,FALSE)))","v":0},null,null,null,null,null,null,null,null,null,null,null,null,null,null,null,null,null,null,{"$f":"IF('Last Race Results'!$B$5=0,0,IF(ISNA(VLOOKUP($A65,'Last Race Results'!$A$5:$J$44,2,FALSE)),\"DNS\",VLOOKUP($A65,'Last Race Results'!$A$5:$J$44,2,FALSE)))","v":"DNS"},{"$f":"IF('Last Race Results'!$B$5=0,0,IF(ISNA(VLOOKUP($A65,'Last Race Results'!$A$5:$J$44,11,FALSE)),0,VLOOKUP($A65,'Last Race Results'!$A$5:$J$44,11,FALSE)))","v":0}]
[59,{"$f":"IF(ISNA(VLOOKUP($A66,'Entry List'!$A$1:$F$61,B$5,FALSE)),\"\",VLOOKUP($A66,'Entry List'!$A$1:$F$61,B$5,FALSE))","v":""},{"$f":"IF(ISNA(VLOOKUP($A66,'Entry List'!$A$1:$F$61,C$5,FALSE)),\"\",VLOOKUP($A66,'Entry List'!$A$1:$F$61,C$5,FALSE))","v":""},{"$f":"IF(ISNA(VLOOKUP($A66,'Entry List'!$A$1:$F$61,D$5,FALSE)),\"\",VLOOKUP($A66,'Entry List'!$A$1:$F$61,D$5,FALSE))","v":""},{"$f":"IF(ISNA(VLOOKUP($A66,'Entry List'!$A$1:$F$61,E$5,FALSE)),\"\",VLOOKUP($A66,'Entry List'!$A$1:$F$61,E$5,FALSE))","v":""},null,"DNS",0,"DNS",0,"DNS",0,"DNS",0,"DNS",0,"DNS",0,"DNS",0,"DNS",0,"DNS",0,"DNS",0,"DNS",0,"DNS",0,"DNS",0,"DNS",0,"DNS",0,"DNS",0,"DNS",0,"DNS",0,"DNS",0,"DNS",0,"DNS",0,"DNS",0,"DNS",0,"DNS",0,"DNS",0,{"$f":"IF('Last Race Results'!$B$5=0,0,IF(ISNA(VLOOKUP($A66,'Last Race Results'!$A$5:$J$44,2,FALSE)),\"DNS\",VLOOKUP($A66,'Last Race Results'!$A$5:$J$44,2,FALSE)))","v":"DNS"},{"$f":"IF('Last Race Results'!$B$5=0,0,IF(ISNA(VLOOKUP($A66,'Last Race Results'!$A$5:$K$44,11,FALSE)),0,VLOOKUP($A66,'Last Race Results'!$A$5:$K$44,11,FALSE)))","v":0},null,null,null,null,null,null,null,null,null,null,null,null,null,null,null,null,null,null,{"$f":"IF('Last Race Results'!$B$5=0,0,IF(ISNA(VLOOKUP($A66,'Last Race Results'!$A$5:$J$44,2,FALSE)),\"DNS\",VLOOKUP($A66,'Last Race Results'!$A$5:$J$44,2,FALSE)))","v":"DNS"},{"$f":"IF('Last Race Results'!$B$5=0,0,IF(ISNA(VLOOKUP($A66,'Last Race Results'!$A$5:$J$44,11,FALSE)),0,VLOOKUP($A66,'Last Race Results'!$A$5:$J$44,11,FALSE)))","v":0}]
[60,{"$f":"IF(ISNA(VLOOKUP($A67,'Entry List'!$A$1:$F$61,B$5,FALSE)),\"\",VLOOKUP($A67,'Entry List'!$A$1:$F$61,B$5,FALSE))","v":""},{"$f":"IF(ISNA(VLOOKUP($A67,'Entry List'!$A$1:$F$61,C$5,FALSE)),\"\",VLOOKUP($A67,'Entry List'!$A$1:$F$61,C$5,FALSE))","v":""},{"$f":"IF(ISNA(VLOOKUP($A67,'Entry List'!$A$1:$F$61,D$5,FALSE)),\"\",VLOOKUP($A67,'Entry List'!$A$1:$F$61,D$5,FALSE))","v":""},{"$f":"IF(ISNA(VLOOKUP($A67,'Entry List'!$A$1:$F$61,E$5,FALSE)),\"\",VLOOKUP($A67,'Entry List'!$A$1:$F$61,E$5,FALSE))","v":""},null,"DNS",0,"DNS",0,"DNS",0,"DNS",0,"DNS",0,"DNS",0,"DNS",0,"DNS",0,"DNS",0,"DNS",0,"DNS",0,"DNS",0,"DNS",0,"DNS",0,"DNS",0,"DNS",0,"DNS",0,"DNS",0,"DNS",0,"DNS",0,"DNS",0,"DNS",0,"DNS",0,"DNS",0,"DNS",0,{"$f":"IF('Last Race Results'!$B$5=0,0,IF(ISNA(VLOOKUP($A67,'Last Race Results'!$A$5:$J$44,2,FALSE)),\"DNS\",VLOOKUP($A67,'Last Race Results'!$A$5:$J$44,2,FALSE)))","v":"DNS"},{"$f":"IF('Last Race Results'!$B$5=0,0,IF(ISNA(VLOOKUP($A67,'Last Race Results'!$A$5:$K$44,11,FALSE)),0,VLOOKUP($A67,'Last Race Results'!$A$5:$K$44,11,FALSE)))","v":0},null,null,null,null,null,null,null,null,null,null,null,null,null,null,null,null,null,null,{"$f":"IF('Last Race Results'!$B$5=0,0,IF(ISNA(VLOOKUP($A67,'Last Race Results'!$A$5:$J$44,2,FALSE)),\"DNS\",VLOOKUP($A67,'Last Race Results'!$A$5:$J$44,2,FALSE)))","v":"DNS"},{"$f":"IF('Last Race Results'!$B$5=0,0,IF(ISNA(VLOOKUP($A67,'Last Race Results'!$A$5:$J$44,11,FALSE)),0,VLOOKUP($A67,'Last Race Results'!$A$5:$J$44,11,FALSE)))","v":0}]
[61,{"$f":"IF(ISNA(VLOOKUP($A68,'Entry List'!$A$1:$F$61,B$5,FALSE)),\"\",VLOOKUP($A68,'Entry List'!$A$1:$F$61,B$5,FALSE))","v":""},{"$f":"IF(ISNA(VLOOKUP($A68,'Entry List'!$A$1:$F$61,C$5,FALSE)),\"\",VLOOKUP($A68,'Entry List'!$A$1:$F$61,C$5,FALSE))","v":""},{"$f":"IF(ISNA(VLOOKUP($A68,'Entry List'!$A$1:$F$61,D$5,FALSE)),\"\",VLOOKUP($A68,'Entry List'!$A$1:$F$61,D$5,FALSE))","v":""},{"$f":"IF(ISNA(VLOOKUP($A68,'Entry List'!$A$1:$F$61,E$5,FALSE)),\"\",VLOOKUP($A68,'Entry List'!$A$1:$F$61,E$5,FALSE))","v":""},null,"DNS",0,"DNS",0,"DNS",0,"DNS",0,"DNS",0,"DNS",0,"DNS",0,"DNS",0,"DNS",0,"DNS",0,"DNS",0,"DNS",0,"DNS",0,"DNS",0,"DNS",0,"DNS",0,"DNS",0,"DNS",0,"DNS",0,"DNS",0,"DNS",0,"DNS",0,"DNS",0,"DNS",0,"DNS",0,{"$f":"IF('Last Race Results'!$B$5=0,0,IF(ISNA(VLOOKUP($A68,'Last Race Results'!$A$5:$J$44,2,FALSE)),\"DNS\",VLOOKUP($A68,'Last Race Results'!$A$5:$J$44,2,FALSE)))","v":"DNS"},{"$f":"IF('Last Race Results'!$B$5=0,0,IF(ISNA(VLOOKUP($A68,'Last Race Results'!$A$5:$K$44,11,FALSE)),0,VLOOKUP($A68,'Last Race Results'!$A$5:$K$44,11,FALSE)))","v":0},null,null,null,null,null,null,null,null,null,null,null,null,null,null,null,null,null,null,{"$f":"IF('Last Race Results'!$B$5=0,0,IF(ISNA(VLOOKUP($A68,'Last Race Results'!$A$5:$J$44,2,FALSE)),\"DNS\",VLOOKUP($A68,'Last Race Results'!$A$5:$J$44,2,FALSE)))","v":"DNS"},{"$f":"IF('Last Race Results'!$B$5=0,0,IF(ISNA(VLOOKUP($A68,'Last Race Results'!$A$5:$J$44,11,FALSE)),0,VLOOKUP($A68,'Last Race Results'!$A$5:$J$44,11,FALSE)))","v":0}]
[62,{"$f":"IF(ISNA(VLOOKUP($A69,'Entry List'!$A$1:$F$61,B$5,FALSE)),\"\",VLOOKUP($A69,'Entry List'!$A$1:$F$61,B$5,FALSE))","v":""},{"$f":"IF(ISNA(VLOOKUP($A69,'Entry List'!$A$1:$F$61,C$5,FALSE)),\"\",VLOOKUP($A69,'Entry List'!$A$1:$F$61,C$5,FALSE))","v":""},{"$f":"IF(ISNA(VLOOKUP($A69,'Entry List'!$A$1:$F$61,D$5,FALSE)),\"\",VLOOKUP($A69,'Entry List'!$A$1:$F$61,D$5,FALSE))","v":""},{"$f":"IF(ISNA(VLOOKUP($A69,'Entry List'!$A$1:$F$61,E$5,FALSE)),\"\",VLOOKUP($A69,'Entry List'!$A$1:$F$61,E$5,FALSE))","v":""},null,28,9,"DNS",0,"DNS",0,"DNS",0,"DNS",0,"DNS",0,"DNS",0,"DNS",0,"DNS",0,22,15,"DNS",0,"DNS",0,"DNS",0,"DNS",0,"DNS",0,"DNS",0,"DNS",0,12,29,"DNS",0,"DNS",0,"DNS",0,"DNS",0,"DNS",0,"DNS",0,"DNS",0,{"$f":"IF('Last Race Results'!$B$5=0,0,IF(ISNA(VLOOKUP($A69,'Last Race Results'!$A$5:$J$44,2,FALSE)),\"DNS\",VLOOKUP($A69,'Last Race Results'!$A$5:$J$44,2,FALSE)))","v":"DNS"},{"$f":"IF('Last Race Results'!$B$5=0,0,IF(ISNA(VLOOKUP($A69,'Last Race Results'!$A$5:$K$44,11,FALSE)),0,VLOOKUP($A69,'Last Race Results'!$A$5:$K$44,11,FALSE)))","v":0},null,null,null,null,null,null,null,null,null,null,null,null,null,null,null,null,null,null,{"$f":"IF('Last Race Results'!$B$5=0,0,IF(ISNA(VLOOKUP($A69,'Last Race Results'!$A$5:$J$44,2,FALSE)),\"DNS\",VLOOKUP($A69,'Last Race Results'!$A$5:$J$44,2,FALSE)))","v":"DNS"},{"$f":"IF('Last Race Results'!$B$5=0,0,IF(ISNA(VLOOKUP($A69,'Last Race Results'!$A$5:$J$44,11,FALSE)),0,VLOOKUP($A69,'Last Race Results'!$A$5:$J$44,11,FALSE)))","v":0}]
[63,{"$f":"IF(ISNA(VLOOKUP($A70,'Entry List'!$A$1:$F$61,B$5,FALSE)),\"\",VLOOKUP($A70,'Entry List'!$A$1:$F$61,B$5,FALSE))","v":""},{"$f":"IF(ISNA(VLOOKUP($A70,'Entry List'!$A$1:$F$61,C$5,FALSE)),\"\",VLOOKUP($A70,'Entry List'!$A$1:$F$61,C$5,FALSE))","v":""},{"$f":"IF(ISNA(VLOOKUP($A70,'Entry List'!$A$1:$F$61,D$5,FALSE)),\"\",VLOOKUP($A70,'Entry List'!$A$1:$F$61,D$5,FALSE))","v":""},{"$f":"IF(ISNA(VLOOKUP($A70,'Entry List'!$A$1:$F$61,E$5,FALSE)),\"\",VLOOKUP($A70,'Entry List'!$A$1:$F$61,E$5,FALSE))","v":""},null,"DNS",0,"DNS",0,"DNS",0,"DNS",0,"DNS",0,"DNS",0,"DNS",0,"DNS",0,"DNS",0,"DNS",0,"DNS",0,"DNS",0,"DNS",0,"DNS",0,"DNS",0,"DNS",0,"DNS",0,"DNS",0,"DNS",0,"DNS",0,"DNS",0,"DNS",0,"DNS",0,"DNS",0,"DNS",0,{"$f":"IF('Last Race Results'!$B$5=0,0,IF(ISNA(VLOOKUP($A70,'Last Race Results'!$A$5:$J$44,2,FALSE)),\"DNS\",VLOOKUP($A70,'Last Race Results'!$A$5:$J$44,2,FALSE)))","v":"DNS"},{"$f":"IF('Last Race Results'!$B$5=0,0,IF(ISNA(VLOOKUP($A70,'Last Race Results'!$A$5:$K$44,11,FALSE)),0,VLOOKUP($A70,'Last Race Results'!$A$5:$K$44,11,FALSE)))","v":0},null,null,null,null,null,null,null,null,null,null,null,null,null,null,null,null,null,null,{"$f":"IF('Last Race Results'!$B$5=0,0,IF(ISNA(VLOOKUP($A70,'Last Race Results'!$A$5:$J$44,2,FALSE)),\"DNS\",VLOOKUP($A70,'Last Race Results'!$A$5:$J$44,2,FALSE)))","v":"DNS"},{"$f":"IF('Last Race Results'!$B$5=0,0,IF(ISNA(VLOOKUP($A70,'Last Race Results'!$A$5:$J$44,11,FALSE)),0,VLOOKUP($A70,'Last Race Results'!$A$5:$J$44,11,FALSE)))","v":0}]
[64,{"$f":"IF(ISNA(VLOOKUP($A71,'Entry List'!$A$1:$F$61,B$5,FALSE)),\"\",VLOOKUP($A71,'Entry List'!$A$1:$F$61,B$5,FALSE))","v":""},{"$f":"IF(ISNA(VLOOKUP($A71,'Entry List'!$A$1:$F$61,C$5,FALSE)),\"\",VLOOKUP($A71,'Entry List'!$A$1:$F$61,C$5,FALSE))","v":""},{"$f":"IF(ISNA(VLOOKUP($A71,'Entry List'!$A$1:$F$61,D$5,FALSE)),\"\",VLOOKUP($A71,'Entry List'!$A$1:$F$61,D$5,FALSE))","v":""},{"$f":"IF(ISNA(VLOOKUP($A71,'Entry List'!$A$1:$F$61,E$5,FALSE)),\"\",VLOOKUP($A71,'Entry List'!$A$1:$F$61,E$5,FALSE))","v":""},null,"DNS",0,"DNS",0,"DNS",0,"DNS",0,"DNS",0,"DNS",0,"DNS",0,"DNS",0,"DNS",0,"DNS",0,"DNS",0,"DNS",0,"DNS",0,"DNS",0,"DNS",0,"DNS",0,"DNS",0,"DNS",0,"DNS",0,"DNS",0,"DNS",0,"DNS",0,"DNS",0,"DNS",0,"DNS",0,{"$f":"IF('Last Race Results'!$B$5=0,0,IF(ISNA(VLOOKUP($A71,'Last Race Results'!$A$5:$J$44,2,FALSE)),\"DNS\",VLOOKUP($A71,'Last Race Results'!$A$5:$J$44,2,FALSE)))","v":"DNS"},{"$f":"IF('Last Race Results'!$B$5=0,0,IF(ISNA(VLOOKUP($A71,'Last Race Results'!$A$5:$K$44,11,FALSE)),0,VLOOKUP($A71,'Last Race Results'!$A$5:$K$44,11,FALSE)))","v":0},null,null,null,null,null,null,null,null,null,null,null,null,null,null,null,null,null,null,{"$f":"IF('Last Race Results'!$B$5=0,0,IF(ISNA(VLOOKUP($A71,'Last Race Results'!$A$5:$J$44,2,FALSE)),\"DNS\",VLOOKUP($A71,'Last Race Results'!$A$5:$J$44,2,FALSE)))","v":"DNS"},{"$f":"IF('Last Race Results'!$B$5=0,0,IF(ISNA(VLOOKUP($A71,'Last Race Results'!$A$5:$J$44,11,FALSE)),0,VLOOKUP($A71,'Last Race Results'!$A$5:$J$44,11,FALSE)))","v":0}]
[65,{"$f":"IF(ISNA(VLOOKUP($A72,'Entry List'!$A$1:$F$61,B$5,FALSE)),\"\",VLOOKUP($A72,'Entry List'!$A$1:$F$61,B$5,FALSE))","v":""},{"$f":"IF(ISNA(VLOOKUP($A72,'Entry List'!$A$1:$F$61,C$5,FALSE)),\"\",VLOOKUP($A72,'Entry List'!$A$1:$F$61,C$5,FALSE))","v":""},{"$f":"IF(ISNA(VLOOKUP($A72,'Entry List'!$A$1:$F$61,D$5,FALSE)),\"\",VLOOKUP($A72,'Entry List'!$A$1:$F$61,D$5,FALSE))","v":""},{"$f":"IF(ISNA(VLOOKUP($A72,'Entry List'!$A$1:$F$61,E$5,FALSE)),\"\",VLOOKUP($A72,'Entry List'!$A$1:$F$61,E$5,FALSE))","v":""},null,"DNS",0,"DNS",0,"DNS",0,"DNS",0,"DNS",0,"DNS",0,"DNS",0,"DNS",0,"DNS",0,"DNS",0,"DNS",0,"DNS",0,"DNS",0,"DNS",0,"DNS",0,"DNS",0,"DNS",0,"DNS",0,"DNS",0,"DNS",0,"DNS",0,"DNS",0,"DNS",0,"DNS",0,"DNS",0,{"$f":"IF('Last Race Results'!$B$5=0,0,IF(ISNA(VLOOKUP($A72,'Last Race Results'!$A$5:$J$44,2,FALSE)),\"DNS\",VLOOKUP($A72,'Last Race Results'!$A$5:$J$44,2,FALSE)))","v":"DNS"},{"$f":"IF('Last Race Results'!$B$5=0,0,IF(ISNA(VLOOKUP($A72,'Last Race Results'!$A$5:$K$44,11,FALSE)),0,VLOOKUP($A72,'Last Race Results'!$A$5:$K$44,11,FALSE)))","v":0},null,null,null,null,null,null,null,null,null,null,null,null,null,null,null,null,null,null,{"$f":"IF('Last Race Results'!$B$5=0,0,IF(ISNA(VLOOKUP($A72,'Last Race Results'!$A$5:$J$44,2,FALSE)),\"DNS\",VLOOKUP($A72,'Last Race Results'!$A$5:$J$44,2,FALSE)))","v":"DNS"},{"$f":"IF('Last Race Results'!$B$5=0,0,IF(ISNA(VLOOKUP($A72,'Last Race Results'!$A$5:$J$44,11,FALSE)),0,VLOOKUP($A72,'Last Race Results'!$A$5:$J$44,11,FALSE)))","v":0}]
[66,{"$f":"IF(ISNA(VLOOKUP($A73,'Entry List'!$A$1:$F$61,B$5,FALSE)),\"\",VLOOKUP($A73,'Entry List'!$A$1:$F$61,B$5,FALSE))","v":"Timmy Hill (i)"},{"$f":"IF(ISNA(VLOOKUP($A73,'Entry List'!$A$1:$F$61,C$5,FALSE)),\"\",VLOOKUP($A73,'Entry List'!$A$1:$F$61,C$5,FALSE))","v":"Toyota"},{"$f":"IF(ISNA(VLOOKUP($A73,'Entry List'!$A$1:$F$61,D$5,FALSE)),\"\",VLOOKUP($A73,'Entry List'!$A$1:$F$61,D$5,FALSE))","v":"MBM Motorsports"},{"$f":"IF(ISNA(VLOOKUP($A73,'Entry List'!$A$1:$F$61,E$5,FALSE)),\"\",VLOOKUP($A73,'Entry List'!$A$1:$F$61,E$5,FALSE))","v":"MBM Motorsports"},null,22,15,"DNS",0,"DNS",0,"DNS",0,"DNS",0,"DNS",0,"DNS",0,33,4,"DNS",0,"DNS",0,"DNS",0,32,5,32,5,"DNS",0,35,2,"DNS",0,39,1,"DNS",0,34,3,"DNS",0,36,1,"DNS",0,37,1,28,9,37,1,{"$f":"IF('Last Race Results'!$B$5=0,0,IF(ISNA(VLOOKUP($A73,'Last Race Results'!$A$5:$J$44,2,FALSE)),\"DNS\",VLOOKUP($A73,'Last Race Results'!$A$5:$J$44,2,FALSE)))","v":35},{"$f":"IF('Last Race Results'!$B$5=0,0,IF(ISNA(VLOOKUP($A73,'Last Race Results'!$A$5:$K$44,11,FALSE)),0,VLOOKUP($A73,'Last Race Results'!$A$5:$K$44,11,FALSE)))","v":2},null,null,null,null,null,null,null,null,null,null,null,null,null,null,null,null,null,null,{"$f":"IF('Last Race Results'!$B$5=0,0,IF(ISNA(VLOOKUP($A73,'Last Race Results'!$A$5:$J$44,2,FALSE)),\"DNS\",VLOOKUP($A73,'Last Race Results'!$A$5:$J$44,2,FALSE)))","v":35},{"$f":"IF('Last Race Results'!$B$5=0,0,IF(ISNA(VLOOKUP($A73,'Last Race Results'!$A$5:$J$44,11,FALSE)),0,VLOOKUP($A73,'Last Race Results'!$A$5:$J$44,11,FALSE)))","v":{"$error":"#REF!"}}]
[67,{"$f":"IF(ISNA(VLOOKUP($A74,'Entry List'!$A$1:$F$61,B$5,FALSE)),\"\",VLOOKUP($A74,'Entry List'!$A$1:$F$61,B$5,FALSE))","v":""},{"$f":"IF(ISNA(VLOOKUP($A74,'Entry List'!$A$1:$F$61,C$5,FALSE)),\"\",VLOOKUP($A74,'Entry List'!$A$1:$F$61,C$5,FALSE))","v":""},{"$f":"IF(ISNA(VLOOKUP($A74,'Entry List'!$A$1:$F$61,D$5,FALSE)),\"\",VLOOKUP($A74,'Entry List'!$A$1:$F$61,D$5,FALSE))","v":""},{"$f":"IF(ISNA(VLOOKUP($A74,'Entry List'!$A$1:$F$61,E$5,FALSE)),\"\",VLOOKUP($A74,'Entry List'!$A$1:$F$61,E$5,FALSE))","v":""},null,"DNS",0,"DNS",0,"DNS",0,"DNS",0,"DNS",0,"DNS",0,"DNS",0,"DNS",0,"DNS",0,"DNS",0,"DNS",0,"DNS",0,"DNS",0,"DNS",0,"DNS",0,"DNS",0,"DNS",0,"DNS",0,"DNS",0,"DNS",0,"DNS",0,"DNS",0,"DNS",0,"DNS",0,"DNS",0,{"$f":"IF('Last Race Results'!$B$5=0,0,IF(ISNA(VLOOKUP($A74,'Last Race Results'!$A$5:$J$44,2,FALSE)),\"DNS\",VLOOKUP($A74,'Last Race Results'!$A$5:$J$44,2,FALSE)))","v":"DNS"},{"$f":"IF('Last Race Results'!$B$5=0,0,IF(ISNA(VLOOKUP($A74,'Last Race Results'!$A$5:$K$44,11,FALSE)),0,VLOOKUP($A74,'Last Race Results'!$A$5:$K$44,11,FALSE)))","v":0},null,null,null,null,null,null,null,null,null,null,null,null,null,null,null,null,null,null,{"$f":"IF('Last Race Results'!$B$5=0,0,IF(ISNA(VLOOKUP($A74,'Last Race Results'!$A$5:$J$44,2,FALSE)),\"DNS\",VLOOKUP($A74,'Last Race Results'!$A$5:$J$44,2,FALSE)))","v":"DNS"},{"$f":"IF('Last Race Results'!$B$5=0,0,IF(ISNA(VLOOKUP($A74,'Last Race Results'!$A$5:$J$44,11,FALSE)),0,VLOOKUP($A74,'Last Race Results'!$A$5:$J$44,11,FALSE)))","v":0}]
[68,{"$f":"IF(ISNA(VLOOKUP($A75,'Entry List'!$A$1:$F$61,B$5,FALSE)),\"\",VLOOKUP($A75,'Entry List'!$A$1:$F$61,B$5,FALSE))","v":""},{"$f":"IF(ISNA(VLOOKUP($A75,'Entry List'!$A$1:$F$61,C$5,FALSE)),\"\",VLOOKUP($A75,'Entry List'!$A$1:$F$61,C$5,FALSE))","v":""},{"$f":"IF(ISNA(VLOOKUP($A75,'Entry List'!$A$1:$F$61,D$5,FALSE)),\"\",VLOOKUP($A75,'Entry List'!$A$1:$F$61,D$5,FALSE))","v":""},{"$f":"IF(ISNA(VLOOKUP($A75,'Entry List'!$A$1:$F$61,E$5,FALSE)),\"\",VLOOKUP($A75,'Entry List'!$A$1:$F$61,E$5,FALSE))","v":""},null,"DNS",0,"DNS",0,"DNS",0,"DNS",0,"DNS",0,"DNS",0,"DNS",0,"DNS",0,"DNS",0,"DNS",0,"DNS",0,"DNS",0,"DNS",0,"DNS",0,"DNS",0,"DNS",0,"DNS",0,"DNS",0,"DNS",0,"DNS",0,"DNS",0,"DNS",0,"DNS",0,"DNS",0,"DNS",0,{"$f":"IF('Last Race Results'!$B$5=0,0,IF(ISNA(VLOOKUP($A75,'Last Race Results'!$A$5:$J$44,2,FALSE)),\"DNS\",VLOOKUP($A75,'Last Race Results'!$A$5:$J$44,2,FALSE)))","v":"DNS"},{"$f":"IF('Last Race Results'!$B$5=0,0,IF(ISNA(VLOOKUP($A75,'Last Race Results'!$A$5:$K$44,11,FALSE)),0,VLOOKUP($A75,'Last Race Results'!$A$5:$K$44,11,FALSE)))","v":0},null,null,null,null,null,null,null,null,null,null,null,null,null,null,null,null,null,null,{"$f":"IF('Last Race Results'!$B$5=0,0,IF(ISNA(VLOOKUP($A75,'Last Race Results'!$A$5:$J$44,2,FALSE)),\"DNS\",VLOOKUP($A75,'Last Race Results'!$A$5:$J$44,2,FALSE)))","v":"DNS"},{"$f":"IF('Last Race Results'!$B$5=0,0,IF(ISNA(VLOOKUP($A75,'Last Race Results'!$A$5:$J$44,11,FALSE)),0,VLOOKUP($A75,'Last Race Results'!$A$5:$J$44,11,FALSE)))","v":0}]
[69,{"$f":"IF(ISNA(VLOOKUP($A76,'Entry List'!$A$1:$F$61,B$5,FALSE)),\"\",VLOOKUP($A76,'Entry List'!$A$1:$F$61,B$5,FALSE))","v":""},{"$f":"IF(ISNA(VLOOKUP($A76,'Entry List'!$A$1:$F$61,C$5,FALSE)),\"\",VLOOKUP($A76,'Entry List'!$A$1:$F$61,C$5,FALSE))","v":""},{"$f":"IF(ISNA(VLOOKUP($A76,'Entry List'!$A$1:$F$61,D$5,FALSE)),\"\",VLOOKUP($A76,'Entry List'!$A$1:$F$61,D$5,FALSE))","v":""},{"$f":"IF(ISNA(VLOOKUP($A76,'Entry List'!$A$1:$F$61,E$5,FALSE)),\"\",VLOOKUP($A76,'Entry List'!$A$1:$F$61,E$5,FALSE))","v":""},null,"DNS",0,"DNS",0,"DNS",0,"DNS",0,"DNS",0,"DNS",0,"DNS",0,"DNS",0,"DNS",0,"DNS",0,"DNS",0,"DNS",0,"DNS",0,"DNS",0,"DNS",0,"DNS",0,"DNS",0,"DNS",0,"DNS",0,"DNS",0,"DNS",0,"DNS",0,"DNS",0,"DNS",0,"DNS",0,{"$f":"IF('Last Race Results'!$B$5=0,0,IF(ISNA(VLOOKUP($A76,'Last Race Results'!$A$5:$J$44,2,FALSE)),\"DNS\",VLOOKUP($A76,'Last Race Results'!$A$5:$J$44,2,FALSE)))","v":"DNS"},{"$f":"IF('Last Race Results'!$B$5=0,0,IF(ISNA(VLOOKUP($A76,'Last Race Results'!$A$5:$K$44,11,FALSE)),0,VLOOKUP($A76,'Last Race Results'!$A$5:$K$44,11,FALSE)))","v":0},null,null,null,null,null,null,null,null,null,null,null,null,null,null,null,null,null,null,{"$f":"IF('Last Race Results'!$B$5=0,0,IF(ISNA(VLOOKUP($A76,'Last Race Results'!$A$5:$J$44,2,FALSE)),\"DNS\",VLOOKUP($A76,'Last Race Results'!$A$5:$J$44,2,FALSE)))","v":"DNS"},{"$f":"IF('Last Race Results'!$B$5=0,0,IF(ISNA(VLOOKUP($A76,'Last Race Results'!$A$5:$J$44,11,FALSE)),0,VLOOKUP($A76,'Last Race Results'!$A$5:$J$44,11,FALSE)))","v":0}]
[70,{"$f":"IF(ISNA(VLOOKUP($A77,'Entry List'!$A$1:$F$61,B$5,FALSE)),\"\",VLOOKUP($A77,'Entry List'!$A$1:$F$61,B$5,FALSE))","v":""},{"$f":"IF(ISNA(VLOOKUP($A77,'Entry List'!$A$1:$F$61,C$5,FALSE)),\"\",VLOOKUP($A77,'Entry List'!$A$1:$F$61,C$5,FALSE))","v":""},{"$f":"IF(ISNA(VLOOKUP($A77,'Entry List'!$A$1:$F$61,D$5,FALSE)),\"\",VLOOKUP($A77,'Entry List'!$A$1:$F$61,D$5,FALSE))","v":""},{"$f":"IF(ISNA(VLOOKUP($A77,'Entry List'!$A$1:$F$61,E$5,FALSE)),\"\",VLOOKUP($A77,'Entry List'!$A$1:$F$61,E$5,FALSE))","v":""},null,"DNS",0,"DNS",0,"DNS",0,"DNS",0,"DNS",0,"DNS",0,"DNS",0,"DNS",0,"DNS",0,"DNS",0,"DNS",0,"DNS",0,"DNS",0,"DNS",0,"DNS",0,"DNS",0,"DNS",0,"DNS",0,"DNS",0,"DNS",0,"DNS",0,"DNS",0,"DNS",0,"DNS",0,"DNS",0,{"$f":"IF('Last Race Results'!$B$5=0,0,IF(ISNA(VLOOKUP($A77,'Last Race Results'!$A$5:$J$44,2,FALSE)),\"DNS\",VLOOKUP($A77,'Last Race Results'!$A$5:$J$44,2,FALSE)))","v":"DNS"},{"$f":"IF('Last Race Results'!$B$5=0,0,IF(ISNA(VLOOKUP($A77,'Last Race Results'!$A$5:$K$44,11,FALSE)),0,VLOOKUP($A77,'Last Race Results'!$A$5:$K$44,11,FALSE)))","v":0},null,null,null,null,null,null,null,null,null,null,null,null,null,null,null,null,null,null,{"$f":"IF('Last Race Results'!$B$5=0,0,IF(ISNA(VLOOKUP($A77,'Last Race Results'!$A$5:$J$44,2,FALSE)),\"DNS\",VLOOKUP($A77,'Last Race Results'!$A$5:$J$44,2,FALSE)))","v":"DNS"},{"$f":"IF('Last Race Results'!$B$5=0,0,IF(ISNA(VLOOKUP($A77,'Last Race Results'!$A$5:$J$44,11,FALSE)),0,VLOOKUP($A77,'Last Race Results'!$A$5:$J$44,11,FALSE)))","v":0}]
[71,{"$f":"IF(ISNA(VLOOKUP($A78,'Entry List'!$A$1:$F$61,B$5,FALSE)),\"\",VLOOKUP($A78,'Entry List'!$A$1:$F$61,B$5,FALSE))","v":""},{"$f":"IF(ISNA(VLOOKUP($A78,'Entry List'!$A$1:$F$61,C$5,FALSE)),\"\",VLOOKUP($A78,'Entry List'!$A$1:$F$61,C$5,FALSE))","v":""},{"$f":"IF(ISNA(VLOOKUP($A78,'Entry List'!$A$1:$F$61,D$5,FALSE)),\"\",VLOOKUP($A78,'Entry List'!$A$1:$F$61,D$5,FALSE))","v":""},{"$f":"IF(ISNA(VLOOKUP($A78,'Entry List'!$A$1:$F$61,E$5,FALSE)),\"\",VLOOKUP($A78,'Entry List'!$A$1:$F$61,E$5,FALSE))","v":""},null,"DNS",0,"DNS",0,"DNS",0,"DNS",0,"DNS",0,"DNS",0,"DNS",0,"DNS",0,"DNS",0,"DNS",0,"DNS",0,"DNS",0,"DNS",0,"DNS",0,"DNS",0,"DNS",0,"DNS",0,"DNS",0,"DNS",0,"DNS",0,"DNS",0,"DNS",0,"DNS",0,"DNS",0,"DNS",0,{"$f":"IF('Last Race Results'!$B$5=0,0,IF(ISNA(VLOOKUP($A78,'Last Race Results'!$A$5:$J$44,2,FALSE)),\"DNS\",VLOOKUP($A78,'Last Race Results'!$A$5:$J$44,2,FALSE)))","v":"DNS"},{"$f":"IF('Last Race Results'!$B$5=0,0,IF(ISNA(VLOOKUP($A78,'Last Race Results'!$A$5:$K$44,11,FALSE)),0,VLOOKUP($A78,'Last Race Results'!$A$5:$K$44,11,FALSE)))","v":0},null,null,null,null,null,null,null,null,null,null,null,null,null,null,null,null,null,null,{"$f":"IF('Last Race Results'!$B$5=0,0,IF(ISNA(VLOOKUP($A78,'Last Race Results'!$A$5:$J$44,2,FALSE)),\"DNS\",VLOOKUP($A78,'Last Race Results'!$A$5:$J$44,2,FALSE)))","v":"DNS"},{"$f":"IF('Last Race Results'!$B$5=0,0,IF(ISNA(VLOOKUP($A78,'Last Race Results'!$A$5:$J$44,11,FALSE)),0,VLOOKUP($A78,'Last Race Results'!$A$5:$J$44,11,FALSE)))","v":0}]
[72,{"$f":"IF(ISNA(VLOOKUP($A79,'Entry List'!$A$1:$F$61,B$5,FALSE)),\"\",VLOOKUP($A79,'Entry List'!$A$1:$F$61,B$5,FALSE))","v":"Corey LaJoie"},{"$f":"IF(ISNA(VLOOKUP($A79,'Entry List'!$A$1:$F$61,C$5,FALSE)),\"\",VLOOKUP($A79,'Entry List'!$A$1:$F$61,C$5,FALSE))","v":"Chevrolet"},{"$f":"IF(ISNA(VLOOKUP($A79,'Entry List'!$A$1:$F$61,D$5,FALSE)),\"\",VLOOKUP($A79,'Entry List'!$A$1:$F$61,D$5,FALSE))","v":"TriStar Motorsports"},{"$f":"IF(ISNA(VLOOKUP($A79,'Entry List'!$A$1:$F$61,E$5,FALSE)),\"\",VLOOKUP($A79,'Entry List'!$A$1:$F$61,E$5,FALSE))","v":"TriStar Motorsports"},null,"DNS",0,28,9,28,9,37,1,28,9,27,10,19,18,25,12,30,7,21,16,38,1,24,13,26,11,30,7,27,10,35,2,34,3,31,6,31,6,27,10,39,1,34,3,40,1,34,3,27,10,{"$f":"IF('Last Race Results'!$B$5=0,0,IF(ISNA(VLOOKUP($A79,'Last Race Results'!$A$5:$J$44,2,FALSE)),\"DNS\",VLOOKUP($A79,'Last Race Results'!$A$5:$J$44,2,FALSE)))","v":27},{"$f":"IF('Last Race Results'!$B$5=0,0,IF(ISNA(VLOOKUP($A79,'Last Race Results'!$A$5:$K$44,11,FALSE)),0,VLOOKUP($A79,'Last Race Results'!$A$5:$K$44,11,FALSE)))","v":10},null,null,null,null,null,null,null,null,null,null,null,null,null,null,null,null,null,null,{"$f":"IF('Last Race Results'!$B$5=0,0,IF(ISNA(VLOOKUP($A79,'Last Race Results'!$A$5:$J$44,2,FALSE)),\"DNS\",VLOOKUP($A79,'Last Race Results'!$A$5:$J$44,2,FALSE)))","v":27},{"$f":"IF('Last Race Results'!$B$5=0,0,IF(ISNA(VLOOKUP($A79,'Last Race Results'!$A$5:$J$44,11,FALSE)),0,VLOOKUP($A79,'Last Race Results'!$A$5:$J$44,11,FALSE)))","v":{"$error":"#REF!"}}]
[73,{"$f":"IF(ISNA(VLOOKUP($A80,'Entry List'!$A$1:$F$61,B$5,FALSE)),\"\",VLOOKUP($A80,'Entry List'!$A$1:$F$61,B$5,FALSE))","v":""},{"$f":"IF(ISNA(VLOOKUP($A80,'Entry List'!$A$1:$F$61,C$5,FALSE)),\"\",VLOOKUP($A80,'Entry List'!$A$1:$F$61,C$5,FALSE))","v":""},{"$f":"IF(ISNA(VLOOKUP($A80,'Entry List'!$A$1:$F$61,D$5,FALSE)),\"\",VLOOKUP($A80,'Entry List'!$A$1:$F$61,D$5,FALSE))","v":""},{"$f":"IF(ISNA(VLOOKUP($A80,'Entry List'!$A$1:$F$61,E$5,FALSE)),\"\",VLOOKUP($A80,'Entry List'!$A$1:$F$61,E$5,FALSE))","v":""},null,"DNS",0,"DNS",0,"DNS",0,"DNS",0,"DNS",0,"DNS",0,"DNS",0,"DNS",0,"DNS",0,"DNS",0,"DNS",0,"DNS",0,"DNS",0,"DNS",0,"DNS",0,"DNS",0,"DNS",0,"DNS",0,"DNS",0,"DNS",0,"DNS",0,"DNS",0,"DNS",0,"DNS",0,"DNS",0,{"$f":"IF('Last Race Results'!$B$5=0,0,IF(ISNA(VLOOKUP($A80,'Last Race Results'!$A$5:$J$44,2,FALSE)),\"DNS\",VLOOKUP($A80,'Last Race Results'!$A$5:$J$44,2,FALSE)))","v":"DNS"},{"$f":"IF('Last Race Results'!$B$5=0,0,IF(ISNA(VLOOKUP($A80,'Last Race Results'!$A$5:$K$44,11,FALSE)),0,VLOOKUP($A80,'Last Race Results'!$A$5:$K$44,11,FALSE)))","v":0},null,null,null,null,null,null,null,null,null,null,null,null,null,null,null,null,null,null,{"$f":"IF('Last Race Results'!$B$5=0,0,IF(ISNA(VLOOKUP($A80,'Last Race Results'!$A$5:$J$44,2,FALSE)),\"DNS\",VLOOKUP($A80,'Last Race Results'!$A$5:$J$44,2,FALSE)))","v":"DNS"},{"$f":"IF('Last Race Results'!$B$5=0,0,IF(ISNA(VLOOKUP($A80,'Last Race Results'!$A$5:$J$44,11,FALSE)),0,VLOOKUP($A80,'Last Race Results'!$A$5:$J$44,11,FALSE)))","v":0}]
[74,{"$f":"IF(ISNA(VLOOKUP($A81,'Entry List'!$A$1:$F$61,B$5,FALSE)),\"\",VLOOKUP($A81,'Entry List'!$A$1:$F$61,B$5,FALSE))","v":""},{"$f":"IF(ISNA(VLOOKUP($A81,'Entry List'!$A$1:$F$61,C$5,FALSE)),\"\",VLOOKUP($A81,'Entry List'!$A$1:$F$61,C$5,FALSE))","v":""},{"$f":"IF(ISNA(VLOOKUP($A81,'Entry List'!$A$1:$F$61,D$5,FALSE)),\"\",VLOOKUP($A81,'Entry List'!$A$1:$F$61,D$5,FALSE))","v":""},{"$f":"IF(ISNA(VLOOKUP($A81,'Entry List'!$A$1:$F$61,E$5,FALSE)),\"\",VLOOKUP($A81,'Entry List'!$A$1:$F$61,E$5,FALSE))","v":""},null,"DNS",0,"DNS",0,"DNS",0,"DNS",0,"DNS",0,"DNS",0,"DNS",0,"DNS",0,"DNS",0,"DNS",0,"DNS",0,"DNS",0,"DNS",0,"DNS",0,"DNS",0,"DNS",0,"DNS",0,"DNS",0,"DNS",0,"DNS",0,"DNS",0,"DNS",0,"DNS",0,"DNS",0,"DNS",0,{"$f":"IF('Last Race Results'!$B$5=0,0,IF(ISNA(VLOOKUP($A81,'Last Race Results'!$A$5:$J$44,2,FALSE)),\"DNS\",VLOOKUP($A81,'Last Race Results'!$A$5:$J$44,2,FALSE)))","v":"DNS"},{"$f":"IF('Last Race Results'!$B$5=0,0,IF(ISNA(VLOOKUP($A81,'Last Race Results'!$A$5:$K$44,11,FALSE)),0,VLOOKUP($A81,'Last Race Results'!$A$5:$K$44,11,FALSE)))","v":0},null,null,null,null,null,null,null,null,null,null,null,null,null,null,null,null,null,null,{"$f":"IF('Last Race Results'!$B$5=0,0,IF(ISNA(VLOOKUP($A81,'Last Race Results'!$A$5:$J$44,2,FALSE)),\"DNS\",VLOOKUP($A81,'Last Race Results'!$A$5:$J$44,2,FALSE)))","v":"DNS"},{"$f":"IF('Last Race Results'!$B$5=0,0,IF(ISNA(VLOOKUP($A81,'Last Race Results'!$A$5:$J$44,11,FALSE)),0,VLOOKUP($A81,'Last Race Results'!$A$5:$J$44,11,FALSE)))","v":0}]
[75,{"$f":"IF(ISNA(VLOOKUP($A82,'Entry List'!$A$1:$F$61,B$5,FALSE)),\"\",VLOOKUP($A82,'Entry List'!$A$1:$F$61,B$5,FALSE))","v":""},{"$f":"IF(ISNA(VLOOKUP($A82,'Entry List'!$A$1:$F$61,C$5,FALSE)),\"\",VLOOKUP($A82,'Entry List'!$A$1:$F$61,C$5,FALSE))","v":""},{"$f":"IF(ISNA(VLOOKUP($A82,'Entry List'!$A$1:$F$61,D$5,FALSE)),\"\",VLOOKUP($A82,'Entry List'!$A$1:$F$61,D$5,FALSE))","v":""},{"$f":"IF(ISNA(VLOOKUP($A82,'Entry List'!$A$1:$F$61,E$5,FALSE)),\"\",VLOOKUP($A82,'Entry List'!$A$1:$F$61,E$5,FALSE))","v":""},null,"DNS",0,"DNS",0,"DNS",0,"DNS",0,"DNS",0,"DNS",0,"DNS",0,"DNS",0,"DNS",0,"DNS",0,"DNS",0,"DNS",0,"DNS",0,"DNS",0,"DNS",0,"DNS",0,"DNS",0,"DNS",0,"DNS",0,"DNS",0,"DNS",0,"DNS",0,"DNS",0,"DNS",0,"DNS",0,{"$f":"IF('Last Race Results'!$B$5=0,0,IF(ISNA(VLOOKUP($A82,'Last Race Results'!$A$5:$J$44,2,FALSE)),\"DNS\",VLOOKUP($A82,'Last Race Results'!$A$5:$J$44,2,FALSE)))","v":"DNS"},{"$f":"IF('Last Race Results'!$B$5=0,0,IF(ISNA(VLOOKUP($A82,'Last Race Results'!$A$5:$K$44,11,FALSE)),0,VLOOKUP($A82,'Last Race Results'!$A$5:$K$44,11,FALSE)))","v":0},null,null,null,null,null,null,null,null,null,null,null,null,null,null,null,null,null,null,{"$f":"IF('Last Race Results'!$B$5=0,0,IF(ISNA(VLOOKUP($A82,'Last Race Results'!$A$5:$J$44,2,FALSE)),\"DNS\",VLOOKUP($A82,'Last Race Results'!$A$5:$J$44,2,FALSE)))","v":"DNS"},{"$f":"IF('Last Race Results'!$B$5=0,0,IF(ISNA(VLOOKUP($A82,'Last Race Results'!$A$5:$J$44,11,FALSE)),0,VLOOKUP($A82,'Last Race Results'!$A$5:$J$44,11,FALSE)))","v":0}]
[76,{"$f":"IF(ISNA(VLOOKUP($A83,'Entry List'!$A$1:$F$61,B$5,FALSE)),\"\",VLOOKUP($A83,'Entry List'!$A$1:$F$61,B$5,FALSE))","v":""},{"$f":"IF(ISNA(VLOOKUP($A83,'Entry List'!$A$1:$F$61,C$5,FALSE)),\"\",VLOOKUP($A83,'Entry List'!$A$1:$F$61,C$5,FALSE))","v":""},{"$f":"IF(ISNA(VLOOKUP($A83,'Entry List'!$A$1:$F$61,D$5,FALSE)),\"\",VLOOKUP($A83,'Entry List'!$A$1:$F$61,D$5,FALSE))","v":""},{"$f":"IF(ISNA(VLOOKUP($A83,'Entry List'!$A$1:$F$61,E$5,FALSE)),\"\",VLOOKUP($A83,'Entry List'!$A$1:$F$61,E$5,FALSE))","v":""},null,"DNS",0,"DNS",0,"DNS",0,"DNS",0,"DNS",0,"DNS",0,"DNS",0,"DNS",0,"DNS",0,"DNS",0,"DNS",0,"DNS",0,"DNS",0,"DNS",0,"DNS",0,"DNS",0,"DNS",0,"DNS",0,"DNS",0,"DNS",0,"DNS",0,"DNS",0,"DNS",0,"DNS",0,"DNS",0,{"$f":"IF('Last Race Results'!$B$5=0,0,IF(ISNA(VLOOKUP($A83,'Last Race Results'!$A$5:$J$44,2,FALSE)),\"DNS\",VLOOKUP($A83,'Last Race Results'!$A$5:$J$44,2,FALSE)))","v":"DNS"},{"$f":"IF('Last Race Results'!$B$5=0,0,IF(ISNA(VLOOKUP($A83,'Last Race Results'!$A$5:$K$44,11,FALSE)),0,VLOOKUP($A83,'Last Race Results'!$A$5:$K$44,11,FALSE)))","v":0},null,null,null,null,null,null,null,null,null,null,null,null,null,null,null,null,null,null,{"$f":"IF('Last Race Results'!$B$5=0,0,IF(ISNA(VLOOKUP($A83,'Last Race Results'!$A$5:$J$44,2,FALSE)),\"DNS\",VLOOKUP($A83,'Last Race Results'!$A$5:$J$44,2,FALSE)))","v":"DNS"},{"$f":"IF('Last Race Results'!$B$5=0,0,IF(ISNA(VLOOKUP($A83,'Last Race Results'!$A$5:$J$44,11,FALSE)),0,VLOOKUP($A83,'Last Race Results'!$A$5:$J$44,11,FALSE)))","v":0}]
[77,{"$f":"IF(ISNA(VLOOKUP($A84,'Entry List'!$A$1:$F$61,B$5,FALSE)),\"\",VLOOKUP($A84,'Entry List'!$A$1:$F$61,B$5,FALSE))","v":""},{"$f":"IF(ISNA(VLOOKUP($A84,'Entry List'!$A$1:$F$61,C$5,FALSE)),\"\",VLOOKUP($A84,'Entry List'!$A$1:$F$61,C$5,FALSE))","v":""},{"$f":"IF(ISNA(VLOOKUP($A84,'Entry List'!$A$1:$F$61,D$5,FALSE)),\"\",VLOOKUP($A84,'Entry List'!$A$1:$F$61,D$5,FALSE))","v":""},{"$f":"IF(ISNA(VLOOKUP($A84,'Entry List'!$A$1:$F$61,E$5,FALSE)),\"\",VLOOKUP($A84,'Entry List'!$A$1:$F$61,E$5,FALSE))","v":""},null,"DNS",0,"DNS",0,"DNS",0,"DNS",0,"DNS",0,"DNS",0,"DNS",0,"DNS",0,"DNS",0,"DNS",0,"DNS",0,"DNS",0,"DNS",0,"DNS",0,"DNS",0,"DNS",0,"DNS",0,"DNS",0,"DNS",0,"DNS",0,"DNS",0,"DNS",0,"DNS",0,"DNS",0,"DNS",0,{"$f":"IF('Last Race Results'!$B$5=0,0,IF(ISNA(VLOOKUP($A84,'Last Race Results'!$A$5:$J$44,2,FALSE)),\"DNS\",VLOOKUP($A84,'Last Race Results'!$A$5:$J$44,2,FALSE)))","v":"DNS"},{"$f":"IF('Last Race Results'!$B$5=0,0,IF(ISNA(VLOOKUP($A84,'Last Race Results'!$A$5:$K$44,11,FALSE)),0,VLOOKUP($A84,'Last Race Results'!$A$5:$K$44,11,FALSE)))","v":0},null,null,null,null,null,null,null,null,null,null,null,null,null,null,null,null,null,null,{"$f":"IF('Last Race Results'!$B$5=0,0,IF(ISNA(VLOOKUP($A84,'Last Race Results'!$A$5:$J$44,2,FALSE)),\"DNS\",VLOOKUP($A84,'Last Race Results'!$A$5:$J$44,2,FALSE)))","v":"DNS"},{"$f":"IF('Last Race Results'!$B$5=0,0,IF(ISNA(VLOOKUP($A84,'Last Race Results'!$A$5:$J$44,11,FALSE)),0,VLOOKUP($A84,'Last Race Results'!$A$5:$J$44,11,FALSE)))","v":0}]
[78,{"$f":"IF(ISNA(VLOOKUP($A85,'Entry List'!$A$1:$F$61,B$5,FALSE)),\"\",VLOOKUP($A85,'Entry List'!$A$1:$F$61,B$5,FALSE))","v":"Martin Truex Jr."},{"$f":"IF(ISNA(VLOOKUP($A85,'Entry List'!$A$1:$F$61,C$5,FALSE)),\"\",VLOOKUP($A85,'Entry List'!$A$1:$F$61,C$5,FALSE))","v":"Toyota"},{"$f":"IF(ISNA(VLOOKUP($A85,'Entry List'!$A$1:$F$61,D$5,FALSE)),\"\",VLOOKUP($A85,'Entry List'!$A$1:$F$61,D$5,FALSE))","v":"Furniture Row Racing"},{"$f":"IF(ISNA(VLOOKUP($A85,'Entry List'!$A$1:$F$61,E$5,FALSE)),\"\",VLOOKUP($A85,'Entry List'!$A$1:$F$61,E$5,FALSE))","v":"Furniture Row Racing"},null,18,30,5,39,4,46,5,41,1,60,4,33,37,1,30,7,14,23,26,19,4,37,2,36,2,54,1,57,18,19,1,40,4,48,2,35,1,60,4,51,15,22,2,51,14,29,30,7,11,34,{"$f":"IF('Last Race Results'!$B$5=0,0,IF(ISNA(VLOOKUP($A85,'Last Race Results'!$A$5:$J$44,2,FALSE)),\"DNS\",VLOOKUP($A85,'Last Race Results'!$A$5:$J$44,2,FALSE)))","v":40},{"$f":"IF('Last Race Results'!$B$5=0,0,IF(ISNA(VLOOKUP($A85,'Last Race Results'!$A$5:$K$44,11,FALSE)),0,VLOOKUP($A85,'Last Race Results'!$A$5:$K$44,11,FALSE)))","v":1},null,null,null,null,null,null,null,null,null,null,null,null,null,null,null,null,null,null,{"$f":"IF('Last Race Results'!$B$5=0,0,IF(ISNA(VLOOKUP($A85,'Last Race Results'!$A$5:$J$44,2,FALSE)),\"DNS\",VLOOKUP($A85,'Last Race Results'!$A$5:$J$44,2,FALSE)))","v":40},{"$f":"IF('Last Race Results'!$B$5=0,0,IF(ISNA(VLOOKUP($A85,'Last Race Results'!$A$5:$J$44,11,FALSE)),0,VLOOKUP($A85,'Last Race Results'!$A$5:$J$44,11,FALSE)))","v":{"$error":"#REF!"}}]
[79,{"$f":"IF(ISNA(VLOOKUP($A86,'Entry List'!$A$1:$F$61,B$5,FALSE)),\"\",VLOOKUP($A86,'Entry List'!$A$1:$F$61,B$5,FALSE))","v":""},{"$f":"IF(ISNA(VLOOKUP($A86,'Entry List'!$A$1:$F$61,C$5,FALSE)),\"\",VLOOKUP($A86,'Entry List'!$A$1:$F$61,C$5,FALSE))","v":""},{"$f":"IF(ISNA(VLOOKUP($A86,'Entry List'!$A$1:$F$61,D$5,FALSE)),\"\",VLOOKUP($A86,'Entry List'!$A$1:$F$61,D$5,FALSE))","v":""},{"$f":"IF(ISNA(VLOOKUP($A86,'Entry List'!$A$1:$F$61,E$5,FALSE)),\"\",VLOOKUP($A86,'Entry List'!$A$1:$F$61,E$5,FALSE))","v":""},null,"DNS",0,"DNS",0,"DNS",0,"DNS",0,"DNS",0,"DNS",0,"DNS",0,"DNS",0,"DNS",0,"DNS",0,"DNS",0,"DNS",0,"DNS",0,"DNS",0,"DNS",0,"DNS",0,"DNS",0,"DNS",0,"DNS",0,"DNS",0,"DNS",0,"DNS",0,"DNS",0,"DNS",0,"DNS",0,{"$f":"IF('Last Race Results'!$B$5=0,0,IF(ISNA(VLOOKUP($A86,'Last Race Results'!$A$5:$J$44,2,FALSE)),\"DNS\",VLOOKUP($A86,'Last Race Results'!$A$5:$J$44,2,FALSE)))","v":"DNS"},{"$f":"IF('Last Race Results'!$B$5=0,0,IF(ISNA(VLOOKUP($A86,'Last Race Results'!$A$5:$K$44,11,FALSE)),0,VLOOKUP($A86,'Last Race Results'!$A$5:$K$44,11,FALSE)))","v":0},null,null,null,null,null,null,null,null,null,null,null,null,null,null,null,null,null,null,{"$f":"IF('Last Race Results'!$B$5=0,0,IF(ISNA(VLOOKUP($A86,'Last Race Results'!$A$5:$J$44,2,FALSE)),\"DNS\",VLOOKUP($A86,'Last Race Results'!$A$5:$J$44,2,FALSE)))","v":"DNS"},{"$f":"IF('Last Race Results'!$B$5=0,0,IF(ISNA(VLOOKUP($A86,'Last Race Results'!$A$5:$J$44,11,FALSE)),0,VLOOKUP($A86,'Last Race Results'!$A$5:$J$44,11,FALSE)))","v":0}]
[80,{"$f":"IF(ISNA(VLOOKUP($A87,'Entry List'!$A$1:$F$61,B$5,FALSE)),\"\",VLOOKUP($A87,'Entry List'!$A$1:$F$61,B$5,FALSE))","v":""},{"$f":"IF(ISNA(VLOOKUP($A87,'Entry List'!$A$1:$F$61,C$5,FALSE)),\"\",VLOOKUP($A87,'Entry List'!$A$1:$F$61,C$5,FALSE))","v":""},{"$f":"IF(ISNA(VLOOKUP($A87,'Entry List'!$A$1:$F$61,D$5,FALSE)),\"\",VLOOKUP($A87,'Entry List'!$A$1:$F$61,D$5,FALSE))","v":""},{"$f":"IF(ISNA(VLOOKUP($A87,'Entry List'!$A$1:$F$61,E$5,FALSE)),\"\",VLOOKUP($A87,'Entry List'!$A$1:$F$61,E$5,FALSE))","v":""},null,"DNS",0,"DNS",0,"DNS",0,"DNS",0,"DNS",0,"DNS",0,"DNS",0,"DNS",0,"DNS",0,"DNS",0,"DNS",0,"DNS",0,"DNS",0,"DNS",0,"DNS",0,"DNS",0,"DNS",0,"DNS",0,"DNS",0,"DNS",0,"DNS",0,"DNS",0,"DNS",0,"DNS",0,"DNS",0,{"$f":"IF('Last Race Results'!$B$5=0,0,IF(ISNA(VLOOKUP($A87,'Last Race Results'!$A$5:$J$44,2,FALSE)),\"DNS\",VLOOKUP($A87,'Last Race Results'!$A$5:$J$44,2,FALSE)))","v":"DNS"},{"$f":"IF('Last Race Results'!$B$5=0,0,IF(ISNA(VLOOKUP($A87,'Last Race Results'!$A$5:$K$44,11,FALSE)),0,VLOOKUP($A87,'Last Race Results'!$A$5:$K$44,11,FALSE)))","v":0},null,null,null,null,null,null,null,null,null,null,null,null,null,null,null,null,null,null,{"$f":"IF('Last Race Results'!$B$5=0,0,IF(ISNA(VLOOKUP($A87,'Last Race Results'!$A$5:$J$44,2,FALSE)),\"DNS\",VLOOKUP($A87,'Last Race Results'!$A$5:$J$44,2,FALSE)))","v":"DNS"},{"$f":"IF('Last Race Results'!$B$5=0,0,IF(ISNA(VLOOKUP($A87,'Last Race Results'!$A$5:$J$44,11,FALSE)),0,VLOOKUP($A87,'Last Race Results'!$A$5:$J$44,11,FALSE)))","v":0}]
[81,{"$f":"IF(ISNA(VLOOKUP($A88,'Entry List'!$A$1:$F$61,B$5,FALSE)),\"\",VLOOKUP($A88,'Entry List'!$A$1:$F$61,B$5,FALSE))","v":""},{"$f":"IF(ISNA(VLOOKUP($A88,'Entry List'!$A$1:$F$61,C$5,FALSE)),\"\",VLOOKUP($A88,'Entry List'!$A$1:$F$61,C$5,FALSE))","v":""},{"$f":"IF(ISNA(VLOOKUP($A88,'Entry List'!$A$1:$F$61,D$5,FALSE)),\"\",VLOOKUP($A88,'Entry List'!$A$1:$F$61,D$5,FALSE))","v":""},{"$f":"IF(ISNA(VLOOKUP($A88,'Entry List'!$A$1:$F$61,E$5,FALSE)),\"\",VLOOKUP($A88,'Entry List'!$A$1:$F$61,E$5,FALSE))","v":""},null,"DNS",0,"DNS",0,"DNS",0,"DNS",0,"DNS",0,"DNS",0,"DNS",0,"DNS",0,"DNS",0,"DNS",0,"DNS",0,"DNS",0,"DNS",0,"DNS",0,"DNS",0,"DNS",0,"DNS",0,"DNS",0,"DNS",0,"DNS",0,"DNS",0,"DNS",0,"DNS",0,"DNS",0,"DNS",0,{"$f":"IF('Last Race Results'!$B$5=0,0,IF(ISNA(VLOOKUP($A88,'Last Race Results'!$A$5:$J$44,2,FALSE)),\"DNS\",VLOOKUP($A88,'Last Race Results'!$A$5:$J$44,2,FALSE)))","v":"DNS"},{"$f":"IF('Last Race Results'!$B$5=0,0,IF(ISNA(VLOOKUP($A88,'Last Race Results'!$A$5:$K$44,11,FALSE)),0,VLOOKUP($A88,'Last Race Results'!$A$5:$K$44,11,FALSE)))","v":0},null,null,null,null,null,null,null,null,null,null,null,null,null,null,null,null,null,null,{"$f":"IF('Last Race Results'!$B$5=0,0,IF(ISNA(VLOOKUP($A88,'Last Race Results'!$A$5:$J$44,2,FALSE)),\"DNS\",VLOOKUP($A88,'Last Race Results'!$A$5:$J$44,2,FALSE)))","v":"DNS"},{"$f":"IF('Last Race Results'!$B$5=0,0,IF(ISNA(VLOOKUP($A88,'Last Race Results'!$A$5:$J$44,11,FALSE)),0,VLOOKUP($A88,'Last Race Results'!$A$5:$J$44,11,FALSE)))","v":0}]
[82,{"$f":"IF(ISNA(VLOOKUP($A89,'Entry List'!$A$1:$F$61,B$5,FALSE)),\"\",VLOOKUP($A89,'Entry List'!$A$1:$F$61,B$5,FALSE))","v":""},{"$f":"IF(ISNA(VLOOKUP($A89,'Entry List'!$A$1:$F$61,C$5,FALSE)),\"\",VLOOKUP($A89,'Entry List'!$A$1:$F$61,C$5,FALSE))","v":""},{"$f":"IF(ISNA(VLOOKUP($A89,'Entry List'!$A$1:$F$61,D$5,FALSE)),\"\",VLOOKUP($A89,'Entry List'!$A$1:$F$61,D$5,FALSE))","v":""},{"$f":"IF(ISNA(VLOOKUP($A89,'Entry List'!$A$1:$F$61,E$5,FALSE)),\"\",VLOOKUP($A89,'Entry List'!$A$1:$F$61,E$5,FALSE))","v":""},null,"DNS",0,"DNS",0,"DNS",0,"DNS",0,"DNS",0,"DNS",0,"DNS",0,"DNS",0,"DNS",0,"DNS",0,"DNS",0,"DNS",0,"DNS",0,"DNS",0,"DNS",0,"DNS",0,"DNS",0,"DNS",0,"DNS",0,"DNS",0,"DNS",0,"DNS",0,"DNS",0,"DNS",0,"DNS",0,{"$f":"IF('Last Race Results'!$B$5=0,0,IF(ISNA(VLOOKUP($A89,'Last Race Results'!$A$5:$J$44,2,FALSE)),\"DNS\",VLOOKUP($A89,'Last Race Results'!$A$5:$J$44,2,FALSE)))","v":"DNS"},{"$f":"IF('Last Race Results'!$B$5=0,0,IF(ISNA(VLOOKUP($A89,'Last Race Results'!$A$5:$K$44,11,FALSE)),0,VLOOKUP($A89,'Last Race Results'!$A$5:$K$44,11,FALSE)))","v":0},null,null,null,null,null,null,null,null,null,null,null,null,null,null,null,null,null,null,{"$f":"IF('Last Race Results'!$B$5=0,0,IF(ISNA(VLOOKUP($A89,'Last Race Results'!$A$5:$J$44,2,FALSE)),\"DNS\",VLOOKUP($A89,'Last Race Results'!$A$5:$J$44,2,FALSE)))","v":"DNS"},{"$f":"IF('Last Race Results'!$B$5=0,0,IF(ISNA(VLOOKUP($A89,'Last Race Results'!$A$5:$J$44,11,FALSE)),0,VLOOKUP($A89,'Last Race Results'!$A$5:$J$44,11,FALSE)))","v":0}]
[83,{"$f":"IF(ISNA(VLOOKUP($A90,'Entry List'!$A$1:$F$61,B$5,FALSE)),\"\",VLOOKUP($A90,'Entry List'!$A$1:$F$61,B$5,FALSE))","v":""},{"$f":"IF(ISNA(VLOOKUP($A90,'Entry List'!$A$1:$F$61,C$5,FALSE)),\"\",VLOOKUP($A90,'Entry List'!$A$1:$F$61,C$5,FALSE))","v":""},{"$f":"IF(ISNA(VLOOKUP($A90,'Entry List'!$A$1:$F$61,D$5,FALSE)),\"\",VLOOKUP($A90,'Entry List'!$A$1:$F$61,D$5,FALSE))","v":""},{"$f":"IF(ISNA(VLOOKUP($A90,'Entry List'!$A$1:$F$61,E$5,FALSE)),\"\",VLOOKUP($A90,'Entry List'!$A$1:$F$61,E$5,FALSE))","v":""},null,"DNS",0,"DNS",0,"DNS",0,"DNS",0,"DNS",0,"DNS",0,"DNS",0,"DNS",0,"DNS",0,"DNS",0,"DNS",0,"DNS",0,"DNS",0,"DNS",0,"DNS",0,"DNS",0,"DNS",0,"DNS",0,"DNS",0,"DNS",0,"DNS",0,"DNS",0,"DNS",0,"DNS",0,"DNS",0,{"$f":"IF('Last Race Results'!$B$5=0,0,IF(ISNA(VLOOKUP($A90,'Last Race Results'!$A$5:$J$44,2,FALSE)),\"DNS\",VLOOKUP($A90,'Last Race Results'!$A$5:$J$44,2,FALSE)))","v":"DNS"},{"$f":"IF('Last Race Results'!$B$5=0,0,IF(ISNA(VLOOKUP($A90,'Last Race Results'!$A$5:$K$44,11,FALSE)),0,VLOOKUP($A90,'Last Race Results'!$A$5:$K$44,11,FALSE)))","v":0},null,null,null,null,null,null,null,null,null,null,null,null,null,null,null,null,null,null,{"$f":"IF('Last Race Results'!$B$5=0,0,IF(ISNA(VLOOKUP($A90,'Last Race Results'!$A$5:$J$44,2,FALSE)),\"DNS\",VLOOKUP($A90,'Last Race Results'!$A$5:$J$44,2,FALSE)))","v":"DNS"},{"$f":"IF('Last Race Results'!$B$5=0,0,IF(ISNA(VLOOKUP($A90,'Last Race Results'!$A$5:$J$44,11,FALSE)),0,VLOOKUP($A90,'Last Race Results'!$A$5:$J$44,11,FALSE)))","v":0}]
[84,{"$f":"IF(ISNA(VLOOKUP($A91,'Entry List'!$A$1:$F$61,B$5,FALSE)),\"\",VLOOKUP($A91,'Entry List'!$A$1:$F$61,B$5,FALSE))","v":""},{"$f":"IF(ISNA(VLOOKUP($A91,'Entry List'!$A$1:$F$61,C$5,FALSE)),\"\",VLOOKUP($A91,'Entry List'!$A$1:$F$61,C$5,FALSE))","v":""},{"$f":"IF(ISNA(VLOOKUP($A91,'Entry List'!$A$1:$F$61,D$5,FALSE)),\"\",VLOOKUP($A91,'Entry List'!$A$1:$F$61,D$5,FALSE))","v":""},{"$f":"IF(ISNA(VLOOKUP($A91,'Entry List'!$A$1:$F$61,E$5,FALSE)),\"\",VLOOKUP($A91,'Entry List'!$A$1:$F$61,E$5,FALSE))","v":""},null,"DNS",0,"DNS",0,"DNS",0,"DNS",0,"DNS",0,"DNS",0,"DNS",0,"DNS",0,"DNS",0,"DNS",0,"DNS",0,"DNS",0,"DNS",0,"DNS",0,"DNS",0,"DNS",0,"DNS",0,"DNS",0,"DNS",0,"DNS",0,"DNS",0,"DNS",0,"DNS",0,"DNS",0,"DNS",0,{"$f":"IF('Last Race Results'!$B$5=0,0,IF(ISNA(VLOOKUP($A91,'Last Race Results'!$A$5:$J$44,2,FALSE)),\"DNS\",VLOOKUP($A91,'Last Race Results'!$A$5:$J$44,2,FALSE)))","v":"DNS"},{"$f":"IF('Last Race Results'!$B$5=0,0,IF(ISNA(VLOOKUP($A91,'Last Race Results'!$A$5:$K$44,11,FALSE)),0,VLOOKUP($A91,'Last Race Results'!$A$5:$K$44,11,FALSE)))","v":0},null,null,null,null,null,null,null,null,null,null,null,null,null,null,null,null,null,null,{"$f":"IF('Last Race Results'!$B$5=0,0,IF(ISNA(VLOOKUP($A91,'Last Race Results'!$A$5:$J$44,2,FALSE)),\"DNS\",VLOOKUP($A91,'Last Race Results'!$A$5:$J$44,2,FALSE)))","v":"DNS"},{"$f":"IF('Last Race Results'!$B$5=0,0,IF(ISNA(VLOOKUP($A91,'Last Race Results'!$A$5:$J$44,11,FALSE)),0,VLOOKUP($A91,'Last Race Results'!$A$5:$J$44,11,FALSE)))","v":0}]
[85,{"$f":"IF(ISNA(VLOOKUP($A92,'Entry List'!$A$1:$F$61,B$5,FALSE)),\"\",VLOOKUP($A92,'Entry List'!$A$1:$F$61,B$5,FALSE))","v":""},{"$f":"IF(ISNA(VLOOKUP($A92,'Entry List'!$A$1:$F$61,C$5,FALSE)),\"\",VLOOKUP($A92,'Entry List'!$A$1:$F$61,C$5,FALSE))","v":""},{"$f":"IF(ISNA(VLOOKUP($A92,'Entry List'!$A$1:$F$61,D$5,FALSE)),\"\",VLOOKUP($A92,'Entry List'!$A$1:$F$61,D$5,FALSE))","v":""},{"$f":"IF(ISNA(VLOOKUP($A92,'Entry List'!$A$1:$F$61,E$5,FALSE)),\"\",VLOOKUP($A92,'Entry List'!$A$1:$F$61,E$5,FALSE))","v":""},null,"DNS",0,"DNS",0,"DNS",0,"DNS",0,"DNS",0,"DNS",0,"DNS",0,"DNS",0,"DNS",0,"DNS",0,"DNS",0,"DNS",0,"DNS",0,"DNS",0,"DNS",0,"DNS",0,"DNS",0,"DNS",0,"DNS",0,"DNS",0,"DNS",0,"DNS",0,"DNS",0,"DNS",0,"DNS",0,{"$f":"IF('Last Race Results'!$B$5=0,0,IF(ISNA(VLOOKUP($A92,'Last Race Results'!$A$5:$J$44,2,FALSE)),\"DNS\",VLOOKUP($A92,'Last Race Results'!$A$5:$J$44,2,FALSE)))","v":"DNS"},{"$f":"IF('Last Race Results'!$B$5=0,0,IF(ISNA(VLOOKUP($A92,'Last Race Results'!$A$5:$K$44,11,FALSE)),0,VLOOKUP($A92,'Last Race Results'!$A$5:$K$44,11,FALSE)))","v":0},null,null,null,null,null,null,null,null,null,null,null,null,null,null,null,null,null,null,{"$f":"IF('Last Race Results'!$B$5=0,0,IF(ISNA(VLOOKUP($A92,'Last Race Results'!$A$5:$J$44,2,FALSE)),\"DNS\",VLOOKUP($A92,'Last Race Results'!$A$5:$J$44,2,FALSE)))","v":"DNS"},{"$f":"IF('Last Race Results'!$B$5=0,0,IF(ISNA(VLOOKUP($A92,'Last Race Results'!$A$5:$J$44,11,FALSE)),0,VLOOKUP($A92,'Last Race Results'!$A$5:$J$44,11,FALSE)))","v":0}]
[86,{"$f":"IF(ISNA(VLOOKUP($A93,'Entry List'!$A$1:$F$61,B$5,FALSE)),\"\",VLOOKUP($A93,'Entry List'!$A$1:$F$61,B$5,FALSE))","v":""},{"$f":"IF(ISNA(VLOOKUP($A93,'Entry List'!$A$1:$F$61,C$5,FALSE)),\"\",VLOOKUP($A93,'Entry List'!$A$1:$F$61,C$5,FALSE))","v":""},{"$f":"IF(ISNA(VLOOKUP($A93,'Entry List'!$A$1:$F$61,D$5,FALSE)),\"\",VLOOKUP($A93,'Entry List'!$A$1:$F$61,D$5,FALSE))","v":""},{"$f":"IF(ISNA(VLOOKUP($A93,'Entry List'!$A$1:$F$61,E$5,FALSE)),\"\",VLOOKUP($A93,'Entry List'!$A$1:$F$61,E$5,FALSE))","v":""},null,"DNS",0,"DNS",0,"DNS",0,"DNS",0,"DNS",0,"DNS",0,"DNS",0,"DNS",0,"DNS",0,"DNS",0,"DNS",0,"DNS",0,"DNS",0,"DNS",0,"DNS",0,"DNS",0,"DNS",0,"DNS",0,"DNS",0,"DNS",0,"DNS",0,"DNS",0,"DNS",0,"DNS",0,"DNS",0,{"$f":"IF('Last Race Results'!$B$5=0,0,IF(ISNA(VLOOKUP($A93,'Last Race Results'!$A$5:$J$44,2,FALSE)),\"DNS\",VLOOKUP($A93,'Last Race Results'!$A$5:$J$44,2,FALSE)))","v":"DNS"},{"$f":"IF('Last Race Results'!$B$5=0,0,IF(ISNA(VLOOKUP($A93,'Last Race Results'!$A$5:$K$44,11,FALSE)),0,VLOOKUP($A93,'Last Race Results'!$A$5:$K$44,11,FALSE)))","v":0},null,null,null,null,null,null,null,null,null,null,null,null,null,null,null,null,null,null,{"$f":"IF('Last Race Results'!$B$5=0,0,IF(ISNA(VLOOKUP($A93,'Last Race Results'!$A$5:$J$44,2,FALSE)),\"DNS\",VLOOKUP($A93,'Last Race Results'!$A$5:$J$44,2,FALSE)))","v":"DNS"},{"$f":"IF('Last Race Results'!$B$5=0,0,IF(ISNA(VLOOKUP($A93,'Last Race Results'!$A$5:$J$44,11,FALSE)),0,VLOOKUP($A93,'Last Race Results'!$A$5:$J$44,11,FALSE)))","v":0}]
[87,{"$f":"IF(ISNA(VLOOKUP($A94,'Entry List'!$A$1:$F$61,B$5,FALSE)),\"\",VLOOKUP($A94,'Entry List'!$A$1:$F$61,B$5,FALSE))","v":""},{"$f":"IF(ISNA(VLOOKUP($A94,'Entry List'!$A$1:$F$61,C$5,FALSE)),\"\",VLOOKUP($A94,'Entry List'!$A$1:$F$61,C$5,FALSE))","v":""},{"$f":"IF(ISNA(VLOOKUP($A94,'Entry List'!$A$1:$F$61,D$5,FALSE)),\"\",VLOOKUP($A94,'Entry List'!$A$1:$F$61,D$5,FALSE))","v":""},{"$f":"IF(ISNA(VLOOKUP($A94,'Entry List'!$A$1:$F$61,E$5,FALSE)),\"\",VLOOKUP($A94,'Entry List'!$A$1:$F$61,E$5,FALSE))","v":""},null,"DNS",0,"DNS",0,"DNS",0,"DNS",0,"DNS",0,"DNS",0,"DNS",0,"DNS",0,"DNS",0,"DNS",0,"DNS",0,"DNS",0,"DNS",0,"DNS",0,"DNS",0,"DNS",0,"DNS",0,"DNS",0,"DNS",0,"DNS",0,"DNS",0,"DNS",0,"DNS",0,"DNS",0,"DNS",0,{"$f":"IF('Last Race Results'!$B$5=0,0,IF(ISNA(VLOOKUP($A94,'Last Race Results'!$A$5:$J$44,2,FALSE)),\"DNS\",VLOOKUP($A94,'Last Race Results'!$A$5:$J$44,2,FALSE)))","v":"DNS"},{"$f":"IF('Last Race Results'!$B$5=0,0,IF(ISNA(VLOOKUP($A94,'Last Race Results'!$A$5:$K$44,11,FALSE)),0,VLOOKUP($A94,'Last Race Results'!$A$5:$K$44,11,FALSE)))","v":0},null,null,null,null,null,null,null,null,null,null,null,null,null,null,null,null,null,null,{"$f":"IF('Last Race Results'!$B$5=0,0,IF(ISNA(VLOOKUP($A94,'Last Race Results'!$A$5:$J$44,2,FALSE)),\"DNS\",VLOOKUP($A94,'Last Race Results'!$A$5:$J$44,2,FALSE)))","v":"DNS"},{"$f":"IF('Last Race Results'!$B$5=0,0,IF(ISNA(VLOOKUP($A94,'Last Race Results'!$A$5:$J$44,11,FALSE)),0,VLOOKUP($A94,'Last Race Results'!$A$5:$J$44,11,FALSE)))","v":0}]
[88,{"$f":"IF(ISNA(VLOOKUP($A95,'Entry List'!$A$1:$F$61,B$5,FALSE)),\"\",VLOOKUP($A95,'Entry List'!$A$1:$F$61,B$5,FALSE))","v":"Alex Bowman"},{"$f":"IF(ISNA(VLOOKUP($A95,'Entry List'!$A$1:$F$61,C$5,FALSE)),\"\",VLOOKUP($A95,'Entry List'!$A$1:$F$61,C$5,FALSE))","v":"Chevrolet"},{"$f":"IF(ISNA(VLOOKUP($A95,'Entry List'!$A$1:$F$61,D$5,FALSE)),\"\",VLOOKUP($A95,'Entry List'!$A$1:$F$61,D$5,FALSE))","v":"Hendrick Motorsports"},{"$f":"IF(ISNA(VLOOKUP($A95,'Entry List'!$A$1:$F$61,E$5,FALSE)),\"\",VLOOKUP($A95,'Entry List'!$A$1:$F$61,E$5,FALSE))","v":"Hendrick Motorsports"},null,17,29,20,17,16,21,13,24,13,24,7,30,28,9,5,36,18,19,8,29,23,14,18,19,9,28,27,11,16,21,9,32,10,27,10,36,39,1,11,26,3,43,14,27,19,18,8,30,23,14,{"$f":"IF('Last Race Results'!$B$5=0,0,IF(ISNA(VLOOKUP($A95,'Last Race Results'!$A$5:$J$44,2,FALSE)),\"DNS\",VLOOKUP($A95,'Last Race Results'!$A$5:$J$44,2,FALSE)))","v":33},{"$f":"IF('Last Race Results'!$B$5=0,0,IF(ISNA(VLOOKUP($A95,'Last Race Results'!$A$5:$K$44,11,FALSE)),0,VLOOKUP($A95,'Last Race Results'!$A$5:$K$44,11,FALSE)))","v":4},null,null,null,null,null,null,null,null,null,null,null,null,null,null,null,null,null,null,{"$f":"IF('Last Race Results'!$B$5=0,0,IF(ISNA(VLOOKUP($A95,'Last Race Results'!$A$5:$J$44,2,FALSE)),\"DNS\",VLOOKUP($A95,'Last Race Results'!$A$5:$J$44,2,FALSE)))","v":33},{"$f":"IF('Last Race Results'!$B$5=0,0,IF(ISNA(VLOOKUP($A95,'Last Race Results'!$A$5:$J$44,11,FALSE)),0,VLOOKUP($A95,'Last Race Results'!$A$5:$J$44,11,FALSE)))","v":{"$error":"#REF!"}}]
[89,{"$f":"IF(ISNA(VLOOKUP($A96,'Entry List'!$A$1:$F$61,B$5,FALSE)),\"\",VLOOKUP($A96,'Entry List'!$A$1:$F$61,B$5,FALSE))","v":""},{"$f":"IF(ISNA(VLOOKUP($A96,'Entry List'!$A$1:$F$61,C$5,FALSE)),\"\",VLOOKUP($A96,'Entry List'!$A$1:$F$61,C$5,FALSE))","v":""},{"$f":"IF(ISNA(VLOOKUP($A96,'Entry List'!$A$1:$F$61,D$5,FALSE)),\"\",VLOOKUP($A96,'Entry List'!$A$1:$F$61,D$5,FALSE))","v":""},{"$f":"IF(ISNA(VLOOKUP($A96,'Entry List'!$A$1:$F$61,E$5,FALSE)),\"\",VLOOKUP($A96,'Entry List'!$A$1:$F$61,E$5,FALSE))","v":""},null,"DNS",0,"DNS",0,"DNS",0,"DNS",0,"DNS",0,"DNS",0,"DNS",0,"DNS",0,"DNS",0,"DNS",0,"DNS",0,"DNS",0,"DNS",0,"DNS",0,"DNS",0,"DNS",0,"DNS",0,"DNS",0,"DNS",0,"DNS",0,"DNS",0,"DNS",0,"DNS",0,"DNS",0,"DNS",0,{"$f":"IF('Last Race Results'!$B$5=0,0,IF(ISNA(VLOOKUP($A96,'Last Race Results'!$A$5:$J$44,2,FALSE)),\"DNS\",VLOOKUP($A96,'Last Race Results'!$A$5:$J$44,2,FALSE)))","v":"DNS"},{"$f":"IF('Last Race Results'!$B$5=0,0,IF(ISNA(VLOOKUP($A96,'Last Race Results'!$A$5:$K$44,11,FALSE)),0,VLOOKUP($A96,'Last Race Results'!$A$5:$K$44,11,FALSE)))","v":0},null,null,null,null,null,null,null,null,null,null,null,null,null,null,null,null,null,null,{"$f":"IF('Last Race Results'!$B$5=0,0,IF(ISNA(VLOOKUP($A96,'Last Race Results'!$A$5:$J$44,2,FALSE)),\"DNS\",VLOOKUP($A96,'Last Race Results'!$A$5:$J$44,2,FALSE)))","v":"DNS"},{"$f":"IF('Last Race Results'!$B$5=0,0,IF(ISNA(VLOOKUP($A96,'Last Race Results'!$A$5:$J$44,11,FALSE)),0,VLOOKUP($A96,'Last Race Results'!$A$5:$J$44,11,FALSE)))","v":0}]
[90,{"$f":"IF(ISNA(VLOOKUP($A97,'Entry List'!$A$1:$F$61,B$5,FALSE)),\"\",VLOOKUP($A97,'Entry List'!$A$1:$F$61,B$5,FALSE))","v":""},{"$f":"IF(ISNA(VLOOKUP($A97,'Entry List'!$A$1:$F$61,C$5,FALSE)),\"\",VLOOKUP($A97,'Entry List'!$A$1:$F$61,C$5,FALSE))","v":""},{"$f":"IF(ISNA(VLOOKUP($A97,'Entry List'!$A$1:$F$61,D$5,FALSE)),\"\",VLOOKUP($A97,'Entry List'!$A$1:$F$61,D$5,FALSE))","v":""},{"$f":"IF(ISNA(VLOOKUP($A97,'Entry List'!$A$1:$F$61,E$5,FALSE)),\"\",VLOOKUP($A97,'Entry List'!$A$1:$F$61,E$5,FALSE))","v":""},null,"DNS",0,"DNS",0,"DNS",0,"DNS",0,"DNS",0,"DNS",0,"DNS",0,"DNS",0,"DNS",0,"DNS",0,"DNS",0,"DNS",0,"DNS",0,"DNS",0,"DNS",0,"DNS",0,"DNS",0,"DNS",0,"DNS",0,"DNS",0,"DNS",0,"DNS",0,"DNS",0,"DNS",0,"DNS",0,{"$f":"IF('Last Race Results'!$B$5=0,0,IF(ISNA(VLOOKUP($A97,'Last Race Results'!$A$5:$J$44,2,FALSE)),\"DNS\",VLOOKUP($A97,'Last Race Results'!$A$5:$J$44,2,FALSE)))","v":"DNS"},{"$f":"IF('Last Race Results'!$B$5=0,0,IF(ISNA(VLOOKUP($A97,'Last Race Results'!$A$5:$K$44,11,FALSE)),0,VLOOKUP($A97,'Last Race Results'!$A$5:$K$44,11,FALSE)))","v":0},null,null,null,null,null,null,null,null,null,null,null,null,null,null,null,null,null,null,{"$f":"IF('Last Race Results'!$B$5=0,0,IF(ISNA(VLOOKUP($A97,'Last Race Results'!$A$5:$J$44,2,FALSE)),\"DNS\",VLOOKUP($A97,'Last Race Results'!$A$5:$J$44,2,FALSE)))","v":"DNS"},{"$f":"IF('Last Race Results'!$B$5=0,0,IF(ISNA(VLOOKUP($A97,'Last Race Results'!$A$5:$J$44,11,FALSE)),0,VLOOKUP($A97,'Last Race Results'!$A$5:$J$44,11,FALSE)))","v":0}]
[91,{"$f":"IF(ISNA(VLOOKUP($A98,'Entry List'!$A$1:$F$61,B$5,FALSE)),\"\",VLOOKUP($A98,'Entry List'!$A$1:$F$61,B$5,FALSE))","v":""},{"$f":"IF(ISNA(VLOOKUP($A98,'Entry List'!$A$1:$F$61,C$5,FALSE)),\"\",VLOOKUP($A98,'Entry List'!$A$1:$F$61,C$5,FALSE))","v":""},{"$f":"IF(ISNA(VLOOKUP($A98,'Entry List'!$A$1:$F$61,D$5,FALSE)),\"\",VLOOKUP($A98,'Entry List'!$A$1:$F$61,D$5,FALSE))","v":""},{"$f":"IF(ISNA(VLOOKUP($A98,'Entry List'!$A$1:$F$61,E$5,FALSE)),\"\",VLOOKUP($A98,'Entry List'!$A$1:$F$61,E$5,FALSE))","v":""},null,"DNS",0,"DNS",0,"DNS",0,"DNS",0,"DNS",0,"DNS",0,"DNS",0,"DNS",0,"DNS",0,"DNS",0,"DNS",0,"DNS",0,"DNS",0,"DNS",0,"DNS",0,"DNS",0,"DNS",0,"DNS",0,"DNS",0,"DNS",0,"DNS",0,"DNS",0,"DNS",0,"DNS",0,"DNS",0,{"$f":"IF('Last Race Results'!$B$5=0,0,IF(ISNA(VLOOKUP($A98,'Last Race Results'!$A$5:$J$44,2,FALSE)),\"DNS\",VLOOKUP($A98,'Last Race Results'!$A$5:$J$44,2,FALSE)))","v":"DNS"},{"$f":"IF('Last Race Results'!$B$5=0,0,IF(ISNA(VLOOKUP($A98,'Last Race Results'!$A$5:$K$44,11,FALSE)),0,VLOOKUP($A98,'Last Race Results'!$A$5:$K$44,11,FALSE)))","v":0},null,null,null,null,null,null,null,null,null,null,null,null,null,null,null,null,null,null,{"$f":"IF('Last Race Results'!$B$5=0,0,IF(ISNA(VLOOKUP($A98,'Last Race Results'!$A$5:$J$44,2,FALSE)),\"DNS\",VLOOKUP($A98,'Last Race Results'!$A$5:$J$44,2,FALSE)))","v":"DNS"},{"$f":"IF('Last Race Results'!$B$5=0,0,IF(ISNA(VLOOKUP($A98,'Last Race Results'!$A$5:$J$44,11,FALSE)),0,VLOOKUP($A98,'Last Race Results'!$A$5:$J$44,11,FALSE)))","v":0}]
[92,{"$f":"IF(ISNA(VLOOKUP($A99,'Entry List'!$A$1:$F$61,B$5,FALSE)),\"\",VLOOKUP($A99,'Entry List'!$A$1:$F$61,B$5,FALSE))","v":""},{"$f":"IF(ISNA(VLOOKUP($A99,'Entry List'!$A$1:$F$61,C$5,FALSE)),\"\",VLOOKUP($A99,'Entry List'!$A$1:$F$61,C$5,FALSE))","v":""},{"$f":"IF(ISNA(VLOOKUP($A99,'Entry List'!$A$1:$F$61,D$5,FALSE)),\"\",VLOOKUP($A99,'Entry List'!$A$1:$F$61,D$5,FALSE))","v":""},{"$f":"IF(ISNA(VLOOKUP($A99,'Entry List'!$A$1:$F$61,E$5,FALSE)),\"\",VLOOKUP($A99,'Entry List'!$A$1:$F$61,E$5,FALSE))","v":""},null,14,0,"DNS",0,"DNS",0,"DNS",0,"DNS",0,"DNS",0,"DNS",0,"DNS",0,"DNS",0,23,14,"DNS",0,"DNS",0,"DNS",0,"DNS",0,"DNS",0,"DNS",0,"DNS",0,"DNS",0,"DNS",0,"DNS",0,"DNS",0,"DNS",0,"DNS",0,"DNS",0,"DNS",0,{"$f":"IF('Last Race Results'!$B$5=0,0,IF(ISNA(VLOOKUP($A99,'Last Race Results'!$A$5:$J$44,2,FALSE)),\"DNS\",VLOOKUP($A99,'Last Race Results'!$A$5:$J$44,2,FALSE)))","v":"DNS"},{"$f":"IF('Last Race Results'!$B$5=0,0,IF(ISNA(VLOOKUP($A99,'Last Race Results'!$A$5:$K$44,11,FALSE)),0,VLOOKUP($A99,'Last Race Results'!$A$5:$K$44,11,FALSE)))","v":0},null,null,null,null,null,null,null,null,null,null,null,null,null,null,null,null,null,null,{"$f":"IF('Last Race Results'!$B$5=0,0,IF(ISNA(VLOOKUP($A99,'Last Race Results'!$A$5:$J$44,2,FALSE)),\"DNS\",VLOOKUP($A99,'Last Race Results'!$A$5:$J$44,2,FALSE)))","v":"DNS"},{"$f":"IF('Last Race Results'!$B$5=0,0,IF(ISNA(VLOOKUP($A99,'Last Race Results'!$A$5:$J$44,11,FALSE)),0,VLOOKUP($A99,'Last Race Results'!$A$5:$J$44,11,FALSE)))","v":0}]
[93,{"$f":"IF(ISNA(VLOOKUP($A100,'Entry List'!$A$1:$F$61,B$5,FALSE)),\"\",VLOOKUP($A100,'Entry List'!$A$1:$F$61,B$5,FALSE))","v":""},{"$f":"IF(ISNA(VLOOKUP($A100,'Entry List'!$A$1:$F$61,C$5,FALSE)),\"\",VLOOKUP($A100,'Entry List'!$A$1:$F$61,C$5,FALSE))","v":""},{"$f":"IF(ISNA(VLOOKUP($A100,'Entry List'!$A$1:$F$61,D$5,FALSE)),\"\",VLOOKUP($A100,'Entry List'!$A$1:$F$61,D$5,FALSE))","v":""},{"$f":"IF(ISNA(VLOOKUP($A100,'Entry List'!$A$1:$F$61,E$5,FALSE)),\"\",VLOOKUP($A100,'Entry List'!$A$1:$F$61,E$5,FALSE))","v":""},null,"DNS",0,"DNS",0,"DNS",0,"DNS",0,"DNS",0,"DNS",0,"DNS",0,"DNS",0,"DNS",0,"DNS",0,"DNS",0,"DNS",0,"DNS",0,"DNS",0,"DNS",0,"DNS",0,"DNS",0,"DNS",0,"DNS",0,"DNS",0,"DNS",0,"DNS",0,"DNS",0,"DNS",0,"DNS",0,{"$f":"IF('Last Race Results'!$B$5=0,0,IF(ISNA(VLOOKUP($A100,'Last Race Results'!$A$5:$J$44,2,FALSE)),\"DNS\",VLOOKUP($A100,'Last Race Results'!$A$5:$J$44,2,FALSE)))","v":"DNS"},{"$f":"IF('Last Race Results'!$B$5=0,0,IF(ISNA(VLOOKUP($A100,'Last Race Results'!$A$5:$K$44,11,FALSE)),0,VLOOKUP($A100,'Last Race Results'!$A$5:$K$44,11,FALSE)))","v":0},null,null,null,null,null,null,null,null,null,null,null,null,null,null,null,null,null,null,{"$f":"IF('Last Race Results'!$B$5=0,0,IF(ISNA(VLOOKUP($A100,'Last Race Results'!$A$5:$J$44,2,FALSE)),\"DNS\",VLOOKUP($A100,'Last Race Results'!$A$5:$J$44,2,FALSE)))","v":"DNS"},{"$f":"IF('Last Race Results'!$B$5=0,0,IF(ISNA(VLOOKUP($A100,'Last Race Results'!$A$5:$J$44,11,FALSE)),0,VLOOKUP($A100,'Last Race Results'!$A$5:$J$44,11,FALSE)))","v":0}]
[94,{"$f":"IF(ISNA(VLOOKUP($A101,'Entry List'!$A$1:$F$61,B$5,FALSE)),\"\",VLOOKUP($A101,'Entry List'!$A$1:$F$61,B$5,FALSE))","v":""},{"$f":"IF(ISNA(VLOOKUP($A101,'Entry List'!$A$1:$F$61,C$5,FALSE)),\"\",VLOOKUP($A101,'Entry List'!$A$1:$F$61,C$5,FALSE))","v":""},{"$f":"IF(ISNA(VLOOKUP($A101,'Entry List'!$A$1:$F$61,D$5,FALSE)),\"\",VLOOKUP($A101,'Entry List'!$A$1:$F$61,D$5,FALSE))","v":""},{"$f":"IF(ISNA(VLOOKUP($A101,'Entry List'!$A$1:$F$61,E$5,FALSE)),\"\",VLOOKUP($A101,'Entry List'!$A$1:$F$61,E$5,FALSE))","v":""},null,"DNS",0,"DNS",0,"DNS",0,"DNS",0,"DNS",0,"DNS",0,"DNS",0,"DNS",0,"DNS",0,"DNS",0,"DNS",0,"DNS",0,"DNS",0,"DNS",0,"DNS",0,"DNS",0,"DNS",0,"DNS",0,"DNS",0,"DNS",0,"DNS",0,"DNS",0,"DNS",0,"DNS",0,"DNS",0,{"$f":"IF('Last Race Results'!$B$5=0,0,IF(ISNA(VLOOKUP($A101,'Last Race Results'!$A$5:$J$44,2,FALSE)),\"DNS\",VLOOKUP($A101,'Last Race Results'!$A$5:$J$44,2,FALSE)))","v":"DNS"},{"$f":"IF('Last Race Results'!$B$5=0,0,IF(ISNA(VLOOKUP($A101,'Last Race Results'!$A$5:$K$44,11,FALSE)),0,VLOOKUP($A101,'Last Race Results'!$A$5:$K$44,11,FALSE)))","v":0},null,null,null,null,null,null,null,null,null,null,null,null,null,null,null,null,null,null,{"$f":"IF('Last Race Results'!$B$5=0,0,IF(ISNA(VLOOKUP($A101,'Last Race Results'!$A$5:$J$44,2,FALSE)),\"DNS\",VLOOKUP($A101,'Last Race Results'!$A$5:$J$44,2,FALSE)))","v":"DNS"},{"$f":"IF('Last Race Results'!$B$5=0,0,IF(ISNA(VLOOKUP($A101,'Last Race Results'!$A$5:$J$44,11,FALSE)),0,VLOOKUP($A101,'Last Race Results'!$A$5:$J$44,11,FALSE)))","v":0}]
[95,{"$f":"IF(ISNA(VLOOKUP($A102,'Entry List'!$A$1:$F$61,B$5,FALSE)),\"\",VLOOKUP($A102,'Entry List'!$A$1:$F$61,B$5,FALSE))","v":"Regan Smith"},{"$f":"IF(ISNA(VLOOKUP($A102,'Entry List'!$A$1:$F$61,C$5,FALSE)),\"\",VLOOKUP($A102,'Entry List'!$A$1:$F$61,C$5,FALSE))","v":"Chevrolet"},{"$f":"IF(ISNA(VLOOKUP($A102,'Entry List'!$A$1:$F$61,D$5,FALSE)),\"\",VLOOKUP($A102,'Entry List'!$A$1:$F$61,D$5,FALSE))","v":"Leavine Family Racing"},{"$f":"IF(ISNA(VLOOKUP($A102,'Entry List'!$A$1:$F$61,E$5,FALSE)),\"\",VLOOKUP($A102,'Entry List'!$A$1:$F$61,E$5,FALSE))","v":"Leavine Family Racing"},null,34,3,21,16,19,18,24,15,24,13,24,13,17,20,34,3,29,8,17,20,17,20,21,16,20,21,36,1,23,14,20,18,27,10,4,40,25,12,19,18,30,7,21,16,26,11,15,22,24,13,{"$f":"IF('Last Race Results'!$B$5=0,0,IF(ISNA(VLOOKUP($A102,'Last Race Results'!$A$5:$J$44,2,FALSE)),\"DNS\",VLOOKUP($A102,'Last Race Results'!$A$5:$J$44,2,FALSE)))","v":20},{"$f":"IF('Last Race Results'!$B$5=0,0,IF(ISNA(VLOOKUP($A102,'Last Race Results'!$A$5:$K$44,11,FALSE)),0,VLOOKUP($A102,'Last Race Results'!$A$5:$K$44,11,FALSE)))","v":17},null,null,null,null,null,null,null,null,null,null,null,null,null,null,null,null,null,null,{"$f":"IF('Last Race Results'!$B$5=0,0,IF(ISNA(VLOOKUP($A102,'Last Race Results'!$A$5:$J$44,2,FALSE)),\"DNS\",VLOOKUP($A102,'Last Race Results'!$A$5:$J$44,2,FALSE)))","v":20},{"$f":"IF('Last Race Results'!$B$5=0,0,IF(ISNA(VLOOKUP($A102,'Last Race Results'!$A$5:$J$44,11,FALSE)),0,VLOOKUP($A102,'Last Race Results'!$A$5:$J$44,11,FALSE)))","v":{"$error":"#REF!"}}]
[96,{"$f":"IF(ISNA(VLOOKUP($A103,'Entry List'!$A$1:$F$61,B$5,FALSE)),\"\",VLOOKUP($A103,'Entry List'!$A$1:$F$61,B$5,FALSE))","v":"Jeffrey Earnhardt"},{"$f":"IF(ISNA(VLOOKUP($A103,'Entry List'!$A$1:$F$61,C$5,FALSE)),\"\",VLOOKUP($A103,'Entry List'!$A$1:$F$61,C$5,FALSE))","v":"Toyota"},{"$f":"IF(ISNA(VLOOKUP($A103,'Entry List'!$A$1:$F$61,D$5,FALSE)),\"\",VLOOKUP($A103,'Entry List'!$A$1:$F$61,D$5,FALSE))","v":"Gaunt Brothers Racing"},{"$f":"IF(ISNA(VLOOKUP($A103,'Entry List'!$A$1:$F$61,E$5,FALSE)),\"\",VLOOKUP($A103,'Entry List'!$A$1:$F$61,E$5,FALSE))","v":"Gaunt Brothers Racing"},null,24,13,"DNS",0,"DNS",0,"DNS",0,"DNS",0,28,9,"DNS",0,27,10,"DNS",0,20,17,"DNS",0,"DNS",0,27,10,"DNS",0,"DNS",0,23,14,"DNS",0,13,24,"DNS",0,"DNS",0,29,8,24,13,39,1,35,2,34,3,{"$f":"IF('Last Race Results'!$B$5=0,0,IF(ISNA(VLOOKUP($A103,'Last Race Results'!$A$5:$J$44,2,FALSE)),\"DNS\",VLOOKUP($A103,'Last Race Results'!$A$5:$J$44,2,FALSE)))","v":32},{"$f":"IF('Last Race Results'!$B$5=0,0,IF(ISNA(VLOOKUP($A103,'Last Race Results'!$A$5:$K$44,11,FALSE)),0,VLOOKUP($A103,'Last Race Results'!$A$5:$K$44,11,FALSE)))","v":5},null,null,null,null,null,null,null,null,null,null,null,null,null,null,null,null,null,null,{"$f":"IF('Last Race Results'!$B$5=0,0,IF(ISNA(VLOOKUP($A103,'Last Race Results'!$A$5:$J$44,2,FALSE)),\"DNS\",VLOOKUP($A103,'Last Race Results'!$A$5:$J$44,2,FALSE)))","v":32},{"$f":"IF('Last Race Results'!$B$5=0,0,IF(ISNA(VLOOKUP($A103,'Last Race Results'!$A$5:$J$44,11,FALSE)),0,VLOOKUP($A103,'Last Race Results'!$A$5:$J$44,11,FALSE)))","v":{"$error":"#REF!"}}]
[97,{"$f":"IF(ISNA(VLOOKUP($A104,'Entry List'!$A$1:$F$61,B$5,FALSE)),\"\",VLOOKUP($A104,'Entry List'!$A$1:$F$61,B$5,FALSE))","v":""},{"$f":"IF(ISNA(VLOOKUP($A104,'Entry List'!$A$1:$F$61,C$5,FALSE)),\"\",VLOOKUP($A104,'Entry List'!$A$1:$F$61,C$5,FALSE))","v":""},{"$f":"IF(ISNA(VLOOKUP($A104,'Entry List'!$A$1:$F$61,D$5,FALSE)),\"\",VLOOKUP($A104,'Entry List'!$A$1:$F$61,D$5,FALSE))","v":""},{"$f":"IF(ISNA(VLOOKUP($A104,'Entry List'!$A$1:$F$61,E$5,FALSE)),\"\",VLOOKUP($A104,'Entry List'!$A$1:$F$61,E$5,FALSE))","v":""},null,"DNS",0,"DNS",0,"DNS",0,"DNS",0,"DNS",0,"DNS",0,"DNS",0,"DNS",0,"DNS",0,"DNS",0,"DNS",0,"DNS",0,"DNS",0,"DNS",0,"DNS",0,"DNS",0,"DNS",0,"DNS",0,"DNS",0,"DNS",0,"DNS",0,"DNS",0,"DNS",0,"DNS",0,"DNS",0,{"$f":"IF('Last Race Results'!$B$5=0,0,IF(ISNA(VLOOKUP($A104,'Last Race Results'!$A$5:$J$44,2,FALSE)),\"DNS\",VLOOKUP($A104,'Last Race Results'!$A$5:$J$44,2,FALSE)))","v":"DNS"},{"$f":"IF('Last Race Results'!$B$5=0,0,IF(ISNA(VLOOKUP($A104,'Last Race Results'!$A$5:$K$44,11,FALSE)),0,VLOOKUP($A104,'Last Race Results'!$A$5:$K$44,11,FALSE)))","v":0},null,null,null,null,null,null,null,null,null,null,null,null,null,null,null,null,null,null,{"$f":"IF('Last Race Results'!$B$5=0,0,IF(ISNA(VLOOKUP($A104,'Last Race Results'!$A$5:$J$44,2,FALSE)),\"DNS\",VLOOKUP($A104,'Last Race Results'!$A$5:$J$44,2,FALSE)))","v":"DNS"},{"$f":"IF('Last Race Results'!$B$5=0,0,IF(ISNA(VLOOKUP($A104,'Last Race Results'!$A$5:$J$44,11,FALSE)),0,VLOOKUP($A104,'Last Race Results'!$A$5:$J$44,11,FALSE)))","v":0}]
[98,{"$f":"IF(ISNA(VLOOKUP($A105,'Entry List'!$A$1:$F$61,B$5,FALSE)),\"\",VLOOKUP($A105,'Entry List'!$A$1:$F$61,B$5,FALSE))","v":""},{"$f":"IF(ISNA(VLOOKUP($A105,'Entry List'!$A$1:$F$61,C$5,FALSE)),\"\",VLOOKUP($A105,'Entry List'!$A$1:$F$61,C$5,FALSE))","v":""},{"$f":"IF(ISNA(VLOOKUP($A105,'Entry List'!$A$1:$F$61,D$5,FALSE)),\"\",VLOOKUP($A105,'Entry List'!$A$1:$F$61,D$5,FALSE))","v":""},{"$f":"IF(ISNA(VLOOKUP($A105,'Entry List'!$A$1:$F$61,E$5,FALSE)),\"\",VLOOKUP($A105,'Entry List'!$A$1:$F$61,E$5,FALSE))","v":""},null,"DNS",0,"DNS",0,"DNS",0,"DNS",0,"DNS",0,"DNS",0,"DNS",0,"DNS",0,"DNS",0,"DNS",0,"DNS",0,"DNS",0,"DNS",0,"DNS",0,"DNS",0,"DNS",0,"DNS",0,"DNS",0,"DNS",0,"DNS",0,"DNS",0,"DNS",0,"DNS",0,"DNS",0,"DNS",0,{"$f":"IF('Last Race Results'!$B$5=0,0,IF(ISNA(VLOOKUP($A105,'Last Race Results'!$A$5:$J$44,2,FALSE)),\"DNS\",VLOOKUP($A105,'Last Race Results'!$A$5:$J$44,2,FALSE)))","v":"DNS"},{"$f":"IF('Last Race Results'!$B$5=0,0,IF(ISNA(VLOOKUP($A105,'Last Race Results'!$A$5:$K$44,11,FALSE)),0,VLOOKUP($A105,'Last Race Results'!$A$5:$K$44,11,FALSE)))","v":0},null,null,null,null,null,null,null,null,null,null,null,null,null,null,null,null,null,null,{"$f":"IF('Last Race Results'!$B$5=0,0,IF(ISNA(VLOOKUP($A105,'Last Race Results'!$A$5:$J$44,2,FALSE)),\"DNS\",VLOOKUP($A105,'Last Race Results'!$A$5:$J$44,2,FALSE)))","v":"DNS"},{"$f":"IF('Last Race Results'!$B$5=0,0,IF(ISNA(VLOOKUP($A105,'Last Race Results'!$A$5:$J$44,11,FALSE)),0,VLOOKUP($A105,'Last Race Results'!$A$5:$J$44,11,FALSE)))","v":0}]
[99,{"$f":"IF(ISNA(VLOOKUP($A106,'Entry List'!$A$1:$F$61,B$5,FALSE)),\"\",VLOOKUP($A106,'Entry List'!$A$1:$F$61,B$5,FALSE))","v":"Gray Gaulding"},{"$f":"IF(ISNA(VLOOKUP($A106,'Entry List'!$A$1:$F$61,C$5,FALSE)),\"\",VLOOKUP($A106,'Entry List'!$A$1:$F$61,C$5,FALSE))","v":"Chevrolet"},{"$f":"IF(ISNA(VLOOKUP($A106,'Entry List'!$A$1:$F$61,D$5,FALSE)),\"\",VLOOKUP($A106,'Entry List'!$A$1:$F$61,D$5,FALSE))","v":"StarCom Racing"},{"$f":"IF(ISNA(VLOOKUP($A106,'Entry List'!$A$1:$F$61,E$5,FALSE)),\"\",VLOOKUP($A106,'Entry List'!$A$1:$F$61,E$5,FALSE))","v":"StarCom Racing"},null,"DNS",0,"DNS",0,"DNS",0,"DNS",0,"DNS",0,"DNS",0,"DNS",0,"DNS",0,"DNS",0,"DNS",0,37,1,"DNS",0,"DNS",0,34,3,39,1,"DNS",0,33,4,24,13,36,1,31,6,31,6,"DNS",0,33,4,40,1,33,4,{"$f":"IF('Last Race Results'!$B$5=0,0,IF(ISNA(VLOOKUP($A106,'Last Race Results'!$A$5:$J$44,2,FALSE)),\"DNS\",VLOOKUP($A106,'Last Race Results'!$A$5:$J$44,2,FALSE)))","v":"DNS"},{"$f":"IF('Last Race Results'!$B$5=0,0,IF(ISNA(VLOOKUP($A106,'Last Race Results'!$A$5:$K$44,11,FALSE)),0,VLOOKUP($A106,'Last Race Results'!$A$5:$K$44,11,FALSE)))","v":0},null,null,null,null,null,null,null,null,null,null,null,null,null,null,null,null,null,null,{"$f":"IF('Last Race Results'!$B$5=0,0,IF(ISNA(VLOOKUP($A106,'Last Race Results'!$A$5:$J$44,2,FALSE)),\"DNS\",VLOOKUP($A106,'Last Race Results'!$A$5:$J$44,2,FALSE)))","v":"DNS"},{"$f":"IF('Last Race Results'!$B$5=0,0,IF(ISNA(VLOOKUP($A106,'Last Race Results'!$A$5:$J$44,11,FALSE)),0,VLOOKUP($A106,'Last Race Results'!$A$5:$J$44,11,FALSE)))","v":0}]
["00",{"$f":"IF(ISNA(VLOOKUP($A107,'Entry List'!$A$1:$F$61,B$5,FALSE)),\"\",VLOOKUP($A107,'Entry List'!$A$1:$F$61,B$5,FALSE))","v":""},{"$f":"IF(ISNA(VLOOKUP($A107,'Entry List'!$A$1:$F$61,C$5,FALSE)),\"\",VLOOKUP($A107,'Entry List'!$A$1:$F$61,C$5,FALSE))","v":""},{"$f":"IF(ISNA(VLOOKUP($A107,'Entry List'!$A$1:$F$61,D$5,FALSE)),\"\",VLOOKUP($A107,'Entry List'!$A$1:$F$61,D$5,FALSE))","v":""},{"$f":"IF(ISNA(VLOOKUP($A107,'Entry List'!$A$1:$F$61,E$5,FALSE)),\"\",VLOOKUP($A107,'Entry List'!$A$1:$F$61,E$5,FALSE))","v":""},null,"DNS",0,"DNS",0,31,6,31,6,31,6,31,6,"DNS",0,20,17,34,3,27,10,31,6,25,12,28,9,31,6,32,5,32,5,36,1,25,12,33,4,"DNS",0,"DNS",0,31,6,"DNS",0,25,12,30,7,{"$f":"IF('Last Race Results'!$B$5=0,0,IF(ISNA(VLOOKUP($A107,'Last Race Results'!$A$5:$J$44,2,FALSE)),\"DNS\",VLOOKUP($A107,'Last Race Results'!$A$5:$J$44,2,FALSE)))","v":31},{"$f":"IF('Last Race Results'!$B$5=0,0,IF(ISNA(VLOOKUP($A107,'Last Race Results'!$A$5:$K$44,11,FALSE)),0,VLOOKUP($A107,'Last Race Results'!$A$5:$K$44,11,FALSE)))","v":6},null,null,null,null,null,null,null,null,null,null,null,null,null,null,null,null,null,null,{"$f":"IF('Last Race Results'!$B$5=0,0,IF(ISNA(VLOOKUP($A107,'Last Race Results'!$A$5:$J$44,2,FALSE)),\"DNS\",VLOOKUP($A107,'Last Race Results'!$A$5:$J$44,2,FALSE)))","v":31},{"$f":"IF('Last Race Results'!$B$5=0,0,IF(ISNA(VLOOKUP($A107,'Last Race Results'!$A$5:$J$44,11,FALSE)),0,VLOOKUP($A107,'Last Race Results'!$A$5:$J$44,11,FALSE)))","v":{"$error":"#REF!"}}]
["01",{"$f":"IF(ISNA(VLOOKUP($A108,'Entry List'!$A$1:$F$61,B$5,FALSE)),\"\",VLOOKUP($A108,'Entry List'!$A$1:$F$61,B$5,FALSE))","v":""},{"$f":"IF(ISNA(VLOOKUP($A108,'Entry List'!$A$1:$F$61,C$5,FALSE)),\"\",VLOOKUP($A108,'Entry List'!$A$1:$F$61,C$5,FALSE))","v":""},{"$f":"IF(ISNA(VLOOKUP($A108,'Entry List'!$A$1:$F$61,D$5,FALSE)),\"\",VLOOKUP($A108,'Entry List'!$A$1:$F$61,D$5,FALSE))","v":""},{"$f":"IF(ISNA(VLOOKUP($A108,'Entry List'!$A$1:$F$61,E$5,FALSE)),\"\",VLOOKUP($A108,'Entry List'!$A$1:$F$61,E$5,FALSE))","v":""},null,"DNS",0,"DNS",0,"DNS",0,"DNS",0,"DNS",0,"DNS",0,"DNS",0,"DNS",0,"DNS",0,"DNS",0,"DNS",0,"DNS",0,"DNS",0,"DNS",0,"DNS",0,"DNS",0,"DNS",0,"DNS",0,"DNS",0,"DNS",0,"DNS",0,"DNS",0,"DNS",0,"DNS",0,"DNS",0,{"$f":"IF('Last Race Results'!$B$5=0,0,IF(ISNA(VLOOKUP($A108,'Last Race Results'!$A$5:$J$44,2,FALSE)),\"DNS\",VLOOKUP($A108,'Last Race Results'!$A$5:$J$44,2,FALSE)))","v":"DNS"},{"$f":"IF('Last Race Results'!$B$5=0,0,IF(ISNA(VLOOKUP($A108,'Last Race Results'!$A$5:$K$44,11,FALSE)),0,VLOOKUP($A108,'Last Race Results'!$A$5:$K$44,11,FALSE)))","v":0},null,null,null,null,null,null,null,null,null,null,null,null,null,null,null,null,null,null,{"$f":"IF('Last Race Results'!$B$5=0,0,IF(ISNA(VLOOKUP($A108,'Last Race Results'!$A$5:$J$44,2,FALSE)),\"DNS\",VLOOKUP($A108,'Last Race Results'!$A$5:$J$44,2,FALSE)))","v":"DNS"},{"$f":"IF('Last Race Results'!$B$5=0,0,IF(ISNA(VLOOKUP($A108,'Last Race Results'!$A$5:$J$44,11,FALSE)),0,VLOOKUP($A108,'Last Race Results'!$A$5:$J$44,11,FALSE)))","v":0}]
["02",{"$f":"IF(ISNA(VLOOKUP($A109,'Entry List'!$A$1:$F$61,B$5,FALSE)),\"\",VLOOKUP($A109,'Entry List'!$A$1:$F$61,B$5,FALSE))","v":""},{"$f":"IF(ISNA(VLOOKUP($A109,'Entry List'!$A$1:$F$61,C$5,FALSE)),\"\",VLOOKUP($A109,'Entry List'!$A$1:$F$61,C$5,FALSE))","v":""},{"$f":"IF(ISNA(VLOOKUP($A109,'Entry List'!$A$1:$F$61,D$5,FALSE)),\"\",VLOOKUP($A109,'Entry List'!$A$1:$F$61,D$5,FALSE))","v":""},{"$f":"IF(ISNA(VLOOKUP($A109,'Entry List'!$A$1:$F$61,E$5,FALSE)),\"\",VLOOKUP($A109,'Entry List'!$A$1:$F$61,E$5,FALSE))","v":""},null,"DNS",0,"DNS",0,"DNS",0,"DNS",0,"DNS",0,"DNS",0,"DNS",0,"DNS",0,"DNS",0,"DNS",0,"DNS",0,"DNS",0,"DNS",0,"DNS",0,"DNS",0,"DNS",0,"DNS",0,"DNS",0,"DNS",0,"DNS",0,"DNS",0,"DNS",0,"DNS",0,"DNS",0,"DNS",0,{"$f":"IF('Last Race Results'!$B$5=0,0,IF(ISNA(VLOOKUP($A109,'Last Race Results'!$A$5:$J$44,2,FALSE)),\"DNS\",VLOOKUP($A109,'Last Race Results'!$A$5:$J$44,2,FALSE)))","v":"DNS"},{"$f":"IF('Last Race Results'!$B$5=0,0,IF(ISNA(VLOOKUP($A109,'Last Race Results'!$A$5:$K$44,11,FALSE)),0,VLOOKUP($A109,'Last Race Results'!$A$5:$K$44,11,FALSE)))","v":0},null,null,null,null,null,null,null,null,null,null,null,null,null,null,null,null,null,null,{"$f":"IF('Last Race Results'!$B$5=0,0,IF(ISNA(VLOOKUP($A109,'Last Race Results'!$A$5:$J$44,2,FALSE)),\"DNS\",VLOOKUP($A109,'Last Race Results'!$A$5:$J$44,2,FALSE)))","v":"DNS"},{"$f":"IF('Last Race Results'!$B$5=0,0,IF(ISNA(VLOOKUP($A109,'Last Race Results'!$A$5:$J$44,11,FALSE)),0,VLOOKUP($A109,'Last Race Results'!$A$5:$J$44,11,FALSE)))","v":0}]
["03",{"$f":"IF(ISNA(VLOOKUP($A110,'Entry List'!$A$1:$F$61,B$5,FALSE)),\"\",VLOOKUP($A110,'Entry List'!$A$1:$F$61,B$5,FALSE))","v":""},{"$f":"IF(ISNA(VLOOKUP($A110,'Entry List'!$A$1:$F$61,C$5,FALSE)),\"\",VLOOKUP($A110,'Entry List'!$A$1:$F$61,C$5,FALSE))","v":""},{"$f":"IF(ISNA(VLOOKUP($A110,'Entry List'!$A$1:$F$61,D$5,FALSE)),\"\",VLOOKUP($A110,'Entry List'!$A$1:$F$61,D$5,FALSE))","v":""},{"$f":"IF(ISNA(VLOOKUP($A110,'Entry List'!$A$1:$F$61,E$5,FALSE)),\"\",VLOOKUP($A110,'Entry List'!$A$1:$F$61,E$5,FALSE))","v":""},null,"DNS",0,"DNS",0,"DNS",0,"DNS",0,"DNS",0,"DNS",0,"DNS",0,"DNS",0,"DNS",0,"DNS",0,"DNS",0,"DNS",0,"DNS",0,"DNS",0,"DNS",0,"DNS",0,"DNS",0,"DNS",0,"DNS",0,"DNS",0,"DNS",0,"DNS",0,"DNS",0,"DNS",0,"DNS",0,{"$f":"IF('Last Race Results'!$B$5=0,0,IF(ISNA(VLOOKUP($A110,'Last Race Results'!$A$5:$J$44,2,FALSE)),\"DNS\",VLOOKUP($A110,'Last Race Results'!$A$5:$J$44,2,FALSE)))","v":"DNS"},{"$f":"IF('Last Race Results'!$B$5=0,0,IF(ISNA(VLOOKUP($A110,'Last Race Results'!$A$5:$K$44,11,FALSE)),0,VLOOKUP($A110,'Last Race Results'!$A$5:$K$44,11,FALSE)))","v":0},null,null,null,null,null,null,null,null,null,null,null,null,null,null,null,null,null,null,{"$f":"IF('Last Race Results'!$B$5=0,0,IF(ISNA(VLOOKUP($A110,'Last Race Results'!$A$5:$J$44,2,FALSE)),\"DNS\",VLOOKUP($A110,'Last Race Results'!$A$5:$J$44,2,FALSE)))","v":"DNS"},{"$f":"IF('Last Race Results'!$B$5=0,0,IF(ISNA(VLOOKUP($A110,'Last Race Results'!$A$5:$J$44,11,FALSE)),0,VLOOKUP($A110,'Last Race Results'!$A$5:$J$44,11,FALSE)))","v":0}]
["04",{"$f":"IF(ISNA(VLOOKUP($A111,'Entry List'!$A$1:$F$61,B$5,FALSE)),\"\",VLOOKUP($A111,'Entry List'!$A$1:$F$61,B$5,FALSE))","v":""},{"$f":"IF(ISNA(VLOOKUP($A111,'Entry List'!$A$1:$F$61,C$5,FALSE)),\"\",VLOOKUP($A111,'Entry List'!$A$1:$F$61,C$5,FALSE))","v":""},{"$f":"IF(ISNA(VLOOKUP($A111,'Entry List'!$A$1:$F$61,D$5,FALSE)),\"\",VLOOKUP($A111,'Entry List'!$A$1:$F$61,D$5,FALSE))","v":""},{"$f":"IF(ISNA(VLOOKUP($A111,'Entry List'!$A$1:$F$61,E$5,FALSE)),\"\",VLOOKUP($A111,'Entry List'!$A$1:$F$61,E$5,FALSE))","v":""},null,"DNS",0,"DNS",0,"DNS",0,"DNS",0,"DNS",0,"DNS",0,"DNS",0,"DNS",0,"DNS",0,"DNS",0,"DNS",0,"DNS",0,"DNS",0,"DNS",0,"DNS",0,"DNS",0,"DNS",0,"DNS",0,"DNS",0,"DNS",0,"DNS",0,"DNS",0,"DNS",0,"DNS",0,"DNS",0,{"$f":"IF('Last Race Results'!$B$5=0,0,IF(ISNA(VLOOKUP($A111,'Last Race Results'!$A$5:$J$44,2,FALSE)),\"DNS\",VLOOKUP($A111,'Last Race Results'!$A$5:$J$44,2,FALSE)))","v":"DNS"},{"$f":"IF('Last Race Results'!$B$5=0,0,IF(ISNA(VLOOKUP($A111,'Last Race Results'!$A$5:$K$44,11,FALSE)),0,VLOOKUP($A111,'Last Race Results'!$A$5:$K$44,11,FALSE)))","v":0},null,null,null,null,null,null,null,null,null,null,null,null,null,null,null,null,null,null,{"$f":"IF('Last Race Results'!$B$5=0,0,IF(ISNA(VLOOKUP($A111,'Last Race Results'!$A$5:$J$44,2,FALSE)),\"DNS\",VLOOKUP($A111,'Last Race Results'!$A$5:$J$44,2,FALSE)))","v":"DNS"},{"$f":"IF('Last Race Results'!$B$5=0,0,IF(ISNA(VLOOKUP($A111,'Last Race Results'!$A$5:$J$44,11,FALSE)),0,VLOOKUP($A111,'Last Race Results'!$A$5:$J$44,11,FALSE)))","v":0}]
["05",{"$f":"IF(ISNA(VLOOKUP($A112,'Entry List'!$A$1:$F$61,B$5,FALSE)),\"\",VLOOKUP($A112,'Entry List'!$A$1:$F$61,B$5,FALSE))","v":""},{"$f":"IF(ISNA(VLOOKUP($A112,'Entry List'!$A$1:$F$61,C$5,FALSE)),\"\",VLOOKUP($A112,'Entry List'!$A$1:$F$61,C$5,FALSE))","v":""},{"$f":"IF(ISNA(VLOOKUP($A112,'Entry List'!$A$1:$F$61,D$5,FALSE)),\"\",VLOOKUP($A112,'Entry List'!$A$1:$F$61,D$5,FALSE))","v":""},{"$f":"IF(ISNA(VLOOKUP($A112,'Entry List'!$A$1:$F$61,E$5,FALSE)),\"\",VLOOKUP($A112,'Entry List'!$A$1:$F$61,E$5,FALSE))","v":""},null,"DNS",0,"DNS",0,"DNS",0,"DNS",0,"DNS",0,"DNS",0,"DNS",0,"DNS",0,"DNS",0,"DNS",0,"DNS",0,"DNS",0,"DNS",0,"DNS",0,"DNS",0,"DNS",0,"DNS",0,"DNS",0,"DNS",0,"DNS",0,"DNS",0,"DNS",0,"DNS",0,"DNS",0,"DNS",0,{"$f":"IF('Last Race Results'!$B$5=0,0,IF(ISNA(VLOOKUP($A112,'Last Race Results'!$A$5:$J$44,2,FALSE)),\"DNS\",VLOOKUP($A112,'Last Race Results'!$A$5:$J$44,2,FALSE)))","v":"DNS"},{"$f":"IF('Last Race Results'!$B$5=0,0,IF(ISNA(VLOOKUP($A112,'Last Race Results'!$A$5:$K$44,11,FALSE)),0,VLOOKUP($A112,'Last Race Results'!$A$5:$K$44,11,FALSE)))","v":0},null,null,null,null,null,null,null,null,null,null,null,null,null,null,null,null,null,null,{"$f":"IF('Last Race Results'!$B$5=0,0,IF(ISNA(VLOOKUP($A112,'Last Race Results'!$A$5:$J$44,2,FALSE)),\"DNS\",VLOOKUP($A112,'Last Race Results'!$A$5:$J$44,2,FALSE)))","v":"DNS"},{"$f":"IF('Last Race Results'!$B$5=0,0,IF(ISNA(VLOOKUP($A112,'Last Race Results'!$A$5:$J$44,11,FALSE)),0,VLOOKUP($A112,'Last Race Results'!$A$5:$J$44,11,FALSE)))","v":0}]
["06",{"$f":"IF(ISNA(VLOOKUP($A113,'Entry List'!$A$1:$F$61,B$5,FALSE)),\"\",VLOOKUP($A113,'Entry List'!$A$1:$F$61,B$5,FALSE))","v":""},{"$f":"IF(ISNA(VLOOKUP($A113,'Entry List'!$A$1:$F$61,C$5,FALSE)),\"\",VLOOKUP($A113,'Entry List'!$A$1:$F$61,C$5,FALSE))","v":""},{"$f":"IF(ISNA(VLOOKUP($A113,'Entry List'!$A$1:$F$61,D$5,FALSE)),\"\",VLOOKUP($A113,'Entry List'!$A$1:$F$61,D$5,FALSE))","v":""},{"$f":"IF(ISNA(VLOOKUP($A113,'Entry List'!$A$1:$F$61,E$5,FALSE)),\"\",VLOOKUP($A113,'Entry List'!$A$1:$F$61,E$5,FALSE))","v":""},null,"DNS",0,"DNS",0,"DNS",0,"DNS",0,"DNS",0,"DNS",0,"DNS",0,"DNS",0,"DNS",0,"DNS",0,"DNS",0,"DNS",0,"DNS",0,"DNS",0,"DNS",0,"DNS",0,"DNS",0,"DNS",0,"DNS",0,"DNS",0,"DNS",0,"DNS",0,"DNS",0,"DNS",0,"DNS",0,{"$f":"IF('Last Race Results'!$B$5=0,0,IF(ISNA(VLOOKUP($A113,'Last Race Results'!$A$5:$J$44,2,FALSE)),\"DNS\",VLOOKUP($A113,'Last Race Results'!$A$5:$J$44,2,FALSE)))","v":"DNS"},{"$f":"IF('Last Race Results'!$B$5=0,0,IF(ISNA(VLOOKUP($A113,'Last Race Results'!$A$5:$K$44,11,FALSE)),0,VLOOKUP($A113,'Last Race Results'!$A$5:$K$44,11,FALSE)))","v":0},null,null,null,null,null,null,null,null,null,null,null,null,null,null,null,null,null,null,{"$f":"IF('Last Race Results'!$B$5=0,0,IF(ISNA(VLOOKUP($A113,'Last Race Results'!$A$5:$J$44,2,FALSE)),\"DNS\",VLOOKUP($A113,'Last Race Results'!$A$5:$J$44,2,FALSE)))","v":"DNS"},{"$f":"IF('Last Race Results'!$B$5=0,0,IF(ISNA(VLOOKUP($A113,'Last Race Results'!$A$5:$J$44,11,FALSE)),0,VLOOKUP($A113,'Last Race Results'!$A$5:$J$44,11,FALSE)))","v":0}]
["07",{"$f":"IF(ISNA(VLOOKUP($A114,'Entry List'!$A$1:$F$61,B$5,FALSE)),\"\",VLOOKUP($A114,'Entry List'!$A$1:$F$61,B$5,FALSE))","v":""},{"$f":"IF(ISNA(VLOOKUP($A114,'Entry List'!$A$1:$F$61,C$5,FALSE)),\"\",VLOOKUP($A114,'Entry List'!$A$1:$F$61,C$5,FALSE))","v":""},{"$f":"IF(ISNA(VLOOKUP($A114,'Entry List'!$A$1:$F$61,D$5,FALSE)),\"\",VLOOKUP($A114,'Entry List'!$A$1:$F$61,D$5,FALSE))","v":""},{"$f":"IF(ISNA(VLOOKUP($A114,'Entry List'!$A$1:$F$61,E$5,FALSE)),\"\",VLOOKUP($A114,'Entry List'!$A$1:$F$61,E$5,FALSE))","v":""},null,"DNS",0,"DNS",0,"DNS",0,"DNS",0,"DNS",0,"DNS",0,"DNS",0,"DNS",0,"DNS",0,"DNS",0,"DNS",0,"DNS",0,"DNS",0,"DNS",0,"DNS",0,"DNS",0,"DNS",0,"DNS",0,"DNS",0,"DNS",0,"DNS",0,"DNS",0,"DNS",0,"DNS",0,"DNS",0,{"$f":"IF('Last Race Results'!$B$5=0,0,IF(ISNA(VLOOKUP($A114,'Last Race Results'!$A$5:$J$44,2,FALSE)),\"DNS\",VLOOKUP($A114,'Last Race Results'!$A$5:$J$44,2,FALSE)))","v":"DNS"},{"$f":"IF('Last Race Results'!$B$5=0,0,IF(ISNA(VLOOKUP($A114,'Last Race Results'!$A$5:$K$44,11,FALSE)),0,VLOOKUP($A114,'Last Race Results'!$A$5:$K$44,11,FALSE)))","v":0},null,null,null,null,null,null,null,null,null,null,null,null,null,null,null,null,null,null,{"$f":"IF('Last Race Results'!$B$5=0,0,IF(ISNA(VLOOKUP($A114,'Last Race Results'!$A$5:$J$44,2,FALSE)),\"DNS\",VLOOKUP($A114,'Last Race Results'!$A$5:$J$44,2,FALSE)))","v":"DNS"},{"$f":"IF('Last Race Results'!$B$5=0,0,IF(ISNA(VLOOKUP($A114,'Last Race Results'!$A$5:$J$44,11,FALSE)),0,VLOOKUP($A114,'Last Race Results'!$A$5:$J$44,11,FALSE)))","v":0}]
["08",{"$f":"IF(ISNA(VLOOKUP($A115,'Entry List'!$A$1:$F$61,B$5,FALSE)),\"\",VLOOKUP($A115,'Entry List'!$A$1:$F$61,B$5,FALSE))","v":""},{"$f":"IF(ISNA(VLOOKUP($A115,'Entry List'!$A$1:$F$61,C$5,FALSE)),\"\",VLOOKUP($A115,'Entry List'!$A$1:$F$61,C$5,FALSE))","v":""},{"$f":"IF(ISNA(VLOOKUP($A115,'Entry List'!$A$1:$F$61,D$5,FALSE)),\"\",VLOOKUP($A115,'Entry List'!$A$1:$F$61,D$5,FALSE))","v":""},{"$f":"IF(ISNA(VLOOKUP($A115,'Entry List'!$A$1:$F$61,E$5,FALSE)),\"\",VLOOKUP($A115,'Entry List'!$A$1:$F$61,E$5,FALSE))","v":""},null,"DNS",0,"DNS",0,"DNS",0,"DNS",0,"DNS",0,"DNS",0,"DNS",0,"DNS",0,"DNS",0,"DNS",0,"DNS",0,"DNS",0,"DNS",0,"DNS",0,"DNS",0,"DNS",0,"DNS",0,"DNS",0,"DNS",0,"DNS",0,"DNS",0,"DNS",0,"DNS",0,"DNS",0,"DNS",0,{"$f":"IF('Last Race Results'!$B$5=0,0,IF(ISNA(VLOOKUP($A115,'Last Race Results'!$A$5:$J$44,2,FALSE)),\"DNS\",VLOOKUP($A115,'Last Race Results'!$A$5:$J$44,2,FALSE)))","v":"DNS"},{"$f":"IF('Last Race Results'!$B$5=0,0,IF(ISNA(VLOOKUP($A115,'Last Race Results'!$A$5:$K$44,11,FALSE)),0,VLOOKUP($A115,'Last Race Results'!$A$5:$K$44,11,FALSE)))","v":0},null,null,null,null,null,null,null,null,null,null,null,null,null,null,null,null,null,null,{"$f":"IF('Last Race Results'!$B$5=0,0,IF(ISNA(VLOOKUP($A115,'Last Race Results'!$A$5:$J$44,2,FALSE)),\"DNS\",VLOOKUP($A115,'Last Race Results'!$A$5:$J$44,2,FALSE)))","v":"DNS"},{"$f":"IF('Last Race Results'!$B$5=0,0,IF(ISNA(VLOOKUP($A115,'Last Race Results'!$A$5:$J$44,11,FALSE)),0,VLOOKUP($A115,'Last Race Results'!$A$5:$J$44,11,FALSE)))","v":0}]
["09",{"$f":"IF(ISNA(VLOOKUP($A116,'Entry List'!$A$1:$F$61,B$5,FALSE)),\"\",VLOOKUP($A116,'Entry List'!$A$1:$F$61,B$5,FALSE))","v":""},{"$f":"IF(ISNA(VLOOKUP($A116,'Entry List'!$A$1:$F$61,C$5,FALSE)),\"\",VLOOKUP($A116,'Entry List'!$A$1:$F$61,C$5,FALSE))","v":""},{"$f":"IF(ISNA(VLOOKUP($A116,'Entry List'!$A$1:$F$61,D$5,FALSE)),\"\",VLOOKUP($A116,'Entry List'!$A$1:$F$61,D$5,FALSE))","v":""},{"$f":"IF(ISNA(VLOOKUP($A116,'Entry List'!$A$1:$F$61,E$5,FALSE)),\"\",VLOOKUP($A116,'Entry List'!$A$1:$F$61,E$5,FALSE))","v":""},null,"DNS",0,"DNS",0,"DNS",0,"DNS",0,"DNS",0,"DNS",0,"DNS",0,"DNS",0,"DNS",0,"DNS",0,"DNS",0,"DNS",0,"DNS",0,"DNS",0,"DNS",0,"DNS",0,"DNS",0,"DNS",0,"DNS",0,"DNS",0,"DNS",0,"DNS",0,"DNS",0,"DNS",0,"DNS",0,{"$f":"IF('Last Race Results'!$B$5=0,0,IF(ISNA(VLOOKUP($A116,'Last Race Results'!$A$5:$J$44,2,FALSE)),\"DNS\",VLOOKUP($A116,'Last Race Results'!$A$5:$J$44,2,FALSE)))","v":"DNS"},{"$f":"IF('Last Race Results'!$B$5=0,0,IF(ISNA(VLOOKUP($A116,'Last Race Results'!$A$5:$K$44,11,FALSE)),0,VLOOKUP($A116,'Last Race Results'!$A$5:$K$44,11,FALSE)))","v":0},null,null,null,null,null,null,null,null,null,null,null,null,null,null,null,null,null,null,{"$f":"IF('Last Race Results'!$B$5=0,0,IF(ISNA(VLOOKUP($A116,'Last Race Results'!$A$5:$J$44,2,FALSE)),\"DNS\",VLOOKUP($A116,'Last Race Results'!$A$5:$J$44,2,FALSE)))","v":"DNS"},{"$f":"IF('Last Race Results'!$B$5=0,0,IF(ISNA(VLOOKUP($A116,'Last Race Results'!$A$5:$J$44,11,FALSE)),0,VLOOKUP($A116,'Last Race Results'!$A$5:$J$44,11,FALSE)))","v":0}]
[100,{"$f":"IF(ISNA(VLOOKUP($A117,'Entry List'!$A$1:$F$61,B$5,FALSE)),\"\",VLOOKUP($A117,'Entry List'!$A$1:$F$61,B$5,FALSE))","v":""},{"$f":"IF(ISNA(VLOOKUP($A117,'Entry List'!$A$1:$F$61,C$5,FALSE)),\"\",VLOOKUP($A117,'Entry List'!$A$1:$F$61,C$5,FALSE))","v":""},{"$f":"IF(ISNA(VLOOKUP($A117,'Entry List'!$A$1:$F$61,D$5,FALSE)),\"\",VLOOKUP($A117,'Entry List'!$A$1:$F$61,D$5,FALSE))","v":""},{"$f":"IF(ISNA(VLOOKUP($A117,'Entry List'!$A$1:$F$61,E$5,FALSE)),\"\",VLOOKUP($A117,'Entry List'!$A$1:$F$61,E$5,FALSE))","v":""},null,"DNS",0,"DNS",0,"DNS",0,"DNS",0,"DNS",0,"DNS",0,"DNS",0,"DNS",0,"DNS",0,"DNS",0,"DNS",0,"DNS",0,"DNS",0,"DNS",0,"DNS",0,"DNS",0,"DNS",0,"DNS",0,"DNS",0,"DNS",0,"DNS",0,"DNS",0,"DNS",0,"DNS",0,"DNS",0,{"$f":"IF('Last Race Results'!$B$5=0,0,IF(ISNA(VLOOKUP($A117,'Last Race Results'!$A$5:$J$44,2,FALSE)),\"DNS\",VLOOKUP($A117,'Last Race Results'!$A$5:$J$44,2,FALSE)))","v":"DNS"},{"$f":"IF('Last Race Results'!$B$5=0,0,IF(ISNA(VLOOKUP($A117,'Last Race Results'!$A$5:$K$44,11,FALSE)),0,VLOOKUP($A117,'Last Race Results'!$A$5:$K$44,11,FALSE)))","v":0},null,null,null,null,null,null,null,null,null,null,null,null,null,null,null,null,null,null,{"$f":"IF('Last Race Results'!$B$5=0,0,IF(ISNA(VLOOKUP($A117,'Last Race Results'!$A$5:$J$44,2,FALSE)),\"DNS\",VLOOKUP($A117,'Last Race Results'!$A$5:$J$44,2,FALSE)))","v":"DNS"},{"$f":"IF('Last Race Results'!$B$5=0,0,IF(ISNA(VLOOKUP($A117,'Last Race Results'!$A$5:$J$44,11,FALSE)),0,VLOOKUP($A117,'Last Race Results'!$A$5:$J$44,11,FALSE)))","v":0}]
[101,{"$f":"IF(ISNA(VLOOKUP($A118,'Entry List'!$A$1:$F$61,B$5,FALSE)),\"\",VLOOKUP($A118,'Entry List'!$A$1:$F$61,B$5,FALSE))","v":""},{"$f":"IF(ISNA(VLOOKUP($A118,'Entry List'!$A$1:$F$61,C$5,FALSE)),\"\",VLOOKUP($A118,'Entry List'!$A$1:$F$61,C$5,FALSE))","v":""},{"$f":"IF(ISNA(VLOOKUP($A118,'Entry List'!$A$1:$F$61,D$5,FALSE)),\"\",VLOOKUP($A118,'Entry List'!$A$1:$F$61,D$5,FALSE))","v":""},{"$f":"IF(ISNA(VLOOKUP($A118,'Entry List'!$A$1:$F$61,E$5,FALSE)),\"\",VLOOKUP($A118,'Entry List'!$A$1:$F$61,E$5,FALSE))","v":""},null,"DNS",0,"DNS",0,"DNS",0,"DNS",0,"DNS",0,"DNS",0,"DNS",0,"DNS",0,"DNS",0,"DNS",0,"DNS",0,"DNS",0,"DNS",0,"DNS",0,"DNS",0,"DNS",0,"DNS",0,"DNS",0,"DNS",0,"DNS",0,"DNS",0,"DNS",0,"DNS",0,"DNS",0,"DNS",0,{"$f":"IF('Last Race Results'!$B$5=0,0,IF(ISNA(VLOOKUP($A118,'Last Race Results'!$A$5:$J$44,2,FALSE)),\"DNS\",VLOOKUP($A118,'Last Race Results'!$A$5:$J$44,2,FALSE)))","v":"DNS"},{"$f":"IF('Last Race Results'!$B$5=0,0,IF(ISNA(VLOOKUP($A118,'Last Race Results'!$A$5:$K$44,11,FALSE)),0,VLOOKUP($A118,'Last Race Results'!$A$5:$K$44,11,FALSE)))","v":0},null,null,null,null,null,null,null,null,null,null,null,null,null,null,null,null,null,null,{"$f":"IF('Last Race Results'!$B$5=0,0,IF(ISNA(VLOOKUP($A118,'Last Race Results'!$A$5:$J$44,2,FALSE)),\"DNS\",VLOOKUP($A118,'Last Race Results'!$A$5:$J$44,2,FALSE)))","v":"DNS"},{"$f":"IF('Last Race Results'!$B$5=0,0,IF(ISNA(VLOOKUP($A118,'Last Race Results'!$A$5:$J$44,11,FALSE)),0,VLOOKUP($A118,'Last Race Results'!$A$5:$J$44,11,FALSE)))","v":0}]
[102,{"$f":"IF(ISNA(VLOOKUP($A119,'Entry List'!$A$1:$F$61,B$5,FALSE)),\"\",VLOOKUP($A119,'Entry List'!$A$1:$F$61,B$5,FALSE))","v":""},{"$f":"IF(ISNA(VLOOKUP($A119,'Entry List'!$A$1:$F$61,C$5,FALSE)),\"\",VLOOKUP($A119,'Entry List'!$A$1:$F$61,C$5,FALSE))","v":""},{"$f":"IF(ISNA(VLOOKUP($A119,'Entry List'!$A$1:$F$61,D$5,FALSE)),\"\",VLOOKUP($A119,'Entry List'!$A$1:$F$61,D$5,FALSE))","v":""},{"$f":"IF(ISNA(VLOOKUP($A119,'Entry List'!$A$1:$F$61,E$5,FALSE)),\"\",VLOOKUP($A119,'Entry List'!$A$1:$F$61,E$5,FALSE))","v":""},null,"DNS",0,"DNS",0,"DNS",0,"DNS",0,"DNS",0,"DNS",0,"DNS",0,"DNS",0,"DNS",0,"DNS",0,"DNS",0,"DNS",0,"DNS",0,"DNS",0,"DNS",0,"DNS",0,"DNS",0,"DNS",0,"DNS",0,"DNS",0,"DNS",0,"DNS",0,"DNS",0,"DNS",0,"DNS",0,{"$f":"IF('Last Race Results'!$B$5=0,0,IF(ISNA(VLOOKUP($A119,'Last Race Results'!$A$5:$J$44,2,FALSE)),\"DNS\",VLOOKUP($A119,'Last Race Results'!$A$5:$J$44,2,FALSE)))","v":"DNS"},{"$f":"IF('Last Race Results'!$B$5=0,0,IF(ISNA(VLOOKUP($A119,'Last Race Results'!$A$5:$K$44,11,FALSE)),0,VLOOKUP($A119,'Last Race Results'!$A$5:$K$44,11,FALSE)))","v":0},null,null,null,null,null,null,null,null,null,null,null,null,null,null,null,null,null,null,{"$f":"IF('Last Race Results'!$B$5=0,0,IF(ISNA(VLOOKUP($A119,'Last Race Results'!$A$5:$J$44,2,FALSE)),\"DNS\",VLOOKUP($A119,'Last Race Results'!$A$5:$J$44,2,FALSE)))","v":"DNS"},{"$f":"IF('Last Race Results'!$B$5=0,0,IF(ISNA(VLOOKUP($A119,'Last Race Results'!$A$5:$J$44,11,FALSE)),0,VLOOKUP($A119,'Last Race Results'!$A$5:$J$44,11,FALSE)))","v":0}]
[103,{"$f":"IF(ISNA(VLOOKUP($A120,'Entry List'!$A$1:$F$61,B$5,FALSE)),\"\",VLOOKUP($A120,'Entry List'!$A$1:$F$61,B$5,FALSE))","v":""},{"$f":"IF(ISNA(VLOOKUP($A120,'Entry List'!$A$1:$F$61,C$5,FALSE)),\"\",VLOOKUP($A120,'Entry List'!$A$1:$F$61,C$5,FALSE))","v":""},{"$f":"IF(ISNA(VLOOKUP($A120,'Entry List'!$A$1:$F$61,D$5,FALSE)),\"\",VLOOKUP($A120,'Entry List'!$A$1:$F$61,D$5,FALSE))","v":""},{"$f":"IF(ISNA(VLOOKUP($A120,'Entry List'!$A$1:$F$61,E$5,FALSE)),\"\",VLOOKUP($A120,'Entry List'!$A$1:$F$61,E$5,FALSE))","v":""},null,"DNS",0,"DNS",0,"DNS",0,"DNS",0,"DNS",0,"DNS",0,"DNS",0,"DNS",0,"DNS",0,"DNS",0,"DNS",0,"DNS",0,"DNS",0,"DNS",0,"DNS",0,"DNS",0,"DNS",0,"DNS",0,"DNS",0,"DNS",0,"DNS",0,"DNS",0,"DNS",0,"DNS",0,"DNS",0,{"$f":"IF('Last Race Results'!$B$5=0,0,IF(ISNA(VLOOKUP($A120,'Last Race Results'!$A$5:$J$44,2,FALSE)),\"DNS\",VLOOKUP($A120,'Last Race Results'!$A$5:$J$44,2,FALSE)))","v":"DNS"},{"$f":"IF('Last Race Results'!$B$5=0,0,IF(ISNA(VLOOKUP($A120,'Last Race Results'!$A$5:$K$44,11,FALSE)),0,VLOOKUP($A120,'Last Race Results'!$A$5:$K$44,11,FALSE)))","v":0},null,null,null,null,null,null,null,null,null,null,null,null,null,null,null,null,null,null,{"$f":"IF('Last Race Results'!$B$5=0,0,IF(ISNA(VLOOKUP($A120,'Last Race Results'!$A$5:$J$44,2,FALSE)),\"DNS\",VLOOKUP($A120,'Last Race Results'!$A$5:$J$44,2,FALSE)))","v":"DNS"},{"$f":"IF('Last Race Results'!$B$5=0,0,IF(ISNA(VLOOKUP($A120,'Last Race Results'!$A$5:$J$44,11,FALSE)),0,VLOOKUP($A120,'Last Race Results'!$A$5:$J$44,11,FALSE)))","v":0}]
[104,{"$f":"IF(ISNA(VLOOKUP($A121,'Entry List'!$A$1:$F$61,B$5,FALSE)),\"\",VLOOKUP($A121,'Entry List'!$A$1:$F$61,B$5,FALSE))","v":""},{"$f":"IF(ISNA(VLOOKUP($A121,'Entry List'!$A$1:$F$61,C$5,FALSE)),\"\",VLOOKUP($A121,'Entry List'!$A$1:$F$61,C$5,FALSE))","v":""},{"$f":"IF(ISNA(VLOOKUP($A121,'Entry List'!$A$1:$F$61,D$5,FALSE)),\"\",VLOOKUP($A121,'Entry List'!$A$1:$F$61,D$5,FALSE))","v":""},{"$f":"IF(ISNA(VLOOKUP($A121,'Entry List'!$A$1:$F$61,E$5,FALSE)),\"\",VLOOKUP($A121,'Entry List'!$A$1:$F$61,E$5,FALSE))","v":""},null,"DNS",0,"DNS",0,"DNS",0,"DNS",0,"DNS",0,"DNS",0,"DNS",0,"DNS",0,"DNS",0,"DNS",0,"DNS",0,"DNS",0,"DNS",0,"DNS",0,"DNS",0,"DNS",0,"DNS",0,"DNS",0,"DNS",0,"DNS",0,"DNS",0,"DNS",0,"DNS",0,"DNS",0,"DNS",0,{"$f":"IF('Last Race Results'!$B$5=0,0,IF(ISNA(VLOOKUP($A121,'Last Race Results'!$A$5:$J$44,2,FALSE)),\"DNS\",VLOOKUP($A121,'Last Race Results'!$A$5:$J$44,2,FALSE)))","v":"DNS"},{"$f":"IF('Last Race Results'!$B$5=0,0,IF(ISNA(VLOOKUP($A121,'Last Race Results'!$A$5:$K$44,11,FALSE)),0,VLOOKUP($A121,'Last Race Results'!$A$5:$K$44,11,FALSE)))","v":0},null,null,null,null,null,null,null,null,null,null,null,null,null,null,null,null,null,null,{"$f":"IF('Last Race Results'!$B$5=0,0,IF(ISNA(VLOOKUP($A121,'Last Race Results'!$A$5:$J$44,2,FALSE)),\"DNS\",VLOOKUP($A121,'Last Race Results'!$A$5:$J$44,2,FALSE)))","v":"DNS"},{"$f":"IF('Last Race Results'!$B$5=0,0,IF(ISNA(VLOOKUP($A121,'Last Race Results'!$A$5:$J$44,11,FALSE)),0,VLOOKUP($A121,'Last Race Results'!$A$5:$J$44,11,FALSE)))","v":0}]
[105,{"$f":"IF(ISNA(VLOOKUP($A122,'Entry List'!$A$1:$F$61,B$5,FALSE)),\"\",VLOOKUP($A122,'Entry List'!$A$1:$F$61,B$5,FALSE))","v":""},{"$f":"IF(ISNA(VLOOKUP($A122,'Entry List'!$A$1:$F$61,C$5,FALSE)),\"\",VLOOKUP($A122,'Entry List'!$A$1:$F$61,C$5,FALSE))","v":""},{"$f":"IF(ISNA(VLOOKUP($A122,'Entry List'!$A$1:$F$61,D$5,FALSE)),\"\",VLOOKUP($A122,'Entry List'!$A$1:$F$61,D$5,FALSE))","v":""},{"$f":"IF(ISNA(VLOOKUP($A122,'Entry List'!$A$1:$F$61,E$5,FALSE)),\"\",VLOOKUP($A122,'Entry List'!$A$1:$F$61,E$5,FALSE))","v":""},null,"DNS",0,"DNS",0,"DNS",0,"DNS",0,"DNS",0,"DNS",0,"DNS",0,"DNS",0,"DNS",0,"DNS",0,"DNS",0,"DNS",0,"DNS",0,"DNS",0,"DNS",0,"DNS",0,"DNS",0,"DNS",0,"DNS",0,"DNS",0,"DNS",0,"DNS",0,"DNS",0,"DNS",0,"DNS",0,{"$f":"IF('Last Race Results'!$B$5=0,0,IF(ISNA(VLOOKUP($A122,'Last Race Results'!$A$5:$J$44,2,FALSE)),\"DNS\",VLOOKUP($A122,'Last Race Results'!$A$5:$J$44,2,FALSE)))","v":"DNS"},{"$f":"IF('Last Race Results'!$B$5=0,0,IF(ISNA(VLOOKUP($A122,'Last Race Results'!$A$5:$K$44,11,FALSE)),0,VLOOKUP($A122,'Last Race Results'!$A$5:$K$44,11,FALSE)))","v":0},null,null,null,null,null,null,null,null,null,null,null,null,null,null,null,null,null,null,{"$f":"IF('Last Race Results'!$B$5=0,0,IF(ISNA(VLOOKUP($A122,'Last Race Results'!$A$5:$J$44,2,FALSE)),\"DNS\",VLOOKUP($A122,'Last Race Results'!$A$5:$J$44,2,FALSE)))","v":"DNS"},{"$f":"IF('Last Race Results'!$B$5=0,0,IF(ISNA(VLOOKUP($A122,'Last Race Results'!$A$5:$J$44,11,FALSE)),0,VLOOKUP($A122,'Last Race Results'!$A$5:$J$44,11,FALSE)))","v":0}]
[106,{"$f":"IF(ISNA(VLOOKUP($A123,'Entry List'!$A$1:$F$61,B$5,FALSE)),\"\",VLOOKUP($A123,'Entry List'!$A$1:$F$61,B$5,FALSE))","v":""},{"$f":"IF(ISNA(VLOOKUP($A123,'Entry List'!$A$1:$F$61,C$5,FALSE)),\"\",VLOOKUP($A123,'Entry List'!$A$1:$F$61,C$5,FALSE))","v":""},{"$f":"IF(ISNA(VLOOKUP($A123,'Entry List'!$A$1:$F$61,D$5,FALSE)),\"\",VLOOKUP($A123,'Entry List'!$A$1:$F$61,D$5,FALSE))","v":""},{"$f":"IF(ISNA(VLOOKUP($A123,'Entry List'!$A$1:$F$61,E$5,FALSE)),\"\",VLOOKUP($A123,'Entry List'!$A$1:$F$61,E$5,FALSE))","v":""},null,"DNS",0,"DNS",0,"DNS",0,"DNS",0,"DNS",0,"DNS",0,"DNS",0,"DNS",0,"DNS",0,"DNS",0,"DNS",0,"DNS",0,"DNS",0,"DNS",0,"DNS",0,"DNS",0,"DNS",0,"DNS",0,"DNS",0,"DNS",0,"DNS",0,"DNS",0,"DNS",0,"DNS",0,"DNS",0,{"$f":"IF('Last Race Results'!$B$5=0,0,IF(ISNA(VLOOKUP($A123,'Last Race Results'!$A$5:$J$44,2,FALSE)),\"DNS\",VLOOKUP($A123,'Last Race Results'!$A$5:$J$44,2,FALSE)))","v":"DNS"},{"$f":"IF('Last Race Results'!$B$5=0,0,IF(ISNA(VLOOKUP($A123,'Last Race Results'!$A$5:$K$44,11,FALSE)),0,VLOOKUP($A123,'Last Race Results'!$A$5:$K$44,11,FALSE)))","v":0},null,null,null,null,null,null,null,null,null,null,null,null,null,null,null,null,null,null,{"$f":"IF('Last Race Results'!$B$5=0,0,IF(ISNA(VLOOKUP($A123,'Last Race Results'!$A$5:$J$44,2,FALSE)),\"DNS\",VLOOKUP($A123,'Last Race Results'!$A$5:$J$44,2,FALSE)))","v":"DNS"},{"$f":"IF('Last Race Results'!$B$5=0,0,IF(ISNA(VLOOKUP($A123,'Last Race Results'!$A$5:$J$44,11,FALSE)),0,VLOOKUP($A123,'Last Race Results'!$A$5:$J$44,11,FALSE)))","v":0}]
[107,{"$f":"IF(ISNA(VLOOKUP($A124,'Entry List'!$A$1:$F$61,B$5,FALSE)),\"\",VLOOKUP($A124,'Entry List'!$A$1:$F$61,B$5,FALSE))","v":""},{"$f":"IF(ISNA(VLOOKUP($A124,'Entry List'!$A$1:$F$61,C$5,FALSE)),\"\",VLOOKUP($A124,'Entry List'!$A$1:$F$61,C$5,FALSE))","v":""},{"$f":"IF(ISNA(VLOOKUP($A124,'Entry List'!$A$1:$F$61,D$5,FALSE)),\"\",VLOOKUP($A124,'Entry List'!$A$1:$F$61,D$5,FALSE))","v":""},{"$f":"IF(ISNA(VLOOKUP($A124,'Entry List'!$A$1:$F$61,E$5,FALSE)),\"\",VLOOKUP($A124,'Entry List'!$A$1:$F$61,E$5,FALSE))","v":""},null,"DNS",0,"DNS",0,"DNS",0,"DNS",0,"DNS",0,"DNS",0,"DNS",0,"DNS",0,"DNS",0,"DNS",0,"DNS",0,"DNS",0,"DNS",0,"DNS",0,"DNS",0,"DNS",0,"DNS",0,"DNS",0,"DNS",0,"DNS",0,"DNS",0,"DNS",0,"DNS",0,"DNS",0,"DNS",0,{"$f":"IF('Last Race Results'!$B$5=0,0,IF(ISNA(VLOOKUP($A124,'Last Race Results'!$A$5:$J$44,2,FALSE)),\"DNS\",VLOOKUP($A124,'Last Race Results'!$A$5:$J$44,2,FALSE)))","v":"DNS"},{"$f":"IF('Last Race Results'!$B$5=0,0,IF(ISNA(VLOOKUP($A124,'Last Race Results'!$A$5:$K$44,11,FALSE)),0,VLOOKUP($A124,'Last Race Results'!$A$5:$K$44,11,FALSE)))","v":0},null,null,null,null,null,null,null,null,null,null,null,null,null,null,null,null,null,null,{"$f":"IF('Last Race Results'!$B$5=0,0,IF(ISNA(VLOOKUP($A124,'Last Race Results'!$A$5:$J$44,2,FALSE)),\"DNS\",VLOOKUP($A124,'Last Race Results'!$A$5:$J$44,2,FALSE)))","v":"DNS"},{"$f":"IF('Last Race Results'!$B$5=0,0,IF(ISNA(VLOOKUP($A124,'Last Race Results'!$A$5:$J$44,11,FALSE)),0,VLOOKUP($A124,'Last Race Results'!$A$5:$J$44,11,FALSE)))","v":0}]
[108,{"$f":"IF(ISNA(VLOOKUP($A125,'Entry List'!$A$1:$F$61,B$5,FALSE)),\"\",VLOOKUP($A125,'Entry List'!$A$1:$F$61,B$5,FALSE))","v":""},{"$f":"IF(ISNA(VLOOKUP($A125,'Entry List'!$A$1:$F$61,C$5,FALSE)),\"\",VLOOKUP($A125,'Entry List'!$A$1:$F$61,C$5,FALSE))","v":""},{"$f":"IF(ISNA(VLOOKUP($A125,'Entry List'!$A$1:$F$61,D$5,FALSE)),\"\",VLOOKUP($A125,'Entry List'!$A$1:$F$61,D$5,FALSE))","v":""},{"$f":"IF(ISNA(VLOOKUP($A125,'Entry List'!$A$1:$F$61,E$5,FALSE)),\"\",VLOOKUP($A125,'Entry List'!$A$1:$F$61,E$5,FALSE))","v":""},null,"DNS",0,"DNS",0,"DNS",0,"DNS",0,"DNS",0,"DNS",0,"DNS",0,"DNS",0,"DNS",0,"DNS",0,"DNS",0,"DNS",0,"DNS",0,"DNS",0,"DNS",0,"DNS",0,"DNS",0,"DNS",0,"DNS",0,"DNS",0,"DNS",0,"DNS",0,"DNS",0,"DNS",0,"DNS",0,{"$f":"IF('Last Race Results'!$B$5=0,0,IF(ISNA(VLOOKUP($A125,'Last Race Results'!$A$5:$J$44,2,FALSE)),\"DNS\",VLOOKUP($A125,'Last Race Results'!$A$5:$J$44,2,FALSE)))","v":"DNS"},{"$f":"IF('Last Race Results'!$B$5=0,0,IF(ISNA(VLOOKUP($A125,'Last Race Results'!$A$5:$K$44,11,FALSE)),0,VLOOKUP($A125,'Last Race Results'!$A$5:$K$44,11,FALSE)))","v":0},null,null,null,null,null,null,null,null,null,null,null,null,null,null,null,null,null,null,{"$f":"IF('Last Race Results'!$B$5=0,0,IF(ISNA(VLOOKUP($A125,'Last Race Results'!$A$5:$J$44,2,FALSE)),\"DNS\",VLOOKUP($A125,'Last Race Results'!$A$5:$J$44,2,FALSE)))","v":"DNS"},{"$f":"IF('Last Race Results'!$B$5=0,0,IF(ISNA(VLOOKUP($A125,'Last Race Results'!$A$5:$J$44,11,FALSE)),0,VLOOKUP($A125,'Last Race Results'!$A$5:$J$44,11,FALSE)))","v":0}]
[109,{"$f":"IF(ISNA(VLOOKUP($A126,'Entry List'!$A$1:$F$61,B$5,FALSE)),\"\",VLOOKUP($A126,'Entry List'!$A$1:$F$61,B$5,FALSE))","v":""},{"$f":"IF(ISNA(VLOOKUP($A126,'Entry List'!$A$1:$F$61,C$5,FALSE)),\"\",VLOOKUP($A126,'Entry List'!$A$1:$F$61,C$5,FALSE))","v":""},{"$f":"IF(ISNA(VLOOKUP($A126,'Entry List'!$A$1:$F$61,D$5,FALSE)),\"\",VLOOKUP($A126,'Entry List'!$A$1:$F$61,D$5,FALSE))","v":""},{"$f":"IF(ISNA(VLOOKUP($A126,'Entry List'!$A$1:$F$61,E$5,FALSE)),\"\",VLOOKUP($A126,'Entry List'!$A$1:$F$61,E$5,FALSE))","v":""},null,"DNS",0,"DNS",0,"DNS",0,"DNS",0,"DNS",0,"DNS",0,"DNS",0,"DNS",0,"DNS",0,"DNS",0,"DNS",0,"DNS",0,"DNS",0,"DNS",0,"DNS",0,"DNS",0,"DNS",0,"DNS",0,"DNS",0,"DNS",0,"DNS",0,"DNS",0,"DNS",0,"DNS",0,"DNS",0,{"$f":"IF('Last Race Results'!$B$5=0,0,IF(ISNA(VLOOKUP($A126,'Last Race Results'!$A$5:$J$44,2,FALSE)),\"DNS\",VLOOKUP($A126,'Last Race Results'!$A$5:$J$44,2,FALSE)))","v":"DNS"},{"$f":"IF('Last Race Results'!$B$5=0,0,IF(ISNA(VLOOKUP($A126,'Last Race Results'!$A$5:$K$44,11,FALSE)),0,VLOOKUP($A126,'Last Race Results'!$A$5:$K$44,11,FALSE)))","v":0},null,null,null,null,null,null,null,null,null,null,null,null,null,null,null,null,null,null,{"$f":"IF('Last Race Results'!$B$5=0,0,IF(ISNA(VLOOKUP($A126,'Last Race Results'!$A$5:$J$44,2,FALSE)),\"DNS\",VLOOKUP($A126,'Last Race Results'!$A$5:$J$44,2,FALSE)))","v":"DNS"},{"$f":"IF('Last Race Results'!$B$5=0,0,IF(ISNA(VLOOKUP($A126,'Last Race Results'!$A$5:$J$44,11,FALSE)),0,VLOOKUP($A126,'Last Race Results'!$A$5:$J$44,11,FALSE)))","v":0}]
[110,{"$f":"IF(ISNA(VLOOKUP($A127,'Entry List'!$A$1:$F$61,B$5,FALSE)),\"\",VLOOKUP($A127,'Entry List'!$A$1:$F$61,B$5,FALSE))","v":""},{"$f":"IF(ISNA(VLOOKUP($A127,'Entry List'!$A$1:$F$61,C$5,FALSE)),\"\",VLOOKUP($A127,'Entry List'!$A$1:$F$61,C$5,FALSE))","v":""},{"$f":"IF(ISNA(VLOOKUP($A127,'Entry List'!$A$1:$F$61,D$5,FALSE)),\"\",VLOOKUP($A127,'Entry List'!$A$1:$F$61,D$5,FALSE))","v":""},{"$f":"IF(ISNA(VLOOKUP($A127,'Entry List'!$A$1:$F$61,E$5,FALSE)),\"\",VLOOKUP($A127,'Entry List'!$A$1:$F$61,E$5,FALSE))","v":""},null,"DNS",0,"DNS",0,"DNS",0,"DNS",0,"DNS",0,"DNS",0,"DNS",0,"DNS",0,"DNS",0,"DNS",0,"DNS",0,"DNS",0,"DNS",0,"DNS",0,"DNS",0,"DNS",0,"DNS",0,"DNS",0,"DNS",0,"DNS",0,"DNS",0,"DNS",0,"DNS",0,"DNS",0,"DNS",0,{"$f":"IF('Last Race Results'!$B$5=0,0,IF(ISNA(VLOOKUP($A127,'Last Race Results'!$A$5:$J$44,2,FALSE)),\"DNS\",VLOOKUP($A127,'Last Race Results'!$A$5:$J$44,2,FALSE)))","v":"DNS"},{"$f":"IF('Last Race Results'!$B$5=0,0,IF(ISNA(VLOOKUP($A127,'Last Race Results'!$A$5:$K$44,11,FALSE)),0,VLOOKUP($A127,'Last Race Results'!$A$5:$K$44,11,FALSE)))","v":0},null,null,null,null,null,null,null,null,null,null,null,null,null,null,null,null,null,null,{"$f":"IF('Last Race Results'!$B$5=0,0,IF(ISNA(VLOOKUP($A127,'Last Race Results'!$A$5:$J$44,2,FALSE)),\"DNS\",VLOOKUP($A127,'Last Race Results'!$A$5:$J$44,2,FALSE)))","v":"DNS"},{"$f":"IF('Last Race Results'!$B$5=0,0,IF(ISNA(VLOOKUP($A127,'Last Race Results'!$A$5:$J$44,11,FALSE)),0,VLOOKUP($A127,'Last Race Results'!$A$5:$J$44,11,FALSE)))","v":0}]
[111,{"$f":"IF(ISNA(VLOOKUP($A128,'Entry List'!$A$1:$F$61,B$5,FALSE)),\"\",VLOOKUP($A128,'Entry List'!$A$1:$F$61,B$5,FALSE))","v":""},{"$f":"IF(ISNA(VLOOKUP($A128,'Entry List'!$A$1:$F$61,C$5,FALSE)),\"\",VLOOKUP($A128,'Entry List'!$A$1:$F$61,C$5,FALSE))","v":""},{"$f":"IF(ISNA(VLOOKUP($A128,'Entry List'!$A$1:$F$61,D$5,FALSE)),\"\",VLOOKUP($A128,'Entry List'!$A$1:$F$61,D$5,FALSE))","v":""},{"$f":"IF(ISNA(VLOOKUP($A128,'Entry List'!$A$1:$F$61,E$5,FALSE)),\"\",VLOOKUP($A128,'Entry List'!$A$1:$F$61,E$5,FALSE))","v":""},null,"DNS",0,"DNS",0,"DNS",0,"DNS",0,"DNS",0,"DNS",0,"DNS",0,"DNS",0,"DNS",0,"DNS",0,"DNS",0,"DNS",0,"DNS",0,"DNS",0,"DNS",0,"DNS",0,"DNS",0,"DNS",0,"DNS",0,"DNS",0,"DNS",0,"DNS",0,"DNS",0,"DNS",0,"DNS",0,{"$f":"IF('Last Race Results'!$B$5=0,0,IF(ISNA(VLOOKUP($A128,'Last Race Results'!$A$5:$J$44,2,FALSE)),\"DNS\",VLOOKUP($A128,'Last Race Results'!$A$5:$J$44,2,FALSE)))","v":"DNS"},{"$f":"IF('Last Race Results'!$B$5=0,0,IF(ISNA(VLOOKUP($A128,'Last Race Results'!$A$5:$K$44,11,FALSE)),0,VLOOKUP($A128,'Last Race Results'!$A$5:$K$44,11,FALSE)))","v":0},null,null,null,null,null,null,null,null,null,null,null,null,null,null,null,null,null,null,{"$f":"IF('Last Race Results'!$B$5=0,0,IF(ISNA(VLOOKUP($A128,'Last Race Results'!$A$5:$J$44,2,FALSE)),\"DNS\",VLOOKUP($A128,'Last Race Results'!$A$5:$J$44,2,FALSE)))","v":"DNS"},{"$f":"IF('Last Race Results'!$B$5=0,0,IF(ISNA(VLOOKUP($A128,'Last Race Results'!$A$5:$J$44,11,FALSE)),0,VLOOKUP($A128,'Last Race Results'!$A$5:$J$44,11,FALSE)))","v":0}]
[112,{"$f":"IF(ISNA(VLOOKUP($A129,'Entry List'!$A$1:$F$61,B$5,FALSE)),\"\",VLOOKUP($A129,'Entry List'!$A$1:$F$61,B$5,FALSE))","v":""},{"$f":"IF(ISNA(VLOOKUP($A129,'Entry List'!$A$1:$F$61,C$5,FALSE)),\"\",VLOOKUP($A129,'Entry List'!$A$1:$F$61,C$5,FALSE))","v":""},{"$f":"IF(ISNA(VLOOKUP($A129,'Entry List'!$A$1:$F$61,D$5,FALSE)),\"\",VLOOKUP($A129,'Entry List'!$A$1:$F$61,D$5,FALSE))","v":""},{"$f":"IF(ISNA(VLOOKUP($A129,'Entry List'!$A$1:$F$61,E$5,FALSE)),\"\",VLOOKUP($A129,'Entry List'!$A$1:$F$61,E$5,FALSE))","v":""},null,"DNS",0,"DNS",0,"DNS",0,"DNS",0,"DNS",0,"DNS",0,"DNS",0,"DNS",0,"DNS",0,"DNS",0,"DNS",0,"DNS",0,"DNS",0,"DNS",0,"DNS",0,"DNS",0,"DNS",0,"DNS",0,"DNS",0,"DNS",0,"DNS",0,"DNS",0,"DNS",0,"DNS",0,"DNS",0,{"$f":"IF('Last Race Results'!$B$5=0,0,IF(ISNA(VLOOKUP($A129,'Last Race Results'!$A$5:$J$44,2,FALSE)),\"DNS\",VLOOKUP($A129,'Last Race Results'!$A$5:$J$44,2,FALSE)))","v":"DNS"},{"$f":"IF('Last Race Results'!$B$5=0,0,IF(ISNA(VLOOKUP($A129,'Last Race Results'!$A$5:$K$44,11,FALSE)),0,VLOOKUP($A129,'Last Race Results'!$A$5:$K$44,11,FALSE)))","v":0},null,null,null,null,null,null,null,null,null,null,null,null,null,null,null,null,null,null,{"$f":"IF('Last Race Results'!$B$5=0,0,IF(ISNA(VLOOKUP($A129,'Last Race Results'!$A$5:$J$44,2,FALSE)),\"DNS\",VLOOKUP($A129,'Last Race Results'!$A$5:$J$44,2,FALSE)))","v":"DNS"},{"$f":"IF('Last Race Results'!$B$5=0,0,IF(ISNA(VLOOKUP($A129,'Last Race Results'!$A$5:$J$44,11,FALSE)),0,VLOOKUP($A129,'Last Race Results'!$A$5:$J$44,11,FALSE)))","v":0}]
[113,{"$f":"IF(ISNA(VLOOKUP($A130,'Entry List'!$A$1:$F$61,B$5,FALSE)),\"\",VLOOKUP($A130,'Entry List'!$A$1:$F$61,B$5,FALSE))","v":""},{"$f":"IF(ISNA(VLOOKUP($A130,'Entry List'!$A$1:$F$61,C$5,FALSE)),\"\",VLOOKUP($A130,'Entry List'!$A$1:$F$61,C$5,FALSE))","v":""},{"$f":"IF(ISNA(VLOOKUP($A130,'Entry List'!$A$1:$F$61,D$5,FALSE)),\"\",VLOOKUP($A130,'Entry List'!$A$1:$F$61,D$5,FALSE))","v":""},{"$f":"IF(ISNA(VLOOKUP($A130,'Entry List'!$A$1:$F$61,E$5,FALSE)),\"\",VLOOKUP($A130,'Entry List'!$A$1:$F$61,E$5,FALSE))","v":""},null,"DNS",0,"DNS",0,"DNS",0,"DNS",0,"DNS",0,"DNS",0,"DNS",0,"DNS",0,"DNS",0,"DNS",0,"DNS",0,"DNS",0,"DNS",0,"DNS",0,"DNS",0,"DNS",0,"DNS",0,"DNS",0,"DNS",0,"DNS",0,"DNS",0,"DNS",0,"DNS",0,"DNS",0,"DNS",0,{"$f":"IF('Last Race Results'!$B$5=0,0,IF(ISNA(VLOOKUP($A130,'Last Race Results'!$A$5:$J$44,2,FALSE)),\"DNS\",VLOOKUP($A130,'Last Race Results'!$A$5:$J$44,2,FALSE)))","v":"DNS"},{"$f":"IF('Last Race Results'!$B$5=0,0,IF(ISNA(VLOOKUP($A130,'Last Race Results'!$A$5:$K$44,11,FALSE)),0,VLOOKUP($A130,'Last Race Results'!$A$5:$K$44,11,FALSE)))","v":0},null,null,null,null,null,null,null,null,null,null,null,null,null,null,null,null,null,null,{"$f":"IF('Last Race Results'!$B$5=0,0,IF(ISNA(VLOOKUP($A130,'Last Race Results'!$A$5:$J$44,2,FALSE)),\"DNS\",VLOOKUP($A130,'Last Race Results'!$A$5:$J$44,2,FALSE)))","v":"DNS"},{"$f":"IF('Last Race Results'!$B$5=0,0,IF(ISNA(VLOOKUP($A130,'Last Race Results'!$A$5:$J$44,11,FALSE)),0,VLOOKUP($A130,'Last Race Results'!$A$5:$J$44,11,FALSE)))","v":0}]
[114,{"$f":"IF(ISNA(VLOOKUP($A131,'Entry List'!$A$1:$F$61,B$5,FALSE)),\"\",VLOOKUP($A131,'Entry List'!$A$1:$F$61,B$5,FALSE))","v":""},{"$f":"IF(ISNA(VLOOKUP($A131,'Entry List'!$A$1:$F$61,C$5,FALSE)),\"\",VLOOKUP($A131,'Entry List'!$A$1:$F$61,C$5,FALSE))","v":""},{"$f":"IF(ISNA(VLOOKUP($A131,'Entry List'!$A$1:$F$61,D$5,FALSE)),\"\",VLOOKUP($A131,'Entry List'!$A$1:$F$61,D$5,FALSE))","v":""},{"$f":"IF(ISNA(VLOOKUP($A131,'Entry List'!$A$1:$F$61,E$5,FALSE)),\"\",VLOOKUP($A131,'Entry List'!$A$1:$F$61,E$5,FALSE))","v":""},null,"DNS",0,"DNS",0,"DNS",0,"DNS",0,"DNS",0,"DNS",0,"DNS",0,"DNS",0,"DNS",0,"DNS",0,"DNS",0,"DNS",0,"DNS",0,"DNS",0,"DNS",0,"DNS",0,"DNS",0,"DNS",0,"DNS",0,"DNS",0,"DNS",0,"DNS",0,"DNS",0,"DNS",0,"DNS",0,{"$f":"IF('Last Race Results'!$B$5=0,0,IF(ISNA(VLOOKUP($A131,'Last Race Results'!$A$5:$J$44,2,FALSE)),\"DNS\",VLOOKUP($A131,'Last Race Results'!$A$5:$J$44,2,FALSE)))","v":"DNS"},{"$f":"IF('Last Race Results'!$B$5=0,0,IF(ISNA(VLOOKUP($A131,'Last Race Results'!$A$5:$K$44,11,FALSE)),0,VLOOKUP($A131,'Last Race Results'!$A$5:$K$44,11,FALSE)))","v":0},null,null,null,null,null,null,null,null,null,null,null,null,null,null,null,null,null,null,{"$f":"IF('Last Race Results'!$B$5=0,0,IF(ISNA(VLOOKUP($A131,'Last Race Results'!$A$5:$J$44,2,FALSE)),\"DNS\",VLOOKUP($A131,'Last Race Results'!$A$5:$J$44,2,FALSE)))","v":"DNS"},{"$f":"IF('Last Race Results'!$B$5=0,0,IF(ISNA(VLOOKUP($A131,'Last Race Results'!$A$5:$J$44,11,FALSE)),0,VLOOKUP($A131,'Last Race Results'!$A$5:$J$44,11,FALSE)))","v":0}]
[115,{"$f":"IF(ISNA(VLOOKUP($A132,'Entry List'!$A$1:$F$61,B$5,FALSE)),\"\",VLOOKUP($A132,'Entry List'!$A$1:$F$61,B$5,FALSE))","v":""},{"$f":"IF(ISNA(VLOOKUP($A132,'Entry List'!$A$1:$F$61,C$5,FALSE)),\"\",VLOOKUP($A132,'Entry List'!$A$1:$F$61,C$5,FALSE))","v":""},{"$f":"IF(ISNA(VLOOKUP($A132,'Entry List'!$A$1:$F$61,D$5,FALSE)),\"\",VLOOKUP($A132,'Entry List'!$A$1:$F$61,D$5,FALSE))","v":""},{"$f":"IF(ISNA(VLOOKUP($A132,'Entry List'!$A$1:$F$61,E$5,FALSE)),\"\",VLOOKUP($A132,'Entry List'!$A$1:$F$61,E$5,FALSE))","v":""},null,"DNS",0,"DNS",0,"DNS",0,"DNS",0,"DNS",0,"DNS",0,"DNS",0,"DNS",0,"DNS",0,"DNS",0,"DNS",0,"DNS",0,"DNS",0,"DNS",0,"DNS",0,"DNS",0,"DNS",0,"DNS",0,"DNS",0,"DNS",0,"DNS",0,"DNS",0,"DNS",0,"DNS",0,"DNS",0,{"$f":"IF('Last Race Results'!$B$5=0,0,IF(ISNA(VLOOKUP($A132,'Last Race Results'!$A$5:$J$44,2,FALSE)),\"DNS\",VLOOKUP($A132,'Last Race Results'!$A$5:$J$44,2,FALSE)))","v":"DNS"},{"$f":"IF('Last Race Results'!$B$5=0,0,IF(ISNA(VLOOKUP($A132,'Last Race Results'!$A$5:$K$44,11,FALSE)),0,VLOOKUP($A132,'Last Race Results'!$A$5:$K$44,11,FALSE)))","v":0},null,null,null,null,null,null,null,null,null,null,null,null,null,null,null,null,null,null,{"$f":"IF('Last Race Results'!$B$5=0,0,IF(ISNA(VLOOKUP($A132,'Last Race Results'!$A$5:$J$44,2,FALSE)),\"DNS\",VLOOKUP($A132,'Last Race Results'!$A$5:$J$44,2,FALSE)))","v":"DNS"},{"$f":"IF('Last Race Results'!$B$5=0,0,IF(ISNA(VLOOKUP($A132,'Last Race Results'!$A$5:$J$44,11,FALSE)),0,VLOOKUP($A132,'Last Race Results'!$A$5:$J$44,11,FALSE)))","v":0}]
[116,{"$f":"IF(ISNA(VLOOKUP($A133,'Entry List'!$A$1:$F$61,B$5,FALSE)),\"\",VLOOKUP($A133,'Entry List'!$A$1:$F$61,B$5,FALSE))","v":""},{"$f":"IF(ISNA(VLOOKUP($A133,'Entry List'!$A$1:$F$61,C$5,FALSE)),\"\",VLOOKUP($A133,'Entry List'!$A$1:$F$61,C$5,FALSE))","v":""},{"$f":"IF(ISNA(VLOOKUP($A133,'Entry List'!$A$1:$F$61,D$5,FALSE)),\"\",VLOOKUP($A133,'Entry List'!$A$1:$F$61,D$5,FALSE))","v":""},{"$f":"IF(ISNA(VLOOKUP($A133,'Entry List'!$A$1:$F$61,E$5,FALSE)),\"\",VLOOKUP($A133,'Entry List'!$A$1:$F$61,E$5,FALSE))","v":""},null,"DNS",0,"DNS",0,"DNS",0,"DNS",0,"DNS",0,"DNS",0,"DNS",0,"DNS",0,"DNS",0,"DNS",0,"DNS",0,"DNS",0,"DNS",0,"DNS",0,"DNS",0,"DNS",0,"DNS",0,"DNS",0,"DNS",0,"DNS",0,"DNS",0,"DNS",0,"DNS",0,"DNS",0,"DNS",0,{"$f":"IF('Last Race Results'!$B$5=0,0,IF(ISNA(VLOOKUP($A133,'Last Race Results'!$A$5:$J$44,2,FALSE)),\"DNS\",VLOOKUP($A133,'Last Race Results'!$A$5:$J$44,2,FALSE)))","v":"DNS"},{"$f":"IF('Last Race Results'!$B$5=0,0,IF(ISNA(VLOOKUP($A133,'Last Race Results'!$A$5:$K$44,11,FALSE)),0,VLOOKUP($A133,'Last Race Results'!$A$5:$K$44,11,FALSE)))","v":0},null,null,null,null,null,null,null,null,null,null,null,null,null,null,null,null,null,null,{"$f":"IF('Last Race Results'!$B$5=0,0,IF(ISNA(VLOOKUP($A133,'Last Race Results'!$A$5:$J$44,2,FALSE)),\"DNS\",VLOOKUP($A133,'Last Race Results'!$A$5:$J$44,2,FALSE)))","v":"DNS"},{"$f":"IF('Last Race Results'!$B$5=0,0,IF(ISNA(VLOOKUP($A133,'Last Race Results'!$A$5:$J$44,11,FALSE)),0,VLOOKUP($A133,'Last Race Results'!$A$5:$J$44,11,FALSE)))","v":0}]
[117,{"$f":"IF(ISNA(VLOOKUP($A134,'Entry List'!$A$1:$F$61,B$5,FALSE)),\"\",VLOOKUP($A134,'Entry List'!$A$1:$F$61,B$5,FALSE))","v":""},{"$f":"IF(ISNA(VLOOKUP($A134,'Entry List'!$A$1:$F$61,C$5,FALSE)),\"\",VLOOKUP($A134,'Entry List'!$A$1:$F$61,C$5,FALSE))","v":""},{"$f":"IF(ISNA(VLOOKUP($A134,'Entry List'!$A$1:$F$61,D$5,FALSE)),\"\",VLOOKUP($A134,'Entry List'!$A$1:$F$61,D$5,FALSE))","v":""},{"$f":"IF(ISNA(VLOOKUP($A134,'Entry List'!$A$1:$F$61,E$5,FALSE)),\"\",VLOOKUP($A134,'Entry List'!$A$1:$F$61,E$5,FALSE))","v":""},null,"DNS",0,"DNS",0,"DNS",0,"DNS",0,"DNS",0,"DNS",0,"DNS",0,"DNS",0,"DNS",0,"DNS",0,"DNS",0,"DNS",0,"DNS",0,"DNS",0,"DNS",0,"DNS",0,"DNS",0,"DNS",0,"DNS",0,"DNS",0,"DNS",0,"DNS",0,"DNS",0,"DNS",0,"DNS",0,{"$f":"IF('Last Race Results'!$B$5=0,0,IF(ISNA(VLOOKUP($A134,'Last Race Results'!$A$5:$J$44,2,FALSE)),\"DNS\",VLOOKUP($A134,'Last Race Results'!$A$5:$J$44,2,FALSE)))","v":"DNS"},{"$f":"IF('Last Race Results'!$B$5=0,0,IF(ISNA(VLOOKUP($A134,'Last Race Results'!$A$5:$K$44,11,FALSE)),0,VLOOKUP($A134,'Last Race Results'!$A$5:$K$44,11,FALSE)))","v":0},null,null,null,null,null,null,null,null,null,null,null,null,null,null,null,null,null,null,{"$f":"IF('Last Race Results'!$B$5=0,0,IF(ISNA(VLOOKUP($A134,'Last Race Results'!$A$5:$J$44,2,FALSE)),\"DNS\",VLOOKUP($A134,'Last Race Results'!$A$5:$J$44,2,FALSE)))","v":"DNS"},{"$f":"IF('Last Race Results'!$B$5=0,0,IF(ISNA(VLOOKUP($A134,'Last Race Results'!$A$5:$J$44,11,FALSE)),0,VLOOKUP($A134,'Last Race Results'!$A$5:$J$44,11,FALSE)))","v":0}]
[118,{"$f":"IF(ISNA(VLOOKUP($A135,'Entry List'!$A$1:$F$61,B$5,FALSE)),\"\",VLOOKUP($A135,'Entry List'!$A$1:$F$61,B$5,FALSE))","v":""},{"$f":"IF(ISNA(VLOOKUP($A135,'Entry List'!$A$1:$F$61,C$5,FALSE)),\"\",VLOOKUP($A135,'Entry List'!$A$1:$F$61,C$5,FALSE))","v":""},{"$f":"IF(ISNA(VLOOKUP($A135,'Entry List'!$A$1:$F$61,D$5,FALSE)),\"\",VLOOKUP($A135,'Entry List'!$A$1:$F$61,D$5,FALSE))","v":""},{"$f":"IF(ISNA(VLOOKUP($A135,'Entry List'!$A$1:$F$61,E$5,FALSE)),\"\",VLOOKUP($A135,'Entry List'!$A$1:$F$61,E$5,FALSE))","v":""},null,"DNS",0,"DNS",0,"DNS",0,"DNS",0,"DNS",0,"DNS",0,"DNS",0,"DNS",0,"DNS",0,"DNS",0,"DNS",0,"DNS",0,"DNS",0,"DNS",0,"DNS",0,"DNS",0,"DNS",0,"DNS",0,"DNS",0,"DNS",0,"DNS",0,"DNS",0,"DNS",0,"DNS",0,"DNS",0,{"$f":"IF('Last Race Results'!$B$5=0,0,IF(ISNA(VLOOKUP($A135,'Last Race Results'!$A$5:$J$44,2,FALSE)),\"DNS\",VLOOKUP($A135,'Last Race Results'!$A$5:$J$44,2,FALSE)))","v":"DNS"},{"$f":"IF('Last Race Results'!$B$5=0,0,IF(ISNA(VLOOKUP($A135,'Last Race Results'!$A$5:$K$44,11,FALSE)),0,VLOOKUP($A135,'Last Race Results'!$A$5:$K$44,11,FALSE)))","v":0},null,null,null,null,null,null,null,null,null,null,null,null,null,null,null,null,null,null,{"$f":"IF('Last Race Results'!$B$5=0,0,IF(ISNA(VLOOKUP($A135,'Last Race Results'!$A$5:$J$44,2,FALSE)),\"DNS\",VLOOKUP($A135,'Last Race Results'!$A$5:$J$44,2,FALSE)))","v":"DNS"},{"$f":"IF('Last Race Results'!$B$5=0,0,IF(ISNA(VLOOKUP($A135,'Last Race Results'!$A$5:$J$44,11,FALSE)),0,VLOOKUP($A135,'Last Race Results'!$A$5:$J$44,11,FALSE)))","v":0}]
[119,{"$f":"IF(ISNA(VLOOKUP($A136,'Entry List'!$A$1:$F$61,B$5,FALSE)),\"\",VLOOKUP($A136,'Entry List'!$A$1:$F$61,B$5,FALSE))","v":""},{"$f":"IF(ISNA(VLOOKUP($A136,'Entry List'!$A$1:$F$61,C$5,FALSE)),\"\",VLOOKUP($A136,'Entry List'!$A$1:$F$61,C$5,FALSE))","v":""},{"$f":"IF(ISNA(VLOOKUP($A136,'Entry List'!$A$1:$F$61,D$5,FALSE)),\"\",VLOOKUP($A136,'Entry List'!$A$1:$F$61,D$5,FALSE))","v":""},{"$f":"IF(ISNA(VLOOKUP($A136,'Entry List'!$A$1:$F$61,E$5,FALSE)),\"\",VLOOKUP($A136,'Entry List'!$A$1:$F$61,E$5,FALSE))","v":""},null,"DNS",0,"DNS",0,"DNS",0,"DNS",0,"DNS",0,"DNS",0,"DNS",0,"DNS",0,"DNS",0,"DNS",0,"DNS",0,"DNS",0,"DNS",0,"DNS",0,"DNS",0,"DNS",0,"DNS",0,"DNS",0,"DNS",0,"DNS",0,"DNS",0,"DNS",0,"DNS",0,"DNS",0,"DNS",0,{"$f":"IF('Last Race Results'!$B$5=0,0,IF(ISNA(VLOOKUP($A136,'Last Race Results'!$A$5:$J$44,2,FALSE)),\"DNS\",VLOOKUP($A136,'Last Race Results'!$A$5:$J$44,2,FALSE)))","v":"DNS"},{"$f":"IF('Last Race Results'!$B$5=0,0,IF(ISNA(VLOOKUP($A136,'Last Race Results'!$A$5:$K$44,11,FALSE)),0,VLOOKUP($A136,'Last Race Results'!$A$5:$K$44,11,FALSE)))","v":0},null,null,null,null,null,null,null,null,null,null,null,null,null,null,null,null,null,null,{"$f":"IF('Last Race Results'!$B$5=0,0,IF(ISNA(VLOOKUP($A136,'Last Race Results'!$A$5:$J$44,2,FALSE)),\"DNS\",VLOOKUP($A136,'Last Race Results'!$A$5:$J$44,2,FALSE)))","v":"DNS"},{"$f":"IF('Last Race Results'!$B$5=0,0,IF(ISNA(VLOOKUP($A136,'Last Race Results'!$A$5:$J$44,11,FALSE)),0,VLOOKUP($A136,'Last Race Results'!$A$5:$J$44,11,FALSE)))","v":0}]
[120,{"$f":"IF(ISNA(VLOOKUP($A137,'Entry List'!$A$1:$F$61,B$5,FALSE)),\"\",VLOOKUP($A137,'Entry List'!$A$1:$F$61,B$5,FALSE))","v":""},{"$f":"IF(ISNA(VLOOKUP($A137,'Entry List'!$A$1:$F$61,C$5,FALSE)),\"\",VLOOKUP($A137,'Entry List'!$A$1:$F$61,C$5,FALSE))","v":""},{"$f":"IF(ISNA(VLOOKUP($A137,'Entry List'!$A$1:$F$61,D$5,FALSE)),\"\",VLOOKUP($A137,'Entry List'!$A$1:$F$61,D$5,FALSE))","v":""},{"$f":"IF(ISNA(VLOOKUP($A137,'Entry List'!$A$1:$F$61,E$5,FALSE)),\"\",VLOOKUP($A137,'Entry List'!$A$1:$F$61,E$5,FALSE))","v":""},null,"DNS",0,"DNS",0,"DNS",0,"DNS",0,"DNS",0,"DNS",0,"DNS",0,"DNS",0,"DNS",0,"DNS",0,"DNS",0,"DNS",0,"DNS",0,"DNS",0,"DNS",0,"DNS",0,"DNS",0,"DNS",0,"DNS",0,"DNS",0,"DNS",0,"DNS",0,"DNS",0,"DNS",0,"DNS",0,{"$f":"IF('Last Race Results'!$B$5=0,0,IF(ISNA(VLOOKUP($A137,'Last Race Results'!$A$5:$J$44,2,FALSE)),\"DNS\",VLOOKUP($A137,'Last Race Results'!$A$5:$J$44,2,FALSE)))","v":"DNS"},{"$f":"IF('Last Race Results'!$B$5=0,0,IF(ISNA(VLOOKUP($A137,'Last Race Results'!$A$5:$K$44,11,FALSE)),0,VLOOKUP($A137,'Last Race Results'!$A$5:$K$44,11,FALSE)))","v":0},null,null,null,null,null,null,null,null,null,null,null,null,null,null,null,null,null,null,{"$f":"IF('Last Race Results'!$B$5=0,0,IF(ISNA(VLOOKUP($A137,'Last Race Results'!$A$5:$J$44,2,FALSE)),\"DNS\",VLOOKUP($A137,'Last Race Results'!$A$5:$J$44,2,FALSE)))","v":"DNS"},{"$f":"IF('Last Race Results'!$B$5=0,0,IF(ISNA(VLOOKUP($A137,'Last Race Results'!$A$5:$J$44,11,FALSE)),0,VLOOKUP($A137,'Last Race Results'!$A$5:$J$44,11,FALSE)))","v":0}]
[121,{"$f":"IF(ISNA(VLOOKUP($A138,'Entry List'!$A$1:$F$61,B$5,FALSE)),\"\",VLOOKUP($A138,'Entry List'!$A$1:$F$61,B$5,FALSE))","v":""},{"$f":"IF(ISNA(VLOOKUP($A138,'Entry List'!$A$1:$F$61,C$5,FALSE)),\"\",VLOOKUP($A138,'Entry List'!$A$1:$F$61,C$5,FALSE))","v":""},{"$f":"IF(ISNA(VLOOKUP($A138,'Entry List'!$A$1:$F$61,D$5,FALSE)),\"\",VLOOKUP($A138,'Entry List'!$A$1:$F$61,D$5,FALSE))","v":""},{"$f":"IF(ISNA(VLOOKUP($A138,'Entry List'!$A$1:$F$61,E$5,FALSE)),\"\",VLOOKUP($A138,'Entry List'!$A$1:$F$61,E$5,FALSE))","v":""},null,"DNS",0,"DNS",0,"DNS",0,"DNS",0,"DNS",0,"DNS",0,"DNS",0,"DNS",0,"DNS",0,"DNS",0,"DNS",0,"DNS",0,"DNS",0,"DNS",0,"DNS",0,"DNS",0,"DNS",0,"DNS",0,"DNS",0,"DNS",0,"DNS",0,"DNS",0,"DNS",0,"DNS",0,"DNS",0,{"$f":"IF('Last Race Results'!$B$5=0,0,IF(ISNA(VLOOKUP($A138,'Last Race Results'!$A$5:$J$44,2,FALSE)),\"DNS\",VLOOKUP($A138,'Last Race Results'!$A$5:$J$44,2,FALSE)))","v":"DNS"},{"$f":"IF('Last Race Results'!$B$5=0,0,IF(ISNA(VLOOKUP($A138,'Last Race Results'!$A$5:$K$44,11,FALSE)),0,VLOOKUP($A138,'Last Race Results'!$A$5:$K$44,11,FALSE)))","v":0},null,null,null,null,null,null,null,null,null,null,null,null,null,null,null,null,null,null,{"$f":"IF('Last Race Results'!$B$5=0,0,IF(ISNA(VLOOKUP($A138,'Last Race Results'!$A$5:$J$44,2,FALSE)),\"DNS\",VLOOKUP($A138,'Last Race Results'!$A$5:$J$44,2,FALSE)))","v":"DNS"},{"$f":"IF('Last Race Results'!$B$5=0,0,IF(ISNA(VLOOKUP($A138,'Last Race Results'!$A$5:$J$44,11,FALSE)),0,VLOOKUP($A138,'Last Race Results'!$A$5:$J$44,11,FALSE)))","v":0}]
[122,{"$f":"IF(ISNA(VLOOKUP($A139,'Entry List'!$A$1:$F$61,B$5,FALSE)),\"\",VLOOKUP($A139,'Entry List'!$A$1:$F$61,B$5,FALSE))","v":""},{"$f":"IF(ISNA(VLOOKUP($A139,'Entry List'!$A$1:$F$61,C$5,FALSE)),\"\",VLOOKUP($A139,'Entry List'!$A$1:$F$61,C$5,FALSE))","v":""},{"$f":"IF(ISNA(VLOOKUP($A139,'Entry List'!$A$1:$F$61,D$5,FALSE)),\"\",VLOOKUP($A139,'Entry List'!$A$1:$F$61,D$5,FALSE))","v":""},{"$f":"IF(ISNA(VLOOKUP($A139,'Entry List'!$A$1:$F$61,E$5,FALSE)),\"\",VLOOKUP($A139,'Entry List'!$A$1:$F$61,E$5,FALSE))","v":""},null,"DNS",0,"DNS",0,"DNS",0,"DNS",0,"DNS",0,"DNS",0,"DNS",0,"DNS",0,"DNS",0,"DNS",0,"DNS",0,"DNS",0,"DNS",0,"DNS",0,"DNS",0,"DNS",0,"DNS",0,"DNS",0,"DNS",0,"DNS",0,"DNS",0,"DNS",0,"DNS",0,"DNS",0,"DNS",0,{"$f":"IF('Last Race Results'!$B$5=0,0,IF(ISNA(VLOOKUP($A139,'Last Race Results'!$A$5:$J$44,2,FALSE)),\"DNS\",VLOOKUP($A139,'Last Race Results'!$A$5:$J$44,2,FALSE)))","v":"DNS"},{"$f":"IF('Last Race Results'!$B$5=0,0,IF(ISNA(VLOOKUP($A139,'Last Race Results'!$A$5:$K$44,11,FALSE)),0,VLOOKUP($A139,'Last Race Results'!$A$5:$K$44,11,FALSE)))","v":0},null,null,null,null,null,null,null,null,null,null,null,null,null,null,null,null,null,null,{"$f":"IF('Last Race Results'!$B$5=0,0,IF(ISNA(VLOOKUP($A139,'Last Race Results'!$A$5:$J$44,2,FALSE)),\"DNS\",VLOOKUP($A139,'Last Race Results'!$A$5:$J$44,2,FALSE)))","v":"DNS"},{"$f":"IF('Last Race Results'!$B$5=0,0,IF(ISNA(VLOOKUP($A139,'Last Race Results'!$A$5:$J$44,11,FALSE)),0,VLOOKUP($A139,'Last Race Results'!$A$5:$J$44,11,FALSE)))","v":0}]
[123,{"$f":"IF(ISNA(VLOOKUP($A140,'Entry List'!$A$1:$F$61,B$5,FALSE)),\"\",VLOOKUP($A140,'Entry List'!$A$1:$F$61,B$5,FALSE))","v":""},{"$f":"IF(ISNA(VLOOKUP($A140,'Entry List'!$A$1:$F$61,C$5,FALSE)),\"\",VLOOKUP($A140,'Entry List'!$A$1:$F$61,C$5,FALSE))","v":""},{"$f":"IF(ISNA(VLOOKUP($A140,'Entry List'!$A$1:$F$61,D$5,FALSE)),\"\",VLOOKUP($A140,'Entry List'!$A$1:$F$61,D$5,FALSE))","v":""},{"$f":"IF(ISNA(VLOOKUP($A140,'Entry List'!$A$1:$F$61,E$5,FALSE)),\"\",VLOOKUP($A140,'Entry List'!$A$1:$F$61,E$5,FALSE))","v":""},null,"DNS",0,"DNS",0,"DNS",0,"DNS",0,"DNS",0,"DNS",0,"DNS",0,"DNS",0,"DNS",0,"DNS",0,"DNS",0,"DNS",0,"DNS",0,"DNS",0,"DNS",0,"DNS",0,"DNS",0,"DNS",0,"DNS",0,"DNS",0,"DNS",0,"DNS",0,"DNS",0,"DNS",0,"DNS",0,{"$f":"IF('Last Race Results'!$B$5=0,0,IF(ISNA(VLOOKUP($A140,'Last Race Results'!$A$5:$J$44,2,FALSE)),\"DNS\",VLOOKUP($A140,'Last Race Results'!$A$5:$J$44,2,FALSE)))","v":"DNS"},{"$f":"IF('Last Race Results'!$B$5=0,0,IF(ISNA(VLOOKUP($A140,'Last Race Results'!$A$5:$K$44,11,FALSE)),0,VLOOKUP($A140,'Last Race Results'!$A$5:$K$44,11,FALSE)))","v":0},null,null,null,null,null,null,null,null,null,null,null,null,null,null,null,null,null,null,{"$f":"IF('Last Race Results'!$B$5=0,0,IF(ISNA(VLOOKUP($A140,'Last Race Results'!$A$5:$J$44,2,FALSE)),\"DNS\",VLOOKUP($A140,'Last Race Results'!$A$5:$J$44,2,FALSE)))","v":"DNS"},{"$f":"IF('Last Race Results'!$B$5=0,0,IF(ISNA(VLOOKUP($A140,'Last Race Results'!$A$5:$J$44,11,FALSE)),0,VLOOKUP($A140,'Last Race Results'!$A$5:$J$44,11,FALSE)))","v":0}]
[124,{"$f":"IF(ISNA(VLOOKUP($A141,'Entry List'!$A$1:$F$61,B$5,FALSE)),\"\",VLOOKUP($A141,'Entry List'!$A$1:$F$61,B$5,FALSE))","v":""},{"$f":"IF(ISNA(VLOOKUP($A141,'Entry List'!$A$1:$F$61,C$5,FALSE)),\"\",VLOOKUP($A141,'Entry List'!$A$1:$F$61,C$5,FALSE))","v":""},{"$f":"IF(ISNA(VLOOKUP($A141,'Entry List'!$A$1:$F$61,D$5,FALSE)),\"\",VLOOKUP($A141,'Entry List'!$A$1:$F$61,D$5,FALSE))","v":""},{"$f":"IF(ISNA(VLOOKUP($A141,'Entry List'!$A$1:$F$61,E$5,FALSE)),\"\",VLOOKUP($A141,'Entry List'!$A$1:$F$61,E$5,FALSE))","v":""},null,"DNS",0,"DNS",0,"DNS",0,"DNS",0,"DNS",0,"DNS",0,"DNS",0,"DNS",0,"DNS",0,"DNS",0,"DNS",0,"DNS",0,"DNS",0,"DNS",0,"DNS",0,"DNS",0,"DNS",0,"DNS",0,"DNS",0,"DNS",0,"DNS",0,"DNS",0,"DNS",0,"DNS",0,"DNS",0,{"$f":"IF('Last Race Results'!$B$5=0,0,IF(ISNA(VLOOKUP($A141,'Last Race Results'!$A$5:$J$44,2,FALSE)),\"DNS\",VLOOKUP($A141,'Last Race Results'!$A$5:$J$44,2,FALSE)))","v":"DNS"},{"$f":"IF('Last Race Results'!$B$5=0,0,IF(ISNA(VLOOKUP($A141,'Last Race Results'!$A$5:$K$44,11,FALSE)),0,VLOOKUP($A141,'Last Race Results'!$A$5:$K$44,11,FALSE)))","v":0},null,null,null,null,null,null,null,null,null,null,null,null,null,null,null,null,null,null,{"$f":"IF('Last Race Results'!$B$5=0,0,IF(ISNA(VLOOKUP($A141,'Last Race Results'!$A$5:$J$44,2,FALSE)),\"DNS\",VLOOKUP($A141,'Last Race Results'!$A$5:$J$44,2,FALSE)))","v":"DNS"},{"$f":"IF('Last Race Results'!$B$5=0,0,IF(ISNA(VLOOKUP($A141,'Last Race Results'!$A$5:$J$44,11,FALSE)),0,VLOOKUP($A141,'Last Race Results'!$A$5:$J$44,11,FALSE)))","v":0}]
[125,{"$f":"IF(ISNA(VLOOKUP($A142,'Entry List'!$A$1:$F$61,B$5,FALSE)),\"\",VLOOKUP($A142,'Entry List'!$A$1:$F$61,B$5,FALSE))","v":""},{"$f":"IF(ISNA(VLOOKUP($A142,'Entry List'!$A$1:$F$61,C$5,FALSE)),\"\",VLOOKUP($A142,'Entry List'!$A$1:$F$61,C$5,FALSE))","v":""},{"$f":"IF(ISNA(VLOOKUP($A142,'Entry List'!$A$1:$F$61,D$5,FALSE)),\"\",VLOOKUP($A142,'Entry List'!$A$1:$F$61,D$5,FALSE))","v":""},{"$f":"IF(ISNA(VLOOKUP($A142,'Entry List'!$A$1:$F$61,E$5,FALSE)),\"\",VLOOKUP($A142,'Entry List'!$A$1:$F$61,E$5,FALSE))","v":""},null,"DNS",0,"DNS",0,"DNS",0,"DNS",0,"DNS",0,"DNS",0,"DNS",0,"DNS",0,"DNS",0,"DNS",0,"DNS",0,"DNS",0,"DNS",0,"DNS",0,"DNS",0,"DNS",0,"DNS",0,"DNS",0,"DNS",0,"DNS",0,"DNS",0,"DNS",0,"DNS",0,"DNS",0,"DNS",0,{"$f":"IF('Last Race Results'!$B$5=0,0,IF(ISNA(VLOOKUP($A142,'Last Race Results'!$A$5:$J$44,2,FALSE)),\"DNS\",VLOOKUP($A142,'Last Race Results'!$A$5:$J$44,2,FALSE)))","v":"DNS"},{"$f":"IF('Last Race Results'!$B$5=0,0,IF(ISNA(VLOOKUP($A142,'Last Race Results'!$A$5:$K$44,11,FALSE)),0,VLOOKUP($A142,'Last Race Results'!$A$5:$K$44,11,FALSE)))","v":0},null,null,null,null,null,null,null,null,null,null,null,null,null,null,null,null,null,null,{"$f":"IF('Last Race Results'!$B$5=0,0,IF(ISNA(VLOOKUP($A142,'Last Race Results'!$A$5:$J$44,2,FALSE)),\"DNS\",VLOOKUP($A142,'Last Race Results'!$A$5:$J$44,2,FALSE)))","v":"DNS"},{"$f":"IF('Last Race Results'!$B$5=0,0,IF(ISNA(VLOOKUP($A142,'Last Race Results'!$A$5:$J$44,11,FALSE)),0,VLOOKUP($A142,'Last Race Results'!$A$5:$J$44,11,FALSE)))","v":0}]
[126,{"$f":"IF(ISNA(VLOOKUP($A143,'Entry List'!$A$1:$F$61,B$5,FALSE)),\"\",VLOOKUP($A143,'Entry List'!$A$1:$F$61,B$5,FALSE))","v":""},{"$f":"IF(ISNA(VLOOKUP($A143,'Entry List'!$A$1:$F$61,C$5,FALSE)),\"\",VLOOKUP($A143,'Entry List'!$A$1:$F$61,C$5,FALSE))","v":""},{"$f":"IF(ISNA(VLOOKUP($A143,'Entry List'!$A$1:$F$61,D$5,FALSE)),\"\",VLOOKUP($A143,'Entry List'!$A$1:$F$61,D$5,FALSE))","v":""},{"$f":"IF(ISNA(VLOOKUP($A143,'Entry List'!$A$1:$F$61,E$5,FALSE)),\"\",VLOOKUP($A143,'Entry List'!$A$1:$F$61,E$5,FALSE))","v":""},null,"DNS",0,"DNS",0,"DNS",0,"DNS",0,"DNS",0,"DNS",0,"DNS",0,"DNS",0,"DNS",0,"DNS",0,"DNS",0,"DNS",0,"DNS",0,"DNS",0,"DNS",0,"DNS",0,"DNS",0,"DNS",0,"DNS",0,"DNS",0,"DNS",0,"DNS",0,"DNS",0,"DNS",0,"DNS",0,{"$f":"IF('Last Race Results'!$B$5=0,0,IF(ISNA(VLOOKUP($A143,'Last Race Results'!$A$5:$J$44,2,FALSE)),\"DNS\",VLOOKUP($A143,'Last Race Results'!$A$5:$J$44,2,FALSE)))","v":"DNS"},{"$f":"IF('Last Race Results'!$B$5=0,0,IF(ISNA(VLOOKUP($A143,'Last Race Results'!$A$5:$K$44,11,FALSE)),0,VLOOKUP($A143,'Last Race Results'!$A$5:$K$44,11,FALSE)))","v":0},null,null,null,null,null,null,null,null,null,null,null,null,null,null,null,null,null,null,{"$f":"IF('Last Race Results'!$B$5=0,0,IF(ISNA(VLOOKUP($A143,'Last Race Results'!$A$5:$J$44,2,FALSE)),\"DNS\",VLOOKUP($A143,'Last Race Results'!$A$5:$J$44,2,FALSE)))","v":"DNS"},{"$f":"IF('Last Race Results'!$B$5=0,0,IF(ISNA(VLOOKUP($A143,'Last Race Results'!$A$5:$J$44,11,FALSE)),0,VLOOKUP($A143,'Last Race Results'!$A$5:$J$44,11,FALSE)))","v":0}]
[127,{"$f":"IF(ISNA(VLOOKUP($A144,'Entry List'!$A$1:$F$61,B$5,FALSE)),\"\",VLOOKUP($A144,'Entry List'!$A$1:$F$61,B$5,FALSE))","v":""},{"$f":"IF(ISNA(VLOOKUP($A144,'Entry List'!$A$1:$F$61,C$5,FALSE)),\"\",VLOOKUP($A144,'Entry List'!$A$1:$F$61,C$5,FALSE))","v":""},{"$f":"IF(ISNA(VLOOKUP($A144,'Entry List'!$A$1:$F$61,D$5,FALSE)),\"\",VLOOKUP($A144,'Entry List'!$A$1:$F$61,D$5,FALSE))","v":""},{"$f":"IF(ISNA(VLOOKUP($A144,'Entry List'!$A$1:$F$61,E$5,FALSE)),\"\",VLOOKUP($A144,'Entry List'!$A$1:$F$61,E$5,FALSE))","v":""},null,"DNS",0,"DNS",0,"DNS",0,"DNS",0,"DNS",0,"DNS",0,"DNS",0,"DNS",0,"DNS",0,"DNS",0,"DNS",0,"DNS",0,"DNS",0,"DNS",0,"DNS",0,"DNS",0,"DNS",0,"DNS",0,"DNS",0,"DNS",0,"DNS",0,"DNS",0,"DNS",0,"DNS",0,"DNS",0,{"$f":"IF('Last Race Results'!$B$5=0,0,IF(ISNA(VLOOKUP($A144,'Last Race Results'!$A$5:$J$44,2,FALSE)),\"DNS\",VLOOKUP($A144,'Last Race Results'!$A$5:$J$44,2,FALSE)))","v":"DNS"},{"$f":"IF('Last Race Results'!$B$5=0,0,IF(ISNA(VLOOKUP($A144,'Last Race Results'!$A$5:$K$44,11,FALSE)),0,VLOOKUP($A144,'Last Race Results'!$A$5:$K$44,11,FALSE)))","v":0},null,null,null,null,null,null,null,null,null,null,null,null,null,null,null,null,null,null,{"$f":"IF('Last Race Results'!$B$5=0,0,IF(ISNA(VLOOKUP($A144,'Last Race Results'!$A$5:$J$44,2,FALSE)),\"DNS\",VLOOKUP($A144,'Last Race Results'!$A$5:$J$44,2,FALSE)))","v":"DNS"},{"$f":"IF('Last Race Results'!$B$5=0,0,IF(ISNA(VLOOKUP($A144,'Last Race Results'!$A$5:$J$44,11,FALSE)),0,VLOOKUP($A144,'Last Race Results'!$A$5:$J$44,11,FALSE)))","v":0}]
[128,{"$f":"IF(ISNA(VLOOKUP($A145,'Entry List'!$A$1:$F$61,B$5,FALSE)),\"\",VLOOKUP($A145,'Entry List'!$A$1:$F$61,B$5,FALSE))","v":""},{"$f":"IF(ISNA(VLOOKUP($A145,'Entry List'!$A$1:$F$61,C$5,FALSE)),\"\",VLOOKUP($A145,'Entry List'!$A$1:$F$61,C$5,FALSE))","v":""},{"$f":"IF(ISNA(VLOOKUP($A145,'Entry List'!$A$1:$F$61,D$5,FALSE)),\"\",VLOOKUP($A145,'Entry List'!$A$1:$F$61,D$5,FALSE))","v":""},{"$f":"IF(ISNA(VLOOKUP($A145,'Entry List'!$A$1:$F$61,E$5,FALSE)),\"\",VLOOKUP($A145,'Entry List'!$A$1:$F$61,E$5,FALSE))","v":""},null,"DNS",0,"DNS",0,"DNS",0,"DNS",0,"DNS",0,"DNS",0,"DNS",0,"DNS",0,"DNS",0,"DNS",0,"DNS",0,"DNS",0,"DNS",0,"DNS",0,"DNS",0,"DNS",0,"DNS",0,"DNS",0,"DNS",0,"DNS",0,"DNS",0,"DNS",0,"DNS",0,"DNS",0,"DNS",0,{"$f":"IF('Last Race Results'!$B$5=0,0,IF(ISNA(VLOOKUP($A145,'Last Race Results'!$A$5:$J$44,2,FALSE)),\"DNS\",VLOOKUP($A145,'Last Race Results'!$A$5:$J$44,2,FALSE)))","v":"DNS"},{"$f":"IF('Last Race Results'!$B$5=0,0,IF(ISNA(VLOOKUP($A145,'Last Race Results'!$A$5:$K$44,11,FALSE)),0,VLOOKUP($A145,'Last Race Results'!$A$5:$K$44,11,FALSE)))","v":0},null,null,null,null,null,null,null,null,null,null,null,null,null,null,null,null,null,null,{"$f":"IF('Last Race Results'!$B$5=0,0,IF(ISNA(VLOOKUP($A145,'Last Race Results'!$A$5:$J$44,2,FALSE)),\"DNS\",VLOOKUP($A145,'Last Race Results'!$A$5:$J$44,2,FALSE)))","v":"DNS"},{"$f":"IF('Last Race Results'!$B$5=0,0,IF(ISNA(VLOOKUP($A145,'Last Race Results'!$A$5:$J$44,11,FALSE)),0,VLOOKUP($A145,'Last Race Results'!$A$5:$J$44,11,FALSE)))","v":0}]
[129,{"$f":"IF(ISNA(VLOOKUP($A146,'Entry List'!$A$1:$F$61,B$5,FALSE)),\"\",VLOOKUP($A146,'Entry List'!$A$1:$F$61,B$5,FALSE))","v":""},{"$f":"IF(ISNA(VLOOKUP($A146,'Entry List'!$A$1:$F$61,C$5,FALSE)),\"\",VLOOKUP($A146,'Entry List'!$A$1:$F$61,C$5,FALSE))","v":""},{"$f":"IF(ISNA(VLOOKUP($A146,'Entry List'!$A$1:$F$61,D$5,FALSE)),\"\",VLOOKUP($A146,'Entry List'!$A$1:$F$61,D$5,FALSE))","v":""},{"$f":"IF(ISNA(VLOOKUP($A146,'Entry List'!$A$1:$F$61,E$5,FALSE)),\"\",VLOOKUP($A146,'Entry List'!$A$1:$F$61,E$5,FALSE))","v":""},null,"DNS",0,"DNS",0,"DNS",0,"DNS",0,"DNS",0,"DNS",0,"DNS",0,"DNS",0,"DNS",0,"DNS",0,"DNS",0,"DNS",0,"DNS",0,"DNS",0,"DNS",0,"DNS",0,"DNS",0,"DNS",0,"DNS",0,"DNS",0,"DNS",0,"DNS",0,"DNS",0,"DNS",0,"DNS",0,{"$f":"IF('Last Race Results'!$B$5=0,0,IF(ISNA(VLOOKUP($A146,'Last Race Results'!$A$5:$J$44,2,FALSE)),\"DNS\",VLOOKUP($A146,'Last Race Results'!$A$5:$J$44,2,FALSE)))","v":"DNS"},{"$f":"IF('Last Race Results'!$B$5=0,0,IF(ISNA(VLOOKUP($A146,'Last Race Results'!$A$5:$K$44,11,FALSE)),0,VLOOKUP($A146,'Last Race Results'!$A$5:$K$44,11,FALSE)))","v":0},null,null,null,null,null,null,null,null,null,null,null,null,null,null,null,null,null,null,{"$f":"IF('Last Race Results'!$B$5=0,0,IF(ISNA(VLOOKUP($A146,'Last Race Results'!$A$5:$J$44,2,FALSE)),\"DNS\",VLOOKUP($A146,'Last Race Results'!$A$5:$J$44,2,FALSE)))","v":"DNS"},{"$f":"IF('Last Race Results'!$B$5=0,0,IF(ISNA(VLOOKUP($A146,'Last Race Results'!$A$5:$J$44,11,FALSE)),0,VLOOKUP($A146,'Last Race Results'!$A$5:$J$44,11,FALSE)))","v":0}]
[130,{"$f":"IF(ISNA(VLOOKUP($A147,'Entry List'!$A$1:$F$61,B$5,FALSE)),\"\",VLOOKUP($A147,'Entry List'!$A$1:$F$61,B$5,FALSE))","v":""},{"$f":"IF(ISNA(VLOOKUP($A147,'Entry List'!$A$1:$F$61,C$5,FALSE)),\"\",VLOOKUP($A147,'Entry List'!$A$1:$F$61,C$5,FALSE))","v":""},{"$f":"IF(ISNA(VLOOKUP($A147,'Entry List'!$A$1:$F$61,D$5,FALSE)),\"\",VLOOKUP($A147,'Entry List'!$A$1:$F$61,D$5,FALSE))","v":""},{"$f":"IF(ISNA(VLOOKUP($A147,'Entry List'!$A$1:$F$61,E$5,FALSE)),\"\",VLOOKUP($A147,'Entry List'!$A$1:$F$61,E$5,FALSE))","v":""},null,"DNS",0,"DNS",0,"DNS",0,"DNS",0,"DNS",0,"DNS",0,"DNS",0,"DNS",0,"DNS",0,"DNS",0,"DNS",0,"DNS",0,"DNS",0,"DNS",0,"DNS",0,"DNS",0,"DNS",0,"DNS",0,"DNS",0,"DNS",0,"DNS",0,"DNS",0,"DNS",0,"DNS",0,"DNS",0,{"$f":"IF('Last Race Results'!$B$5=0,0,IF(ISNA(VLOOKUP($A147,'Last Race Results'!$A$5:$J$44,2,FALSE)),\"DNS\",VLOOKUP($A147,'Last Race Results'!$A$5:$J$44,2,FALSE)))","v":"DNS"},{"$f":"IF('Last Race Results'!$B$5=0,0,IF(ISNA(VLOOKUP($A147,'Last Race Results'!$A$5:$K$44,11,FALSE)),0,VLOOKUP($A147,'Last Race Results'!$A$5:$K$44,11,FALSE)))","v":0},null,null,null,null,null,null,null,null,null,null,null,null,null,null,null,null,null,null,{"$f":"IF('Last Race Results'!$B$5=0,0,IF(ISNA(VLOOKUP($A147,'Last Race Results'!$A$5:$J$44,2,FALSE)),\"DNS\",VLOOKUP($A147,'Last Race Results'!$A$5:$J$44,2,FALSE)))","v":"DNS"},{"$f":"IF('Last Race Results'!$B$5=0,0,IF(ISNA(VLOOKUP($A147,'Last Race Results'!$A$5:$J$44,11,FALSE)),0,VLOOKUP($A147,'Last Race Results'!$A$5:$J$44,11,FALSE)))","v":0}]
[131,{"$f":"IF(ISNA(VLOOKUP($A148,'Entry List'!$A$1:$F$61,B$5,FALSE)),\"\",VLOOKUP($A148,'Entry List'!$A$1:$F$61,B$5,FALSE))","v":""},{"$f":"IF(ISNA(VLOOKUP($A148,'Entry List'!$A$1:$F$61,C$5,FALSE)),\"\",VLOOKUP($A148,'Entry List'!$A$1:$F$61,C$5,FALSE))","v":""},{"$f":"IF(ISNA(VLOOKUP($A148,'Entry List'!$A$1:$F$61,D$5,FALSE)),\"\",VLOOKUP($A148,'Entry List'!$A$1:$F$61,D$5,FALSE))","v":""},{"$f":"IF(ISNA(VLOOKUP($A148,'Entry List'!$A$1:$F$61,E$5,FALSE)),\"\",VLOOKUP($A148,'Entry List'!$A$1:$F$61,E$5,FALSE))","v":""},null,"DNS",0,"DNS",0,"DNS",0,"DNS",0,"DNS",0,"DNS",0,"DNS",0,"DNS",0,"DNS",0,"DNS",0,"DNS",0,"DNS",0,"DNS",0,"DNS",0,"DNS",0,"DNS",0,"DNS",0,"DNS",0,"DNS",0,"DNS",0,"DNS",0,"DNS",0,"DNS",0,"DNS",0,"DNS",0,{"$f":"IF('Last Race Results'!$B$5=0,0,IF(ISNA(VLOOKUP($A148,'Last Race Results'!$A$5:$J$44,2,FALSE)),\"DNS\",VLOOKUP($A148,'Last Race Results'!$A$5:$J$44,2,FALSE)))","v":"DNS"},{"$f":"IF('Last Race Results'!$B$5=0,0,IF(ISNA(VLOOKUP($A148,'Last Race Results'!$A$5:$K$44,11,FALSE)),0,VLOOKUP($A148,'Last Race Results'!$A$5:$K$44,11,FALSE)))","v":0},null,null,null,null,null,null,null,null,null,null,null,null,null,null,null,null,null,null,{"$f":"IF('Last Race Results'!$B$5=0,0,IF(ISNA(VLOOKUP($A148,'Last Race Results'!$A$5:$J$44,2,FALSE)),\"DNS\",VLOOKUP($A148,'Last Race Results'!$A$5:$J$44,2,FALSE)))","v":"DNS"},{"$f":"IF('Last Race Results'!$B$5=0,0,IF(ISNA(VLOOKUP($A148,'Last Race Results'!$A$5:$J$44,11,FALSE)),0,VLOOKUP($A148,'Last Race Results'!$A$5:$J$44,11,FALSE)))","v":0}]
[132,{"$f":"IF(ISNA(VLOOKUP($A149,'Entry List'!$A$1:$F$61,B$5,FALSE)),\"\",VLOOKUP($A149,'Entry List'!$A$1:$F$61,B$5,FALSE))","v":""},{"$f":"IF(ISNA(VLOOKUP($A149,'Entry List'!$A$1:$F$61,C$5,FALSE)),\"\",VLOOKUP($A149,'Entry List'!$A$1:$F$61,C$5,FALSE))","v":""},{"$f":"IF(ISNA(VLOOKUP($A149,'Entry List'!$A$1:$F$61,D$5,FALSE)),\"\",VLOOKUP($A149,'Entry List'!$A$1:$F$61,D$5,FALSE))","v":""},{"$f":"IF(ISNA(VLOOKUP($A149,'Entry List'!$A$1:$F$61,E$5,FALSE)),\"\",VLOOKUP($A149,'Entry List'!$A$1:$F$61,E$5,FALSE))","v":""},null,"DNS",0,"DNS",0,"DNS",0,"DNS",0,"DNS",0,"DNS",0,"DNS",0,"DNS",0,"DNS",0,"DNS",0,"DNS",0,"DNS",0,"DNS",0,"DNS",0,"DNS",0,"DNS",0,"DNS",0,"DNS",0,"DNS",0,"DNS",0,"DNS",0,"DNS",0,"DNS",0,"DNS",0,"DNS",0,{"$f":"IF('Last Race Results'!$B$5=0,0,IF(ISNA(VLOOKUP($A149,'Last Race Results'!$A$5:$J$44,2,FALSE)),\"DNS\",VLOOKUP($A149,'Last Race Results'!$A$5:$J$44,2,FALSE)))","v":"DNS"},{"$f":"IF('Last Race Results'!$B$5=0,0,IF(ISNA(VLOOKUP($A149,'Last Race Results'!$A$5:$K$44,11,FALSE)),0,VLOOKUP($A149,'Last Race Results'!$A$5:$K$44,11,FALSE)))","v":0},null,null,null,null,null,null,null,null,null,null,null,null,null,null,null,null,null,null,{"$f":"IF('Last Race Results'!$B$5=0,0,IF(ISNA(VLOOKUP($A149,'Last Race Results'!$A$5:$J$44,2,FALSE)),\"DNS\",VLOOKUP($A149,'Last Race Results'!$A$5:$J$44,2,FALSE)))","v":"DNS"},{"$f":"IF('Last Race Results'!$B$5=0,0,IF(ISNA(VLOOKUP($A149,'Last Race Results'!$A$5:$J$44,11,FALSE)),0,VLOOKUP($A149,'Last Race Results'!$A$5:$J$44,11,FALSE)))","v":0}]
[133,{"$f":"IF(ISNA(VLOOKUP($A150,'Entry List'!$A$1:$F$61,B$5,FALSE)),\"\",VLOOKUP($A150,'Entry List'!$A$1:$F$61,B$5,FALSE))","v":""},{"$f":"IF(ISNA(VLOOKUP($A150,'Entry List'!$A$1:$F$61,C$5,FALSE)),\"\",VLOOKUP($A150,'Entry List'!$A$1:$F$61,C$5,FALSE))","v":""},{"$f":"IF(ISNA(VLOOKUP($A150,'Entry List'!$A$1:$F$61,D$5,FALSE)),\"\",VLOOKUP($A150,'Entry List'!$A$1:$F$61,D$5,FALSE))","v":""},{"$f":"IF(ISNA(VLOOKUP($A150,'Entry List'!$A$1:$F$61,E$5,FALSE)),\"\",VLOOKUP($A150,'Entry List'!$A$1:$F$61,E$5,FALSE))","v":""},null,"DNS",0,"DNS",0,"DNS",0,"DNS",0,"DNS",0,"DNS",0,"DNS",0,"DNS",0,"DNS",0,"DNS",0,"DNS",0,"DNS",0,"DNS",0,"DNS",0,"DNS",0,"DNS",0,"DNS",0,"DNS",0,"DNS",0,"DNS",0,"DNS",0,"DNS",0,"DNS",0,"DNS",0,"DNS",0,{"$f":"IF('Last Race Results'!$B$5=0,0,IF(ISNA(VLOOKUP($A150,'Last Race Results'!$A$5:$J$44,2,FALSE)),\"DNS\",VLOOKUP($A150,'Last Race Results'!$A$5:$J$44,2,FALSE)))","v":"DNS"},{"$f":"IF('Last Race Results'!$B$5=0,0,IF(ISNA(VLOOKUP($A150,'Last Race Results'!$A$5:$K$44,11,FALSE)),0,VLOOKUP($A150,'Last Race Results'!$A$5:$K$44,11,FALSE)))","v":0},null,null,null,null,null,null,null,null,null,null,null,null,null,null,null,null,null,null,{"$f":"IF('Last Race Results'!$B$5=0,0,IF(ISNA(VLOOKUP($A150,'Last Race Results'!$A$5:$J$44,2,FALSE)),\"DNS\",VLOOKUP($A150,'Last Race Results'!$A$5:$J$44,2,FALSE)))","v":"DNS"},{"$f":"IF('Last Race Results'!$B$5=0,0,IF(ISNA(VLOOKUP($A150,'Last Race Results'!$A$5:$J$44,11,FALSE)),0,VLOOKUP($A150,'Last Race Results'!$A$5:$J$44,11,FALSE)))","v":0}]
[134,{"$f":"IF(ISNA(VLOOKUP($A151,'Entry List'!$A$1:$F$61,B$5,FALSE)),\"\",VLOOKUP($A151,'Entry List'!$A$1:$F$61,B$5,FALSE))","v":""},{"$f":"IF(ISNA(VLOOKUP($A151,'Entry List'!$A$1:$F$61,C$5,FALSE)),\"\",VLOOKUP($A151,'Entry List'!$A$1:$F$61,C$5,FALSE))","v":""},{"$f":"IF(ISNA(VLOOKUP($A151,'Entry List'!$A$1:$F$61,D$5,FALSE)),\"\",VLOOKUP($A151,'Entry List'!$A$1:$F$61,D$5,FALSE))","v":""},{"$f":"IF(ISNA(VLOOKUP($A151,'Entry List'!$A$1:$F$61,E$5,FALSE)),\"\",VLOOKUP($A151,'Entry List'!$A$1:$F$61,E$5,FALSE))","v":""},null,"DNS",0,"DNS",0,"DNS",0,"DNS",0,"DNS",0,"DNS",0,"DNS",0,"DNS",0,"DNS",0,"DNS",0,"DNS",0,"DNS",0,"DNS",0,"DNS",0,"DNS",0,"DNS",0,"DNS",0,"DNS",0,"DNS",0,"DNS",0,"DNS",0,"DNS",0,"DNS",0,"DNS",0,"DNS",0,{"$f":"IF('Last Race Results'!$B$5=0,0,IF(ISNA(VLOOKUP($A151,'Last Race Results'!$A$5:$J$44,2,FALSE)),\"DNS\",VLOOKUP($A151,'Last Race Results'!$A$5:$J$44,2,FALSE)))","v":"DNS"},{"$f":"IF('Last Race Results'!$B$5=0,0,IF(ISNA(VLOOKUP($A151,'Last Race Results'!$A$5:$K$44,11,FALSE)),0,VLOOKUP($A151,'Last Race Results'!$A$5:$K$44,11,FALSE)))","v":0},null,null,null,null,null,null,null,null,null,null,null,null,null,null,null,null,null,null,{"$f":"IF('Last Race Results'!$B$5=0,0,IF(ISNA(VLOOKUP($A151,'Last Race Results'!$A$5:$J$44,2,FALSE)),\"DNS\",VLOOKUP($A151,'Last Race Results'!$A$5:$J$44,2,FALSE)))","v":"DNS"},{"$f":"IF('Last Race Results'!$B$5=0,0,IF(ISNA(VLOOKUP($A151,'Last Race Results'!$A$5:$J$44,11,FALSE)),0,VLOOKUP($A151,'Last Race Results'!$A$5:$J$44,11,FALSE)))","v":0}]
[135,{"$f":"IF(ISNA(VLOOKUP($A152,'Entry List'!$A$1:$F$61,B$5,FALSE)),\"\",VLOOKUP($A152,'Entry List'!$A$1:$F$61,B$5,FALSE))","v":""},{"$f":"IF(ISNA(VLOOKUP($A152,'Entry List'!$A$1:$F$61,C$5,FALSE)),\"\",VLOOKUP($A152,'Entry List'!$A$1:$F$61,C$5,FALSE))","v":""},{"$f":"IF(ISNA(VLOOKUP($A152,'Entry List'!$A$1:$F$61,D$5,FALSE)),\"\",VLOOKUP($A152,'Entry List'!$A$1:$F$61,D$5,FALSE))","v":""},{"$f":"IF(ISNA(VLOOKUP($A152,'Entry List'!$A$1:$F$61,E$5,FALSE)),\"\",VLOOKUP($A152,'Entry List'!$A$1:$F$61,E$5,FALSE))","v":""},null,"DNS",0,"DNS",0,"DNS",0,"DNS",0,"DNS",0,"DNS",0,"DNS",0,"DNS",0,"DNS",0,"DNS",0,"DNS",0,"DNS",0,"DNS",0,"DNS",0,"DNS",0,"DNS",0,"DNS",0,"DNS",0,"DNS",0,"DNS",0,"DNS",0,"DNS",0,"DNS",0,"DNS",0,"DNS",0,{"$f":"IF('Last Race Results'!$B$5=0,0,IF(ISNA(VLOOKUP($A152,'Last Race Results'!$A$5:$J$44,2,FALSE)),\"DNS\",VLOOKUP($A152,'Last Race Results'!$A$5:$J$44,2,FALSE)))","v":"DNS"},{"$f":"IF('Last Race Results'!$B$5=0,0,IF(ISNA(VLOOKUP($A152,'Last Race Results'!$A$5:$K$44,11,FALSE)),0,VLOOKUP($A152,'Last Race Results'!$A$5:$K$44,11,FALSE)))","v":0},null,null,null,null,null,null,null,null,null,null,null,null,null,null,null,null,null,null,{"$f":"IF('Last Race Results'!$B$5=0,0,IF(ISNA(VLOOKUP($A152,'Last Race Results'!$A$5:$J$44,2,FALSE)),\"DNS\",VLOOKUP($A152,'Last Race Results'!$A$5:$J$44,2,FALSE)))","v":"DNS"},{"$f":"IF('Last Race Results'!$B$5=0,0,IF(ISNA(VLOOKUP($A152,'Last Race Results'!$A$5:$J$44,11,FALSE)),0,VLOOKUP($A152,'Last Race Results'!$A$5:$J$44,11,FALSE)))","v":0}]
[136,{"$f":"IF(ISNA(VLOOKUP($A153,'Entry List'!$A$1:$F$61,B$5,FALSE)),\"\",VLOOKUP($A153,'Entry List'!$A$1:$F$61,B$5,FALSE))","v":""},{"$f":"IF(ISNA(VLOOKUP($A153,'Entry List'!$A$1:$F$61,C$5,FALSE)),\"\",VLOOKUP($A153,'Entry List'!$A$1:$F$61,C$5,FALSE))","v":""},{"$f":"IF(ISNA(VLOOKUP($A153,'Entry List'!$A$1:$F$61,D$5,FALSE)),\"\",VLOOKUP($A153,'Entry List'!$A$1:$F$61,D$5,FALSE))","v":""},{"$f":"IF(ISNA(VLOOKUP($A153,'Entry List'!$A$1:$F$61,E$5,FALSE)),\"\",VLOOKUP($A153,'Entry List'!$A$1:$F$61,E$5,FALSE))","v":""},null,"DNS",0,"DNS",0,"DNS",0,"DNS",0,"DNS",0,"DNS",0,"DNS",0,"DNS",0,"DNS",0,"DNS",0,"DNS",0,"DNS",0,"DNS",0,"DNS",0,"DNS",0,"DNS",0,"DNS",0,"DNS",0,"DNS",0,"DNS",0,"DNS",0,"DNS",0,"DNS",0,"DNS",0,"DNS",0,{"$f":"IF('Last Race Results'!$B$5=0,0,IF(ISNA(VLOOKUP($A153,'Last Race Results'!$A$5:$J$44,2,FALSE)),\"DNS\",VLOOKUP($A153,'Last Race Results'!$A$5:$J$44,2,FALSE)))","v":"DNS"},{"$f":"IF('Last Race Results'!$B$5=0,0,IF(ISNA(VLOOKUP($A153,'Last Race Results'!$A$5:$K$44,11,FALSE)),0,VLOOKUP($A153,'Last Race Results'!$A$5:$K$44,11,FALSE)))","v":0},null,null,null,null,null,null,null,null,null,null,null,null,null,null,null,null,null,null,{"$f":"IF('Last Race Results'!$B$5=0,0,IF(ISNA(VLOOKUP($A153,'Last Race Results'!$A$5:$J$44,2,FALSE)),\"DNS\",VLOOKUP($A153,'Last Race Results'!$A$5:$J$44,2,FALSE)))","v":"DNS"},{"$f":"IF('Last Race Results'!$B$5=0,0,IF(ISNA(VLOOKUP($A153,'Last Race Results'!$A$5:$J$44,11,FALSE)),0,VLOOKUP($A153,'Last Race Results'!$A$5:$J$44,11,FALSE)))","v":0}]
[137,{"$f":"IF(ISNA(VLOOKUP($A154,'Entry List'!$A$1:$F$61,B$5,FALSE)),\"\",VLOOKUP($A154,'Entry List'!$A$1:$F$61,B$5,FALSE))","v":""},{"$f":"IF(ISNA(VLOOKUP($A154,'Entry List'!$A$1:$F$61,C$5,FALSE)),\"\",VLOOKUP($A154,'Entry List'!$A$1:$F$61,C$5,FALSE))","v":""},{"$f":"IF(ISNA(VLOOKUP($A154,'Entry List'!$A$1:$F$61,D$5,FALSE)),\"\",VLOOKUP($A154,'Entry List'!$A$1:$F$61,D$5,FALSE))","v":""},{"$f":"IF(ISNA(VLOOKUP($A154,'Entry List'!$A$1:$F$61,E$5,FALSE)),\"\",VLOOKUP($A154,'Entry List'!$A$1:$F$61,E$5,FALSE))","v":""},null,"DNS",0,"DNS",0,"DNS",0,"DNS",0,"DNS",0,"DNS",0,"DNS",0,"DNS",0,"DNS",0,"DNS",0,"DNS",0,"DNS",0,"DNS",0,"DNS",0,"DNS",0,"DNS",0,"DNS",0,"DNS",0,"DNS",0,"DNS",0,"DNS",0,"DNS",0,"DNS",0,"DNS",0,"DNS",0,{"$f":"IF('Last Race Results'!$B$5=0,0,IF(ISNA(VLOOKUP($A154,'Last Race Results'!$A$5:$J$44,2,FALSE)),\"DNS\",VLOOKUP($A154,'Last Race Results'!$A$5:$J$44,2,FALSE)))","v":"DNS"},{"$f":"IF('Last Race Results'!$B$5=0,0,IF(ISNA(VLOOKUP($A154,'Last Race Results'!$A$5:$K$44,11,FALSE)),0,VLOOKUP($A154,'Last Race Results'!$A$5:$K$44,11,FALSE)))","v":0},null,null,null,null,null,null,null,null,null,null,null,null,null,null,null,null,null,null,{"$f":"IF('Last Race Results'!$B$5=0,0,IF(ISNA(VLOOKUP($A154,'Last Race Results'!$A$5:$J$44,2,FALSE)),\"DNS\",VLOOKUP($A154,'Last Race Results'!$A$5:$J$44,2,FALSE)))","v":"DNS"},{"$f":"IF('Last Race Results'!$B$5=0,0,IF(ISNA(VLOOKUP($A154,'Last Race Results'!$A$5:$J$44,11,FALSE)),0,VLOOKUP($A154,'Last Race Results'!$A$5:$J$44,11,FALSE)))","v":0}]
[138,{"$f":"IF(ISNA(VLOOKUP($A155,'Entry List'!$A$1:$F$61,B$5,FALSE)),\"\",VLOOKUP($A155,'Entry List'!$A$1:$F$61,B$5,FALSE))","v":""},{"$f":"IF(ISNA(VLOOKUP($A155,'Entry List'!$A$1:$F$61,C$5,FALSE)),\"\",VLOOKUP($A155,'Entry List'!$A$1:$F$61,C$5,FALSE))","v":""},{"$f":"IF(ISNA(VLOOKUP($A155,'Entry List'!$A$1:$F$61,D$5,FALSE)),\"\",VLOOKUP($A155,'Entry List'!$A$1:$F$61,D$5,FALSE))","v":""},{"$f":"IF(ISNA(VLOOKUP($A155,'Entry List'!$A$1:$F$61,E$5,FALSE)),\"\",VLOOKUP($A155,'Entry List'!$A$1:$F$61,E$5,FALSE))","v":""},null,"DNS",0,"DNS",0,"DNS",0,"DNS",0,"DNS",0,"DNS",0,"DNS",0,"DNS",0,"DNS",0,"DNS",0,"DNS",0,"DNS",0,"DNS",0,"DNS",0,"DNS",0,"DNS",0,"DNS",0,"DNS",0,"DNS",0,"DNS",0,"DNS",0,"DNS",0,"DNS",0,"DNS",0,"DNS",0,{"$f":"IF('Last Race Results'!$B$5=0,0,IF(ISNA(VLOOKUP($A155,'Last Race Results'!$A$5:$J$44,2,FALSE)),\"DNS\",VLOOKUP($A155,'Last Race Results'!$A$5:$J$44,2,FALSE)))","v":"DNS"},{"$f":"IF('Last Race Results'!$B$5=0,0,IF(ISNA(VLOOKUP($A155,'Last Race Results'!$A$5:$K$44,11,FALSE)),0,VLOOKUP($A155,'Last Race Results'!$A$5:$K$44,11,FALSE)))","v":0},null,null,null,null,null,null,null,null,null,null,null,null,null,null,null,null,null,null,{"$f":"IF('Last Race Results'!$B$5=0,0,IF(ISNA(VLOOKUP($A155,'Last Race Results'!$A$5:$J$44,2,FALSE)),\"DNS\",VLOOKUP($A155,'Last Race Results'!$A$5:$J$44,2,FALSE)))","v":"DNS"},{"$f":"IF('Last Race Results'!$B$5=0,0,IF(ISNA(VLOOKUP($A155,'Last Race Results'!$A$5:$J$44,11,FALSE)),0,VLOOKUP($A155,'Last Race Results'!$A$5:$J$44,11,FALSE)))","v":0}]
[139,{"$f":"IF(ISNA(VLOOKUP($A156,'Entry List'!$A$1:$F$61,B$5,FALSE)),\"\",VLOOKUP($A156,'Entry List'!$A$1:$F$61,B$5,FALSE))","v":""},{"$f":"IF(ISNA(VLOOKUP($A156,'Entry List'!$A$1:$F$61,C$5,FALSE)),\"\",VLOOKUP($A156,'Entry List'!$A$1:$F$61,C$5,FALSE))","v":""},{"$f":"IF(ISNA(VLOOKUP($A156,'Entry List'!$A$1:$F$61,D$5,FALSE)),\"\",VLOOKUP($A156,'Entry List'!$A$1:$F$61,D$5,FALSE))","v":""},{"$f":"IF(ISNA(VLOOKUP($A156,'Entry List'!$A$1:$F$61,E$5,FALSE)),\"\",VLOOKUP($A156,'Entry List'!$A$1:$F$61,E$5,FALSE))","v":""},null,"DNS",0,"DNS",0,"DNS",0,"DNS",0,"DNS",0,"DNS",0,"DNS",0,"DNS",0,"DNS",0,"DNS",0,"DNS",0,"DNS",0,"DNS",0,"DNS",0,"DNS",0,"DNS",0,"DNS",0,"DNS",0,"DNS",0,"DNS",0,"DNS",0,"DNS",0,"DNS",0,"DNS",0,"DNS",0,{"$f":"IF('Last Race Results'!$B$5=0,0,IF(ISNA(VLOOKUP($A156,'Last Race Results'!$A$5:$J$44,2,FALSE)),\"DNS\",VLOOKUP($A156,'Last Race Results'!$A$5:$J$44,2,FALSE)))","v":"DNS"},{"$f":"IF('Last Race Results'!$B$5=0,0,IF(ISNA(VLOOKUP($A156,'Last Race Results'!$A$5:$K$44,11,FALSE)),0,VLOOKUP($A156,'Last Race Results'!$A$5:$K$44,11,FALSE)))","v":0},null,null,null,null,null,null,null,null,null,null,null,null,null,null,null,null,null,null,{"$f":"IF('Last Race Results'!$B$5=0,0,IF(ISNA(VLOOKUP($A156,'Last Race Results'!$A$5:$J$44,2,FALSE)),\"DNS\",VLOOKUP($A156,'Last Race Results'!$A$5:$J$44,2,FALSE)))","v":"DNS"},{"$f":"IF('Last Race Results'!$B$5=0,0,IF(ISNA(VLOOKUP($A156,'Last Race Results'!$A$5:$J$44,11,FALSE)),0,VLOOKUP($A156,'Last Race Results'!$A$5:$J$44,11,FALSE)))","v":0}]
[140,{"$f":"IF(ISNA(VLOOKUP($A157,'Entry List'!$A$1:$F$61,B$5,FALSE)),\"\",VLOOKUP($A157,'Entry List'!$A$1:$F$61,B$5,FALSE))","v":""},{"$f":"IF(ISNA(VLOOKUP($A157,'Entry List'!$A$1:$F$61,C$5,FALSE)),\"\",VLOOKUP($A157,'Entry List'!$A$1:$F$61,C$5,FALSE))","v":""},{"$f":"IF(ISNA(VLOOKUP($A157,'Entry List'!$A$1:$F$61,D$5,FALSE)),\"\",VLOOKUP($A157,'Entry List'!$A$1:$F$61,D$5,FALSE))","v":""},{"$f":"IF(ISNA(VLOOKUP($A157,'Entry List'!$A$1:$F$61,E$5,FALSE)),\"\",VLOOKUP($A157,'Entry List'!$A$1:$F$61,E$5,FALSE))","v":""},null,"DNS",0,"DNS",0,"DNS",0,"DNS",0,"DNS",0,"DNS",0,"DNS",0,"DNS",0,"DNS",0,"DNS",0,"DNS",0,"DNS",0,"DNS",0,"DNS",0,"DNS",0,"DNS",0,"DNS",0,"DNS",0,"DNS",0,"DNS",0,"DNS",0,"DNS",0,"DNS",0,"DNS",0,"DNS",0,{"$f":"IF('Last Race Results'!$B$5=0,0,IF(ISNA(VLOOKUP($A157,'Last Race Results'!$A$5:$J$44,2,FALSE)),\"DNS\",VLOOKUP($A157,'Last Race Results'!$A$5:$J$44,2,FALSE)))","v":"DNS"},{"$f":"IF('Last Race Results'!$B$5=0,0,IF(ISNA(VLOOKUP($A157,'Last Race Results'!$A$5:$K$44,11,FALSE)),0,VLOOKUP($A157,'Last Race Results'!$A$5:$K$44,11,FALSE)))","v":0},null,null,null,null,null,null,null,null,null,null,null,null,null,null,null,null,null,null,{"$f":"IF('Last Race Results'!$B$5=0,0,IF(ISNA(VLOOKUP($A157,'Last Race Results'!$A$5:$J$44,2,FALSE)),\"DNS\",VLOOKUP($A157,'Last Race Results'!$A$5:$J$44,2,FALSE)))","v":"DNS"},{"$f":"IF('Last Race Results'!$B$5=0,0,IF(ISNA(VLOOKUP($A157,'Last Race Results'!$A$5:$J$44,11,FALSE)),0,VLOOKUP($A157,'Last Race Results'!$A$5:$J$44,11,FALSE)))","v":0}]
[141,{"$f":"IF(ISNA(VLOOKUP($A158,'Entry List'!$A$1:$F$61,B$5,FALSE)),\"\",VLOOKUP($A158,'Entry List'!$A$1:$F$61,B$5,FALSE))","v":""},{"$f":"IF(ISNA(VLOOKUP($A158,'Entry List'!$A$1:$F$61,C$5,FALSE)),\"\",VLOOKUP($A158,'Entry List'!$A$1:$F$61,C$5,FALSE))","v":""},{"$f":"IF(ISNA(VLOOKUP($A158,'Entry List'!$A$1:$F$61,D$5,FALSE)),\"\",VLOOKUP($A158,'Entry List'!$A$1:$F$61,D$5,FALSE))","v":""},{"$f":"IF(ISNA(VLOOKUP($A158,'Entry List'!$A$1:$F$61,E$5,FALSE)),\"\",VLOOKUP($A158,'Entry List'!$A$1:$F$61,E$5,FALSE))","v":""},null,"DNS",0,"DNS",0,"DNS",0,"DNS",0,"DNS",0,"DNS",0,"DNS",0,"DNS",0,"DNS",0,"DNS",0,"DNS",0,"DNS",0,"DNS",0,"DNS",0,"DNS",0,"DNS",0,"DNS",0,"DNS",0,"DNS",0,"DNS",0,"DNS",0,"DNS",0,"DNS",0,"DNS",0,"DNS",0,{"$f":"IF('Last Race Results'!$B$5=0,0,IF(ISNA(VLOOKUP($A158,'Last Race Results'!$A$5:$J$44,2,FALSE)),\"DNS\",VLOOKUP($A158,'Last Race Results'!$A$5:$J$44,2,FALSE)))","v":"DNS"},{"$f":"IF('Last Race Results'!$B$5=0,0,IF(ISNA(VLOOKUP($A158,'Last Race Results'!$A$5:$K$44,11,FALSE)),0,VLOOKUP($A158,'Last Race Results'!$A$5:$K$44,11,FALSE)))","v":0},null,null,null,null,null,null,null,null,null,null,null,null,null,null,null,null,null,null,{"$f":"IF('Last Race Results'!$B$5=0,0,IF(ISNA(VLOOKUP($A158,'Last Race Results'!$A$5:$J$44,2,FALSE)),\"DNS\",VLOOKUP($A158,'Last Race Results'!$A$5:$J$44,2,FALSE)))","v":"DNS"},{"$f":"IF('Last Race Results'!$B$5=0,0,IF(ISNA(VLOOKUP($A158,'Last Race Results'!$A$5:$J$44,11,FALSE)),0,VLOOKUP($A158,'Last Race Results'!$A$5:$J$44,11,FALSE)))","v":0}]
[142,{"$f":"IF(ISNA(VLOOKUP($A159,'Entry List'!$A$1:$F$61,B$5,FALSE)),\"\",VLOOKUP($A159,'Entry List'!$A$1:$F$61,B$5,FALSE))","v":""},{"$f":"IF(ISNA(VLOOKUP($A159,'Entry List'!$A$1:$F$61,C$5,FALSE)),\"\",VLOOKUP($A159,'Entry List'!$A$1:$F$61,C$5,FALSE))","v":""},{"$f":"IF(ISNA(VLOOKUP($A159,'Entry List'!$A$1:$F$61,D$5,FALSE)),\"\",VLOOKUP($A159,'Entry List'!$A$1:$F$61,D$5,FALSE))","v":""},{"$f":"IF(ISNA(VLOOKUP($A159,'Entry List'!$A$1:$F$61,E$5,FALSE)),\"\",VLOOKUP($A159,'Entry List'!$A$1:$F$61,E$5,FALSE))","v":""},null,"DNS",0,"DNS",0,"DNS",0,"DNS",0,"DNS",0,"DNS",0,"DNS",0,"DNS",0,"DNS",0,"DNS",0,"DNS",0,"DNS",0,"DNS",0,"DNS",0,"DNS",0,"DNS",0,"DNS",0,"DNS",0,"DNS",0,"DNS",0,"DNS",0,"DNS",0,"DNS",0,"DNS",0,"DNS",0,{"$f":"IF('Last Race Results'!$B$5=0,0,IF(ISNA(VLOOKUP($A159,'Last Race Results'!$A$5:$J$44,2,FALSE)),\"DNS\",VLOOKUP($A159,'Last Race Results'!$A$5:$J$44,2,FALSE)))","v":"DNS"},{"$f":"IF('Last Race Results'!$B$5=0,0,IF(ISNA(VLOOKUP($A159,'Last Race Results'!$A$5:$K$44,11,FALSE)),0,VLOOKUP($A159,'Last Race Results'!$A$5:$K$44,11,FALSE)))","v":0},null,null,null,null,null,null,null,null,null,null,null,null,null,null,null,null,null,null,{"$f":"IF('Last Race Results'!$B$5=0,0,IF(ISNA(VLOOKUP($A159,'Last Race Results'!$A$5:$J$44,2,FALSE)),\"DNS\",VLOOKUP($A159,'Last Race Results'!$A$5:$J$44,2,FALSE)))","v":"DNS"},{"$f":"IF('Last Race Results'!$B$5=0,0,IF(ISNA(VLOOKUP($A159,'Last Race Results'!$A$5:$J$44,11,FALSE)),0,VLOOKUP($A159,'Last Race Results'!$A$5:$J$44,11,FALSE)))","v":0}]
[143,{"$f":"IF(ISNA(VLOOKUP($A160,'Entry List'!$A$1:$F$61,B$5,FALSE)),\"\",VLOOKUP($A160,'Entry List'!$A$1:$F$61,B$5,FALSE))","v":""},{"$f":"IF(ISNA(VLOOKUP($A160,'Entry List'!$A$1:$F$61,C$5,FALSE)),\"\",VLOOKUP($A160,'Entry List'!$A$1:$F$61,C$5,FALSE))","v":""},{"$f":"IF(ISNA(VLOOKUP($A160,'Entry List'!$A$1:$F$61,D$5,FALSE)),\"\",VLOOKUP($A160,'Entry List'!$A$1:$F$61,D$5,FALSE))","v":""},{"$f":"IF(ISNA(VLOOKUP($A160,'Entry List'!$A$1:$F$61,E$5,FALSE)),\"\",VLOOKUP($A160,'Entry List'!$A$1:$F$61,E$5,FALSE))","v":""},null,"DNS",0,"DNS",0,"DNS",0,"DNS",0,"DNS",0,"DNS",0,"DNS",0,"DNS",0,"DNS",0,"DNS",0,"DNS",0,"DNS",0,"DNS",0,"DNS",0,"DNS",0,"DNS",0,"DNS",0,"DNS",0,"DNS",0,"DNS",0,"DNS",0,"DNS",0,"DNS",0,"DNS",0,"DNS",0,{"$f":"IF('Last Race Results'!$B$5=0,0,IF(ISNA(VLOOKUP($A160,'Last Race Results'!$A$5:$J$44,2,FALSE)),\"DNS\",VLOOKUP($A160,'Last Race Results'!$A$5:$J$44,2,FALSE)))","v":"DNS"},{"$f":"IF('Last Race Results'!$B$5=0,0,IF(ISNA(VLOOKUP($A160,'Last Race Results'!$A$5:$K$44,11,FALSE)),0,VLOOKUP($A160,'Last Race Results'!$A$5:$K$44,11,FALSE)))","v":0},null,null,null,null,null,null,null,null,null,null,null,null,null,null,null,null,null,null,{"$f":"IF('Last Race Results'!$B$5=0,0,IF(ISNA(VLOOKUP($A160,'Last Race Results'!$A$5:$J$44,2,FALSE)),\"DNS\",VLOOKUP($A160,'Last Race Results'!$A$5:$J$44,2,FALSE)))","v":"DNS"},{"$f":"IF('Last Race Results'!$B$5=0,0,IF(ISNA(VLOOKUP($A160,'Last Race Results'!$A$5:$J$44,11,FALSE)),0,VLOOKUP($A160,'Last Race Results'!$A$5:$J$44,11,FALSE)))","v":0}]
[144,{"$f":"IF(ISNA(VLOOKUP($A161,'Entry List'!$A$1:$F$61,B$5,FALSE)),\"\",VLOOKUP($A161,'Entry List'!$A$1:$F$61,B$5,FALSE))","v":""},{"$f":"IF(ISNA(VLOOKUP($A161,'Entry List'!$A$1:$F$61,C$5,FALSE)),\"\",VLOOKUP($A161,'Entry List'!$A$1:$F$61,C$5,FALSE))","v":""},{"$f":"IF(ISNA(VLOOKUP($A161,'Entry List'!$A$1:$F$61,D$5,FALSE)),\"\",VLOOKUP($A161,'Entry List'!$A$1:$F$61,D$5,FALSE))","v":""},{"$f":"IF(ISNA(VLOOKUP($A161,'Entry List'!$A$1:$F$61,E$5,FALSE)),\"\",VLOOKUP($A161,'Entry List'!$A$1:$F$61,E$5,FALSE))","v":""},null,"DNS",0,"DNS",0,"DNS",0,"DNS",0,"DNS",0,"DNS",0,"DNS",0,"DNS",0,"DNS",0,"DNS",0,"DNS",0,"DNS",0,"DNS",0,"DNS",0,"DNS",0,"DNS",0,"DNS",0,"DNS",0,"DNS",0,"DNS",0,"DNS",0,"DNS",0,"DNS",0,"DNS",0,"DNS",0,{"$f":"IF('Last Race Results'!$B$5=0,0,IF(ISNA(VLOOKUP($A161,'Last Race Results'!$A$5:$J$44,2,FALSE)),\"DNS\",VLOOKUP($A161,'Last Race Results'!$A$5:$J$44,2,FALSE)))","v":"DNS"},{"$f":"IF('Last Race Results'!$B$5=0,0,IF(ISNA(VLOOKUP($A161,'Last Race Results'!$A$5:$K$44,11,FALSE)),0,VLOOKUP($A161,'Last Race Results'!$A$5:$K$44,11,FALSE)))","v":0},null,null,null,null,null,null,null,null,null,null,null,null,null,null,null,null,null,null,{"$f":"IF('Last Race Results'!$B$5=0,0,IF(ISNA(VLOOKUP($A161,'Last Race Results'!$A$5:$J$44,2,FALSE)),\"DNS\",VLOOKUP($A161,'Last Race Results'!$A$5:$J$44,2,FALSE)))","v":"DNS"},{"$f":"IF('Last Race Results'!$B$5=0,0,IF(ISNA(VLOOKUP($A161,'Last Race Results'!$A$5:$J$44,11,FALSE)),0,VLOOKUP($A161,'Last Race Results'!$A$5:$J$44,11,FALSE)))","v":0}]
[145,{"$f":"IF(ISNA(VLOOKUP($A162,'Entry List'!$A$1:$F$61,B$5,FALSE)),\"\",VLOOKUP($A162,'Entry List'!$A$1:$F$61,B$5,FALSE))","v":""},{"$f":"IF(ISNA(VLOOKUP($A162,'Entry List'!$A$1:$F$61,C$5,FALSE)),\"\",VLOOKUP($A162,'Entry List'!$A$1:$F$61,C$5,FALSE))","v":""},{"$f":"IF(ISNA(VLOOKUP($A162,'Entry List'!$A$1:$F$61,D$5,FALSE)),\"\",VLOOKUP($A162,'Entry List'!$A$1:$F$61,D$5,FALSE))","v":""},{"$f":"IF(ISNA(VLOOKUP($A162,'Entry List'!$A$1:$F$61,E$5,FALSE)),\"\",VLOOKUP($A162,'Entry List'!$A$1:$F$61,E$5,FALSE))","v":""},null,"DNS",0,"DNS",0,"DNS",0,"DNS",0,"DNS",0,"DNS",0,"DNS",0,"DNS",0,"DNS",0,"DNS",0,"DNS",0,"DNS",0,"DNS",0,"DNS",0,"DNS",0,"DNS",0,"DNS",0,"DNS",0,"DNS",0,"DNS",0,"DNS",0,"DNS",0,"DNS",0,"DNS",0,"DNS",0,{"$f":"IF('Last Race Results'!$B$5=0,0,IF(ISNA(VLOOKUP($A162,'Last Race Results'!$A$5:$J$44,2,FALSE)),\"DNS\",VLOOKUP($A162,'Last Race Results'!$A$5:$J$44,2,FALSE)))","v":"DNS"},{"$f":"IF('Last Race Results'!$B$5=0,0,IF(ISNA(VLOOKUP($A162,'Last Race Results'!$A$5:$K$44,11,FALSE)),0,VLOOKUP($A162,'Last Race Results'!$A$5:$K$44,11,FALSE)))","v":0},null,null,null,null,null,null,null,null,null,null,null,null,null,null,null,null,null,null,{"$f":"IF('Last Race Results'!$B$5=0,0,IF(ISNA(VLOOKUP($A162,'Last Race Results'!$A$5:$J$44,2,FALSE)),\"DNS\",VLOOKUP($A162,'Last Race Results'!$A$5:$J$44,2,FALSE)))","v":"DNS"},{"$f":"IF('Last Race Results'!$B$5=0,0,IF(ISNA(VLOOKUP($A162,'Last Race Results'!$A$5:$J$44,11,FALSE)),0,VLOOKUP($A162,'Last Race Results'!$A$5:$J$44,11,FALSE)))","v":0}]
[146,{"$f":"IF(ISNA(VLOOKUP($A163,'Entry List'!$A$1:$F$61,B$5,FALSE)),\"\",VLOOKUP($A163,'Entry List'!$A$1:$F$61,B$5,FALSE))","v":""},{"$f":"IF(ISNA(VLOOKUP($A163,'Entry List'!$A$1:$F$61,C$5,FALSE)),\"\",VLOOKUP($A163,'Entry List'!$A$1:$F$61,C$5,FALSE))","v":""},{"$f":"IF(ISNA(VLOOKUP($A163,'Entry List'!$A$1:$F$61,D$5,FALSE)),\"\",VLOOKUP($A163,'Entry List'!$A$1:$F$61,D$5,FALSE))","v":""},{"$f":"IF(ISNA(VLOOKUP($A163,'Entry List'!$A$1:$F$61,E$5,FALSE)),\"\",VLOOKUP($A163,'Entry List'!$A$1:$F$61,E$5,FALSE))","v":""},null,"DNS",0,"DNS",0,"DNS",0,"DNS",0,"DNS",0,"DNS",0,"DNS",0,"DNS",0,"DNS",0,"DNS",0,"DNS",0,"DNS",0,"DNS",0,"DNS",0,"DNS",0,"DNS",0,"DNS",0,"DNS",0,"DNS",0,"DNS",0,"DNS",0,"DNS",0,"DNS",0,"DNS",0,"DNS",0,{"$f":"IF('Last Race Results'!$B$5=0,0,IF(ISNA(VLOOKUP($A163,'Last Race Results'!$A$5:$J$44,2,FALSE)),\"DNS\",VLOOKUP($A163,'Last Race Results'!$A$5:$J$44,2,FALSE)))","v":"DNS"},{"$f":"IF('Last Race Results'!$B$5=0,0,IF(ISNA(VLOOKUP($A163,'Last Race Results'!$A$5:$K$44,11,FALSE)),0,VLOOKUP($A163,'Last Race Results'!$A$5:$K$44,11,FALSE)))","v":0},null,null,null,null,null,null,null,null,null,null,null,null,null,null,null,null,null,null,{"$f":"IF('Last Race Results'!$B$5=0,0,IF(ISNA(VLOOKUP($A163,'Last Race Results'!$A$5:$J$44,2,FALSE)),\"DNS\",VLOOKUP($A163,'Last Race Results'!$A$5:$J$44,2,FALSE)))","v":"DNS"},{"$f":"IF('Last Race Results'!$B$5=0,0,IF(ISNA(VLOOKUP($A163,'Last Race Results'!$A$5:$J$44,11,FALSE)),0,VLOOKUP($A163,'Last Race Results'!$A$5:$J$44,11,FALSE)))","v":0}]
[147,{"$f":"IF(ISNA(VLOOKUP($A164,'Entry List'!$A$1:$F$61,B$5,FALSE)),\"\",VLOOKUP($A164,'Entry List'!$A$1:$F$61,B$5,FALSE))","v":""},{"$f":"IF(ISNA(VLOOKUP($A164,'Entry List'!$A$1:$F$61,C$5,FALSE)),\"\",VLOOKUP($A164,'Entry List'!$A$1:$F$61,C$5,FALSE))","v":""},{"$f":"IF(ISNA(VLOOKUP($A164,'Entry List'!$A$1:$F$61,D$5,FALSE)),\"\",VLOOKUP($A164,'Entry List'!$A$1:$F$61,D$5,FALSE))","v":""},{"$f":"IF(ISNA(VLOOKUP($A164,'Entry List'!$A$1:$F$61,E$5,FALSE)),\"\",VLOOKUP($A164,'Entry List'!$A$1:$F$61,E$5,FALSE))","v":""},null,"DNS",0,"DNS",0,"DNS",0,"DNS",0,"DNS",0,"DNS",0,"DNS",0,"DNS",0,"DNS",0,"DNS",0,"DNS",0,"DNS",0,"DNS",0,"DNS",0,"DNS",0,"DNS",0,"DNS",0,"DNS",0,"DNS",0,"DNS",0,"DNS",0,"DNS",0,"DNS",0,"DNS",0,"DNS",0,{"$f":"IF('Last Race Results'!$B$5=0,0,IF(ISNA(VLOOKUP($A164,'Last Race Results'!$A$5:$J$44,2,FALSE)),\"DNS\",VLOOKUP($A164,'Last Race Results'!$A$5:$J$44,2,FALSE)))","v":"DNS"},{"$f":"IF('Last Race Results'!$B$5=0,0,IF(ISNA(VLOOKUP($A164,'Last Race Results'!$A$5:$K$44,11,FALSE)),0,VLOOKUP($A164,'Last Race Results'!$A$5:$K$44,11,FALSE)))","v":0},null,null,null,null,null,null,null,null,null,null,null,null,null,null,null,null,null,null,{"$f":"IF('Last Race Results'!$B$5=0,0,IF(ISNA(VLOOKUP($A164,'Last Race Results'!$A$5:$J$44,2,FALSE)),\"DNS\",VLOOKUP($A164,'Last Race Results'!$A$5:$J$44,2,FALSE)))","v":"DNS"},{"$f":"IF('Last Race Results'!$B$5=0,0,IF(ISNA(VLOOKUP($A164,'Last Race Results'!$A$5:$J$44,11,FALSE)),0,VLOOKUP($A164,'Last Race Results'!$A$5:$J$44,11,FALSE)))","v":0}]
[148,{"$f":"IF(ISNA(VLOOKUP($A165,'Entry List'!$A$1:$F$61,B$5,FALSE)),\"\",VLOOKUP($A165,'Entry List'!$A$1:$F$61,B$5,FALSE))","v":""},{"$f":"IF(ISNA(VLOOKUP($A165,'Entry List'!$A$1:$F$61,C$5,FALSE)),\"\",VLOOKUP($A165,'Entry List'!$A$1:$F$61,C$5,FALSE))","v":""},{"$f":"IF(ISNA(VLOOKUP($A165,'Entry List'!$A$1:$F$61,D$5,FALSE)),\"\",VLOOKUP($A165,'Entry List'!$A$1:$F$61,D$5,FALSE))","v":""},{"$f":"IF(ISNA(VLOOKUP($A165,'Entry List'!$A$1:$F$61,E$5,FALSE)),\"\",VLOOKUP($A165,'Entry List'!$A$1:$F$61,E$5,FALSE))","v":""},null,"DNS",0,"DNS",0,"DNS",0,"DNS",0,"DNS",0,"DNS",0,"DNS",0,"DNS",0,"DNS",0,"DNS",0,"DNS",0,"DNS",0,"DNS",0,"DNS",0,"DNS",0,"DNS",0,"DNS",0,"DNS",0,"DNS",0,"DNS",0,"DNS",0,"DNS",0,"DNS",0,"DNS",0,"DNS",0,{"$f":"IF('Last Race Results'!$B$5=0,0,IF(ISNA(VLOOKUP($A165,'Last Race Results'!$A$5:$J$44,2,FALSE)),\"DNS\",VLOOKUP($A165,'Last Race Results'!$A$5:$J$44,2,FALSE)))","v":"DNS"},{"$f":"IF('Last Race Results'!$B$5=0,0,IF(ISNA(VLOOKUP($A165,'Last Race Results'!$A$5:$K$44,11,FALSE)),0,VLOOKUP($A165,'Last Race Results'!$A$5:$K$44,11,FALSE)))","v":0},null,null,null,null,null,null,null,null,null,null,null,null,null,null,null,null,null,null,{"$f":"IF('Last Race Results'!$B$5=0,0,IF(ISNA(VLOOKUP($A165,'Last Race Results'!$A$5:$J$44,2,FALSE)),\"DNS\",VLOOKUP($A165,'Last Race Results'!$A$5:$J$44,2,FALSE)))","v":"DNS"},{"$f":"IF('Last Race Results'!$B$5=0,0,IF(ISNA(VLOOKUP($A165,'Last Race Results'!$A$5:$J$44,11,FALSE)),0,VLOOKUP($A165,'Last Race Results'!$A$5:$J$44,11,FALSE)))","v":0}]
[149,{"$f":"IF(ISNA(VLOOKUP($A166,'Entry List'!$A$1:$F$61,B$5,FALSE)),\"\",VLOOKUP($A166,'Entry List'!$A$1:$F$61,B$5,FALSE))","v":""},{"$f":"IF(ISNA(VLOOKUP($A166,'Entry List'!$A$1:$F$61,C$5,FALSE)),\"\",VLOOKUP($A166,'Entry List'!$A$1:$F$61,C$5,FALSE))","v":""},{"$f":"IF(ISNA(VLOOKUP($A166,'Entry List'!$A$1:$F$61,D$5,FALSE)),\"\",VLOOKUP($A166,'Entry List'!$A$1:$F$61,D$5,FALSE))","v":""},{"$f":"IF(ISNA(VLOOKUP($A166,'Entry List'!$A$1:$F$61,E$5,FALSE)),\"\",VLOOKUP($A166,'Entry List'!$A$1:$F$61,E$5,FALSE))","v":""},null,"DNS",0,"DNS",0,"DNS",0,"DNS",0,"DNS",0,"DNS",0,"DNS",0,"DNS",0,"DNS",0,"DNS",0,"DNS",0,"DNS",0,"DNS",0,"DNS",0,"DNS",0,"DNS",0,"DNS",0,"DNS",0,"DNS",0,"DNS",0,"DNS",0,"DNS",0,"DNS",0,"DNS",0,"DNS",0,{"$f":"IF('Last Race Results'!$B$5=0,0,IF(ISNA(VLOOKUP($A166,'Last Race Results'!$A$5:$J$44,2,FALSE)),\"DNS\",VLOOKUP($A166,'Last Race Results'!$A$5:$J$44,2,FALSE)))","v":"DNS"},{"$f":"IF('Last Race Results'!$B$5=0,0,IF(ISNA(VLOOKUP($A166,'Last Race Results'!$A$5:$K$44,11,FALSE)),0,VLOOKUP($A166,'Last Race Results'!$A$5:$K$44,11,FALSE)))","v":0},null,null,null,null,null,null,null,null,null,null,null,null,null,null,null,null,null,null,{"$f":"IF('Last Race Results'!$B$5=0,0,IF(ISNA(VLOOKUP($A166,'Last Race Results'!$A$5:$J$44,2,FALSE)),\"DNS\",VLOOKUP($A166,'Last Race Results'!$A$5:$J$44,2,FALSE)))","v":"DNS"},{"$f":"IF('Last Race Results'!$B$5=0,0,IF(ISNA(VLOOKUP($A166,'Last Race Results'!$A$5:$J$44,11,FALSE)),0,VLOOKUP($A166,'Last Race Results'!$A$5:$J$44,11,FALSE)))","v":0}]
[150,{"$f":"IF(ISNA(VLOOKUP($A167,'Entry List'!$A$1:$F$61,B$5,FALSE)),\"\",VLOOKUP($A167,'Entry List'!$A$1:$F$61,B$5,FALSE))","v":""},{"$f":"IF(ISNA(VLOOKUP($A167,'Entry List'!$A$1:$F$61,C$5,FALSE)),\"\",VLOOKUP($A167,'Entry List'!$A$1:$F$61,C$5,FALSE))","v":""},{"$f":"IF(ISNA(VLOOKUP($A167,'Entry List'!$A$1:$F$61,D$5,FALSE)),\"\",VLOOKUP($A167,'Entry List'!$A$1:$F$61,D$5,FALSE))","v":""},{"$f":"IF(ISNA(VLOOKUP($A167,'Entry List'!$A$1:$F$61,E$5,FALSE)),\"\",VLOOKUP($A167,'Entry List'!$A$1:$F$61,E$5,FALSE))","v":""},null,"DNS",0,"DNS",0,"DNS",0,"DNS",0,"DNS",0,"DNS",0,"DNS",0,"DNS",0,"DNS",0,"DNS",0,"DNS",0,"DNS",0,"DNS",0,"DNS",0,"DNS",0,"DNS",0,"DNS",0,"DNS",0,"DNS",0,"DNS",0,"DNS",0,"DNS",0,"DNS",0,"DNS",0,"DNS",0,{"$f":"IF('Last Race Results'!$B$5=0,0,IF(ISNA(VLOOKUP($A167,'Last Race Results'!$A$5:$J$44,2,FALSE)),\"DNS\",VLOOKUP($A167,'Last Race Results'!$A$5:$J$44,2,FALSE)))","v":"DNS"},{"$f":"IF('Last Race Results'!$B$5=0,0,IF(ISNA(VLOOKUP($A167,'Last Race Results'!$A$5:$K$44,11,FALSE)),0,VLOOKUP($A167,'Last Race Results'!$A$5:$K$44,11,FALSE)))","v":0},null,null,null,null,null,null,null,null,null,null,null,null,null,null,null,null,null,null,{"$f":"IF('Last Race Results'!$B$5=0,0,IF(ISNA(VLOOKUP($A167,'Last Race Results'!$A$5:$J$44,2,FALSE)),\"DNS\",VLOOKUP($A167,'Last Race Results'!$A$5:$J$44,2,FALSE)))","v":"DNS"},{"$f":"IF('Last Race Results'!$B$5=0,0,IF(ISNA(VLOOKUP($A167,'Last Race Results'!$A$5:$J$44,11,FALSE)),0,VLOOKUP($A167,'Last Race Results'!$A$5:$J$44,11,FALSE)))","v":0}]
[151,{"$f":"IF(ISNA(VLOOKUP($A168,'Entry List'!$A$1:$F$61,B$5,FALSE)),\"\",VLOOKUP($A168,'Entry List'!$A$1:$F$61,B$5,FALSE))","v":""},{"$f":"IF(ISNA(VLOOKUP($A168,'Entry List'!$A$1:$F$61,C$5,FALSE)),\"\",VLOOKUP($A168,'Entry List'!$A$1:$F$61,C$5,FALSE))","v":""},{"$f":"IF(ISNA(VLOOKUP($A168,'Entry List'!$A$1:$F$61,D$5,FALSE)),\"\",VLOOKUP($A168,'Entry List'!$A$1:$F$61,D$5,FALSE))","v":""},{"$f":"IF(ISNA(VLOOKUP($A168,'Entry List'!$A$1:$F$61,E$5,FALSE)),\"\",VLOOKUP($A168,'Entry List'!$A$1:$F$61,E$5,FALSE))","v":""},null,"DNS",0,"DNS",0,"DNS",0,"DNS",0,"DNS",0,"DNS",0,"DNS",0,"DNS",0,"DNS",0,"DNS",0,"DNS",0,"DNS",0,"DNS",0,"DNS",0,"DNS",0,"DNS",0,"DNS",0,"DNS",0,"DNS",0,"DNS",0,"DNS",0,"DNS",0,"DNS",0,"DNS",0,"DNS",0,{"$f":"IF('Last Race Results'!$B$5=0,0,IF(ISNA(VLOOKUP($A168,'Last Race Results'!$A$5:$J$44,2,FALSE)),\"DNS\",VLOOKUP($A168,'Last Race Results'!$A$5:$J$44,2,FALSE)))","v":"DNS"},{"$f":"IF('Last Race Results'!$B$5=0,0,IF(ISNA(VLOOKUP($A168,'Last Race Results'!$A$5:$K$44,11,FALSE)),0,VLOOKUP($A168,'Last Race Results'!$A$5:$K$44,11,FALSE)))","v":0},null,null,null,null,null,null,null,null,null,null,null,null,null,null,null,null,null,null,{"$f":"IF('Last Race Results'!$B$5=0,0,IF(ISNA(VLOOKUP($A168,'Last Race Results'!$A$5:$J$44,2,FALSE)),\"DNS\",VLOOKUP($A168,'Last Race Results'!$A$5:$J$44,2,FALSE)))","v":"DNS"},{"$f":"IF('Last Race Results'!$B$5=0,0,IF(ISNA(VLOOKUP($A168,'Last Race Results'!$A$5:$J$44,11,FALSE)),0,VLOOKUP($A168,'Last Race Results'!$A$5:$J$44,11,FALSE)))","v":0}]
[152,{"$f":"IF(ISNA(VLOOKUP($A169,'Entry List'!$A$1:$F$61,B$5,FALSE)),\"\",VLOOKUP($A169,'Entry List'!$A$1:$F$61,B$5,FALSE))","v":""},{"$f":"IF(ISNA(VLOOKUP($A169,'Entry List'!$A$1:$F$61,C$5,FALSE)),\"\",VLOOKUP($A169,'Entry List'!$A$1:$F$61,C$5,FALSE))","v":""},{"$f":"IF(ISNA(VLOOKUP($A169,'Entry List'!$A$1:$F$61,D$5,FALSE)),\"\",VLOOKUP($A169,'Entry List'!$A$1:$F$61,D$5,FALSE))","v":""},{"$f":"IF(ISNA(VLOOKUP($A169,'Entry List'!$A$1:$F$61,E$5,FALSE)),\"\",VLOOKUP($A169,'Entry List'!$A$1:$F$61,E$5,FALSE))","v":""},null,"DNS",0,"DNS",0,"DNS",0,"DNS",0,"DNS",0,"DNS",0,"DNS",0,"DNS",0,"DNS",0,"DNS",0,"DNS",0,"DNS",0,"DNS",0,"DNS",0,"DNS",0,"DNS",0,"DNS",0,"DNS",0,"DNS",0,"DNS",0,"DNS",0,"DNS",0,"DNS",0,"DNS",0,"DNS",0,{"$f":"IF('Last Race Results'!$B$5=0,0,IF(ISNA(VLOOKUP($A169,'Last Race Results'!$A$5:$J$44,2,FALSE)),\"DNS\",VLOOKUP($A169,'Last Race Results'!$A$5:$J$44,2,FALSE)))","v":"DNS"},{"$f":"IF('Last Race Results'!$B$5=0,0,IF(ISNA(VLOOKUP($A169,'Last Race Results'!$A$5:$K$44,11,FALSE)),0,VLOOKUP($A169,'Last Race Results'!$A$5:$K$44,11,FALSE)))","v":0},null,null,null,null,null,null,null,null,null,null,null,null,null,null,null,null,null,null,{"$f":"IF('Last Race Results'!$B$5=0,0,IF(ISNA(VLOOKUP($A169,'Last Race Results'!$A$5:$J$44,2,FALSE)),\"DNS\",VLOOKUP($A169,'Last Race Results'!$A$5:$J$44,2,FALSE)))","v":"DNS"},{"$f":"IF('Last Race Results'!$B$5=0,0,IF(ISNA(VLOOKUP($A169,'Last Race Results'!$A$5:$J$44,11,FALSE)),0,VLOOKUP($A169,'Last Race Results'!$A$5:$J$44,11,FALSE)))","v":0}]
[153,{"$f":"IF(ISNA(VLOOKUP($A170,'Entry List'!$A$1:$F$61,B$5,FALSE)),\"\",VLOOKUP($A170,'Entry List'!$A$1:$F$61,B$5,FALSE))","v":""},{"$f":"IF(ISNA(VLOOKUP($A170,'Entry List'!$A$1:$F$61,C$5,FALSE)),\"\",VLOOKUP($A170,'Entry List'!$A$1:$F$61,C$5,FALSE))","v":""},{"$f":"IF(ISNA(VLOOKUP($A170,'Entry List'!$A$1:$F$61,D$5,FALSE)),\"\",VLOOKUP($A170,'Entry List'!$A$1:$F$61,D$5,FALSE))","v":""},{"$f":"IF(ISNA(VLOOKUP($A170,'Entry List'!$A$1:$F$61,E$5,FALSE)),\"\",VLOOKUP($A170,'Entry List'!$A$1:$F$61,E$5,FALSE))","v":""},null,"DNS",0,"DNS",0,"DNS",0,"DNS",0,"DNS",0,"DNS",0,"DNS",0,"DNS",0,"DNS",0,"DNS",0,"DNS",0,"DNS",0,"DNS",0,"DNS",0,"DNS",0,"DNS",0,"DNS",0,"DNS",0,"DNS",0,"DNS",0,"DNS",0,"DNS",0,"DNS",0,"DNS",0,"DNS",0,{"$f":"IF('Last Race Results'!$B$5=0,0,IF(ISNA(VLOOKUP($A170,'Last Race Results'!$A$5:$J$44,2,FALSE)),\"DNS\",VLOOKUP($A170,'Last Race Results'!$A$5:$J$44,2,FALSE)))","v":"DNS"},{"$f":"IF('Last Race Results'!$B$5=0,0,IF(ISNA(VLOOKUP($A170,'Last Race Results'!$A$5:$K$44,11,FALSE)),0,VLOOKUP($A170,'Last Race Results'!$A$5:$K$44,11,FALSE)))","v":0},null,null,null,null,null,null,null,null,null,null,null,null,null,null,null,null,null,null,{"$f":"IF('Last Race Results'!$B$5=0,0,IF(ISNA(VLOOKUP($A170,'Last Race Results'!$A$5:$J$44,2,FALSE)),\"DNS\",VLOOKUP($A170,'Last Race Results'!$A$5:$J$44,2,FALSE)))","v":"DNS"},{"$f":"IF('Last Race Results'!$B$5=0,0,IF(ISNA(VLOOKUP($A170,'Last Race Results'!$A$5:$J$44,11,FALSE)),0,VLOOKUP($A170,'Last Race Results'!$A$5:$J$44,11,FALSE)))","v":0}]
[154,{"$f":"IF(ISNA(VLOOKUP($A171,'Entry List'!$A$1:$F$61,B$5,FALSE)),\"\",VLOOKUP($A171,'Entry List'!$A$1:$F$61,B$5,FALSE))","v":""},{"$f":"IF(ISNA(VLOOKUP($A171,'Entry List'!$A$1:$F$61,C$5,FALSE)),\"\",VLOOKUP($A171,'Entry List'!$A$1:$F$61,C$5,FALSE))","v":""},{"$f":"IF(ISNA(VLOOKUP($A171,'Entry List'!$A$1:$F$61,D$5,FALSE)),\"\",VLOOKUP($A171,'Entry List'!$A$1:$F$61,D$5,FALSE))","v":""},{"$f":"IF(ISNA(VLOOKUP($A171,'Entry List'!$A$1:$F$61,E$5,FALSE)),\"\",VLOOKUP($A171,'Entry List'!$A$1:$F$61,E$5,FALSE))","v":""},null,"DNS",0,"DNS",0,"DNS",0,"DNS",0,"DNS",0,"DNS",0,"DNS",0,"DNS",0,"DNS",0,"DNS",0,"DNS",0,"DNS",0,"DNS",0,"DNS",0,"DNS",0,"DNS",0,"DNS",0,"DNS",0,"DNS",0,"DNS",0,"DNS",0,"DNS",0,"DNS",0,"DNS",0,"DNS",0,{"$f":"IF('Last Race Results'!$B$5=0,0,IF(ISNA(VLOOKUP($A171,'Last Race Results'!$A$5:$J$44,2,FALSE)),\"DNS\",VLOOKUP($A171,'Last Race Results'!$A$5:$J$44,2,FALSE)))","v":"DNS"},{"$f":"IF('Last Race Results'!$B$5=0,0,IF(ISNA(VLOOKUP($A171,'Last Race Results'!$A$5:$K$44,11,FALSE)),0,VLOOKUP($A171,'Last Race Results'!$A$5:$K$44,11,FALSE)))","v":0},null,null,null,null,null,null,null,null,null,null,null,null,null,null,null,null,null,null,{"$f":"IF('Last Race Results'!$B$5=0,0,IF(ISNA(VLOOKUP($A171,'Last Race Results'!$A$5:$J$44,2,FALSE)),\"DNS\",VLOOKUP($A171,'Last Race Results'!$A$5:$J$44,2,FALSE)))","v":"DNS"},{"$f":"IF('Last Race Results'!$B$5=0,0,IF(ISNA(VLOOKUP($A171,'Last Race Results'!$A$5:$J$44,11,FALSE)),0,VLOOKUP($A171,'Last Race Results'!$A$5:$J$44,11,FALSE)))","v":0}]
[155,{"$f":"IF(ISNA(VLOOKUP($A172,'Entry List'!$A$1:$F$61,B$5,FALSE)),\"\",VLOOKUP($A172,'Entry List'!$A$1:$F$61,B$5,FALSE))","v":""},{"$f":"IF(ISNA(VLOOKUP($A172,'Entry List'!$A$1:$F$61,C$5,FALSE)),\"\",VLOOKUP($A172,'Entry List'!$A$1:$F$61,C$5,FALSE))","v":""},{"$f":"IF(ISNA(VLOOKUP($A172,'Entry List'!$A$1:$F$61,D$5,FALSE)),\"\",VLOOKUP($A172,'Entry List'!$A$1:$F$61,D$5,FALSE))","v":""},{"$f":"IF(ISNA(VLOOKUP($A172,'Entry List'!$A$1:$F$61,E$5,FALSE)),\"\",VLOOKUP($A172,'Entry List'!$A$1:$F$61,E$5,FALSE))","v":""},null,"DNS",0,"DNS",0,"DNS",0,"DNS",0,"DNS",0,"DNS",0,"DNS",0,"DNS",0,"DNS",0,"DNS",0,"DNS",0,"DNS",0,"DNS",0,"DNS",0,"DNS",0,"DNS",0,"DNS",0,"DNS",0,"DNS",0,"DNS",0,"DNS",0,"DNS",0,"DNS",0,"DNS",0,"DNS",0,{"$f":"IF('Last Race Results'!$B$5=0,0,IF(ISNA(VLOOKUP($A172,'Last Race Results'!$A$5:$J$44,2,FALSE)),\"DNS\",VLOOKUP($A172,'Last Race Results'!$A$5:$J$44,2,FALSE)))","v":"DNS"},{"$f":"IF('Last Race Results'!$B$5=0,0,IF(ISNA(VLOOKUP($A172,'Last Race Results'!$A$5:$K$44,11,FALSE)),0,VLOOKUP($A172,'Last Race Results'!$A$5:$K$44,11,FALSE)))","v":0},null,null,null,null,null,null,null,null,null,null,null,null,null,null,null,null,null,null,{"$f":"IF('Last Race Results'!$B$5=0,0,IF(ISNA(VLOOKUP($A172,'Last Race Results'!$A$5:$J$44,2,FALSE)),\"DNS\",VLOOKUP($A172,'Last Race Results'!$A$5:$J$44,2,FALSE)))","v":"DNS"},{"$f":"IF('Last Race Results'!$B$5=0,0,IF(ISNA(VLOOKUP($A172,'Last Race Results'!$A$5:$J$44,11,FALSE)),0,VLOOKUP($A172,'Last Race Results'!$A$5:$J$44,11,FALSE)))","v":0}]
[156,{"$f":"IF(ISNA(VLOOKUP($A173,'Entry List'!$A$1:$F$61,B$5,FALSE)),\"\",VLOOKUP($A173,'Entry List'!$A$1:$F$61,B$5,FALSE))","v":""},{"$f":"IF(ISNA(VLOOKUP($A173,'Entry List'!$A$1:$F$61,C$5,FALSE)),\"\",VLOOKUP($A173,'Entry List'!$A$1:$F$61,C$5,FALSE))","v":""},{"$f":"IF(ISNA(VLOOKUP($A173,'Entry List'!$A$1:$F$61,D$5,FALSE)),\"\",VLOOKUP($A173,'Entry List'!$A$1:$F$61,D$5,FALSE))","v":""},{"$f":"IF(ISNA(VLOOKUP($A173,'Entry List'!$A$1:$F$61,E$5,FALSE)),\"\",VLOOKUP($A173,'Entry List'!$A$1:$F$61,E$5,FALSE))","v":""},null,"DNS",0,"DNS",0,"DNS",0,"DNS",0,"DNS",0,"DNS",0,"DNS",0,"DNS",0,"DNS",0,"DNS",0,"DNS",0,"DNS",0,"DNS",0,"DNS",0,"DNS",0,"DNS",0,"DNS",0,"DNS",0,"DNS",0,"DNS",0,"DNS",0,"DNS",0,"DNS",0,"DNS",0,"DNS",0,{"$f":"IF('Last Race Results'!$B$5=0,0,IF(ISNA(VLOOKUP($A173,'Last Race Results'!$A$5:$J$44,2,FALSE)),\"DNS\",VLOOKUP($A173,'Last Race Results'!$A$5:$J$44,2,FALSE)))","v":"DNS"},{"$f":"IF('Last Race Results'!$B$5=0,0,IF(ISNA(VLOOKUP($A173,'Last Race Results'!$A$5:$K$44,11,FALSE)),0,VLOOKUP($A173,'Last Race Results'!$A$5:$K$44,11,FALSE)))","v":0},null,null,null,null,null,null,null,null,null,null,null,null,null,null,null,null,null,null,{"$f":"IF('Last Race Results'!$B$5=0,0,IF(ISNA(VLOOKUP($A173,'Last Race Results'!$A$5:$J$44,2,FALSE)),\"DNS\",VLOOKUP($A173,'Last Race Results'!$A$5:$J$44,2,FALSE)))","v":"DNS"},{"$f":"IF('Last Race Results'!$B$5=0,0,IF(ISNA(VLOOKUP($A173,'Last Race Results'!$A$5:$J$44,11,FALSE)),0,VLOOKUP($A173,'Last Race Results'!$A$5:$J$44,11,FALSE)))","v":0}]
[157,{"$f":"IF(ISNA(VLOOKUP($A174,'Entry List'!$A$1:$F$61,B$5,FALSE)),\"\",VLOOKUP($A174,'Entry List'!$A$1:$F$61,B$5,FALSE))","v":""},{"$f":"IF(ISNA(VLOOKUP($A174,'Entry List'!$A$1:$F$61,C$5,FALSE)),\"\",VLOOKUP($A174,'Entry List'!$A$1:$F$61,C$5,FALSE))","v":""},{"$f":"IF(ISNA(VLOOKUP($A174,'Entry List'!$A$1:$F$61,D$5,FALSE)),\"\",VLOOKUP($A174,'Entry List'!$A$1:$F$61,D$5,FALSE))","v":""},{"$f":"IF(ISNA(VLOOKUP($A174,'Entry List'!$A$1:$F$61,E$5,FALSE)),\"\",VLOOKUP($A174,'Entry List'!$A$1:$F$61,E$5,FALSE))","v":""},null,"DNS",0,"DNS",0,"DNS",0,"DNS",0,"DNS",0,"DNS",0,"DNS",0,"DNS",0,"DNS",0,"DNS",0,"DNS",0,"DNS",0,"DNS",0,"DNS",0,"DNS",0,"DNS",0,"DNS",0,"DNS",0,"DNS",0,"DNS",0,"DNS",0,"DNS",0,"DNS",0,"DNS",0,"DNS",0,{"$f":"IF('Last Race Results'!$B$5=0,0,IF(ISNA(VLOOKUP($A174,'Last Race Results'!$A$5:$J$44,2,FALSE)),\"DNS\",VLOOKUP($A174,'Last Race Results'!$A$5:$J$44,2,FALSE)))","v":"DNS"},{"$f":"IF('Last Race Results'!$B$5=0,0,IF(ISNA(VLOOKUP($A174,'Last Race Results'!$A$5:$K$44,11,FALSE)),0,VLOOKUP($A174,'Last Race Results'!$A$5:$K$44,11,FALSE)))","v":0},null,null,null,null,null,null,null,null,null,null,null,null,null,null,null,null,null,null,{"$f":"IF('Last Race Results'!$B$5=0,0,IF(ISNA(VLOOKUP($A174,'Last Race Results'!$A$5:$J$44,2,FALSE)),\"DNS\",VLOOKUP($A174,'Last Race Results'!$A$5:$J$44,2,FALSE)))","v":"DNS"},{"$f":"IF('Last Race Results'!$B$5=0,0,IF(ISNA(VLOOKUP($A174,'Last Race Results'!$A$5:$J$44,11,FALSE)),0,VLOOKUP($A174,'Last Race Results'!$A$5:$J$44,11,FALSE)))","v":0}]
[158,{"$f":"IF(ISNA(VLOOKUP($A175,'Entry List'!$A$1:$F$61,B$5,FALSE)),\"\",VLOOKUP($A175,'Entry List'!$A$1:$F$61,B$5,FALSE))","v":""},{"$f":"IF(ISNA(VLOOKUP($A175,'Entry List'!$A$1:$F$61,C$5,FALSE)),\"\",VLOOKUP($A175,'Entry List'!$A$1:$F$61,C$5,FALSE))","v":""},{"$f":"IF(ISNA(VLOOKUP($A175,'Entry List'!$A$1:$F$61,D$5,FALSE)),\"\",VLOOKUP($A175,'Entry List'!$A$1:$F$61,D$5,FALSE))","v":""},{"$f":"IF(ISNA(VLOOKUP($A175,'Entry List'!$A$1:$F$61,E$5,FALSE)),\"\",VLOOKUP($A175,'Entry List'!$A$1:$F$61,E$5,FALSE))","v":""},null,"DNS",0,"DNS",0,"DNS",0,"DNS",0,"DNS",0,"DNS",0,"DNS",0,"DNS",0,"DNS",0,"DNS",0,"DNS",0,"DNS",0,"DNS",0,"DNS",0,"DNS",0,"DNS",0,"DNS",0,"DNS",0,"DNS",0,"DNS",0,"DNS",0,"DNS",0,"DNS",0,"DNS",0,"DNS",0,{"$f":"IF('Last Race Results'!$B$5=0,0,IF(ISNA(VLOOKUP($A175,'Last Race Results'!$A$5:$J$44,2,FALSE)),\"DNS\",VLOOKUP($A175,'Last Race Results'!$A$5:$J$44,2,FALSE)))","v":"DNS"},{"$f":"IF('Last Race Results'!$B$5=0,0,IF(ISNA(VLOOKUP($A175,'Last Race Results'!$A$5:$K$44,11,FALSE)),0,VLOOKUP($A175,'Last Race Results'!$A$5:$K$44,11,FALSE)))","v":0},null,null,null,null,null,null,null,null,null,null,null,null,null,null,null,null,null,null,{"$f":"IF('Last Race Results'!$B$5=0,0,IF(ISNA(VLOOKUP($A175,'Last Race Results'!$A$5:$J$44,2,FALSE)),\"DNS\",VLOOKUP($A175,'Last Race Results'!$A$5:$J$44,2,FALSE)))","v":"DNS"},{"$f":"IF('Last Race Results'!$B$5=0,0,IF(ISNA(VLOOKUP($A175,'Last Race Results'!$A$5:$J$44,11,FALSE)),0,VLOOKUP($A175,'Last Race Results'!$A$5:$J$44,11,FALSE)))","v":0}]
[159,{"$f":"IF(ISNA(VLOOKUP($A176,'Entry List'!$A$1:$F$61,B$5,FALSE)),\"\",VLOOKUP($A176,'Entry List'!$A$1:$F$61,B$5,FALSE))","v":""},{"$f":"IF(ISNA(VLOOKUP($A176,'Entry List'!$A$1:$F$61,C$5,FALSE)),\"\",VLOOKUP($A176,'Entry List'!$A$1:$F$61,C$5,FALSE))","v":""},{"$f":"IF(ISNA(VLOOKUP($A176,'Entry List'!$A$1:$F$61,D$5,FALSE)),\"\",VLOOKUP($A176,'Entry List'!$A$1:$F$61,D$5,FALSE))","v":""},{"$f":"IF(ISNA(VLOOKUP($A176,'Entry List'!$A$1:$F$61,E$5,FALSE)),\"\",VLOOKUP($A176,'Entry List'!$A$1:$F$61,E$5,FALSE))","v":""},null,"DNS",0,"DNS",0,"DNS",0,"DNS",0,"DNS",0,"DNS",0,"DNS",0,"DNS",0,"DNS",0,"DNS",0,"DNS",0,"DNS",0,"DNS",0,"DNS",0,"DNS",0,"DNS",0,"DNS",0,"DNS",0,"DNS",0,"DNS",0,"DNS",0,"DNS",0,"DNS",0,"DNS",0,"DNS",0,{"$f":"IF('Last Race Results'!$B$5=0,0,IF(ISNA(VLOOKUP($A176,'Last Race Results'!$A$5:$J$44,2,FALSE)),\"DNS\",VLOOKUP($A176,'Last Race Results'!$A$5:$J$44,2,FALSE)))","v":"DNS"},{"$f":"IF('Last Race Results'!$B$5=0,0,IF(ISNA(VLOOKUP($A176,'Last Race Results'!$A$5:$K$44,11,FALSE)),0,VLOOKUP($A176,'Last Race Results'!$A$5:$K$44,11,FALSE)))","v":0},null,null,null,null,null,null,null,null,null,null,null,null,null,null,null,null,null,null,{"$f":"IF('Last Race Results'!$B$5=0,0,IF(ISNA(VLOOKUP($A176,'Last Race Results'!$A$5:$J$44,2,FALSE)),\"DNS\",VLOOKUP($A176,'Last Race Results'!$A$5:$J$44,2,FALSE)))","v":"DNS"},{"$f":"IF('Last Race Results'!$B$5=0,0,IF(ISNA(VLOOKUP($A176,'Last Race Results'!$A$5:$J$44,11,FALSE)),0,VLOOKUP($A176,'Last Race Results'!$A$5:$J$44,11,FALSE)))","v":0}]
[160,{"$f":"IF(ISNA(VLOOKUP($A177,'Entry List'!$A$1:$F$61,B$5,FALSE)),\"\",VLOOKUP($A177,'Entry List'!$A$1:$F$61,B$5,FALSE))","v":""},{"$f":"IF(ISNA(VLOOKUP($A177,'Entry List'!$A$1:$F$61,C$5,FALSE)),\"\",VLOOKUP($A177,'Entry List'!$A$1:$F$61,C$5,FALSE))","v":""},{"$f":"IF(ISNA(VLOOKUP($A177,'Entry List'!$A$1:$F$61,D$5,FALSE)),\"\",VLOOKUP($A177,'Entry List'!$A$1:$F$61,D$5,FALSE))","v":""},{"$f":"IF(ISNA(VLOOKUP($A177,'Entry List'!$A$1:$F$61,E$5,FALSE)),\"\",VLOOKUP($A177,'Entry List'!$A$1:$F$61,E$5,FALSE))","v":""},null,"DNS",0,"DNS",0,"DNS",0,"DNS",0,"DNS",0,"DNS",0,"DNS",0,"DNS",0,"DNS",0,"DNS",0,"DNS",0,"DNS",0,"DNS",0,"DNS",0,"DNS",0,"DNS",0,"DNS",0,"DNS",0,"DNS",0,"DNS",0,"DNS",0,"DNS",0,"DNS",0,"DNS",0,"DNS",0,{"$f":"IF('Last Race Results'!$B$5=0,0,IF(ISNA(VLOOKUP($A177,'Last Race Results'!$A$5:$J$44,2,FALSE)),\"DNS\",VLOOKUP($A177,'Last Race Results'!$A$5:$J$44,2,FALSE)))","v":"DNS"},{"$f":"IF('Last Race Results'!$B$5=0,0,IF(ISNA(VLOOKUP($A177,'Last Race Results'!$A$5:$K$44,11,FALSE)),0,VLOOKUP($A177,'Last Race Results'!$A$5:$K$44,11,FALSE)))","v":0},null,null,null,null,null,null,null,null,null,null,null,null,null,null,null,null,null,null,{"$f":"IF('Last Race Results'!$B$5=0,0,IF(ISNA(VLOOKUP($A177,'Last Race Results'!$A$5:$J$44,2,FALSE)),\"DNS\",VLOOKUP($A177,'Last Race Results'!$A$5:$J$44,2,FALSE)))","v":"DNS"},{"$f":"IF('Last Race Results'!$B$5=0,0,IF(ISNA(VLOOKUP($A177,'Last Race Results'!$A$5:$J$44,11,FALSE)),0,VLOOKUP($A177,'Last Race Results'!$A$5:$J$44,11,FALSE)))","v":0}]
[161,{"$f":"IF(ISNA(VLOOKUP($A178,'Entry List'!$A$1:$F$61,B$5,FALSE)),\"\",VLOOKUP($A178,'Entry List'!$A$1:$F$61,B$5,FALSE))","v":""},{"$f":"IF(ISNA(VLOOKUP($A178,'Entry List'!$A$1:$F$61,C$5,FALSE)),\"\",VLOOKUP($A178,'Entry List'!$A$1:$F$61,C$5,FALSE))","v":""},{"$f":"IF(ISNA(VLOOKUP($A178,'Entry List'!$A$1:$F$61,D$5,FALSE)),\"\",VLOOKUP($A178,'Entry List'!$A$1:$F$61,D$5,FALSE))","v":""},{"$f":"IF(ISNA(VLOOKUP($A178,'Entry List'!$A$1:$F$61,E$5,FALSE)),\"\",VLOOKUP($A178,'Entry List'!$A$1:$F$61,E$5,FALSE))","v":""},null,"DNS",0,"DNS",0,"DNS",0,"DNS",0,"DNS",0,"DNS",0,"DNS",0,"DNS",0,"DNS",0,"DNS",0,"DNS",0,"DNS",0,"DNS",0,"DNS",0,"DNS",0,"DNS",0,"DNS",0,"DNS",0,"DNS",0,"DNS",0,"DNS",0,"DNS",0,"DNS",0,"DNS",0,"DNS",0,{"$f":"IF('Last Race Results'!$B$5=0,0,IF(ISNA(VLOOKUP($A178,'Last Race Results'!$A$5:$J$44,2,FALSE)),\"DNS\",VLOOKUP($A178,'Last Race Results'!$A$5:$J$44,2,FALSE)))","v":"DNS"},{"$f":"IF('Last Race Results'!$B$5=0,0,IF(ISNA(VLOOKUP($A178,'Last Race Results'!$A$5:$K$44,11,FALSE)),0,VLOOKUP($A178,'Last Race Results'!$A$5:$K$44,11,FALSE)))","v":0},null,null,null,null,null,null,null,null,null,null,null,null,null,null,null,null,null,null,{"$f":"IF('Last Race Results'!$B$5=0,0,IF(ISNA(VLOOKUP($A178,'Last Race Results'!$A$5:$J$44,2,FALSE)),\"DNS\",VLOOKUP($A178,'Last Race Results'!$A$5:$J$44,2,FALSE)))","v":"DNS"},{"$f":"IF('Last Race Results'!$B$5=0,0,IF(ISNA(VLOOKUP($A178,'Last Race Results'!$A$5:$J$44,11,FALSE)),0,VLOOKUP($A178,'Last Race Results'!$A$5:$J$44,11,FALSE)))","v":0}]
[162,{"$f":"IF(ISNA(VLOOKUP($A179,'Entry List'!$A$1:$F$61,B$5,FALSE)),\"\",VLOOKUP($A179,'Entry List'!$A$1:$F$61,B$5,FALSE))","v":""},{"$f":"IF(ISNA(VLOOKUP($A179,'Entry List'!$A$1:$F$61,C$5,FALSE)),\"\",VLOOKUP($A179,'Entry List'!$A$1:$F$61,C$5,FALSE))","v":""},{"$f":"IF(ISNA(VLOOKUP($A179,'Entry List'!$A$1:$F$61,D$5,FALSE)),\"\",VLOOKUP($A179,'Entry List'!$A$1:$F$61,D$5,FALSE))","v":""},{"$f":"IF(ISNA(VLOOKUP($A179,'Entry List'!$A$1:$F$61,E$5,FALSE)),\"\",VLOOKUP($A179,'Entry List'!$A$1:$F$61,E$5,FALSE))","v":""},null,"DNS",0,"DNS",0,"DNS",0,"DNS",0,"DNS",0,"DNS",0,"DNS",0,"DNS",0,"DNS",0,"DNS",0,"DNS",0,"DNS",0,"DNS",0,"DNS",0,"DNS",0,"DNS",0,"DNS",0,"DNS",0,"DNS",0,"DNS",0,"DNS",0,"DNS",0,"DNS",0,"DNS",0,"DNS",0,{"$f":"IF('Last Race Results'!$B$5=0,0,IF(ISNA(VLOOKUP($A179,'Last Race Results'!$A$5:$J$44,2,FALSE)),\"DNS\",VLOOKUP($A179,'Last Race Results'!$A$5:$J$44,2,FALSE)))","v":"DNS"},{"$f":"IF('Last Race Results'!$B$5=0,0,IF(ISNA(VLOOKUP($A179,'Last Race Results'!$A$5:$K$44,11,FALSE)),0,VLOOKUP($A179,'Last Race Results'!$A$5:$K$44,11,FALSE)))","v":0},null,null,null,null,null,null,null,null,null,null,null,null,null,null,null,null,null,null,{"$f":"IF('Last Race Results'!$B$5=0,0,IF(ISNA(VLOOKUP($A179,'Last Race Results'!$A$5:$J$44,2,FALSE)),\"DNS\",VLOOKUP($A179,'Last Race Results'!$A$5:$J$44,2,FALSE)))","v":"DNS"},{"$f":"IF('Last Race Results'!$B$5=0,0,IF(ISNA(VLOOKUP($A179,'Last Race Results'!$A$5:$J$44,11,FALSE)),0,VLOOKUP($A179,'Last Race Results'!$A$5:$J$44,11,FALSE)))","v":0}]
[163,{"$f":"IF(ISNA(VLOOKUP($A180,'Entry List'!$A$1:$F$61,B$5,FALSE)),\"\",VLOOKUP($A180,'Entry List'!$A$1:$F$61,B$5,FALSE))","v":""},{"$f":"IF(ISNA(VLOOKUP($A180,'Entry List'!$A$1:$F$61,C$5,FALSE)),\"\",VLOOKUP($A180,'Entry List'!$A$1:$F$61,C$5,FALSE))","v":""},{"$f":"IF(ISNA(VLOOKUP($A180,'Entry List'!$A$1:$F$61,D$5,FALSE)),\"\",VLOOKUP($A180,'Entry List'!$A$1:$F$61,D$5,FALSE))","v":""},{"$f":"IF(ISNA(VLOOKUP($A180,'Entry List'!$A$1:$F$61,E$5,FALSE)),\"\",VLOOKUP($A180,'Entry List'!$A$1:$F$61,E$5,FALSE))","v":""},null,"DNS",0,"DNS",0,"DNS",0,"DNS",0,"DNS",0,"DNS",0,"DNS",0,"DNS",0,"DNS",0,"DNS",0,"DNS",0,"DNS",0,"DNS",0,"DNS",0,"DNS",0,"DNS",0,"DNS",0,"DNS",0,"DNS",0,"DNS",0,"DNS",0,"DNS",0,"DNS",0,"DNS",0,"DNS",0,{"$f":"IF('Last Race Results'!$B$5=0,0,IF(ISNA(VLOOKUP($A180,'Last Race Results'!$A$5:$J$44,2,FALSE)),\"DNS\",VLOOKUP($A180,'Last Race Results'!$A$5:$J$44,2,FALSE)))","v":"DNS"},{"$f":"IF('Last Race Results'!$B$5=0,0,IF(ISNA(VLOOKUP($A180,'Last Race Results'!$A$5:$K$44,11,FALSE)),0,VLOOKUP($A180,'Last Race Results'!$A$5:$K$44,11,FALSE)))","v":0},null,null,null,null,null,null,null,null,null,null,null,null,null,null,null,null,null,null,{"$f":"IF('Last Race Results'!$B$5=0,0,IF(ISNA(VLOOKUP($A180,'Last Race Results'!$A$5:$J$44,2,FALSE)),\"DNS\",VLOOKUP($A180,'Last Race Results'!$A$5:$J$44,2,FALSE)))","v":"DNS"},{"$f":"IF('Last Race Results'!$B$5=0,0,IF(ISNA(VLOOKUP($A180,'Last Race Results'!$A$5:$J$44,11,FALSE)),0,VLOOKUP($A180,'Last Race Results'!$A$5:$J$44,11,FALSE)))","v":0}]
[164,{"$f":"IF(ISNA(VLOOKUP($A181,'Entry List'!$A$1:$F$61,B$5,FALSE)),\"\",VLOOKUP($A181,'Entry List'!$A$1:$F$61,B$5,FALSE))","v":""},{"$f":"IF(ISNA(VLOOKUP($A181,'Entry List'!$A$1:$F$61,C$5,FALSE)),\"\",VLOOKUP($A181,'Entry List'!$A$1:$F$61,C$5,FALSE))","v":""},{"$f":"IF(ISNA(VLOOKUP($A181,'Entry List'!$A$1:$F$61,D$5,FALSE)),\"\",VLOOKUP($A181,'Entry List'!$A$1:$F$61,D$5,FALSE))","v":""},{"$f":"IF(ISNA(VLOOKUP($A181,'Entry List'!$A$1:$F$61,E$5,FALSE)),\"\",VLOOKUP($A181,'Entry List'!$A$1:$F$61,E$5,FALSE))","v":""},null,"DNS",0,"DNS",0,"DNS",0,"DNS",0,"DNS",0,"DNS",0,"DNS",0,"DNS",0,"DNS",0,"DNS",0,"DNS",0,"DNS",0,"DNS",0,"DNS",0,"DNS",0,"DNS",0,"DNS",0,"DNS",0,"DNS",0,"DNS",0,"DNS",0,"DNS",0,"DNS",0,"DNS",0,"DNS",0,{"$f":"IF('Last Race Results'!$B$5=0,0,IF(ISNA(VLOOKUP($A181,'Last Race Results'!$A$5:$J$44,2,FALSE)),\"DNS\",VLOOKUP($A181,'Last Race Results'!$A$5:$J$44,2,FALSE)))","v":"DNS"},{"$f":"IF('Last Race Results'!$B$5=0,0,IF(ISNA(VLOOKUP($A181,'Last Race Results'!$A$5:$K$44,11,FALSE)),0,VLOOKUP($A181,'Last Race Results'!$A$5:$K$44,11,FALSE)))","v":0},null,null,null,null,null,null,null,null,null,null,null,null,null,null,null,null,null,null,{"$f":"IF('Last Race Results'!$B$5=0,0,IF(ISNA(VLOOKUP($A181,'Last Race Results'!$A$5:$J$44,2,FALSE)),\"DNS\",VLOOKUP($A181,'Last Race Results'!$A$5:$J$44,2,FALSE)))","v":"DNS"},{"$f":"IF('Last Race Results'!$B$5=0,0,IF(ISNA(VLOOKUP($A181,'Last Race Results'!$A$5:$J$44,11,FALSE)),0,VLOOKUP($A181,'Last Race Results'!$A$5:$J$44,11,FALSE)))","v":0}]
[165,{"$f":"IF(ISNA(VLOOKUP($A182,'Entry List'!$A$1:$F$61,B$5,FALSE)),\"\",VLOOKUP($A182,'Entry List'!$A$1:$F$61,B$5,FALSE))","v":""},{"$f":"IF(ISNA(VLOOKUP($A182,'Entry List'!$A$1:$F$61,C$5,FALSE)),\"\",VLOOKUP($A182,'Entry List'!$A$1:$F$61,C$5,FALSE))","v":""},{"$f":"IF(ISNA(VLOOKUP($A182,'Entry List'!$A$1:$F$61,D$5,FALSE)),\"\",VLOOKUP($A182,'Entry List'!$A$1:$F$61,D$5,FALSE))","v":""},{"$f":"IF(ISNA(VLOOKUP($A182,'Entry List'!$A$1:$F$61,E$5,FALSE)),\"\",VLOOKUP($A182,'Entry List'!$A$1:$F$61,E$5,FALSE))","v":""},null,"DNS",0,"DNS",0,"DNS",0,"DNS",0,"DNS",0,"DNS",0,"DNS",0,"DNS",0,"DNS",0,"DNS",0,"DNS",0,"DNS",0,"DNS",0,"DNS",0,"DNS",0,"DNS",0,"DNS",0,"DNS",0,"DNS",0,"DNS",0,"DNS",0,"DNS",0,"DNS",0,"DNS",0,"DNS",0,{"$f":"IF('Last Race Results'!$B$5=0,0,IF(ISNA(VLOOKUP($A182,'Last Race Results'!$A$5:$J$44,2,FALSE)),\"DNS\",VLOOKUP($A182,'Last Race Results'!$A$5:$J$44,2,FALSE)))","v":"DNS"},{"$f":"IF('Last Race Results'!$B$5=0,0,IF(ISNA(VLOOKUP($A182,'Last Race Results'!$A$5:$K$44,11,FALSE)),0,VLOOKUP($A182,'Last Race Results'!$A$5:$K$44,11,FALSE)))","v":0},null,null,null,null,null,null,null,null,null,null,null,null,null,null,null,null,null,null,{"$f":"IF('Last Race Results'!$B$5=0,0,IF(ISNA(VLOOKUP($A182,'Last Race Results'!$A$5:$J$44,2,FALSE)),\"DNS\",VLOOKUP($A182,'Last Race Results'!$A$5:$J$44,2,FALSE)))","v":"DNS"},{"$f":"IF('Last Race Results'!$B$5=0,0,IF(ISNA(VLOOKUP($A182,'Last Race Results'!$A$5:$J$44,11,FALSE)),0,VLOOKUP($A182,'Last Race Results'!$A$5:$J$44,11,FALSE)))","v":0}]
[166,{"$f":"IF(ISNA(VLOOKUP($A183,'Entry List'!$A$1:$F$61,B$5,FALSE)),\"\",VLOOKUP($A183,'Entry List'!$A$1:$F$61,B$5,FALSE))","v":""},{"$f":"IF(ISNA(VLOOKUP($A183,'Entry List'!$A$1:$F$61,C$5,FALSE)),\"\",VLOOKUP($A183,'Entry List'!$A$1:$F$61,C$5,FALSE))","v":""},{"$f":"IF(ISNA(VLOOKUP($A183,'Entry List'!$A$1:$F$61,D$5,FALSE)),\"\",VLOOKUP($A183,'Entry List'!$A$1:$F$61,D$5,FALSE))","v":""},{"$f":"IF(ISNA(VLOOKUP($A183,'Entry List'!$A$1:$F$61,E$5,FALSE)),\"\",VLOOKUP($A183,'Entry List'!$A$1:$F$61,E$5,FALSE))","v":""},null,"DNS",0,"DNS",0,"DNS",0,"DNS",0,"DNS",0,"DNS",0,"DNS",0,"DNS",0,"DNS",0,"DNS",0,"DNS",0,"DNS",0,"DNS",0,"DNS",0,"DNS",0,"DNS",0,"DNS",0,"DNS",0,"DNS",0,"DNS",0,"DNS",0,"DNS",0,"DNS",0,"DNS",0,"DNS",0,{"$f":"IF('Last Race Results'!$B$5=0,0,IF(ISNA(VLOOKUP($A183,'Last Race Results'!$A$5:$J$44,2,FALSE)),\"DNS\",VLOOKUP($A183,'Last Race Results'!$A$5:$J$44,2,FALSE)))","v":"DNS"},{"$f":"IF('Last Race Results'!$B$5=0,0,IF(ISNA(VLOOKUP($A183,'Last Race Results'!$A$5:$K$44,11,FALSE)),0,VLOOKUP($A183,'Last Race Results'!$A$5:$K$44,11,FALSE)))","v":0},null,null,null,null,null,null,null,null,null,null,null,null,null,null,null,null,null,null,{"$f":"IF('Last Race Results'!$B$5=0,0,IF(ISNA(VLOOKUP($A183,'Last Race Results'!$A$5:$J$44,2,FALSE)),\"DNS\",VLOOKUP($A183,'Last Race Results'!$A$5:$J$44,2,FALSE)))","v":"DNS"},{"$f":"IF('Last Race Results'!$B$5=0,0,IF(ISNA(VLOOKUP($A183,'Last Race Results'!$A$5:$J$44,11,FALSE)),0,VLOOKUP($A183,'Last Race Results'!$A$5:$J$44,11,FALSE)))","v":0}]
[167,{"$f":"IF(ISNA(VLOOKUP($A184,'Entry List'!$A$1:$F$61,B$5,FALSE)),\"\",VLOOKUP($A184,'Entry List'!$A$1:$F$61,B$5,FALSE))","v":""},{"$f":"IF(ISNA(VLOOKUP($A184,'Entry List'!$A$1:$F$61,C$5,FALSE)),\"\",VLOOKUP($A184,'Entry List'!$A$1:$F$61,C$5,FALSE))","v":""},{"$f":"IF(ISNA(VLOOKUP($A184,'Entry List'!$A$1:$F$61,D$5,FALSE)),\"\",VLOOKUP($A184,'Entry List'!$A$1:$F$61,D$5,FALSE))","v":""},{"$f":"IF(ISNA(VLOOKUP($A184,'Entry List'!$A$1:$F$61,E$5,FALSE)),\"\",VLOOKUP($A184,'Entry List'!$A$1:$F$61,E$5,FALSE))","v":""},null,"DNS",0,"DNS",0,"DNS",0,"DNS",0,"DNS",0,"DNS",0,"DNS",0,"DNS",0,"DNS",0,"DNS",0,"DNS",0,"DNS",0,"DNS",0,"DNS",0,"DNS",0,"DNS",0,"DNS",0,"DNS",0,"DNS",0,"DNS",0,"DNS",0,"DNS",0,"DNS",0,"DNS",0,"DNS",0,{"$f":"IF('Last Race Results'!$B$5=0,0,IF(ISNA(VLOOKUP($A184,'Last Race Results'!$A$5:$J$44,2,FALSE)),\"DNS\",VLOOKUP($A184,'Last Race Results'!$A$5:$J$44,2,FALSE)))","v":"DNS"},{"$f":"IF('Last Race Results'!$B$5=0,0,IF(ISNA(VLOOKUP($A184,'Last Race Results'!$A$5:$K$44,11,FALSE)),0,VLOOKUP($A184,'Last Race Results'!$A$5:$K$44,11,FALSE)))","v":0},null,null,null,null,null,null,null,null,null,null,null,null,null,null,null,null,null,null,{"$f":"IF('Last Race Results'!$B$5=0,0,IF(ISNA(VLOOKUP($A184,'Last Race Results'!$A$5:$J$44,2,FALSE)),\"DNS\",VLOOKUP($A184,'Last Race Results'!$A$5:$J$44,2,FALSE)))","v":"DNS"},{"$f":"IF('Last Race Results'!$B$5=0,0,IF(ISNA(VLOOKUP($A184,'Last Race Results'!$A$5:$J$44,11,FALSE)),0,VLOOKUP($A184,'Last Race Results'!$A$5:$J$44,11,FALSE)))","v":0}]
[168,{"$f":"IF(ISNA(VLOOKUP($A185,'Entry List'!$A$1:$F$61,B$5,FALSE)),\"\",VLOOKUP($A185,'Entry List'!$A$1:$F$61,B$5,FALSE))","v":""},{"$f":"IF(ISNA(VLOOKUP($A185,'Entry List'!$A$1:$F$61,C$5,FALSE)),\"\",VLOOKUP($A185,'Entry List'!$A$1:$F$61,C$5,FALSE))","v":""},{"$f":"IF(ISNA(VLOOKUP($A185,'Entry List'!$A$1:$F$61,D$5,FALSE)),\"\",VLOOKUP($A185,'Entry List'!$A$1:$F$61,D$5,FALSE))","v":""},{"$f":"IF(ISNA(VLOOKUP($A185,'Entry List'!$A$1:$F$61,E$5,FALSE)),\"\",VLOOKUP($A185,'Entry List'!$A$1:$F$61,E$5,FALSE))","v":""},null,"DNS",0,"DNS",0,"DNS",0,"DNS",0,"DNS",0,"DNS",0,"DNS",0,"DNS",0,"DNS",0,"DNS",0,"DNS",0,"DNS",0,"DNS",0,"DNS",0,"DNS",0,"DNS",0,"DNS",0,"DNS",0,"DNS",0,"DNS",0,"DNS",0,"DNS",0,"DNS",0,"DNS",0,"DNS",0,{"$f":"IF('Last Race Results'!$B$5=0,0,IF(ISNA(VLOOKUP($A185,'Last Race Results'!$A$5:$J$44,2,FALSE)),\"DNS\",VLOOKUP($A185,'Last Race Results'!$A$5:$J$44,2,FALSE)))","v":"DNS"},{"$f":"IF('Last Race Results'!$B$5=0,0,IF(ISNA(VLOOKUP($A185,'Last Race Results'!$A$5:$K$44,11,FALSE)),0,VLOOKUP($A185,'Last Race Results'!$A$5:$K$44,11,FALSE)))","v":0},null,null,null,null,null,null,null,null,null,null,null,null,null,null,null,null,null,null,{"$f":"IF('Last Race Results'!$B$5=0,0,IF(ISNA(VLOOKUP($A185,'Last Race Results'!$A$5:$J$44,2,FALSE)),\"DNS\",VLOOKUP($A185,'Last Race Results'!$A$5:$J$44,2,FALSE)))","v":"DNS"},{"$f":"IF('Last Race Results'!$B$5=0,0,IF(ISNA(VLOOKUP($A185,'Last Race Results'!$A$5:$J$44,11,FALSE)),0,VLOOKUP($A185,'Last Race Results'!$A$5:$J$44,11,FALSE)))","v":0}]
[169,{"$f":"IF(ISNA(VLOOKUP($A186,'Entry List'!$A$1:$F$61,B$5,FALSE)),\"\",VLOOKUP($A186,'Entry List'!$A$1:$F$61,B$5,FALSE))","v":""},{"$f":"IF(ISNA(VLOOKUP($A186,'Entry List'!$A$1:$F$61,C$5,FALSE)),\"\",VLOOKUP($A186,'Entry List'!$A$1:$F$61,C$5,FALSE))","v":""},{"$f":"IF(ISNA(VLOOKUP($A186,'Entry List'!$A$1:$F$61,D$5,FALSE)),\"\",VLOOKUP($A186,'Entry List'!$A$1:$F$61,D$5,FALSE))","v":""},{"$f":"IF(ISNA(VLOOKUP($A186,'Entry List'!$A$1:$F$61,E$5,FALSE)),\"\",VLOOKUP($A186,'Entry List'!$A$1:$F$61,E$5,FALSE))","v":""},null,"DNS",0,"DNS",0,"DNS",0,"DNS",0,"DNS",0,"DNS",0,"DNS",0,"DNS",0,"DNS",0,"DNS",0,"DNS",0,"DNS",0,"DNS",0,"DNS",0,"DNS",0,"DNS",0,"DNS",0,"DNS",0,"DNS",0,"DNS",0,"DNS",0,"DNS",0,"DNS",0,"DNS",0,"DNS",0,{"$f":"IF('Last Race Results'!$B$5=0,0,IF(ISNA(VLOOKUP($A186,'Last Race Results'!$A$5:$J$44,2,FALSE)),\"DNS\",VLOOKUP($A186,'Last Race Results'!$A$5:$J$44,2,FALSE)))","v":"DNS"},{"$f":"IF('Last Race Results'!$B$5=0,0,IF(ISNA(VLOOKUP($A186,'Last Race Results'!$A$5:$K$44,11,FALSE)),0,VLOOKUP($A186,'Last Race Results'!$A$5:$K$44,11,FALSE)))","v":0},null,null,null,null,null,null,null,null,null,null,null,null,null,null,null,null,null,null,{"$f":"IF('Last Race Results'!$B$5=0,0,IF(ISNA(VLOOKUP($A186,'Last Race Results'!$A$5:$J$44,2,FALSE)),\"DNS\",VLOOKUP($A186,'Last Race Results'!$A$5:$J$44,2,FALSE)))","v":"DNS"},{"$f":"IF('Last Race Results'!$B$5=0,0,IF(ISNA(VLOOKUP($A186,'Last Race Results'!$A$5:$J$44,11,FALSE)),0,VLOOKUP($A186,'Last Race Results'!$A$5:$J$44,11,FALSE)))","v":0}]
[170,{"$f":"IF(ISNA(VLOOKUP($A187,'Entry List'!$A$1:$F$61,B$5,FALSE)),\"\",VLOOKUP($A187,'Entry List'!$A$1:$F$61,B$5,FALSE))","v":""},{"$f":"IF(ISNA(VLOOKUP($A187,'Entry List'!$A$1:$F$61,C$5,FALSE)),\"\",VLOOKUP($A187,'Entry List'!$A$1:$F$61,C$5,FALSE))","v":""},{"$f":"IF(ISNA(VLOOKUP($A187,'Entry List'!$A$1:$F$61,D$5,FALSE)),\"\",VLOOKUP($A187,'Entry List'!$A$1:$F$61,D$5,FALSE))","v":""},{"$f":"IF(ISNA(VLOOKUP($A187,'Entry List'!$A$1:$F$61,E$5,FALSE)),\"\",VLOOKUP($A187,'Entry List'!$A$1:$F$61,E$5,FALSE))","v":""},null,"DNS",0,"DNS",0,"DNS",0,"DNS",0,"DNS",0,"DNS",0,"DNS",0,"DNS",0,"DNS",0,"DNS",0,"DNS",0,"DNS",0,"DNS",0,"DNS",0,"DNS",0,"DNS",0,"DNS",0,"DNS",0,"DNS",0,"DNS",0,"DNS",0,"DNS",0,"DNS",0,"DNS",0,"DNS",0,{"$f":"IF('Last Race Results'!$B$5=0,0,IF(ISNA(VLOOKUP($A187,'Last Race Results'!$A$5:$J$44,2,FALSE)),\"DNS\",VLOOKUP($A187,'Last Race Results'!$A$5:$J$44,2,FALSE)))","v":"DNS"},{"$f":"IF('Last Race Results'!$B$5=0,0,IF(ISNA(VLOOKUP($A187,'Last Race Results'!$A$5:$K$44,11,FALSE)),0,VLOOKUP($A187,'Last Race Results'!$A$5:$K$44,11,FALSE)))","v":0},null,null,null,null,null,null,null,null,null,null,null,null,null,null,null,null,null,null,{"$f":"IF('Last Race Results'!$B$5=0,0,IF(ISNA(VLOOKUP($A187,'Last Race Results'!$A$5:$J$44,2,FALSE)),\"DNS\",VLOOKUP($A187,'Last Race Results'!$A$5:$J$44,2,FALSE)))","v":"DNS"},{"$f":"IF('Last Race Results'!$B$5=0,0,IF(ISNA(VLOOKUP($A187,'Last Race Results'!$A$5:$J$44,11,FALSE)),0,VLOOKUP($A187,'Last Race Results'!$A$5:$J$44,11,FALSE)))","v":0}]
[171,{"$f":"IF(ISNA(VLOOKUP($A188,'Entry List'!$A$1:$F$61,B$5,FALSE)),\"\",VLOOKUP($A188,'Entry List'!$A$1:$F$61,B$5,FALSE))","v":""},{"$f":"IF(ISNA(VLOOKUP($A188,'Entry List'!$A$1:$F$61,C$5,FALSE)),\"\",VLOOKUP($A188,'Entry List'!$A$1:$F$61,C$5,FALSE))","v":""},{"$f":"IF(ISNA(VLOOKUP($A188,'Entry List'!$A$1:$F$61,D$5,FALSE)),\"\",VLOOKUP($A188,'Entry List'!$A$1:$F$61,D$5,FALSE))","v":""},{"$f":"IF(ISNA(VLOOKUP($A188,'Entry List'!$A$1:$F$61,E$5,FALSE)),\"\",VLOOKUP($A188,'Entry List'!$A$1:$F$61,E$5,FALSE))","v":""},null,"DNS",0,"DNS",0,"DNS",0,"DNS",0,"DNS",0,"DNS",0,"DNS",0,"DNS",0,"DNS",0,"DNS",0,"DNS",0,"DNS",0,"DNS",0,"DNS",0,"DNS",0,"DNS",0,"DNS",0,"DNS",0,"DNS",0,"DNS",0,"DNS",0,"DNS",0,"DNS",0,"DNS",0,"DNS",0,{"$f":"IF('Last Race Results'!$B$5=0,0,IF(ISNA(VLOOKUP($A188,'Last Race Results'!$A$5:$J$44,2,FALSE)),\"DNS\",VLOOKUP($A188,'Last Race Results'!$A$5:$J$44,2,FALSE)))","v":"DNS"},{"$f":"IF('Last Race Results'!$B$5=0,0,IF(ISNA(VLOOKUP($A188,'Last Race Results'!$A$5:$K$44,11,FALSE)),0,VLOOKUP($A188,'Last Race Results'!$A$5:$K$44,11,FALSE)))","v":0},null,null,null,null,null,null,null,null,null,null,null,null,null,null,null,null,null,null,{"$f":"IF('Last Race Results'!$B$5=0,0,IF(ISNA(VLOOKUP($A188,'Last Race Results'!$A$5:$J$44,2,FALSE)),\"DNS\",VLOOKUP($A188,'Last Race Results'!$A$5:$J$44,2,FALSE)))","v":"DNS"},{"$f":"IF('Last Race Results'!$B$5=0,0,IF(ISNA(VLOOKUP($A188,'Last Race Results'!$A$5:$J$44,11,FALSE)),0,VLOOKUP($A188,'Last Race Results'!$A$5:$J$44,11,FALSE)))","v":0}]
[172,{"$f":"IF(ISNA(VLOOKUP($A189,'Entry List'!$A$1:$F$61,B$5,FALSE)),\"\",VLOOKUP($A189,'Entry List'!$A$1:$F$61,B$5,FALSE))","v":""},{"$f":"IF(ISNA(VLOOKUP($A189,'Entry List'!$A$1:$F$61,C$5,FALSE)),\"\",VLOOKUP($A189,'Entry List'!$A$1:$F$61,C$5,FALSE))","v":""},{"$f":"IF(ISNA(VLOOKUP($A189,'Entry List'!$A$1:$F$61,D$5,FALSE)),\"\",VLOOKUP($A189,'Entry List'!$A$1:$F$61,D$5,FALSE))","v":""},{"$f":"IF(ISNA(VLOOKUP($A189,'Entry List'!$A$1:$F$61,E$5,FALSE)),\"\",VLOOKUP($A189,'Entry List'!$A$1:$F$61,E$5,FALSE))","v":""},null,"DNS",0,"DNS",0,"DNS",0,"DNS",0,"DNS",0,"DNS",0,"DNS",0,"DNS",0,"DNS",0,"DNS",0,"DNS",0,"DNS",0,"DNS",0,"DNS",0,"DNS",0,"DNS",0,"DNS",0,"DNS",0,"DNS",0,"DNS",0,"DNS",0,"DNS",0,"DNS",0,"DNS",0,"DNS",0,{"$f":"IF('Last Race Results'!$B$5=0,0,IF(ISNA(VLOOKUP($A189,'Last Race Results'!$A$5:$J$44,2,FALSE)),\"DNS\",VLOOKUP($A189,'Last Race Results'!$A$5:$J$44,2,FALSE)))","v":"DNS"},{"$f":"IF('Last Race Results'!$B$5=0,0,IF(ISNA(VLOOKUP($A189,'Last Race Results'!$A$5:$K$44,11,FALSE)),0,VLOOKUP($A189,'Last Race Results'!$A$5:$K$44,11,FALSE)))","v":0},null,null,null,null,null,null,null,null,null,null,null,null,null,null,null,null,null,null,{"$f":"IF('Last Race Results'!$B$5=0,0,IF(ISNA(VLOOKUP($A189,'Last Race Results'!$A$5:$J$44,2,FALSE)),\"DNS\",VLOOKUP($A189,'Last Race Results'!$A$5:$J$44,2,FALSE)))","v":"DNS"},{"$f":"IF('Last Race Results'!$B$5=0,0,IF(ISNA(VLOOKUP($A189,'Last Race Results'!$A$5:$J$44,11,FALSE)),0,VLOOKUP($A189,'Last Race Results'!$A$5:$J$44,11,FALSE)))","v":0}]
[173,{"$f":"IF(ISNA(VLOOKUP($A190,'Entry List'!$A$1:$F$61,B$5,FALSE)),\"\",VLOOKUP($A190,'Entry List'!$A$1:$F$61,B$5,FALSE))","v":""},{"$f":"IF(ISNA(VLOOKUP($A190,'Entry List'!$A$1:$F$61,C$5,FALSE)),\"\",VLOOKUP($A190,'Entry List'!$A$1:$F$61,C$5,FALSE))","v":""},{"$f":"IF(ISNA(VLOOKUP($A190,'Entry List'!$A$1:$F$61,D$5,FALSE)),\"\",VLOOKUP($A190,'Entry List'!$A$1:$F$61,D$5,FALSE))","v":""},{"$f":"IF(ISNA(VLOOKUP($A190,'Entry List'!$A$1:$F$61,E$5,FALSE)),\"\",VLOOKUP($A190,'Entry List'!$A$1:$F$61,E$5,FALSE))","v":""},null,"DNS",0,"DNS",0,"DNS",0,"DNS",0,"DNS",0,"DNS",0,"DNS",0,"DNS",0,"DNS",0,"DNS",0,"DNS",0,"DNS",0,"DNS",0,"DNS",0,"DNS",0,"DNS",0,"DNS",0,"DNS",0,"DNS",0,"DNS",0,"DNS",0,"DNS",0,"DNS",0,"DNS",0,"DNS",0,{"$f":"IF('Last Race Results'!$B$5=0,0,IF(ISNA(VLOOKUP($A190,'Last Race Results'!$A$5:$J$44,2,FALSE)),\"DNS\",VLOOKUP($A190,'Last Race Results'!$A$5:$J$44,2,FALSE)))","v":"DNS"},{"$f":"IF('Last Race Results'!$B$5=0,0,IF(ISNA(VLOOKUP($A190,'Last Race Results'!$A$5:$K$44,11,FALSE)),0,VLOOKUP($A190,'Last Race Results'!$A$5:$K$44,11,FALSE)))","v":0},null,null,null,null,null,null,null,null,null,null,null,null,null,null,null,null,null,null,{"$f":"IF('Last Race Results'!$B$5=0,0,IF(ISNA(VLOOKUP($A190,'Last Race Results'!$A$5:$J$44,2,FALSE)),\"DNS\",VLOOKUP($A190,'Last Race Results'!$A$5:$J$44,2,FALSE)))","v":"DNS"},{"$f":"IF('Last Race Results'!$B$5=0,0,IF(ISNA(VLOOKUP($A190,'Last Race Results'!$A$5:$J$44,11,FALSE)),0,VLOOKUP($A190,'Last Race Results'!$A$5:$J$44,11,FALSE)))","v":0}]
[174,{"$f":"IF(ISNA(VLOOKUP($A191,'Entry List'!$A$1:$F$61,B$5,FALSE)),\"\",VLOOKUP($A191,'Entry List'!$A$1:$F$61,B$5,FALSE))","v":""},{"$f":"IF(ISNA(VLOOKUP($A191,'Entry List'!$A$1:$F$61,C$5,FALSE)),\"\",VLOOKUP($A191,'Entry List'!$A$1:$F$61,C$5,FALSE))","v":""},{"$f":"IF(ISNA(VLOOKUP($A191,'Entry List'!$A$1:$F$61,D$5,FALSE)),\"\",VLOOKUP($A191,'Entry List'!$A$1:$F$61,D$5,FALSE))","v":""},{"$f":"IF(ISNA(VLOOKUP($A191,'Entry List'!$A$1:$F$61,E$5,FALSE)),\"\",VLOOKUP($A191,'Entry List'!$A$1:$F$61,E$5,FALSE))","v":""},null,"DNS",0,"DNS",0,"DNS",0,"DNS",0,"DNS",0,"DNS",0,"DNS",0,"DNS",0,"DNS",0,"DNS",0,"DNS",0,"DNS",0,"DNS",0,"DNS",0,"DNS",0,"DNS",0,"DNS",0,"DNS",0,"DNS",0,"DNS",0,"DNS",0,"DNS",0,"DNS",0,"DNS",0,"DNS",0,{"$f":"IF('Last Race Results'!$B$5=0,0,IF(ISNA(VLOOKUP($A191,'Last Race Results'!$A$5:$J$44,2,FALSE)),\"DNS\",VLOOKUP($A191,'Last Race Results'!$A$5:$J$44,2,FALSE)))","v":"DNS"},{"$f":"IF('Last Race Results'!$B$5=0,0,IF(ISNA(VLOOKUP($A191,'Last Race Results'!$A$5:$K$44,11,FALSE)),0,VLOOKUP($A191,'Last Race Results'!$A$5:$K$44,11,FALSE)))","v":0},null,null,null,null,null,null,null,null,null,null,null,null,null,null,null,null,null,null,{"$f":"IF('Last Race Results'!$B$5=0,0,IF(ISNA(VLOOKUP($A191,'Last Race Results'!$A$5:$J$44,2,FALSE)),\"DNS\",VLOOKUP($A191,'Last Race Results'!$A$5:$J$44,2,FALSE)))","v":"DNS"},{"$f":"IF('Last Race Results'!$B$5=0,0,IF(ISNA(VLOOKUP($A191,'Last Race Results'!$A$5:$J$44,11,FALSE)),0,VLOOKUP($A191,'Last Race Results'!$A$5:$J$44,11,FALSE)))","v":0}]
[175,{"$f":"IF(ISNA(VLOOKUP($A192,'Entry List'!$A$1:$F$61,B$5,FALSE)),\"\",VLOOKUP($A192,'Entry List'!$A$1:$F$61,B$5,FALSE))","v":""},{"$f":"IF(ISNA(VLOOKUP($A192,'Entry List'!$A$1:$F$61,C$5,FALSE)),\"\",VLOOKUP($A192,'Entry List'!$A$1:$F$61,C$5,FALSE))","v":""},{"$f":"IF(ISNA(VLOOKUP($A192,'Entry List'!$A$1:$F$61,D$5,FALSE)),\"\",VLOOKUP($A192,'Entry List'!$A$1:$F$61,D$5,FALSE))","v":""},{"$f":"IF(ISNA(VLOOKUP($A192,'Entry List'!$A$1:$F$61,E$5,FALSE)),\"\",VLOOKUP($A192,'Entry List'!$A$1:$F$61,E$5,FALSE))","v":""},null,"DNS",0,"DNS",0,"DNS",0,"DNS",0,"DNS",0,"DNS",0,"DNS",0,"DNS",0,"DNS",0,"DNS",0,"DNS",0,"DNS",0,"DNS",0,"DNS",0,"DNS",0,"DNS",0,"DNS",0,"DNS",0,"DNS",0,"DNS",0,"DNS",0,"DNS",0,"DNS",0,"DNS",0,"DNS",0,{"$f":"IF('Last Race Results'!$B$5=0,0,IF(ISNA(VLOOKUP($A192,'Last Race Results'!$A$5:$J$44,2,FALSE)),\"DNS\",VLOOKUP($A192,'Last Race Results'!$A$5:$J$44,2,FALSE)))","v":"DNS"},{"$f":"IF('Last Race Results'!$B$5=0,0,IF(ISNA(VLOOKUP($A192,'Last Race Results'!$A$5:$K$44,11,FALSE)),0,VLOOKUP($A192,'Last Race Results'!$A$5:$K$44,11,FALSE)))","v":0},null,null,null,null,null,null,null,null,null,null,null,null,null,null,null,null,null,null,{"$f":"IF('Last Race Results'!$B$5=0,0,IF(ISNA(VLOOKUP($A192,'Last Race Results'!$A$5:$J$44,2,FALSE)),\"DNS\",VLOOKUP($A192,'Last Race Results'!$A$5:$J$44,2,FALSE)))","v":"DNS"},{"$f":"IF('Last Race Results'!$B$5=0,0,IF(ISNA(VLOOKUP($A192,'Last Race Results'!$A$5:$J$44,11,FALSE)),0,VLOOKUP($A192,'Last Race Results'!$A$5:$J$44,11,FALSE)))","v":0}]
[176,{"$f":"IF(ISNA(VLOOKUP($A193,'Entry List'!$A$1:$F$61,B$5,FALSE)),\"\",VLOOKUP($A193,'Entry List'!$A$1:$F$61,B$5,FALSE))","v":""},{"$f":"IF(ISNA(VLOOKUP($A193,'Entry List'!$A$1:$F$61,C$5,FALSE)),\"\",VLOOKUP($A193,'Entry List'!$A$1:$F$61,C$5,FALSE))","v":""},{"$f":"IF(ISNA(VLOOKUP($A193,'Entry List'!$A$1:$F$61,D$5,FALSE)),\"\",VLOOKUP($A193,'Entry List'!$A$1:$F$61,D$5,FALSE))","v":""},{"$f":"IF(ISNA(VLOOKUP($A193,'Entry List'!$A$1:$F$61,E$5,FALSE)),\"\",VLOOKUP($A193,'Entry List'!$A$1:$F$61,E$5,FALSE))","v":""},null,"DNS",0,"DNS",0,"DNS",0,"DNS",0,"DNS",0,"DNS",0,"DNS",0,"DNS",0,"DNS",0,"DNS",0,"DNS",0,"DNS",0,"DNS",0,"DNS",0,"DNS",0,"DNS",0,"DNS",0,"DNS",0,"DNS",0,"DNS",0,"DNS",0,"DNS",0,"DNS",0,"DNS",0,"DNS",0,{"$f":"IF('Last Race Results'!$B$5=0,0,IF(ISNA(VLOOKUP($A193,'Last Race Results'!$A$5:$J$44,2,FALSE)),\"DNS\",VLOOKUP($A193,'Last Race Results'!$A$5:$J$44,2,FALSE)))","v":"DNS"},{"$f":"IF('Last Race Results'!$B$5=0,0,IF(ISNA(VLOOKUP($A193,'Last Race Results'!$A$5:$K$44,11,FALSE)),0,VLOOKUP($A193,'Last Race Results'!$A$5:$K$44,11,FALSE)))","v":0},null,null,null,null,null,null,null,null,null,null,null,null,null,null,null,null,null,null,{"$f":"IF('Last Race Results'!$B$5=0,0,IF(ISNA(VLOOKUP($A193,'Last Race Results'!$A$5:$J$44,2,FALSE)),\"DNS\",VLOOKUP($A193,'Last Race Results'!$A$5:$J$44,2,FALSE)))","v":"DNS"},{"$f":"IF('Last Race Results'!$B$5=0,0,IF(ISNA(VLOOKUP($A193,'Last Race Results'!$A$5:$J$44,11,FALSE)),0,VLOOKUP($A193,'Last Race Results'!$A$5:$J$44,11,FALSE)))","v":0}]
[177,{"$f":"IF(ISNA(VLOOKUP($A194,'Entry List'!$A$1:$F$61,B$5,FALSE)),\"\",VLOOKUP($A194,'Entry List'!$A$1:$F$61,B$5,FALSE))","v":""},{"$f":"IF(ISNA(VLOOKUP($A194,'Entry List'!$A$1:$F$61,C$5,FALSE)),\"\",VLOOKUP($A194,'Entry List'!$A$1:$F$61,C$5,FALSE))","v":""},{"$f":"IF(ISNA(VLOOKUP($A194,'Entry List'!$A$1:$F$61,D$5,FALSE)),\"\",VLOOKUP($A194,'Entry List'!$A$1:$F$61,D$5,FALSE))","v":""},{"$f":"IF(ISNA(VLOOKUP($A194,'Entry List'!$A$1:$F$61,E$5,FALSE)),\"\",VLOOKUP($A194,'Entry List'!$A$1:$F$61,E$5,FALSE))","v":""},null,"DNS",0,"DNS",0,"DNS",0,"DNS",0,"DNS",0,"DNS",0,"DNS",0,"DNS",0,"DNS",0,"DNS",0,"DNS",0,"DNS",0,"DNS",0,"DNS",0,"DNS",0,"DNS",0,"DNS",0,"DNS",0,"DNS",0,"DNS",0,"DNS",0,"DNS",0,"DNS",0,"DNS",0,"DNS",0,{"$f":"IF('Last Race Results'!$B$5=0,0,IF(ISNA(VLOOKUP($A194,'Last Race Results'!$A$5:$J$44,2,FALSE)),\"DNS\",VLOOKUP($A194,'Last Race Results'!$A$5:$J$44,2,FALSE)))","v":"DNS"},{"$f":"IF('Last Race Results'!$B$5=0,0,IF(ISNA(VLOOKUP($A194,'Last Race Results'!$A$5:$K$44,11,FALSE)),0,VLOOKUP($A194,'Last Race Results'!$A$5:$K$44,11,FALSE)))","v":0},null,null,null,null,null,null,null,null,null,null,null,null,null,null,null,null,null,null,{"$f":"IF('Last Race Results'!$B$5=0,0,IF(ISNA(VLOOKUP($A194,'Last Race Results'!$A$5:$J$44,2,FALSE)),\"DNS\",VLOOKUP($A194,'Last Race Results'!$A$5:$J$44,2,FALSE)))","v":"DNS"},{"$f":"IF('Last Race Results'!$B$5=0,0,IF(ISNA(VLOOKUP($A194,'Last Race Results'!$A$5:$J$44,11,FALSE)),0,VLOOKUP($A194,'Last Race Results'!$A$5:$J$44,11,FALSE)))","v":0}]
[178,{"$f":"IF(ISNA(VLOOKUP($A195,'Entry List'!$A$1:$F$61,B$5,FALSE)),\"\",VLOOKUP($A195,'Entry List'!$A$1:$F$61,B$5,FALSE))","v":""},{"$f":"IF(ISNA(VLOOKUP($A195,'Entry List'!$A$1:$F$61,C$5,FALSE)),\"\",VLOOKUP($A195,'Entry List'!$A$1:$F$61,C$5,FALSE))","v":""},{"$f":"IF(ISNA(VLOOKUP($A195,'Entry List'!$A$1:$F$61,D$5,FALSE)),\"\",VLOOKUP($A195,'Entry List'!$A$1:$F$61,D$5,FALSE))","v":""},{"$f":"IF(ISNA(VLOOKUP($A195,'Entry List'!$A$1:$F$61,E$5,FALSE)),\"\",VLOOKUP($A195,'Entry List'!$A$1:$F$61,E$5,FALSE))","v":""},null,"DNS",0,"DNS",0,"DNS",0,"DNS",0,"DNS",0,"DNS",0,"DNS",0,"DNS",0,"DNS",0,"DNS",0,"DNS",0,"DNS",0,"DNS",0,"DNS",0,"DNS",0,"DNS",0,"DNS",0,"DNS",0,"DNS",0,"DNS",0,"DNS",0,"DNS",0,"DNS",0,"DNS",0,"DNS",0,{"$f":"IF('Last Race Results'!$B$5=0,0,IF(ISNA(VLOOKUP($A195,'Last Race Results'!$A$5:$J$44,2,FALSE)),\"DNS\",VLOOKUP($A195,'Last Race Results'!$A$5:$J$44,2,FALSE)))","v":"DNS"},{"$f":"IF('Last Race Results'!$B$5=0,0,IF(ISNA(VLOOKUP($A195,'Last Race Results'!$A$5:$K$44,11,FALSE)),0,VLOOKUP($A195,'Last Race Results'!$A$5:$K$44,11,FALSE)))","v":0},null,null,null,null,null,null,null,null,null,null,null,null,null,null,null,null,null,null,{"$f":"IF('Last Race Results'!$B$5=0,0,IF(ISNA(VLOOKUP($A195,'Last Race Results'!$A$5:$J$44,2,FALSE)),\"DNS\",VLOOKUP($A195,'Last Race Results'!$A$5:$J$44,2,FALSE)))","v":"DNS"},{"$f":"IF('Last Race Results'!$B$5=0,0,IF(ISNA(VLOOKUP($A195,'Last Race Results'!$A$5:$J$44,11,FALSE)),0,VLOOKUP($A195,'Last Race Results'!$A$5:$J$44,11,FALSE)))","v":0}]
[179,{"$f":"IF(ISNA(VLOOKUP($A196,'Entry List'!$A$1:$F$61,B$5,FALSE)),\"\",VLOOKUP($A196,'Entry List'!$A$1:$F$61,B$5,FALSE))","v":""},{"$f":"IF(ISNA(VLOOKUP($A196,'Entry List'!$A$1:$F$61,C$5,FALSE)),\"\",VLOOKUP($A196,'Entry List'!$A$1:$F$61,C$5,FALSE))","v":""},{"$f":"IF(ISNA(VLOOKUP($A196,'Entry List'!$A$1:$F$61,D$5,FALSE)),\"\",VLOOKUP($A196,'Entry List'!$A$1:$F$61,D$5,FALSE))","v":""},{"$f":"IF(ISNA(VLOOKUP($A196,'Entry List'!$A$1:$F$61,E$5,FALSE)),\"\",VLOOKUP($A196,'Entry List'!$A$1:$F$61,E$5,FALSE))","v":""},null,"DNS",0,"DNS",0,"DNS",0,"DNS",0,"DNS",0,"DNS",0,"DNS",0,"DNS",0,"DNS",0,"DNS",0,"DNS",0,"DNS",0,"DNS",0,"DNS",0,"DNS",0,"DNS",0,"DNS",0,"DNS",0,"DNS",0,"DNS",0,"DNS",0,"DNS",0,"DNS",0,"DNS",0,"DNS",0,{"$f":"IF('Last Race Results'!$B$5=0,0,IF(ISNA(VLOOKUP($A196,'Last Race Results'!$A$5:$J$44,2,FALSE)),\"DNS\",VLOOKUP($A196,'Last Race Results'!$A$5:$J$44,2,FALSE)))","v":"DNS"},{"$f":"IF('Last Race Results'!$B$5=0,0,IF(ISNA(VLOOKUP($A196,'Last Race Results'!$A$5:$K$44,11,FALSE)),0,VLOOKUP($A196,'Last Race Results'!$A$5:$K$44,11,FALSE)))","v":0},null,null,null,null,null,null,null,null,null,null,null,null,null,null,null,null,null,null,{"$f":"IF('Last Race Results'!$B$5=0,0,IF(ISNA(VLOOKUP($A196,'Last Race Results'!$A$5:$J$44,2,FALSE)),\"DNS\",VLOOKUP($A196,'Last Race Results'!$A$5:$J$44,2,FALSE)))","v":"DNS"},{"$f":"IF('Last Race Results'!$B$5=0,0,IF(ISNA(VLOOKUP($A196,'Last Race Results'!$A$5:$J$44,11,FALSE)),0,VLOOKUP($A196,'Last Race Results'!$A$5:$J$44,11,FALSE)))","v":0}]
[180,{"$f":"IF(ISNA(VLOOKUP($A197,'Entry List'!$A$1:$F$61,B$5,FALSE)),\"\",VLOOKUP($A197,'Entry List'!$A$1:$F$61,B$5,FALSE))","v":""},{"$f":"IF(ISNA(VLOOKUP($A197,'Entry List'!$A$1:$F$61,C$5,FALSE)),\"\",VLOOKUP($A197,'Entry List'!$A$1:$F$61,C$5,FALSE))","v":""},{"$f":"IF(ISNA(VLOOKUP($A197,'Entry List'!$A$1:$F$61,D$5,FALSE)),\"\",VLOOKUP($A197,'Entry List'!$A$1:$F$61,D$5,FALSE))","v":""},{"$f":"IF(ISNA(VLOOKUP($A197,'Entry List'!$A$1:$F$61,E$5,FALSE)),\"\",VLOOKUP($A197,'Entry List'!$A$1:$F$61,E$5,FALSE))","v":""},null,"DNS",0,"DNS",0,"DNS",0,"DNS",0,"DNS",0,"DNS",0,"DNS",0,"DNS",0,"DNS",0,"DNS",0,"DNS",0,"DNS",0,"DNS",0,"DNS",0,"DNS",0,"DNS",0,"DNS",0,"DNS",0,"DNS",0,"DNS",0,"DNS",0,"DNS",0,"DNS",0,"DNS",0,"DNS",0,{"$f":"IF('Last Race Results'!$B$5=0,0,IF(ISNA(VLOOKUP($A197,'Last Race Results'!$A$5:$J$44,2,FALSE)),\"DNS\",VLOOKUP($A197,'Last Race Results'!$A$5:$J$44,2,FALSE)))","v":"DNS"},{"$f":"IF('Last Race Results'!$B$5=0,0,IF(ISNA(VLOOKUP($A197,'Last Race Results'!$A$5:$K$44,11,FALSE)),0,VLOOKUP($A197,'Last Race Results'!$A$5:$K$44,11,FALSE)))","v":0},null,null,null,null,null,null,null,null,null,null,null,null,null,null,null,null,null,null,{"$f":"IF('Last Race Results'!$B$5=0,0,IF(ISNA(VLOOKUP($A197,'Last Race Results'!$A$5:$J$44,2,FALSE)),\"DNS\",VLOOKUP($A197,'Last Race Results'!$A$5:$J$44,2,FALSE)))","v":"DNS"},{"$f":"IF('Last Race Results'!$B$5=0,0,IF(ISNA(VLOOKUP($A197,'Last Race Results'!$A$5:$J$44,11,FALSE)),0,VLOOKUP($A197,'Last Race Results'!$A$5:$J$44,11,FALSE)))","v":0}]
[181,{"$f":"IF(ISNA(VLOOKUP($A198,'Entry List'!$A$1:$F$61,B$5,FALSE)),\"\",VLOOKUP($A198,'Entry List'!$A$1:$F$61,B$5,FALSE))","v":""},{"$f":"IF(ISNA(VLOOKUP($A198,'Entry List'!$A$1:$F$61,C$5,FALSE)),\"\",VLOOKUP($A198,'Entry List'!$A$1:$F$61,C$5,FALSE))","v":""},{"$f":"IF(ISNA(VLOOKUP($A198,'Entry List'!$A$1:$F$61,D$5,FALSE)),\"\",VLOOKUP($A198,'Entry List'!$A$1:$F$61,D$5,FALSE))","v":""},{"$f":"IF(ISNA(VLOOKUP($A198,'Entry List'!$A$1:$F$61,E$5,FALSE)),\"\",VLOOKUP($A198,'Entry List'!$A$1:$F$61,E$5,FALSE))","v":""},null,"DNS",0,"DNS",0,"DNS",0,"DNS",0,"DNS",0,"DNS",0,"DNS",0,"DNS",0,"DNS",0,"DNS",0,"DNS",0,"DNS",0,"DNS",0,"DNS",0,"DNS",0,"DNS",0,"DNS",0,"DNS",0,"DNS",0,"DNS",0,"DNS",0,"DNS",0,"DNS",0,"DNS",0,"DNS",0,{"$f":"IF('Last Race Results'!$B$5=0,0,IF(ISNA(VLOOKUP($A198,'Last Race Results'!$A$5:$J$44,2,FALSE)),\"DNS\",VLOOKUP($A198,'Last Race Results'!$A$5:$J$44,2,FALSE)))","v":"DNS"},{"$f":"IF('Last Race Results'!$B$5=0,0,IF(ISNA(VLOOKUP($A198,'Last Race Results'!$A$5:$K$44,11,FALSE)),0,VLOOKUP($A198,'Last Race Results'!$A$5:$K$44,11,FALSE)))","v":0},null,null,null,null,null,null,null,null,null,null,null,null,null,null,null,null,null,null,{"$f":"IF('Last Race Results'!$B$5=0,0,IF(ISNA(VLOOKUP($A198,'Last Race Results'!$A$5:$J$44,2,FALSE)),\"DNS\",VLOOKUP($A198,'Last Race Results'!$A$5:$J$44,2,FALSE)))","v":"DNS"},{"$f":"IF('Last Race Results'!$B$5=0,0,IF(ISNA(VLOOKUP($A198,'Last Race Results'!$A$5:$J$44,11,FALSE)),0,VLOOKUP($A198,'Last Race Results'!$A$5:$J$44,11,FALSE)))","v":0}]
[182,{"$f":"IF(ISNA(VLOOKUP($A199,'Entry List'!$A$1:$F$61,B$5,FALSE)),\"\",VLOOKUP($A199,'Entry List'!$A$1:$F$61,B$5,FALSE))","v":""},{"$f":"IF(ISNA(VLOOKUP($A199,'Entry List'!$A$1:$F$61,C$5,FALSE)),\"\",VLOOKUP($A199,'Entry List'!$A$1:$F$61,C$5,FALSE))","v":""},{"$f":"IF(ISNA(VLOOKUP($A199,'Entry List'!$A$1:$F$61,D$5,FALSE)),\"\",VLOOKUP($A199,'Entry List'!$A$1:$F$61,D$5,FALSE))","v":""},{"$f":"IF(ISNA(VLOOKUP($A199,'Entry List'!$A$1:$F$61,E$5,FALSE)),\"\",VLOOKUP($A199,'Entry List'!$A$1:$F$61,E$5,FALSE))","v":""},null,"DNS",0,"DNS",0,"DNS",0,"DNS",0,"DNS",0,"DNS",0,"DNS",0,"DNS",0,"DNS",0,"DNS",0,"DNS",0,"DNS",0,"DNS",0,"DNS",0,"DNS",0,"DNS",0,"DNS",0,"DNS",0,"DNS",0,"DNS",0,"DNS",0,"DNS",0,"DNS",0,"DNS",0,"DNS",0,{"$f":"IF('Last Race Results'!$B$5=0,0,IF(ISNA(VLOOKUP($A199,'Last Race Results'!$A$5:$J$44,2,FALSE)),\"DNS\",VLOOKUP($A199,'Last Race Results'!$A$5:$J$44,2,FALSE)))","v":"DNS"},{"$f":"IF('Last Race Results'!$B$5=0,0,IF(ISNA(VLOOKUP($A199,'Last Race Results'!$A$5:$K$44,11,FALSE)),0,VLOOKUP($A199,'Last Race Results'!$A$5:$K$44,11,FALSE)))","v":0},null,null,null,null,null,null,null,null,null,null,null,null,null,null,null,null,null,null,{"$f":"IF('Last Race Results'!$B$5=0,0,IF(ISNA(VLOOKUP($A199,'Last Race Results'!$A$5:$J$44,2,FALSE)),\"DNS\",VLOOKUP($A199,'Last Race Results'!$A$5:$J$44,2,FALSE)))","v":"DNS"},{"$f":"IF('Last Race Results'!$B$5=0,0,IF(ISNA(VLOOKUP($A199,'Last Race Results'!$A$5:$J$44,11,FALSE)),0,VLOOKUP($A199,'Last Race Results'!$A$5:$J$44,11,FALSE)))","v":0}]
[183,{"$f":"IF(ISNA(VLOOKUP($A200,'Entry List'!$A$1:$F$61,B$5,FALSE)),\"\",VLOOKUP($A200,'Entry List'!$A$1:$F$61,B$5,FALSE))","v":""},{"$f":"IF(ISNA(VLOOKUP($A200,'Entry List'!$A$1:$F$61,C$5,FALSE)),\"\",VLOOKUP($A200,'Entry List'!$A$1:$F$61,C$5,FALSE))","v":""},{"$f":"IF(ISNA(VLOOKUP($A200,'Entry List'!$A$1:$F$61,D$5,FALSE)),\"\",VLOOKUP($A200,'Entry List'!$A$1:$F$61,D$5,FALSE))","v":""},{"$f":"IF(ISNA(VLOOKUP($A200,'Entry List'!$A$1:$F$61,E$5,FALSE)),\"\",VLOOKUP($A200,'Entry List'!$A$1:$F$61,E$5,FALSE))","v":""},null,"DNS",0,"DNS",0,"DNS",0,"DNS",0,"DNS",0,"DNS",0,"DNS",0,"DNS",0,"DNS",0,"DNS",0,"DNS",0,"DNS",0,"DNS",0,"DNS",0,"DNS",0,"DNS",0,"DNS",0,"DNS",0,"DNS",0,"DNS",0,"DNS",0,"DNS",0,"DNS",0,"DNS",0,"DNS",0,{"$f":"IF('Last Race Results'!$B$5=0,0,IF(ISNA(VLOOKUP($A200,'Last Race Results'!$A$5:$J$44,2,FALSE)),\"DNS\",VLOOKUP($A200,'Last Race Results'!$A$5:$J$44,2,FALSE)))","v":"DNS"},{"$f":"IF('Last Race Results'!$B$5=0,0,IF(ISNA(VLOOKUP($A200,'Last Race Results'!$A$5:$K$44,11,FALSE)),0,VLOOKUP($A200,'Last Race Results'!$A$5:$K$44,11,FALSE)))","v":0},null,null,null,null,null,null,null,null,null,null,null,null,null,null,null,null,null,null,{"$f":"IF('Last Race Results'!$B$5=0,0,IF(ISNA(VLOOKUP($A200,'Last Race Results'!$A$5:$J$44,2,FALSE)),\"DNS\",VLOOKUP($A200,'Last Race Results'!$A$5:$J$44,2,FALSE)))","v":"DNS"},{"$f":"IF('Last Race Results'!$B$5=0,0,IF(ISNA(VLOOKUP($A200,'Last Race Results'!$A$5:$J$44,11,FALSE)),0,VLOOKUP($A200,'Last Race Results'!$A$5:$J$44,11,FALSE)))","v":0}]
[184,{"$f":"IF(ISNA(VLOOKUP($A201,'Entry List'!$A$1:$F$61,B$5,FALSE)),\"\",VLOOKUP($A201,'Entry List'!$A$1:$F$61,B$5,FALSE))","v":""},{"$f":"IF(ISNA(VLOOKUP($A201,'Entry List'!$A$1:$F$61,C$5,FALSE)),\"\",VLOOKUP($A201,'Entry List'!$A$1:$F$61,C$5,FALSE))","v":""},{"$f":"IF(ISNA(VLOOKUP($A201,'Entry List'!$A$1:$F$61,D$5,FALSE)),\"\",VLOOKUP($A201,'Entry List'!$A$1:$F$61,D$5,FALSE))","v":""},{"$f":"IF(ISNA(VLOOKUP($A201,'Entry List'!$A$1:$F$61,E$5,FALSE)),\"\",VLOOKUP($A201,'Entry List'!$A$1:$F$61,E$5,FALSE))","v":""},null,"DNS",0,"DNS",0,"DNS",0,"DNS",0,"DNS",0,"DNS",0,"DNS",0,"DNS",0,"DNS",0,"DNS",0,"DNS",0,"DNS",0,"DNS",0,"DNS",0,"DNS",0,"DNS",0,"DNS",0,"DNS",0,"DNS",0,"DNS",0,"DNS",0,"DNS",0,"DNS",0,"DNS",0,"DNS",0,{"$f":"IF('Last Race Results'!$B$5=0,0,IF(ISNA(VLOOKUP($A201,'Last Race Results'!$A$5:$J$44,2,FALSE)),\"DNS\",VLOOKUP($A201,'Last Race Results'!$A$5:$J$44,2,FALSE)))","v":"DNS"},{"$f":"IF('Last Race Results'!$B$5=0,0,IF(ISNA(VLOOKUP($A201,'Last Race Results'!$A$5:$K$44,11,FALSE)),0,VLOOKUP($A201,'Last Race Results'!$A$5:$K$44,11,FALSE)))","v":0},null,null,null,null,null,null,null,null,null,null,null,null,null,null,null,null,null,null,{"$f":"IF('Last Race Results'!$B$5=0,0,IF(ISNA(VLOOKUP($A201,'Last Race Results'!$A$5:$J$44,2,FALSE)),\"DNS\",VLOOKUP($A201,'Last Race Results'!$A$5:$J$44,2,FALSE)))","v":"DNS"},{"$f":"IF('Last Race Results'!$B$5=0,0,IF(ISNA(VLOOKUP($A201,'Last Race Results'!$A$5:$J$44,11,FALSE)),0,VLOOKUP($A201,'Last Race Results'!$A$5:$J$44,11,FALSE)))","v":0}]
[185,{"$f":"IF(ISNA(VLOOKUP($A202,'Entry List'!$A$1:$F$61,B$5,FALSE)),\"\",VLOOKUP($A202,'Entry List'!$A$1:$F$61,B$5,FALSE))","v":""},{"$f":"IF(ISNA(VLOOKUP($A202,'Entry List'!$A$1:$F$61,C$5,FALSE)),\"\",VLOOKUP($A202,'Entry List'!$A$1:$F$61,C$5,FALSE))","v":""},{"$f":"IF(ISNA(VLOOKUP($A202,'Entry List'!$A$1:$F$61,D$5,FALSE)),\"\",VLOOKUP($A202,'Entry List'!$A$1:$F$61,D$5,FALSE))","v":""},{"$f":"IF(ISNA(VLOOKUP($A202,'Entry List'!$A$1:$F$61,E$5,FALSE)),\"\",VLOOKUP($A202,'Entry List'!$A$1:$F$61,E$5,FALSE))","v":""},null,"DNS",0,"DNS",0,"DNS",0,"DNS",0,"DNS",0,"DNS",0,"DNS",0,"DNS",0,"DNS",0,"DNS",0,"DNS",0,"DNS",0,"DNS",0,"DNS",0,"DNS",0,"DNS",0,"DNS",0,"DNS",0,"DNS",0,"DNS",0,"DNS",0,"DNS",0,"DNS",0,"DNS",0,"DNS",0,{"$f":"IF('Last Race Results'!$B$5=0,0,IF(ISNA(VLOOKUP($A202,'Last Race Results'!$A$5:$J$44,2,FALSE)),\"DNS\",VLOOKUP($A202,'Last Race Results'!$A$5:$J$44,2,FALSE)))","v":"DNS"},{"$f":"IF('Last Race Results'!$B$5=0,0,IF(ISNA(VLOOKUP($A202,'Last Race Results'!$A$5:$K$44,11,FALSE)),0,VLOOKUP($A202,'Last Race Results'!$A$5:$K$44,11,FALSE)))","v":0},null,null,null,null,null,null,null,null,null,null,null,null,null,null,null,null,null,null,{"$f":"IF('Last Race Results'!$B$5=0,0,IF(ISNA(VLOOKUP($A202,'Last Race Results'!$A$5:$J$44,2,FALSE)),\"DNS\",VLOOKUP($A202,'Last Race Results'!$A$5:$J$44,2,FALSE)))","v":"DNS"},{"$f":"IF('Last Race Results'!$B$5=0,0,IF(ISNA(VLOOKUP($A202,'Last Race Results'!$A$5:$J$44,11,FALSE)),0,VLOOKUP($A202,'Last Race Results'!$A$5:$J$44,11,FALSE)))","v":0}]
[186,{"$f":"IF(ISNA(VLOOKUP($A203,'Entry List'!$A$1:$F$61,B$5,FALSE)),\"\",VLOOKUP($A203,'Entry List'!$A$1:$F$61,B$5,FALSE))","v":""},{"$f":"IF(ISNA(VLOOKUP($A203,'Entry List'!$A$1:$F$61,C$5,FALSE)),\"\",VLOOKUP($A203,'Entry List'!$A$1:$F$61,C$5,FALSE))","v":""},{"$f":"IF(ISNA(VLOOKUP($A203,'Entry List'!$A$1:$F$61,D$5,FALSE)),\"\",VLOOKUP($A203,'Entry List'!$A$1:$F$61,D$5,FALSE))","v":""},{"$f":"IF(ISNA(VLOOKUP($A203,'Entry List'!$A$1:$F$61,E$5,FALSE)),\"\",VLOOKUP($A203,'Entry List'!$A$1:$F$61,E$5,FALSE))","v":""},null,"DNS",0,"DNS",0,"DNS",0,"DNS",0,"DNS",0,"DNS",0,"DNS",0,"DNS",0,"DNS",0,"DNS",0,"DNS",0,"DNS",0,"DNS",0,"DNS",0,"DNS",0,"DNS",0,"DNS",0,"DNS",0,"DNS",0,"DNS",0,"DNS",0,"DNS",0,"DNS",0,"DNS",0,"DNS",0,{"$f":"IF('Last Race Results'!$B$5=0,0,IF(ISNA(VLOOKUP($A203,'Last Race Results'!$A$5:$J$44,2,FALSE)),\"DNS\",VLOOKUP($A203,'Last Race Results'!$A$5:$J$44,2,FALSE)))","v":"DNS"},{"$f":"IF('Last Race Results'!$B$5=0,0,IF(ISNA(VLOOKUP($A203,'Last Race Results'!$A$5:$K$44,11,FALSE)),0,VLOOKUP($A203,'Last Race Results'!$A$5:$K$44,11,FALSE)))","v":0},null,null,null,null,null,null,null,null,null,null,null,null,null,null,null,null,null,null,{"$f":"IF('Last Race Results'!$B$5=0,0,IF(ISNA(VLOOKUP($A203,'Last Race Results'!$A$5:$J$44,2,FALSE)),\"DNS\",VLOOKUP($A203,'Last Race Results'!$A$5:$J$44,2,FALSE)))","v":"DNS"},{"$f":"IF('Last Race Results'!$B$5=0,0,IF(ISNA(VLOOKUP($A203,'Last Race Results'!$A$5:$J$44,11,FALSE)),0,VLOOKUP($A203,'Last Race Results'!$A$5:$J$44,11,FALSE)))","v":0}]
[187,{"$f":"IF(ISNA(VLOOKUP($A204,'Entry List'!$A$1:$F$61,B$5,FALSE)),\"\",VLOOKUP($A204,'Entry List'!$A$1:$F$61,B$5,FALSE))","v":""},{"$f":"IF(ISNA(VLOOKUP($A204,'Entry List'!$A$1:$F$61,C$5,FALSE)),\"\",VLOOKUP($A204,'Entry List'!$A$1:$F$61,C$5,FALSE))","v":""},{"$f":"IF(ISNA(VLOOKUP($A204,'Entry List'!$A$1:$F$61,D$5,FALSE)),\"\",VLOOKUP($A204,'Entry List'!$A$1:$F$61,D$5,FALSE))","v":""},{"$f":"IF(ISNA(VLOOKUP($A204,'Entry List'!$A$1:$F$61,E$5,FALSE)),\"\",VLOOKUP($A204,'Entry List'!$A$1:$F$61,E$5,FALSE))","v":""},null,"DNS",0,"DNS",0,"DNS",0,"DNS",0,"DNS",0,"DNS",0,"DNS",0,"DNS",0,"DNS",0,"DNS",0,"DNS",0,"DNS",0,"DNS",0,"DNS",0,"DNS",0,"DNS",0,"DNS",0,"DNS",0,"DNS",0,"DNS",0,"DNS",0,"DNS",0,"DNS",0,"DNS",0,"DNS",0,{"$f":"IF('Last Race Results'!$B$5=0,0,IF(ISNA(VLOOKUP($A204,'Last Race Results'!$A$5:$J$44,2,FALSE)),\"DNS\",VLOOKUP($A204,'Last Race Results'!$A$5:$J$44,2,FALSE)))","v":"DNS"},{"$f":"IF('Last Race Results'!$B$5=0,0,IF(ISNA(VLOOKUP($A204,'Last Race Results'!$A$5:$K$44,11,FALSE)),0,VLOOKUP($A204,'Last Race Results'!$A$5:$K$44,11,FALSE)))","v":0},null,null,null,null,null,null,null,null,null,null,null,null,null,null,null,null,null,null,{"$f":"IF('Last Race Results'!$B$5=0,0,IF(ISNA(VLOOKUP($A204,'Last Race Results'!$A$5:$J$44,2,FALSE)),\"DNS\",VLOOKUP($A204,'Last Race Results'!$A$5:$J$44,2,FALSE)))","v":"DNS"},{"$f":"IF('Last Race Results'!$B$5=0,0,IF(ISNA(VLOOKUP($A204,'Last Race Results'!$A$5:$J$44,11,FALSE)),0,VLOOKUP($A204,'Last Race Results'!$A$5:$J$44,11,FALSE)))","v":0}]
[188,{"$f":"IF(ISNA(VLOOKUP($A205,'Entry List'!$A$1:$F$61,B$5,FALSE)),\"\",VLOOKUP($A205,'Entry List'!$A$1:$F$61,B$5,FALSE))","v":""},{"$f":"IF(ISNA(VLOOKUP($A205,'Entry List'!$A$1:$F$61,C$5,FALSE)),\"\",VLOOKUP($A205,'Entry List'!$A$1:$F$61,C$5,FALSE))","v":""},{"$f":"IF(ISNA(VLOOKUP($A205,'Entry List'!$A$1:$F$61,D$5,FALSE)),\"\",VLOOKUP($A205,'Entry List'!$A$1:$F$61,D$5,FALSE))","v":""},{"$f":"IF(ISNA(VLOOKUP($A205,'Entry List'!$A$1:$F$61,E$5,FALSE)),\"\",VLOOKUP($A205,'Entry List'!$A$1:$F$61,E$5,FALSE))","v":""},null,"DNS",0,"DNS",0,"DNS",0,"DNS",0,"DNS",0,"DNS",0,"DNS",0,"DNS",0,"DNS",0,"DNS",0,"DNS",0,"DNS",0,"DNS",0,"DNS",0,"DNS",0,"DNS",0,"DNS",0,"DNS",0,"DNS",0,"DNS",0,"DNS",0,"DNS",0,"DNS",0,"DNS",0,"DNS",0,{"$f":"IF('Last Race Results'!$B$5=0,0,IF(ISNA(VLOOKUP($A205,'Last Race Results'!$A$5:$J$44,2,FALSE)),\"DNS\",VLOOKUP($A205,'Last Race Results'!$A$5:$J$44,2,FALSE)))","v":"DNS"},{"$f":"IF('Last Race Results'!$B$5=0,0,IF(ISNA(VLOOKUP($A205,'Last Race Results'!$A$5:$K$44,11,FALSE)),0,VLOOKUP($A205,'Last Race Results'!$A$5:$K$44,11,FALSE)))","v":0},null,null,null,null,null,null,null,null,null,null,null,null,null,null,null,null,null,null,{"$f":"IF('Last Race Results'!$B$5=0,0,IF(ISNA(VLOOKUP($A205,'Last Race Results'!$A$5:$J$44,2,FALSE)),\"DNS\",VLOOKUP($A205,'Last Race Results'!$A$5:$J$44,2,FALSE)))","v":"DNS"},{"$f":"IF('Last Race Results'!$B$5=0,0,IF(ISNA(VLOOKUP($A205,'Last Race Results'!$A$5:$J$44,11,FALSE)),0,VLOOKUP($A205,'Last Race Results'!$A$5:$J$44,11,FALSE)))","v":0}]
[189,{"$f":"IF(ISNA(VLOOKUP($A206,'Entry List'!$A$1:$F$61,B$5,FALSE)),\"\",VLOOKUP($A206,'Entry List'!$A$1:$F$61,B$5,FALSE))","v":""},{"$f":"IF(ISNA(VLOOKUP($A206,'Entry List'!$A$1:$F$61,C$5,FALSE)),\"\",VLOOKUP($A206,'Entry List'!$A$1:$F$61,C$5,FALSE))","v":""},{"$f":"IF(ISNA(VLOOKUP($A206,'Entry List'!$A$1:$F$61,D$5,FALSE)),\"\",VLOOKUP($A206,'Entry List'!$A$1:$F$61,D$5,FALSE))","v":""},{"$f":"IF(ISNA(VLOOKUP($A206,'Entry List'!$A$1:$F$61,E$5,FALSE)),\"\",VLOOKUP($A206,'Entry List'!$A$1:$F$61,E$5,FALSE))","v":""},null,"DNS",0,"DNS",0,"DNS",0,"DNS",0,"DNS",0,"DNS",0,"DNS",0,"DNS",0,"DNS",0,"DNS",0,"DNS",0,"DNS",0,"DNS",0,"DNS",0,"DNS",0,"DNS",0,"DNS",0,"DNS",0,"DNS",0,"DNS",0,"DNS",0,"DNS",0,"DNS",0,"DNS",0,"DNS",0,{"$f":"IF('Last Race Results'!$B$5=0,0,IF(ISNA(VLOOKUP($A206,'Last Race Results'!$A$5:$J$44,2,FALSE)),\"DNS\",VLOOKUP($A206,'Last Race Results'!$A$5:$J$44,2,FALSE)))","v":"DNS"},{"$f":"IF('Last Race Results'!$B$5=0,0,IF(ISNA(VLOOKUP($A206,'Last Race Results'!$A$5:$K$44,11,FALSE)),0,VLOOKUP($A206,'Last Race Results'!$A$5:$K$44,11,FALSE)))","v":0},null,null,null,null,null,null,null,null,null,null,null,null,null,null,null,null,null,null,{"$f":"IF('Last Race Results'!$B$5=0,0,IF(ISNA(VLOOKUP($A206,'Last Race Results'!$A$5:$J$44,2,FALSE)),\"DNS\",VLOOKUP($A206,'Last Race Results'!$A$5:$J$44,2,FALSE)))","v":"DNS"},{"$f":"IF('Last Race Results'!$B$5=0,0,IF(ISNA(VLOOKUP($A206,'Last Race Results'!$A$5:$J$44,11,FALSE)),0,VLOOKUP($A206,'Last Race Results'!$A$5:$J$44,11,FALSE)))","v":0}]
[190,{"$f":"IF(ISNA(VLOOKUP($A207,'Entry List'!$A$1:$F$61,B$5,FALSE)),\"\",VLOOKUP($A207,'Entry List'!$A$1:$F$61,B$5,FALSE))","v":""},{"$f":"IF(ISNA(VLOOKUP($A207,'Entry List'!$A$1:$F$61,C$5,FALSE)),\"\",VLOOKUP($A207,'Entry List'!$A$1:$F$61,C$5,FALSE))","v":""},{"$f":"IF(ISNA(VLOOKUP($A207,'Entry List'!$A$1:$F$61,D$5,FALSE)),\"\",VLOOKUP($A207,'Entry List'!$A$1:$F$61,D$5,FALSE))","v":""},{"$f":"IF(ISNA(VLOOKUP($A207,'Entry List'!$A$1:$F$61,E$5,FALSE)),\"\",VLOOKUP($A207,'Entry List'!$A$1:$F$61,E$5,FALSE))","v":""},null,"DNS",0,"DNS",0,"DNS",0,"DNS",0,"DNS",0,"DNS",0,"DNS",0,"DNS",0,"DNS",0,"DNS",0,"DNS",0,"DNS",0,"DNS",0,"DNS",0,"DNS",0,"DNS",0,"DNS",0,"DNS",0,"DNS",0,"DNS",0,"DNS",0,"DNS",0,"DNS",0,"DNS",0,"DNS",0,{"$f":"IF('Last Race Results'!$B$5=0,0,IF(ISNA(VLOOKUP($A207,'Last Race Results'!$A$5:$J$44,2,FALSE)),\"DNS\",VLOOKUP($A207,'Last Race Results'!$A$5:$J$44,2,FALSE)))","v":"DNS"},{"$f":"IF('Last Race Results'!$B$5=0,0,IF(ISNA(VLOOKUP($A207,'Last Race Results'!$A$5:$K$44,11,FALSE)),0,VLOOKUP($A207,'Last Race Results'!$A$5:$K$44,11,FALSE)))","v":0},null,null,null,null,null,null,null,null,null,null,null,null,null,null,null,null,null,null,{"$f":"IF('Last Race Results'!$B$5=0,0,IF(ISNA(VLOOKUP($A207,'Last Race Results'!$A$5:$J$44,2,FALSE)),\"DNS\",VLOOKUP($A207,'Last Race Results'!$A$5:$J$44,2,FALSE)))","v":"DNS"},{"$f":"IF('Last Race Results'!$B$5=0,0,IF(ISNA(VLOOKUP($A207,'Last Race Results'!$A$5:$J$44,11,FALSE)),0,VLOOKUP($A207,'Last Race Results'!$A$5:$J$44,11,FALSE)))","v":0}]
[191,{"$f":"IF(ISNA(VLOOKUP($A208,'Entry List'!$A$1:$F$61,B$5,FALSE)),\"\",VLOOKUP($A208,'Entry List'!$A$1:$F$61,B$5,FALSE))","v":""},{"$f":"IF(ISNA(VLOOKUP($A208,'Entry List'!$A$1:$F$61,C$5,FALSE)),\"\",VLOOKUP($A208,'Entry List'!$A$1:$F$61,C$5,FALSE))","v":""},{"$f":"IF(ISNA(VLOOKUP($A208,'Entry List'!$A$1:$F$61,D$5,FALSE)),\"\",VLOOKUP($A208,'Entry List'!$A$1:$F$61,D$5,FALSE))","v":""},{"$f":"IF(ISNA(VLOOKUP($A208,'Entry List'!$A$1:$F$61,E$5,FALSE)),\"\",VLOOKUP($A208,'Entry List'!$A$1:$F$61,E$5,FALSE))","v":""},null,"DNS",0,"DNS",0,"DNS",0,"DNS",0,"DNS",0,"DNS",0,"DNS",0,"DNS",0,"DNS",0,"DNS",0,"DNS",0,"DNS",0,"DNS",0,"DNS",0,"DNS",0,"DNS",0,"DNS",0,"DNS",0,"DNS",0,"DNS",0,"DNS",0,"DNS",0,"DNS",0,"DNS",0,"DNS",0,{"$f":"IF('Last Race Results'!$B$5=0,0,IF(ISNA(VLOOKUP($A208,'Last Race Results'!$A$5:$J$44,2,FALSE)),\"DNS\",VLOOKUP($A208,'Last Race Results'!$A$5:$J$44,2,FALSE)))","v":"DNS"},{"$f":"IF('Last Race Results'!$B$5=0,0,IF(ISNA(VLOOKUP($A208,'Last Race Results'!$A$5:$K$44,11,FALSE)),0,VLOOKUP($A208,'Last Race Results'!$A$5:$K$44,11,FALSE)))","v":0},null,null,null,null,null,null,null,null,null,null,null,null,null,null,null,null,null,null,{"$f":"IF('Last Race Results'!$B$5=0,0,IF(ISNA(VLOOKUP($A208,'Last Race Results'!$A$5:$J$44,2,FALSE)),\"DNS\",VLOOKUP($A208,'Last Race Results'!$A$5:$J$44,2,FALSE)))","v":"DNS"},{"$f":"IF('Last Race Results'!$B$5=0,0,IF(ISNA(VLOOKUP($A208,'Last Race Results'!$A$5:$J$44,11,FALSE)),0,VLOOKUP($A208,'Last Race Results'!$A$5:$J$44,11,FALSE)))","v":0}]
[192,{"$f":"IF(ISNA(VLOOKUP($A209,'Entry List'!$A$1:$F$61,B$5,FALSE)),\"\",VLOOKUP($A209,'Entry List'!$A$1:$F$61,B$5,FALSE))","v":""},{"$f":"IF(ISNA(VLOOKUP($A209,'Entry List'!$A$1:$F$61,C$5,FALSE)),\"\",VLOOKUP($A209,'Entry List'!$A$1:$F$61,C$5,FALSE))","v":""},{"$f":"IF(ISNA(VLOOKUP($A209,'Entry List'!$A$1:$F$61,D$5,FALSE)),\"\",VLOOKUP($A209,'Entry List'!$A$1:$F$61,D$5,FALSE))","v":""},{"$f":"IF(ISNA(VLOOKUP($A209,'Entry List'!$A$1:$F$61,E$5,FALSE)),\"\",VLOOKUP($A209,'Entry List'!$A$1:$F$61,E$5,FALSE))","v":""},null,"DNS",0,"DNS",0,"DNS",0,"DNS",0,"DNS",0,"DNS",0,"DNS",0,"DNS",0,"DNS",0,"DNS",0,"DNS",0,"DNS",0,"DNS",0,"DNS",0,"DNS",0,"DNS",0,"DNS",0,"DNS",0,"DNS",0,"DNS",0,"DNS",0,"DNS",0,"DNS",0,"DNS",0,"DNS",0,{"$f":"IF('Last Race Results'!$B$5=0,0,IF(ISNA(VLOOKUP($A209,'Last Race Results'!$A$5:$J$44,2,FALSE)),\"DNS\",VLOOKUP($A209,'Last Race Results'!$A$5:$J$44,2,FALSE)))","v":"DNS"},{"$f":"IF('Last Race Results'!$B$5=0,0,IF(ISNA(VLOOKUP($A209,'Last Race Results'!$A$5:$K$44,11,FALSE)),0,VLOOKUP($A209,'Last Race Results'!$A$5:$K$44,11,FALSE)))","v":0},null,null,null,null,null,null,null,null,null,null,null,null,null,null,null,null,null,null,{"$f":"IF('Last Race Results'!$B$5=0,0,IF(ISNA(VLOOKUP($A209,'Last Race Results'!$A$5:$J$44,2,FALSE)),\"DNS\",VLOOKUP($A209,'Last Race Results'!$A$5:$J$44,2,FALSE)))","v":"DNS"},{"$f":"IF('Last Race Results'!$B$5=0,0,IF(ISNA(VLOOKUP($A209,'Last Race Results'!$A$5:$J$44,11,FALSE)),0,VLOOKUP($A209,'Last Race Results'!$A$5:$J$44,11,FALSE)))","v":0}]
[193,{"$f":"IF(ISNA(VLOOKUP($A210,'Entry List'!$A$1:$F$61,B$5,FALSE)),\"\",VLOOKUP($A210,'Entry List'!$A$1:$F$61,B$5,FALSE))","v":""},{"$f":"IF(ISNA(VLOOKUP($A210,'Entry List'!$A$1:$F$61,C$5,FALSE)),\"\",VLOOKUP($A210,'Entry List'!$A$1:$F$61,C$5,FALSE))","v":""},{"$f":"IF(ISNA(VLOOKUP($A210,'Entry List'!$A$1:$F$61,D$5,FALSE)),\"\",VLOOKUP($A210,'Entry List'!$A$1:$F$61,D$5,FALSE))","v":""},{"$f":"IF(ISNA(VLOOKUP($A210,'Entry List'!$A$1:$F$61,E$5,FALSE)),\"\",VLOOKUP($A210,'Entry List'!$A$1:$F$61,E$5,FALSE))","v":""},null,"DNS",0,"DNS",0,"DNS",0,"DNS",0,"DNS",0,"DNS",0,"DNS",0,"DNS",0,"DNS",0,"DNS",0,"DNS",0,"DNS",0,"DNS",0,"DNS",0,"DNS",0,"DNS",0,"DNS",0,"DNS",0,"DNS",0,"DNS",0,"DNS",0,"DNS",0,"DNS",0,"DNS",0,"DNS",0,{"$f":"IF('Last Race Results'!$B$5=0,0,IF(ISNA(VLOOKUP($A210,'Last Race Results'!$A$5:$J$44,2,FALSE)),\"DNS\",VLOOKUP($A210,'Last Race Results'!$A$5:$J$44,2,FALSE)))","v":"DNS"},{"$f":"IF('Last Race Results'!$B$5=0,0,IF(ISNA(VLOOKUP($A210,'Last Race Results'!$A$5:$K$44,11,FALSE)),0,VLOOKUP($A210,'Last Race Results'!$A$5:$K$44,11,FALSE)))","v":0},null,null,null,null,null,null,null,null,null,null,null,null,null,null,null,null,null,null,{"$f":"IF('Last Race Results'!$B$5=0,0,IF(ISNA(VLOOKUP($A210,'Last Race Results'!$A$5:$J$44,2,FALSE)),\"DNS\",VLOOKUP($A210,'Last Race Results'!$A$5:$J$44,2,FALSE)))","v":"DNS"},{"$f":"IF('Last Race Results'!$B$5=0,0,IF(ISNA(VLOOKUP($A210,'Last Race Results'!$A$5:$J$44,11,FALSE)),0,VLOOKUP($A210,'Last Race Results'!$A$5:$J$44,11,FALSE)))","v":0}]
[194,{"$f":"IF(ISNA(VLOOKUP($A211,'Entry List'!$A$1:$F$61,B$5,FALSE)),\"\",VLOOKUP($A211,'Entry List'!$A$1:$F$61,B$5,FALSE))","v":""},{"$f":"IF(ISNA(VLOOKUP($A211,'Entry List'!$A$1:$F$61,C$5,FALSE)),\"\",VLOOKUP($A211,'Entry List'!$A$1:$F$61,C$5,FALSE))","v":""},{"$f":"IF(ISNA(VLOOKUP($A211,'Entry List'!$A$1:$F$61,D$5,FALSE)),\"\",VLOOKUP($A211,'Entry List'!$A$1:$F$61,D$5,FALSE))","v":""},{"$f":"IF(ISNA(VLOOKUP($A211,'Entry List'!$A$1:$F$61,E$5,FALSE)),\"\",VLOOKUP($A211,'Entry List'!$A$1:$F$61,E$5,FALSE))","v":""},null,"DNS",0,"DNS",0,"DNS",0,"DNS",0,"DNS",0,"DNS",0,"DNS",0,"DNS",0,"DNS",0,"DNS",0,"DNS",0,"DNS",0,"DNS",0,"DNS",0,"DNS",0,"DNS",0,"DNS",0,"DNS",0,"DNS",0,"DNS",0,"DNS",0,"DNS",0,"DNS",0,"DNS",0,"DNS",0,{"$f":"IF('Last Race Results'!$B$5=0,0,IF(ISNA(VLOOKUP($A211,'Last Race Results'!$A$5:$J$44,2,FALSE)),\"DNS\",VLOOKUP($A211,'Last Race Results'!$A$5:$J$44,2,FALSE)))","v":"DNS"},{"$f":"IF('Last Race Results'!$B$5=0,0,IF(ISNA(VLOOKUP($A211,'Last Race Results'!$A$5:$K$44,11,FALSE)),0,VLOOKUP($A211,'Last Race Results'!$A$5:$K$44,11,FALSE)))","v":0},null,null,null,null,null,null,null,null,null,null,null,null,null,null,null,null,null,null,{"$f":"IF('Last Race Results'!$B$5=0,0,IF(ISNA(VLOOKUP($A211,'Last Race Results'!$A$5:$J$44,2,FALSE)),\"DNS\",VLOOKUP($A211,'Last Race Results'!$A$5:$J$44,2,FALSE)))","v":"DNS"},{"$f":"IF('Last Race Results'!$B$5=0,0,IF(ISNA(VLOOKUP($A211,'Last Race Results'!$A$5:$J$44,11,FALSE)),0,VLOOKUP($A211,'Last Race Results'!$A$5:$J$44,11,FALSE)))","v":0}]
[195,{"$f":"IF(ISNA(VLOOKUP($A212,'Entry List'!$A$1:$F$61,B$5,FALSE)),\"\",VLOOKUP($A212,'Entry List'!$A$1:$F$61,B$5,FALSE))","v":""},{"$f":"IF(ISNA(VLOOKUP($A212,'Entry List'!$A$1:$F$61,C$5,FALSE)),\"\",VLOOKUP($A212,'Entry List'!$A$1:$F$61,C$5,FALSE))","v":""},{"$f":"IF(ISNA(VLOOKUP($A212,'Entry List'!$A$1:$F$61,D$5,FALSE)),\"\",VLOOKUP($A212,'Entry List'!$A$1:$F$61,D$5,FALSE))","v":""},{"$f":"IF(ISNA(VLOOKUP($A212,'Entry List'!$A$1:$F$61,E$5,FALSE)),\"\",VLOOKUP($A212,'Entry List'!$A$1:$F$61,E$5,FALSE))","v":""},null,"DNS",0,"DNS",0,"DNS",0,"DNS",0,"DNS",0,"DNS",0,"DNS",0,"DNS",0,"DNS",0,"DNS",0,"DNS",0,"DNS",0,"DNS",0,"DNS",0,"DNS",0,"DNS",0,"DNS",0,"DNS",0,"DNS",0,"DNS",0,"DNS",0,"DNS",0,"DNS",0,"DNS",0,"DNS",0,{"$f":"IF('Last Race Results'!$B$5=0,0,IF(ISNA(VLOOKUP($A212,'Last Race Results'!$A$5:$J$44,2,FALSE)),\"DNS\",VLOOKUP($A212,'Last Race Results'!$A$5:$J$44,2,FALSE)))","v":"DNS"},{"$f":"IF('Last Race Results'!$B$5=0,0,IF(ISNA(VLOOKUP($A212,'Last Race Results'!$A$5:$K$44,11,FALSE)),0,VLOOKUP($A212,'Last Race Results'!$A$5:$K$44,11,FALSE)))","v":0},null,null,null,null,null,null,null,null,null,null,null,null,null,null,null,null,null,null,{"$f":"IF('Last Race Results'!$B$5=0,0,IF(ISNA(VLOOKUP($A212,'Last Race Results'!$A$5:$J$44,2,FALSE)),\"DNS\",VLOOKUP($A212,'Last Race Results'!$A$5:$J$44,2,FALSE)))","v":"DNS"},{"$f":"IF('Last Race Results'!$B$5=0,0,IF(ISNA(VLOOKUP($A212,'Last Race Results'!$A$5:$J$44,11,FALSE)),0,VLOOKUP($A212,'Last Race Results'!$A$5:$J$44,11,FALSE)))","v":0}]
[196,{"$f":"IF(ISNA(VLOOKUP($A213,'Entry List'!$A$1:$F$61,B$5,FALSE)),\"\",VLOOKUP($A213,'Entry List'!$A$1:$F$61,B$5,FALSE))","v":""},{"$f":"IF(ISNA(VLOOKUP($A213,'Entry List'!$A$1:$F$61,C$5,FALSE)),\"\",VLOOKUP($A213,'Entry List'!$A$1:$F$61,C$5,FALSE))","v":""},{"$f":"IF(ISNA(VLOOKUP($A213,'Entry List'!$A$1:$F$61,D$5,FALSE)),\"\",VLOOKUP($A213,'Entry List'!$A$1:$F$61,D$5,FALSE))","v":""},{"$f":"IF(ISNA(VLOOKUP($A213,'Entry List'!$A$1:$F$61,E$5,FALSE)),\"\",VLOOKUP($A213,'Entry List'!$A$1:$F$61,E$5,FALSE))","v":""},null,"DNS",0,"DNS",0,"DNS",0,"DNS",0,"DNS",0,"DNS",0,"DNS",0,"DNS",0,"DNS",0,"DNS",0,"DNS",0,"DNS",0,"DNS",0,"DNS",0,"DNS",0,"DNS",0,"DNS",0,"DNS",0,"DNS",0,"DNS",0,"DNS",0,"DNS",0,"DNS",0,"DNS",0,"DNS",0,{"$f":"IF('Last Race Results'!$B$5=0,0,IF(ISNA(VLOOKUP($A213,'Last Race Results'!$A$5:$J$44,2,FALSE)),\"DNS\",VLOOKUP($A213,'Last Race Results'!$A$5:$J$44,2,FALSE)))","v":"DNS"},{"$f":"IF('Last Race Results'!$B$5=0,0,IF(ISNA(VLOOKUP($A213,'Last Race Results'!$A$5:$K$44,11,FALSE)),0,VLOOKUP($A213,'Last Race Results'!$A$5:$K$44,11,FALSE)))","v":0},null,null,null,null,null,null,null,null,null,null,null,null,null,null,null,null,null,null,{"$f":"IF('Last Race Results'!$B$5=0,0,IF(ISNA(VLOOKUP($A213,'Last Race Results'!$A$5:$J$44,2,FALSE)),\"DNS\",VLOOKUP($A213,'Last Race Results'!$A$5:$J$44,2,FALSE)))","v":"DNS"},{"$f":"IF('Last Race Results'!$B$5=0,0,IF(ISNA(VLOOKUP($A213,'Last Race Results'!$A$5:$J$44,11,FALSE)),0,VLOOKUP($A213,'Last Race Results'!$A$5:$J$44,11,FALSE)))","v":0}]
[197,{"$f":"IF(ISNA(VLOOKUP($A214,'Entry List'!$A$1:$F$61,B$5,FALSE)),\"\",VLOOKUP($A214,'Entry List'!$A$1:$F$61,B$5,FALSE))","v":""},{"$f":"IF(ISNA(VLOOKUP($A214,'Entry List'!$A$1:$F$61,C$5,FALSE)),\"\",VLOOKUP($A214,'Entry List'!$A$1:$F$61,C$5,FALSE))","v":""},{"$f":"IF(ISNA(VLOOKUP($A214,'Entry List'!$A$1:$F$61,D$5,FALSE)),\"\",VLOOKUP($A214,'Entry List'!$A$1:$F$61,D$5,FALSE))","v":""},{"$f":"IF(ISNA(VLOOKUP($A214,'Entry List'!$A$1:$F$61,E$5,FALSE)),\"\",VLOOKUP($A214,'Entry List'!$A$1:$F$61,E$5,FALSE))","v":""},null,"DNS",0,"DNS",0,"DNS",0,"DNS",0,"DNS",0,"DNS",0,"DNS",0,"DNS",0,"DNS",0,"DNS",0,"DNS",0,"DNS",0,"DNS",0,"DNS",0,"DNS",0,"DNS",0,"DNS",0,"DNS",0,"DNS",0,"DNS",0,"DNS",0,"DNS",0,"DNS",0,"DNS",0,"DNS",0,{"$f":"IF('Last Race Results'!$B$5=0,0,IF(ISNA(VLOOKUP($A214,'Last Race Results'!$A$5:$J$44,2,FALSE)),\"DNS\",VLOOKUP($A214,'Last Race Results'!$A$5:$J$44,2,FALSE)))","v":"DNS"},{"$f":"IF('Last Race Results'!$B$5=0,0,IF(ISNA(VLOOKUP($A214,'Last Race Results'!$A$5:$K$44,11,FALSE)),0,VLOOKUP($A214,'Last Race Results'!$A$5:$K$44,11,FALSE)))","v":0},null,null,null,null,null,null,null,null,null,null,null,null,null,null,null,null,null,null,{"$f":"IF('Last Race Results'!$B$5=0,0,IF(ISNA(VLOOKUP($A214,'Last Race Results'!$A$5:$J$44,2,FALSE)),\"DNS\",VLOOKUP($A214,'Last Race Results'!$A$5:$J$44,2,FALSE)))","v":"DNS"},{"$f":"IF('Last Race Results'!$B$5=0,0,IF(ISNA(VLOOKUP($A214,'Last Race Results'!$A$5:$J$44,11,FALSE)),0,VLOOKUP($A214,'Last Race Results'!$A$5:$J$44,11,FALSE)))","v":0}]
[198,{"$f":"IF(ISNA(VLOOKUP($A215,'Entry List'!$A$1:$F$61,B$5,FALSE)),\"\",VLOOKUP($A215,'Entry List'!$A$1:$F$61,B$5,FALSE))","v":""},{"$f":"IF(ISNA(VLOOKUP($A215,'Entry List'!$A$1:$F$61,C$5,FALSE)),\"\",VLOOKUP($A215,'Entry List'!$A$1:$F$61,C$5,FALSE))","v":""},{"$f":"IF(ISNA(VLOOKUP($A215,'Entry List'!$A$1:$F$61,D$5,FALSE)),\"\",VLOOKUP($A215,'Entry List'!$A$1:$F$61,D$5,FALSE))","v":""},{"$f":"IF(ISNA(VLOOKUP($A215,'Entry List'!$A$1:$F$61,E$5,FALSE)),\"\",VLOOKUP($A215,'Entry List'!$A$1:$F$61,E$5,FALSE))","v":""},null,"DNS",0,"DNS",0,"DNS",0,"DNS",0,"DNS",0,"DNS",0,"DNS",0,"DNS",0,"DNS",0,"DNS",0,"DNS",0,"DNS",0,"DNS",0,"DNS",0,"DNS",0,"DNS",0,"DNS",0,"DNS",0,"DNS",0,"DNS",0,"DNS",0,"DNS",0,"DNS",0,"DNS",0,"DNS",0,{"$f":"IF('Last Race Results'!$B$5=0,0,IF(ISNA(VLOOKUP($A215,'Last Race Results'!$A$5:$J$44,2,FALSE)),\"DNS\",VLOOKUP($A215,'Last Race Results'!$A$5:$J$44,2,FALSE)))","v":"DNS"},{"$f":"IF('Last Race Results'!$B$5=0,0,IF(ISNA(VLOOKUP($A215,'Last Race Results'!$A$5:$K$44,11,FALSE)),0,VLOOKUP($A215,'Last Race Results'!$A$5:$K$44,11,FALSE)))","v":0},null,null,null,null,null,null,null,null,null,null,null,null,null,null,null,null,null,null,{"$f":"IF('Last Race Results'!$B$5=0,0,IF(ISNA(VLOOKUP($A215,'Last Race Results'!$A$5:$J$44,2,FALSE)),\"DNS\",VLOOKUP($A215,'Last Race Results'!$A$5:$J$44,2,FALSE)))","v":"DNS"},{"$f":"IF('Last Race Results'!$B$5=0,0,IF(ISNA(VLOOKUP($A215,'Last Race Results'!$A$5:$J$44,11,FALSE)),0,VLOOKUP($A215,'Last Race Results'!$A$5:$J$44,11,FALSE)))","v":0}]
[199,{"$f":"IF(ISNA(VLOOKUP($A216,'Entry List'!$A$1:$F$61,B$5,FALSE)),\"\",VLOOKUP($A216,'Entry List'!$A$1:$F$61,B$5,FALSE))","v":""},{"$f":"IF(ISNA(VLOOKUP($A216,'Entry List'!$A$1:$F$61,C$5,FALSE)),\"\",VLOOKUP($A216,'Entry List'!$A$1:$F$61,C$5,FALSE))","v":""},{"$f":"IF(ISNA(VLOOKUP($A216,'Entry List'!$A$1:$F$61,D$5,FALSE)),\"\",VLOOKUP($A216,'Entry List'!$A$1:$F$61,D$5,FALSE))","v":""},{"$f":"IF(ISNA(VLOOKUP($A216,'Entry List'!$A$1:$F$61,E$5,FALSE)),\"\",VLOOKUP($A216,'Entry List'!$A$1:$F$61,E$5,FALSE))","v":""},null,"DNS",0,"DNS",0,"DNS",0,"DNS",0,"DNS",0,"DNS",0,"DNS",0,"DNS",0,"DNS",0,"DNS",0,"DNS",0,"DNS",0,"DNS",0,"DNS",0,"DNS",0,"DNS",0,"DNS",0,"DNS",0,"DNS",0,"DNS",0,"DNS",0,"DNS",0,"DNS",0,"DNS",0,"DNS",0,{"$f":"IF('Last Race Results'!$B$5=0,0,IF(ISNA(VLOOKUP($A216,'Last Race Results'!$A$5:$J$44,2,FALSE)),\"DNS\",VLOOKUP($A216,'Last Race Results'!$A$5:$J$44,2,FALSE)))","v":"DNS"},{"$f":"IF('Last Race Results'!$B$5=0,0,IF(ISNA(VLOOKUP($A216,'Last Race Results'!$A$5:$K$44,11,FALSE)),0,VLOOKUP($A216,'Last Race Results'!$A$5:$K$44,11,FALSE)))","v":0},null,null,null,null,null,null,null,null,null,null,null,null,null,null,null,null,null,null,{"$f":"IF('Last Race Results'!$B$5=0,0,IF(ISNA(VLOOKUP($A216,'Last Race Results'!$A$5:$J$44,2,FALSE)),\"DNS\",VLOOKUP($A216,'Last Race Results'!$A$5:$J$44,2,FALSE)))","v":"DNS"},{"$f":"IF('Last Race Results'!$B$5=0,0,IF(ISNA(VLOOKUP($A216,'Last Race Results'!$A$5:$J$44,11,FALSE)),0,VLOOKUP($A216,'Last Race Results'!$A$5:$J$44,11,FALSE)))","v":0}]
[200,{"$f":"IF(ISNA(VLOOKUP($A217,'Entry List'!$A$1:$F$61,B$5,FALSE)),\"\",VLOOKUP($A217,'Entry List'!$A$1:$F$61,B$5,FALSE))","v":""},{"$f":"IF(ISNA(VLOOKUP($A217,'Entry List'!$A$1:$F$61,C$5,FALSE)),\"\",VLOOKUP($A217,'Entry List'!$A$1:$F$61,C$5,FALSE))","v":""},{"$f":"IF(ISNA(VLOOKUP($A217,'Entry List'!$A$1:$F$61,D$5,FALSE)),\"\",VLOOKUP($A217,'Entry List'!$A$1:$F$61,D$5,FALSE))","v":""},{"$f":"IF(ISNA(VLOOKUP($A217,'Entry List'!$A$1:$F$61,E$5,FALSE)),\"\",VLOOKUP($A217,'Entry List'!$A$1:$F$61,E$5,FALSE))","v":""},null,"DNS",0,"DNS",0,"DNS",0,"DNS",0,"DNS",0,"DNS",0,"DNS",0,"DNS",0,"DNS",0,"DNS",0,"DNS",0,"DNS",0,"DNS",0,"DNS",0,"DNS",0,"DNS",0,"DNS",0,"DNS",0,"DNS",0,"DNS",0,"DNS",0,"DNS",0,"DNS",0,"DNS",0,"DNS",0,{"$f":"IF('Last Race Results'!$B$5=0,0,IF(ISNA(VLOOKUP($A217,'Last Race Results'!$A$5:$J$44,2,FALSE)),\"DNS\",VLOOKUP($A217,'Last Race Results'!$A$5:$J$44,2,FALSE)))","v":"DNS"},{"$f":"IF('Last Race Results'!$B$5=0,0,IF(ISNA(VLOOKUP($A217,'Last Race Results'!$A$5:$K$44,11,FALSE)),0,VLOOKUP($A217,'Last Race Results'!$A$5:$K$44,11,FALSE)))","v":0},null,null,null,null,null,null,null,null,null,null,null,null,null,null,null,null,null,null,{"$f":"IF('Last Race Results'!$B$5=0,0,IF(ISNA(VLOOKUP($A217,'Last Race Results'!$A$5:$J$44,2,FALSE)),\"DNS\",VLOOKUP($A217,'Last Race Results'!$A$5:$J$44,2,FALSE)))","v":"DNS"},{"$f":"IF('Last Race Results'!$B$5=0,0,IF(ISNA(VLOOKUP($A217,'Last Race Results'!$A$5:$J$44,11,FALSE)),0,VLOOKUP($A217,'Last Race Results'!$A$5:$J$44,11,FALSE)))","v":0}]
[201,{"$f":"IF(ISNA(VLOOKUP($A218,'Entry List'!$A$1:$F$61,B$5,FALSE)),\"\",VLOOKUP($A218,'Entry List'!$A$1:$F$61,B$5,FALSE))","v":""},{"$f":"IF(ISNA(VLOOKUP($A218,'Entry List'!$A$1:$F$61,C$5,FALSE)),\"\",VLOOKUP($A218,'Entry List'!$A$1:$F$61,C$5,FALSE))","v":""},{"$f":"IF(ISNA(VLOOKUP($A218,'Entry List'!$A$1:$F$61,D$5,FALSE)),\"\",VLOOKUP($A218,'Entry List'!$A$1:$F$61,D$5,FALSE))","v":""},{"$f":"IF(ISNA(VLOOKUP($A218,'Entry List'!$A$1:$F$61,E$5,FALSE)),\"\",VLOOKUP($A218,'Entry List'!$A$1:$F$61,E$5,FALSE))","v":""},null,"DNS",0,"DNS",0,"DNS",0,"DNS",0,"DNS",0,"DNS",0,"DNS",0,"DNS",0,"DNS",0,"DNS",0,"DNS",0,"DNS",0,"DNS",0,"DNS",0,"DNS",0,"DNS",0,"DNS",0,"DNS",0,"DNS",0,"DNS",0,"DNS",0,"DNS",0,"DNS",0,"DNS",0,"DNS",0,{"$f":"IF('Last Race Results'!$B$5=0,0,IF(ISNA(VLOOKUP($A218,'Last Race Results'!$A$5:$J$44,2,FALSE)),\"DNS\",VLOOKUP($A218,'Last Race Results'!$A$5:$J$44,2,FALSE)))","v":"DNS"},{"$f":"IF('Last Race Results'!$B$5=0,0,IF(ISNA(VLOOKUP($A218,'Last Race Results'!$A$5:$K$44,11,FALSE)),0,VLOOKUP($A218,'Last Race Results'!$A$5:$K$44,11,FALSE)))","v":0},null,null,null,null,null,null,null,null,null,null,null,null,null,null,null,null,null,null,{"$f":"IF('Last Race Results'!$B$5=0,0,IF(ISNA(VLOOKUP($A218,'Last Race Results'!$A$5:$J$44,2,FALSE)),\"DNS\",VLOOKUP($A218,'Last Race Results'!$A$5:$J$44,2,FALSE)))","v":"DNS"},{"$f":"IF('Last Race Results'!$B$5=0,0,IF(ISNA(VLOOKUP($A218,'Last Race Results'!$A$5:$J$44,11,FALSE)),0,VLOOKUP($A218,'Last Race Results'!$A$5:$J$44,11,FALSE)))","v":0}]
[202,{"$f":"IF(ISNA(VLOOKUP($A219,'Entry List'!$A$1:$F$61,B$5,FALSE)),\"\",VLOOKUP($A219,'Entry List'!$A$1:$F$61,B$5,FALSE))","v":""},{"$f":"IF(ISNA(VLOOKUP($A219,'Entry List'!$A$1:$F$61,C$5,FALSE)),\"\",VLOOKUP($A219,'Entry List'!$A$1:$F$61,C$5,FALSE))","v":""},{"$f":"IF(ISNA(VLOOKUP($A219,'Entry List'!$A$1:$F$61,D$5,FALSE)),\"\",VLOOKUP($A219,'Entry List'!$A$1:$F$61,D$5,FALSE))","v":""},{"$f":"IF(ISNA(VLOOKUP($A219,'Entry List'!$A$1:$F$61,E$5,FALSE)),\"\",VLOOKUP($A219,'Entry List'!$A$1:$F$61,E$5,FALSE))","v":""},null,"DNS",0,"DNS",0,"DNS",0,"DNS",0,"DNS",0,"DNS",0,"DNS",0,"DNS",0,"DNS",0,"DNS",0,"DNS",0,"DNS",0,"DNS",0,"DNS",0,"DNS",0,"DNS",0,"DNS",0,"DNS",0,"DNS",0,"DNS",0,"DNS",0,"DNS",0,"DNS",0,"DNS",0,"DNS",0,{"$f":"IF('Last Race Results'!$B$5=0,0,IF(ISNA(VLOOKUP($A219,'Last Race Results'!$A$5:$J$44,2,FALSE)),\"DNS\",VLOOKUP($A219,'Last Race Results'!$A$5:$J$44,2,FALSE)))","v":"DNS"},{"$f":"IF('Last Race Results'!$B$5=0,0,IF(ISNA(VLOOKUP($A219,'Last Race Results'!$A$5:$K$44,11,FALSE)),0,VLOOKUP($A219,'Last Race Results'!$A$5:$K$44,11,FALSE)))","v":0},null,null,null,null,null,null,null,null,null,null,null,null,null,null,null,null,null,null,{"$f":"IF('Last Race Results'!$B$5=0,0,IF(ISNA(VLOOKUP($A219,'Last Race Results'!$A$5:$J$44,2,FALSE)),\"DNS\",VLOOKUP($A219,'Last Race Results'!$A$5:$J$44,2,FALSE)))","v":"DNS"},{"$f":"IF('Last Race Results'!$B$5=0,0,IF(ISNA(VLOOKUP($A219,'Last Race Results'!$A$5:$J$44,11,FALSE)),0,VLOOKUP($A219,'Last Race Results'!$A$5:$J$44,11,FALSE)))","v":0}]
[203,{"$f":"IF(ISNA(VLOOKUP($A220,'Entry List'!$A$1:$F$61,B$5,FALSE)),\"\",VLOOKUP($A220,'Entry List'!$A$1:$F$61,B$5,FALSE))","v":""},{"$f":"IF(ISNA(VLOOKUP($A220,'Entry List'!$A$1:$F$61,C$5,FALSE)),\"\",VLOOKUP($A220,'Entry List'!$A$1:$F$61,C$5,FALSE))","v":""},{"$f":"IF(ISNA(VLOOKUP($A220,'Entry List'!$A$1:$F$61,D$5,FALSE)),\"\",VLOOKUP($A220,'Entry List'!$A$1:$F$61,D$5,FALSE))","v":""},{"$f":"IF(ISNA(VLOOKUP($A220,'Entry List'!$A$1:$F$61,E$5,FALSE)),\"\",VLOOKUP($A220,'Entry List'!$A$1:$F$61,E$5,FALSE))","v":""},null,"DNS",0,"DNS",0,"DNS",0,"DNS",0,"DNS",0,"DNS",0,"DNS",0,"DNS",0,"DNS",0,"DNS",0,"DNS",0,"DNS",0,"DNS",0,"DNS",0,"DNS",0,"DNS",0,"DNS",0,"DNS",0,"DNS",0,"DNS",0,"DNS",0,"DNS",0,"DNS",0,"DNS",0,"DNS",0,{"$f":"IF('Last Race Results'!$B$5=0,0,IF(ISNA(VLOOKUP($A220,'Last Race Results'!$A$5:$J$44,2,FALSE)),\"DNS\",VLOOKUP($A220,'Last Race Results'!$A$5:$J$44,2,FALSE)))","v":"DNS"},{"$f":"IF('Last Race Results'!$B$5=0,0,IF(ISNA(VLOOKUP($A220,'Last Race Results'!$A$5:$K$44,11,FALSE)),0,VLOOKUP($A220,'Last Race Results'!$A$5:$K$44,11,FALSE)))","v":0},null,null,null,null,null,null,null,null,null,null,null,null,null,null,null,null,null,null,{"$f":"IF('Last Race Results'!$B$5=0,0,IF(ISNA(VLOOKUP($A220,'Last Race Results'!$A$5:$J$44,2,FALSE)),\"DNS\",VLOOKUP($A220,'Last Race Results'!$A$5:$J$44,2,FALSE)))","v":"DNS"},{"$f":"IF('Last Race Results'!$B$5=0,0,IF(ISNA(VLOOKUP($A220,'Last Race Results'!$A$5:$J$44,11,FALSE)),0,VLOOKUP($A220,'Last Race Results'!$A$5:$J$44,11,FALSE)))","v":0}]
[204,{"$f":"IF(ISNA(VLOOKUP($A221,'Entry List'!$A$1:$F$61,B$5,FALSE)),\"\",VLOOKUP($A221,'Entry List'!$A$1:$F$61,B$5,FALSE))","v":""},{"$f":"IF(ISNA(VLOOKUP($A221,'Entry List'!$A$1:$F$61,C$5,FALSE)),\"\",VLOOKUP($A221,'Entry List'!$A$1:$F$61,C$5,FALSE))","v":""},{"$f":"IF(ISNA(VLOOKUP($A221,'Entry List'!$A$1:$F$61,D$5,FALSE)),\"\",VLOOKUP($A221,'Entry List'!$A$1:$F$61,D$5,FALSE))","v":""},{"$f":"IF(ISNA(VLOOKUP($A221,'Entry List'!$A$1:$F$61,E$5,FALSE)),\"\",VLOOKUP($A221,'Entry List'!$A$1:$F$61,E$5,FALSE))","v":""},null,"DNS",0,"DNS",0,"DNS",0,"DNS",0,"DNS",0,"DNS",0,"DNS",0,"DNS",0,"DNS",0,"DNS",0,"DNS",0,"DNS",0,"DNS",0,"DNS",0,"DNS",0,"DNS",0,"DNS",0,"DNS",0,"DNS",0,"DNS",0,"DNS",0,"DNS",0,"DNS",0,"DNS",0,"DNS",0,{"$f":"IF('Last Race Results'!$B$5=0,0,IF(ISNA(VLOOKUP($A221,'Last Race Results'!$A$5:$J$44,2,FALSE)),\"DNS\",VLOOKUP($A221,'Last Race Results'!$A$5:$J$44,2,FALSE)))","v":"DNS"},{"$f":"IF('Last Race Results'!$B$5=0,0,IF(ISNA(VLOOKUP($A221,'Last Race Results'!$A$5:$K$44,11,FALSE)),0,VLOOKUP($A221,'Last Race Results'!$A$5:$K$44,11,FALSE)))","v":0},null,null,null,null,null,null,null,null,null,null,null,null,null,null,null,null,null,null,{"$f":"IF('Last Race Results'!$B$5=0,0,IF(ISNA(VLOOKUP($A221,'Last Race Results'!$A$5:$J$44,2,FALSE)),\"DNS\",VLOOKUP($A221,'Last Race Results'!$A$5:$J$44,2,FALSE)))","v":"DNS"},{"$f":"IF('Last Race Results'!$B$5=0,0,IF(ISNA(VLOOKUP($A221,'Last Race Results'!$A$5:$J$44,11,FALSE)),0,VLOOKUP($A221,'Last Race Results'!$A$5:$J$44,11,FALSE)))","v":0}]
[205,{"$f":"IF(ISNA(VLOOKUP($A222,'Entry List'!$A$1:$F$61,B$5,FALSE)),\"\",VLOOKUP($A222,'Entry List'!$A$1:$F$61,B$5,FALSE))","v":""},{"$f":"IF(ISNA(VLOOKUP($A222,'Entry List'!$A$1:$F$61,C$5,FALSE)),\"\",VLOOKUP($A222,'Entry List'!$A$1:$F$61,C$5,FALSE))","v":""},{"$f":"IF(ISNA(VLOOKUP($A222,'Entry List'!$A$1:$F$61,D$5,FALSE)),\"\",VLOOKUP($A222,'Entry List'!$A$1:$F$61,D$5,FALSE))","v":""},{"$f":"IF(ISNA(VLOOKUP($A222,'Entry List'!$A$1:$F$61,E$5,FALSE)),\"\",VLOOKUP($A222,'Entry List'!$A$1:$F$61,E$5,FALSE))","v":""},null,"DNS",0,"DNS",0,"DNS",0,"DNS",0,"DNS",0,"DNS",0,"DNS",0,"DNS",0,"DNS",0,"DNS",0,"DNS",0,"DNS",0,"DNS",0,"DNS",0,"DNS",0,"DNS",0,"DNS",0,"DNS",0,"DNS",0,"DNS",0,"DNS",0,"DNS",0,"DNS",0,"DNS",0,"DNS",0,{"$f":"IF('Last Race Results'!$B$5=0,0,IF(ISNA(VLOOKUP($A222,'Last Race Results'!$A$5:$J$44,2,FALSE)),\"DNS\",VLOOKUP($A222,'Last Race Results'!$A$5:$J$44,2,FALSE)))","v":"DNS"},{"$f":"IF('Last Race Results'!$B$5=0,0,IF(ISNA(VLOOKUP($A222,'Last Race Results'!$A$5:$K$44,11,FALSE)),0,VLOOKUP($A222,'Last Race Results'!$A$5:$K$44,11,FALSE)))","v":0},null,null,null,null,null,null,null,null,null,null,null,null,null,null,null,null,null,null,{"$f":"IF('Last Race Results'!$B$5=0,0,IF(ISNA(VLOOKUP($A222,'Last Race Results'!$A$5:$J$44,2,FALSE)),\"DNS\",VLOOKUP($A222,'Last Race Results'!$A$5:$J$44,2,FALSE)))","v":"DNS"},{"$f":"IF('Last Race Results'!$B$5=0,0,IF(ISNA(VLOOKUP($A222,'Last Race Results'!$A$5:$J$44,11,FALSE)),0,VLOOKUP($A222,'Last Race Results'!$A$5:$J$44,11,FALSE)))","v":0}]
[206,{"$f":"IF(ISNA(VLOOKUP($A223,'Entry List'!$A$1:$F$61,B$5,FALSE)),\"\",VLOOKUP($A223,'Entry List'!$A$1:$F$61,B$5,FALSE))","v":""},{"$f":"IF(ISNA(VLOOKUP($A223,'Entry List'!$A$1:$F$61,C$5,FALSE)),\"\",VLOOKUP($A223,'Entry List'!$A$1:$F$61,C$5,FALSE))","v":""},{"$f":"IF(ISNA(VLOOKUP($A223,'Entry List'!$A$1:$F$61,D$5,FALSE)),\"\",VLOOKUP($A223,'Entry List'!$A$1:$F$61,D$5,FALSE))","v":""},{"$f":"IF(ISNA(VLOOKUP($A223,'Entry List'!$A$1:$F$61,E$5,FALSE)),\"\",VLOOKUP($A223,'Entry List'!$A$1:$F$61,E$5,FALSE))","v":""},null,"DNS",0,"DNS",0,"DNS",0,"DNS",0,"DNS",0,"DNS",0,"DNS",0,"DNS",0,"DNS",0,"DNS",0,"DNS",0,"DNS",0,"DNS",0,"DNS",0,"DNS",0,"DNS",0,"DNS",0,"DNS",0,"DNS",0,"DNS",0,"DNS",0,"DNS",0,"DNS",0,"DNS",0,"DNS",0,{"$f":"IF('Last Race Results'!$B$5=0,0,IF(ISNA(VLOOKUP($A223,'Last Race Results'!$A$5:$J$44,2,FALSE)),\"DNS\",VLOOKUP($A223,'Last Race Results'!$A$5:$J$44,2,FALSE)))","v":"DNS"},{"$f":"IF('Last Race Results'!$B$5=0,0,IF(ISNA(VLOOKUP($A223,'Last Race Results'!$A$5:$K$44,11,FALSE)),0,VLOOKUP($A223,'Last Race Results'!$A$5:$K$44,11,FALSE)))","v":0},null,null,null,null,null,null,null,null,null,null,null,null,null,null,null,null,null,null,{"$f":"IF('Last Race Results'!$B$5=0,0,IF(ISNA(VLOOKUP($A223,'Last Race Results'!$A$5:$J$44,2,FALSE)),\"DNS\",VLOOKUP($A223,'Last Race Results'!$A$5:$J$44,2,FALSE)))","v":"DNS"},{"$f":"IF('Last Race Results'!$B$5=0,0,IF(ISNA(VLOOKUP($A223,'Last Race Results'!$A$5:$J$44,11,FALSE)),0,VLOOKUP($A223,'Last Race Results'!$A$5:$J$44,11,FALSE)))","v":0}]
[207,{"$f":"IF(ISNA(VLOOKUP($A224,'Entry List'!$A$1:$F$61,B$5,FALSE)),\"\",VLOOKUP($A224,'Entry List'!$A$1:$F$61,B$5,FALSE))","v":""},{"$f":"IF(ISNA(VLOOKUP($A224,'Entry List'!$A$1:$F$61,C$5,FALSE)),\"\",VLOOKUP($A224,'Entry List'!$A$1:$F$61,C$5,FALSE))","v":""},{"$f":"IF(ISNA(VLOOKUP($A224,'Entry List'!$A$1:$F$61,D$5,FALSE)),\"\",VLOOKUP($A224,'Entry List'!$A$1:$F$61,D$5,FALSE))","v":""},{"$f":"IF(ISNA(VLOOKUP($A224,'Entry List'!$A$1:$F$61,E$5,FALSE)),\"\",VLOOKUP($A224,'Entry List'!$A$1:$F$61,E$5,FALSE))","v":""},null,"DNS",0,"DNS",0,"DNS",0,"DNS",0,"DNS",0,"DNS",0,"DNS",0,"DNS",0,"DNS",0,"DNS",0,"DNS",0,"DNS",0,"DNS",0,"DNS",0,"DNS",0,"DNS",0,"DNS",0,"DNS",0,"DNS",0,"DNS",0,"DNS",0,"DNS",0,"DNS",0,"DNS",0,"DNS",0,{"$f":"IF('Last Race Results'!$B$5=0,0,IF(ISNA(VLOOKUP($A224,'Last Race Results'!$A$5:$J$44,2,FALSE)),\"DNS\",VLOOKUP($A224,'Last Race Results'!$A$5:$J$44,2,FALSE)))","v":"DNS"},{"$f":"IF('Last Race Results'!$B$5=0,0,IF(ISNA(VLOOKUP($A224,'Last Race Results'!$A$5:$K$44,11,FALSE)),0,VLOOKUP($A224,'Last Race Results'!$A$5:$K$44,11,FALSE)))","v":0},null,null,null,null,null,null,null,null,null,null,null,null,null,null,null,null,null,null,{"$f":"IF('Last Race Results'!$B$5=0,0,IF(ISNA(VLOOKUP($A224,'Last Race Results'!$A$5:$J$44,2,FALSE)),\"DNS\",VLOOKUP($A224,'Last Race Results'!$A$5:$J$44,2,FALSE)))","v":"DNS"},{"$f":"IF('Last Race Results'!$B$5=0,0,IF(ISNA(VLOOKUP($A224,'Last Race Results'!$A$5:$J$44,11,FALSE)),0,VLOOKUP($A224,'Last Race Results'!$A$5:$J$44,11,FALSE)))","v":0}]
[208,{"$f":"IF(ISNA(VLOOKUP($A225,'Entry List'!$A$1:$F$61,B$5,FALSE)),\"\",VLOOKUP($A225,'Entry List'!$A$1:$F$61,B$5,FALSE))","v":""},{"$f":"IF(ISNA(VLOOKUP($A225,'Entry List'!$A$1:$F$61,C$5,FALSE)),\"\",VLOOKUP($A225,'Entry List'!$A$1:$F$61,C$5,FALSE))","v":""},{"$f":"IF(ISNA(VLOOKUP($A225,'Entry List'!$A$1:$F$61,D$5,FALSE)),\"\",VLOOKUP($A225,'Entry List'!$A$1:$F$61,D$5,FALSE))","v":""},{"$f":"IF(ISNA(VLOOKUP($A225,'Entry List'!$A$1:$F$61,E$5,FALSE)),\"\",VLOOKUP($A225,'Entry List'!$A$1:$F$61,E$5,FALSE))","v":""},null,"DNS",0,"DNS",0,"DNS",0,"DNS",0,"DNS",0,"DNS",0,"DNS",0,"DNS",0,"DNS",0,"DNS",0,"DNS",0,"DNS",0,"DNS",0,"DNS",0,"DNS",0,"DNS",0,"DNS",0,"DNS",0,"DNS",0,"DNS",0,"DNS",0,"DNS",0,"DNS",0,"DNS",0,"DNS",0,{"$f":"IF('Last Race Results'!$B$5=0,0,IF(ISNA(VLOOKUP($A225,'Last Race Results'!$A$5:$J$44,2,FALSE)),\"DNS\",VLOOKUP($A225,'Last Race Results'!$A$5:$J$44,2,FALSE)))","v":"DNS"},{"$f":"IF('Last Race Results'!$B$5=0,0,IF(ISNA(VLOOKUP($A225,'Last Race Results'!$A$5:$K$44,11,FALSE)),0,VLOOKUP($A225,'Last Race Results'!$A$5:$K$44,11,FALSE)))","v":0},null,null,null,null,null,null,null,null,null,null,null,null,null,null,null,null,null,null,{"$f":"IF('Last Race Results'!$B$5=0,0,IF(ISNA(VLOOKUP($A225,'Last Race Results'!$A$5:$J$44,2,FALSE)),\"DNS\",VLOOKUP($A225,'Last Race Results'!$A$5:$J$44,2,FALSE)))","v":"DNS"},{"$f":"IF('Last Race Results'!$B$5=0,0,IF(ISNA(VLOOKUP($A225,'Last Race Results'!$A$5:$J$44,11,FALSE)),0,VLOOKUP($A225,'Last Race Results'!$A$5:$J$44,11,FALSE)))","v":0}]
[209,{"$f":"IF(ISNA(VLOOKUP($A226,'Entry List'!$A$1:$F$61,B$5,FALSE)),\"\",VLOOKUP($A226,'Entry List'!$A$1:$F$61,B$5,FALSE))","v":""},{"$f":"IF(ISNA(VLOOKUP($A226,'Entry List'!$A$1:$F$61,C$5,FALSE)),\"\",VLOOKUP($A226,'Entry List'!$A$1:$F$61,C$5,FALSE))","v":""},{"$f":"IF(ISNA(VLOOKUP($A226,'Entry List'!$A$1:$F$61,D$5,FALSE)),\"\",VLOOKUP($A226,'Entry List'!$A$1:$F$61,D$5,FALSE))","v":""},{"$f":"IF(ISNA(VLOOKUP($A226,'Entry List'!$A$1:$F$61,E$5,FALSE)),\"\",VLOOKUP($A226,'Entry List'!$A$1:$F$61,E$5,FALSE))","v":""},null,"DNS",0,"DNS",0,"DNS",0,"DNS",0,"DNS",0,"DNS",0,"DNS",0,"DNS",0,"DNS",0,"DNS",0,"DNS",0,"DNS",0,"DNS",0,"DNS",0,"DNS",0,"DNS",0,"DNS",0,"DNS",0,"DNS",0,"DNS",0,"DNS",0,"DNS",0,"DNS",0,"DNS",0,"DNS",0,{"$f":"IF('Last Race Results'!$B$5=0,0,IF(ISNA(VLOOKUP($A226,'Last Race Results'!$A$5:$J$44,2,FALSE)),\"DNS\",VLOOKUP($A226,'Last Race Results'!$A$5:$J$44,2,FALSE)))","v":"DNS"},{"$f":"IF('Last Race Results'!$B$5=0,0,IF(ISNA(VLOOKUP($A226,'Last Race Results'!$A$5:$K$44,11,FALSE)),0,VLOOKUP($A226,'Last Race Results'!$A$5:$K$44,11,FALSE)))","v":0},null,null,null,null,null,null,null,null,null,null,null,null,null,null,null,null,null,null,{"$f":"IF('Last Race Results'!$B$5=0,0,IF(ISNA(VLOOKUP($A226,'Last Race Results'!$A$5:$J$44,2,FALSE)),\"DNS\",VLOOKUP($A226,'Last Race Results'!$A$5:$J$44,2,FALSE)))","v":"DNS"},{"$f":"IF('Last Race Results'!$B$5=0,0,IF(ISNA(VLOOKUP($A226,'Last Race Results'!$A$5:$J$44,11,FALSE)),0,VLOOKUP($A226,'Last Race Results'!$A$5:$J$44,11,FALSE)))","v":0}]
[210,{"$f":"IF(ISNA(VLOOKUP($A227,'Entry List'!$A$1:$F$61,B$5,FALSE)),\"\",VLOOKUP($A227,'Entry List'!$A$1:$F$61,B$5,FALSE))","v":""},{"$f":"IF(ISNA(VLOOKUP($A227,'Entry List'!$A$1:$F$61,C$5,FALSE)),\"\",VLOOKUP($A227,'Entry List'!$A$1:$F$61,C$5,FALSE))","v":""},{"$f":"IF(ISNA(VLOOKUP($A227,'Entry List'!$A$1:$F$61,D$5,FALSE)),\"\",VLOOKUP($A227,'Entry List'!$A$1:$F$61,D$5,FALSE))","v":""},{"$f":"IF(ISNA(VLOOKUP($A227,'Entry List'!$A$1:$F$61,E$5,FALSE)),\"\",VLOOKUP($A227,'Entry List'!$A$1:$F$61,E$5,FALSE))","v":""},null,"DNS",0,"DNS",0,"DNS",0,"DNS",0,"DNS",0,"DNS",0,"DNS",0,"DNS",0,"DNS",0,"DNS",0,"DNS",0,"DNS",0,"DNS",0,"DNS",0,"DNS",0,"DNS",0,"DNS",0,"DNS",0,"DNS",0,"DNS",0,"DNS",0,"DNS",0,"DNS",0,"DNS",0,"DNS",0,{"$f":"IF('Last Race Results'!$B$5=0,0,IF(ISNA(VLOOKUP($A227,'Last Race Results'!$A$5:$J$44,2,FALSE)),\"DNS\",VLOOKUP($A227,'Last Race Results'!$A$5:$J$44,2,FALSE)))","v":"DNS"},{"$f":"IF('Last Race Results'!$B$5=0,0,IF(ISNA(VLOOKUP($A227,'Last Race Results'!$A$5:$K$44,11,FALSE)),0,VLOOKUP($A227,'Last Race Results'!$A$5:$K$44,11,FALSE)))","v":0},null,null,null,null,null,null,null,null,null,null,null,null,null,null,null,null,null,null,{"$f":"IF('Last Race Results'!$B$5=0,0,IF(ISNA(VLOOKUP($A227,'Last Race Results'!$A$5:$J$44,2,FALSE)),\"DNS\",VLOOKUP($A227,'Last Race Results'!$A$5:$J$44,2,FALSE)))","v":"DNS"},{"$f":"IF('Last Race Results'!$B$5=0,0,IF(ISNA(VLOOKUP($A227,'Last Race Results'!$A$5:$J$44,11,FALSE)),0,VLOOKUP($A227,'Last Race Results'!$A$5:$J$44,11,FALSE)))","v":0}]
[211,{"$f":"IF(ISNA(VLOOKUP($A228,'Entry List'!$A$1:$F$61,B$5,FALSE)),\"\",VLOOKUP($A228,'Entry List'!$A$1:$F$61,B$5,FALSE))","v":""},{"$f":"IF(ISNA(VLOOKUP($A228,'Entry List'!$A$1:$F$61,C$5,FALSE)),\"\",VLOOKUP($A228,'Entry List'!$A$1:$F$61,C$5,FALSE))","v":""},{"$f":"IF(ISNA(VLOOKUP($A228,'Entry List'!$A$1:$F$61,D$5,FALSE)),\"\",VLOOKUP($A228,'Entry List'!$A$1:$F$61,D$5,FALSE))","v":""},{"$f":"IF(ISNA(VLOOKUP($A228,'Entry List'!$A$1:$F$61,E$5,FALSE)),\"\",VLOOKUP($A228,'Entry List'!$A$1:$F$61,E$5,FALSE))","v":""},null,"DNS",0,"DNS",0,"DNS",0,"DNS",0,"DNS",0,"DNS",0,"DNS",0,"DNS",0,"DNS",0,"DNS",0,"DNS",0,"DNS",0,"DNS",0,"DNS",0,"DNS",0,"DNS",0,"DNS",0,"DNS",0,"DNS",0,"DNS",0,"DNS",0,"DNS",0,"DNS",0,"DNS",0,"DNS",0,{"$f":"IF('Last Race Results'!$B$5=0,0,IF(ISNA(VLOOKUP($A228,'Last Race Results'!$A$5:$J$44,2,FALSE)),\"DNS\",VLOOKUP($A228,'Last Race Results'!$A$5:$J$44,2,FALSE)))","v":"DNS"},{"$f":"IF('Last Race Results'!$B$5=0,0,IF(ISNA(VLOOKUP($A228,'Last Race Results'!$A$5:$K$44,11,FALSE)),0,VLOOKUP($A228,'Last Race Results'!$A$5:$K$44,11,FALSE)))","v":0},null,null,null,null,null,null,null,null,null,null,null,null,null,null,null,null,null,null,{"$f":"IF('Last Race Results'!$B$5=0,0,IF(ISNA(VLOOKUP($A228,'Last Race Results'!$A$5:$J$44,2,FALSE)),\"DNS\",VLOOKUP($A228,'Last Race Results'!$A$5:$J$44,2,FALSE)))","v":"DNS"},{"$f":"IF('Last Race Results'!$B$5=0,0,IF(ISNA(VLOOKUP($A228,'Last Race Results'!$A$5:$J$44,11,FALSE)),0,VLOOKUP($A228,'Last Race Results'!$A$5:$J$44,11,FALSE)))","v":0}]
[212,{"$f":"IF(ISNA(VLOOKUP($A229,'Entry List'!$A$1:$F$61,B$5,FALSE)),\"\",VLOOKUP($A229,'Entry List'!$A$1:$F$61,B$5,FALSE))","v":""},{"$f":"IF(ISNA(VLOOKUP($A229,'Entry List'!$A$1:$F$61,C$5,FALSE)),\"\",VLOOKUP($A229,'Entry List'!$A$1:$F$61,C$5,FALSE))","v":""},{"$f":"IF(ISNA(VLOOKUP($A229,'Entry List'!$A$1:$F$61,D$5,FALSE)),\"\",VLOOKUP($A229,'Entry List'!$A$1:$F$61,D$5,FALSE))","v":""},{"$f":"IF(ISNA(VLOOKUP($A229,'Entry List'!$A$1:$F$61,E$5,FALSE)),\"\",VLOOKUP($A229,'Entry List'!$A$1:$F$61,E$5,FALSE))","v":""},null,"DNS",0,"DNS",0,"DNS",0,"DNS",0,"DNS",0,"DNS",0,"DNS",0,"DNS",0,"DNS",0,"DNS",0,"DNS",0,"DNS",0,"DNS",0,"DNS",0,"DNS",0,"DNS",0,"DNS",0,"DNS",0,"DNS",0,"DNS",0,"DNS",0,"DNS",0,"DNS",0,"DNS",0,"DNS",0,{"$f":"IF('Last Race Results'!$B$5=0,0,IF(ISNA(VLOOKUP($A229,'Last Race Results'!$A$5:$J$44,2,FALSE)),\"DNS\",VLOOKUP($A229,'Last Race Results'!$A$5:$J$44,2,FALSE)))","v":"DNS"},{"$f":"IF('Last Race Results'!$B$5=0,0,IF(ISNA(VLOOKUP($A229,'Last Race Results'!$A$5:$K$44,11,FALSE)),0,VLOOKUP($A229,'Last Race Results'!$A$5:$K$44,11,FALSE)))","v":0},null,null,null,null,null,null,null,null,null,null,null,null,null,null,null,null,null,null,{"$f":"IF('Last Race Results'!$B$5=0,0,IF(ISNA(VLOOKUP($A229,'Last Race Results'!$A$5:$J$44,2,FALSE)),\"DNS\",VLOOKUP($A229,'Last Race Results'!$A$5:$J$44,2,FALSE)))","v":"DNS"},{"$f":"IF('Last Race Results'!$B$5=0,0,IF(ISNA(VLOOKUP($A229,'Last Race Results'!$A$5:$J$44,11,FALSE)),0,VLOOKUP($A229,'Last Race Results'!$A$5:$J$44,11,FALSE)))","v":0}]
[213,{"$f":"IF(ISNA(VLOOKUP($A230,'Entry List'!$A$1:$F$61,B$5,FALSE)),\"\",VLOOKUP($A230,'Entry List'!$A$1:$F$61,B$5,FALSE))","v":""},{"$f":"IF(ISNA(VLOOKUP($A230,'Entry List'!$A$1:$F$61,C$5,FALSE)),\"\",VLOOKUP($A230,'Entry List'!$A$1:$F$61,C$5,FALSE))","v":""},{"$f":"IF(ISNA(VLOOKUP($A230,'Entry List'!$A$1:$F$61,D$5,FALSE)),\"\",VLOOKUP($A230,'Entry List'!$A$1:$F$61,D$5,FALSE))","v":""},{"$f":"IF(ISNA(VLOOKUP($A230,'Entry List'!$A$1:$F$61,E$5,FALSE)),\"\",VLOOKUP($A230,'Entry List'!$A$1:$F$61,E$5,FALSE))","v":""},null,"DNS",0,"DNS",0,"DNS",0,"DNS",0,"DNS",0,"DNS",0,"DNS",0,"DNS",0,"DNS",0,"DNS",0,"DNS",0,"DNS",0,"DNS",0,"DNS",0,"DNS",0,"DNS",0,"DNS",0,"DNS",0,"DNS",0,"DNS",0,"DNS",0,"DNS",0,"DNS",0,"DNS",0,"DNS",0,{"$f":"IF('Last Race Results'!$B$5=0,0,IF(ISNA(VLOOKUP($A230,'Last Race Results'!$A$5:$J$44,2,FALSE)),\"DNS\",VLOOKUP($A230,'Last Race Results'!$A$5:$J$44,2,FALSE)))","v":"DNS"},{"$f":"IF('Last Race Results'!$B$5=0,0,IF(ISNA(VLOOKUP($A230,'Last Race Results'!$A$5:$K$44,11,FALSE)),0,VLOOKUP($A230,'Last Race Results'!$A$5:$K$44,11,FALSE)))","v":0},null,null,null,null,null,null,null,null,null,null,null,null,null,null,null,null,null,null,{"$f":"IF('Last Race Results'!$B$5=0,0,IF(ISNA(VLOOKUP($A230,'Last Race Results'!$A$5:$J$44,2,FALSE)),\"DNS\",VLOOKUP($A230,'Last Race Results'!$A$5:$J$44,2,FALSE)))","v":"DNS"},{"$f":"IF('Last Race Results'!$B$5=0,0,IF(ISNA(VLOOKUP($A230,'Last Race Results'!$A$5:$J$44,11,FALSE)),0,VLOOKUP($A230,'Last Race Results'!$A$5:$J$44,11,FALSE)))","v":0}]
[214,{"$f":"IF(ISNA(VLOOKUP($A231,'Entry List'!$A$1:$F$61,B$5,FALSE)),\"\",VLOOKUP($A231,'Entry List'!$A$1:$F$61,B$5,FALSE))","v":""},{"$f":"IF(ISNA(VLOOKUP($A231,'Entry List'!$A$1:$F$61,C$5,FALSE)),\"\",VLOOKUP($A231,'Entry List'!$A$1:$F$61,C$5,FALSE))","v":""},{"$f":"IF(ISNA(VLOOKUP($A231,'Entry List'!$A$1:$F$61,D$5,FALSE)),\"\",VLOOKUP($A231,'Entry List'!$A$1:$F$61,D$5,FALSE))","v":""},{"$f":"IF(ISNA(VLOOKUP($A231,'Entry List'!$A$1:$F$61,E$5,FALSE)),\"\",VLOOKUP($A231,'Entry List'!$A$1:$F$61,E$5,FALSE))","v":""},null,"DNS",0,"DNS",0,"DNS",0,"DNS",0,"DNS",0,"DNS",0,"DNS",0,"DNS",0,"DNS",0,"DNS",0,"DNS",0,"DNS",0,"DNS",0,"DNS",0,"DNS",0,"DNS",0,"DNS",0,"DNS",0,"DNS",0,"DNS",0,"DNS",0,"DNS",0,"DNS",0,"DNS",0,"DNS",0,{"$f":"IF('Last Race Results'!$B$5=0,0,IF(ISNA(VLOOKUP($A231,'Last Race Results'!$A$5:$J$44,2,FALSE)),\"DNS\",VLOOKUP($A231,'Last Race Results'!$A$5:$J$44,2,FALSE)))","v":"DNS"},{"$f":"IF('Last Race Results'!$B$5=0,0,IF(ISNA(VLOOKUP($A231,'Last Race Results'!$A$5:$K$44,11,FALSE)),0,VLOOKUP($A231,'Last Race Results'!$A$5:$K$44,11,FALSE)))","v":0},null,null,null,null,null,null,null,null,null,null,null,null,null,null,null,null,null,null,{"$f":"IF('Last Race Results'!$B$5=0,0,IF(ISNA(VLOOKUP($A231,'Last Race Results'!$A$5:$J$44,2,FALSE)),\"DNS\",VLOOKUP($A231,'Last Race Results'!$A$5:$J$44,2,FALSE)))","v":"DNS"},{"$f":"IF('Last Race Results'!$B$5=0,0,IF(ISNA(VLOOKUP($A231,'Last Race Results'!$A$5:$J$44,11,FALSE)),0,VLOOKUP($A231,'Last Race Results'!$A$5:$J$44,11,FALSE)))","v":0}]
[215,{"$f":"IF(ISNA(VLOOKUP($A232,'Entry List'!$A$1:$F$61,B$5,FALSE)),\"\",VLOOKUP($A232,'Entry List'!$A$1:$F$61,B$5,FALSE))","v":""},{"$f":"IF(ISNA(VLOOKUP($A232,'Entry List'!$A$1:$F$61,C$5,FALSE)),\"\",VLOOKUP($A232,'Entry List'!$A$1:$F$61,C$5,FALSE))","v":""},{"$f":"IF(ISNA(VLOOKUP($A232,'Entry List'!$A$1:$F$61,D$5,FALSE)),\"\",VLOOKUP($A232,'Entry List'!$A$1:$F$61,D$5,FALSE))","v":""},{"$f":"IF(ISNA(VLOOKUP($A232,'Entry List'!$A$1:$F$61,E$5,FALSE)),\"\",VLOOKUP($A232,'Entry List'!$A$1:$F$61,E$5,FALSE))","v":""},null,"DNS",0,"DNS",0,"DNS",0,"DNS",0,"DNS",0,"DNS",0,"DNS",0,"DNS",0,"DNS",0,"DNS",0,"DNS",0,"DNS",0,"DNS",0,"DNS",0,"DNS",0,"DNS",0,"DNS",0,"DNS",0,"DNS",0,"DNS",0,"DNS",0,"DNS",0,"DNS",0,"DNS",0,"DNS",0,{"$f":"IF('Last Race Results'!$B$5=0,0,IF(ISNA(VLOOKUP($A232,'Last Race Results'!$A$5:$J$44,2,FALSE)),\"DNS\",VLOOKUP($A232,'Last Race Results'!$A$5:$J$44,2,FALSE)))","v":"DNS"},{"$f":"IF('Last Race Results'!$B$5=0,0,IF(ISNA(VLOOKUP($A232,'Last Race Results'!$A$5:$K$44,11,FALSE)),0,VLOOKUP($A232,'Last Race Results'!$A$5:$K$44,11,FALSE)))","v":0},null,null,null,null,null,null,null,null,null,null,null,null,null,null,null,null,null,null,{"$f":"IF('Last Race Results'!$B$5=0,0,IF(ISNA(VLOOKUP($A232,'Last Race Results'!$A$5:$J$44,2,FALSE)),\"DNS\",VLOOKUP($A232,'Last Race Results'!$A$5:$J$44,2,FALSE)))","v":"DNS"},{"$f":"IF('Last Race Results'!$B$5=0,0,IF(ISNA(VLOOKUP($A232,'Last Race Results'!$A$5:$J$44,11,FALSE)),0,VLOOKUP($A232,'Last Race Results'!$A$5:$J$44,11,FALSE)))","v":0}]
[216,{"$f":"IF(ISNA(VLOOKUP($A233,'Entry List'!$A$1:$F$61,B$5,FALSE)),\"\",VLOOKUP($A233,'Entry List'!$A$1:$F$61,B$5,FALSE))","v":""},{"$f":"IF(ISNA(VLOOKUP($A233,'Entry List'!$A$1:$F$61,C$5,FALSE)),\"\",VLOOKUP($A233,'Entry List'!$A$1:$F$61,C$5,FALSE))","v":""},{"$f":"IF(ISNA(VLOOKUP($A233,'Entry List'!$A$1:$F$61,D$5,FALSE)),\"\",VLOOKUP($A233,'Entry List'!$A$1:$F$61,D$5,FALSE))","v":""},{"$f":"IF(ISNA(VLOOKUP($A233,'Entry List'!$A$1:$F$61,E$5,FALSE)),\"\",VLOOKUP($A233,'Entry List'!$A$1:$F$61,E$5,FALSE))","v":""},null,"DNS",0,"DNS",0,"DNS",0,"DNS",0,"DNS",0,"DNS",0,"DNS",0,"DNS",0,"DNS",0,"DNS",0,"DNS",0,"DNS",0,"DNS",0,"DNS",0,"DNS",0,"DNS",0,"DNS",0,"DNS",0,"DNS",0,"DNS",0,"DNS",0,"DNS",0,"DNS",0,"DNS",0,"DNS",0,{"$f":"IF('Last Race Results'!$B$5=0,0,IF(ISNA(VLOOKUP($A233,'Last Race Results'!$A$5:$J$44,2,FALSE)),\"DNS\",VLOOKUP($A233,'Last Race Results'!$A$5:$J$44,2,FALSE)))","v":"DNS"},{"$f":"IF('Last Race Results'!$B$5=0,0,IF(ISNA(VLOOKUP($A233,'Last Race Results'!$A$5:$K$44,11,FALSE)),0,VLOOKUP($A233,'Last Race Results'!$A$5:$K$44,11,FALSE)))","v":0},null,null,null,null,null,null,null,null,null,null,null,null,null,null,null,null,null,null,{"$f":"IF('Last Race Results'!$B$5=0,0,IF(ISNA(VLOOKUP($A233,'Last Race Results'!$A$5:$J$44,2,FALSE)),\"DNS\",VLOOKUP($A233,'Last Race Results'!$A$5:$J$44,2,FALSE)))","v":"DNS"},{"$f":"IF('Last Race Results'!$B$5=0,0,IF(ISNA(VLOOKUP($A233,'Last Race Results'!$A$5:$J$44,11,FALSE)),0,VLOOKUP($A233,'Last Race Results'!$A$5:$J$44,11,FALSE)))","v":0}]
[217,{"$f":"IF(ISNA(VLOOKUP($A234,'Entry List'!$A$1:$F$61,B$5,FALSE)),\"\",VLOOKUP($A234,'Entry List'!$A$1:$F$61,B$5,FALSE))","v":""},{"$f":"IF(ISNA(VLOOKUP($A234,'Entry List'!$A$1:$F$61,C$5,FALSE)),\"\",VLOOKUP($A234,'Entry List'!$A$1:$F$61,C$5,FALSE))","v":""},{"$f":"IF(ISNA(VLOOKUP($A234,'Entry List'!$A$1:$F$61,D$5,FALSE)),\"\",VLOOKUP($A234,'Entry List'!$A$1:$F$61,D$5,FALSE))","v":""},{"$f":"IF(ISNA(VLOOKUP($A234,'Entry List'!$A$1:$F$61,E$5,FALSE)),\"\",VLOOKUP($A234,'Entry List'!$A$1:$F$61,E$5,FALSE))","v":""},null,"DNS",0,"DNS",0,"DNS",0,"DNS",0,"DNS",0,"DNS",0,"DNS",0,"DNS",0,"DNS",0,"DNS",0,"DNS",0,"DNS",0,"DNS",0,"DNS",0,"DNS",0,"DNS",0,"DNS",0,"DNS",0,"DNS",0,"DNS",0,"DNS",0,"DNS",0,"DNS",0,"DNS",0,"DNS",0,{"$f":"IF('Last Race Results'!$B$5=0,0,IF(ISNA(VLOOKUP($A234,'Last Race Results'!$A$5:$J$44,2,FALSE)),\"DNS\",VLOOKUP($A234,'Last Race Results'!$A$5:$J$44,2,FALSE)))","v":"DNS"},{"$f":"IF('Last Race Results'!$B$5=0,0,IF(ISNA(VLOOKUP($A234,'Last Race Results'!$A$5:$K$44,11,FALSE)),0,VLOOKUP($A234,'Last Race Results'!$A$5:$K$44,11,FALSE)))","v":0},null,null,null,null,null,null,null,null,null,null,null,null,null,null,null,null,null,null,{"$f":"IF('Last Race Results'!$B$5=0,0,IF(ISNA(VLOOKUP($A234,'Last Race Results'!$A$5:$J$44,2,FALSE)),\"DNS\",VLOOKUP($A234,'Last Race Results'!$A$5:$J$44,2,FALSE)))","v":"DNS"},{"$f":"IF('Last Race Results'!$B$5=0,0,IF(ISNA(VLOOKUP($A234,'Last Race Results'!$A$5:$J$44,11,FALSE)),0,VLOOKUP($A234,'Last Race Results'!$A$5:$J$44,11,FALSE)))","v":0}]
[218,{"$f":"IF(ISNA(VLOOKUP($A235,'Entry List'!$A$1:$F$61,B$5,FALSE)),\"\",VLOOKUP($A235,'Entry List'!$A$1:$F$61,B$5,FALSE))","v":""},{"$f":"IF(ISNA(VLOOKUP($A235,'Entry List'!$A$1:$F$61,C$5,FALSE)),\"\",VLOOKUP($A235,'Entry List'!$A$1:$F$61,C$5,FALSE))","v":""},{"$f":"IF(ISNA(VLOOKUP($A235,'Entry List'!$A$1:$F$61,D$5,FALSE)),\"\",VLOOKUP($A235,'Entry List'!$A$1:$F$61,D$5,FALSE))","v":""},{"$f":"IF(ISNA(VLOOKUP($A235,'Entry List'!$A$1:$F$61,E$5,FALSE)),\"\",VLOOKUP($A235,'Entry List'!$A$1:$F$61,E$5,FALSE))","v":""},null,"DNS",0,"DNS",0,"DNS",0,"DNS",0,"DNS",0,"DNS",0,"DNS",0,"DNS",0,"DNS",0,"DNS",0,"DNS",0,"DNS",0,"DNS",0,"DNS",0,"DNS",0,"DNS",0,"DNS",0,"DNS",0,"DNS",0,"DNS",0,"DNS",0,"DNS",0,"DNS",0,"DNS",0,"DNS",0,{"$f":"IF('Last Race Results'!$B$5=0,0,IF(ISNA(VLOOKUP($A235,'Last Race Results'!$A$5:$J$44,2,FALSE)),\"DNS\",VLOOKUP($A235,'Last Race Results'!$A$5:$J$44,2,FALSE)))","v":"DNS"},{"$f":"IF('Last Race Results'!$B$5=0,0,IF(ISNA(VLOOKUP($A235,'Last Race Results'!$A$5:$K$44,11,FALSE)),0,VLOOKUP($A235,'Last Race Results'!$A$5:$K$44,11,FALSE)))","v":0},null,null,null,null,null,null,null,null,null,null,null,null,null,null,null,null,null,null,{"$f":"IF('Last Race Results'!$B$5=0,0,IF(ISNA(VLOOKUP($A235,'Last Race Results'!$A$5:$J$44,2,FALSE)),\"DNS\",VLOOKUP($A235,'Last Race Results'!$A$5:$J$44,2,FALSE)))","v":"DNS"},{"$f":"IF('Last Race Results'!$B$5=0,0,IF(ISNA(VLOOKUP($A235,'Last Race Results'!$A$5:$J$44,11,FALSE)),0,VLOOKUP($A235,'Last Race Results'!$A$5:$J$44,11,FALSE)))","v":0}]
[219,{"$f":"IF(ISNA(VLOOKUP($A236,'Entry List'!$A$1:$F$61,B$5,FALSE)),\"\",VLOOKUP($A236,'Entry List'!$A$1:$F$61,B$5,FALSE))","v":""},{"$f":"IF(ISNA(VLOOKUP($A236,'Entry List'!$A$1:$F$61,C$5,FALSE)),\"\",VLOOKUP($A236,'Entry List'!$A$1:$F$61,C$5,FALSE))","v":""},{"$f":"IF(ISNA(VLOOKUP($A236,'Entry List'!$A$1:$F$61,D$5,FALSE)),\"\",VLOOKUP($A236,'Entry List'!$A$1:$F$61,D$5,FALSE))","v":""},{"$f":"IF(ISNA(VLOOKUP($A236,'Entry List'!$A$1:$F$61,E$5,FALSE)),\"\",VLOOKUP($A236,'Entry List'!$A$1:$F$61,E$5,FALSE))","v":""},null,"DNS",0,"DNS",0,"DNS",0,"DNS",0,"DNS",0,"DNS",0,"DNS",0,"DNS",0,"DNS",0,"DNS",0,"DNS",0,"DNS",0,"DNS",0,"DNS",0,"DNS",0,"DNS",0,"DNS",0,"DNS",0,"DNS",0,"DNS",0,"DNS",0,"DNS",0,"DNS",0,"DNS",0,"DNS",0,{"$f":"IF('Last Race Results'!$B$5=0,0,IF(ISNA(VLOOKUP($A236,'Last Race Results'!$A$5:$J$44,2,FALSE)),\"DNS\",VLOOKUP($A236,'Last Race Results'!$A$5:$J$44,2,FALSE)))","v":"DNS"},{"$f":"IF('Last Race Results'!$B$5=0,0,IF(ISNA(VLOOKUP($A236,'Last Race Results'!$A$5:$K$44,11,FALSE)),0,VLOOKUP($A236,'Last Race Results'!$A$5:$K$44,11,FALSE)))","v":0},null,null,null,null,null,null,null,null,null,null,null,null,null,null,null,null,null,null,{"$f":"IF('Last Race Results'!$B$5=0,0,IF(ISNA(VLOOKUP($A236,'Last Race Results'!$A$5:$J$44,2,FALSE)),\"DNS\",VLOOKUP($A236,'Last Race Results'!$A$5:$J$44,2,FALSE)))","v":"DNS"},{"$f":"IF('Last Race Results'!$B$5=0,0,IF(ISNA(VLOOKUP($A236,'Last Race Results'!$A$5:$J$44,11,FALSE)),0,VLOOKUP($A236,'Last Race Results'!$A$5:$J$44,11,FALSE)))","v":0}]
[220,{"$f":"IF(ISNA(VLOOKUP($A237,'Entry List'!$A$1:$F$61,B$5,FALSE)),\"\",VLOOKUP($A237,'Entry List'!$A$1:$F$61,B$5,FALSE))","v":""},{"$f":"IF(ISNA(VLOOKUP($A237,'Entry List'!$A$1:$F$61,C$5,FALSE)),\"\",VLOOKUP($A237,'Entry List'!$A$1:$F$61,C$5,FALSE))","v":""},{"$f":"IF(ISNA(VLOOKUP($A237,'Entry List'!$A$1:$F$61,D$5,FALSE)),\"\",VLOOKUP($A237,'Entry List'!$A$1:$F$61,D$5,FALSE))","v":""},{"$f":"IF(ISNA(VLOOKUP($A237,'Entry List'!$A$1:$F$61,E$5,FALSE)),\"\",VLOOKUP($A237,'Entry List'!$A$1:$F$61,E$5,FALSE))","v":""},null,"DNS",0,"DNS",0,"DNS",0,"DNS",0,"DNS",0,"DNS",0,"DNS",0,"DNS",0,"DNS",0,"DNS",0,"DNS",0,"DNS",0,"DNS",0,"DNS",0,"DNS",0,"DNS",0,"DNS",0,"DNS",0,"DNS",0,"DNS",0,"DNS",0,"DNS",0,"DNS",0,"DNS",0,"DNS",0,{"$f":"IF('Last Race Results'!$B$5=0,0,IF(ISNA(VLOOKUP($A237,'Last Race Results'!$A$5:$J$44,2,FALSE)),\"DNS\",VLOOKUP($A237,'Last Race Results'!$A$5:$J$44,2,FALSE)))","v":"DNS"},{"$f":"IF('Last Race Results'!$B$5=0,0,IF(ISNA(VLOOKUP($A237,'Last Race Results'!$A$5:$K$44,11,FALSE)),0,VLOOKUP($A237,'Last Race Results'!$A$5:$K$44,11,FALSE)))","v":0},null,null,null,null,null,null,null,null,null,null,null,null,null,null,null,null,null,null,{"$f":"IF('Last Race Results'!$B$5=0,0,IF(ISNA(VLOOKUP($A237,'Last Race Results'!$A$5:$J$44,2,FALSE)),\"DNS\",VLOOKUP($A237,'Last Race Results'!$A$5:$J$44,2,FALSE)))","v":"DNS"},{"$f":"IF('Last Race Results'!$B$5=0,0,IF(ISNA(VLOOKUP($A237,'Last Race Results'!$A$5:$J$44,11,FALSE)),0,VLOOKUP($A237,'Last Race Results'!$A$5:$J$44,11,FALSE)))","v":0}]
[221,{"$f":"IF(ISNA(VLOOKUP($A238,'Entry List'!$A$1:$F$61,B$5,FALSE)),\"\",VLOOKUP($A238,'Entry List'!$A$1:$F$61,B$5,FALSE))","v":""},{"$f":"IF(ISNA(VLOOKUP($A238,'Entry List'!$A$1:$F$61,C$5,FALSE)),\"\",VLOOKUP($A238,'Entry List'!$A$1:$F$61,C$5,FALSE))","v":""},{"$f":"IF(ISNA(VLOOKUP($A238,'Entry List'!$A$1:$F$61,D$5,FALSE)),\"\",VLOOKUP($A238,'Entry List'!$A$1:$F$61,D$5,FALSE))","v":""},{"$f":"IF(ISNA(VLOOKUP($A238,'Entry List'!$A$1:$F$61,E$5,FALSE)),\"\",VLOOKUP($A238,'Entry List'!$A$1:$F$61,E$5,FALSE))","v":""},null,"DNS",0,"DNS",0,"DNS",0,"DNS",0,"DNS",0,"DNS",0,"DNS",0,"DNS",0,"DNS",0,"DNS",0,"DNS",0,"DNS",0,"DNS",0,"DNS",0,"DNS",0,"DNS",0,"DNS",0,"DNS",0,"DNS",0,"DNS",0,"DNS",0,"DNS",0,"DNS",0,"DNS",0,"DNS",0,{"$f":"IF('Last Race Results'!$B$5=0,0,IF(ISNA(VLOOKUP($A238,'Last Race Results'!$A$5:$J$44,2,FALSE)),\"DNS\",VLOOKUP($A238,'Last Race Results'!$A$5:$J$44,2,FALSE)))","v":"DNS"},{"$f":"IF('Last Race Results'!$B$5=0,0,IF(ISNA(VLOOKUP($A238,'Last Race Results'!$A$5:$K$44,11,FALSE)),0,VLOOKUP($A238,'Last Race Results'!$A$5:$K$44,11,FALSE)))","v":0},null,null,null,null,null,null,null,null,null,null,null,null,null,null,null,null,null,null,{"$f":"IF('Last Race Results'!$B$5=0,0,IF(ISNA(VLOOKUP($A238,'Last Race Results'!$A$5:$J$44,2,FALSE)),\"DNS\",VLOOKUP($A238,'Last Race Results'!$A$5:$J$44,2,FALSE)))","v":"DNS"},{"$f":"IF('Last Race Results'!$B$5=0,0,IF(ISNA(VLOOKUP($A238,'Last Race Results'!$A$5:$J$44,11,FALSE)),0,VLOOKUP($A238,'Last Race Results'!$A$5:$J$44,11,FALSE)))","v":0}]
[222,{"$f":"IF(ISNA(VLOOKUP($A239,'Entry List'!$A$1:$F$61,B$5,FALSE)),\"\",VLOOKUP($A239,'Entry List'!$A$1:$F$61,B$5,FALSE))","v":""},{"$f":"IF(ISNA(VLOOKUP($A239,'Entry List'!$A$1:$F$61,C$5,FALSE)),\"\",VLOOKUP($A239,'Entry List'!$A$1:$F$61,C$5,FALSE))","v":""},{"$f":"IF(ISNA(VLOOKUP($A239,'Entry List'!$A$1:$F$61,D$5,FALSE)),\"\",VLOOKUP($A239,'Entry List'!$A$1:$F$61,D$5,FALSE))","v":""},{"$f":"IF(ISNA(VLOOKUP($A239,'Entry List'!$A$1:$F$61,E$5,FALSE)),\"\",VLOOKUP($A239,'Entry List'!$A$1:$F$61,E$5,FALSE))","v":""},null,"DNS",0,"DNS",0,"DNS",0,"DNS",0,"DNS",0,"DNS",0,"DNS",0,"DNS",0,"DNS",0,"DNS",0,"DNS",0,"DNS",0,"DNS",0,"DNS",0,"DNS",0,"DNS",0,"DNS",0,"DNS",0,"DNS",0,"DNS",0,"DNS",0,"DNS",0,"DNS",0,"DNS",0,"DNS",0,{"$f":"IF('Last Race Results'!$B$5=0,0,IF(ISNA(VLOOKUP($A239,'Last Race Results'!$A$5:$J$44,2,FALSE)),\"DNS\",VLOOKUP($A239,'Last Race Results'!$A$5:$J$44,2,FALSE)))","v":"DNS"},{"$f":"IF('Last Race Results'!$B$5=0,0,IF(ISNA(VLOOKUP($A239,'Last Race Results'!$A$5:$K$44,11,FALSE)),0,VLOOKUP($A239,'Last Race Results'!$A$5:$K$44,11,FALSE)))","v":0},null,null,null,null,null,null,null,null,null,null,null,null,null,null,null,null,null,null,{"$f":"IF('Last Race Results'!$B$5=0,0,IF(ISNA(VLOOKUP($A239,'Last Race Results'!$A$5:$J$44,2,FALSE)),\"DNS\",VLOOKUP($A239,'Last Race Results'!$A$5:$J$44,2,FALSE)))","v":"DNS"},{"$f":"IF('Last Race Results'!$B$5=0,0,IF(ISNA(VLOOKUP($A239,'Last Race Results'!$A$5:$J$44,11,FALSE)),0,VLOOKUP($A239,'Last Race Results'!$A$5:$J$44,11,FALSE)))","v":0}]
[223,{"$f":"IF(ISNA(VLOOKUP($A240,'Entry List'!$A$1:$F$61,B$5,FALSE)),\"\",VLOOKUP($A240,'Entry List'!$A$1:$F$61,B$5,FALSE))","v":""},{"$f":"IF(ISNA(VLOOKUP($A240,'Entry List'!$A$1:$F$61,C$5,FALSE)),\"\",VLOOKUP($A240,'Entry List'!$A$1:$F$61,C$5,FALSE))","v":""},{"$f":"IF(ISNA(VLOOKUP($A240,'Entry List'!$A$1:$F$61,D$5,FALSE)),\"\",VLOOKUP($A240,'Entry List'!$A$1:$F$61,D$5,FALSE))","v":""},{"$f":"IF(ISNA(VLOOKUP($A240,'Entry List'!$A$1:$F$61,E$5,FALSE)),\"\",VLOOKUP($A240,'Entry List'!$A$1:$F$61,E$5,FALSE))","v":""},null,"DNS",0,"DNS",0,"DNS",0,"DNS",0,"DNS",0,"DNS",0,"DNS",0,"DNS",0,"DNS",0,"DNS",0,"DNS",0,"DNS",0,"DNS",0,"DNS",0,"DNS",0,"DNS",0,"DNS",0,"DNS",0,"DNS",0,"DNS",0,"DNS",0,"DNS",0,"DNS",0,"DNS",0,"DNS",0,{"$f":"IF('Last Race Results'!$B$5=0,0,IF(ISNA(VLOOKUP($A240,'Last Race Results'!$A$5:$J$44,2,FALSE)),\"DNS\",VLOOKUP($A240,'Last Race Results'!$A$5:$J$44,2,FALSE)))","v":"DNS"},{"$f":"IF('Last Race Results'!$B$5=0,0,IF(ISNA(VLOOKUP($A240,'Last Race Results'!$A$5:$K$44,11,FALSE)),0,VLOOKUP($A240,'Last Race Results'!$A$5:$K$44,11,FALSE)))","v":0},null,null,null,null,null,null,null,null,null,null,null,null,null,null,null,null,null,null,{"$f":"IF('Last Race Results'!$B$5=0,0,IF(ISNA(VLOOKUP($A240,'Last Race Results'!$A$5:$J$44,2,FALSE)),\"DNS\",VLOOKUP($A240,'Last Race Results'!$A$5:$J$44,2,FALSE)))","v":"DNS"},{"$f":"IF('Last Race Results'!$B$5=0,0,IF(ISNA(VLOOKUP($A240,'Last Race Results'!$A$5:$J$44,11,FALSE)),0,VLOOKUP($A240,'Last Race Results'!$A$5:$J$44,11,FALSE)))","v":0}]
[224,{"$f":"IF(ISNA(VLOOKUP($A241,'Entry List'!$A$1:$F$61,B$5,FALSE)),\"\",VLOOKUP($A241,'Entry List'!$A$1:$F$61,B$5,FALSE))","v":""},{"$f":"IF(ISNA(VLOOKUP($A241,'Entry List'!$A$1:$F$61,C$5,FALSE)),\"\",VLOOKUP($A241,'Entry List'!$A$1:$F$61,C$5,FALSE))","v":""},{"$f":"IF(ISNA(VLOOKUP($A241,'Entry List'!$A$1:$F$61,D$5,FALSE)),\"\",VLOOKUP($A241,'Entry List'!$A$1:$F$61,D$5,FALSE))","v":""},{"$f":"IF(ISNA(VLOOKUP($A241,'Entry List'!$A$1:$F$61,E$5,FALSE)),\"\",VLOOKUP($A241,'Entry List'!$A$1:$F$61,E$5,FALSE))","v":""},null,"DNS",0,"DNS",0,"DNS",0,"DNS",0,"DNS",0,"DNS",0,"DNS",0,"DNS",0,"DNS",0,"DNS",0,"DNS",0,"DNS",0,"DNS",0,"DNS",0,"DNS",0,"DNS",0,"DNS",0,"DNS",0,"DNS",0,"DNS",0,"DNS",0,"DNS",0,"DNS",0,"DNS",0,"DNS",0,{"$f":"IF('Last Race Results'!$B$5=0,0,IF(ISNA(VLOOKUP($A241,'Last Race Results'!$A$5:$J$44,2,FALSE)),\"DNS\",VLOOKUP($A241,'Last Race Results'!$A$5:$J$44,2,FALSE)))","v":"DNS"},{"$f":"IF('Last Race Results'!$B$5=0,0,IF(ISNA(VLOOKUP($A241,'Last Race Results'!$A$5:$K$44,11,FALSE)),0,VLOOKUP($A241,'Last Race Results'!$A$5:$K$44,11,FALSE)))","v":0},null,null,null,null,null,null,null,null,null,null,null,null,null,null,null,null,null,null,{"$f":"IF('Last Race Results'!$B$5=0,0,IF(ISNA(VLOOKUP($A241,'Last Race Results'!$A$5:$J$44,2,FALSE)),\"DNS\",VLOOKUP($A241,'Last Race Results'!$A$5:$J$44,2,FALSE)))","v":"DNS"},{"$f":"IF('Last Race Results'!$B$5=0,0,IF(ISNA(VLOOKUP($A241,'Last Race Results'!$A$5:$J$44,11,FALSE)),0,VLOOKUP($A241,'Last Race Results'!$A$5:$J$44,11,FALSE)))","v":0}]
[225,{"$f":"IF(ISNA(VLOOKUP($A242,'Entry List'!$A$1:$F$61,B$5,FALSE)),\"\",VLOOKUP($A242,'Entry List'!$A$1:$F$61,B$5,FALSE))","v":""},{"$f":"IF(ISNA(VLOOKUP($A242,'Entry List'!$A$1:$F$61,C$5,FALSE)),\"\",VLOOKUP($A242,'Entry List'!$A$1:$F$61,C$5,FALSE))","v":""},{"$f":"IF(ISNA(VLOOKUP($A242,'Entry List'!$A$1:$F$61,D$5,FALSE)),\"\",VLOOKUP($A242,'Entry List'!$A$1:$F$61,D$5,FALSE))","v":""},{"$f":"IF(ISNA(VLOOKUP($A242,'Entry List'!$A$1:$F$61,E$5,FALSE)),\"\",VLOOKUP($A242,'Entry List'!$A$1:$F$61,E$5,FALSE))","v":""},null,"DNS",0,"DNS",0,"DNS",0,"DNS",0,"DNS",0,"DNS",0,"DNS",0,"DNS",0,"DNS",0,"DNS",0,"DNS",0,"DNS",0,"DNS",0,"DNS",0,"DNS",0,"DNS",0,"DNS",0,"DNS",0,"DNS",0,"DNS",0,"DNS",0,"DNS",0,"DNS",0,"DNS",0,"DNS",0,{"$f":"IF('Last Race Results'!$B$5=0,0,IF(ISNA(VLOOKUP($A242,'Last Race Results'!$A$5:$J$44,2,FALSE)),\"DNS\",VLOOKUP($A242,'Last Race Results'!$A$5:$J$44,2,FALSE)))","v":"DNS"},{"$f":"IF('Last Race Results'!$B$5=0,0,IF(ISNA(VLOOKUP($A242,'Last Race Results'!$A$5:$K$44,11,FALSE)),0,VLOOKUP($A242,'Last Race Results'!$A$5:$K$44,11,FALSE)))","v":0},null,null,null,null,null,null,null,null,null,null,null,null,null,null,null,null,null,null,{"$f":"IF('Last Race Results'!$B$5=0,0,IF(ISNA(VLOOKUP($A242,'Last Race Results'!$A$5:$J$44,2,FALSE)),\"DNS\",VLOOKUP($A242,'Last Race Results'!$A$5:$J$44,2,FALSE)))","v":"DNS"},{"$f":"IF('Last Race Results'!$B$5=0,0,IF(ISNA(VLOOKUP($A242,'Last Race Results'!$A$5:$J$44,11,FALSE)),0,VLOOKUP($A242,'Last Race Results'!$A$5:$J$44,11,FALSE)))","v":0}]
[226,{"$f":"IF(ISNA(VLOOKUP($A243,'Entry List'!$A$1:$F$61,B$5,FALSE)),\"\",VLOOKUP($A243,'Entry List'!$A$1:$F$61,B$5,FALSE))","v":""},{"$f":"IF(ISNA(VLOOKUP($A243,'Entry List'!$A$1:$F$61,C$5,FALSE)),\"\",VLOOKUP($A243,'Entry List'!$A$1:$F$61,C$5,FALSE))","v":""},{"$f":"IF(ISNA(VLOOKUP($A243,'Entry List'!$A$1:$F$61,D$5,FALSE)),\"\",VLOOKUP($A243,'Entry List'!$A$1:$F$61,D$5,FALSE))","v":""},{"$f":"IF(ISNA(VLOOKUP($A243,'Entry List'!$A$1:$F$61,E$5,FALSE)),\"\",VLOOKUP($A243,'Entry List'!$A$1:$F$61,E$5,FALSE))","v":""},null,"DNS",0,"DNS",0,"DNS",0,"DNS",0,"DNS",0,"DNS",0,"DNS",0,"DNS",0,"DNS",0,"DNS",0,"DNS",0,"DNS",0,"DNS",0,"DNS",0,"DNS",0,"DNS",0,"DNS",0,"DNS",0,"DNS",0,"DNS",0,"DNS",0,"DNS",0,"DNS",0,"DNS",0,"DNS",0,{"$f":"IF('Last Race Results'!$B$5=0,0,IF(ISNA(VLOOKUP($A243,'Last Race Results'!$A$5:$J$44,2,FALSE)),\"DNS\",VLOOKUP($A243,'Last Race Results'!$A$5:$J$44,2,FALSE)))","v":"DNS"},{"$f":"IF('Last Race Results'!$B$5=0,0,IF(ISNA(VLOOKUP($A243,'Last Race Results'!$A$5:$K$44,11,FALSE)),0,VLOOKUP($A243,'Last Race Results'!$A$5:$K$44,11,FALSE)))","v":0},null,null,null,null,null,null,null,null,null,null,null,null,null,null,null,null,null,null,{"$f":"IF('Last Race Results'!$B$5=0,0,IF(ISNA(VLOOKUP($A243,'Last Race Results'!$A$5:$J$44,2,FALSE)),\"DNS\",VLOOKUP($A243,'Last Race Results'!$A$5:$J$44,2,FALSE)))","v":"DNS"},{"$f":"IF('Last Race Results'!$B$5=0,0,IF(ISNA(VLOOKUP($A243,'Last Race Results'!$A$5:$J$44,11,FALSE)),0,VLOOKUP($A243,'Last Race Results'!$A$5:$J$44,11,FALSE)))","v":0}]
[227,{"$f":"IF(ISNA(VLOOKUP($A244,'Entry List'!$A$1:$F$61,B$5,FALSE)),\"\",VLOOKUP($A244,'Entry List'!$A$1:$F$61,B$5,FALSE))","v":""},{"$f":"IF(ISNA(VLOOKUP($A244,'Entry List'!$A$1:$F$61,C$5,FALSE)),\"\",VLOOKUP($A244,'Entry List'!$A$1:$F$61,C$5,FALSE))","v":""},{"$f":"IF(ISNA(VLOOKUP($A244,'Entry List'!$A$1:$F$61,D$5,FALSE)),\"\",VLOOKUP($A244,'Entry List'!$A$1:$F$61,D$5,FALSE))","v":""},{"$f":"IF(ISNA(VLOOKUP($A244,'Entry List'!$A$1:$F$61,E$5,FALSE)),\"\",VLOOKUP($A244,'Entry List'!$A$1:$F$61,E$5,FALSE))","v":""},null,"DNS",0,"DNS",0,"DNS",0,"DNS",0,"DNS",0,"DNS",0,"DNS",0,"DNS",0,"DNS",0,"DNS",0,"DNS",0,"DNS",0,"DNS",0,"DNS",0,"DNS",0,"DNS",0,"DNS",0,"DNS",0,"DNS",0,"DNS",0,"DNS",0,"DNS",0,"DNS",0,"DNS",0,"DNS",0,{"$f":"IF('Last Race Results'!$B$5=0,0,IF(ISNA(VLOOKUP($A244,'Last Race Results'!$A$5:$J$44,2,FALSE)),\"DNS\",VLOOKUP($A244,'Last Race Results'!$A$5:$J$44,2,FALSE)))","v":"DNS"},{"$f":"IF('Last Race Results'!$B$5=0,0,IF(ISNA(VLOOKUP($A244,'Last Race Results'!$A$5:$K$44,11,FALSE)),0,VLOOKUP($A244,'Last Race Results'!$A$5:$K$44,11,FALSE)))","v":0},null,null,null,null,null,null,null,null,null,null,null,null,null,null,null,null,null,null,{"$f":"IF('Last Race Results'!$B$5=0,0,IF(ISNA(VLOOKUP($A244,'Last Race Results'!$A$5:$J$44,2,FALSE)),\"DNS\",VLOOKUP($A244,'Last Race Results'!$A$5:$J$44,2,FALSE)))","v":"DNS"},{"$f":"IF('Last Race Results'!$B$5=0,0,IF(ISNA(VLOOKUP($A244,'Last Race Results'!$A$5:$J$44,11,FALSE)),0,VLOOKUP($A244,'Last Race Results'!$A$5:$J$44,11,FALSE)))","v":0}]
[228,{"$f":"IF(ISNA(VLOOKUP($A245,'Entry List'!$A$1:$F$61,B$5,FALSE)),\"\",VLOOKUP($A245,'Entry List'!$A$1:$F$61,B$5,FALSE))","v":""},{"$f":"IF(ISNA(VLOOKUP($A245,'Entry List'!$A$1:$F$61,C$5,FALSE)),\"\",VLOOKUP($A245,'Entry List'!$A$1:$F$61,C$5,FALSE))","v":""},{"$f":"IF(ISNA(VLOOKUP($A245,'Entry List'!$A$1:$F$61,D$5,FALSE)),\"\",VLOOKUP($A245,'Entry List'!$A$1:$F$61,D$5,FALSE))","v":""},{"$f":"IF(ISNA(VLOOKUP($A245,'Entry List'!$A$1:$F$61,E$5,FALSE)),\"\",VLOOKUP($A245,'Entry List'!$A$1:$F$61,E$5,FALSE))","v":""},null,"DNS",0,"DNS",0,"DNS",0,"DNS",0,"DNS",0,"DNS",0,"DNS",0,"DNS",0,"DNS",0,"DNS",0,"DNS",0,"DNS",0,"DNS",0,"DNS",0,"DNS",0,"DNS",0,"DNS",0,"DNS",0,"DNS",0,"DNS",0,"DNS",0,"DNS",0,"DNS",0,"DNS",0,"DNS",0,{"$f":"IF('Last Race Results'!$B$5=0,0,IF(ISNA(VLOOKUP($A245,'Last Race Results'!$A$5:$J$44,2,FALSE)),\"DNS\",VLOOKUP($A245,'Last Race Results'!$A$5:$J$44,2,FALSE)))","v":"DNS"},{"$f":"IF('Last Race Results'!$B$5=0,0,IF(ISNA(VLOOKUP($A245,'Last Race Results'!$A$5:$K$44,11,FALSE)),0,VLOOKUP($A245,'Last Race Results'!$A$5:$K$44,11,FALSE)))","v":0},null,null,null,null,null,null,null,null,null,null,null,null,null,null,null,null,null,null,{"$f":"IF('Last Race Results'!$B$5=0,0,IF(ISNA(VLOOKUP($A245,'Last Race Results'!$A$5:$J$44,2,FALSE)),\"DNS\",VLOOKUP($A245,'Last Race Results'!$A$5:$J$44,2,FALSE)))","v":"DNS"},{"$f":"IF('Last Race Results'!$B$5=0,0,IF(ISNA(VLOOKUP($A245,'Last Race Results'!$A$5:$J$44,11,FALSE)),0,VLOOKUP($A245,'Last Race Results'!$A$5:$J$44,11,FALSE)))","v":0}]
[229,{"$f":"IF(ISNA(VLOOKUP($A246,'Entry List'!$A$1:$F$61,B$5,FALSE)),\"\",VLOOKUP($A246,'Entry List'!$A$1:$F$61,B$5,FALSE))","v":""},{"$f":"IF(ISNA(VLOOKUP($A246,'Entry List'!$A$1:$F$61,C$5,FALSE)),\"\",VLOOKUP($A246,'Entry List'!$A$1:$F$61,C$5,FALSE))","v":""},{"$f":"IF(ISNA(VLOOKUP($A246,'Entry List'!$A$1:$F$61,D$5,FALSE)),\"\",VLOOKUP($A246,'Entry List'!$A$1:$F$61,D$5,FALSE))","v":""},{"$f":"IF(ISNA(VLOOKUP($A246,'Entry List'!$A$1:$F$61,E$5,FALSE)),\"\",VLOOKUP($A246,'Entry List'!$A$1:$F$61,E$5,FALSE))","v":""},null,"DNS",0,"DNS",0,"DNS",0,"DNS",0,"DNS",0,"DNS",0,"DNS",0,"DNS",0,"DNS",0,"DNS",0,"DNS",0,"DNS",0,"DNS",0,"DNS",0,"DNS",0,"DNS",0,"DNS",0,"DNS",0,"DNS",0,"DNS",0,"DNS",0,"DNS",0,"DNS",0,"DNS",0,"DNS",0,{"$f":"IF('Last Race Results'!$B$5=0,0,IF(ISNA(VLOOKUP($A246,'Last Race Results'!$A$5:$J$44,2,FALSE)),\"DNS\",VLOOKUP($A246,'Last Race Results'!$A$5:$J$44,2,FALSE)))","v":"DNS"},{"$f":"IF('Last Race Results'!$B$5=0,0,IF(ISNA(VLOOKUP($A246,'Last Race Results'!$A$5:$K$44,11,FALSE)),0,VLOOKUP($A246,'Last Race Results'!$A$5:$K$44,11,FALSE)))","v":0},null,null,null,null,null,null,null,null,null,null,null,null,null,null,null,null,null,null,{"$f":"IF('Last Race Results'!$B$5=0,0,IF(ISNA(VLOOKUP($A246,'Last Race Results'!$A$5:$J$44,2,FALSE)),\"DNS\",VLOOKUP($A246,'Last Race Results'!$A$5:$J$44,2,FALSE)))","v":"DNS"},{"$f":"IF('Last Race Results'!$B$5=0,0,IF(ISNA(VLOOKUP($A246,'Last Race Results'!$A$5:$J$44,11,FALSE)),0,VLOOKUP($A246,'Last Race Results'!$A$5:$J$44,11,FALSE)))","v":0}]
[230,{"$f":"IF(ISNA(VLOOKUP($A247,'Entry List'!$A$1:$F$61,B$5,FALSE)),\"\",VLOOKUP($A247,'Entry List'!$A$1:$F$61,B$5,FALSE))","v":""},{"$f":"IF(ISNA(VLOOKUP($A247,'Entry List'!$A$1:$F$61,C$5,FALSE)),\"\",VLOOKUP($A247,'Entry List'!$A$1:$F$61,C$5,FALSE))","v":""},{"$f":"IF(ISNA(VLOOKUP($A247,'Entry List'!$A$1:$F$61,D$5,FALSE)),\"\",VLOOKUP($A247,'Entry List'!$A$1:$F$61,D$5,FALSE))","v":""},{"$f":"IF(ISNA(VLOOKUP($A247,'Entry List'!$A$1:$F$61,E$5,FALSE)),\"\",VLOOKUP($A247,'Entry List'!$A$1:$F$61,E$5,FALSE))","v":""},null,"DNS",0,"DNS",0,"DNS",0,"DNS",0,"DNS",0,"DNS",0,"DNS",0,"DNS",0,"DNS",0,"DNS",0,"DNS",0,"DNS",0,"DNS",0,"DNS",0,"DNS",0,"DNS",0,"DNS",0,"DNS",0,"DNS",0,"DNS",0,"DNS",0,"DNS",0,"DNS",0,"DNS",0,"DNS",0,{"$f":"IF('Last Race Results'!$B$5=0,0,IF(ISNA(VLOOKUP($A247,'Last Race Results'!$A$5:$J$44,2,FALSE)),\"DNS\",VLOOKUP($A247,'Last Race Results'!$A$5:$J$44,2,FALSE)))","v":"DNS"},{"$f":"IF('Last Race Results'!$B$5=0,0,IF(ISNA(VLOOKUP($A247,'Last Race Results'!$A$5:$K$44,11,FALSE)),0,VLOOKUP($A247,'Last Race Results'!$A$5:$K$44,11,FALSE)))","v":0},null,null,null,null,null,null,null,null,null,null,null,null,null,null,null,null,null,null,{"$f":"IF('Last Race Results'!$B$5=0,0,IF(ISNA(VLOOKUP($A247,'Last Race Results'!$A$5:$J$44,2,FALSE)),\"DNS\",VLOOKUP($A247,'Last Race Results'!$A$5:$J$44,2,FALSE)))","v":"DNS"},{"$f":"IF('Last Race Results'!$B$5=0,0,IF(ISNA(VLOOKUP($A247,'Last Race Results'!$A$5:$J$44,11,FALSE)),0,VLOOKUP($A247,'Last Race Results'!$A$5:$J$44,11,FALSE)))","v":0}]
[231,{"$f":"IF(ISNA(VLOOKUP($A248,'Entry List'!$A$1:$F$61,B$5,FALSE)),\"\",VLOOKUP($A248,'Entry List'!$A$1:$F$61,B$5,FALSE))","v":""},{"$f":"IF(ISNA(VLOOKUP($A248,'Entry List'!$A$1:$F$61,C$5,FALSE)),\"\",VLOOKUP($A248,'Entry List'!$A$1:$F$61,C$5,FALSE))","v":""},{"$f":"IF(ISNA(VLOOKUP($A248,'Entry List'!$A$1:$F$61,D$5,FALSE)),\"\",VLOOKUP($A248,'Entry List'!$A$1:$F$61,D$5,FALSE))","v":""},{"$f":"IF(ISNA(VLOOKUP($A248,'Entry List'!$A$1:$F$61,E$5,FALSE)),\"\",VLOOKUP($A248,'Entry List'!$A$1:$F$61,E$5,FALSE))","v":""},null,"DNS",0,"DNS",0,"DNS",0,"DNS",0,"DNS",0,"DNS",0,"DNS",0,"DNS",0,"DNS",0,"DNS",0,"DNS",0,"DNS",0,"DNS",0,"DNS",0,"DNS",0,"DNS",0,"DNS",0,"DNS",0,"DNS",0,"DNS",0,"DNS",0,"DNS",0,"DNS",0,"DNS",0,"DNS",0,{"$f":"IF('Last Race Results'!$B$5=0,0,IF(ISNA(VLOOKUP($A248,'Last Race Results'!$A$5:$J$44,2,FALSE)),\"DNS\",VLOOKUP($A248,'Last Race Results'!$A$5:$J$44,2,FALSE)))","v":"DNS"},{"$f":"IF('Last Race Results'!$B$5=0,0,IF(ISNA(VLOOKUP($A248,'Last Race Results'!$A$5:$K$44,11,FALSE)),0,VLOOKUP($A248,'Last Race Results'!$A$5:$K$44,11,FALSE)))","v":0},null,null,null,null,null,null,null,null,null,null,null,null,null,null,null,null,null,null,{"$f":"IF('Last Race Results'!$B$5=0,0,IF(ISNA(VLOOKUP($A248,'Last Race Results'!$A$5:$J$44,2,FALSE)),\"DNS\",VLOOKUP($A248,'Last Race Results'!$A$5:$J$44,2,FALSE)))","v":"DNS"},{"$f":"IF('Last Race Results'!$B$5=0,0,IF(ISNA(VLOOKUP($A248,'Last Race Results'!$A$5:$J$44,11,FALSE)),0,VLOOKUP($A248,'Last Race Results'!$A$5:$J$44,11,FALSE)))","v":0}]
[232,{"$f":"IF(ISNA(VLOOKUP($A249,'Entry List'!$A$1:$F$61,B$5,FALSE)),\"\",VLOOKUP($A249,'Entry List'!$A$1:$F$61,B$5,FALSE))","v":""},{"$f":"IF(ISNA(VLOOKUP($A249,'Entry List'!$A$1:$F$61,C$5,FALSE)),\"\",VLOOKUP($A249,'Entry List'!$A$1:$F$61,C$5,FALSE))","v":""},{"$f":"IF(ISNA(VLOOKUP($A249,'Entry List'!$A$1:$F$61,D$5,FALSE)),\"\",VLOOKUP($A249,'Entry List'!$A$1:$F$61,D$5,FALSE))","v":""},{"$f":"IF(ISNA(VLOOKUP($A249,'Entry List'!$A$1:$F$61,E$5,FALSE)),\"\",VLOOKUP($A249,'Entry List'!$A$1:$F$61,E$5,FALSE))","v":""},null,"DNS",0,"DNS",0,"DNS",0,"DNS",0,"DNS",0,"DNS",0,"DNS",0,"DNS",0,"DNS",0,"DNS",0,"DNS",0,"DNS",0,"DNS",0,"DNS",0,"DNS",0,"DNS",0,"DNS",0,"DNS",0,"DNS",0,"DNS",0,"DNS",0,"DNS",0,"DNS",0,"DNS",0,"DNS",0,{"$f":"IF('Last Race Results'!$B$5=0,0,IF(ISNA(VLOOKUP($A249,'Last Race Results'!$A$5:$J$44,2,FALSE)),\"DNS\",VLOOKUP($A249,'Last Race Results'!$A$5:$J$44,2,FALSE)))","v":"DNS"},{"$f":"IF('Last Race Results'!$B$5=0,0,IF(ISNA(VLOOKUP($A249,'Last Race Results'!$A$5:$K$44,11,FALSE)),0,VLOOKUP($A249,'Last Race Results'!$A$5:$K$44,11,FALSE)))","v":0},null,null,null,null,null,null,null,null,null,null,null,null,null,null,null,null,null,null,{"$f":"IF('Last Race Results'!$B$5=0,0,IF(ISNA(VLOOKUP($A249,'Last Race Results'!$A$5:$J$44,2,FALSE)),\"DNS\",VLOOKUP($A249,'Last Race Results'!$A$5:$J$44,2,FALSE)))","v":"DNS"},{"$f":"IF('Last Race Results'!$B$5=0,0,IF(ISNA(VLOOKUP($A249,'Last Race Results'!$A$5:$J$44,11,FALSE)),0,VLOOKUP($A249,'Last Race Results'!$A$5:$J$44,11,FALSE)))","v":0}]
[233,{"$f":"IF(ISNA(VLOOKUP($A250,'Entry List'!$A$1:$F$61,B$5,FALSE)),\"\",VLOOKUP($A250,'Entry List'!$A$1:$F$61,B$5,FALSE))","v":""},{"$f":"IF(ISNA(VLOOKUP($A250,'Entry List'!$A$1:$F$61,C$5,FALSE)),\"\",VLOOKUP($A250,'Entry List'!$A$1:$F$61,C$5,FALSE))","v":""},{"$f":"IF(ISNA(VLOOKUP($A250,'Entry List'!$A$1:$F$61,D$5,FALSE)),\"\",VLOOKUP($A250,'Entry List'!$A$1:$F$61,D$5,FALSE))","v":""},{"$f":"IF(ISNA(VLOOKUP($A250,'Entry List'!$A$1:$F$61,E$5,FALSE)),\"\",VLOOKUP($A250,'Entry List'!$A$1:$F$61,E$5,FALSE))","v":""},null,"DNS",0,"DNS",0,"DNS",0,"DNS",0,"DNS",0,"DNS",0,"DNS",0,"DNS",0,"DNS",0,"DNS",0,"DNS",0,"DNS",0,"DNS",0,"DNS",0,"DNS",0,"DNS",0,"DNS",0,"DNS",0,"DNS",0,"DNS",0,"DNS",0,"DNS",0,"DNS",0,"DNS",0,"DNS",0,{"$f":"IF('Last Race Results'!$B$5=0,0,IF(ISNA(VLOOKUP($A250,'Last Race Results'!$A$5:$J$44,2,FALSE)),\"DNS\",VLOOKUP($A250,'Last Race Results'!$A$5:$J$44,2,FALSE)))","v":"DNS"},{"$f":"IF('Last Race Results'!$B$5=0,0,IF(ISNA(VLOOKUP($A250,'Last Race Results'!$A$5:$K$44,11,FALSE)),0,VLOOKUP($A250,'Last Race Results'!$A$5:$K$44,11,FALSE)))","v":0},null,null,null,null,null,null,null,null,null,null,null,null,null,null,null,null,null,null,{"$f":"IF('Last Race Results'!$B$5=0,0,IF(ISNA(VLOOKUP($A250,'Last Race Results'!$A$5:$J$44,2,FALSE)),\"DNS\",VLOOKUP($A250,'Last Race Results'!$A$5:$J$44,2,FALSE)))","v":"DNS"},{"$f":"IF('Last Race Results'!$B$5=0,0,IF(ISNA(VLOOKUP($A250,'Last Race Results'!$A$5:$J$44,11,FALSE)),0,VLOOKUP($A250,'Last Race Results'!$A$5:$J$44,11,FALSE)))","v":0}]
[234,{"$f":"IF(ISNA(VLOOKUP($A251,'Entry List'!$A$1:$F$61,B$5,FALSE)),\"\",VLOOKUP($A251,'Entry List'!$A$1:$F$61,B$5,FALSE))","v":""},{"$f":"IF(ISNA(VLOOKUP($A251,'Entry List'!$A$1:$F$61,C$5,FALSE)),\"\",VLOOKUP($A251,'Entry List'!$A$1:$F$61,C$5,FALSE))","v":""},{"$f":"IF(ISNA(VLOOKUP($A251,'Entry List'!$A$1:$F$61,D$5,FALSE)),\"\",VLOOKUP($A251,'Entry List'!$A$1:$F$61,D$5,FALSE))","v":""},{"$f":"IF(ISNA(VLOOKUP($A251,'Entry List'!$A$1:$F$61,E$5,FALSE)),\"\",VLOOKUP($A251,'Entry List'!$A$1:$F$61,E$5,FALSE))","v":""},null,"DNS",0,"DNS",0,"DNS",0,"DNS",0,"DNS",0,"DNS",0,"DNS",0,"DNS",0,"DNS",0,"DNS",0,"DNS",0,"DNS",0,"DNS",0,"DNS",0,"DNS",0,"DNS",0,"DNS",0,"DNS",0,"DNS",0,"DNS",0,"DNS",0,"DNS",0,"DNS",0,"DNS",0,"DNS",0,{"$f":"IF('Last Race Results'!$B$5=0,0,IF(ISNA(VLOOKUP($A251,'Last Race Results'!$A$5:$J$44,2,FALSE)),\"DNS\",VLOOKUP($A251,'Last Race Results'!$A$5:$J$44,2,FALSE)))","v":"DNS"},{"$f":"IF('Last Race Results'!$B$5=0,0,IF(ISNA(VLOOKUP($A251,'Last Race Results'!$A$5:$K$44,11,FALSE)),0,VLOOKUP($A251,'Last Race Results'!$A$5:$K$44,11,FALSE)))","v":0},null,null,null,null,null,null,null,null,null,null,null,null,null,null,null,null,null,null,{"$f":"IF('Last Race Results'!$B$5=0,0,IF(ISNA(VLOOKUP($A251,'Last Race Results'!$A$5:$J$44,2,FALSE)),\"DNS\",VLOOKUP($A251,'Last Race Results'!$A$5:$J$44,2,FALSE)))","v":"DNS"},{"$f":"IF('Last Race Results'!$B$5=0,0,IF(ISNA(VLOOKUP($A251,'Last Race Results'!$A$5:$J$44,11,FALSE)),0,VLOOKUP($A251,'Last Race Results'!$A$5:$J$44,11,FALSE)))","v":0}]
[235,{"$f":"IF(ISNA(VLOOKUP($A252,'Entry List'!$A$1:$F$61,B$5,FALSE)),\"\",VLOOKUP($A252,'Entry List'!$A$1:$F$61,B$5,FALSE))","v":""},{"$f":"IF(ISNA(VLOOKUP($A252,'Entry List'!$A$1:$F$61,C$5,FALSE)),\"\",VLOOKUP($A252,'Entry List'!$A$1:$F$61,C$5,FALSE))","v":""},{"$f":"IF(ISNA(VLOOKUP($A252,'Entry List'!$A$1:$F$61,D$5,FALSE)),\"\",VLOOKUP($A252,'Entry List'!$A$1:$F$61,D$5,FALSE))","v":""},{"$f":"IF(ISNA(VLOOKUP($A252,'Entry List'!$A$1:$F$61,E$5,FALSE)),\"\",VLOOKUP($A252,'Entry List'!$A$1:$F$61,E$5,FALSE))","v":""},null,"DNS",0,"DNS",0,"DNS",0,"DNS",0,"DNS",0,"DNS",0,"DNS",0,"DNS",0,"DNS",0,"DNS",0,"DNS",0,"DNS",0,"DNS",0,"DNS",0,"DNS",0,"DNS",0,"DNS",0,"DNS",0,"DNS",0,"DNS",0,"DNS",0,"DNS",0,"DNS",0,"DNS",0,"DNS",0,{"$f":"IF('Last Race Results'!$B$5=0,0,IF(ISNA(VLOOKUP($A252,'Last Race Results'!$A$5:$J$44,2,FALSE)),\"DNS\",VLOOKUP($A252,'Last Race Results'!$A$5:$J$44,2,FALSE)))","v":"DNS"},{"$f":"IF('Last Race Results'!$B$5=0,0,IF(ISNA(VLOOKUP($A252,'Last Race Results'!$A$5:$K$44,11,FALSE)),0,VLOOKUP($A252,'Last Race Results'!$A$5:$K$44,11,FALSE)))","v":0},null,null,null,null,null,null,null,null,null,null,null,null,null,null,null,null,null,null,{"$f":"IF('Last Race Results'!$B$5=0,0,IF(ISNA(VLOOKUP($A252,'Last Race Results'!$A$5:$J$44,2,FALSE)),\"DNS\",VLOOKUP($A252,'Last Race Results'!$A$5:$J$44,2,FALSE)))","v":"DNS"},{"$f":"IF('Last Race Results'!$B$5=0,0,IF(ISNA(VLOOKUP($A252,'Last Race Results'!$A$5:$J$44,11,FALSE)),0,VLOOKUP($A252,'Last Race Results'!$A$5:$J$44,11,FALSE)))","v":0}]
[236,{"$f":"IF(ISNA(VLOOKUP($A253,'Entry List'!$A$1:$F$61,B$5,FALSE)),\"\",VLOOKUP($A253,'Entry List'!$A$1:$F$61,B$5,FALSE))","v":""},{"$f":"IF(ISNA(VLOOKUP($A253,'Entry List'!$A$1:$F$61,C$5,FALSE)),\"\",VLOOKUP($A253,'Entry List'!$A$1:$F$61,C$5,FALSE))","v":""},{"$f":"IF(ISNA(VLOOKUP($A253,'Entry List'!$A$1:$F$61,D$5,FALSE)),\"\",VLOOKUP($A253,'Entry List'!$A$1:$F$61,D$5,FALSE))","v":""},{"$f":"IF(ISNA(VLOOKUP($A253,'Entry List'!$A$1:$F$61,E$5,FALSE)),\"\",VLOOKUP($A253,'Entry List'!$A$1:$F$61,E$5,FALSE))","v":""},null,"DNS",0,"DNS",0,"DNS",0,"DNS",0,"DNS",0,"DNS",0,"DNS",0,"DNS",0,"DNS",0,"DNS",0,"DNS",0,"DNS",0,"DNS",0,"DNS",0,"DNS",0,"DNS",0,"DNS",0,"DNS",0,"DNS",0,"DNS",0,"DNS",0,"DNS",0,"DNS",0,"DNS",0,"DNS",0,{"$f":"IF('Last Race Results'!$B$5=0,0,IF(ISNA(VLOOKUP($A253,'Last Race Results'!$A$5:$J$44,2,FALSE)),\"DNS\",VLOOKUP($A253,'Last Race Results'!$A$5:$J$44,2,FALSE)))","v":"DNS"},{"$f":"IF('Last Race Results'!$B$5=0,0,IF(ISNA(VLOOKUP($A253,'Last Race Results'!$A$5:$K$44,11,FALSE)),0,VLOOKUP($A253,'Last Race Results'!$A$5:$K$44,11,FALSE)))","v":0},null,null,null,null,null,null,null,null,null,null,null,null,null,null,null,null,null,null,{"$f":"IF('Last Race Results'!$B$5=0,0,IF(ISNA(VLOOKUP($A253,'Last Race Results'!$A$5:$J$44,2,FALSE)),\"DNS\",VLOOKUP($A253,'Last Race Results'!$A$5:$J$44,2,FALSE)))","v":"DNS"},{"$f":"IF('Last Race Results'!$B$5=0,0,IF(ISNA(VLOOKUP($A253,'Last Race Results'!$A$5:$J$44,11,FALSE)),0,VLOOKUP($A253,'Last Race Results'!$A$5:$J$44,11,FALSE)))","v":0}]
[237,{"$f":"IF(ISNA(VLOOKUP($A254,'Entry List'!$A$1:$F$61,B$5,FALSE)),\"\",VLOOKUP($A254,'Entry List'!$A$1:$F$61,B$5,FALSE))","v":""},{"$f":"IF(ISNA(VLOOKUP($A254,'Entry List'!$A$1:$F$61,C$5,FALSE)),\"\",VLOOKUP($A254,'Entry List'!$A$1:$F$61,C$5,FALSE))","v":""},{"$f":"IF(ISNA(VLOOKUP($A254,'Entry List'!$A$1:$F$61,D$5,FALSE)),\"\",VLOOKUP($A254,'Entry List'!$A$1:$F$61,D$5,FALSE))","v":""},{"$f":"IF(ISNA(VLOOKUP($A254,'Entry List'!$A$1:$F$61,E$5,FALSE)),\"\",VLOOKUP($A254,'Entry List'!$A$1:$F$61,E$5,FALSE))","v":""},null,"DNS",0,"DNS",0,"DNS",0,"DNS",0,"DNS",0,"DNS",0,"DNS",0,"DNS",0,"DNS",0,"DNS",0,"DNS",0,"DNS",0,"DNS",0,"DNS",0,"DNS",0,"DNS",0,"DNS",0,"DNS",0,"DNS",0,"DNS",0,"DNS",0,"DNS",0,"DNS",0,"DNS",0,"DNS",0,{"$f":"IF('Last Race Results'!$B$5=0,0,IF(ISNA(VLOOKUP($A254,'Last Race Results'!$A$5:$J$44,2,FALSE)),\"DNS\",VLOOKUP($A254,'Last Race Results'!$A$5:$J$44,2,FALSE)))","v":"DNS"},{"$f":"IF('Last Race Results'!$B$5=0,0,IF(ISNA(VLOOKUP($A254,'Last Race Results'!$A$5:$K$44,11,FALSE)),0,VLOOKUP($A254,'Last Race Results'!$A$5:$K$44,11,FALSE)))","v":0},null,null,null,null,null,null,null,null,null,null,null,null,null,null,null,null,null,null,{"$f":"IF('Last Race Results'!$B$5=0,0,IF(ISNA(VLOOKUP($A254,'Last Race Results'!$A$5:$J$44,2,FALSE)),\"DNS\",VLOOKUP($A254,'Last Race Results'!$A$5:$J$44,2,FALSE)))","v":"DNS"},{"$f":"IF('Last Race Results'!$B$5=0,0,IF(ISNA(VLOOKUP($A254,'Last Race Results'!$A$5:$J$44,11,FALSE)),0,VLOOKUP($A254,'Last Race Results'!$A$5:$J$44,11,FALSE)))","v":0}]
[238,{"$f":"IF(ISNA(VLOOKUP($A255,'Entry List'!$A$1:$F$61,B$5,FALSE)),\"\",VLOOKUP($A255,'Entry List'!$A$1:$F$61,B$5,FALSE))","v":""},{"$f":"IF(ISNA(VLOOKUP($A255,'Entry List'!$A$1:$F$61,C$5,FALSE)),\"\",VLOOKUP($A255,'Entry List'!$A$1:$F$61,C$5,FALSE))","v":""},{"$f":"IF(ISNA(VLOOKUP($A255,'Entry List'!$A$1:$F$61,D$5,FALSE)),\"\",VLOOKUP($A255,'Entry List'!$A$1:$F$61,D$5,FALSE))","v":""},{"$f":"IF(ISNA(VLOOKUP($A255,'Entry List'!$A$1:$F$61,E$5,FALSE)),\"\",VLOOKUP($A255,'Entry List'!$A$1:$F$61,E$5,FALSE))","v":""},null,"DNS",0,"DNS",0,"DNS",0,"DNS",0,"DNS",0,"DNS",0,"DNS",0,"DNS",0,"DNS",0,"DNS",0,"DNS",0,"DNS",0,"DNS",0,"DNS",0,"DNS",0,"DNS",0,"DNS",0,"DNS",0,"DNS",0,"DNS",0,"DNS",0,"DNS",0,"DNS",0,"DNS",0,"DNS",0,{"$f":"IF('Last Race Results'!$B$5=0,0,IF(ISNA(VLOOKUP($A255,'Last Race Results'!$A$5:$J$44,2,FALSE)),\"DNS\",VLOOKUP($A255,'Last Race Results'!$A$5:$J$44,2,FALSE)))","v":"DNS"},{"$f":"IF('Last Race Results'!$B$5=0,0,IF(ISNA(VLOOKUP($A255,'Last Race Results'!$A$5:$K$44,11,FALSE)),0,VLOOKUP($A255,'Last Race Results'!$A$5:$K$44,11,FALSE)))","v":0},null,null,null,null,null,null,null,null,null,null,null,null,null,null,null,null,null,null,{"$f":"IF('Last Race Results'!$B$5=0,0,IF(ISNA(VLOOKUP($A255,'Last Race Results'!$A$5:$J$44,2,FALSE)),\"DNS\",VLOOKUP($A255,'Last Race Results'!$A$5:$J$44,2,FALSE)))","v":"DNS"},{"$f":"IF('Last Race Results'!$B$5=0,0,IF(ISNA(VLOOKUP($A255,'Last Race Results'!$A$5:$J$44,11,FALSE)),0,VLOOKUP($A255,'Last Race Results'!$A$5:$J$44,11,FALSE)))","v":0}]
[239,{"$f":"IF(ISNA(VLOOKUP($A256,'Entry List'!$A$1:$F$61,B$5,FALSE)),\"\",VLOOKUP($A256,'Entry List'!$A$1:$F$61,B$5,FALSE))","v":""},{"$f":"IF(ISNA(VLOOKUP($A256,'Entry List'!$A$1:$F$61,C$5,FALSE)),\"\",VLOOKUP($A256,'Entry List'!$A$1:$F$61,C$5,FALSE))","v":""},{"$f":"IF(ISNA(VLOOKUP($A256,'Entry List'!$A$1:$F$61,D$5,FALSE)),\"\",VLOOKUP($A256,'Entry List'!$A$1:$F$61,D$5,FALSE))","v":""},{"$f":"IF(ISNA(VLOOKUP($A256,'Entry List'!$A$1:$F$61,E$5,FALSE)),\"\",VLOOKUP($A256,'Entry List'!$A$1:$F$61,E$5,FALSE))","v":""},null,"DNS",0,"DNS",0,"DNS",0,"DNS",0,"DNS",0,"DNS",0,"DNS",0,"DNS",0,"DNS",0,"DNS",0,"DNS",0,"DNS",0,"DNS",0,"DNS",0,"DNS",0,"DNS",0,"DNS",0,"DNS",0,"DNS",0,"DNS",0,"DNS",0,"DNS",0,"DNS",0,"DNS",0,"DNS",0,{"$f":"IF('Last Race Results'!$B$5=0,0,IF(ISNA(VLOOKUP($A256,'Last Race Results'!$A$5:$J$44,2,FALSE)),\"DNS\",VLOOKUP($A256,'Last Race Results'!$A$5:$J$44,2,FALSE)))","v":"DNS"},{"$f":"IF('Last Race Results'!$B$5=0,0,IF(ISNA(VLOOKUP($A256,'Last Race Results'!$A$5:$K$44,11,FALSE)),0,VLOOKUP($A256,'Last Race Results'!$A$5:$K$44,11,FALSE)))","v":0},null,null,null,null,null,null,null,null,null,null,null,null,null,null,null,null,null,null,{"$f":"IF('Last Race Results'!$B$5=0,0,IF(ISNA(VLOOKUP($A256,'Last Race Results'!$A$5:$J$44,2,FALSE)),\"DNS\",VLOOKUP($A256,'Last Race Results'!$A$5:$J$44,2,FALSE)))","v":"DNS"},{"$f":"IF('Last Race Results'!$B$5=0,0,IF(ISNA(VLOOKUP($A256,'Last Race Results'!$A$5:$J$44,11,FALSE)),0,VLOOKUP($A256,'Last Race Results'!$A$5:$J$44,11,FALSE)))","v":0}]
[240,{"$f":"IF(ISNA(VLOOKUP($A257,'Entry List'!$A$1:$F$61,B$5,FALSE)),\"\",VLOOKUP($A257,'Entry List'!$A$1:$F$61,B$5,FALSE))","v":""},{"$f":"IF(ISNA(VLOOKUP($A257,'Entry List'!$A$1:$F$61,C$5,FALSE)),\"\",VLOOKUP($A257,'Entry List'!$A$1:$F$61,C$5,FALSE))","v":""},{"$f":"IF(ISNA(VLOOKUP($A257,'Entry List'!$A$1:$F$61,D$5,FALSE)),\"\",VLOOKUP($A257,'Entry List'!$A$1:$F$61,D$5,FALSE))","v":""},{"$f":"IF(ISNA(VLOOKUP($A257,'Entry List'!$A$1:$F$61,E$5,FALSE)),\"\",VLOOKUP($A257,'Entry List'!$A$1:$F$61,E$5,FALSE))","v":""},null,"DNS",0,"DNS",0,"DNS",0,"DNS",0,"DNS",0,"DNS",0,"DNS",0,"DNS",0,"DNS",0,"DNS",0,"DNS",0,"DNS",0,"DNS",0,"DNS",0,"DNS",0,"DNS",0,"DNS",0,"DNS",0,"DNS",0,"DNS",0,"DNS",0,"DNS",0,"DNS",0,"DNS",0,"DNS",0,{"$f":"IF('Last Race Results'!$B$5=0,0,IF(ISNA(VLOOKUP($A257,'Last Race Results'!$A$5:$J$44,2,FALSE)),\"DNS\",VLOOKUP($A257,'Last Race Results'!$A$5:$J$44,2,FALSE)))","v":"DNS"},{"$f":"IF('Last Race Results'!$B$5=0,0,IF(ISNA(VLOOKUP($A257,'Last Race Results'!$A$5:$K$44,11,FALSE)),0,VLOOKUP($A257,'Last Race Results'!$A$5:$K$44,11,FALSE)))","v":0},null,null,null,null,null,null,null,null,null,null,null,null,null,null,null,null,null,null,{"$f":"IF('Last Race Results'!$B$5=0,0,IF(ISNA(VLOOKUP($A257,'Last Race Results'!$A$5:$J$44,2,FALSE)),\"DNS\",VLOOKUP($A257,'Last Race Results'!$A$5:$J$44,2,FALSE)))","v":"DNS"},{"$f":"IF('Last Race Results'!$B$5=0,0,IF(ISNA(VLOOKUP($A257,'Last Race Results'!$A$5:$J$44,11,FALSE)),0,VLOOKUP($A257,'Last Race Results'!$A$5:$J$44,11,FALSE)))","v":0}]
[241,{"$f":"IF(ISNA(VLOOKUP($A258,'Entry List'!$A$1:$F$61,B$5,FALSE)),\"\",VLOOKUP($A258,'Entry List'!$A$1:$F$61,B$5,FALSE))","v":""},{"$f":"IF(ISNA(VLOOKUP($A258,'Entry List'!$A$1:$F$61,C$5,FALSE)),\"\",VLOOKUP($A258,'Entry List'!$A$1:$F$61,C$5,FALSE))","v":""},{"$f":"IF(ISNA(VLOOKUP($A258,'Entry List'!$A$1:$F$61,D$5,FALSE)),\"\",VLOOKUP($A258,'Entry List'!$A$1:$F$61,D$5,FALSE))","v":""},{"$f":"IF(ISNA(VLOOKUP($A258,'Entry List'!$A$1:$F$61,E$5,FALSE)),\"\",VLOOKUP($A258,'Entry List'!$A$1:$F$61,E$5,FALSE))","v":""},null,"DNS",0,"DNS",0,"DNS",0,"DNS",0,"DNS",0,"DNS",0,"DNS",0,"DNS",0,"DNS",0,"DNS",0,"DNS",0,"DNS",0,"DNS",0,"DNS",0,"DNS",0,"DNS",0,"DNS",0,"DNS",0,"DNS",0,"DNS",0,"DNS",0,"DNS",0,"DNS",0,"DNS",0,"DNS",0,{"$f":"IF('Last Race Results'!$B$5=0,0,IF(ISNA(VLOOKUP($A258,'Last Race Results'!$A$5:$J$44,2,FALSE)),\"DNS\",VLOOKUP($A258,'Last Race Results'!$A$5:$J$44,2,FALSE)))","v":"DNS"},{"$f":"IF('Last Race Results'!$B$5=0,0,IF(ISNA(VLOOKUP($A258,'Last Race Results'!$A$5:$K$44,11,FALSE)),0,VLOOKUP($A258,'Last Race Results'!$A$5:$K$44,11,FALSE)))","v":0},null,null,null,null,null,null,null,null,null,null,null,null,null,null,null,null,null,null,{"$f":"IF('Last Race Results'!$B$5=0,0,IF(ISNA(VLOOKUP($A258,'Last Race Results'!$A$5:$J$44,2,FALSE)),\"DNS\",VLOOKUP($A258,'Last Race Results'!$A$5:$J$44,2,FALSE)))","v":"DNS"},{"$f":"IF('Last Race Results'!$B$5=0,0,IF(ISNA(VLOOKUP($A258,'Last Race Results'!$A$5:$J$44,11,FALSE)),0,VLOOKUP($A258,'Last Race Results'!$A$5:$J$44,11,FALSE)))","v":0}]
[242,{"$f":"IF(ISNA(VLOOKUP($A259,'Entry List'!$A$1:$F$61,B$5,FALSE)),\"\",VLOOKUP($A259,'Entry List'!$A$1:$F$61,B$5,FALSE))","v":""},{"$f":"IF(ISNA(VLOOKUP($A259,'Entry List'!$A$1:$F$61,C$5,FALSE)),\"\",VLOOKUP($A259,'Entry List'!$A$1:$F$61,C$5,FALSE))","v":""},{"$f":"IF(ISNA(VLOOKUP($A259,'Entry List'!$A$1:$F$61,D$5,FALSE)),\"\",VLOOKUP($A259,'Entry List'!$A$1:$F$61,D$5,FALSE))","v":""},{"$f":"IF(ISNA(VLOOKUP($A259,'Entry List'!$A$1:$F$61,E$5,FALSE)),\"\",VLOOKUP($A259,'Entry List'!$A$1:$F$61,E$5,FALSE))","v":""},null,"DNS",0,"DNS",0,"DNS",0,"DNS",0,"DNS",0,"DNS",0,"DNS",0,"DNS",0,"DNS",0,"DNS",0,"DNS",0,"DNS",0,"DNS",0,"DNS",0,"DNS",0,"DNS",0,"DNS",0,"DNS",0,"DNS",0,"DNS",0,"DNS",0,"DNS",0,"DNS",0,"DNS",0,"DNS",0,{"$f":"IF('Last Race Results'!$B$5=0,0,IF(ISNA(VLOOKUP($A259,'Last Race Results'!$A$5:$J$44,2,FALSE)),\"DNS\",VLOOKUP($A259,'Last Race Results'!$A$5:$J$44,2,FALSE)))","v":"DNS"},{"$f":"IF('Last Race Results'!$B$5=0,0,IF(ISNA(VLOOKUP($A259,'Last Race Results'!$A$5:$K$44,11,FALSE)),0,VLOOKUP($A259,'Last Race Results'!$A$5:$K$44,11,FALSE)))","v":0},null,null,null,null,null,null,null,null,null,null,null,null,null,null,null,null,null,null,{"$f":"IF('Last Race Results'!$B$5=0,0,IF(ISNA(VLOOKUP($A259,'Last Race Results'!$A$5:$J$44,2,FALSE)),\"DNS\",VLOOKUP($A259,'Last Race Results'!$A$5:$J$44,2,FALSE)))","v":"DNS"},{"$f":"IF('Last Race Results'!$B$5=0,0,IF(ISNA(VLOOKUP($A259,'Last Race Results'!$A$5:$J$44,11,FALSE)),0,VLOOKUP($A259,'Last Race Results'!$A$5:$J$44,11,FALSE)))","v":0}]
[243,{"$f":"IF(ISNA(VLOOKUP($A260,'Entry List'!$A$1:$F$61,B$5,FALSE)),\"\",VLOOKUP($A260,'Entry List'!$A$1:$F$61,B$5,FALSE))","v":""},{"$f":"IF(ISNA(VLOOKUP($A260,'Entry List'!$A$1:$F$61,C$5,FALSE)),\"\",VLOOKUP($A260,'Entry List'!$A$1:$F$61,C$5,FALSE))","v":""},{"$f":"IF(ISNA(VLOOKUP($A260,'Entry List'!$A$1:$F$61,D$5,FALSE)),\"\",VLOOKUP($A260,'Entry List'!$A$1:$F$61,D$5,FALSE))","v":""},{"$f":"IF(ISNA(VLOOKUP($A260,'Entry List'!$A$1:$F$61,E$5,FALSE)),\"\",VLOOKUP($A260,'Entry List'!$A$1:$F$61,E$5,FALSE))","v":""},null,"DNS",0,"DNS",0,"DNS",0,"DNS",0,"DNS",0,"DNS",0,"DNS",0,"DNS",0,"DNS",0,"DNS",0,"DNS",0,"DNS",0,"DNS",0,"DNS",0,"DNS",0,"DNS",0,"DNS",0,"DNS",0,"DNS",0,"DNS",0,"DNS",0,"DNS",0,"DNS",0,"DNS",0,"DNS",0,{"$f":"IF('Last Race Results'!$B$5=0,0,IF(ISNA(VLOOKUP($A260,'Last Race Results'!$A$5:$J$44,2,FALSE)),\"DNS\",VLOOKUP($A260,'Last Race Results'!$A$5:$J$44,2,FALSE)))","v":"DNS"},{"$f":"IF('Last Race Results'!$B$5=0,0,IF(ISNA(VLOOKUP($A260,'Last Race Results'!$A$5:$K$44,11,FALSE)),0,VLOOKUP($A260,'Last Race Results'!$A$5:$K$44,11,FALSE)))","v":0},null,null,null,null,null,null,null,null,null,null,null,null,null,null,null,null,null,null,{"$f":"IF('Last Race Results'!$B$5=0,0,IF(ISNA(VLOOKUP($A260,'Last Race Results'!$A$5:$J$44,2,FALSE)),\"DNS\",VLOOKUP($A260,'Last Race Results'!$A$5:$J$44,2,FALSE)))","v":"DNS"},{"$f":"IF('Last Race Results'!$B$5=0,0,IF(ISNA(VLOOKUP($A260,'Last Race Results'!$A$5:$J$44,11,FALSE)),0,VLOOKUP($A260,'Last Race Results'!$A$5:$J$44,11,FALSE)))","v":0}]
[244,{"$f":"IF(ISNA(VLOOKUP($A261,'Entry List'!$A$1:$F$61,B$5,FALSE)),\"\",VLOOKUP($A261,'Entry List'!$A$1:$F$61,B$5,FALSE))","v":""},{"$f":"IF(ISNA(VLOOKUP($A261,'Entry List'!$A$1:$F$61,C$5,FALSE)),\"\",VLOOKUP($A261,'Entry List'!$A$1:$F$61,C$5,FALSE))","v":""},{"$f":"IF(ISNA(VLOOKUP($A261,'Entry List'!$A$1:$F$61,D$5,FALSE)),\"\",VLOOKUP($A261,'Entry List'!$A$1:$F$61,D$5,FALSE))","v":""},{"$f":"IF(ISNA(VLOOKUP($A261,'Entry List'!$A$1:$F$61,E$5,FALSE)),\"\",VLOOKUP($A261,'Entry List'!$A$1:$F$61,E$5,FALSE))","v":""},null,"DNS",0,"DNS",0,"DNS",0,"DNS",0,"DNS",0,"DNS",0,"DNS",0,"DNS",0,"DNS",0,"DNS",0,"DNS",0,"DNS",0,"DNS",0,"DNS",0,"DNS",0,"DNS",0,"DNS",0,"DNS",0,"DNS",0,"DNS",0,"DNS",0,"DNS",0,"DNS",0,"DNS",0,"DNS",0,{"$f":"IF('Last Race Results'!$B$5=0,0,IF(ISNA(VLOOKUP($A261,'Last Race Results'!$A$5:$J$44,2,FALSE)),\"DNS\",VLOOKUP($A261,'Last Race Results'!$A$5:$J$44,2,FALSE)))","v":"DNS"},{"$f":"IF('Last Race Results'!$B$5=0,0,IF(ISNA(VLOOKUP($A261,'Last Race Results'!$A$5:$K$44,11,FALSE)),0,VLOOKUP($A261,'Last Race Results'!$A$5:$K$44,11,FALSE)))","v":0},null,null,null,null,null,null,null,null,null,null,null,null,null,null,null,null,null,null,{"$f":"IF('Last Race Results'!$B$5=0,0,IF(ISNA(VLOOKUP($A261,'Last Race Results'!$A$5:$J$44,2,FALSE)),\"DNS\",VLOOKUP($A261,'Last Race Results'!$A$5:$J$44,2,FALSE)))","v":"DNS"},{"$f":"IF('Last Race Results'!$B$5=0,0,IF(ISNA(VLOOKUP($A261,'Last Race Results'!$A$5:$J$44,11,FALSE)),0,VLOOKUP($A261,'Last Race Results'!$A$5:$J$44,11,FALSE)))","v":0}]
[245,{"$f":"IF(ISNA(VLOOKUP($A262,'Entry List'!$A$1:$F$61,B$5,FALSE)),\"\",VLOOKUP($A262,'Entry List'!$A$1:$F$61,B$5,FALSE))","v":""},{"$f":"IF(ISNA(VLOOKUP($A262,'Entry List'!$A$1:$F$61,C$5,FALSE)),\"\",VLOOKUP($A262,'Entry List'!$A$1:$F$61,C$5,FALSE))","v":""},{"$f":"IF(ISNA(VLOOKUP($A262,'Entry List'!$A$1:$F$61,D$5,FALSE)),\"\",VLOOKUP($A262,'Entry List'!$A$1:$F$61,D$5,FALSE))","v":""},{"$f":"IF(ISNA(VLOOKUP($A262,'Entry List'!$A$1:$F$61,E$5,FALSE)),\"\",VLOOKUP($A262,'Entry List'!$A$1:$F$61,E$5,FALSE))","v":""},null,"DNS",0,"DNS",0,"DNS",0,"DNS",0,"DNS",0,"DNS",0,"DNS",0,"DNS",0,"DNS",0,"DNS",0,"DNS",0,"DNS",0,"DNS",0,"DNS",0,"DNS",0,"DNS",0,"DNS",0,"DNS",0,"DNS",0,"DNS",0,"DNS",0,"DNS",0,"DNS",0,"DNS",0,"DNS",0,{"$f":"IF('Last Race Results'!$B$5=0,0,IF(ISNA(VLOOKUP($A262,'Last Race Results'!$A$5:$J$44,2,FALSE)),\"DNS\",VLOOKUP($A262,'Last Race Results'!$A$5:$J$44,2,FALSE)))","v":"DNS"},{"$f":"IF('Last Race Results'!$B$5=0,0,IF(ISNA(VLOOKUP($A262,'Last Race Results'!$A$5:$K$44,11,FALSE)),0,VLOOKUP($A262,'Last Race Results'!$A$5:$K$44,11,FALSE)))","v":0},null,null,null,null,null,null,null,null,null,null,null,null,null,null,null,null,null,null,{"$f":"IF('Last Race Results'!$B$5=0,0,IF(ISNA(VLOOKUP($A262,'Last Race Results'!$A$5:$J$44,2,FALSE)),\"DNS\",VLOOKUP($A262,'Last Race Results'!$A$5:$J$44,2,FALSE)))","v":"DNS"},{"$f":"IF('Last Race Results'!$B$5=0,0,IF(ISNA(VLOOKUP($A262,'Last Race Results'!$A$5:$J$44,11,FALSE)),0,VLOOKUP($A262,'Last Race Results'!$A$5:$J$44,11,FALSE)))","v":0}]
[246,{"$f":"IF(ISNA(VLOOKUP($A263,'Entry List'!$A$1:$F$61,B$5,FALSE)),\"\",VLOOKUP($A263,'Entry List'!$A$1:$F$61,B$5,FALSE))","v":""},{"$f":"IF(ISNA(VLOOKUP($A263,'Entry List'!$A$1:$F$61,C$5,FALSE)),\"\",VLOOKUP($A263,'Entry List'!$A$1:$F$61,C$5,FALSE))","v":""},{"$f":"IF(ISNA(VLOOKUP($A263,'Entry List'!$A$1:$F$61,D$5,FALSE)),\"\",VLOOKUP($A263,'Entry List'!$A$1:$F$61,D$5,FALSE))","v":""},{"$f":"IF(ISNA(VLOOKUP($A263,'Entry List'!$A$1:$F$61,E$5,FALSE)),\"\",VLOOKUP($A263,'Entry List'!$A$1:$F$61,E$5,FALSE))","v":""},null,"DNS",0,"DNS",0,"DNS",0,"DNS",0,"DNS",0,"DNS",0,"DNS",0,"DNS",0,"DNS",0,"DNS",0,"DNS",0,"DNS",0,"DNS",0,"DNS",0,"DNS",0,"DNS",0,"DNS",0,"DNS",0,"DNS",0,"DNS",0,"DNS",0,"DNS",0,"DNS",0,"DNS",0,"DNS",0,{"$f":"IF('Last Race Results'!$B$5=0,0,IF(ISNA(VLOOKUP($A263,'Last Race Results'!$A$5:$J$44,2,FALSE)),\"DNS\",VLOOKUP($A263,'Last Race Results'!$A$5:$J$44,2,FALSE)))","v":"DNS"},{"$f":"IF('Last Race Results'!$B$5=0,0,IF(ISNA(VLOOKUP($A263,'Last Race Results'!$A$5:$K$44,11,FALSE)),0,VLOOKUP($A263,'Last Race Results'!$A$5:$K$44,11,FALSE)))","v":0},null,null,null,null,null,null,null,null,null,null,null,null,null,null,null,null,null,null,{"$f":"IF('Last Race Results'!$B$5=0,0,IF(ISNA(VLOOKUP($A263,'Last Race Results'!$A$5:$J$44,2,FALSE)),\"DNS\",VLOOKUP($A263,'Last Race Results'!$A$5:$J$44,2,FALSE)))","v":"DNS"},{"$f":"IF('Last Race Results'!$B$5=0,0,IF(ISNA(VLOOKUP($A263,'Last Race Results'!$A$5:$J$44,11,FALSE)),0,VLOOKUP($A263,'Last Race Results'!$A$5:$J$44,11,FALSE)))","v":0}]
[247,{"$f":"IF(ISNA(VLOOKUP($A264,'Entry List'!$A$1:$F$61,B$5,FALSE)),\"\",VLOOKUP($A264,'Entry List'!$A$1:$F$61,B$5,FALSE))","v":""},{"$f":"IF(ISNA(VLOOKUP($A264,'Entry List'!$A$1:$F$61,C$5,FALSE)),\"\",VLOOKUP($A264,'Entry List'!$A$1:$F$61,C$5,FALSE))","v":""},{"$f":"IF(ISNA(VLOOKUP($A264,'Entry List'!$A$1:$F$61,D$5,FALSE)),\"\",VLOOKUP($A264,'Entry List'!$A$1:$F$61,D$5,FALSE))","v":""},{"$f":"IF(ISNA(VLOOKUP($A264,'Entry List'!$A$1:$F$61,E$5,FALSE)),\"\",VLOOKUP($A264,'Entry List'!$A$1:$F$61,E$5,FALSE))","v":""},null,"DNS",0,"DNS",0,"DNS",0,"DNS",0,"DNS",0,"DNS",0,"DNS",0,"DNS",0,"DNS",0,"DNS",0,"DNS",0,"DNS",0,"DNS",0,"DNS",0,"DNS",0,"DNS",0,"DNS",0,"DNS",0,"DNS",0,"DNS",0,"DNS",0,"DNS",0,"DNS",0,"DNS",0,"DNS",0,{"$f":"IF('Last Race Results'!$B$5=0,0,IF(ISNA(VLOOKUP($A264,'Last Race Results'!$A$5:$J$44,2,FALSE)),\"DNS\",VLOOKUP($A264,'Last Race Results'!$A$5:$J$44,2,FALSE)))","v":"DNS"},{"$f":"IF('Last Race Results'!$B$5=0,0,IF(ISNA(VLOOKUP($A264,'Last Race Results'!$A$5:$K$44,11,FALSE)),0,VLOOKUP($A264,'Last Race Results'!$A$5:$K$44,11,FALSE)))","v":0},null,null,null,null,null,null,null,null,null,null,null,null,null,null,null,null,null,null,{"$f":"IF('Last Race Results'!$B$5=0,0,IF(ISNA(VLOOKUP($A264,'Last Race Results'!$A$5:$J$44,2,FALSE)),\"DNS\",VLOOKUP($A264,'Last Race Results'!$A$5:$J$44,2,FALSE)))","v":"DNS"},{"$f":"IF('Last Race Results'!$B$5=0,0,IF(ISNA(VLOOKUP($A264,'Last Race Results'!$A$5:$J$44,11,FALSE)),0,VLOOKUP($A264,'Last Race Results'!$A$5:$J$44,11,FALSE)))","v":0}]
[248,{"$f":"IF(ISNA(VLOOKUP($A265,'Entry List'!$A$1:$F$61,B$5,FALSE)),\"\",VLOOKUP($A265,'Entry List'!$A$1:$F$61,B$5,FALSE))","v":""},{"$f":"IF(ISNA(VLOOKUP($A265,'Entry List'!$A$1:$F$61,C$5,FALSE)),\"\",VLOOKUP($A265,'Entry List'!$A$1:$F$61,C$5,FALSE))","v":""},{"$f":"IF(ISNA(VLOOKUP($A265,'Entry List'!$A$1:$F$61,D$5,FALSE)),\"\",VLOOKUP($A265,'Entry List'!$A$1:$F$61,D$5,FALSE))","v":""},{"$f":"IF(ISNA(VLOOKUP($A265,'Entry List'!$A$1:$F$61,E$5,FALSE)),\"\",VLOOKUP($A265,'Entry List'!$A$1:$F$61,E$5,FALSE))","v":""},null,"DNS",0,"DNS",0,"DNS",0,"DNS",0,"DNS",0,"DNS",0,"DNS",0,"DNS",0,"DNS",0,"DNS",0,"DNS",0,"DNS",0,"DNS",0,"DNS",0,"DNS",0,"DNS",0,"DNS",0,"DNS",0,"DNS",0,"DNS",0,"DNS",0,"DNS",0,"DNS",0,"DNS",0,"DNS",0,{"$f":"IF('Last Race Results'!$B$5=0,0,IF(ISNA(VLOOKUP($A265,'Last Race Results'!$A$5:$J$44,2,FALSE)),\"DNS\",VLOOKUP($A265,'Last Race Results'!$A$5:$J$44,2,FALSE)))","v":"DNS"},{"$f":"IF('Last Race Results'!$B$5=0,0,IF(ISNA(VLOOKUP($A265,'Last Race Results'!$A$5:$K$44,11,FALSE)),0,VLOOKUP($A265,'Last Race Results'!$A$5:$K$44,11,FALSE)))","v":0},null,null,null,null,null,null,null,null,null,null,null,null,null,null,null,null,null,null,{"$f":"IF('Last Race Results'!$B$5=0,0,IF(ISNA(VLOOKUP($A265,'Last Race Results'!$A$5:$J$44,2,FALSE)),\"DNS\",VLOOKUP($A265,'Last Race Results'!$A$5:$J$44,2,FALSE)))","v":"DNS"},{"$f":"IF('Last Race Results'!$B$5=0,0,IF(ISNA(VLOOKUP($A265,'Last Race Results'!$A$5:$J$44,11,FALSE)),0,VLOOKUP($A265,'Last Race Results'!$A$5:$J$44,11,FALSE)))","v":0}]
[249,{"$f":"IF(ISNA(VLOOKUP($A266,'Entry List'!$A$1:$F$61,B$5,FALSE)),\"\",VLOOKUP($A266,'Entry List'!$A$1:$F$61,B$5,FALSE))","v":""},{"$f":"IF(ISNA(VLOOKUP($A266,'Entry List'!$A$1:$F$61,C$5,FALSE)),\"\",VLOOKUP($A266,'Entry List'!$A$1:$F$61,C$5,FALSE))","v":""},{"$f":"IF(ISNA(VLOOKUP($A266,'Entry List'!$A$1:$F$61,D$5,FALSE)),\"\",VLOOKUP($A266,'Entry List'!$A$1:$F$61,D$5,FALSE))","v":""},{"$f":"IF(ISNA(VLOOKUP($A266,'Entry List'!$A$1:$F$61,E$5,FALSE)),\"\",VLOOKUP($A266,'Entry List'!$A$1:$F$61,E$5,FALSE))","v":""},null,"DNS",0,"DNS",0,"DNS",0,"DNS",0,"DNS",0,"DNS",0,"DNS",0,"DNS",0,"DNS",0,"DNS",0,"DNS",0,"DNS",0,"DNS",0,"DNS",0,"DNS",0,"DNS",0,"DNS",0,"DNS",0,"DNS",0,"DNS",0,"DNS",0,"DNS",0,"DNS",0,"DNS",0,"DNS",0,{"$f":"IF('Last Race Results'!$B$5=0,0,IF(ISNA(VLOOKUP($A266,'Last Race Results'!$A$5:$J$44,2,FALSE)),\"DNS\",VLOOKUP($A266,'Last Race Results'!$A$5:$J$44,2,FALSE)))","v":"DNS"},{"$f":"IF('Last Race Results'!$B$5=0,0,IF(ISNA(VLOOKUP($A266,'Last Race Results'!$A$5:$K$44,11,FALSE)),0,VLOOKUP($A266,'Last Race Results'!$A$5:$K$44,11,FALSE)))","v":0},null,null,null,null,null,null,null,null,null,null,null,null,null,null,null,null,null,null,{"$f":"IF('Last Race Results'!$B$5=0,0,IF(ISNA(VLOOKUP($A266,'Last Race Results'!$A$5:$J$44,2,FALSE)),\"DNS\",VLOOKUP($A266,'Last Race Results'!$A$5:$J$44,2,FALSE)))","v":"DNS"},{"$f":"IF('Last Race Results'!$B$5=0,0,IF(ISNA(VLOOKUP($A266,'Last Race Results'!$A$5:$J$44,11,FALSE)),0,VLOOKUP($A266,'Last Race Results'!$A$5:$J$44,11,FALSE)))","v":0}]
[250,{"$f":"IF(ISNA(VLOOKUP($A267,'Entry List'!$A$1:$F$61,B$5,FALSE)),\"\",VLOOKUP($A267,'Entry List'!$A$1:$F$61,B$5,FALSE))","v":""},{"$f":"IF(ISNA(VLOOKUP($A267,'Entry List'!$A$1:$F$61,C$5,FALSE)),\"\",VLOOKUP($A267,'Entry List'!$A$1:$F$61,C$5,FALSE))","v":""},{"$f":"IF(ISNA(VLOOKUP($A267,'Entry List'!$A$1:$F$61,D$5,FALSE)),\"\",VLOOKUP($A267,'Entry List'!$A$1:$F$61,D$5,FALSE))","v":""},{"$f":"IF(ISNA(VLOOKUP($A267,'Entry List'!$A$1:$F$61,E$5,FALSE)),\"\",VLOOKUP($A267,'Entry List'!$A$1:$F$61,E$5,FALSE))","v":""},null,"DNS",0,"DNS",0,"DNS",0,"DNS",0,"DNS",0,"DNS",0,"DNS",0,"DNS",0,"DNS",0,"DNS",0,"DNS",0,"DNS",0,"DNS",0,"DNS",0,"DNS",0,"DNS",0,"DNS",0,"DNS",0,"DNS",0,"DNS",0,"DNS",0,"DNS",0,"DNS",0,"DNS",0,"DNS",0,{"$f":"IF('Last Race Results'!$B$5=0,0,IF(ISNA(VLOOKUP($A267,'Last Race Results'!$A$5:$J$44,2,FALSE)),\"DNS\",VLOOKUP($A267,'Last Race Results'!$A$5:$J$44,2,FALSE)))","v":"DNS"},{"$f":"IF('Last Race Results'!$B$5=0,0,IF(ISNA(VLOOKUP($A267,'Last Race Results'!$A$5:$K$44,11,FALSE)),0,VLOOKUP($A267,'Last Race Results'!$A$5:$K$44,11,FALSE)))","v":0},null,null,null,null,null,null,null,null,null,null,null,null,null,null,null,null,null,null,{"$f":"IF('Last Race Results'!$B$5=0,0,IF(ISNA(VLOOKUP($A267,'Last Race Results'!$A$5:$J$44,2,FALSE)),\"DNS\",VLOOKUP($A267,'Last Race Results'!$A$5:$J$44,2,FALSE)))","v":"DNS"},{"$f":"IF('Last Race Results'!$B$5=0,0,IF(ISNA(VLOOKUP($A267,'Last Race Results'!$A$5:$J$44,11,FALSE)),0,VLOOKUP($A267,'Last Race Results'!$A$5:$J$44,11,FALSE)))","v":0}]
[251,{"$f":"IF(ISNA(VLOOKUP($A268,'Entry List'!$A$1:$F$61,B$5,FALSE)),\"\",VLOOKUP($A268,'Entry List'!$A$1:$F$61,B$5,FALSE))","v":""},{"$f":"IF(ISNA(VLOOKUP($A268,'Entry List'!$A$1:$F$61,C$5,FALSE)),\"\",VLOOKUP($A268,'Entry List'!$A$1:$F$61,C$5,FALSE))","v":""},{"$f":"IF(ISNA(VLOOKUP($A268,'Entry List'!$A$1:$F$61,D$5,FALSE)),\"\",VLOOKUP($A268,'Entry List'!$A$1:$F$61,D$5,FALSE))","v":""},{"$f":"IF(ISNA(VLOOKUP($A268,'Entry List'!$A$1:$F$61,E$5,FALSE)),\"\",VLOOKUP($A268,'Entry List'!$A$1:$F$61,E$5,FALSE))","v":""},null,"DNS",0,"DNS",0,"DNS",0,"DNS",0,"DNS",0,"DNS",0,"DNS",0,"DNS",0,"DNS",0,"DNS",0,"DNS",0,"DNS",0,"DNS",0,"DNS",0,"DNS",0,"DNS",0,"DNS",0,"DNS",0,"DNS",0,"DNS",0,"DNS",0,"DNS",0,"DNS",0,"DNS",0,"DNS",0,{"$f":"IF('Last Race Results'!$B$5=0,0,IF(ISNA(VLOOKUP($A268,'Last Race Results'!$A$5:$J$44,2,FALSE)),\"DNS\",VLOOKUP($A268,'Last Race Results'!$A$5:$J$44,2,FALSE)))","v":"DNS"},{"$f":"IF('Last Race Results'!$B$5=0,0,IF(ISNA(VLOOKUP($A268,'Last Race Results'!$A$5:$K$44,11,FALSE)),0,VLOOKUP($A268,'Last Race Results'!$A$5:$K$44,11,FALSE)))","v":0},null,null,null,null,null,null,null,null,null,null,null,null,null,null,null,null,null,null,{"$f":"IF('Last Race Results'!$B$5=0,0,IF(ISNA(VLOOKUP($A268,'Last Race Results'!$A$5:$J$44,2,FALSE)),\"DNS\",VLOOKUP($A268,'Last Race Results'!$A$5:$J$44,2,FALSE)))","v":"DNS"},{"$f":"IF('Last Race Results'!$B$5=0,0,IF(ISNA(VLOOKUP($A268,'Last Race Results'!$A$5:$J$44,11,FALSE)),0,VLOOKUP($A268,'Last Race Results'!$A$5:$J$44,11,FALSE)))","v":0}]
[252,{"$f":"IF(ISNA(VLOOKUP($A269,'Entry List'!$A$1:$F$61,B$5,FALSE)),\"\",VLOOKUP($A269,'Entry List'!$A$1:$F$61,B$5,FALSE))","v":""},{"$f":"IF(ISNA(VLOOKUP($A269,'Entry List'!$A$1:$F$61,C$5,FALSE)),\"\",VLOOKUP($A269,'Entry List'!$A$1:$F$61,C$5,FALSE))","v":""},{"$f":"IF(ISNA(VLOOKUP($A269,'Entry List'!$A$1:$F$61,D$5,FALSE)),\"\",VLOOKUP($A269,'Entry List'!$A$1:$F$61,D$5,FALSE))","v":""},{"$f":"IF(ISNA(VLOOKUP($A269,'Entry List'!$A$1:$F$61,E$5,FALSE)),\"\",VLOOKUP($A269,'Entry List'!$A$1:$F$61,E$5,FALSE))","v":""},null,"DNS",0,"DNS",0,"DNS",0,"DNS",0,"DNS",0,"DNS",0,"DNS",0,"DNS",0,"DNS",0,"DNS",0,"DNS",0,"DNS",0,"DNS",0,"DNS",0,"DNS",0,"DNS",0,"DNS",0,"DNS",0,"DNS",0,"DNS",0,"DNS",0,"DNS",0,"DNS",0,"DNS",0,"DNS",0,{"$f":"IF('Last Race Results'!$B$5=0,0,IF(ISNA(VLOOKUP($A269,'Last Race Results'!$A$5:$J$44,2,FALSE)),\"DNS\",VLOOKUP($A269,'Last Race Results'!$A$5:$J$44,2,FALSE)))","v":"DNS"},{"$f":"IF('Last Race Results'!$B$5=0,0,IF(ISNA(VLOOKUP($A269,'Last Race Results'!$A$5:$K$44,11,FALSE)),0,VLOOKUP($A269,'Last Race Results'!$A$5:$K$44,11,FALSE)))","v":0},null,null,null,null,null,null,null,null,null,null,null,null,null,null,null,null,null,null,{"$f":"IF('Last Race Results'!$B$5=0,0,IF(ISNA(VLOOKUP($A269,'Last Race Results'!$A$5:$J$44,2,FALSE)),\"DNS\",VLOOKUP($A269,'Last Race Results'!$A$5:$J$44,2,FALSE)))","v":"DNS"},{"$f":"IF('Last Race Results'!$B$5=0,0,IF(ISNA(VLOOKUP($A269,'Last Race Results'!$A$5:$J$44,11,FALSE)),0,VLOOKUP($A269,'Last Race Results'!$A$5:$J$44,11,FALSE)))","v":0}]
[253,{"$f":"IF(ISNA(VLOOKUP($A270,'Entry List'!$A$1:$F$61,B$5,FALSE)),\"\",VLOOKUP($A270,'Entry List'!$A$1:$F$61,B$5,FALSE))","v":""},{"$f":"IF(ISNA(VLOOKUP($A270,'Entry List'!$A$1:$F$61,C$5,FALSE)),\"\",VLOOKUP($A270,'Entry List'!$A$1:$F$61,C$5,FALSE))","v":""},{"$f":"IF(ISNA(VLOOKUP($A270,'Entry List'!$A$1:$F$61,D$5,FALSE)),\"\",VLOOKUP($A270,'Entry List'!$A$1:$F$61,D$5,FALSE))","v":""},{"$f":"IF(ISNA(VLOOKUP($A270,'Entry List'!$A$1:$F$61,E$5,FALSE)),\"\",VLOOKUP($A270,'Entry List'!$A$1:$F$61,E$5,FALSE))","v":""},null,"DNS",0,"DNS",0,"DNS",0,"DNS",0,"DNS",0,"DNS",0,"DNS",0,"DNS",0,"DNS",0,"DNS",0,"DNS",0,"DNS",0,"DNS",0,"DNS",0,"DNS",0,"DNS",0,"DNS",0,"DNS",0,"DNS",0,"DNS",0,"DNS",0,"DNS",0,"DNS",0,"DNS",0,"DNS",0,{"$f":"IF('Last Race Results'!$B$5=0,0,IF(ISNA(VLOOKUP($A270,'Last Race Results'!$A$5:$J$44,2,FALSE)),\"DNS\",VLOOKUP($A270,'Last Race Results'!$A$5:$J$44,2,FALSE)))","v":"DNS"},{"$f":"IF('Last Race Results'!$B$5=0,0,IF(ISNA(VLOOKUP($A270,'Last Race Results'!$A$5:$K$44,11,FALSE)),0,VLOOKUP($A270,'Last Race Results'!$A$5:$K$44,11,FALSE)))","v":0},null,null,null,null,null,null,null,null,null,null,null,null,null,null,null,null,null,null,{"$f":"IF('Last Race Results'!$B$5=0,0,IF(ISNA(VLOOKUP($A270,'Last Race Results'!$A$5:$J$44,2,FALSE)),\"DNS\",VLOOKUP($A270,'Last Race Results'!$A$5:$J$44,2,FALSE)))","v":"DNS"},{"$f":"IF('Last Race Results'!$B$5=0,0,IF(ISNA(VLOOKUP($A270,'Last Race Results'!$A$5:$J$44,11,FALSE)),0,VLOOKUP($A270,'Last Race Results'!$A$5:$J$44,11,FALSE)))","v":0}]
[254,{"$f":"IF(ISNA(VLOOKUP($A271,'Entry List'!$A$1:$F$61,B$5,FALSE)),\"\",VLOOKUP($A271,'Entry List'!$A$1:$F$61,B$5,FALSE))","v":""},{"$f":"IF(ISNA(VLOOKUP($A271,'Entry List'!$A$1:$F$61,C$5,FALSE)),\"\",VLOOKUP($A271,'Entry List'!$A$1:$F$61,C$5,FALSE))","v":""},{"$f":"IF(ISNA(VLOOKUP($A271,'Entry List'!$A$1:$F$61,D$5,FALSE)),\"\",VLOOKUP($A271,'Entry List'!$A$1:$F$61,D$5,FALSE))","v":""},{"$f":"IF(ISNA(VLOOKUP($A271,'Entry List'!$A$1:$F$61,E$5,FALSE)),\"\",VLOOKUP($A271,'Entry List'!$A$1:$F$61,E$5,FALSE))","v":""},null,"DNS",0,"DNS",0,"DNS",0,"DNS",0,"DNS",0,"DNS",0,"DNS",0,"DNS",0,"DNS",0,"DNS",0,"DNS",0,"DNS",0,"DNS",0,"DNS",0,"DNS",0,"DNS",0,"DNS",0,"DNS",0,"DNS",0,"DNS",0,"DNS",0,"DNS",0,"DNS",0,"DNS",0,"DNS",0,{"$f":"IF('Last Race Results'!$B$5=0,0,IF(ISNA(VLOOKUP($A271,'Last Race Results'!$A$5:$J$44,2,FALSE)),\"DNS\",VLOOKUP($A271,'Last Race Results'!$A$5:$J$44,2,FALSE)))","v":"DNS"},{"$f":"IF('Last Race Results'!$B$5=0,0,IF(ISNA(VLOOKUP($A271,'Last Race Results'!$A$5:$K$44,11,FALSE)),0,VLOOKUP($A271,'Last Race Results'!$A$5:$K$44,11,FALSE)))","v":0},null,null,null,null,null,null,null,null,null,null,null,null,null,null,null,null,null,null,{"$f":"IF('Last Race Results'!$B$5=0,0,IF(ISNA(VLOOKUP($A271,'Last Race Results'!$A$5:$J$44,2,FALSE)),\"DNS\",VLOOKUP($A271,'Last Race Results'!$A$5:$J$44,2,FALSE)))","v":"DNS"},{"$f":"IF('Last Race Results'!$B$5=0,0,IF(ISNA(VLOOKUP($A271,'Last Race Results'!$A$5:$J$44,11,FALSE)),0,VLOOKUP($A271,'Last Race Results'!$A$5:$J$44,11,FALSE)))","v":0}]
[255,{"$f":"IF(ISNA(VLOOKUP($A272,'Entry List'!$A$1:$F$61,B$5,FALSE)),\"\",VLOOKUP($A272,'Entry List'!$A$1:$F$61,B$5,FALSE))","v":""},{"$f":"IF(ISNA(VLOOKUP($A272,'Entry List'!$A$1:$F$61,C$5,FALSE)),\"\",VLOOKUP($A272,'Entry List'!$A$1:$F$61,C$5,FALSE))","v":""},{"$f":"IF(ISNA(VLOOKUP($A272,'Entry List'!$A$1:$F$61,D$5,FALSE)),\"\",VLOOKUP($A272,'Entry List'!$A$1:$F$61,D$5,FALSE))","v":""},{"$f":"IF(ISNA(VLOOKUP($A272,'Entry List'!$A$1:$F$61,E$5,FALSE)),\"\",VLOOKUP($A272,'Entry List'!$A$1:$F$61,E$5,FALSE))","v":""},null,"DNS",0,"DNS",0,"DNS",0,"DNS",0,"DNS",0,"DNS",0,"DNS",0,"DNS",0,"DNS",0,"DNS",0,"DNS",0,"DNS",0,"DNS",0,"DNS",0,"DNS",0,"DNS",0,"DNS",0,"DNS",0,"DNS",0,"DNS",0,"DNS",0,"DNS",0,"DNS",0,"DNS",0,"DNS",0,{"$f":"IF('Last Race Results'!$B$5=0,0,IF(ISNA(VLOOKUP($A272,'Last Race Results'!$A$5:$J$44,2,FALSE)),\"DNS\",VLOOKUP($A272,'Last Race Results'!$A$5:$J$44,2,FALSE)))","v":"DNS"},{"$f":"IF('Last Race Results'!$B$5=0,0,IF(ISNA(VLOOKUP($A272,'Last Race Results'!$A$5:$K$44,11,FALSE)),0,VLOOKUP($A272,'Last Race Results'!$A$5:$K$44,11,FALSE)))","v":0},null,null,null,null,null,null,null,null,null,null,null,null,null,null,null,null,null,null,{"$f":"IF('Last Race Results'!$B$5=0,0,IF(ISNA(VLOOKUP($A272,'Last Race Results'!$A$5:$J$44,2,FALSE)),\"DNS\",VLOOKUP($A272,'Last Race Results'!$A$5:$J$44,2,FALSE)))","v":"DNS"},{"$f":"IF('Last Race Results'!$B$5=0,0,IF(ISNA(VLOOKUP($A272,'Last Race Results'!$A$5:$J$44,11,FALSE)),0,VLOOKUP($A272,'Last Race Results'!$A$5:$J$44,11,FALSE)))","v":0}]
[256,{"$f":"IF(ISNA(VLOOKUP($A273,'Entry List'!$A$1:$F$61,B$5,FALSE)),\"\",VLOOKUP($A273,'Entry List'!$A$1:$F$61,B$5,FALSE))","v":""},{"$f":"IF(ISNA(VLOOKUP($A273,'Entry List'!$A$1:$F$61,C$5,FALSE)),\"\",VLOOKUP($A273,'Entry List'!$A$1:$F$61,C$5,FALSE))","v":""},{"$f":"IF(ISNA(VLOOKUP($A273,'Entry List'!$A$1:$F$61,D$5,FALSE)),\"\",VLOOKUP($A273,'Entry List'!$A$1:$F$61,D$5,FALSE))","v":""},{"$f":"IF(ISNA(VLOOKUP($A273,'Entry List'!$A$1:$F$61,E$5,FALSE)),\"\",VLOOKUP($A273,'Entry List'!$A$1:$F$61,E$5,FALSE))","v":""},null,"DNS",0,"DNS",0,"DNS",0,"DNS",0,"DNS",0,"DNS",0,"DNS",0,"DNS",0,"DNS",0,"DNS",0,"DNS",0,"DNS",0,"DNS",0,"DNS",0,"DNS",0,"DNS",0,"DNS",0,"DNS",0,"DNS",0,"DNS",0,"DNS",0,"DNS",0,"DNS",0,"DNS",0,"DNS",0,{"$f":"IF('Last Race Results'!$B$5=0,0,IF(ISNA(VLOOKUP($A273,'Last Race Results'!$A$5:$J$44,2,FALSE)),\"DNS\",VLOOKUP($A273,'Last Race Results'!$A$5:$J$44,2,FALSE)))","v":"DNS"},{"$f":"IF('Last Race Results'!$B$5=0,0,IF(ISNA(VLOOKUP($A273,'Last Race Results'!$A$5:$K$44,11,FALSE)),0,VLOOKUP($A273,'Last Race Results'!$A$5:$K$44,11,FALSE)))","v":0},null,null,null,null,null,null,null,null,null,null,null,null,null,null,null,null,null,null,{"$f":"IF('Last Race Results'!$B$5=0,0,IF(ISNA(VLOOKUP($A273,'Last Race Results'!$A$5:$J$44,2,FALSE)),\"DNS\",VLOOKUP($A273,'Last Race Results'!$A$5:$J$44,2,FALSE)))","v":"DNS"},{"$f":"IF('Last Race Results'!$B$5=0,0,IF(ISNA(VLOOKUP($A273,'Last Race Results'!$A$5:$J$44,11,FALSE)),0,VLOOKUP($A273,'Last Race Results'!$A$5:$J$44,11,FALSE)))","v":0}]
[257,{"$f":"IF(ISNA(VLOOKUP($A274,'Entry List'!$A$1:$F$61,B$5,FALSE)),\"\",VLOOKUP($A274,'Entry List'!$A$1:$F$61,B$5,FALSE))","v":""},{"$f":"IF(ISNA(VLOOKUP($A274,'Entry List'!$A$1:$F$61,C$5,FALSE)),\"\",VLOOKUP($A274,'Entry List'!$A$1:$F$61,C$5,FALSE))","v":""},{"$f":"IF(ISNA(VLOOKUP($A274,'Entry List'!$A$1:$F$61,D$5,FALSE)),\"\",VLOOKUP($A274,'Entry List'!$A$1:$F$61,D$5,FALSE))","v":""},{"$f":"IF(ISNA(VLOOKUP($A274,'Entry List'!$A$1:$F$61,E$5,FALSE)),\"\",VLOOKUP($A274,'Entry List'!$A$1:$F$61,E$5,FALSE))","v":""},null,"DNS",0,"DNS",0,"DNS",0,"DNS",0,"DNS",0,"DNS",0,"DNS",0,"DNS",0,"DNS",0,"DNS",0,"DNS",0,"DNS",0,"DNS",0,"DNS",0,"DNS",0,"DNS",0,"DNS",0,"DNS",0,"DNS",0,"DNS",0,"DNS",0,"DNS",0,"DNS",0,"DNS",0,"DNS",0,{"$f":"IF('Last Race Results'!$B$5=0,0,IF(ISNA(VLOOKUP($A274,'Last Race Results'!$A$5:$J$44,2,FALSE)),\"DNS\",VLOOKUP($A274,'Last Race Results'!$A$5:$J$44,2,FALSE)))","v":"DNS"},{"$f":"IF('Last Race Results'!$B$5=0,0,IF(ISNA(VLOOKUP($A274,'Last Race Results'!$A$5:$K$44,11,FALSE)),0,VLOOKUP($A274,'Last Race Results'!$A$5:$K$44,11,FALSE)))","v":0},null,null,null,null,null,null,null,null,null,null,null,null,null,null,null,null,null,null,{"$f":"IF('Last Race Results'!$B$5=0,0,IF(ISNA(VLOOKUP($A274,'Last Race Results'!$A$5:$J$44,2,FALSE)),\"DNS\",VLOOKUP($A274,'Last Race Results'!$A$5:$J$44,2,FALSE)))","v":"DNS"},{"$f":"IF('Last Race Results'!$B$5=0,0,IF(ISNA(VLOOKUP($A274,'Last Race Results'!$A$5:$J$44,11,FALSE)),0,VLOOKUP($A274,'Last Race Results'!$A$5:$J$44,11,FALSE)))","v":0}]
[258,{"$f":"IF(ISNA(VLOOKUP($A275,'Entry List'!$A$1:$F$61,B$5,FALSE)),\"\",VLOOKUP($A275,'Entry List'!$A$1:$F$61,B$5,FALSE))","v":""},{"$f":"IF(ISNA(VLOOKUP($A275,'Entry List'!$A$1:$F$61,C$5,FALSE)),\"\",VLOOKUP($A275,'Entry List'!$A$1:$F$61,C$5,FALSE))","v":""},{"$f":"IF(ISNA(VLOOKUP($A275,'Entry List'!$A$1:$F$61,D$5,FALSE)),\"\",VLOOKUP($A275,'Entry List'!$A$1:$F$61,D$5,FALSE))","v":""},{"$f":"IF(ISNA(VLOOKUP($A275,'Entry List'!$A$1:$F$61,E$5,FALSE)),\"\",VLOOKUP($A275,'Entry List'!$A$1:$F$61,E$5,FALSE))","v":""},null,"DNS",0,"DNS",0,"DNS",0,"DNS",0,"DNS",0,"DNS",0,"DNS",0,"DNS",0,"DNS",0,"DNS",0,"DNS",0,"DNS",0,"DNS",0,"DNS",0,"DNS",0,"DNS",0,"DNS",0,"DNS",0,"DNS",0,"DNS",0,"DNS",0,"DNS",0,"DNS",0,"DNS",0,"DNS",0,{"$f":"IF('Last Race Results'!$B$5=0,0,IF(ISNA(VLOOKUP($A275,'Last Race Results'!$A$5:$J$44,2,FALSE)),\"DNS\",VLOOKUP($A275,'Last Race Results'!$A$5:$J$44,2,FALSE)))","v":"DNS"},{"$f":"IF('Last Race Results'!$B$5=0,0,IF(ISNA(VLOOKUP($A275,'Last Race Results'!$A$5:$K$44,11,FALSE)),0,VLOOKUP($A275,'Last Race Results'!$A$5:$K$44,11,FALSE)))","v":0},null,null,null,null,null,null,null,null,null,null,null,null,null,null,null,null,null,null,{"$f":"IF('Last Race Results'!$B$5=0,0,IF(ISNA(VLOOKUP($A275,'Last Race Results'!$A$5:$J$44,2,FALSE)),\"DNS\",VLOOKUP($A275,'Last Race Results'!$A$5:$J$44,2,FALSE)))","v":"DNS"},{"$f":"IF('Last Race Results'!$B$5=0,0,IF(ISNA(VLOOKUP($A275,'Last Race Results'!$A$5:$J$44,11,FALSE)),0,VLOOKUP($A275,'Last Race Results'!$A$5:$J$44,11,FALSE)))","v":0}]
[259,{"$f":"IF(ISNA(VLOOKUP($A276,'Entry List'!$A$1:$F$61,B$5,FALSE)),\"\",VLOOKUP($A276,'Entry List'!$A$1:$F$61,B$5,FALSE))","v":""},{"$f":"IF(ISNA(VLOOKUP($A276,'Entry List'!$A$1:$F$61,C$5,FALSE)),\"\",VLOOKUP($A276,'Entry List'!$A$1:$F$61,C$5,FALSE))","v":""},{"$f":"IF(ISNA(VLOOKUP($A276,'Entry List'!$A$1:$F$61,D$5,FALSE)),\"\",VLOOKUP($A276,'Entry List'!$A$1:$F$61,D$5,FALSE))","v":""},{"$f":"IF(ISNA(VLOOKUP($A276,'Entry List'!$A$1:$F$61,E$5,FALSE)),\"\",VLOOKUP($A276,'Entry List'!$A$1:$F$61,E$5,FALSE))","v":""},null,"DNS",0,"DNS",0,"DNS",0,"DNS",0,"DNS",0,"DNS",0,"DNS",0,"DNS",0,"DNS",0,"DNS",0,"DNS",0,"DNS",0,"DNS",0,"DNS",0,"DNS",0,"DNS",0,"DNS",0,"DNS",0,"DNS",0,"DNS",0,"DNS",0,"DNS",0,"DNS",0,"DNS",0,"DNS",0,{"$f":"IF('Last Race Results'!$B$5=0,0,IF(ISNA(VLOOKUP($A276,'Last Race Results'!$A$5:$J$44,2,FALSE)),\"DNS\",VLOOKUP($A276,'Last Race Results'!$A$5:$J$44,2,FALSE)))","v":"DNS"},{"$f":"IF('Last Race Results'!$B$5=0,0,IF(ISNA(VLOOKUP($A276,'Last Race Results'!$A$5:$K$44,11,FALSE)),0,VLOOKUP($A276,'Last Race Results'!$A$5:$K$44,11,FALSE)))","v":0},null,null,null,null,null,null,null,null,null,null,null,null,null,null,null,null,null,null,{"$f":"IF('Last Race Results'!$B$5=0,0,IF(ISNA(VLOOKUP($A276,'Last Race Results'!$A$5:$J$44,2,FALSE)),\"DNS\",VLOOKUP($A276,'Last Race Results'!$A$5:$J$44,2,FALSE)))","v":"DNS"},{"$f":"IF('Last Race Results'!$B$5=0,0,IF(ISNA(VLOOKUP($A276,'Last Race Results'!$A$5:$J$44,11,FALSE)),0,VLOOKUP($A276,'Last Race Results'!$A$5:$J$44,11,FALSE)))","v":0}]
[260,{"$f":"IF(ISNA(VLOOKUP($A277,'Entry List'!$A$1:$F$61,B$5,FALSE)),\"\",VLOOKUP($A277,'Entry List'!$A$1:$F$61,B$5,FALSE))","v":""},{"$f":"IF(ISNA(VLOOKUP($A277,'Entry List'!$A$1:$F$61,C$5,FALSE)),\"\",VLOOKUP($A277,'Entry List'!$A$1:$F$61,C$5,FALSE))","v":""},{"$f":"IF(ISNA(VLOOKUP($A277,'Entry List'!$A$1:$F$61,D$5,FALSE)),\"\",VLOOKUP($A277,'Entry List'!$A$1:$F$61,D$5,FALSE))","v":""},{"$f":"IF(ISNA(VLOOKUP($A277,'Entry List'!$A$1:$F$61,E$5,FALSE)),\"\",VLOOKUP($A277,'Entry List'!$A$1:$F$61,E$5,FALSE))","v":""},null,"DNS",0,"DNS",0,"DNS",0,"DNS",0,"DNS",0,"DNS",0,"DNS",0,"DNS",0,"DNS",0,"DNS",0,"DNS",0,"DNS",0,"DNS",0,"DNS",0,"DNS",0,"DNS",0,"DNS",0,"DNS",0,"DNS",0,"DNS",0,"DNS",0,"DNS",0,"DNS",0,"DNS",0,"DNS",0,{"$f":"IF('Last Race Results'!$B$5=0,0,IF(ISNA(VLOOKUP($A277,'Last Race Results'!$A$5:$J$44,2,FALSE)),\"DNS\",VLOOKUP($A277,'Last Race Results'!$A$5:$J$44,2,FALSE)))","v":"DNS"},{"$f":"IF('Last Race Results'!$B$5=0,0,IF(ISNA(VLOOKUP($A277,'Last Race Results'!$A$5:$K$44,11,FALSE)),0,VLOOKUP($A277,'Last Race Results'!$A$5:$K$44,11,FALSE)))","v":0},null,null,null,null,null,null,null,null,null,null,null,null,null,null,null,null,null,null,{"$f":"IF('Last Race Results'!$B$5=0,0,IF(ISNA(VLOOKUP($A277,'Last Race Results'!$A$5:$J$44,2,FALSE)),\"DNS\",VLOOKUP($A277,'Last Race Results'!$A$5:$J$44,2,FALSE)))","v":"DNS"},{"$f":"IF('Last Race Results'!$B$5=0,0,IF(ISNA(VLOOKUP($A277,'Last Race Results'!$A$5:$J$44,11,FALSE)),0,VLOOKUP($A277,'Last Race Results'!$A$5:$J$44,11,FALSE)))","v":0}]
[261,{"$f":"IF(ISNA(VLOOKUP($A278,'Entry List'!$A$1:$F$61,B$5,FALSE)),\"\",VLOOKUP($A278,'Entry List'!$A$1:$F$61,B$5,FALSE))","v":""},{"$f":"IF(ISNA(VLOOKUP($A278,'Entry List'!$A$1:$F$61,C$5,FALSE)),\"\",VLOOKUP($A278,'Entry List'!$A$1:$F$61,C$5,FALSE))","v":""},{"$f":"IF(ISNA(VLOOKUP($A278,'Entry List'!$A$1:$F$61,D$5,FALSE)),\"\",VLOOKUP($A278,'Entry List'!$A$1:$F$61,D$5,FALSE))","v":""},{"$f":"IF(ISNA(VLOOKUP($A278,'Entry List'!$A$1:$F$61,E$5,FALSE)),\"\",VLOOKUP($A278,'Entry List'!$A$1:$F$61,E$5,FALSE))","v":""},null,"DNS",0,"DNS",0,"DNS",0,"DNS",0,"DNS",0,"DNS",0,"DNS",0,"DNS",0,"DNS",0,"DNS",0,"DNS",0,"DNS",0,"DNS",0,"DNS",0,"DNS",0,"DNS",0,"DNS",0,"DNS",0,"DNS",0,"DNS",0,"DNS",0,"DNS",0,"DNS",0,"DNS",0,"DNS",0,{"$f":"IF('Last Race Results'!$B$5=0,0,IF(ISNA(VLOOKUP($A278,'Last Race Results'!$A$5:$J$44,2,FALSE)),\"DNS\",VLOOKUP($A278,'Last Race Results'!$A$5:$J$44,2,FALSE)))","v":"DNS"},{"$f":"IF('Last Race Results'!$B$5=0,0,IF(ISNA(VLOOKUP($A278,'Last Race Results'!$A$5:$K$44,11,FALSE)),0,VLOOKUP($A278,'Last Race Results'!$A$5:$K$44,11,FALSE)))","v":0},null,null,null,null,null,null,null,null,null,null,null,null,null,null,null,null,null,null,{"$f":"IF('Last Race Results'!$B$5=0,0,IF(ISNA(VLOOKUP($A278,'Last Race Results'!$A$5:$J$44,2,FALSE)),\"DNS\",VLOOKUP($A278,'Last Race Results'!$A$5:$J$44,2,FALSE)))","v":"DNS"},{"$f":"IF('Last Race Results'!$B$5=0,0,IF(ISNA(VLOOKUP($A278,'Last Race Results'!$A$5:$J$44,11,FALSE)),0,VLOOKUP($A278,'Last Race Results'!$A$5:$J$44,11,FALSE)))","v":0}]
[262,{"$f":"IF(ISNA(VLOOKUP($A279,'Entry List'!$A$1:$F$61,B$5,FALSE)),\"\",VLOOKUP($A279,'Entry List'!$A$1:$F$61,B$5,FALSE))","v":""},{"$f":"IF(ISNA(VLOOKUP($A279,'Entry List'!$A$1:$F$61,C$5,FALSE)),\"\",VLOOKUP($A279,'Entry List'!$A$1:$F$61,C$5,FALSE))","v":""},{"$f":"IF(ISNA(VLOOKUP($A279,'Entry List'!$A$1:$F$61,D$5,FALSE)),\"\",VLOOKUP($A279,'Entry List'!$A$1:$F$61,D$5,FALSE))","v":""},{"$f":"IF(ISNA(VLOOKUP($A279,'Entry List'!$A$1:$F$61,E$5,FALSE)),\"\",VLOOKUP($A279,'Entry List'!$A$1:$F$61,E$5,FALSE))","v":""},null,"DNS",0,"DNS",0,"DNS",0,"DNS",0,"DNS",0,"DNS",0,"DNS",0,"DNS",0,"DNS",0,"DNS",0,"DNS",0,"DNS",0,"DNS",0,"DNS",0,"DNS",0,"DNS",0,"DNS",0,"DNS",0,"DNS",0,"DNS",0,"DNS",0,"DNS",0,"DNS",0,"DNS",0,"DNS",0,{"$f":"IF('Last Race Results'!$B$5=0,0,IF(ISNA(VLOOKUP($A279,'Last Race Results'!$A$5:$J$44,2,FALSE)),\"DNS\",VLOOKUP($A279,'Last Race Results'!$A$5:$J$44,2,FALSE)))","v":"DNS"},{"$f":"IF('Last Race Results'!$B$5=0,0,IF(ISNA(VLOOKUP($A279,'Last Race Results'!$A$5:$K$44,11,FALSE)),0,VLOOKUP($A279,'Last Race Results'!$A$5:$K$44,11,FALSE)))","v":0},null,null,null,null,null,null,null,null,null,null,null,null,null,null,null,null,null,null,{"$f":"IF('Last Race Results'!$B$5=0,0,IF(ISNA(VLOOKUP($A279,'Last Race Results'!$A$5:$J$44,2,FALSE)),\"DNS\",VLOOKUP($A279,'Last Race Results'!$A$5:$J$44,2,FALSE)))","v":"DNS"},{"$f":"IF('Last Race Results'!$B$5=0,0,IF(ISNA(VLOOKUP($A279,'Last Race Results'!$A$5:$J$44,11,FALSE)),0,VLOOKUP($A279,'Last Race Results'!$A$5:$J$44,11,FALSE)))","v":0}]
[263,{"$f":"IF(ISNA(VLOOKUP($A280,'Entry List'!$A$1:$F$61,B$5,FALSE)),\"\",VLOOKUP($A280,'Entry List'!$A$1:$F$61,B$5,FALSE))","v":""},{"$f":"IF(ISNA(VLOOKUP($A280,'Entry List'!$A$1:$F$61,C$5,FALSE)),\"\",VLOOKUP($A280,'Entry List'!$A$1:$F$61,C$5,FALSE))","v":""},{"$f":"IF(ISNA(VLOOKUP($A280,'Entry List'!$A$1:$F$61,D$5,FALSE)),\"\",VLOOKUP($A280,'Entry List'!$A$1:$F$61,D$5,FALSE))","v":""},{"$f":"IF(ISNA(VLOOKUP($A280,'Entry List'!$A$1:$F$61,E$5,FALSE)),\"\",VLOOKUP($A280,'Entry List'!$A$1:$F$61,E$5,FALSE))","v":""},null,"DNS",0,"DNS",0,"DNS",0,"DNS",0,"DNS",0,"DNS",0,"DNS",0,"DNS",0,"DNS",0,"DNS",0,"DNS",0,"DNS",0,"DNS",0,"DNS",0,"DNS",0,"DNS",0,"DNS",0,"DNS",0,"DNS",0,"DNS",0,"DNS",0,"DNS",0,"DNS",0,"DNS",0,"DNS",0,{"$f":"IF('Last Race Results'!$B$5=0,0,IF(ISNA(VLOOKUP($A280,'Last Race Results'!$A$5:$J$44,2,FALSE)),\"DNS\",VLOOKUP($A280,'Last Race Results'!$A$5:$J$44,2,FALSE)))","v":"DNS"},{"$f":"IF('Last Race Results'!$B$5=0,0,IF(ISNA(VLOOKUP($A280,'Last Race Results'!$A$5:$K$44,11,FALSE)),0,VLOOKUP($A280,'Last Race Results'!$A$5:$K$44,11,FALSE)))","v":0},null,null,null,null,null,null,null,null,null,null,null,null,null,null,null,null,null,null,{"$f":"IF('Last Race Results'!$B$5=0,0,IF(ISNA(VLOOKUP($A280,'Last Race Results'!$A$5:$J$44,2,FALSE)),\"DNS\",VLOOKUP($A280,'Last Race Results'!$A$5:$J$44,2,FALSE)))","v":"DNS"},{"$f":"IF('Last Race Results'!$B$5=0,0,IF(ISNA(VLOOKUP($A280,'Last Race Results'!$A$5:$J$44,11,FALSE)),0,VLOOKUP($A280,'Last Race Results'!$A$5:$J$44,11,FALSE)))","v":0}]
[264,{"$f":"IF(ISNA(VLOOKUP($A281,'Entry List'!$A$1:$F$61,B$5,FALSE)),\"\",VLOOKUP($A281,'Entry List'!$A$1:$F$61,B$5,FALSE))","v":""},{"$f":"IF(ISNA(VLOOKUP($A281,'Entry List'!$A$1:$F$61,C$5,FALSE)),\"\",VLOOKUP($A281,'Entry List'!$A$1:$F$61,C$5,FALSE))","v":""},{"$f":"IF(ISNA(VLOOKUP($A281,'Entry List'!$A$1:$F$61,D$5,FALSE)),\"\",VLOOKUP($A281,'Entry List'!$A$1:$F$61,D$5,FALSE))","v":""},{"$f":"IF(ISNA(VLOOKUP($A281,'Entry List'!$A$1:$F$61,E$5,FALSE)),\"\",VLOOKUP($A281,'Entry List'!$A$1:$F$61,E$5,FALSE))","v":""},null,"DNS",0,"DNS",0,"DNS",0,"DNS",0,"DNS",0,"DNS",0,"DNS",0,"DNS",0,"DNS",0,"DNS",0,"DNS",0,"DNS",0,"DNS",0,"DNS",0,"DNS",0,"DNS",0,"DNS",0,"DNS",0,"DNS",0,"DNS",0,"DNS",0,"DNS",0,"DNS",0,"DNS",0,"DNS",0,{"$f":"IF('Last Race Results'!$B$5=0,0,IF(ISNA(VLOOKUP($A281,'Last Race Results'!$A$5:$J$44,2,FALSE)),\"DNS\",VLOOKUP($A281,'Last Race Results'!$A$5:$J$44,2,FALSE)))","v":"DNS"},{"$f":"IF('Last Race Results'!$B$5=0,0,IF(ISNA(VLOOKUP($A281,'Last Race Results'!$A$5:$K$44,11,FALSE)),0,VLOOKUP($A281,'Last Race Results'!$A$5:$K$44,11,FALSE)))","v":0},null,null,null,null,null,null,null,null,null,null,null,null,null,null,null,null,null,null,{"$f":"IF('Last Race Results'!$B$5=0,0,IF(ISNA(VLOOKUP($A281,'Last Race Results'!$A$5:$J$44,2,FALSE)),\"DNS\",VLOOKUP($A281,'Last Race Results'!$A$5:$J$44,2,FALSE)))","v":"DNS"},{"$f":"IF('Last Race Results'!$B$5=0,0,IF(ISNA(VLOOKUP($A281,'Last Race Results'!$A$5:$J$44,11,FALSE)),0,VLOOKUP($A281,'Last Race Results'!$A$5:$J$44,11,FALSE)))","v":0}]
[265,{"$f":"IF(ISNA(VLOOKUP($A282,'Entry List'!$A$1:$F$61,B$5,FALSE)),\"\",VLOOKUP($A282,'Entry List'!$A$1:$F$61,B$5,FALSE))","v":""},{"$f":"IF(ISNA(VLOOKUP($A282,'Entry List'!$A$1:$F$61,C$5,FALSE)),\"\",VLOOKUP($A282,'Entry List'!$A$1:$F$61,C$5,FALSE))","v":""},{"$f":"IF(ISNA(VLOOKUP($A282,'Entry List'!$A$1:$F$61,D$5,FALSE)),\"\",VLOOKUP($A282,'Entry List'!$A$1:$F$61,D$5,FALSE))","v":""},{"$f":"IF(ISNA(VLOOKUP($A282,'Entry List'!$A$1:$F$61,E$5,FALSE)),\"\",VLOOKUP($A282,'Entry List'!$A$1:$F$61,E$5,FALSE))","v":""},null,"DNS",0,"DNS",0,"DNS",0,"DNS",0,"DNS",0,"DNS",0,"DNS",0,"DNS",0,"DNS",0,"DNS",0,"DNS",0,"DNS",0,"DNS",0,"DNS",0,"DNS",0,"DNS",0,"DNS",0,"DNS",0,"DNS",0,"DNS",0,"DNS",0,"DNS",0,"DNS",0,"DNS",0,"DNS",0,{"$f":"IF('Last Race Results'!$B$5=0,0,IF(ISNA(VLOOKUP($A282,'Last Race Results'!$A$5:$J$44,2,FALSE)),\"DNS\",VLOOKUP($A282,'Last Race Results'!$A$5:$J$44,2,FALSE)))","v":"DNS"},{"$f":"IF('Last Race Results'!$B$5=0,0,IF(ISNA(VLOOKUP($A282,'Last Race Results'!$A$5:$K$44,11,FALSE)),0,VLOOKUP($A282,'Last Race Results'!$A$5:$K$44,11,FALSE)))","v":0},null,null,null,null,null,null,null,null,null,null,null,null,null,null,null,null,null,null,{"$f":"IF('Last Race Results'!$B$5=0,0,IF(ISNA(VLOOKUP($A282,'Last Race Results'!$A$5:$J$44,2,FALSE)),\"DNS\",VLOOKUP($A282,'Last Race Results'!$A$5:$J$44,2,FALSE)))","v":"DNS"},{"$f":"IF('Last Race Results'!$B$5=0,0,IF(ISNA(VLOOKUP($A282,'Last Race Results'!$A$5:$J$44,11,FALSE)),0,VLOOKUP($A282,'Last Race Results'!$A$5:$J$44,11,FALSE)))","v":0}]
[266,{"$f":"IF(ISNA(VLOOKUP($A283,'Entry List'!$A$1:$F$61,B$5,FALSE)),\"\",VLOOKUP($A283,'Entry List'!$A$1:$F$61,B$5,FALSE))","v":""},{"$f":"IF(ISNA(VLOOKUP($A283,'Entry List'!$A$1:$F$61,C$5,FALSE)),\"\",VLOOKUP($A283,'Entry List'!$A$1:$F$61,C$5,FALSE))","v":""},{"$f":"IF(ISNA(VLOOKUP($A283,'Entry List'!$A$1:$F$61,D$5,FALSE)),\"\",VLOOKUP($A283,'Entry List'!$A$1:$F$61,D$5,FALSE))","v":""},{"$f":"IF(ISNA(VLOOKUP($A283,'Entry List'!$A$1:$F$61,E$5,FALSE)),\"\",VLOOKUP($A283,'Entry List'!$A$1:$F$61,E$5,FALSE))","v":""},null,"DNS",0,"DNS",0,"DNS",0,"DNS",0,"DNS",0,"DNS",0,"DNS",0,"DNS",0,"DNS",0,"DNS",0,"DNS",0,"DNS",0,"DNS",0,"DNS",0,"DNS",0,"DNS",0,"DNS",0,"DNS",0,"DNS",0,"DNS",0,"DNS",0,"DNS",0,"DNS",0,"DNS",0,"DNS",0,{"$f":"IF('Last Race Results'!$B$5=0,0,IF(ISNA(VLOOKUP($A283,'Last Race Results'!$A$5:$J$44,2,FALSE)),\"DNS\",VLOOKUP($A283,'Last Race Results'!$A$5:$J$44,2,FALSE)))","v":"DNS"},{"$f":"IF('Last Race Results'!$B$5=0,0,IF(ISNA(VLOOKUP($A283,'Last Race Results'!$A$5:$K$44,11,FALSE)),0,VLOOKUP($A283,'Last Race Results'!$A$5:$K$44,11,FALSE)))","v":0},null,null,null,null,null,null,null,null,null,null,null,null,null,null,null,null,null,null,{"$f":"IF('Last Race Results'!$B$5=0,0,IF(ISNA(VLOOKUP($A283,'Last Race Results'!$A$5:$J$44,2,FALSE)),\"DNS\",VLOOKUP($A283,'Last Race Results'!$A$5:$J$44,2,FALSE)))","v":"DNS"},{"$f":"IF('Last Race Results'!$B$5=0,0,IF(ISNA(VLOOKUP($A283,'Last Race Results'!$A$5:$J$44,11,FALSE)),0,VLOOKUP($A283,'Last Race Results'!$A$5:$J$44,11,FALSE)))","v":0}]
[267,{"$f":"IF(ISNA(VLOOKUP($A284,'Entry List'!$A$1:$F$61,B$5,FALSE)),\"\",VLOOKUP($A284,'Entry List'!$A$1:$F$61,B$5,FALSE))","v":""},{"$f":"IF(ISNA(VLOOKUP($A284,'Entry List'!$A$1:$F$61,C$5,FALSE)),\"\",VLOOKUP($A284,'Entry List'!$A$1:$F$61,C$5,FALSE))","v":""},{"$f":"IF(ISNA(VLOOKUP($A284,'Entry List'!$A$1:$F$61,D$5,FALSE)),\"\",VLOOKUP($A284,'Entry List'!$A$1:$F$61,D$5,FALSE))","v":""},{"$f":"IF(ISNA(VLOOKUP($A284,'Entry List'!$A$1:$F$61,E$5,FALSE)),\"\",VLOOKUP($A284,'Entry List'!$A$1:$F$61,E$5,FALSE))","v":""},null,"DNS",0,"DNS",0,"DNS",0,"DNS",0,"DNS",0,"DNS",0,"DNS",0,"DNS",0,"DNS",0,"DNS",0,"DNS",0,"DNS",0,"DNS",0,"DNS",0,"DNS",0,"DNS",0,"DNS",0,"DNS",0,"DNS",0,"DNS",0,"DNS",0,"DNS",0,"DNS",0,"DNS",0,"DNS",0,{"$f":"IF('Last Race Results'!$B$5=0,0,IF(ISNA(VLOOKUP($A284,'Last Race Results'!$A$5:$J$44,2,FALSE)),\"DNS\",VLOOKUP($A284,'Last Race Results'!$A$5:$J$44,2,FALSE)))","v":"DNS"},{"$f":"IF('Last Race Results'!$B$5=0,0,IF(ISNA(VLOOKUP($A284,'Last Race Results'!$A$5:$K$44,11,FALSE)),0,VLOOKUP($A284,'Last Race Results'!$A$5:$K$44,11,FALSE)))","v":0},null,null,null,null,null,null,null,null,null,null,null,null,null,null,null,null,null,null,{"$f":"IF('Last Race Results'!$B$5=0,0,IF(ISNA(VLOOKUP($A284,'Last Race Results'!$A$5:$J$44,2,FALSE)),\"DNS\",VLOOKUP($A284,'Last Race Results'!$A$5:$J$44,2,FALSE)))","v":"DNS"},{"$f":"IF('Last Race Results'!$B$5=0,0,IF(ISNA(VLOOKUP($A284,'Last Race Results'!$A$5:$J$44,11,FALSE)),0,VLOOKUP($A284,'Last Race Results'!$A$5:$J$44,11,FALSE)))","v":0}]
[268,{"$f":"IF(ISNA(VLOOKUP($A285,'Entry List'!$A$1:$F$61,B$5,FALSE)),\"\",VLOOKUP($A285,'Entry List'!$A$1:$F$61,B$5,FALSE))","v":""},{"$f":"IF(ISNA(VLOOKUP($A285,'Entry List'!$A$1:$F$61,C$5,FALSE)),\"\",VLOOKUP($A285,'Entry List'!$A$1:$F$61,C$5,FALSE))","v":""},{"$f":"IF(ISNA(VLOOKUP($A285,'Entry List'!$A$1:$F$61,D$5,FALSE)),\"\",VLOOKUP($A285,'Entry List'!$A$1:$F$61,D$5,FALSE))","v":""},{"$f":"IF(ISNA(VLOOKUP($A285,'Entry List'!$A$1:$F$61,E$5,FALSE)),\"\",VLOOKUP($A285,'Entry List'!$A$1:$F$61,E$5,FALSE))","v":""},null,"DNS",0,"DNS",0,"DNS",0,"DNS",0,"DNS",0,"DNS",0,"DNS",0,"DNS",0,"DNS",0,"DNS",0,"DNS",0,"DNS",0,"DNS",0,"DNS",0,"DNS",0,"DNS",0,"DNS",0,"DNS",0,"DNS",0,"DNS",0,"DNS",0,"DNS",0,"DNS",0,"DNS",0,"DNS",0,{"$f":"IF('Last Race Results'!$B$5=0,0,IF(ISNA(VLOOKUP($A285,'Last Race Results'!$A$5:$J$44,2,FALSE)),\"DNS\",VLOOKUP($A285,'Last Race Results'!$A$5:$J$44,2,FALSE)))","v":"DNS"},{"$f":"IF('Last Race Results'!$B$5=0,0,IF(ISNA(VLOOKUP($A285,'Last Race Results'!$A$5:$K$44,11,FALSE)),0,VLOOKUP($A285,'Last Race Results'!$A$5:$K$44,11,FALSE)))","v":0},null,null,null,null,null,null,null,null,null,null,null,null,null,null,null,null,null,null,{"$f":"IF('Last Race Results'!$B$5=0,0,IF(ISNA(VLOOKUP($A285,'Last Race Results'!$A$5:$J$44,2,FALSE)),\"DNS\",VLOOKUP($A285,'Last Race Results'!$A$5:$J$44,2,FALSE)))","v":"DNS"},{"$f":"IF('Last Race Results'!$B$5=0,0,IF(ISNA(VLOOKUP($A285,'Last Race Results'!$A$5:$J$44,11,FALSE)),0,VLOOKUP($A285,'Last Race Results'!$A$5:$J$44,11,FALSE)))","v":0}]
[269,{"$f":"IF(ISNA(VLOOKUP($A286,'Entry List'!$A$1:$F$61,B$5,FALSE)),\"\",VLOOKUP($A286,'Entry List'!$A$1:$F$61,B$5,FALSE))","v":""},{"$f":"IF(ISNA(VLOOKUP($A286,'Entry List'!$A$1:$F$61,C$5,FALSE)),\"\",VLOOKUP($A286,'Entry List'!$A$1:$F$61,C$5,FALSE))","v":""},{"$f":"IF(ISNA(VLOOKUP($A286,'Entry List'!$A$1:$F$61,D$5,FALSE)),\"\",VLOOKUP($A286,'Entry List'!$A$1:$F$61,D$5,FALSE))","v":""},{"$f":"IF(ISNA(VLOOKUP($A286,'Entry List'!$A$1:$F$61,E$5,FALSE)),\"\",VLOOKUP($A286,'Entry List'!$A$1:$F$61,E$5,FALSE))","v":""},null,"DNS",0,"DNS",0,"DNS",0,"DNS",0,"DNS",0,"DNS",0,"DNS",0,"DNS",0,"DNS",0,"DNS",0,"DNS",0,"DNS",0,"DNS",0,"DNS",0,"DNS",0,"DNS",0,"DNS",0,"DNS",0,"DNS",0,"DNS",0,"DNS",0,"DNS",0,"DNS",0,"DNS",0,"DNS",0,{"$f":"IF('Last Race Results'!$B$5=0,0,IF(ISNA(VLOOKUP($A286,'Last Race Results'!$A$5:$J$44,2,FALSE)),\"DNS\",VLOOKUP($A286,'Last Race Results'!$A$5:$J$44,2,FALSE)))","v":"DNS"},{"$f":"IF('Last Race Results'!$B$5=0,0,IF(ISNA(VLOOKUP($A286,'Last Race Results'!$A$5:$K$44,11,FALSE)),0,VLOOKUP($A286,'Last Race Results'!$A$5:$K$44,11,FALSE)))","v":0},null,null,null,null,null,null,null,null,null,null,null,null,null,null,null,null,null,null,{"$f":"IF('Last Race Results'!$B$5=0,0,IF(ISNA(VLOOKUP($A286,'Last Race Results'!$A$5:$J$44,2,FALSE)),\"DNS\",VLOOKUP($A286,'Last Race Results'!$A$5:$J$44,2,FALSE)))","v":"DNS"},{"$f":"IF('Last Race Results'!$B$5=0,0,IF(ISNA(VLOOKUP($A286,'Last Race Results'!$A$5:$J$44,11,FALSE)),0,VLOOKUP($A286,'Last Race Results'!$A$5:$J$44,11,FALSE)))","v":0}]
[270,{"$f":"IF(ISNA(VLOOKUP($A287,'Entry List'!$A$1:$F$61,B$5,FALSE)),\"\",VLOOKUP($A287,'Entry List'!$A$1:$F$61,B$5,FALSE))","v":""},{"$f":"IF(ISNA(VLOOKUP($A287,'Entry List'!$A$1:$F$61,C$5,FALSE)),\"\",VLOOKUP($A287,'Entry List'!$A$1:$F$61,C$5,FALSE))","v":""},{"$f":"IF(ISNA(VLOOKUP($A287,'Entry List'!$A$1:$F$61,D$5,FALSE)),\"\",VLOOKUP($A287,'Entry List'!$A$1:$F$61,D$5,FALSE))","v":""},{"$f":"IF(ISNA(VLOOKUP($A287,'Entry List'!$A$1:$F$61,E$5,FALSE)),\"\",VLOOKUP($A287,'Entry List'!$A$1:$F$61,E$5,FALSE))","v":""},null,"DNS",0,"DNS",0,"DNS",0,"DNS",0,"DNS",0,"DNS",0,"DNS",0,"DNS",0,"DNS",0,"DNS",0,"DNS",0,"DNS",0,"DNS",0,"DNS",0,"DNS",0,"DNS",0,"DNS",0,"DNS",0,"DNS",0,"DNS",0,"DNS",0,"DNS",0,"DNS",0,"DNS",0,"DNS",0,{"$f":"IF('Last Race Results'!$B$5=0,0,IF(ISNA(VLOOKUP($A287,'Last Race Results'!$A$5:$J$44,2,FALSE)),\"DNS\",VLOOKUP($A287,'Last Race Results'!$A$5:$J$44,2,FALSE)))","v":"DNS"},{"$f":"IF('Last Race Results'!$B$5=0,0,IF(ISNA(VLOOKUP($A287,'Last Race Results'!$A$5:$K$44,11,FALSE)),0,VLOOKUP($A287,'Last Race Results'!$A$5:$K$44,11,FALSE)))","v":0},null,null,null,null,null,null,null,null,null,null,null,null,null,null,null,null,null,null,{"$f":"IF('Last Race Results'!$B$5=0,0,IF(ISNA(VLOOKUP($A287,'Last Race Results'!$A$5:$J$44,2,FALSE)),\"DNS\",VLOOKUP($A287,'Last Race Results'!$A$5:$J$44,2,FALSE)))","v":"DNS"},{"$f":"IF('Last Race Results'!$B$5=0,0,IF(ISNA(VLOOKUP($A287,'Last Race Results'!$A$5:$J$44,11,FALSE)),0,VLOOKUP($A287,'Last Race Results'!$A$5:$J$44,11,FALSE)))","v":0}]
[271,{"$f":"IF(ISNA(VLOOKUP($A288,'Entry List'!$A$1:$F$61,B$5,FALSE)),\"\",VLOOKUP($A288,'Entry List'!$A$1:$F$61,B$5,FALSE))","v":""},{"$f":"IF(ISNA(VLOOKUP($A288,'Entry List'!$A$1:$F$61,C$5,FALSE)),\"\",VLOOKUP($A288,'Entry List'!$A$1:$F$61,C$5,FALSE))","v":""},{"$f":"IF(ISNA(VLOOKUP($A288,'Entry List'!$A$1:$F$61,D$5,FALSE)),\"\",VLOOKUP($A288,'Entry List'!$A$1:$F$61,D$5,FALSE))","v":""},{"$f":"IF(ISNA(VLOOKUP($A288,'Entry List'!$A$1:$F$61,E$5,FALSE)),\"\",VLOOKUP($A288,'Entry List'!$A$1:$F$61,E$5,FALSE))","v":""},null,"DNS",0,"DNS",0,"DNS",0,"DNS",0,"DNS",0,"DNS",0,"DNS",0,"DNS",0,"DNS",0,"DNS",0,"DNS",0,"DNS",0,"DNS",0,"DNS",0,"DNS",0,"DNS",0,"DNS",0,"DNS",0,"DNS",0,"DNS",0,"DNS",0,"DNS",0,"DNS",0,"DNS",0,"DNS",0,{"$f":"IF('Last Race Results'!$B$5=0,0,IF(ISNA(VLOOKUP($A288,'Last Race Results'!$A$5:$J$44,2,FALSE)),\"DNS\",VLOOKUP($A288,'Last Race Results'!$A$5:$J$44,2,FALSE)))","v":"DNS"},{"$f":"IF('Last Race Results'!$B$5=0,0,IF(ISNA(VLOOKUP($A288,'Last Race Results'!$A$5:$K$44,11,FALSE)),0,VLOOKUP($A288,'Last Race Results'!$A$5:$K$44,11,FALSE)))","v":0},null,null,null,null,null,null,null,null,null,null,null,null,null,null,null,null,null,null,{"$f":"IF('Last Race Results'!$B$5=0,0,IF(ISNA(VLOOKUP($A288,'Last Race Results'!$A$5:$J$44,2,FALSE)),\"DNS\",VLOOKUP($A288,'Last Race Results'!$A$5:$J$44,2,FALSE)))","v":"DNS"},{"$f":"IF('Last Race Results'!$B$5=0,0,IF(ISNA(VLOOKUP($A288,'Last Race Results'!$A$5:$J$44,11,FALSE)),0,VLOOKUP($A288,'Last Race Results'!$A$5:$J$44,11,FALSE)))","v":0}]
[272,{"$f":"IF(ISNA(VLOOKUP($A289,'Entry List'!$A$1:$F$61,B$5,FALSE)),\"\",VLOOKUP($A289,'Entry List'!$A$1:$F$61,B$5,FALSE))","v":""},{"$f":"IF(ISNA(VLOOKUP($A289,'Entry List'!$A$1:$F$61,C$5,FALSE)),\"\",VLOOKUP($A289,'Entry List'!$A$1:$F$61,C$5,FALSE))","v":""},{"$f":"IF(ISNA(VLOOKUP($A289,'Entry List'!$A$1:$F$61,D$5,FALSE)),\"\",VLOOKUP($A289,'Entry List'!$A$1:$F$61,D$5,FALSE))","v":""},{"$f":"IF(ISNA(VLOOKUP($A289,'Entry List'!$A$1:$F$61,E$5,FALSE)),\"\",VLOOKUP($A289,'Entry List'!$A$1:$F$61,E$5,FALSE))","v":""},null,"DNS",0,"DNS",0,"DNS",0,"DNS",0,"DNS",0,"DNS",0,"DNS",0,"DNS",0,"DNS",0,"DNS",0,"DNS",0,"DNS",0,"DNS",0,"DNS",0,"DNS",0,"DNS",0,"DNS",0,"DNS",0,"DNS",0,"DNS",0,"DNS",0,"DNS",0,"DNS",0,"DNS",0,"DNS",0,{"$f":"IF('Last Race Results'!$B$5=0,0,IF(ISNA(VLOOKUP($A289,'Last Race Results'!$A$5:$J$44,2,FALSE)),\"DNS\",VLOOKUP($A289,'Last Race Results'!$A$5:$J$44,2,FALSE)))","v":"DNS"},{"$f":"IF('Last Race Results'!$B$5=0,0,IF(ISNA(VLOOKUP($A289,'Last Race Results'!$A$5:$K$44,11,FALSE)),0,VLOOKUP($A289,'Last Race Results'!$A$5:$K$44,11,FALSE)))","v":0},null,null,null,null,null,null,null,null,null,null,null,null,null,null,null,null,null,null,{"$f":"IF('Last Race Results'!$B$5=0,0,IF(ISNA(VLOOKUP($A289,'Last Race Results'!$A$5:$J$44,2,FALSE)),\"DNS\",VLOOKUP($A289,'Last Race Results'!$A$5:$J$44,2,FALSE)))","v":"DNS"},{"$f":"IF('Last Race Results'!$B$5=0,0,IF(ISNA(VLOOKUP($A289,'Last Race Results'!$A$5:$J$44,11,FALSE)),0,VLOOKUP($A289,'Last Race Results'!$A$5:$J$44,11,FALSE)))","v":0}]
[273,{"$f":"IF(ISNA(VLOOKUP($A290,'Entry List'!$A$1:$F$61,B$5,FALSE)),\"\",VLOOKUP($A290,'Entry List'!$A$1:$F$61,B$5,FALSE))","v":""},{"$f":"IF(ISNA(VLOOKUP($A290,'Entry List'!$A$1:$F$61,C$5,FALSE)),\"\",VLOOKUP($A290,'Entry List'!$A$1:$F$61,C$5,FALSE))","v":""},{"$f":"IF(ISNA(VLOOKUP($A290,'Entry List'!$A$1:$F$61,D$5,FALSE)),\"\",VLOOKUP($A290,'Entry List'!$A$1:$F$61,D$5,FALSE))","v":""},{"$f":"IF(ISNA(VLOOKUP($A290,'Entry List'!$A$1:$F$61,E$5,FALSE)),\"\",VLOOKUP($A290,'Entry List'!$A$1:$F$61,E$5,FALSE))","v":""},null,"DNS",0,"DNS",0,"DNS",0,"DNS",0,"DNS",0,"DNS",0,"DNS",0,"DNS",0,"DNS",0,"DNS",0,"DNS",0,"DNS",0,"DNS",0,"DNS",0,"DNS",0,"DNS",0,"DNS",0,"DNS",0,"DNS",0,"DNS",0,"DNS",0,"DNS",0,"DNS",0,"DNS",0,"DNS",0,{"$f":"IF('Last Race Results'!$B$5=0,0,IF(ISNA(VLOOKUP($A290,'Last Race Results'!$A$5:$J$44,2,FALSE)),\"DNS\",VLOOKUP($A290,'Last Race Results'!$A$5:$J$44,2,FALSE)))","v":"DNS"},{"$f":"IF('Last Race Results'!$B$5=0,0,IF(ISNA(VLOOKUP($A290,'Last Race Results'!$A$5:$K$44,11,FALSE)),0,VLOOKUP($A290,'Last Race Results'!$A$5:$K$44,11,FALSE)))","v":0},null,null,null,null,null,null,null,null,null,null,null,null,null,null,null,null,null,null,{"$f":"IF('Last Race Results'!$B$5=0,0,IF(ISNA(VLOOKUP($A290,'Last Race Results'!$A$5:$J$44,2,FALSE)),\"DNS\",VLOOKUP($A290,'Last Race Results'!$A$5:$J$44,2,FALSE)))","v":"DNS"},{"$f":"IF('Last Race Results'!$B$5=0,0,IF(ISNA(VLOOKUP($A290,'Last Race Results'!$A$5:$J$44,11,FALSE)),0,VLOOKUP($A290,'Last Race Results'!$A$5:$J$44,11,FALSE)))","v":0}]
[274,{"$f":"IF(ISNA(VLOOKUP($A291,'Entry List'!$A$1:$F$61,B$5,FALSE)),\"\",VLOOKUP($A291,'Entry List'!$A$1:$F$61,B$5,FALSE))","v":""},{"$f":"IF(ISNA(VLOOKUP($A291,'Entry List'!$A$1:$F$61,C$5,FALSE)),\"\",VLOOKUP($A291,'Entry List'!$A$1:$F$61,C$5,FALSE))","v":""},{"$f":"IF(ISNA(VLOOKUP($A291,'Entry List'!$A$1:$F$61,D$5,FALSE)),\"\",VLOOKUP($A291,'Entry List'!$A$1:$F$61,D$5,FALSE))","v":""},{"$f":"IF(ISNA(VLOOKUP($A291,'Entry List'!$A$1:$F$61,E$5,FALSE)),\"\",VLOOKUP($A291,'Entry List'!$A$1:$F$61,E$5,FALSE))","v":""},null,"DNS",0,"DNS",0,"DNS",0,"DNS",0,"DNS",0,"DNS",0,"DNS",0,"DNS",0,"DNS",0,"DNS",0,"DNS",0,"DNS",0,"DNS",0,"DNS",0,"DNS",0,"DNS",0,"DNS",0,"DNS",0,"DNS",0,"DNS",0,"DNS",0,"DNS",0,"DNS",0,"DNS",0,"DNS",0,{"$f":"IF('Last Race Results'!$B$5=0,0,IF(ISNA(VLOOKUP($A291,'Last Race Results'!$A$5:$J$44,2,FALSE)),\"DNS\",VLOOKUP($A291,'Last Race Results'!$A$5:$J$44,2,FALSE)))","v":"DNS"},{"$f":"IF('Last Race Results'!$B$5=0,0,IF(ISNA(VLOOKUP($A291,'Last Race Results'!$A$5:$K$44,11,FALSE)),0,VLOOKUP($A291,'Last Race Results'!$A$5:$K$44,11,FALSE)))","v":0},null,null,null,null,null,null,null,null,null,null,null,null,null,null,null,null,null,null,{"$f":"IF('Last Race Results'!$B$5=0,0,IF(ISNA(VLOOKUP($A291,'Last Race Results'!$A$5:$J$44,2,FALSE)),\"DNS\",VLOOKUP($A291,'Last Race Results'!$A$5:$J$44,2,FALSE)))","v":"DNS"},{"$f":"IF('Last Race Results'!$B$5=0,0,IF(ISNA(VLOOKUP($A291,'Last Race Results'!$A$5:$J$44,11,FALSE)),0,VLOOKUP($A291,'Last Race Results'!$A$5:$J$44,11,FALSE)))","v":0}]
[275,{"$f":"IF(ISNA(VLOOKUP($A292,'Entry List'!$A$1:$F$61,B$5,FALSE)),\"\",VLOOKUP($A292,'Entry List'!$A$1:$F$61,B$5,FALSE))","v":""},{"$f":"IF(ISNA(VLOOKUP($A292,'Entry List'!$A$1:$F$61,C$5,FALSE)),\"\",VLOOKUP($A292,'Entry List'!$A$1:$F$61,C$5,FALSE))","v":""},{"$f":"IF(ISNA(VLOOKUP($A292,'Entry List'!$A$1:$F$61,D$5,FALSE)),\"\",VLOOKUP($A292,'Entry List'!$A$1:$F$61,D$5,FALSE))","v":""},{"$f":"IF(ISNA(VLOOKUP($A292,'Entry List'!$A$1:$F$61,E$5,FALSE)),\"\",VLOOKUP($A292,'Entry List'!$A$1:$F$61,E$5,FALSE))","v":""},null,"DNS",0,"DNS",0,"DNS",0,"DNS",0,"DNS",0,"DNS",0,"DNS",0,"DNS",0,"DNS",0,"DNS",0,"DNS",0,"DNS",0,"DNS",0,"DNS",0,"DNS",0,"DNS",0,"DNS",0,"DNS",0,"DNS",0,"DNS",0,"DNS",0,"DNS",0,"DNS",0,"DNS",0,"DNS",0,{"$f":"IF('Last Race Results'!$B$5=0,0,IF(ISNA(VLOOKUP($A292,'Last Race Results'!$A$5:$J$44,2,FALSE)),\"DNS\",VLOOKUP($A292,'Last Race Results'!$A$5:$J$44,2,FALSE)))","v":"DNS"},{"$f":"IF('Last Race Results'!$B$5=0,0,IF(ISNA(VLOOKUP($A292,'Last Race Results'!$A$5:$K$44,11,FALSE)),0,VLOOKUP($A292,'Last Race Results'!$A$5:$K$44,11,FALSE)))","v":0},null,null,null,null,null,null,null,null,null,null,null,null,null,null,null,null,null,null,{"$f":"IF('Last Race Results'!$B$5=0,0,IF(ISNA(VLOOKUP($A292,'Last Race Results'!$A$5:$J$44,2,FALSE)),\"DNS\",VLOOKUP($A292,'Last Race Results'!$A$5:$J$44,2,FALSE)))","v":"DNS"},{"$f":"IF('Last Race Results'!$B$5=0,0,IF(ISNA(VLOOKUP($A292,'Last Race Results'!$A$5:$J$44,11,FALSE)),0,VLOOKUP($A292,'Last Race Results'!$A$5:$J$44,11,FALSE)))","v":0}]
[276,{"$f":"IF(ISNA(VLOOKUP($A293,'Entry List'!$A$1:$F$61,B$5,FALSE)),\"\",VLOOKUP($A293,'Entry List'!$A$1:$F$61,B$5,FALSE))","v":""},{"$f":"IF(ISNA(VLOOKUP($A293,'Entry List'!$A$1:$F$61,C$5,FALSE)),\"\",VLOOKUP($A293,'Entry List'!$A$1:$F$61,C$5,FALSE))","v":""},{"$f":"IF(ISNA(VLOOKUP($A293,'Entry List'!$A$1:$F$61,D$5,FALSE)),\"\",VLOOKUP($A293,'Entry List'!$A$1:$F$61,D$5,FALSE))","v":""},{"$f":"IF(ISNA(VLOOKUP($A293,'Entry List'!$A$1:$F$61,E$5,FALSE)),\"\",VLOOKUP($A293,'Entry List'!$A$1:$F$61,E$5,FALSE))","v":""},null,"DNS",0,"DNS",0,"DNS",0,"DNS",0,"DNS",0,"DNS",0,"DNS",0,"DNS",0,"DNS",0,"DNS",0,"DNS",0,"DNS",0,"DNS",0,"DNS",0,"DNS",0,"DNS",0,"DNS",0,"DNS",0,"DNS",0,"DNS",0,"DNS",0,"DNS",0,"DNS",0,"DNS",0,"DNS",0,{"$f":"IF('Last Race Results'!$B$5=0,0,IF(ISNA(VLOOKUP($A293,'Last Race Results'!$A$5:$J$44,2,FALSE)),\"DNS\",VLOOKUP($A293,'Last Race Results'!$A$5:$J$44,2,FALSE)))","v":"DNS"},{"$f":"IF('Last Race Results'!$B$5=0,0,IF(ISNA(VLOOKUP($A293,'Last Race Results'!$A$5:$K$44,11,FALSE)),0,VLOOKUP($A293,'Last Race Results'!$A$5:$K$44,11,FALSE)))","v":0},null,null,null,null,null,null,null,null,null,null,null,null,null,null,null,null,null,null,{"$f":"IF('Last Race Results'!$B$5=0,0,IF(ISNA(VLOOKUP($A293,'Last Race Results'!$A$5:$J$44,2,FALSE)),\"DNS\",VLOOKUP($A293,'Last Race Results'!$A$5:$J$44,2,FALSE)))","v":"DNS"},{"$f":"IF('Last Race Results'!$B$5=0,0,IF(ISNA(VLOOKUP($A293,'Last Race Results'!$A$5:$J$44,11,FALSE)),0,VLOOKUP($A293,'Last Race Results'!$A$5:$J$44,11,FALSE)))","v":0}]
[277,{"$f":"IF(ISNA(VLOOKUP($A294,'Entry List'!$A$1:$F$61,B$5,FALSE)),\"\",VLOOKUP($A294,'Entry List'!$A$1:$F$61,B$5,FALSE))","v":""},{"$f":"IF(ISNA(VLOOKUP($A294,'Entry List'!$A$1:$F$61,C$5,FALSE)),\"\",VLOOKUP($A294,'Entry List'!$A$1:$F$61,C$5,FALSE))","v":""},{"$f":"IF(ISNA(VLOOKUP($A294,'Entry List'!$A$1:$F$61,D$5,FALSE)),\"\",VLOOKUP($A294,'Entry List'!$A$1:$F$61,D$5,FALSE))","v":""},{"$f":"IF(ISNA(VLOOKUP($A294,'Entry List'!$A$1:$F$61,E$5,FALSE)),\"\",VLOOKUP($A294,'Entry List'!$A$1:$F$61,E$5,FALSE))","v":""},null,"DNS",0,"DNS",0,"DNS",0,"DNS",0,"DNS",0,"DNS",0,"DNS",0,"DNS",0,"DNS",0,"DNS",0,"DNS",0,"DNS",0,"DNS",0,"DNS",0,"DNS",0,"DNS",0,"DNS",0,"DNS",0,"DNS",0,"DNS",0,"DNS",0,"DNS",0,"DNS",0,"DNS",0,"DNS",0,{"$f":"IF('Last Race Results'!$B$5=0,0,IF(ISNA(VLOOKUP($A294,'Last Race Results'!$A$5:$J$44,2,FALSE)),\"DNS\",VLOOKUP($A294,'Last Race Results'!$A$5:$J$44,2,FALSE)))","v":"DNS"},{"$f":"IF('Last Race Results'!$B$5=0,0,IF(ISNA(VLOOKUP($A294,'Last Race Results'!$A$5:$K$44,11,FALSE)),0,VLOOKUP($A294,'Last Race Results'!$A$5:$K$44,11,FALSE)))","v":0},null,null,null,null,null,null,null,null,null,null,null,null,null,null,null,null,null,null,{"$f":"IF('Last Race Results'!$B$5=0,0,IF(ISNA(VLOOKUP($A294,'Last Race Results'!$A$5:$J$44,2,FALSE)),\"DNS\",VLOOKUP($A294,'Last Race Results'!$A$5:$J$44,2,FALSE)))","v":"DNS"},{"$f":"IF('Last Race Results'!$B$5=0,0,IF(ISNA(VLOOKUP($A294,'Last Race Results'!$A$5:$J$44,11,FALSE)),0,VLOOKUP($A294,'Last Race Results'!$A$5:$J$44,11,FALSE)))","v":0}]
[278,{"$f":"IF(ISNA(VLOOKUP($A295,'Entry List'!$A$1:$F$61,B$5,FALSE)),\"\",VLOOKUP($A295,'Entry List'!$A$1:$F$61,B$5,FALSE))","v":""},{"$f":"IF(ISNA(VLOOKUP($A295,'Entry List'!$A$1:$F$61,C$5,FALSE)),\"\",VLOOKUP($A295,'Entry List'!$A$1:$F$61,C$5,FALSE))","v":""},{"$f":"IF(ISNA(VLOOKUP($A295,'Entry List'!$A$1:$F$61,D$5,FALSE)),\"\",VLOOKUP($A295,'Entry List'!$A$1:$F$61,D$5,FALSE))","v":""},{"$f":"IF(ISNA(VLOOKUP($A295,'Entry List'!$A$1:$F$61,E$5,FALSE)),\"\",VLOOKUP($A295,'Entry List'!$A$1:$F$61,E$5,FALSE))","v":""},null,"DNS",0,"DNS",0,"DNS",0,"DNS",0,"DNS",0,"DNS",0,"DNS",0,"DNS",0,"DNS",0,"DNS",0,"DNS",0,"DNS",0,"DNS",0,"DNS",0,"DNS",0,"DNS",0,"DNS",0,"DNS",0,"DNS",0,"DNS",0,"DNS",0,"DNS",0,"DNS",0,"DNS",0,"DNS",0,{"$f":"IF('Last Race Results'!$B$5=0,0,IF(ISNA(VLOOKUP($A295,'Last Race Results'!$A$5:$J$44,2,FALSE)),\"DNS\",VLOOKUP($A295,'Last Race Results'!$A$5:$J$44,2,FALSE)))","v":"DNS"},{"$f":"IF('Last Race Results'!$B$5=0,0,IF(ISNA(VLOOKUP($A295,'Last Race Results'!$A$5:$K$44,11,FALSE)),0,VLOOKUP($A295,'Last Race Results'!$A$5:$K$44,11,FALSE)))","v":0},null,null,null,null,null,null,null,null,null,null,null,null,null,null,null,null,null,null,{"$f":"IF('Last Race Results'!$B$5=0,0,IF(ISNA(VLOOKUP($A295,'Last Race Results'!$A$5:$J$44,2,FALSE)),\"DNS\",VLOOKUP($A295,'Last Race Results'!$A$5:$J$44,2,FALSE)))","v":"DNS"},{"$f":"IF('Last Race Results'!$B$5=0,0,IF(ISNA(VLOOKUP($A295,'Last Race Results'!$A$5:$J$44,11,FALSE)),0,VLOOKUP($A295,'Last Race Results'!$A$5:$J$44,11,FALSE)))","v":0}]
[279,{"$f":"IF(ISNA(VLOOKUP($A296,'Entry List'!$A$1:$F$61,B$5,FALSE)),\"\",VLOOKUP($A296,'Entry List'!$A$1:$F$61,B$5,FALSE))","v":""},{"$f":"IF(ISNA(VLOOKUP($A296,'Entry List'!$A$1:$F$61,C$5,FALSE)),\"\",VLOOKUP($A296,'Entry List'!$A$1:$F$61,C$5,FALSE))","v":""},{"$f":"IF(ISNA(VLOOKUP($A296,'Entry List'!$A$1:$F$61,D$5,FALSE)),\"\",VLOOKUP($A296,'Entry List'!$A$1:$F$61,D$5,FALSE))","v":""},{"$f":"IF(ISNA(VLOOKUP($A296,'Entry List'!$A$1:$F$61,E$5,FALSE)),\"\",VLOOKUP($A296,'Entry List'!$A$1:$F$61,E$5,FALSE))","v":""},null,"DNS",0,"DNS",0,"DNS",0,"DNS",0,"DNS",0,"DNS",0,"DNS",0,"DNS",0,"DNS",0,"DNS",0,"DNS",0,"DNS",0,"DNS",0,"DNS",0,"DNS",0,"DNS",0,"DNS",0,"DNS",0,"DNS",0,"DNS",0,"DNS",0,"DNS",0,"DNS",0,"DNS",0,"DNS",0,{"$f":"IF('Last Race Results'!$B$5=0,0,IF(ISNA(VLOOKUP($A296,'Last Race Results'!$A$5:$J$44,2,FALSE)),\"DNS\",VLOOKUP($A296,'Last Race Results'!$A$5:$J$44,2,FALSE)))","v":"DNS"},{"$f":"IF('Last Race Results'!$B$5=0,0,IF(ISNA(VLOOKUP($A296,'Last Race Results'!$A$5:$K$44,11,FALSE)),0,VLOOKUP($A296,'Last Race Results'!$A$5:$K$44,11,FALSE)))","v":0},null,null,null,null,null,null,null,null,null,null,null,null,null,null,null,null,null,null,{"$f":"IF('Last Race Results'!$B$5=0,0,IF(ISNA(VLOOKUP($A296,'Last Race Results'!$A$5:$J$44,2,FALSE)),\"DNS\",VLOOKUP($A296,'Last Race Results'!$A$5:$J$44,2,FALSE)))","v":"DNS"},{"$f":"IF('Last Race Results'!$B$5=0,0,IF(ISNA(VLOOKUP($A296,'Last Race Results'!$A$5:$J$44,11,FALSE)),0,VLOOKUP($A296,'Last Race Results'!$A$5:$J$44,11,FALSE)))","v":0}]
[280,{"$f":"IF(ISNA(VLOOKUP($A297,'Entry List'!$A$1:$F$61,B$5,FALSE)),\"\",VLOOKUP($A297,'Entry List'!$A$1:$F$61,B$5,FALSE))","v":""},{"$f":"IF(ISNA(VLOOKUP($A297,'Entry List'!$A$1:$F$61,C$5,FALSE)),\"\",VLOOKUP($A297,'Entry List'!$A$1:$F$61,C$5,FALSE))","v":""},{"$f":"IF(ISNA(VLOOKUP($A297,'Entry List'!$A$1:$F$61,D$5,FALSE)),\"\",VLOOKUP($A297,'Entry List'!$A$1:$F$61,D$5,FALSE))","v":""},{"$f":"IF(ISNA(VLOOKUP($A297,'Entry List'!$A$1:$F$61,E$5,FALSE)),\"\",VLOOKUP($A297,'Entry List'!$A$1:$F$61,E$5,FALSE))","v":""},null,"DNS",0,"DNS",0,"DNS",0,"DNS",0,"DNS",0,"DNS",0,"DNS",0,"DNS",0,"DNS",0,"DNS",0,"DNS",0,"DNS",0,"DNS",0,"DNS",0,"DNS",0,"DNS",0,"DNS",0,"DNS",0,"DNS",0,"DNS",0,"DNS",0,"DNS",0,"DNS",0,"DNS",0,"DNS",0,{"$f":"IF('Last Race Results'!$B$5=0,0,IF(ISNA(VLOOKUP($A297,'Last Race Results'!$A$5:$J$44,2,FALSE)),\"DNS\",VLOOKUP($A297,'Last Race Results'!$A$5:$J$44,2,FALSE)))","v":"DNS"},{"$f":"IF('Last Race Results'!$B$5=0,0,IF(ISNA(VLOOKUP($A297,'Last Race Results'!$A$5:$K$44,11,FALSE)),0,VLOOKUP($A297,'Last Race Results'!$A$5:$K$44,11,FALSE)))","v":0},null,null,null,null,null,null,null,null,null,null,null,null,null,null,null,null,null,null,{"$f":"IF('Last Race Results'!$B$5=0,0,IF(ISNA(VLOOKUP($A297,'Last Race Results'!$A$5:$J$44,2,FALSE)),\"DNS\",VLOOKUP($A297,'Last Race Results'!$A$5:$J$44,2,FALSE)))","v":"DNS"},{"$f":"IF('Last Race Results'!$B$5=0,0,IF(ISNA(VLOOKUP($A297,'Last Race Results'!$A$5:$J$44,11,FALSE)),0,VLOOKUP($A297,'Last Race Results'!$A$5:$J$44,11,FALSE)))","v":0}]
[281,{"$f":"IF(ISNA(VLOOKUP($A298,'Entry List'!$A$1:$F$61,B$5,FALSE)),\"\",VLOOKUP($A298,'Entry List'!$A$1:$F$61,B$5,FALSE))","v":""},{"$f":"IF(ISNA(VLOOKUP($A298,'Entry List'!$A$1:$F$61,C$5,FALSE)),\"\",VLOOKUP($A298,'Entry List'!$A$1:$F$61,C$5,FALSE))","v":""},{"$f":"IF(ISNA(VLOOKUP($A298,'Entry List'!$A$1:$F$61,D$5,FALSE)),\"\",VLOOKUP($A298,'Entry List'!$A$1:$F$61,D$5,FALSE))","v":""},{"$f":"IF(ISNA(VLOOKUP($A298,'Entry List'!$A$1:$F$61,E$5,FALSE)),\"\",VLOOKUP($A298,'Entry List'!$A$1:$F$61,E$5,FALSE))","v":""},null,"DNS",0,"DNS",0,"DNS",0,"DNS",0,"DNS",0,"DNS",0,"DNS",0,"DNS",0,"DNS",0,"DNS",0,"DNS",0,"DNS",0,"DNS",0,"DNS",0,"DNS",0,"DNS",0,"DNS",0,"DNS",0,"DNS",0,"DNS",0,"DNS",0,"DNS",0,"DNS",0,"DNS",0,"DNS",0,{"$f":"IF('Last Race Results'!$B$5=0,0,IF(ISNA(VLOOKUP($A298,'Last Race Results'!$A$5:$J$44,2,FALSE)),\"DNS\",VLOOKUP($A298,'Last Race Results'!$A$5:$J$44,2,FALSE)))","v":"DNS"},{"$f":"IF('Last Race Results'!$B$5=0,0,IF(ISNA(VLOOKUP($A298,'Last Race Results'!$A$5:$K$44,11,FALSE)),0,VLOOKUP($A298,'Last Race Results'!$A$5:$K$44,11,FALSE)))","v":0},null,null,null,null,null,null,null,null,null,null,null,null,null,null,null,null,null,null,{"$f":"IF('Last Race Results'!$B$5=0,0,IF(ISNA(VLOOKUP($A298,'Last Race Results'!$A$5:$J$44,2,FALSE)),\"DNS\",VLOOKUP($A298,'Last Race Results'!$A$5:$J$44,2,FALSE)))","v":"DNS"},{"$f":"IF('Last Race Results'!$B$5=0,0,IF(ISNA(VLOOKUP($A298,'Last Race Results'!$A$5:$J$44,11,FALSE)),0,VLOOKUP($A298,'Last Race Results'!$A$5:$J$44,11,FALSE)))","v":0}]
[282,{"$f":"IF(ISNA(VLOOKUP($A299,'Entry List'!$A$1:$F$61,B$5,FALSE)),\"\",VLOOKUP($A299,'Entry List'!$A$1:$F$61,B$5,FALSE))","v":""},{"$f":"IF(ISNA(VLOOKUP($A299,'Entry List'!$A$1:$F$61,C$5,FALSE)),\"\",VLOOKUP($A299,'Entry List'!$A$1:$F$61,C$5,FALSE))","v":""},{"$f":"IF(ISNA(VLOOKUP($A299,'Entry List'!$A$1:$F$61,D$5,FALSE)),\"\",VLOOKUP($A299,'Entry List'!$A$1:$F$61,D$5,FALSE))","v":""},{"$f":"IF(ISNA(VLOOKUP($A299,'Entry List'!$A$1:$F$61,E$5,FALSE)),\"\",VLOOKUP($A299,'Entry List'!$A$1:$F$61,E$5,FALSE))","v":""},null,"DNS",0,"DNS",0,"DNS",0,"DNS",0,"DNS",0,"DNS",0,"DNS",0,"DNS",0,"DNS",0,"DNS",0,"DNS",0,"DNS",0,"DNS",0,"DNS",0,"DNS",0,"DNS",0,"DNS",0,"DNS",0,"DNS",0,"DNS",0,"DNS",0,"DNS",0,"DNS",0,"DNS",0,"DNS",0,{"$f":"IF('Last Race Results'!$B$5=0,0,IF(ISNA(VLOOKUP($A299,'Last Race Results'!$A$5:$J$44,2,FALSE)),\"DNS\",VLOOKUP($A299,'Last Race Results'!$A$5:$J$44,2,FALSE)))","v":"DNS"},{"$f":"IF('Last Race Results'!$B$5=0,0,IF(ISNA(VLOOKUP($A299,'Last Race Results'!$A$5:$K$44,11,FALSE)),0,VLOOKUP($A299,'Last Race Results'!$A$5:$K$44,11,FALSE)))","v":0},null,null,null,null,null,null,null,null,null,null,null,null,null,null,null,null,null,null,{"$f":"IF('Last Race Results'!$B$5=0,0,IF(ISNA(VLOOKUP($A299,'Last Race Results'!$A$5:$J$44,2,FALSE)),\"DNS\",VLOOKUP($A299,'Last Race Results'!$A$5:$J$44,2,FALSE)))","v":"DNS"},{"$f":"IF('Last Race Results'!$B$5=0,0,IF(ISNA(VLOOKUP($A299,'Last Race Results'!$A$5:$J$44,11,FALSE)),0,VLOOKUP($A299,'Last Race Results'!$A$5:$J$44,11,FALSE)))","v":0}]
[283,{"$f":"IF(ISNA(VLOOKUP($A300,'Entry List'!$A$1:$F$61,B$5,FALSE)),\"\",VLOOKUP($A300,'Entry List'!$A$1:$F$61,B$5,FALSE))","v":""},{"$f":"IF(ISNA(VLOOKUP($A300,'Entry List'!$A$1:$F$61,C$5,FALSE)),\"\",VLOOKUP($A300,'Entry List'!$A$1:$F$61,C$5,FALSE))","v":""},{"$f":"IF(ISNA(VLOOKUP($A300,'Entry List'!$A$1:$F$61,D$5,FALSE)),\"\",VLOOKUP($A300,'Entry List'!$A$1:$F$61,D$5,FALSE))","v":""},{"$f":"IF(ISNA(VLOOKUP($A300,'Entry List'!$A$1:$F$61,E$5,FALSE)),\"\",VLOOKUP($A300,'Entry List'!$A$1:$F$61,E$5,FALSE))","v":""},null,"DNS",0,"DNS",0,"DNS",0,"DNS",0,"DNS",0,"DNS",0,"DNS",0,"DNS",0,"DNS",0,"DNS",0,"DNS",0,"DNS",0,"DNS",0,"DNS",0,"DNS",0,"DNS",0,"DNS",0,"DNS",0,"DNS",0,"DNS",0,"DNS",0,"DNS",0,"DNS",0,"DNS",0,"DNS",0,{"$f":"IF('Last Race Results'!$B$5=0,0,IF(ISNA(VLOOKUP($A300,'Last Race Results'!$A$5:$J$44,2,FALSE)),\"DNS\",VLOOKUP($A300,'Last Race Results'!$A$5:$J$44,2,FALSE)))","v":"DNS"},{"$f":"IF('Last Race Results'!$B$5=0,0,IF(ISNA(VLOOKUP($A300,'Last Race Results'!$A$5:$K$44,11,FALSE)),0,VLOOKUP($A300,'Last Race Results'!$A$5:$K$44,11,FALSE)))","v":0},null,null,null,null,null,null,null,null,null,null,null,null,null,null,null,null,null,null,{"$f":"IF('Last Race Results'!$B$5=0,0,IF(ISNA(VLOOKUP($A300,'Last Race Results'!$A$5:$J$44,2,FALSE)),\"DNS\",VLOOKUP($A300,'Last Race Results'!$A$5:$J$44,2,FALSE)))","v":"DNS"},{"$f":"IF('Last Race Results'!$B$5=0,0,IF(ISNA(VLOOKUP($A300,'Last Race Results'!$A$5:$J$44,11,FALSE)),0,VLOOKUP($A300,'Last Race Results'!$A$5:$J$44,11,FALSE)))","v":0}]
[284,{"$f":"IF(ISNA(VLOOKUP($A301,'Entry List'!$A$1:$F$61,B$5,FALSE)),\"\",VLOOKUP($A301,'Entry List'!$A$1:$F$61,B$5,FALSE))","v":""},{"$f":"IF(ISNA(VLOOKUP($A301,'Entry List'!$A$1:$F$61,C$5,FALSE)),\"\",VLOOKUP($A301,'Entry List'!$A$1:$F$61,C$5,FALSE))","v":""},{"$f":"IF(ISNA(VLOOKUP($A301,'Entry List'!$A$1:$F$61,D$5,FALSE)),\"\",VLOOKUP($A301,'Entry List'!$A$1:$F$61,D$5,FALSE))","v":""},{"$f":"IF(ISNA(VLOOKUP($A301,'Entry List'!$A$1:$F$61,E$5,FALSE)),\"\",VLOOKUP($A301,'Entry List'!$A$1:$F$61,E$5,FALSE))","v":""},null,"DNS",0,"DNS",0,"DNS",0,"DNS",0,"DNS",0,"DNS",0,"DNS",0,"DNS",0,"DNS",0,"DNS",0,"DNS",0,"DNS",0,"DNS",0,"DNS",0,"DNS",0,"DNS",0,"DNS",0,"DNS",0,"DNS",0,"DNS",0,"DNS",0,"DNS",0,"DNS",0,"DNS",0,"DNS",0,{"$f":"IF('Last Race Results'!$B$5=0,0,IF(ISNA(VLOOKUP($A301,'Last Race Results'!$A$5:$J$44,2,FALSE)),\"DNS\",VLOOKUP($A301,'Last Race Results'!$A$5:$J$44,2,FALSE)))","v":"DNS"},{"$f":"IF('Last Race Results'!$B$5=0,0,IF(ISNA(VLOOKUP($A301,'Last Race Results'!$A$5:$K$44,11,FALSE)),0,VLOOKUP($A301,'Last Race Results'!$A$5:$K$44,11,FALSE)))","v":0},null,null,null,null,null,null,null,null,null,null,null,null,null,null,null,null,null,null,{"$f":"IF('Last Race Results'!$B$5=0,0,IF(ISNA(VLOOKUP($A301,'Last Race Results'!$A$5:$J$44,2,FALSE)),\"DNS\",VLOOKUP($A301,'Last Race Results'!$A$5:$J$44,2,FALSE)))","v":"DNS"},{"$f":"IF('Last Race Results'!$B$5=0,0,IF(ISNA(VLOOKUP($A301,'Last Race Results'!$A$5:$J$44,11,FALSE)),0,VLOOKUP($A301,'Last Race Results'!$A$5:$J$44,11,FALSE)))","v":0}]
[285,{"$f":"IF(ISNA(VLOOKUP($A302,'Entry List'!$A$1:$F$61,B$5,FALSE)),\"\",VLOOKUP($A302,'Entry List'!$A$1:$F$61,B$5,FALSE))","v":""},{"$f":"IF(ISNA(VLOOKUP($A302,'Entry List'!$A$1:$F$61,C$5,FALSE)),\"\",VLOOKUP($A302,'Entry List'!$A$1:$F$61,C$5,FALSE))","v":""},{"$f":"IF(ISNA(VLOOKUP($A302,'Entry List'!$A$1:$F$61,D$5,FALSE)),\"\",VLOOKUP($A302,'Entry List'!$A$1:$F$61,D$5,FALSE))","v":""},{"$f":"IF(ISNA(VLOOKUP($A302,'Entry List'!$A$1:$F$61,E$5,FALSE)),\"\",VLOOKUP($A302,'Entry List'!$A$1:$F$61,E$5,FALSE))","v":""},null,"DNS",0,"DNS",0,"DNS",0,"DNS",0,"DNS",0,"DNS",0,"DNS",0,"DNS",0,"DNS",0,"DNS",0,"DNS",0,"DNS",0,"DNS",0,"DNS",0,"DNS",0,"DNS",0,"DNS",0,"DNS",0,"DNS",0,"DNS",0,"DNS",0,"DNS",0,"DNS",0,"DNS",0,"DNS",0,{"$f":"IF('Last Race Results'!$B$5=0,0,IF(ISNA(VLOOKUP($A302,'Last Race Results'!$A$5:$J$44,2,FALSE)),\"DNS\",VLOOKUP($A302,'Last Race Results'!$A$5:$J$44,2,FALSE)))","v":"DNS"},{"$f":"IF('Last Race Results'!$B$5=0,0,IF(ISNA(VLOOKUP($A302,'Last Race Results'!$A$5:$K$44,11,FALSE)),0,VLOOKUP($A302,'Last Race Results'!$A$5:$K$44,11,FALSE)))","v":0},null,null,null,null,null,null,null,null,null,null,null,null,null,null,null,null,null,null,{"$f":"IF('Last Race Results'!$B$5=0,0,IF(ISNA(VLOOKUP($A302,'Last Race Results'!$A$5:$J$44,2,FALSE)),\"DNS\",VLOOKUP($A302,'Last Race Results'!$A$5:$J$44,2,FALSE)))","v":"DNS"},{"$f":"IF('Last Race Results'!$B$5=0,0,IF(ISNA(VLOOKUP($A302,'Last Race Results'!$A$5:$J$44,11,FALSE)),0,VLOOKUP($A302,'Last Race Results'!$A$5:$J$44,11,FALSE)))","v":0}]
[286,{"$f":"IF(ISNA(VLOOKUP($A303,'Entry List'!$A$1:$F$61,B$5,FALSE)),\"\",VLOOKUP($A303,'Entry List'!$A$1:$F$61,B$5,FALSE))","v":""},{"$f":"IF(ISNA(VLOOKUP($A303,'Entry List'!$A$1:$F$61,C$5,FALSE)),\"\",VLOOKUP($A303,'Entry List'!$A$1:$F$61,C$5,FALSE))","v":""},{"$f":"IF(ISNA(VLOOKUP($A303,'Entry List'!$A$1:$F$61,D$5,FALSE)),\"\",VLOOKUP($A303,'Entry List'!$A$1:$F$61,D$5,FALSE))","v":""},{"$f":"IF(ISNA(VLOOKUP($A303,'Entry List'!$A$1:$F$61,E$5,FALSE)),\"\",VLOOKUP($A303,'Entry List'!$A$1:$F$61,E$5,FALSE))","v":""},null,"DNS",0,"DNS",0,"DNS",0,"DNS",0,"DNS",0,"DNS",0,"DNS",0,"DNS",0,"DNS",0,"DNS",0,"DNS",0,"DNS",0,"DNS",0,"DNS",0,"DNS",0,"DNS",0,"DNS",0,"DNS",0,"DNS",0,"DNS",0,"DNS",0,"DNS",0,"DNS",0,"DNS",0,"DNS",0,{"$f":"IF('Last Race Results'!$B$5=0,0,IF(ISNA(VLOOKUP($A303,'Last Race Results'!$A$5:$J$44,2,FALSE)),\"DNS\",VLOOKUP($A303,'Last Race Results'!$A$5:$J$44,2,FALSE)))","v":"DNS"},{"$f":"IF('Last Race Results'!$B$5=0,0,IF(ISNA(VLOOKUP($A303,'Last Race Results'!$A$5:$K$44,11,FALSE)),0,VLOOKUP($A303,'Last Race Results'!$A$5:$K$44,11,FALSE)))","v":0},null,null,null,null,null,null,null,null,null,null,null,null,null,null,null,null,null,null,{"$f":"IF('Last Race Results'!$B$5=0,0,IF(ISNA(VLOOKUP($A303,'Last Race Results'!$A$5:$J$44,2,FALSE)),\"DNS\",VLOOKUP($A303,'Last Race Results'!$A$5:$J$44,2,FALSE)))","v":"DNS"},{"$f":"IF('Last Race Results'!$B$5=0,0,IF(ISNA(VLOOKUP($A303,'Last Race Results'!$A$5:$J$44,11,FALSE)),0,VLOOKUP($A303,'Last Race Results'!$A$5:$J$44,11,FALSE)))","v":0}]
[287,{"$f":"IF(ISNA(VLOOKUP($A304,'Entry List'!$A$1:$F$61,B$5,FALSE)),\"\",VLOOKUP($A304,'Entry List'!$A$1:$F$61,B$5,FALSE))","v":""},{"$f":"IF(ISNA(VLOOKUP($A304,'Entry List'!$A$1:$F$61,C$5,FALSE)),\"\",VLOOKUP($A304,'Entry List'!$A$1:$F$61,C$5,FALSE))","v":""},{"$f":"IF(ISNA(VLOOKUP($A304,'Entry List'!$A$1:$F$61,D$5,FALSE)),\"\",VLOOKUP($A304,'Entry List'!$A$1:$F$61,D$5,FALSE))","v":""},{"$f":"IF(ISNA(VLOOKUP($A304,'Entry List'!$A$1:$F$61,E$5,FALSE)),\"\",VLOOKUP($A304,'Entry List'!$A$1:$F$61,E$5,FALSE))","v":""},null,"DNS",0,"DNS",0,"DNS",0,"DNS",0,"DNS",0,"DNS",0,"DNS",0,"DNS",0,"DNS",0,"DNS",0,"DNS",0,"DNS",0,"DNS",0,"DNS",0,"DNS",0,"DNS",0,"DNS",0,"DNS",0,"DNS",0,"DNS",0,"DNS",0,"DNS",0,"DNS",0,"DNS",0,"DNS",0,{"$f":"IF('Last Race Results'!$B$5=0,0,IF(ISNA(VLOOKUP($A304,'Last Race Results'!$A$5:$J$44,2,FALSE)),\"DNS\",VLOOKUP($A304,'Last Race Results'!$A$5:$J$44,2,FALSE)))","v":"DNS"},{"$f":"IF('Last Race Results'!$B$5=0,0,IF(ISNA(VLOOKUP($A304,'Last Race Results'!$A$5:$K$44,11,FALSE)),0,VLOOKUP($A304,'Last Race Results'!$A$5:$K$44,11,FALSE)))","v":0},null,null,null,null,null,null,null,null,null,null,null,null,null,null,null,null,null,null,{"$f":"IF('Last Race Results'!$B$5=0,0,IF(ISNA(VLOOKUP($A304,'Last Race Results'!$A$5:$J$44,2,FALSE)),\"DNS\",VLOOKUP($A304,'Last Race Results'!$A$5:$J$44,2,FALSE)))","v":"DNS"},{"$f":"IF('Last Race Results'!$B$5=0,0,IF(ISNA(VLOOKUP($A304,'Last Race Results'!$A$5:$J$44,11,FALSE)),0,VLOOKUP($A304,'Last Race Results'!$A$5:$J$44,11,FALSE)))","v":0}]
[288,{"$f":"IF(ISNA(VLOOKUP($A305,'Entry List'!$A$1:$F$61,B$5,FALSE)),\"\",VLOOKUP($A305,'Entry List'!$A$1:$F$61,B$5,FALSE))","v":""},{"$f":"IF(ISNA(VLOOKUP($A305,'Entry List'!$A$1:$F$61,C$5,FALSE)),\"\",VLOOKUP($A305,'Entry List'!$A$1:$F$61,C$5,FALSE))","v":""},{"$f":"IF(ISNA(VLOOKUP($A305,'Entry List'!$A$1:$F$61,D$5,FALSE)),\"\",VLOOKUP($A305,'Entry List'!$A$1:$F$61,D$5,FALSE))","v":""},{"$f":"IF(ISNA(VLOOKUP($A305,'Entry List'!$A$1:$F$61,E$5,FALSE)),\"\",VLOOKUP($A305,'Entry List'!$A$1:$F$61,E$5,FALSE))","v":""},null,"DNS",0,"DNS",0,"DNS",0,"DNS",0,"DNS",0,"DNS",0,"DNS",0,"DNS",0,"DNS",0,"DNS",0,"DNS",0,"DNS",0,"DNS",0,"DNS",0,"DNS",0,"DNS",0,"DNS",0,"DNS",0,"DNS",0,"DNS",0,"DNS",0,"DNS",0,"DNS",0,"DNS",0,"DNS",0,{"$f":"IF('Last Race Results'!$B$5=0,0,IF(ISNA(VLOOKUP($A305,'Last Race Results'!$A$5:$J$44,2,FALSE)),\"DNS\",VLOOKUP($A305,'Last Race Results'!$A$5:$J$44,2,FALSE)))","v":"DNS"},{"$f":"IF('Last Race Results'!$B$5=0,0,IF(ISNA(VLOOKUP($A305,'Last Race Results'!$A$5:$K$44,11,FALSE)),0,VLOOKUP($A305,'Last Race Results'!$A$5:$K$44,11,FALSE)))","v":0},null,null,null,null,null,null,null,null,null,null,null,null,null,null,null,null,null,null,{"$f":"IF('Last Race Results'!$B$5=0,0,IF(ISNA(VLOOKUP($A305,'Last Race Results'!$A$5:$J$44,2,FALSE)),\"DNS\",VLOOKUP($A305,'Last Race Results'!$A$5:$J$44,2,FALSE)))","v":"DNS"},{"$f":"IF('Last Race Results'!$B$5=0,0,IF(ISNA(VLOOKUP($A305,'Last Race Results'!$A$5:$J$44,11,FALSE)),0,VLOOKUP($A305,'Last Race Results'!$A$5:$J$44,11,FALSE)))","v":0}]
[289,{"$f":"IF(ISNA(VLOOKUP($A306,'Entry List'!$A$1:$F$61,B$5,FALSE)),\"\",VLOOKUP($A306,'Entry List'!$A$1:$F$61,B$5,FALSE))","v":""},{"$f":"IF(ISNA(VLOOKUP($A306,'Entry List'!$A$1:$F$61,C$5,FALSE)),\"\",VLOOKUP($A306,'Entry List'!$A$1:$F$61,C$5,FALSE))","v":""},{"$f":"IF(ISNA(VLOOKUP($A306,'Entry List'!$A$1:$F$61,D$5,FALSE)),\"\",VLOOKUP($A306,'Entry List'!$A$1:$F$61,D$5,FALSE))","v":""},{"$f":"IF(ISNA(VLOOKUP($A306,'Entry List'!$A$1:$F$61,E$5,FALSE)),\"\",VLOOKUP($A306,'Entry List'!$A$1:$F$61,E$5,FALSE))","v":""},null,"DNS",0,"DNS",0,"DNS",0,"DNS",0,"DNS",0,"DNS",0,"DNS",0,"DNS",0,"DNS",0,"DNS",0,"DNS",0,"DNS",0,"DNS",0,"DNS",0,"DNS",0,"DNS",0,"DNS",0,"DNS",0,"DNS",0,"DNS",0,"DNS",0,"DNS",0,"DNS",0,"DNS",0,"DNS",0,{"$f":"IF('Last Race Results'!$B$5=0,0,IF(ISNA(VLOOKUP($A306,'Last Race Results'!$A$5:$J$44,2,FALSE)),\"DNS\",VLOOKUP($A306,'Last Race Results'!$A$5:$J$44,2,FALSE)))","v":"DNS"},{"$f":"IF('Last Race Results'!$B$5=0,0,IF(ISNA(VLOOKUP($A306,'Last Race Results'!$A$5:$K$44,11,FALSE)),0,VLOOKUP($A306,'Last Race Results'!$A$5:$K$44,11,FALSE)))","v":0},null,null,null,null,null,null,null,null,null,null,null,null,null,null,null,null,null,null,{"$f":"IF('Last Race Results'!$B$5=0,0,IF(ISNA(VLOOKUP($A306,'Last Race Results'!$A$5:$J$44,2,FALSE)),\"DNS\",VLOOKUP($A306,'Last Race Results'!$A$5:$J$44,2,FALSE)))","v":"DNS"},{"$f":"IF('Last Race Results'!$B$5=0,0,IF(ISNA(VLOOKUP($A306,'Last Race Results'!$A$5:$J$44,11,FALSE)),0,VLOOKUP($A306,'Last Race Results'!$A$5:$J$44,11,FALSE)))","v":0}]
[290,{"$f":"IF(ISNA(VLOOKUP($A307,'Entry List'!$A$1:$F$61,B$5,FALSE)),\"\",VLOOKUP($A307,'Entry List'!$A$1:$F$61,B$5,FALSE))","v":""},{"$f":"IF(ISNA(VLOOKUP($A307,'Entry List'!$A$1:$F$61,C$5,FALSE)),\"\",VLOOKUP($A307,'Entry List'!$A$1:$F$61,C$5,FALSE))","v":""},{"$f":"IF(ISNA(VLOOKUP($A307,'Entry List'!$A$1:$F$61,D$5,FALSE)),\"\",VLOOKUP($A307,'Entry List'!$A$1:$F$61,D$5,FALSE))","v":""},{"$f":"IF(ISNA(VLOOKUP($A307,'Entry List'!$A$1:$F$61,E$5,FALSE)),\"\",VLOOKUP($A307,'Entry List'!$A$1:$F$61,E$5,FALSE))","v":""},null,"DNS",0,"DNS",0,"DNS",0,"DNS",0,"DNS",0,"DNS",0,"DNS",0,"DNS",0,"DNS",0,"DNS",0,"DNS",0,"DNS",0,"DNS",0,"DNS",0,"DNS",0,"DNS",0,"DNS",0,"DNS",0,"DNS",0,"DNS",0,"DNS",0,"DNS",0,"DNS",0,"DNS",0,"DNS",0,{"$f":"IF('Last Race Results'!$B$5=0,0,IF(ISNA(VLOOKUP($A307,'Last Race Results'!$A$5:$J$44,2,FALSE)),\"DNS\",VLOOKUP($A307,'Last Race Results'!$A$5:$J$44,2,FALSE)))","v":"DNS"},{"$f":"IF('Last Race Results'!$B$5=0,0,IF(ISNA(VLOOKUP($A307,'Last Race Results'!$A$5:$K$44,11,FALSE)),0,VLOOKUP($A307,'Last Race Results'!$A$5:$K$44,11,FALSE)))","v":0},null,null,null,null,null,null,null,null,null,null,null,null,null,null,null,null,null,null,{"$f":"IF('Last Race Results'!$B$5=0,0,IF(ISNA(VLOOKUP($A307,'Last Race Results'!$A$5:$J$44,2,FALSE)),\"DNS\",VLOOKUP($A307,'Last Race Results'!$A$5:$J$44,2,FALSE)))","v":"DNS"},{"$f":"IF('Last Race Results'!$B$5=0,0,IF(ISNA(VLOOKUP($A307,'Last Race Results'!$A$5:$J$44,11,FALSE)),0,VLOOKUP($A307,'Last Race Results'!$A$5:$J$44,11,FALSE)))","v":0}]
[291,{"$f":"IF(ISNA(VLOOKUP($A308,'Entry List'!$A$1:$F$61,B$5,FALSE)),\"\",VLOOKUP($A308,'Entry List'!$A$1:$F$61,B$5,FALSE))","v":""},{"$f":"IF(ISNA(VLOOKUP($A308,'Entry List'!$A$1:$F$61,C$5,FALSE)),\"\",VLOOKUP($A308,'Entry List'!$A$1:$F$61,C$5,FALSE))","v":""},{"$f":"IF(ISNA(VLOOKUP($A308,'Entry List'!$A$1:$F$61,D$5,FALSE)),\"\",VLOOKUP($A308,'Entry List'!$A$1:$F$61,D$5,FALSE))","v":""},{"$f":"IF(ISNA(VLOOKUP($A308,'Entry List'!$A$1:$F$61,E$5,FALSE)),\"\",VLOOKUP($A308,'Entry List'!$A$1:$F$61,E$5,FALSE))","v":""},null,"DNS",0,"DNS",0,"DNS",0,"DNS",0,"DNS",0,"DNS",0,"DNS",0,"DNS",0,"DNS",0,"DNS",0,"DNS",0,"DNS",0,"DNS",0,"DNS",0,"DNS",0,"DNS",0,"DNS",0,"DNS",0,"DNS",0,"DNS",0,"DNS",0,"DNS",0,"DNS",0,"DNS",0,"DNS",0,{"$f":"IF('Last Race Results'!$B$5=0,0,IF(ISNA(VLOOKUP($A308,'Last Race Results'!$A$5:$J$44,2,FALSE)),\"DNS\",VLOOKUP($A308,'Last Race Results'!$A$5:$J$44,2,FALSE)))","v":"DNS"},{"$f":"IF('Last Race Results'!$B$5=0,0,IF(ISNA(VLOOKUP($A308,'Last Race Results'!$A$5:$K$44,11,FALSE)),0,VLOOKUP($A308,'Last Race Results'!$A$5:$K$44,11,FALSE)))","v":0},null,null,null,null,null,null,null,null,null,null,null,null,null,null,null,null,null,null,{"$f":"IF('Last Race Results'!$B$5=0,0,IF(ISNA(VLOOKUP($A308,'Last Race Results'!$A$5:$J$44,2,FALSE)),\"DNS\",VLOOKUP($A308,'Last Race Results'!$A$5:$J$44,2,FALSE)))","v":"DNS"},{"$f":"IF('Last Race Results'!$B$5=0,0,IF(ISNA(VLOOKUP($A308,'Last Race Results'!$A$5:$J$44,11,FALSE)),0,VLOOKUP($A308,'Last Race Results'!$A$5:$J$44,11,FALSE)))","v":0}]
[292,{"$f":"IF(ISNA(VLOOKUP($A309,'Entry List'!$A$1:$F$61,B$5,FALSE)),\"\",VLOOKUP($A309,'Entry List'!$A$1:$F$61,B$5,FALSE))","v":""},{"$f":"IF(ISNA(VLOOKUP($A309,'Entry List'!$A$1:$F$61,C$5,FALSE)),\"\",VLOOKUP($A309,'Entry List'!$A$1:$F$61,C$5,FALSE))","v":""},{"$f":"IF(ISNA(VLOOKUP($A309,'Entry List'!$A$1:$F$61,D$5,FALSE)),\"\",VLOOKUP($A309,'Entry List'!$A$1:$F$61,D$5,FALSE))","v":""},{"$f":"IF(ISNA(VLOOKUP($A309,'Entry List'!$A$1:$F$61,E$5,FALSE)),\"\",VLOOKUP($A309,'Entry List'!$A$1:$F$61,E$5,FALSE))","v":""},null,"DNS",0,"DNS",0,"DNS",0,"DNS",0,"DNS",0,"DNS",0,"DNS",0,"DNS",0,"DNS",0,"DNS",0,"DNS",0,"DNS",0,"DNS",0,"DNS",0,"DNS",0,"DNS",0,"DNS",0,"DNS",0,"DNS",0,"DNS",0,"DNS",0,"DNS",0,"DNS",0,"DNS",0,"DNS",0,{"$f":"IF('Last Race Results'!$B$5=0,0,IF(ISNA(VLOOKUP($A309,'Last Race Results'!$A$5:$J$44,2,FALSE)),\"DNS\",VLOOKUP($A309,'Last Race Results'!$A$5:$J$44,2,FALSE)))","v":"DNS"},{"$f":"IF('Last Race Results'!$B$5=0,0,IF(ISNA(VLOOKUP($A309,'Last Race Results'!$A$5:$K$44,11,FALSE)),0,VLOOKUP($A309,'Last Race Results'!$A$5:$K$44,11,FALSE)))","v":0},null,null,null,null,null,null,null,null,null,null,null,null,null,null,null,null,null,null,{"$f":"IF('Last Race Results'!$B$5=0,0,IF(ISNA(VLOOKUP($A309,'Last Race Results'!$A$5:$J$44,2,FALSE)),\"DNS\",VLOOKUP($A309,'Last Race Results'!$A$5:$J$44,2,FALSE)))","v":"DNS"},{"$f":"IF('Last Race Results'!$B$5=0,0,IF(ISNA(VLOOKUP($A309,'Last Race Results'!$A$5:$J$44,11,FALSE)),0,VLOOKUP($A309,'Last Race Results'!$A$5:$J$44,11,FALSE)))","v":0}]
[293,{"$f":"IF(ISNA(VLOOKUP($A310,'Entry List'!$A$1:$F$61,B$5,FALSE)),\"\",VLOOKUP($A310,'Entry List'!$A$1:$F$61,B$5,FALSE))","v":""},{"$f":"IF(ISNA(VLOOKUP($A310,'Entry List'!$A$1:$F$61,C$5,FALSE)),\"\",VLOOKUP($A310,'Entry List'!$A$1:$F$61,C$5,FALSE))","v":""},{"$f":"IF(ISNA(VLOOKUP($A310,'Entry List'!$A$1:$F$61,D$5,FALSE)),\"\",VLOOKUP($A310,'Entry List'!$A$1:$F$61,D$5,FALSE))","v":""},{"$f":"IF(ISNA(VLOOKUP($A310,'Entry List'!$A$1:$F$61,E$5,FALSE)),\"\",VLOOKUP($A310,'Entry List'!$A$1:$F$61,E$5,FALSE))","v":""},null,"DNS",0,"DNS",0,"DNS",0,"DNS",0,"DNS",0,"DNS",0,"DNS",0,"DNS",0,"DNS",0,"DNS",0,"DNS",0,"DNS",0,"DNS",0,"DNS",0,"DNS",0,"DNS",0,"DNS",0,"DNS",0,"DNS",0,"DNS",0,"DNS",0,"DNS",0,"DNS",0,"DNS",0,"DNS",0,{"$f":"IF('Last Race Results'!$B$5=0,0,IF(ISNA(VLOOKUP($A310,'Last Race Results'!$A$5:$J$44,2,FALSE)),\"DNS\",VLOOKUP($A310,'Last Race Results'!$A$5:$J$44,2,FALSE)))","v":"DNS"},{"$f":"IF('Last Race Results'!$B$5=0,0,IF(ISNA(VLOOKUP($A310,'Last Race Results'!$A$5:$K$44,11,FALSE)),0,VLOOKUP($A310,'Last Race Results'!$A$5:$K$44,11,FALSE)))","v":0},null,null,null,null,null,null,null,null,null,null,null,null,null,null,null,null,null,null,{"$f":"IF('Last Race Results'!$B$5=0,0,IF(ISNA(VLOOKUP($A310,'Last Race Results'!$A$5:$J$44,2,FALSE)),\"DNS\",VLOOKUP($A310,'Last Race Results'!$A$5:$J$44,2,FALSE)))","v":"DNS"},{"$f":"IF('Last Race Results'!$B$5=0,0,IF(ISNA(VLOOKUP($A310,'Last Race Results'!$A$5:$J$44,11,FALSE)),0,VLOOKUP($A310,'Last Race Results'!$A$5:$J$44,11,FALSE)))","v":0}]
[294,{"$f":"IF(ISNA(VLOOKUP($A311,'Entry List'!$A$1:$F$61,B$5,FALSE)),\"\",VLOOKUP($A311,'Entry List'!$A$1:$F$61,B$5,FALSE))","v":""},{"$f":"IF(ISNA(VLOOKUP($A311,'Entry List'!$A$1:$F$61,C$5,FALSE)),\"\",VLOOKUP($A311,'Entry List'!$A$1:$F$61,C$5,FALSE))","v":""},{"$f":"IF(ISNA(VLOOKUP($A311,'Entry List'!$A$1:$F$61,D$5,FALSE)),\"\",VLOOKUP($A311,'Entry List'!$A$1:$F$61,D$5,FALSE))","v":""},{"$f":"IF(ISNA(VLOOKUP($A311,'Entry List'!$A$1:$F$61,E$5,FALSE)),\"\",VLOOKUP($A311,'Entry List'!$A$1:$F$61,E$5,FALSE))","v":""},null,"DNS",0,"DNS",0,"DNS",0,"DNS",0,"DNS",0,"DNS",0,"DNS",0,"DNS",0,"DNS",0,"DNS",0,"DNS",0,"DNS",0,"DNS",0,"DNS",0,"DNS",0,"DNS",0,"DNS",0,"DNS",0,"DNS",0,"DNS",0,"DNS",0,"DNS",0,"DNS",0,"DNS",0,"DNS",0,{"$f":"IF('Last Race Results'!$B$5=0,0,IF(ISNA(VLOOKUP($A311,'Last Race Results'!$A$5:$J$44,2,FALSE)),\"DNS\",VLOOKUP($A311,'Last Race Results'!$A$5:$J$44,2,FALSE)))","v":"DNS"},{"$f":"IF('Last Race Results'!$B$5=0,0,IF(ISNA(VLOOKUP($A311,'Last Race Results'!$A$5:$K$44,11,FALSE)),0,VLOOKUP($A311,'Last Race Results'!$A$5:$K$44,11,FALSE)))","v":0},null,null,null,null,null,null,null,null,null,null,null,null,null,null,null,null,null,null,{"$f":"IF('Last Race Results'!$B$5=0,0,IF(ISNA(VLOOKUP($A311,'Last Race Results'!$A$5:$J$44,2,FALSE)),\"DNS\",VLOOKUP($A311,'Last Race Results'!$A$5:$J$44,2,FALSE)))","v":"DNS"},{"$f":"IF('Last Race Results'!$B$5=0,0,IF(ISNA(VLOOKUP($A311,'Last Race Results'!$A$5:$J$44,11,FALSE)),0,VLOOKUP($A311,'Last Race Results'!$A$5:$J$44,11,FALSE)))","v":0}]
[295,{"$f":"IF(ISNA(VLOOKUP($A312,'Entry List'!$A$1:$F$61,B$5,FALSE)),\"\",VLOOKUP($A312,'Entry List'!$A$1:$F$61,B$5,FALSE))","v":""},{"$f":"IF(ISNA(VLOOKUP($A312,'Entry List'!$A$1:$F$61,C$5,FALSE)),\"\",VLOOKUP($A312,'Entry List'!$A$1:$F$61,C$5,FALSE))","v":""},{"$f":"IF(ISNA(VLOOKUP($A312,'Entry List'!$A$1:$F$61,D$5,FALSE)),\"\",VLOOKUP($A312,'Entry List'!$A$1:$F$61,D$5,FALSE))","v":""},{"$f":"IF(ISNA(VLOOKUP($A312,'Entry List'!$A$1:$F$61,E$5,FALSE)),\"\",VLOOKUP($A312,'Entry List'!$A$1:$F$61,E$5,FALSE))","v":""},null,"DNS",0,"DNS",0,"DNS",0,"DNS",0,"DNS",0,"DNS",0,"DNS",0,"DNS",0,"DNS",0,"DNS",0,"DNS",0,"DNS",0,"DNS",0,"DNS",0,"DNS",0,"DNS",0,"DNS",0,"DNS",0,"DNS",0,"DNS",0,"DNS",0,"DNS",0,"DNS",0,"DNS",0,"DNS",0,{"$f":"IF('Last Race Results'!$B$5=0,0,IF(ISNA(VLOOKUP($A312,'Last Race Results'!$A$5:$J$44,2,FALSE)),\"DNS\",VLOOKUP($A312,'Last Race Results'!$A$5:$J$44,2,FALSE)))","v":"DNS"},{"$f":"IF('Last Race Results'!$B$5=0,0,IF(ISNA(VLOOKUP($A312,'Last Race Results'!$A$5:$K$44,11,FALSE)),0,VLOOKUP($A312,'Last Race Results'!$A$5:$K$44,11,FALSE)))","v":0},null,null,null,null,null,null,null,null,null,null,null,null,null,null,null,null,null,null,{"$f":"IF('Last Race Results'!$B$5=0,0,IF(ISNA(VLOOKUP($A312,'Last Race Results'!$A$5:$J$44,2,FALSE)),\"DNS\",VLOOKUP($A312,'Last Race Results'!$A$5:$J$44,2,FALSE)))","v":"DNS"},{"$f":"IF('Last Race Results'!$B$5=0,0,IF(ISNA(VLOOKUP($A312,'Last Race Results'!$A$5:$J$44,11,FALSE)),0,VLOOKUP($A312,'Last Race Results'!$A$5:$J$44,11,FALSE)))","v":0}]
[296,{"$f":"IF(ISNA(VLOOKUP($A313,'Entry List'!$A$1:$F$61,B$5,FALSE)),\"\",VLOOKUP($A313,'Entry List'!$A$1:$F$61,B$5,FALSE))","v":""},{"$f":"IF(ISNA(VLOOKUP($A313,'Entry List'!$A$1:$F$61,C$5,FALSE)),\"\",VLOOKUP($A313,'Entry List'!$A$1:$F$61,C$5,FALSE))","v":""},{"$f":"IF(ISNA(VLOOKUP($A313,'Entry List'!$A$1:$F$61,D$5,FALSE)),\"\",VLOOKUP($A313,'Entry List'!$A$1:$F$61,D$5,FALSE))","v":""},{"$f":"IF(ISNA(VLOOKUP($A313,'Entry List'!$A$1:$F$61,E$5,FALSE)),\"\",VLOOKUP($A313,'Entry List'!$A$1:$F$61,E$5,FALSE))","v":""},null,"DNS",0,"DNS",0,"DNS",0,"DNS",0,"DNS",0,"DNS",0,"DNS",0,"DNS",0,"DNS",0,"DNS",0,"DNS",0,"DNS",0,"DNS",0,"DNS",0,"DNS",0,"DNS",0,"DNS",0,"DNS",0,"DNS",0,"DNS",0,"DNS",0,"DNS",0,"DNS",0,"DNS",0,"DNS",0,{"$f":"IF('Last Race Results'!$B$5=0,0,IF(ISNA(VLOOKUP($A313,'Last Race Results'!$A$5:$J$44,2,FALSE)),\"DNS\",VLOOKUP($A313,'Last Race Results'!$A$5:$J$44,2,FALSE)))","v":"DNS"},{"$f":"IF('Last Race Results'!$B$5=0,0,IF(ISNA(VLOOKUP($A313,'Last Race Results'!$A$5:$K$44,11,FALSE)),0,VLOOKUP($A313,'Last Race Results'!$A$5:$K$44,11,FALSE)))","v":0},null,null,null,null,null,null,null,null,null,null,null,null,null,null,null,null,null,null,{"$f":"IF('Last Race Results'!$B$5=0,0,IF(ISNA(VLOOKUP($A313,'Last Race Results'!$A$5:$J$44,2,FALSE)),\"DNS\",VLOOKUP($A313,'Last Race Results'!$A$5:$J$44,2,FALSE)))","v":"DNS"},{"$f":"IF('Last Race Results'!$B$5=0,0,IF(ISNA(VLOOKUP($A313,'Last Race Results'!$A$5:$J$44,11,FALSE)),0,VLOOKUP($A313,'Last Race Results'!$A$5:$J$44,11,FALSE)))","v":0}]
[297,{"$f":"IF(ISNA(VLOOKUP($A314,'Entry List'!$A$1:$F$61,B$5,FALSE)),\"\",VLOOKUP($A314,'Entry List'!$A$1:$F$61,B$5,FALSE))","v":""},{"$f":"IF(ISNA(VLOOKUP($A314,'Entry List'!$A$1:$F$61,C$5,FALSE)),\"\",VLOOKUP($A314,'Entry List'!$A$1:$F$61,C$5,FALSE))","v":""},{"$f":"IF(ISNA(VLOOKUP($A314,'Entry List'!$A$1:$F$61,D$5,FALSE)),\"\",VLOOKUP($A314,'Entry List'!$A$1:$F$61,D$5,FALSE))","v":""},{"$f":"IF(ISNA(VLOOKUP($A314,'Entry List'!$A$1:$F$61,E$5,FALSE)),\"\",VLOOKUP($A314,'Entry List'!$A$1:$F$61,E$5,FALSE))","v":""},null,"DNS",0,"DNS",0,"DNS",0,"DNS",0,"DNS",0,"DNS",0,"DNS",0,"DNS",0,"DNS",0,"DNS",0,"DNS",0,"DNS",0,"DNS",0,"DNS",0,"DNS",0,"DNS",0,"DNS",0,"DNS",0,"DNS",0,"DNS",0,"DNS",0,"DNS",0,"DNS",0,"DNS",0,"DNS",0,{"$f":"IF('Last Race Results'!$B$5=0,0,IF(ISNA(VLOOKUP($A314,'Last Race Results'!$A$5:$J$44,2,FALSE)),\"DNS\",VLOOKUP($A314,'Last Race Results'!$A$5:$J$44,2,FALSE)))","v":"DNS"},{"$f":"IF('Last Race Results'!$B$5=0,0,IF(ISNA(VLOOKUP($A314,'Last Race Results'!$A$5:$K$44,11,FALSE)),0,VLOOKUP($A314,'Last Race Results'!$A$5:$K$44,11,FALSE)))","v":0},null,null,null,null,null,null,null,null,null,null,null,null,null,null,null,null,null,null,{"$f":"IF('Last Race Results'!$B$5=0,0,IF(ISNA(VLOOKUP($A314,'Last Race Results'!$A$5:$J$44,2,FALSE)),\"DNS\",VLOOKUP($A314,'Last Race Results'!$A$5:$J$44,2,FALSE)))","v":"DNS"},{"$f":"IF('Last Race Results'!$B$5=0,0,IF(ISNA(VLOOKUP($A314,'Last Race Results'!$A$5:$J$44,11,FALSE)),0,VLOOKUP($A314,'Last Race Results'!$A$5:$J$44,11,FALSE)))","v":0}]
[298,{"$f":"IF(ISNA(VLOOKUP($A315,'Entry List'!$A$1:$F$61,B$5,FALSE)),\"\",VLOOKUP($A315,'Entry List'!$A$1:$F$61,B$5,FALSE))","v":""},{"$f":"IF(ISNA(VLOOKUP($A315,'Entry List'!$A$1:$F$61,C$5,FALSE)),\"\",VLOOKUP($A315,'Entry List'!$A$1:$F$61,C$5,FALSE))","v":""},{"$f":"IF(ISNA(VLOOKUP($A315,'Entry List'!$A$1:$F$61,D$5,FALSE)),\"\",VLOOKUP($A315,'Entry List'!$A$1:$F$61,D$5,FALSE))","v":""},{"$f":"IF(ISNA(VLOOKUP($A315,'Entry List'!$A$1:$F$61,E$5,FALSE)),\"\",VLOOKUP($A315,'Entry List'!$A$1:$F$61,E$5,FALSE))","v":""},null,"DNS",0,"DNS",0,"DNS",0,"DNS",0,"DNS",0,"DNS",0,"DNS",0,"DNS",0,"DNS",0,"DNS",0,"DNS",0,"DNS",0,"DNS",0,"DNS",0,"DNS",0,"DNS",0,"DNS",0,"DNS",0,"DNS",0,"DNS",0,"DNS",0,"DNS",0,"DNS",0,"DNS",0,"DNS",0,{"$f":"IF('Last Race Results'!$B$5=0,0,IF(ISNA(VLOOKUP($A315,'Last Race Results'!$A$5:$J$44,2,FALSE)),\"DNS\",VLOOKUP($A315,'Last Race Results'!$A$5:$J$44,2,FALSE)))","v":"DNS"},{"$f":"IF('Last Race Results'!$B$5=0,0,IF(ISNA(VLOOKUP($A315,'Last Race Results'!$A$5:$K$44,11,FALSE)),0,VLOOKUP($A315,'Last Race Results'!$A$5:$K$44,11,FALSE)))","v":0},null,null,null,null,null,null,null,null,null,null,null,null,null,null,null,null,null,null,{"$f":"IF('Last Race Results'!$B$5=0,0,IF(ISNA(VLOOKUP($A315,'Last Race Results'!$A$5:$J$44,2,FALSE)),\"DNS\",VLOOKUP($A315,'Last Race Results'!$A$5:$J$44,2,FALSE)))","v":"DNS"},{"$f":"IF('Last Race Results'!$B$5=0,0,IF(ISNA(VLOOKUP($A315,'Last Race Results'!$A$5:$J$44,11,FALSE)),0,VLOOKUP($A315,'Last Race Results'!$A$5:$J$44,11,FALSE)))","v":0}]
[299,{"$f":"IF(ISNA(VLOOKUP($A316,'Entry List'!$A$1:$F$61,B$5,FALSE)),\"\",VLOOKUP($A316,'Entry List'!$A$1:$F$61,B$5,FALSE))","v":""},{"$f":"IF(ISNA(VLOOKUP($A316,'Entry List'!$A$1:$F$61,C$5,FALSE)),\"\",VLOOKUP($A316,'Entry List'!$A$1:$F$61,C$5,FALSE))","v":""},{"$f":"IF(ISNA(VLOOKUP($A316,'Entry List'!$A$1:$F$61,D$5,FALSE)),\"\",VLOOKUP($A316,'Entry List'!$A$1:$F$61,D$5,FALSE))","v":""},{"$f":"IF(ISNA(VLOOKUP($A316,'Entry List'!$A$1:$F$61,E$5,FALSE)),\"\",VLOOKUP($A316,'Entry List'!$A$1:$F$61,E$5,FALSE))","v":""},null,"DNS",0,"DNS",0,"DNS",0,"DNS",0,"DNS",0,"DNS",0,"DNS",0,"DNS",0,"DNS",0,"DNS",0,"DNS",0,"DNS",0,"DNS",0,"DNS",0,"DNS",0,"DNS",0,"DNS",0,"DNS",0,"DNS",0,"DNS",0,"DNS",0,"DNS",0,"DNS",0,"DNS",0,"DNS",0,{"$f":"IF('Last Race Results'!$B$5=0,0,IF(ISNA(VLOOKUP($A316,'Last Race Results'!$A$5:$J$44,2,FALSE)),\"DNS\",VLOOKUP($A316,'Last Race Results'!$A$5:$J$44,2,FALSE)))","v":"DNS"},{"$f":"IF('Last Race Results'!$B$5=0,0,IF(ISNA(VLOOKUP($A316,'Last Race Results'!$A$5:$K$44,11,FALSE)),0,VLOOKUP($A316,'Last Race Results'!$A$5:$K$44,11,FALSE)))","v":0},null,null,null,null,null,null,null,null,null,null,null,null,null,null,null,null,null,null,{"$f":"IF('Last Race Results'!$B$5=0,0,IF(ISNA(VLOOKUP($A316,'Last Race Results'!$A$5:$J$44,2,FALSE)),\"DNS\",VLOOKUP($A316,'Last Race Results'!$A$5:$J$44,2,FALSE)))","v":"DNS"},{"$f":"IF('Last Race Results'!$B$5=0,0,IF(ISNA(VLOOKUP($A316,'Last Race Results'!$A$5:$J$44,11,FALSE)),0,VLOOKUP($A316,'Last Race Results'!$A$5:$J$44,11,FALSE)))","v":0}]
[300,{"$f":"IF(ISNA(VLOOKUP($A317,'Entry List'!$A$1:$F$61,B$5,FALSE)),\"\",VLOOKUP($A317,'Entry List'!$A$1:$F$61,B$5,FALSE))","v":""},{"$f":"IF(ISNA(VLOOKUP($A317,'Entry List'!$A$1:$F$61,C$5,FALSE)),\"\",VLOOKUP($A317,'Entry List'!$A$1:$F$61,C$5,FALSE))","v":""},{"$f":"IF(ISNA(VLOOKUP($A317,'Entry List'!$A$1:$F$61,D$5,FALSE)),\"\",VLOOKUP($A317,'Entry List'!$A$1:$F$61,D$5,FALSE))","v":""},{"$f":"IF(ISNA(VLOOKUP($A317,'Entry List'!$A$1:$F$61,E$5,FALSE)),\"\",VLOOKUP($A317,'Entry List'!$A$1:$F$61,E$5,FALSE))","v":""},null,"DNS",0,"DNS",0,"DNS",0,"DNS",0,"DNS",0,"DNS",0,"DNS",0,"DNS",0,"DNS",0,"DNS",0,"DNS",0,"DNS",0,"DNS",0,"DNS",0,"DNS",0,"DNS",0,"DNS",0,"DNS",0,"DNS",0,"DNS",0,"DNS",0,"DNS",0,"DNS",0,"DNS",0,"DNS",0,{"$f":"IF('Last Race Results'!$B$5=0,0,IF(ISNA(VLOOKUP($A317,'Last Race Results'!$A$5:$J$44,2,FALSE)),\"DNS\",VLOOKUP($A317,'Last Race Results'!$A$5:$J$44,2,FALSE)))","v":"DNS"},{"$f":"IF('Last Race Results'!$B$5=0,0,IF(ISNA(VLOOKUP($A317,'Last Race Results'!$A$5:$K$44,11,FALSE)),0,VLOOKUP($A317,'Last Race Results'!$A$5:$K$44,11,FALSE)))","v":0},null,null,null,null,null,null,null,null,null,null,null,null,null,null,null,null,null,null,{"$f":"IF('Last Race Results'!$B$5=0,0,IF(ISNA(VLOOKUP($A317,'Last Race Results'!$A$5:$J$44,2,FALSE)),\"DNS\",VLOOKUP($A317,'Last Race Results'!$A$5:$J$44,2,FALSE)))","v":"DNS"},{"$f":"IF('Last Race Results'!$B$5=0,0,IF(ISNA(VLOOKUP($A317,'Last Race Results'!$A$5:$J$44,11,FALSE)),0,VLOOKUP($A317,'Last Race Results'!$A$5:$J$44,11,FALSE)))","v":0}]
[null,"Segment 1 Winner",null,null,null,null,41,null,4,null,4,null,18,null,78,null,11,null,4,null,2,null,22,null,2,null,4,null,12,null,18,null,78,null,12,null,47,null,10,null,17,null,78,null,78,null,9,null,78,null,4,null,12,null,42,null,{"$f":"VALUE(RIGHT(INDIRECT(ADDRESS(MATCH(10,'Last Race Results'!$I$5:$I$44,0)+4,1,1,1,\"last race results\")),LEN(INDIRECT(ADDRESS(MATCH(10,'Last Race Results'!$I$5:$I$44,0)+4,1,1,1,\"last race results\")))))","v":14},null,null,null,null,null,null,null,null,null,null,null,null,null,null,null,null,null,null,null,{"$f":"VALUE(RIGHT(INDIRECT(ADDRESS(MATCH(10,'Last Race Results'!$I$5:$I$44,0)+4,1,1,1,\"last race results\")),LEN(INDIRECT(ADDRESS(MATCH(10,'Last Race Results'!$I$5:$I$44,0)+4,1,1,1,\"last race results\")))))","v":14}]
[null,"Segment 2 Winner",null,null,null,null,12,null,2,null,4,null,41,null,78,null,12,null,18,null,2,null,22,null,21,null,4,null,42,null,18,null,4,null,4,null,11,null,4,null,17,null,78,null,9,null,4,null,9,null,4,null,22,null,42,null,{"$f":"VALUE(RIGHT(INDIRECT(ADDRESS(MATCH(10,'Last Race Results'!$J$5:$J$44,0)+4,1,1,1,\"last race results\")),LEN(INDIRECT(ADDRESS(MATCH(10,'Last Race Results'!$J$5:$J$44,0)+4,1,1,1,\"last race results\")))))","v":6},null,null,null,null,null,null,null,null,null,null,null,null,null,null,null,null,null,null,null,{"$f":"VALUE(RIGHT(INDIRECT(ADDRESS(MATCH(10,'Last Race Results'!$J$5:$J$44,0)+4,1,1,1,\"last race results\")),LEN(INDIRECT(ADDRESS(MATCH(10,'Last Race Results'!$J$5:$J$44,0)+4,1,1,1,\"last race results\")))))","v":6}]
[null,"Segment 3 Winner",null,null,null,null,3,null,4,null,4,null,4,null,78,null,14,null,18,null,18,null,18,null,22,null,4,null,4,null,18,null,78,null,14,null,78,null,18,null,20,null,78,null,4,null,18,null,9,null,4,null,41,null,2,null,{"$f":"VALUE(RIGHT(INDIRECT(ADDRESS(MATCH(1,'Last Race Results'!$B$5:$B$44,0)+4,1,1,1,\"last race results\")),LEN(INDIRECT(ADDRESS(MATCH(1,'Last Race Results'!$B$5:$B$44,0)+4,1,1,1,\"last race results\")))))","v":2},null,null,null,null,null,null,null,null,null,null,null,null,null,null,null,null,null,null,null,{"$f":"VALUE(RIGHT(INDIRECT(ADDRESS(MATCH(1,'Last Race Results'!$B$5:$B$44,0)+4,1,1,1,\"last race results\")),LEN(INDIRECT(ADDRESS(MATCH(1,'Last Race Results'!$B$5:$B$44,0)+4,1,1,1,\"last race results\")))))","v":2}]
[null,null,null,null,null,null,"Y",null,"Y",null,"Y",null,"Y",null,"Y",null,"Y",null,"Y",null,"Y",null,"Y",null,"Y",null,"Y",null,"Y",null,"Y",null,"Y",null,"Y",null,"Y",null,"Y",null,"Y",null,"Y",null,"Y",null,"Y",null,"Y",null,"Y",null,"Y",null,"Y",null,"Y",null,"N",null,"N",null,"N",null,"N",null,"N",null,"N",null,"N",null,"N",null,"N",null,"N"]

{"sheet":"Kevin Blossom","index":8,"n_rows":28,"n_cols":29,"rows_kept":28,"cut":false,"hidden":false,"merged":[[1,26,1,27],[2,26,2,27],[0,26,0,27],[4,26,4,27],[20,26,20,27],[3,26,3,27],[3,22,3,23],[3,24,3,25],[4,12,4,13],[4,14,4,15],[4,16,4,17],[4,18,4,19],[4,20,4,21],[4,22,4,23],[4,24,4,25],[3,12,3,13],[3,14,3,15],[3,16,3,17],[3,18,3,19],[3,20,3,21],[0,12,0,13],[0,14,0,15],[0,16,0,17],[0,18,0,19],[1,12,1,13],[1,14,1,15],[1,16,1,17],[1,18,1,19],[0,22,0,23],[0,24,0,25],[1,22,1,23],[1,24,1,25],[2,20,2,21],[2,22,2,23],[2,24,2,25],[0,20,0,21],[1,20,1,21],[2,12,2,13],[2,14,2,15],[2,16,2,17],[2,18,2,19],[20,20,20,21],[20,22,20,23],[20,24,20,25],[20,12,20,13],[20,14,20,15],[20,16,20,17],[20,18,20,19]]}
[null,null,null,null,null,null,null,null,null,null,null,null,{"$f":"VLOOKUP(M$5,Schedule!$A$8:$G$44,2,FALSE)","v":"2018-07-14"},null,{"$f":"VLOOKUP(O$5,Schedule!$A$8:$G$44,2,FALSE)","v":"2018-07-22"},null,{"$f":"VLOOKUP(Q$5,Schedule!$A$8:$G$44,2,FALSE)","v":"2018-07-29"},null,{"$f":"VLOOKUP(S$5,Schedule!$A$8:$G$44,2,FALSE)","v":"2018-08-05"},null,{"$f":"VLOOKUP(U$5,Schedule!$A$8:$G$44,2,FALSE)","v":"2018-08-12"},null,{"$f":"VLOOKUP(W$5,Schedule!$A$8:$G$44,2,FALSE)","v":"2018-08-18"},null,{"$f":"VLOOKUP(Y$5,Schedule!$A$8:$G$44,2,FALSE)","v":"2018-09-02"},null,{"$f":"VLOOKUP(AA$5,Schedule!$A$8:$G$44,2,FALSE)","v":"2018-09-09"}]
[null,null,null,null,null,null,null,null,null,null,null,null,{"$f":"VLOOKUP(M$5,Schedule!$A$8:$G$44,3,FALSE)","v":"Quaker State 400"},null,{"$f":"VLOOKUP(O$5,Schedule!$A$8:$G$44,3,FALSE)","v":"New Hampshire 301"},null,{"$f":"VLOOKUP(Q$5,Schedule!$A$8:$G$44,3,FALSE)","v":"Gander Outdoors 400"},null,{"$f":"VLOOKUP(S$5,Schedule!$A$8:$G$44,3,FALSE)","v":"Go Bowling at The Glen"},null,{"$f":"VLOOKUP(U$5,Schedule!$A$8:$G$44,3,FALSE)","v":"Pure Michigan 400"},null,{"$f":"VLOOKUP(W$5,Schedule!$A$8:$G$44,3,FALSE)","v":"Bass Pro Shops NRA Night Race"},null,{"$f":"VLOOKUP(Y$5,Schedule!$A$8:$G$44,3,FALSE)","v":"Bojangles' Southern 500"},null,{"$f":"VLOOKUP(AA$5,Schedule!$A$8:$G$44,3,FALSE)","v":"Big Machine Vodka 400 at the Brickyard"}]
[null,null,null,null,null,null,null,null,null,null,null,null,{"$f":"VLOOKUP(M$5,Schedule!$A$8:$G$44,7,FALSE)","v":"1900-06-08"},null,{"$f":"VLOOKUP(O$5,Schedule!$A$8:$G$44,7,FALSE)","v":"1900-05-29"},null,{"$f":"VLOOKUP(Q$5,Schedule!$A$8:$G$44,7,FALSE)","v":"1900-04-09"},null,{"$f":"VLOOKUP(S$5,Schedule!$A$8:$G$44,7,FALSE)","v":"1900-02-09"},null,{"$f":"VLOOKUP(U$5,Schedule!$A$8:$G$44,7,FALSE)","v":"1900-04-29"},null,{"$f":"VLOOKUP(W$5,Schedule!$A$8:$G$44,7,FALSE)","v":"1900-09-06"},null,{"$f":"VLOOKUP(Y$5,Schedule!$A$8:$G$44,7,FALSE)","v":"1900-07-18"},null,{"$f":"VLOOKUP(AA$5,Schedule!$A$8:$G$44,7,FALSE)","v":"1900-04-09"}]
[null,null,null,null,null,null,null,null,null,null,null,null,{"$f":"VLOOKUP(M$5,Schedule!$A$4:$G$44,4,FALSE)","v":"Kentucky Speedway"},null,{"$f":"VLOOKUP(O$5,Schedule!$A$4:$G$44,4,FALSE)","v":"New Hampshire Motor Speedway"},null,{"$f":"VLOOKUP(Q$5,Schedule!$A$4:$G$44,4,FALSE)","v":"Pocono Raceway"},null,{"$f":"VLOOKUP(S$5,Schedule!$A$4:$G$44,4,FALSE)","v":"Watkins Glen International"},null,{"$f":"VLOOKUP(U$5,Schedule!$A$4:$G$44,4,FALSE)","v":"Michigan International Speedway"},null,{"$f":"VLOOKUP(W$5,Schedule!$A$4:$G$44,4,FALSE)","v":"Bristol Motor Speedway"},null,{"$f":"VLOOKUP(Y$5,Schedule!$A$4:$G$44,4,FALSE)","v":"Darlington Raceway"},null,{"$f":"VLOOKUP(AA$5,Schedule!$A$4:$G$44,4,FALSE)","v":"Indianapolis Motor Speedway"}]
["Owner","Week","Week","Week","Week","Week","Week","Week","Week",2,3,4,19,null,20,null,21,null,22,null,23,null,24,null,25,null,26,null,"Total"]
["Points",19,20,21,22,23,24,25,26,"Driver","Make","Sponsor","Points","Bonus","Points","Bonus","Points","Bonus","Points","Bonus","Points","Bonus","Points","Bonus","Points","Bonus","Points","Bonus","Points"]
[{"$f":"VLOOKUP(HLOOKUP('Pick Distribution'!$P$2,$B$6:$I$15,$J$5),'Current Owner Standings'!$A$71:$B$480,2,FALSE)","v":8},42,42,42,42,42,12,12,14,{"$f":"IF(ISNA(VLOOKUP($I7,'Cars & Results'!$A$6:$I$317,J$5,FALSE)),\"Invalid Number\",VLOOKUP($I7,'Cars & Results'!$A$6:$K$317,J$5,FALSE))","v":"Clint Bowyer"},{"$f":"IF(ISNA(VLOOKUP($I7,'Cars & Results'!$A$6:$I$317,K$5,FALSE)),\"Invalid Number\",VLOOKUP($I7,'Cars & Results'!$A$6:$K$317,K$5,FALSE))","v":"Ford"},{"$f":"IF(ISNA(VLOOKUP($I7,'Cars & Results'!$A$6:$I$317,L$5,FALSE)),\"Invalid Number\",VLOOKUP($I7,'Cars & Results'!$A$6:$K$317,L$5,FALSE))","v":"Stewart-Haas Racing"},{"$f":"IF(HLOOKUP(M$5,$B$6:$I$15,Points!$A3+1,FALSE)=\"TBD\",\"\",VLOOKUP(HLOOKUP(M$5,$B$6:$I$15,Points!$A3+1,FALSE),'Cars & Results'!$A$7:$BZ$317,2*M$5+6,FALSE))","v":37},{"$f":"IF(HLOOKUP(M$5,$B$6:$I$15,Points!$A3+1,FALSE)=\"TBD\",\"\",0)","v":0},{"$f":"IF(HLOOKUP(O$5,$B$6:$I$15,Points!$A3+1,FALSE)=\"TBD\",\"\",VLOOKUP(HLOOKUP(O$5,$B$6:$I$15,Points!$A3+1,FALSE),'Cars & Results'!$A$7:$BZ$317,2*O$5+6,FALSE))","v":25},{"$f":"IF(HLOOKUP(O$5,$B$6:$I$15,Points!$A3+1,FALSE)=\"TBD\",\"\",0)","v":0},{"$f":"IF(HLOOKUP(Q$5,$B$6:$I$15,Points!$A3+1,FALSE)=\"TBD\",\"\",VLOOKUP(HLOOKUP(Q$5,$B$6:$I$15,Points!$A3+1,FALSE),'Cars & Results'!$A$7:$BZ$317,2*Q$5+6,FALSE))","v":20},{"$f":"IF(HLOOKUP(Q$5,$B$6:$I$15,Points!$A3+1,FALSE)=\"TBD\",\"\",0)","v":0},{"$f":"IF(HLOOKUP(S$5,$B$6:$I$15,Points!$A3+1,FALSE)=\"TBD\",\"\",VLOOKUP(HLOOKUP(S$5,$B$6:$I$15,Points!$A3+1,FALSE),'Cars & Results'!$A$7:$BZ$317,2*S$5+6,FALSE))","v":34},{"$f":"IF(HLOOKUP(S$5,$B$6:$I$15,Points!$A3+1,FALSE)=\"TBD\",\"\",0)","v":0},{"$f":"IF(HLOOKUP(U$5,$B$6:$I$15,Points!$A3+1,FALSE)=\"TBD\",\"\",VLOOKUP(HLOOKUP(U$5,$B$6:$I$15,Points!$A3+1,FALSE),'Cars & Results'!$A$7:$BZ$317,2*U$5+6,FALSE))","v":21},{"$f":"IF(HLOOKUP(U$5,$B$6:$I$15,Points!$A3+1,FALSE)=\"TBD\",\"\",0)","v":0},{"$f":"IF(HLOOKUP(W$5,$B$6:$I$15,Points!$A3+1,FALSE)=\"TBD\",\"\",VLOOKUP(HLOOKUP(W$5,$B$6:$I$15,Points!$A3+1,FALSE),'Cars & Results'!$A$7:$BZ$317,2*W$5+6,FALSE))","v":46},{"$f":"IF(HLOOKUP(W$5,$B$6:$I$15,Points!$A3+1,FALSE)=\"TBD\",\"\",0)","v":0},{"$f":"IF(HLOOKUP(Y$5,$B$6:$I$15,Points!$A3+1,FALSE)=\"TBD\",\"\",VLOOKUP(HLOOKUP(Y$5,$B$6:$I$15,Points!$A3+1,FALSE),'Cars & Results'!$A$7:$BZ$317,2*Y$5+6,FALSE))","v":22},{"$f":"IF(HLOOKUP(Y$5,$B$6:$I$15,Points!$A3+1,FALSE)=\"TBD\",\"\",0)","v":0},{"$f":"IF(HLOOKUP(AA$5,$B$6:$I$15,Points!$A3+1,FALSE)=\"TBD\",\"\",VLOOKUP(HLOOKUP(AA$5,$B$6:$I$15,Points!$A3+1,FALSE),'Cars & Results'!$A$7:$BZ$317,2*AA$5+6,FALSE))","v":42},{"$f":"IF(HLOOKUP(AA$5,$B$6:$I$15,Points!$A3+1,FALSE)=\"TBD\",\"\",0)","v":0}]
[{"$f":"VLOOKUP(HLOOKUP('Pick Distribution'!$P$2,$B$6:$I$15,3),'Current Owner Standings'!$A$71:$B$480,2,FALSE)","v":10},11,11,11,11,11,11,11,11,{"$f":"IF(ISNA(VLOOKUP($I8,'Cars & Results'!$A$6:$I$317,J$5,FALSE)),\"Invalid Number\",VLOOKUP($I8,'Cars & Results'!$A$6:$K$317,J$5,FALSE))","v":"Denny Hamlin"},{"$f":"IF(ISNA(VLOOKUP($I8,'Cars & Results'!$A$6:$I$317,K$5,FALSE)),\"Invalid Number\",VLOOKUP($I8,'Cars & Results'!$A$6:$K$317,K$5,FALSE))","v":"Toyota"},{"$f":"IF(ISNA(VLOOKUP($I8,'Cars & Results'!$A$6:$I$317,L$5,FALSE)),\"Invalid Number\",VLOOKUP($I8,'Cars & Results'!$A$6:$K$317,L$5,FALSE))","v":"Joe Gibbs Racing"},{"$f":"IF(HLOOKUP(M$5,$B$6:$I$15,Points!$A4+1,FALSE)=\"TBD\",\"\",VLOOKUP(HLOOKUP(M$5,$B$6:$I$15,Points!$A4+1,FALSE),'Cars & Results'!$A$7:$BZ$317,2*M$5+6,FALSE))","v":21},{"$f":"IF(HLOOKUP(M$5,$B$6:$I$15,Points!$A4+1,FALSE)=\"TBD\",\"\",IF(VLOOKUP(HLOOKUP(M$5,$B$6:$I$15,Points!$A4+1,FALSE),'Cars & Results'!$A$7:$BZ$317,2*M$5+5)=1,M8*0.25,0))","v":0},{"$f":"IF(HLOOKUP(O$5,$B$6:$I$15,Points!$A4+1,FALSE)=\"TBD\",\"\",VLOOKUP(HLOOKUP(O$5,$B$6:$I$15,Points!$A4+1,FALSE),'Cars & Results'!$A$7:$BZ$317,2*O$5+6,FALSE))","v":24},{"$f":"IF(HLOOKUP(O$5,$B$6:$I$15,Points!$A4+1,FALSE)=\"TBD\",\"\",IF(VLOOKUP(HLOOKUP(O$5,$B$6:$I$15,Points!$A4+1,FALSE),'Cars & Results'!$A$7:$BZ$317,2*O$5+5)=1,O8*0.25,0))","v":0},{"$f":"IF(HLOOKUP(Q$5,$B$6:$I$15,Points!$A4+1,FALSE)=\"TBD\",\"\",VLOOKUP(HLOOKUP(Q$5,$B$6:$I$15,Points!$A4+1,FALSE),'Cars & Results'!$A$7:$BZ$317,2*Q$5+6,FALSE))","v":35},{"$f":"IF(HLOOKUP(Q$5,$B$6:$I$15,Points!$A4+1,FALSE)=\"TBD\",\"\",IF(VLOOKUP(HLOOKUP(Q$5,$B$6:$I$15,Points!$A4+1,FALSE),'Cars & Results'!$A$7:$BZ$317,2*Q$5+5)=1,Q8*0.25,0))","v":0},{"$f":"IF(HLOOKUP(S$5,$B$6:$I$15,Points!$A4+1,FALSE)=\"TBD\",\"\",VLOOKUP(HLOOKUP(S$5,$B$6:$I$15,Points!$A4+1,FALSE),'Cars & Results'!$A$7:$BZ$317,2*S$5+6,FALSE))","v":32},{"$f":"IF(HLOOKUP(S$5,$B$6:$I$15,Points!$A4+1,FALSE)=\"TBD\",\"\",IF(VLOOKUP(HLOOKUP(S$5,$B$6:$I$15,Points!$A4+1,FALSE),'Cars & Results'!$A$7:$BZ$317,2*S$5+5)=1,S8*0.25,0))","v":0},{"$f":"IF(HLOOKUP(U$5,$B$6:$I$15,Points!$A4+1,FALSE)=\"TBD\",\"\",VLOOKUP(HLOOKUP(U$5,$B$6:$I$15,Points!$A4+1,FALSE),'Cars & Results'!$A$7:$BZ$317,2*U$5+6,FALSE))","v":34},{"$f":"IF(HLOOKUP(U$5,$B$6:$I$15,Points!$A4+1,FALSE)=\"TBD\",\"\",IF(VLOOKUP(HLOOKUP(U$5,$B$6:$I$15,Points!$A4+1,FALSE),'Cars & Results'!$A$7:$BZ$317,2*U$5+5)=1,U8*0.25,0))","v":0},{"$f":"IF(HLOOKUP(W$5,$B$6:$I$15,Points!$A4+1,FALSE)=\"TBD\",\"\",VLOOKUP(HLOOKUP(W$5,$B$6:$I$15,Points!$A4+1,FALSE),'Cars & Results'!$A$7:$BZ$317,2*W$5+6,FALSE))","v":23},{"$f":"IF(HLOOKUP(W$5,$B$6:$I$15,Points!$A4+1,FALSE)=\"TBD\",\"\",IF(VLOOKUP(HLOOKUP(W$5,$B$6:$I$15,Points!$A4+1,FALSE),'Cars & Results'!$A$7:$BZ$317,2*W$5+5)=1,W8*0.25,0))","v":0},{"$f":"IF(HLOOKUP(Y$5,$B$6:$I$15,Points!$A4+1,FALSE)=\"TBD\",\"\",VLOOKUP(HLOOKUP(Y$5,$B$6:$I$15,Points!$A4+1,FALSE),'Cars & Results'!$A$7:$BZ$317,2*Y$5+6,FALSE))","v":31},{"$f":"IF(HLOOKUP(Y$5,$B$6:$I$15,Points!$A4+1,FALSE)=\"TBD\",\"\",IF(VLOOKUP(HLOOKUP(Y$5,$B$6:$I$15,Points!$A4+1,FALSE),'Cars & Results'!$A$7:$BZ$317,2*Y$5+5)=1,Y8*0.25,0))","v":0},{"$f":"IF(HLOOKUP(AA$5,$B$6:$I$15,Points!$A4+1,FALSE)=\"TBD\",\"\",VLOOKUP(HLOOKUP(AA$5,$B$6:$I$15,Points!$A4+1,FALSE),'Cars & Results'!$A$7:$BZ$317,2*AA$5+6,FALSE))","v":42},{"$f":"IF(HLOOKUP(AA$5,$B$6:$I$15,Points!$A4+1,FALSE)=\"TBD\",\"\",IF(VLOOKUP(HLOOKUP(AA$5,$B$6:$I$15,Points!$A4+1,FALSE),'Cars & Results'!$A$7:$BZ$317,2*AA$5+5)=1,AA8*0.25,0))","v":0}]
[{"$f":"VLOOKUP(HLOOKUP('Pick Distribution'!$P$2,$B$6:$I$15,4),'Current Owner Standings'!$A$71:$B$480,2,FALSE)","v":17},31,31,31,31,31,31,31,31,{"$f":"IF(ISNA(VLOOKUP($I9,'Cars & Results'!$A$6:$I$317,J$5,FALSE)),\"Invalid Number\",VLOOKUP($I9,'Cars & Results'!$A$6:$K$317,J$5,FALSE))","v":"Ryan Newman"},{"$f":"IF(ISNA(VLOOKUP($I9,'Cars & Results'!$A$6:$I$317,K$5,FALSE)),\"Invalid Number\",VLOOKUP($I9,'Cars & Results'!$A$6:$K$317,K$5,FALSE))","v":"Chevrolet"},{"$f":"IF(ISNA(VLOOKUP($I9,'Cars & Results'!$A$6:$I$317,L$5,FALSE)),\"Invalid Number\",VLOOKUP($I9,'Cars & Results'!$A$6:$K$317,L$5,FALSE))","v":"Richard Childress Racing"},{"$f":"IF(HLOOKUP(M$5,$B$6:$I$15,Points!$A5+1,FALSE)=\"TBD\",\"\",VLOOKUP(HLOOKUP(M$5,$B$6:$I$15,Points!$A5+1,FALSE),'Cars & Results'!$A$7:$BZ$317,2*M$5+6,FALSE))","v":16},{"$f":"IF(HLOOKUP(M$5,$B$6:$I$15,Points!$A5+1,FALSE)=\"TBD\",\"\",IF(VLOOKUP(HLOOKUP(M$5,$B$6:$I$15,Points!$A5+1,FALSE),'Cars & Results'!$A$7:$BZ$317,2*M$5+5)<=5,M9*0.5,0))","v":0},{"$f":"IF(HLOOKUP(O$5,$B$6:$I$15,Points!$A5+1,FALSE)=\"TBD\",\"\",VLOOKUP(HLOOKUP(O$5,$B$6:$I$15,Points!$A5+1,FALSE),'Cars & Results'!$A$7:$BZ$317,2*O$5+6,FALSE))","v":31},{"$f":"IF(HLOOKUP(O$5,$B$6:$I$15,Points!$A5+1,FALSE)=\"TBD\",\"\",IF(VLOOKUP(HLOOKUP(O$5,$B$6:$I$15,Points!$A5+1,FALSE),'Cars & Results'!$A$7:$BZ$317,2*O$5+5)<=5,O9*0.5,0))","v":0},{"$f":"IF(HLOOKUP(Q$5,$B$6:$I$15,Points!$A5+1,FALSE)=\"TBD\",\"\",VLOOKUP(HLOOKUP(Q$5,$B$6:$I$15,Points!$A5+1,FALSE),'Cars & Results'!$A$7:$BZ$317,2*Q$5+6,FALSE))","v":29},{"$f":"IF(HLOOKUP(Q$5,$B$6:$I$15,Points!$A5+1,FALSE)=\"TBD\",\"\",IF(VLOOKUP(HLOOKUP(Q$5,$B$6:$I$15,Points!$A5+1,FALSE),'Cars & Results'!$A$7:$BZ$317,2*Q$5+5)<=5,Q9*0.5,0))","v":0},{"$f":"IF(HLOOKUP(S$5,$B$6:$I$15,Points!$A5+1,FALSE)=\"TBD\",\"\",VLOOKUP(HLOOKUP(S$5,$B$6:$I$15,Points!$A5+1,FALSE),'Cars & Results'!$A$7:$BZ$317,2*S$5+6,FALSE))","v":18},{"$f":"IF(HLOOKUP(S$5,$B$6:$I$15,Points!$A5+1,FALSE)=\"TBD\",\"\",IF(VLOOKUP(HLOOKUP(S$5,$B$6:$I$15,Points!$A5+1,FALSE),'Cars & Results'!$A$7:$BZ$317,2*S$5+5)<=5,S9*0.5,0))","v":0},{"$f":"IF(HLOOKUP(U$5,$B$6:$I$15,Points!$A5+1,FALSE)=\"TBD\",\"\",VLOOKUP(HLOOKUP(U$5,$B$6:$I$15,Points!$A5+1,FALSE),'Cars & Results'!$A$7:$BZ$317,2*U$5+6,FALSE))","v":25},{"$f":"IF(HLOOKUP(U$5,$B$6:$I$15,Points!$A5+1,FALSE)=\"TBD\",\"\",IF(VLOOKUP(HLOOKUP(U$5,$B$6:$I$15,Points!$A5+1,FALSE),'Cars & Results'!$A$7:$BZ$317,2*U$5+5)<=5,U9*0.5,0))","v":0},{"$f":"IF(HLOOKUP(W$5,$B$6:$I$15,Points!$A5+1,FALSE)=\"TBD\",\"\",VLOOKUP(HLOOKUP(W$5,$B$6:$I$15,Points!$A5+1,FALSE),'Cars & Results'!$A$7:$BZ$317,2*W$5+6,FALSE))","v":25},{"$f":"IF(HLOOKUP(W$5,$B$6:$I$15,Points!$A5+1,FALSE)=\"TBD\",\"\",IF(VLOOKUP(HLOOKUP(W$5,$B$6:$I$15,Points!$A5+1,FALSE),'Cars & Results'!$A$7:$BZ$317,2*W$5+5)<=5,W9*0.5,0))","v":0},{"$f":"IF(HLOOKUP(Y$5,$B$6:$I$15,Points!$A5+1,FALSE)=\"TBD\",\"\",VLOOKUP(HLOOKUP(Y$5,$B$6:$I$15,Points!$A5+1,FALSE),'Cars & Results'!$A$7:$BZ$317,2*Y$5+6,FALSE))","v":18},{"$f":"IF(HLOOKUP(Y$5,$B$6:$I$15,Points!$A5+1,FALSE)=\"TBD\",\"\",IF(VLOOKUP(HLOOKUP(Y$5,$B$6:$I$15,Points!$A5+1,FALSE),'Cars & Results'!$A$7:$BZ$317,2*Y$5+5)<=5,Y9*0.5,0))","v":0},{"$f":"IF(HLOOKUP(AA$5,$B$6:$I$15,Points!$A5+1,FALSE)=\"TBD\",\"\",VLOOKUP(HLOOKUP(AA$5,$B$6:$I$15,Points!$A5+1,FALSE),'Cars & Results'!$A$7:$BZ$317,2*AA$5+6,FALSE))","v":29},{"$f":"IF(HLOOKUP(AA$5,$B$6:$I$15,Points!$A5+1,FALSE)=\"TBD\",\"\",IF(VLOOKUP(HLOOKUP(AA$5,$B$6:$I$15,Points!$A5+1,FALSE),'Cars & Results'!$A$7:$BZ$317,2*AA$5+5)<=5,AA9*0.5,0))","v":0}]
[{"$f":"VLOOKUP(HLOOKUP('Pick Distribution'!$P$2,$B$6:$I$15,5),'Current Owner Standings'!$A$71:$B$480,2,FALSE)","v":20},19,19,19,19,19,19,19,19,{"$f":"IF(ISNA(VLOOKUP($I10,'Cars & Results'!$A$6:$I$317,J$5,FALSE)),\"Invalid Number\",VLOOKUP($I10,'Cars & Results'!$A$6:$K$317,J$5,FALSE))","v":"Daniel Suárez"},{"$f":"IF(ISNA(VLOOKUP($I10,'Cars & Results'!$A$6:$I$317,K$5,FALSE)),\"Invalid Number\",VLOOKUP($I10,'Cars & Results'!$A$6:$K$317,K$5,FALSE))","v":"Toyota"},{"$f":"IF(ISNA(VLOOKUP($I10,'Cars & Results'!$A$6:$I$317,L$5,FALSE)),\"Invalid Number\",VLOOKUP($I10,'Cars & Results'!$A$6:$K$317,L$5,FALSE))","v":"Joe Gibbs Racing"},{"$f":"IF(HLOOKUP(M$5,$B$6:$I$15,Points!$A6+1,FALSE)=\"TBD\",\"\",VLOOKUP(HLOOKUP(M$5,$B$6:$I$15,Points!$A6+1,FALSE),'Cars & Results'!$A$7:$BZ$317,2*M$5+6,FALSE))","v":26},{"$f":"IF(HLOOKUP(M$5,$B$6:$I$15,Points!$A6+1,FALSE)=\"TBD\",\"\",IF(VLOOKUP(HLOOKUP(M$5,$B$6:$I$15,Points!$A6+1,FALSE),'Cars & Results'!$A$7:$BZ$317,2*M$5+5)<=5,M10*0.5,0))","v":0},{"$f":"IF(HLOOKUP(O$5,$B$6:$I$15,Points!$A6+1,FALSE)=\"TBD\",\"\",VLOOKUP(HLOOKUP(O$5,$B$6:$I$15,Points!$A6+1,FALSE),'Cars & Results'!$A$7:$BZ$317,2*O$5+6,FALSE))","v":15},{"$f":"IF(HLOOKUP(O$5,$B$6:$I$15,Points!$A6+1,FALSE)=\"TBD\",\"\",IF(VLOOKUP(HLOOKUP(O$5,$B$6:$I$15,Points!$A6+1,FALSE),'Cars & Results'!$A$7:$BZ$317,2*O$5+5)<=5,O10*0.5,0))","v":0},{"$f":"IF(HLOOKUP(Q$5,$B$6:$I$15,Points!$A6+1,FALSE)=\"TBD\",\"\",VLOOKUP(HLOOKUP(Q$5,$B$6:$I$15,Points!$A6+1,FALSE),'Cars & Results'!$A$7:$BZ$317,2*Q$5+6,FALSE))","v":41},{"$f":"IF(HLOOKUP(Q$5,$B$6:$I$15,Points!$A6+1,FALSE)=\"TBD\",\"\",IF(VLOOKUP(HLOOKUP(Q$5,$B$6:$I$15,Points!$A6+1,FALSE),'Cars & Results'!$A$7:$BZ$317,2*Q$5+5)<=5,Q10*0.5,0))","v":20.5},{"$f":"IF(HLOOKUP(S$5,$B$6:$I$15,Points!$A6+1,FALSE)=\"TBD\",\"\",VLOOKUP(HLOOKUP(S$5,$B$6:$I$15,Points!$A6+1,FALSE),'Cars & Results'!$A$7:$BZ$317,2*S$5+6,FALSE))","v":34},{"$f":"IF(HLOOKUP(S$5,$B$6:$I$15,Points!$A6+1,FALSE)=\"TBD\",\"\",IF(VLOOKUP(HLOOKUP(S$5,$B$6:$I$15,Points!$A6+1,FALSE),'Cars & Results'!$A$7:$BZ$317,2*S$5+5)<=5,S10*0.5,0))","v":17},{"$f":"IF(HLOOKUP(U$5,$B$6:$I$15,Points!$A6+1,FALSE)=\"TBD\",\"\",VLOOKUP(HLOOKUP(U$5,$B$6:$I$15,Points!$A6+1,FALSE),'Cars & Results'!$A$7:$BZ$317,2*U$5+6,FALSE))","v":26},{"$f":"IF(HLOOKUP(U$5,$B$6:$I$15,Points!$A6+1,FALSE)=\"TBD\",\"\",IF(VLOOKUP(HLOOKUP(U$5,$B$6:$I$15,Points!$A6+1,FALSE),'Cars & Results'!$A$7:$BZ$317,2*U$5+5)<=5,U10*0.5,0))","v":0},{"$f":"IF(HLOOKUP(W$5,$B$6:$I$15,Points!$A6+1,FALSE)=\"TBD\",\"\",VLOOKUP(HLOOKUP(W$5,$B$6:$I$15,Points!$A6+1,FALSE),'Cars & Results'!$A$7:$BZ$317,2*W$5+6,FALSE))","v":19},{"$f":"IF(HLOOKUP(W$5,$B$6:$I$15,Points!$A6+1,FALSE)=\"TBD\",\"\",IF(VLOOKUP(HLOOKUP(W$5,$B$6:$I$15,Points!$A6+1,FALSE),'Cars & Results'!$A$7:$BZ$317,2*W$5+5)<=5,W10*0.5,0))","v":0},{"$f":"IF(HLOOKUP(Y$5,$B$6:$I$15,Points!$A6+1,FALSE)=\"TBD\",\"\",VLOOKUP(HLOOKUP(Y$5,$B$6:$I$15,Points!$A6+1,FALSE),'Cars & Results'!$A$7:$BZ$317,2*Y$5+6,FALSE))","v":8},{"$f":"IF(HLOOKUP(Y$5,$B$6:$I$15,Points!$A6+1,FALSE)=\"TBD\",\"\",IF(VLOOKUP(HLOOKUP(Y$5,$B$6:$I$15,Points!$A6+1,FALSE),'Cars & Results'!$A$7:$BZ$317,2*Y$5+5)<=5,Y10*0.5,0))","v":0},{"$f":"IF(HLOOKUP(AA$5,$B$6:$I$15,Points!$A6+1,FALSE)=\"TBD\",\"\",VLOOKUP(HLOOKUP(AA$5,$B$6:$I$15,Points!$A6+1,FALSE),'Cars & Results'!$A$7:$BZ$317,2*AA$5+6,FALSE))","v":24},{"$f":"IF(HLOOKUP(AA$5,$B$6:$I$15,Points!$A6+1,FALSE)=\"TBD\",\"\",IF(VLOOKUP(HLOOKUP(AA$5,$B$6:$I$15,Points!$A6+1,FALSE),'Cars & Results'!$A$7:$BZ$317,2*AA$5+5)<=5,AA10*0.5,0))","v":0}]
[{"$f":"VLOOKUP(HLOOKUP('Pick Distribution'!$P$2,$B$6:$I$15,6),'Current Owner Standings'!$A$71:$B$480,2,FALSE)","v":30},37,37,13,13,13,13,13,13,{"$f":"IF(ISNA(VLOOKUP($I11,'Cars & Results'!$A$6:$I$317,J$5,FALSE)),\"Invalid Number\",VLOOKUP($I11,'Cars & Results'!$A$6:$K$317,J$5,FALSE))","v":"Ty Dillon"},{"$f":"IF(ISNA(VLOOKUP($I11,'Cars & Results'!$A$6:$I$317,K$5,FALSE)),\"Invalid Number\",VLOOKUP($I11,'Cars & Results'!$A$6:$K$317,K$5,FALSE))","v":"Chevrolet"},{"$f":"IF(ISNA(VLOOKUP($I11,'Cars & Results'!$A$6:$I$317,L$5,FALSE)),\"Invalid Number\",VLOOKUP($I11,'Cars & Results'!$A$6:$K$317,L$5,FALSE))","v":"Germain Racing"},{"$f":"IF(HLOOKUP(M$5,$B$6:$I$15,Points!$A7+1,FALSE)=\"TBD\",\"\",VLOOKUP(HLOOKUP(M$5,$B$6:$I$15,Points!$A7+1,FALSE),'Cars & Results'!$A$7:$BZ$317,2*M$5+6,FALSE))","v":14},{"$f":"IF(HLOOKUP(M$5,$B$6:$I$15,Points!$A7+1,FALSE)=\"TBD\",\"\",IF(VLOOKUP(HLOOKUP(M$5,$B$6:$I$15,Points!$A7+1,FALSE),'Cars & Results'!$A$7:$BZ$317,2*M$5+5)<=10,M11*1.5,0))","v":0},{"$f":"IF(HLOOKUP(O$5,$B$6:$I$15,Points!$A7+1,FALSE)=\"TBD\",\"\",VLOOKUP(HLOOKUP(O$5,$B$6:$I$15,Points!$A7+1,FALSE),'Cars & Results'!$A$7:$BZ$317,2*O$5+6,FALSE))","v":17},{"$f":"IF(HLOOKUP(O$5,$B$6:$I$15,Points!$A7+1,FALSE)=\"TBD\",\"\",IF(VLOOKUP(HLOOKUP(O$5,$B$6:$I$15,Points!$A7+1,FALSE),'Cars & Results'!$A$7:$BZ$317,2*O$5+5)<=10,O11*1.5,0))","v":0},{"$f":"IF(HLOOKUP(Q$5,$B$6:$I$15,Points!$A7+1,FALSE)=\"TBD\",\"\",VLOOKUP(HLOOKUP(Q$5,$B$6:$I$15,Points!$A7+1,FALSE),'Cars & Results'!$A$7:$BZ$317,2*Q$5+6,FALSE))","v":13},{"$f":"IF(HLOOKUP(Q$5,$B$6:$I$15,Points!$A7+1,FALSE)=\"TBD\",\"\",IF(VLOOKUP(HLOOKUP(Q$5,$B$6:$I$15,Points!$A7+1,FALSE),'Cars & Results'!$A$7:$BZ$317,2*Q$5+5)<=10,Q11*1.5,0))","v":0},{"$f":"IF(HLOOKUP(S$5,$B$6:$I$15,Points!$A7+1,FALSE)=\"TBD\",\"\",VLOOKUP(HLOOKUP(S$5,$B$6:$I$15,Points!$A7+1,FALSE),'Cars & Results'!$A$7:$BZ$317,2*S$5+6,FALSE))","v":14},{"$f":"IF(HLOOKUP(S$5,$B$6:$I$15,Points!$A7+1,FALSE)=\"TBD\",\"\",IF(VLOOKUP(HLOOKUP(S$5,$B$6:$I$15,Points!$A7+1,FALSE),'Cars & Results'!$A$7:$BZ$317,2*S$5+5)<=10,S11*1.5,0))","v":0},{"$f":"IF(HLOOKUP(U$5,$B$6:$I$15,Points!$A7+1,FALSE)=\"TBD\",\"\",VLOOKUP(HLOOKUP(U$5,$B$6:$I$15,Points!$A7+1,FALSE),'Cars & Results'!$A$7:$BZ$317,2*U$5+6,FALSE))","v":1},{"$f":"IF(HLOOKUP(U$5,$B$6:$I$15,Points!$A7+1,FALSE)=\"TBD\",\"\",IF(VLOOKUP(HLOOKUP(U$5,$B$6:$I$15,Points!$A7+1,FALSE),'Cars & Results'!$A$7:$BZ$317,2*U$5+5)<=10,U11*1.5,0))","v":0},{"$f":"IF(HLOOKUP(W$5,$B$6:$I$15,Points!$A7+1,FALSE)=\"TBD\",\"\",VLOOKUP(HLOOKUP(W$5,$B$6:$I$15,Points!$A7+1,FALSE),'Cars & Results'!$A$7:$BZ$317,2*W$5+6,FALSE))","v":16},{"$f":"IF(HLOOKUP(W$5,$B$6:$I$15,Points!$A7+1,FALSE)=\"TBD\",\"\",IF(VLOOKUP(HLOOKUP(W$5,$B$6:$I$15,Points!$A7+1,FALSE),'Cars & Results'!$A$7:$BZ$317,2*W$5+5)<=10,W11*1.5,0))","v":0},{"$f":"IF(HLOOKUP(Y$5,$B$6:$I$15,Points!$A7+1,FALSE)=\"TBD\",\"\",VLOOKUP(HLOOKUP(Y$5,$B$6:$I$15,Points!$A7+1,FALSE),'Cars & Results'!$A$7:$BZ$317,2*Y$5+6,FALSE))","v":16},{"$f":"IF(HLOOKUP(Y$5,$B$6:$I$15,Points!$A7+1,FALSE)=\"TBD\",\"\",IF(VLOOKUP(HLOOKUP(Y$5,$B$6:$I$15,Points!$A7+1,FALSE),'Cars & Results'!$A$7:$BZ$317,2*Y$5+5)<=10,Y11*1.5,0))","v":0},{"$f":"IF(HLOOKUP(AA$5,$B$6:$I$15,Points!$A7+1,FALSE)=\"TBD\",\"\",VLOOKUP(HLOOKUP(AA$5,$B$6:$I$15,Points!$A7+1,FALSE),'Cars & Results'!$A$7:$BZ$317,2*AA$5+6,FALSE))","v":16},{"$f":"IF(HLOOKUP(AA$5,$B$6:$I$15,Points!$A7+1,FALSE)=\"TBD\",\"\",IF(VLOOKUP(HLOOKUP(AA$5,$B$6:$I$15,Points!$A7+1,FALSE),'Cars & Results'!$A$7:$BZ$317,2*AA$5+5)<=10,AA11*1.5,0))","v":0}]
[{"$f":"VLOOKUP(HLOOKUP('Pick Distribution'!$P$2,$B$6:$I$15,7),'Current Owner Standings'!$A$71:$B$480,2,FALSE)","v":28},43,43,43,43,43,43,43,43,{"$f":"IF(ISNA(VLOOKUP($I12,'Cars & Results'!$A$6:$I$317,J$5,FALSE)),\"Invalid Number\",VLOOKUP($I12,'Cars & Results'!$A$6:$K$317,J$5,FALSE))","v":"Darrell Wallace Jr. (R)"},{"$f":"IF(ISNA(VLOOKUP($I12,'Cars & Results'!$A$6:$I$317,K$5,FALSE)),\"Invalid Number\",VLOOKUP($I12,'Cars & Results'!$A$6:$K$317,K$5,FALSE))","v":"Chevrolet"},{"$f":"IF(ISNA(VLOOKUP($I12,'Cars & Results'!$A$6:$I$317,L$5,FALSE)),\"Invalid Number\",VLOOKUP($I12,'Cars & Results'!$A$6:$K$317,L$5,FALSE))","v":"Richard Petty Motorsports"},{"$f":"IF(HLOOKUP(M$5,$B$6:$I$15,Points!$A8+1,FALSE)=\"TBD\",\"\",VLOOKUP(HLOOKUP(M$5,$B$6:$I$15,Points!$A8+1,FALSE),'Cars & Results'!$A$7:$BZ$317,2*M$5+6,FALSE))","v":10},{"$f":"IF(HLOOKUP(M$5,$B$6:$I$15,Points!$A8+1,FALSE)=\"TBD\",\"\",IF(VLOOKUP(HLOOKUP(M$5,$B$6:$I$15,Points!$A8+1,FALSE),'Cars & Results'!$A$7:$BZ$317,2*M$5+5)<=10,M12*1.5,0))","v":0},{"$f":"IF(HLOOKUP(O$5,$B$6:$I$15,Points!$A8+1,FALSE)=\"TBD\",\"\",VLOOKUP(HLOOKUP(O$5,$B$6:$I$15,Points!$A8+1,FALSE),'Cars & Results'!$A$7:$BZ$317,2*O$5+6,FALSE))","v":13},{"$f":"IF(HLOOKUP(O$5,$B$6:$I$15,Points!$A8+1,FALSE)=\"TBD\",\"\",IF(VLOOKUP(HLOOKUP(O$5,$B$6:$I$15,Points!$A8+1,FALSE),'Cars & Results'!$A$7:$BZ$317,2*O$5+5)<=10,O12*1.5,0))","v":0},{"$f":"IF(HLOOKUP(Q$5,$B$6:$I$15,Points!$A8+1,FALSE)=\"TBD\",\"\",VLOOKUP(HLOOKUP(Q$5,$B$6:$I$15,Points!$A8+1,FALSE),'Cars & Results'!$A$7:$BZ$317,2*Q$5+6,FALSE))","v":4},{"$f":"IF(HLOOKUP(Q$5,$B$6:$I$15,Points!$A8+1,FALSE)=\"TBD\",\"\",IF(VLOOKUP(HLOOKUP(Q$5,$B$6:$I$15,Points!$A8+1,FALSE),'Cars & Results'!$A$7:$BZ$317,2*Q$5+5)<=10,Q12*1.5,0))","v":0},{"$f":"IF(HLOOKUP(S$5,$B$6:$I$15,Points!$A8+1,FALSE)=\"TBD\",\"\",VLOOKUP(HLOOKUP(S$5,$B$6:$I$15,Points!$A8+1,FALSE),'Cars & Results'!$A$7:$BZ$317,2*S$5+6,FALSE))","v":12},{"$f":"IF(HLOOKUP(S$5,$B$6:$I$15,Points!$A8+1,FALSE)=\"TBD\",\"\",IF(VLOOKUP(HLOOKUP(S$5,$B$6:$I$15,Points!$A8+1,FALSE),'Cars & Results'!$A$7:$BZ$317,2*S$5+5)<=10,S12*1.5,0))","v":0},{"$f":"IF(HLOOKUP(U$5,$B$6:$I$15,Points!$A8+1,FALSE)=\"TBD\",\"\",VLOOKUP(HLOOKUP(U$5,$B$6:$I$15,Points!$A8+1,FALSE),'Cars & Results'!$A$7:$BZ$317,2*U$5+6,FALSE))","v":14},{"$f":"IF(HLOOKUP(U$5,$B$6:$I$15,Points!$A8+1,FALSE)=\"TBD\",\"\",IF(VLOOKUP(HLOOKUP(U$5,$B$6:$I$15,Points!$A8+1,FALSE),'Cars & Results'!$A$7:$BZ$317,2*U$5+5)<=10,U12*1.5,0))","v":0},{"$f":"IF(HLOOKUP(W$5,$B$6:$I$15,Points!$A8+1,FALSE)=\"TBD\",\"\",VLOOKUP(HLOOKUP(W$5,$B$6:$I$15,Points!$A8+1,FALSE),'Cars & Results'!$A$7:$BZ$317,2*W$5+6,FALSE))","v":1},{"$f":"IF(HLOOKUP(W$5,$B$6:$I$15,Points!$A8+1,FALSE)=\"TBD\",\"\",IF(VLOOKUP(HLOOKUP(W$5,$B$6:$I$15,Points!$A8+1,FALSE),'Cars & Results'!$A$7:$BZ$317,2*W$5+5)<=10,W12*1.5,0))","v":0},{"$f":"IF(HLOOKUP(Y$5,$B$6:$I$15,Points!$A8+1,FALSE)=\"TBD\",\"\",VLOOKUP(HLOOKUP(Y$5,$B$6:$I$15,Points!$A8+1,FALSE),'Cars & Results'!$A$7:$BZ$317,2*Y$5+6,FALSE))","v":11},{"$f":"IF(HLOOKUP(Y$5,$B$6:$I$15,Points!$A8+1,FALSE)=\"TBD\",\"\",IF(VLOOKUP(HLOOKUP(Y$5,$B$6:$I$15,Points!$A8+1,FALSE),'Cars & Results'!$A$7:$BZ$317,2*Y$5+5)<=10,Y12*1.5,0))","v":0},{"$f":"IF(HLOOKUP(AA$5,$B$6:$I$15,Points!$A8+1,FALSE)=\"TBD\",\"\",VLOOKUP(HLOOKUP(AA$5,$B$6:$I$15,Points!$A8+1,FALSE),'Cars & Results'!$A$7:$BZ$317,2*AA$5+6,FALSE))","v":1},{"$f":"IF(HLOOKUP(AA$5,$B$6:$I$15,Points!$A8+1,FALSE)=\"TBD\",\"\",IF(VLOOKUP(HLOOKUP(AA$5,$B$6:$I$15,Points!$A8+1,FALSE),'Cars & Results'!$A$7:$BZ$317,2*AA$5+5)<=10,AA12*1.5,0))","v":0}]
[{"$f":"VLOOKUP(HLOOKUP('Pick Distribution'!$P$2,$B$6:$I$15,8),'Current Owner Standings'!$A$71:$B$480,2,FALSE)","v":31},32,32,32,32,32,32,32,32,{"$f":"IF(ISNA(VLOOKUP($I13,'Cars & Results'!$A$6:$I$317,J$5,FALSE)),\"Invalid Number\",VLOOKUP($I13,'Cars & Results'!$A$6:$K$317,J$5,FALSE))","v":"Matt DiBenedetto"},{"$f":"IF(ISNA(VLOOKUP($I13,'Cars & Results'!$A$6:$I$317,K$5,FALSE)),\"Invalid Number\",VLOOKUP($I13,'Cars & Results'!$A$6:$K$317,K$5,FALSE))","v":"Ford"},{"$f":"IF(ISNA(VLOOKUP($I13,'Cars & Results'!$A$6:$I$317,L$5,FALSE)),\"Invalid Number\",VLOOKUP($I13,'Cars & Results'!$A$6:$K$317,L$5,FALSE))","v":"Go Fas Racing"},{"$f":"IF(HLOOKUP(M$5,$B$6:$I$15,Points!$A9+1,FALSE)=\"TBD\",\"\",VLOOKUP(HLOOKUP(M$5,$B$6:$I$15,Points!$A9+1,FALSE),'Cars & Results'!$A$7:$BZ$317,2*M$5+6,FALSE))","v":1},{"$f":"IF(HLOOKUP(M$5,$B$6:$I$15,Points!$A9+1,FALSE)=\"TBD\",\"\",IF(VLOOKUP(HLOOKUP(M$5,$B$6:$I$15,Points!$A9+1,FALSE),'Cars & Results'!$A$7:$BZ$317,2*M$5+5)<=10,M13*2,0))","v":0},{"$f":"IF(HLOOKUP(O$5,$B$6:$I$15,Points!$A9+1,FALSE)=\"TBD\",\"\",VLOOKUP(HLOOKUP(O$5,$B$6:$I$15,Points!$A9+1,FALSE),'Cars & Results'!$A$7:$BZ$317,2*O$5+6,FALSE))","v":9},{"$f":"IF(HLOOKUP(O$5,$B$6:$I$15,Points!$A9+1,FALSE)=\"TBD\",\"\",IF(VLOOKUP(HLOOKUP(O$5,$B$6:$I$15,Points!$A9+1,FALSE),'Cars & Results'!$A$7:$BZ$317,2*O$5+5)<=10,O13*2,0))","v":0},{"$f":"IF(HLOOKUP(Q$5,$B$6:$I$15,Points!$A9+1,FALSE)=\"TBD\",\"\",VLOOKUP(HLOOKUP(Q$5,$B$6:$I$15,Points!$A9+1,FALSE),'Cars & Results'!$A$7:$BZ$317,2*Q$5+6,FALSE))","v":10},{"$f":"IF(HLOOKUP(Q$5,$B$6:$I$15,Points!$A9+1,FALSE)=\"TBD\",\"\",IF(VLOOKUP(HLOOKUP(Q$5,$B$6:$I$15,Points!$A9+1,FALSE),'Cars & Results'!$A$7:$BZ$317,2*Q$5+5)<=10,Q13*2,0))","v":0},{"$f":"IF(HLOOKUP(S$5,$B$6:$I$15,Points!$A9+1,FALSE)=\"TBD\",\"\",VLOOKUP(HLOOKUP(S$5,$B$6:$I$15,Points!$A9+1,FALSE),'Cars & Results'!$A$7:$BZ$317,2*S$5+6,FALSE))","v":4},{"$f":"IF(HLOOKUP(S$5,$B$6:$I$15,Points!$A9+1,FALSE)=\"TBD\",\"\",IF(VLOOKUP(HLOOKUP(S$5,$B$6:$I$15,Points!$A9+1,FALSE),'Cars & Results'!$A$7:$BZ$317,2*S$5+5)<=10,S13*2,0))","v":0},{"$f":"IF(HLOOKUP(U$5,$B$6:$I$15,Points!$A9+1,FALSE)=\"TBD\",\"\",VLOOKUP(HLOOKUP(U$5,$B$6:$I$15,Points!$A9+1,FALSE),'Cars & Results'!$A$7:$BZ$317,2*U$5+6,FALSE))","v":13},{"$f":"IF(HLOOKUP(U$5,$B$6:$I$15,Points!$A9+1,FALSE)=\"TBD\",\"\",IF(VLOOKUP(HLOOKUP(U$5,$B$6:$I$15,Points!$A9+1,FALSE),'Cars & Results'!$A$7:$BZ$317,2*U$5+5)<=10,U13*2,0))","v":0},{"$f":"IF(HLOOKUP(W$5,$B$6:$I$15,Points!$A9+1,FALSE)=\"TBD\",\"\",VLOOKUP(HLOOKUP(W$5,$B$6:$I$15,Points!$A9+1,FALSE),'Cars & Results'!$A$7:$BZ$317,2*W$5+6,FALSE))","v":15},{"$f":"IF(HLOOKUP(W$5,$B$6:$I$15,Points!$A9+1,FALSE)=\"TBD\",\"\",IF(VLOOKUP(HLOOKUP(W$5,$B$6:$I$15,Points!$A9+1,FALSE),'Cars & Results'!$A$7:$BZ$317,2*W$5+5)<=10,W13*2,0))","v":0},{"$f":"IF(HLOOKUP(Y$5,$B$6:$I$15,Points!$A9+1,FALSE)=\"TBD\",\"\",VLOOKUP(HLOOKUP(Y$5,$B$6:$I$15,Points!$A9+1,FALSE),'Cars & Results'!$A$7:$BZ$317,2*Y$5+6,FALSE))","v":1},{"$f":"IF(HLOOKUP(Y$5,$B$6:$I$15,Points!$A9+1,FALSE)=\"TBD\",\"\",IF(VLOOKUP(HLOOKUP(Y$5,$B$6:$I$15,Points!$A9+1,FALSE),'Cars & Results'!$A$7:$BZ$317,2*Y$5+5)<=10,Y13*2,0))","v":0},{"$f":"IF(HLOOKUP(AA$5,$B$6:$I$15,Points!$A9+1,FALSE)=\"TBD\",\"\",VLOOKUP(HLOOKUP(AA$5,$B$6:$I$15,Points!$A9+1,FALSE),'Cars & Results'!$A$7:$BZ$317,2*AA$5+6,FALSE))","v":1},{"$f":"IF(HLOOKUP(AA$5,$B$6:$I$15,Points!$A9+1,FALSE)=\"TBD\",\"\",IF(VLOOKUP(HLOOKUP(AA$5,$B$6:$I$15,Points!$A9+1,FALSE),'Cars & Results'!$A$7:$BZ$317,2*AA$5+5)<=10,AA13*2,0))","v":0}]
[{"$f":"VLOOKUP(HLOOKUP('Pick Distribution'!$P$2,$B$6:$I$15,9),'Current Owner Standings'!$A$71:$B$480,2,FALSE)","v":36},51,51,51,51,51,51,51,51,{"$f":"IF(ISNA(VLOOKUP($I14,'Cars & Results'!$A$6:$I$317,J$5,FALSE)),\"Invalid Number\",VLOOKUP($I14,'Cars & Results'!$A$6:$K$317,J$5,FALSE))","v":"David Starr (i)"},{"$f":"IF(ISNA(VLOOKUP($I14,'Cars & Results'!$A$6:$I$317,K$5,FALSE)),\"Invalid Number\",VLOOKUP($I14,'Cars & Results'!$A$6:$K$317,K$5,FALSE))","v":"Ford"},{"$f":"IF(ISNA(VLOOKUP($I14,'Cars & Results'!$A$6:$I$317,L$5,FALSE)),\"Invalid Number\",VLOOKUP($I14,'Cars & Results'!$A$6:$K$317,L$5,FALSE))","v":"Rick Ware Racing"},{"$f":"IF(HLOOKUP(M$5,$B$6:$I$15,Points!$A10+1,FALSE)=\"TBD\",\"\",VLOOKUP(HLOOKUP(M$5,$B$6:$I$15,Points!$A10+1,FALSE),'Cars & Results'!$A$7:$BZ$317,2*M$5+6,FALSE))","v":5},{"$f":"IF(HLOOKUP(M$5,$B$6:$I$15,Points!$A10+1,FALSE)=\"TBD\",\"\",IF(VLOOKUP(HLOOKUP(M$5,$B$6:$I$15,Points!$A10+1,FALSE),'Cars & Results'!$A$7:$BZ$317,2*M$5+5)<=10,M14*3,0))","v":0},{"$f":"IF(HLOOKUP(O$5,$B$6:$I$15,Points!$A10+1,FALSE)=\"TBD\",\"\",VLOOKUP(HLOOKUP(O$5,$B$6:$I$15,Points!$A10+1,FALSE),'Cars & Results'!$A$7:$BZ$317,2*O$5+6,FALSE))","v":3},{"$f":"IF(HLOOKUP(O$5,$B$6:$I$15,Points!$A10+1,FALSE)=\"TBD\",\"\",IF(VLOOKUP(HLOOKUP(O$5,$B$6:$I$15,Points!$A10+1,FALSE),'Cars & Results'!$A$7:$BZ$317,2*O$5+5)<=10,O14*3,0))","v":0},{"$f":"IF(HLOOKUP(Q$5,$B$6:$I$15,Points!$A10+1,FALSE)=\"TBD\",\"\",VLOOKUP(HLOOKUP(Q$5,$B$6:$I$15,Points!$A10+1,FALSE),'Cars & Results'!$A$7:$BZ$317,2*Q$5+6,FALSE))","v":1},{"$f":"IF(HLOOKUP(Q$5,$B$6:$I$15,Points!$A10+1,FALSE)=\"TBD\",\"\",IF(VLOOKUP(HLOOKUP(Q$5,$B$6:$I$15,Points!$A10+1,FALSE),'Cars & Results'!$A$7:$BZ$317,2*Q$5+5)<=10,Q14*3,0))","v":0},{"$f":"IF(HLOOKUP(S$5,$B$6:$I$15,Points!$A10+1,FALSE)=\"TBD\",\"\",VLOOKUP(HLOOKUP(S$5,$B$6:$I$15,Points!$A10+1,FALSE),'Cars & Results'!$A$7:$BZ$317,2*S$5+6,FALSE))","v":1},{"$f":"IF(HLOOKUP(S$5,$B$6:$I$15,Points!$A10+1,FALSE)=\"TBD\",\"\",IF(VLOOKUP(HLOOKUP(S$5,$B$6:$I$15,Points!$A10+1,FALSE),'Cars & Results'!$A$7:$BZ$317,2*S$5+5)<=10,S14*3,0))","v":0},{"$f":"IF(HLOOKUP(U$5,$B$6:$I$15,Points!$A10+1,FALSE)=\"TBD\",\"\",VLOOKUP(HLOOKUP(U$5,$B$6:$I$15,Points!$A10+1,FALSE),'Cars & Results'!$A$7:$BZ$317,2*U$5+6,FALSE))","v":6},{"$f":"IF(HLOOKUP(U$5,$B$6:$I$15,Points!$A10+1,FALSE)=\"TBD\",\"\",IF(VLOOKUP(HLOOKUP(U$5,$B$6:$I$15,Points!$A10+1,FALSE),'Cars & Results'!$A$7:$BZ$317,2*U$5+5)<=10,U14*3,0))","v":0},{"$f":"IF(HLOOKUP(W$5,$B$6:$I$15,Points!$A10+1,FALSE)=\"TBD\",\"\",VLOOKUP(HLOOKUP(W$5,$B$6:$I$15,Points!$A10+1,FALSE),'Cars & Results'!$A$7:$BZ$317,2*W$5+6,FALSE))","v":4},{"$f":"IF(HLOOKUP(W$5,$B$6:$I$15,Points!$A10+1,FALSE)=\"TBD\",\"\",IF(VLOOKUP(HLOOKUP(W$5,$B$6:$I$15,Points!$A10+1,FALSE),'Cars & Results'!$A$7:$BZ$317,2*W$5+5)<=10,W14*3,0))","v":0},{"$f":"IF(HLOOKUP(Y$5,$B$6:$I$15,Points!$A10+1,FALSE)=\"TBD\",\"\",VLOOKUP(HLOOKUP(Y$5,$B$6:$I$15,Points!$A10+1,FALSE),'Cars & Results'!$A$7:$BZ$317,2*Y$5+6,FALSE))","v":5},{"$f":"IF(HLOOKUP(Y$5,$B$6:$I$15,Points!$A10+1,FALSE)=\"TBD\",\"\",IF(VLOOKUP(HLOOKUP(Y$5,$B$6:$I$15,Points!$A10+1,FALSE),'Cars & Results'!$A$7:$BZ$317,2*Y$5+5)<=10,Y14*3,0))","v":0},{"$f":"IF(HLOOKUP(AA$5,$B$6:$I$15,Points!$A10+1,FALSE)=\"TBD\",\"\",VLOOKUP(HLOOKUP(AA$5,$B$6:$I$15,Points!$A10+1,FALSE),'Cars & Results'!$A$7:$BZ$317,2*AA$5+6,FALSE))","v":1},{"$f":"IF(HLOOKUP(AA$5,$B$6:$I$15,Points!$A10+1,FALSE)=\"TBD\",\"\",IF(VLOOKUP(HLOOKUP(AA$5,$B$6:$I$15,Points!$A10+1,FALSE),'Cars & Results'!$A$7:$BZ$317,2*AA$5+5)<=10,AA14*3,0))","v":0}]
[{"$f":"VLOOKUP(HLOOKUP('Pick Distribution'!$P$2,$B$6:$I$15,10),'Current Owner Standings'!$A$71:$B$480,2,FALSE)","v":32},4,23,"00",96,7,72,66,15,{"$f":"IF(ISNA(VLOOKUP($I15,'Cars & Results'!$A$6:$I$317,J$5,FALSE)),\"Invalid Number\",VLOOKUP($I15,'Cars & Results'!$A$6:$K$317,J$5,FALSE))","v":"Ross Chastain (i)"},{"$f":"IF(ISNA(VLOOKUP($I15,'Cars & Results'!$A$6:$I$317,K$5,FALSE)),\"Invalid Number\",VLOOKUP($I15,'Cars & Results'!$A$6:$K$317,K$5,FALSE))","v":"Chevrolet"},{"$f":"IF(ISNA(VLOOKUP($I15,'Cars & Results'!$A$6:$I$317,L$5,FALSE)),\"Invalid Number\",VLOOKUP($I15,'Cars & Results'!$A$6:$K$317,L$5,FALSE))","v":"Premium Motorsports"},{"$f":"IF(HLOOKUP(M$5,$B$6:$I$15,Points!$A11+1,FALSE)=\"TBD\",\"\",VLOOKUP(HLOOKUP(M$5,$B$6:$I$15,Points!$A11+1,FALSE),'Cars & Results'!$A$7:$BZ$317,2*M$5+6,FALSE))","v":48},0,{"$f":"IF(HLOOKUP(O$5,$B$6:$I$15,Points!$A11+1,FALSE)=\"TBD\",\"\",VLOOKUP(HLOOKUP(O$5,$B$6:$I$15,Points!$A11+1,FALSE),'Cars & Results'!$A$7:$BZ$317,2*O$5+6,FALSE))","v":4},0,{"$f":"IF(HLOOKUP(Q$5,$B$6:$I$15,Points!$A11+1,FALSE)=\"TBD\",\"\",VLOOKUP(HLOOKUP(Q$5,$B$6:$I$15,Points!$A11+1,FALSE),'Cars & Results'!$A$7:$BZ$317,2*Q$5+6,FALSE))","v":0},0,{"$f":"IF(HLOOKUP(S$5,$B$6:$I$15,Points!$A11+1,FALSE)=\"TBD\",\"\",VLOOKUP(HLOOKUP(S$5,$B$6:$I$15,Points!$A11+1,FALSE),'Cars & Results'!$A$7:$BZ$317,2*S$5+6,FALSE))","v":13},0,{"$f":"IF(HLOOKUP(U$5,$B$6:$I$15,Points!$A11+1,FALSE)=\"TBD\",\"\",VLOOKUP(HLOOKUP(U$5,$B$6:$I$15,Points!$A11+1,FALSE),'Cars & Results'!$A$7:$BZ$317,2*U$5+6,FALSE))","v":5},0,{"$f":"IF(HLOOKUP(W$5,$B$6:$I$15,Points!$A11+1,FALSE)=\"TBD\",\"\",VLOOKUP(HLOOKUP(W$5,$B$6:$I$15,Points!$A11+1,FALSE),'Cars & Results'!$A$7:$BZ$317,2*W$5+6,FALSE))","v":3},0,{"$f":"IF(HLOOKUP(Y$5,$B$6:$I$15,Points!$A11+1,FALSE)=\"TBD\",\"\",VLOOKUP(HLOOKUP(Y$5,$B$6:$I$15,Points!$A11+1,FALSE),'Cars & Results'!$A$7:$BZ$317,2*Y$5+6,FALSE))","v":1},0,{"$f":"IF(HLOOKUP(AA$5,$B$6:$I$15,Points!$A11+1,FALSE)=\"TBD\",\"\",VLOOKUP(HLOOKUP(AA$5,$B$6:$I$15,Points!$A11+1,FALSE),'Cars & Results'!$A$7:$BZ$317,2*AA$5+6,FALSE))","v":11},{"$f":"IF(HLOOKUP(AA$5,$B$6:$I$15,Points!$A11+1,FALSE)=\"TBD\",\"\",IF(AND(VLOOKUP(HLOOKUP(AA$5,$B$6:$I$15,Points!$A11+1,FALSE),'Cars & Results'!$A$7:$BZ$317,2*AA$5+5)<=3,$A$15<=25),AA15*1,IF(AND(VLOOKUP(HLOOKUP(AA$5,$B$6:$I$15,Points!$A11+1,FALSE),'Cars & Results'!$A$7:$BZ$317,2*AA$5+5)<=10,$A$15>25),AA15*3,0)))","v":0}]
[null,null,null,null,null,null,null,null,null,null,null,"Segment 1",null,{"$f":"IF(INDIRECT(ADDRESS(321,5+(M5*2),1,1,\"Cars & Results\"),TRUE)=\"Y\",IF(ISERROR(MATCH(INDIRECT(ADDRESS(318,5+(M5*2),1,1,\"Cars & Results\"),TRUE),B7:B15,0))=TRUE,0,10),\"\")","v":0},null,{"$f":"IF(INDIRECT(ADDRESS(321,5+(O5*2),1,1,\"Cars & Results\"),TRUE)=\"Y\",IF(ISERROR(MATCH(INDIRECT(ADDRESS(318,5+(O5*2),1,1,\"Cars & Results\"),TRUE),C7:C15,0))=TRUE,0,10),\"\")","v":0},null,{"$f":"IF(INDIRECT(ADDRESS(321,5+(Q5*2),1,1,\"Cars & Results\"),TRUE)=\"Y\",IF(ISERROR(MATCH(INDIRECT(ADDRESS(318,5+(Q5*2),1,1,\"Cars & Results\"),TRUE),D7:D15,0))=TRUE,0,10),\"\")","v":0},null,{"$f":"IF(INDIRECT(ADDRESS(321,5+(S5*2),1,1,\"Cars & Results\"),TRUE)=\"Y\",IF(ISERROR(MATCH(INDIRECT(ADDRESS(318,5+(S5*2),1,1,\"Cars & Results\"),TRUE),E7:E15,0))=TRUE,0,10),\"\")","v":0},null,{"$f":"IF(INDIRECT(ADDRESS(321,5+(U5*2),1,1,\"Cars & Results\"),TRUE)=\"Y\",IF(ISERROR(MATCH(INDIRECT(ADDRESS(318,5+(U5*2),1,1,\"Cars & Results\"),TRUE),F7:F15,0))=TRUE,0,10),\"\")","v":0},null,{"$f":"IF(INDIRECT(ADDRESS(321,5+(W5*2),1,1,\"Cars & Results\"),TRUE)=\"Y\",IF(ISERROR(MATCH(INDIRECT(ADDRESS(318,5+(W5*2),1,1,\"Cars & Results\"),TRUE),G7:G15,0))=TRUE,0,10),\"\")","v":10},null,{"$f":"IF(INDIRECT(ADDRESS(321,5+(Y5*2),1,1,\"Cars & Results\"),TRUE)=\"Y\",IF(ISERROR(MATCH(INDIRECT(ADDRESS(318,5+(Y5*2),1,1,\"Cars & Results\"),TRUE),H7:H15,0))=TRUE,0,10),\"\")","v":0},null,{"$f":"IF(INDIRECT(ADDRESS(321,5+(AA5*2),1,1,\"Cars & Results\"),TRUE)=\"Y\",IF(ISERROR(MATCH(INDIRECT(ADDRESS(318,5+(AA5*2),1,1,\"Cars & Results\"),TRUE),I7:I15,0))=TRUE,0,10),\"\")","v":10}]
[null,null,null,null,null,null,null,null,null,null,null,"Segment 2",null,{"$f":"IF(INDIRECT(ADDRESS(321,5+(M5*2),1,1,\"Cars & Results\"),TRUE)=\"Y\",IF(ISERROR(MATCH(INDIRECT(ADDRESS(319,5+(M5*2),1,1,\"Cars & Results\"),TRUE),B7:B15,0))=TRUE,0,10),\"\")","v":0},null,{"$f":"IF(INDIRECT(ADDRESS(321,5+(O5*2),1,1,\"Cars & Results\"),TRUE)=\"Y\",IF(ISERROR(MATCH(INDIRECT(ADDRESS(319,5+(O5*2),1,1,\"Cars & Results\"),TRUE),C7:C15,0))=TRUE,0,10),\"\")","v":0},null,{"$f":"IF(INDIRECT(ADDRESS(321,5+(Q5*2),1,1,\"Cars & Results\"),TRUE)=\"Y\",IF(ISERROR(MATCH(INDIRECT(ADDRESS(319,5+(Q5*2),1,1,\"Cars & Results\"),TRUE),D7:D15,0))=TRUE,0,10),\"\")","v":0},null,{"$f":"IF(INDIRECT(ADDRESS(321,5+(S5*2),1,1,\"Cars & Results\"),TRUE)=\"Y\",IF(ISERROR(MATCH(INDIRECT(ADDRESS(319,5+(S5*2),1,1,\"Cars & Results\"),TRUE),E7:E15,0))=TRUE,0,10),\"\")","v":0},null,{"$f":"IF(INDIRECT(ADDRESS(321,5+(U5*2),1,1,\"Cars & Results\"),TRUE)=\"Y\",IF(ISERROR(MATCH(INDIRECT(ADDRESS(319,5+(U5*2),1,1,\"Cars & Results\"),TRUE),F7:F15,0))=TRUE,0,10),\"\")","v":0},null,{"$f":"IF(INDIRECT(ADDRESS(321,5+(W5*2),1,1,\"Cars & Results\"),TRUE)=\"Y\",IF(ISERROR(MATCH(INDIRECT(ADDRESS(319,5+(W5*2),1,1,\"Cars & Results\"),TRUE),G7:G15,0))=TRUE,0,10),\"\")","v":0},null,{"$f":"IF(INDIRECT(ADDRESS(321,5+(Y5*2),1,1,\"Cars & Results\"),TRUE)=\"Y\",IF(ISERROR(MATCH(INDIRECT(ADDRESS(319,5+(Y5*2),1,1,\"Cars & Results\"),TRUE),H7:H15,0))=TRUE,0,10),\"\")","v":0},null,{"$f":"IF(INDIRECT(ADDRESS(321,5+(AA5*2),1,1,\"Cars & Results\"),TRUE)=\"Y\",IF(ISERROR(MATCH(INDIRECT(ADDRESS(319,5+(AA5*2),1,1,\"Cars & Results\"),TRUE),I7:I15,0))=TRUE,0,10),\"\")","v":0}]
[null,null,null,null,null,null,null,null,null,null,null,"Segment 3",null,{"$f":"IF(INDIRECT(ADDRESS(321,5+(M5*2),1,1,\"Cars & Results\"),TRUE)=\"Y\",IF(ISERROR(MATCH(INDIRECT(ADDRESS(320,5+(M5*2),1,1,\"Cars & Results\"),TRUE),B7:B15,0))=TRUE,0,15),\"\")","v":0},null,{"$f":"IF(INDIRECT(ADDRESS(321,5+(O5*2),1,1,\"Cars & Results\"),TRUE)=\"Y\",IF(ISERROR(MATCH(INDIRECT(ADDRESS(320,5+(O5*2),1,1,\"Cars & Results\"),TRUE),C7:C15,0))=TRUE,0,15),\"\")","v":0},null,{"$f":"IF(INDIRECT(ADDRESS(321,5+(Q5*2),1,1,\"Cars & Results\"),TRUE)=\"Y\",IF(ISERROR(MATCH(INDIRECT(ADDRESS(320,5+(Q5*2),1,1,\"Cars & Results\"),TRUE),D7:D15,0))=TRUE,0,15),\"\")","v":0},null,{"$f":"IF(INDIRECT(ADDRESS(321,5+(S5*2),1,1,\"Cars & Results\"),TRUE)=\"Y\",IF(ISERROR(MATCH(INDIRECT(ADDRESS(320,5+(S5*2),1,1,\"Cars & Results\"),TRUE),E7:E15,0))=TRUE,0,15),\"\")","v":0},null,{"$f":"IF(INDIRECT(ADDRESS(321,5+(U5*2),1,1,\"Cars & Results\"),TRUE)=\"Y\",IF(ISERROR(MATCH(INDIRECT(ADDRESS(320,5+(U5*2),1,1,\"Cars & Results\"),TRUE),F7:F15,0))=TRUE,0,15),\"\")","v":0},null,{"$f":"IF(INDIRECT(ADDRESS(321,5+(W5*2),1,1,\"Cars & Results\"),TRUE)=\"Y\",IF(ISERROR(MATCH(INDIRECT(ADDRESS(320,5+(W5*2),1,1,\"Cars & Results\"),TRUE),G7:G15,0))=TRUE,0,15),\"\")","v":0},null,{"$f":"IF(INDIRECT(ADDRESS(321,5+(Y5*2),1,1,\"Cars & Results\"),TRUE)=\"Y\",IF(ISERROR(MATCH(INDIRECT(ADDRESS(320,5+(Y5*2),1,1,\"Cars & Results\"),TRUE),H7:H15,0))=TRUE,0,15),\"\")","v":0},null,{"$f":"IF(INDIRECT(ADDRESS(321,5+(AA5*2),1,1,\"Cars & Results\"),TRUE)=\"Y\",IF(ISERROR(MATCH(INDIRECT(ADDRESS(320,5+(AA5*2),1,1,\"Cars & Results\"),TRUE),I7:I15,0))=TRUE,0,15),\"\")","v":0}]
[null,{"$f":"SUM(B7:B15)","v":270},289,242,338,249,284,278,229,null,null,null,{"$f":"SUM(M7:M15)","v":178},null,{"$f":"SUM(O7:O15)","v":141},null,{"$f":"SUM(Q7:Q15)","v":153},null,{"$f":"SUM(S7:S15)","v":162},null,{"$f":"SUM(U7:U15)","v":145},null,{"$f":"SUM(W7:W15)","v":152},null,{"$f":"SUM(Y7:Y15)","v":113},null,{"$f":"SUM(AA7:AA15)","v":167}]
[null,null,null,null,null,null,null,null,null,null,null,null,null,{"$f":"SUM(N7:N19)","v":0},null,{"$f":"SUM(P7:P19)","v":0},null,{"$f":"SUM(R7:R19)","v":20.5},null,{"$f":"SUM(T7:T19)","v":17},null,{"$f":"SUM(V7:V19)","v":0},null,{"$f":"SUM(X7:X19)","v":10},null,{"$f":"SUM(Z7:Z19)","v":0},null,{"$f":"SUM(AB7:AB19)","v":10}]
[null,null,null,null,null,null,null,null,null,null,null,"Race Total",{"$f":"M19+N20","v":178},null,{"$f":"O19+P20","v":141},null,{"$f":"Q19+R20","v":173.5},null,{"$f":"S19+T20","v":179},null,{"$f":"U19+V20","v":145},null,{"$f":"W19+X20","v":162},null,{"$f":"Y19+Z20","v":113},null,{"$f":"AA19+AB20","v":177},null,{"$f":"SUM(M21:AB21)","v":1268.5}]
[null,null,null,null,null,null,null,null,"1-8"]
[null,null,null,null,null,null,null,null,"9-16"]
[null,null,null,null,null,null,null,null,"17-23"]
[null,null,null,null,null,null,null,null,"24-30"]
[null,null,null,null,null,null,null,null,"31-35"]
[null,null,null,null,null,null,null,null,">35"]
[null,null,null,null,null,null,null,null,"Provisional"]

{"sheet":"Jeff Buehrle","index":9,"n_rows":28,"n_cols":29,"rows_kept":28,"cut":false,"hidden":false,"merged":[[4,26,4,27],[20,26,20,27],[4,24,4,25],[4,20,4,21],[4,22,4,23],[20,22,20,23],[20,24,20,25],[20,20,20,21],[1,26,1,27],[2,26,2,27],[0,26,0,27],[3,26,3,27],[3,20,3,21],[0,20,0,21],[0,22,0,23],[0,24,0,25],[1,22,1,23],[1,24,1,25],[2,20,2,21],[2,22,2,23],[2,24,2,25],[3,22,3,23],[3,24,3,25],[1,20,1,21],[20,12,20,13],[20,14,20,15],[20,16,20,17],[20,18,20,19],[4,14,4,15],[4,16,4,17],[4,18,4,19],[4,12,4,13],[0,12,0,13],[0,14,0,15],[0,16,0,17],[0,18,0,19],[2,12,2,13],[2,14,2,15],[1,12,1,13],[1,14,1,15],[1,16,1,17],[1,18,1,19],[3,12,3,13],[3,14,3,15],[2,16,2,17],[3,16,3,17],[2,18,2,19],[3,18,3,19]]}
[null,null,null,null,null,null,null,null,null,null,null,null,{"$f":"VLOOKUP(M$5,Schedule!$A$8:$G$44,2,FALSE)","v":"2018-07-14"},null,{"$f":"VLOOKUP(O$5,Schedule!$A$8:$G$44,2,FALSE)","v":"2018-07-22"},null,{"$f":"VLOOKUP(Q$5,Schedule!$A$8:$G$44,2,FALSE)","v":"2018-07-29"},null,{"$f":"VLOOKUP(S$5,Schedule!$A$8:$G$44,2,FALSE)","v":"2018-08-05"},null,{"$f":"VLOOKUP(U$5,Schedule!$A$8:$G$44,2,FALSE)","v":"2018-08-12"},null,{"$f":"VLOOKUP(W$5,Schedule!$A$8:$G$44,2,FALSE)","v":"2018-08-18"},null,{"$f":"VLOOKUP(Y$5,Schedule!$A$8:$G$44,2,FALSE)","v":"2018-09-02"},null,{"$f":"VLOOKUP(AA$5,Schedule!$A$8:$G$44,2,FALSE)","v":"2018-09-09"}]
[null,null,null,null,null,null,null,null,null,null,null,null,{"$f":"VLOOKUP(M$5,Schedule!$A$8:$G$44,3,FALSE)","v":"Quaker State 400"},null,{"$f":"VLOOKUP(O$5,Schedule!$A$8:$G$44,3,FALSE)","v":"New Hampshire 301"},null,{"$f":"VLOOKUP(Q$5,Schedule!$A$8:$G$44,3,FALSE)","v":"Gander Outdoors 400"},null,{"$f":"VLOOKUP(S$5,Schedule!$A$8:$G$44,3,FALSE)","v":"Go Bowling at The Glen"},null,{"$f":"VLOOKUP(U$5,Schedule!$A$8:$G$44,3,FALSE)","v":"Pure Michigan 400"},null,{"$f":"VLOOKUP(W$5,Schedule!$A$8:$G$44,3,FALSE)","v":"Bass Pro Shops NRA Night Race"},null,{"$f":"VLOOKUP(Y$5,Schedule!$A$8:$G$44,3,FALSE)","v":"Bojangles' Southern 500"},null,{"$f":"VLOOKUP(AA$5,Schedule!$A$8:$G$44,3,FALSE)","v":"Big Machine Vodka 400 at the Brickyard"}]
[null,null,null,null,null,null,null,null,null,null,null,null,{"$f":"VLOOKUP(M$5,Schedule!$A$8:$G$44,7,FALSE)","v":"1900-06-08"},null,{"$f":"VLOOKUP(O$5,Schedule!$A$8:$G$44,7,FALSE)","v":"1900-05-29"},null,{"$f":"VLOOKUP(Q$5,Schedule!$A$8:$G$44,7,FALSE)","v":"1900-04-09"},null,{"$f":"VLOOKUP(S$5,Schedule!$A$8:$G$44,7,FALSE)","v":"1900-02-09"},null,{"$f":"VLOOKUP(U$5,Schedule!$A$8:$G$44,7,FALSE)","v":"1900-04-29"},null,{"$f":"VLOOKUP(W$5,Schedule!$A$8:$G$44,7,FALSE)","v":"1900-09-06"},null,{"$f":"VLOOKUP(Y$5,Schedule!$A$8:$G$44,7,FALSE)","v":"1900-07-18"},null,{"$f":"VLOOKUP(AA$5,Schedule!$A$8:$G$44,7,FALSE)","v":"1900-04-09"}]
[null,null,null,null,null,null,null,null,null,null,null,null,{"$f":"VLOOKUP(M$5,Schedule!$A$4:$G$44,4,FALSE)","v":"Kentucky Speedway"},null,{"$f":"VLOOKUP(O$5,Schedule!$A$4:$G$44,4,FALSE)","v":"New Hampshire Motor Speedway"},null,{"$f":"VLOOKUP(Q$5,Schedule!$A$4:$G$44,4,FALSE)","v":"Pocono Raceway"},null,{"$f":"VLOOKUP(S$5,Schedule!$A$4:$G$44,4,FALSE)","v":"Watkins Glen International"},null,{"$f":"VLOOKUP(U$5,Schedule!$A$4:$G$44,4,FALSE)","v":"Michigan International Speedway"},null,{"$f":"VLOOKUP(W$5,Schedule!$A$4:$G$44,4,FALSE)","v":"Bristol Motor Speedway"},null,{"$f":"VLOOKUP(Y$5,Schedule!$A$4:$G$44,4,FALSE)","v":"Darlington Raceway"},null,{"$f":"VLOOKUP(AA$5,Schedule!$A$4:$G$44,4,FALSE)","v":"Indianapolis Motor Speedway"}]
["Owner","Week","Week","Week","Week","Week","Week","Week","Week",2,3,4,19,null,20,null,21,null,22,null,23,null,24,null,25,null,26,null,"Total"]
["Points",19,20,21,22,23,24,25,26,"Driver","Make","Sponsor","Points","Bonus","Points","Bonus","Points","Bonus","Points","Bonus","Points","Bonus","Points","Bonus","Points","Bonus","Points","Bonus","Points"]
[{"$f":"VLOOKUP(HLOOKUP('Pick Distribution'!$P$2,$B$6:$I$15,$J$5),'Current Owner Standings'!$A$71:$B$480,2,FALSE)","v":2},78,78,18,18,2,2,18,4,{"$f":"IF(ISNA(VLOOKUP($I7,'Cars & Results'!$A$6:$I$317,J$5,FALSE)),\"Invalid Number\",VLOOKUP($I7,'Cars & Results'!$A$6:$K$317,J$5,FALSE))","v":"Kevin Harvick"},{"$f":"IF(ISNA(VLOOKUP($I7,'Cars & Results'!$A$6:$I$317,K$5,FALSE)),\"Invalid Number\",VLOOKUP($I7,'Cars & Results'!$A$6:$K$317,K$5,FALSE))","v":"Ford"},{"$f":"IF(ISNA(VLOOKUP($I7,'Cars & Results'!$A$6:$I$317,L$5,FALSE)),\"Invalid Number\",VLOOKUP($I7,'Cars & Results'!$A$6:$K$317,L$5,FALSE))","v":"Stewart-Haas Racing"},{"$f":"IF(HLOOKUP(M$5,$B$6:$I$15,Points!$A3+1,FALSE)=\"TBD\",\"\",VLOOKUP(HLOOKUP(M$5,$B$6:$I$15,Points!$A3+1,FALSE),'Cars & Results'!$A$7:$BZ$317,2*M$5+6,FALSE))","v":60},{"$f":"IF(HLOOKUP(M$5,$B$6:$I$15,Points!$A3+1,FALSE)=\"TBD\",\"\",0)","v":0},{"$f":"IF(HLOOKUP(O$5,$B$6:$I$15,Points!$A3+1,FALSE)=\"TBD\",\"\",VLOOKUP(HLOOKUP(O$5,$B$6:$I$15,Points!$A3+1,FALSE),'Cars & Results'!$A$7:$BZ$317,2*O$5+6,FALSE))","v":51},{"$f":"IF(HLOOKUP(O$5,$B$6:$I$15,Points!$A3+1,FALSE)=\"TBD\",\"\",0)","v":0},{"$f":"IF(HLOOKUP(Q$5,$B$6:$I$15,Points!$A3+1,FALSE)=\"TBD\",\"\",VLOOKUP(HLOOKUP(Q$5,$B$6:$I$15,Points!$A3+1,FALSE),'Cars & Results'!$A$7:$BZ$317,2*Q$5+6,FALSE))","v":47},{"$f":"IF(HLOOKUP(Q$5,$B$6:$I$15,Points!$A3+1,FALSE)=\"TBD\",\"\",0)","v":0},{"$f":"IF(HLOOKUP(S$5,$B$6:$I$15,Points!$A3+1,FALSE)=\"TBD\",\"\",VLOOKUP(HLOOKUP(S$5,$B$6:$I$15,Points!$A3+1,FALSE),'Cars & Results'!$A$7:$BZ$317,2*S$5+6,FALSE))","v":43},{"$f":"IF(HLOOKUP(S$5,$B$6:$I$15,Points!$A3+1,FALSE)=\"TBD\",\"\",0)","v":0},{"$f":"IF(HLOOKUP(U$5,$B$6:$I$15,Points!$A3+1,FALSE)=\"TBD\",\"\",VLOOKUP(HLOOKUP(U$5,$B$6:$I$15,Points!$A3+1,FALSE),'Cars & Results'!$A$7:$BZ$317,2*U$5+6,FALSE))","v":39},{"$f":"IF(HLOOKUP(U$5,$B$6:$I$15,Points!$A3+1,FALSE)=\"TBD\",\"\",0)","v":0},{"$f":"IF(HLOOKUP(W$5,$B$6:$I$15,Points!$A3+1,FALSE)=\"TBD\",\"\",VLOOKUP(HLOOKUP(W$5,$B$6:$I$15,Points!$A3+1,FALSE),'Cars & Results'!$A$7:$BZ$317,2*W$5+6,FALSE))","v":21},{"$f":"IF(HLOOKUP(W$5,$B$6:$I$15,Points!$A3+1,FALSE)=\"TBD\",\"\",0)","v":0},{"$f":"IF(HLOOKUP(Y$5,$B$6:$I$15,Points!$A3+1,FALSE)=\"TBD\",\"\",VLOOKUP(HLOOKUP(Y$5,$B$6:$I$15,Points!$A3+1,FALSE),'Cars & Results'!$A$7:$BZ$317,2*Y$5+6,FALSE))","v":35},{"$f":"IF(HLOOKUP(Y$5,$B$6:$I$15,Points!$A3+1,FALSE)=\"TBD\",\"\",0)","v":0},{"$f":"IF(HLOOKUP(AA$5,$B$6:$I$15,Points!$A3+1,FALSE)=\"TBD\",\"\",VLOOKUP(HLOOKUP(AA$5,$B$6:$I$15,Points!$A3+1,FALSE),'Cars & Results'!$A$7:$BZ$317,2*AA$5+6,FALSE))","v":33},{"$f":"IF(HLOOKUP(AA$5,$B$6:$I$15,Points!$A3+1,FALSE)=\"TBD\",\"\",0)","v":0}]
[{"$f":"VLOOKUP(HLOOKUP('Pick Distribution'!$P$2,$B$6:$I$15,3),'Current Owner Standings'!$A$71:$B$480,2,FALSE)","v":10},20,11,12,12,9,9,9,11,{"$f":"IF(ISNA(VLOOKUP($I8,'Cars & Results'!$A$6:$I$317,J$5,FALSE)),\"Invalid Number\",VLOOKUP($I8,'Cars & Results'!$A$6:$K$317,J$5,FALSE))","v":"Denny Hamlin"},{"$f":"IF(ISNA(VLOOKUP($I8,'Cars & Results'!$A$6:$I$317,K$5,FALSE)),\"Invalid Number\",VLOOKUP($I8,'Cars & Results'!$A$6:$K$317,K$5,FALSE))","v":"Toyota"},{"$f":"IF(ISNA(VLOOKUP($I8,'Cars & Results'!$A$6:$I$317,L$5,FALSE)),\"Invalid Number\",VLOOKUP($I8,'Cars & Results'!$A$6:$K$317,L$5,FALSE))","v":"Joe Gibbs Racing"},{"$f":"IF(HLOOKUP(M$5,$B$6:$I$15,Points!$A4+1,FALSE)=\"TBD\",\"\",VLOOKUP(HLOOKUP(M$5,$B$6:$I$15,Points!$A4+1,FALSE),'Cars & Results'!$A$7:$BZ$317,2*M$5+6,FALSE))","v":32},{"$f":"IF(HLOOKUP(M$5,$B$6:$I$15,Points!$A4+1,FALSE)=\"TBD\",\"\",IF(VLOOKUP(HLOOKUP(M$5,$B$6:$I$15,Points!$A4+1,FALSE),'Cars & Results'!$A$7:$BZ$317,2*M$5+5)=1,M8*0.25,0))","v":0},{"$f":"IF(HLOOKUP(O$5,$B$6:$I$15,Points!$A4+1,FALSE)=\"TBD\",\"\",VLOOKUP(HLOOKUP(O$5,$B$6:$I$15,Points!$A4+1,FALSE),'Cars & Results'!$A$7:$BZ$317,2*O$5+6,FALSE))","v":24},{"$f":"IF(HLOOKUP(O$5,$B$6:$I$15,Points!$A4+1,FALSE)=\"TBD\",\"\",IF(VLOOKUP(HLOOKUP(O$5,$B$6:$I$15,Points!$A4+1,FALSE),'Cars & Results'!$A$7:$BZ$317,2*O$5+5)=1,O8*0.25,0))","v":0},{"$f":"IF(HLOOKUP(Q$5,$B$6:$I$15,Points!$A4+1,FALSE)=\"TBD\",\"\",VLOOKUP(HLOOKUP(Q$5,$B$6:$I$15,Points!$A4+1,FALSE),'Cars & Results'!$A$7:$BZ$317,2*Q$5+6,FALSE))","v":28},{"$f":"IF(HLOOKUP(Q$5,$B$6:$I$15,Points!$A4+1,FALSE)=\"TBD\",\"\",IF(VLOOKUP(HLOOKUP(Q$5,$B$6:$I$15,Points!$A4+1,FALSE),'Cars & Results'!$A$7:$BZ$317,2*Q$5+5)=1,Q8*0.25,0))","v":0},{"$f":"IF(HLOOKUP(S$5,$B$6:$I$15,Points!$A4+1,FALSE)=\"TBD\",\"\",VLOOKUP(HLOOKUP(S$5,$B$6:$I$15,Points!$A4+1,FALSE),'Cars & Results'!$A$7:$BZ$317,2*S$5+6,FALSE))","v":27},{"$f":"IF(HLOOKUP(S$5,$B$6:$I$15,Points!$A4+1,FALSE)=\"TBD\",\"\",IF(VLOOKUP(HLOOKUP(S$5,$B$6:$I$15,Points!$A4+1,FALSE),'Cars & Results'!$A$7:$BZ$317,2*S$5+5)=1,S8*0.25,0))","v":0},{"$f":"IF(HLOOKUP(U$5,$B$6:$I$15,Points!$A4+1,FALSE)=\"TBD\",\"\",VLOOKUP(HLOOKUP(U$5,$B$6:$I$15,Points!$A4+1,FALSE),'Cars & Results'!$A$7:$BZ$317,2*U$5+6,FALSE))","v":28},{"$f":"IF(HLOOKUP(U$5,$B$6:$I$15,Points!$A4+1,FALSE)=\"TBD\",\"\",IF(VLOOKUP(HLOOKUP(U$5,$B$6:$I$15,Points!$A4+1,FALSE),'Cars & Results'!$A$7:$BZ$317,2*U$5+5)=1,U8*0.25,0))","v":0},{"$f":"IF(HLOOKUP(W$5,$B$6:$I$15,Points!$A4+1,FALSE)=\"TBD\",\"\",VLOOKUP(HLOOKUP(W$5,$B$6:$I$15,Points!$A4+1,FALSE),'Cars & Results'!$A$7:$BZ$317,2*W$5+6,FALSE))","v":50},{"$f":"IF(HLOOKUP(W$5,$B$6:$I$15,Points!$A4+1,FALSE)=\"TBD\",\"\",IF(VLOOKUP(HLOOKUP(W$5,$B$6:$I$15,Points!$A4+1,FALSE),'Cars & Results'!$A$7:$BZ$317,2*W$5+5)=1,W8*0.25,0))","v":0},{"$f":"IF(HLOOKUP(Y$5,$B$6:$I$15,Points!$A4+1,FALSE)=\"TBD\",\"\",VLOOKUP(HLOOKUP(Y$5,$B$6:$I$15,Points!$A4+1,FALSE),'Cars & Results'!$A$7:$BZ$317,2*Y$5+6,FALSE))","v":40},{"$f":"IF(HLOOKUP(Y$5,$B$6:$I$15,Points!$A4+1,FALSE)=\"TBD\",\"\",IF(VLOOKUP(HLOOKUP(Y$5,$B$6:$I$15,Points!$A4+1,FALSE),'Cars & Results'!$A$7:$BZ$317,2*Y$5+5)=1,Y8*0.25,0))","v":0},{"$f":"IF(HLOOKUP(AA$5,$B$6:$I$15,Points!$A4+1,FALSE)=\"TBD\",\"\",VLOOKUP(HLOOKUP(AA$5,$B$6:$I$15,Points!$A4+1,FALSE),'Cars & Results'!$A$7:$BZ$317,2*AA$5+6,FALSE))","v":42},{"$f":"IF(HLOOKUP(AA$5,$B$6:$I$15,Points!$A4+1,FALSE)=\"TBD\",\"\",IF(VLOOKUP(HLOOKUP(AA$5,$B$6:$I$15,Points!$A4+1,FALSE),'Cars & Results'!$A$7:$BZ$317,2*AA$5+5)=1,AA8*0.25,0))","v":0}]
[{"$f":"VLOOKUP(HLOOKUP('Pick Distribution'!$P$2,$B$6:$I$15,4),'Current Owner Standings'!$A$71:$B$480,2,FALSE)","v":20},21,1,1,1,1,1,1,19,{"$f":"IF(ISNA(VLOOKUP($I9,'Cars & Results'!$A$6:$I$317,J$5,FALSE)),\"Invalid Number\",VLOOKUP($I9,'Cars & Results'!$A$6:$K$317,J$5,FALSE))","v":"Daniel Suárez"},{"$f":"IF(ISNA(VLOOKUP($I9,'Cars & Results'!$A$6:$I$317,K$5,FALSE)),\"Invalid Number\",VLOOKUP($I9,'Cars & Results'!$A$6:$K$317,K$5,FALSE))","v":"Toyota"},{"$f":"IF(ISNA(VLOOKUP($I9,'Cars & Results'!$A$6:$I$317,L$5,FALSE)),\"Invalid Number\",VLOOKUP($I9,'Cars & Results'!$A$6:$K$317,L$5,FALSE))","v":"Joe Gibbs Racing"},{"$f":"IF(HLOOKUP(M$5,$B$6:$I$15,Points!$A5+1,FALSE)=\"TBD\",\"\",VLOOKUP(HLOOKUP(M$5,$B$6:$I$15,Points!$A5+1,FALSE),'Cars & Results'!$A$7:$BZ$317,2*M$5+6,FALSE))","v":33},{"$f":"IF(HLOOKUP(M$5,$B$6:$I$15,Points!$A5+1,FALSE)=\"TBD\",\"\",IF(VLOOKUP(HLOOKUP(M$5,$B$6:$I$15,Points!$A5+1,FALSE),'Cars & Results'!$A$7:$BZ$317,2*M$5+5)<=5,M9*0.5,0))","v":0},{"$f":"IF(HLOOKUP(O$5,$B$6:$I$15,Points!$A5+1,FALSE)=\"TBD\",\"\",VLOOKUP(HLOOKUP(O$5,$B$6:$I$15,Points!$A5+1,FALSE),'Cars & Results'!$A$7:$BZ$317,2*O$5+6,FALSE))","v":19},{"$f":"IF(HLOOKUP(O$5,$B$6:$I$15,Points!$A5+1,FALSE)=\"TBD\",\"\",IF(VLOOKUP(HLOOKUP(O$5,$B$6:$I$15,Points!$A5+1,FALSE),'Cars & Results'!$A$7:$BZ$317,2*O$5+5)<=5,O9*0.5,0))","v":0},{"$f":"IF(HLOOKUP(Q$5,$B$6:$I$15,Points!$A5+1,FALSE)=\"TBD\",\"\",VLOOKUP(HLOOKUP(Q$5,$B$6:$I$15,Points!$A5+1,FALSE),'Cars & Results'!$A$7:$BZ$317,2*Q$5+6,FALSE))","v":25},{"$f":"IF(HLOOKUP(Q$5,$B$6:$I$15,Points!$A5+1,FALSE)=\"TBD\",\"\",IF(VLOOKUP(HLOOKUP(Q$5,$B$6:$I$15,Points!$A5+1,FALSE),'Cars & Results'!$A$7:$BZ$317,2*Q$5+5)<=5,Q9*0.5,0))","v":0},{"$f":"IF(HLOOKUP(S$5,$B$6:$I$15,Points!$A5+1,FALSE)=\"TBD\",\"\",VLOOKUP(HLOOKUP(S$5,$B$6:$I$15,Points!$A5+1,FALSE),'Cars & Results'!$A$7:$BZ$317,2*S$5+6,FALSE))","v":35},{"$f":"IF(HLOOKUP(S$5,$B$6:$I$15,Points!$A5+1,FALSE)=\"TBD\",\"\",IF(VLOOKUP(HLOOKUP(S$5,$B$6:$I$15,Points!$A5+1,FALSE),'Cars & Results'!$A$7:$BZ$317,2*S$5+5)<=5,S9*0.5,0))","v":0},{"$f":"IF(HLOOKUP(U$5,$B$6:$I$15,Points!$A5+1,FALSE)=\"TBD\",\"\",VLOOKUP(HLOOKUP(U$5,$B$6:$I$15,Points!$A5+1,FALSE),'Cars & Results'!$A$7:$BZ$317,2*U$5+6,FALSE))","v":16},{"$f":"IF(HLOOKUP(U$5,$B$6:$I$15,Points!$A5+1,FALSE)=\"TBD\",\"\",IF(VLOOKUP(HLOOKUP(U$5,$B$6:$I$15,Points!$A5+1,FALSE),'Cars & Results'!$A$7:$BZ$317,2*U$5+5)<=5,U9*0.5,0))","v":0},{"$f":"IF(HLOOKUP(W$5,$B$6:$I$15,Points!$A5+1,FALSE)=\"TBD\",\"\",VLOOKUP(HLOOKUP(W$5,$B$6:$I$15,Points!$A5+1,FALSE),'Cars & Results'!$A$7:$BZ$317,2*W$5+6,FALSE))","v":8},{"$f":"IF(HLOOKUP(W$5,$B$6:$I$15,Points!$A5+1,FALSE)=\"TBD\",\"\",IF(VLOOKUP(HLOOKUP(W$5,$B$6:$I$15,Points!$A5+1,FALSE),'Cars & Results'!$A$7:$BZ$317,2*W$5+5)<=5,W9*0.5,0))","v":0},{"$f":"IF(HLOOKUP(Y$5,$B$6:$I$15,Points!$A5+1,FALSE)=\"TBD\",\"\",VLOOKUP(HLOOKUP(Y$5,$B$6:$I$15,Points!$A5+1,FALSE),'Cars & Results'!$A$7:$BZ$317,2*Y$5+6,FALSE))","v":30},{"$f":"IF(HLOOKUP(Y$5,$B$6:$I$15,Points!$A5+1,FALSE)=\"TBD\",\"\",IF(VLOOKUP(HLOOKUP(Y$5,$B$6:$I$15,Points!$A5+1,FALSE),'Cars & Results'!$A$7:$BZ$317,2*Y$5+5)<=5,Y9*0.5,0))","v":0},{"$f":"IF(HLOOKUP(AA$5,$B$6:$I$15,Points!$A5+1,FALSE)=\"TBD\",\"\",VLOOKUP(HLOOKUP(AA$5,$B$6:$I$15,Points!$A5+1,FALSE),'Cars & Results'!$A$7:$BZ$317,2*AA$5+6,FALSE))","v":24},{"$f":"IF(HLOOKUP(AA$5,$B$6:$I$15,Points!$A5+1,FALSE)=\"TBD\",\"\",IF(VLOOKUP(HLOOKUP(AA$5,$B$6:$I$15,Points!$A5+1,FALSE),'Cars & Results'!$A$7:$BZ$317,2*AA$5+5)<=5,AA9*0.5,0))","v":0}]
[{"$f":"VLOOKUP(HLOOKUP('Pick Distribution'!$P$2,$B$6:$I$15,5),'Current Owner Standings'!$A$71:$B$480,2,FALSE)","v":22},31,19,19,19,19,19,31,24,{"$f":"IF(ISNA(VLOOKUP($I10,'Cars & Results'!$A$6:$I$317,J$5,FALSE)),\"Invalid Number\",VLOOKUP($I10,'Cars & Results'!$A$6:$K$317,J$5,FALSE))","v":"William Byron (R)"},{"$f":"IF(ISNA(VLOOKUP($I10,'Cars & Results'!$A$6:$I$317,K$5,FALSE)),\"Invalid Number\",VLOOKUP($I10,'Cars & Results'!$A$6:$K$317,K$5,FALSE))","v":"Chevrolet"},{"$f":"IF(ISNA(VLOOKUP($I10,'Cars & Results'!$A$6:$I$317,L$5,FALSE)),\"Invalid Number\",VLOOKUP($I10,'Cars & Results'!$A$6:$K$317,L$5,FALSE))","v":"Hendrick Motorsports"},{"$f":"IF(HLOOKUP(M$5,$B$6:$I$15,Points!$A6+1,FALSE)=\"TBD\",\"\",VLOOKUP(HLOOKUP(M$5,$B$6:$I$15,Points!$A6+1,FALSE),'Cars & Results'!$A$7:$BZ$317,2*M$5+6,FALSE))","v":16},{"$f":"IF(HLOOKUP(M$5,$B$6:$I$15,Points!$A6+1,FALSE)=\"TBD\",\"\",IF(VLOOKUP(HLOOKUP(M$5,$B$6:$I$15,Points!$A6+1,FALSE),'Cars & Results'!$A$7:$BZ$317,2*M$5+5)<=5,M10*0.5,0))","v":0},{"$f":"IF(HLOOKUP(O$5,$B$6:$I$15,Points!$A6+1,FALSE)=\"TBD\",\"\",VLOOKUP(HLOOKUP(O$5,$B$6:$I$15,Points!$A6+1,FALSE),'Cars & Results'!$A$7:$BZ$317,2*O$5+6,FALSE))","v":15},{"$f":"IF(HLOOKUP(O$5,$B$6:$I$15,Points!$A6+1,FALSE)=\"TBD\",\"\",IF(VLOOKUP(HLOOKUP(O$5,$B$6:$I$15,Points!$A6+1,FALSE),'Cars & Results'!$A$7:$BZ$317,2*O$5+5)<=5,O10*0.5,0))","v":0},{"$f":"IF(HLOOKUP(Q$5,$B$6:$I$15,Points!$A6+1,FALSE)=\"TBD\",\"\",VLOOKUP(HLOOKUP(Q$5,$B$6:$I$15,Points!$A6+1,FALSE),'Cars & Results'!$A$7:$BZ$317,2*Q$5+6,FALSE))","v":41},{"$f":"IF(HLOOKUP(Q$5,$B$6:$I$15,Points!$A6+1,FALSE)=\"TBD\",\"\",IF(VLOOKUP(HLOOKUP(Q$5,$B$6:$I$15,Points!$A6+1,FALSE),'Cars & Results'!$A$7:$BZ$317,2*Q$5+5)<=5,Q10*0.5,0))","v":20.5},{"$f":"IF(HLOOKUP(S$5,$B$6:$I$15,Points!$A6+1,FALSE)=\"TBD\",\"\",VLOOKUP(HLOOKUP(S$5,$B$6:$I$15,Points!$A6+1,FALSE),'Cars & Results'!$A$7:$BZ$317,2*S$5+6,FALSE))","v":34},{"$f":"IF(HLOOKUP(S$5,$B$6:$I$15,Points!$A6+1,FALSE)=\"TBD\",\"\",IF(VLOOKUP(HLOOKUP(S$5,$B$6:$I$15,Points!$A6+1,FALSE),'Cars & Results'!$A$7:$BZ$317,2*S$5+5)<=5,S10*0.5,0))","v":17},{"$f":"IF(HLOOKUP(U$5,$B$6:$I$15,Points!$A6+1,FALSE)=\"TBD\",\"\",VLOOKUP(HLOOKUP(U$5,$B$6:$I$15,Points!$A6+1,FALSE),'Cars & Results'!$A$7:$BZ$317,2*U$5+6,FALSE))","v":26},{"$f":"IF(HLOOKUP(U$5,$B$6:$I$15,Points!$A6+1,FALSE)=\"TBD\",\"\",IF(VLOOKUP(HLOOKUP(U$5,$B$6:$I$15,Points!$A6+1,FALSE),'Cars & Results'!$A$7:$BZ$317,2*U$5+5)<=5,U10*0.5,0))","v":0},{"$f":"IF(HLOOKUP(W$5,$B$6:$I$15,Points!$A6+1,FALSE)=\"TBD\",\"\",VLOOKUP(HLOOKUP(W$5,$B$6:$I$15,Points!$A6+1,FALSE),'Cars & Results'!$A$7:$BZ$317,2*W$5+6,FALSE))","v":19},{"$f":"IF(HLOOKUP(W$5,$B$6:$I$15,Points!$A6+1,FALSE)=\"TBD\",\"\",IF(VLOOKUP(HLOOKUP(W$5,$B$6:$I$15,Points!$A6+1,FALSE),'Cars & Results'!$A$7:$BZ$317,2*W$5+5)<=5,W10*0.5,0))","v":0},{"$f":"IF(HLOOKUP(Y$5,$B$6:$I$15,Points!$A6+1,FALSE)=\"TBD\",\"\",VLOOKUP(HLOOKUP(Y$5,$B$6:$I$15,Points!$A6+1,FALSE),'Cars & Results'!$A$7:$BZ$317,2*Y$5+6,FALSE))","v":18},{"$f":"IF(HLOOKUP(Y$5,$B$6:$I$15,Points!$A6+1,FALSE)=\"TBD\",\"\",IF(VLOOKUP(HLOOKUP(Y$5,$B$6:$I$15,Points!$A6+1,FALSE),'Cars & Results'!$A$7:$BZ$317,2*Y$5+5)<=5,Y10*0.5,0))","v":0},{"$f":"IF(HLOOKUP(AA$5,$B$6:$I$15,Points!$A6+1,FALSE)=\"TBD\",\"\",VLOOKUP(HLOOKUP(AA$5,$B$6:$I$15,Points!$A6+1,FALSE),'Cars & Results'!$A$7:$BZ$317,2*AA$5+6,FALSE))","v":18},{"$f":"IF(HLOOKUP(AA$5,$B$6:$I$15,Points!$A6+1,FALSE)=\"TBD\",\"\",IF(VLOOKUP(HLOOKUP(AA$5,$B$6:$I$15,Points!$A6+1,FALSE),'Cars & Results'!$A$7:$BZ$317,2*AA$5+5)<=5,AA10*0.5,0))","v":0}]
[{"$f":"VLOOKUP(HLOOKUP('Pick Distribution'!$P$2,$B$6:$I$15,6),'Current Owner Standings'!$A$71:$B$480,2,FALSE)","v":27},37,37,95,95,95,95,95,95,{"$f":"IF(ISNA(VLOOKUP($I11,'Cars & Results'!$A$6:$I$317,J$5,FALSE)),\"Invalid Number\",VLOOKUP($I11,'Cars & Results'!$A$6:$K$317,J$5,FALSE))","v":"Regan Smith"},{"$f":"IF(ISNA(VLOOKUP($I11,'Cars & Results'!$A$6:$I$317,K$5,FALSE)),\"Invalid Number\",VLOOKUP($I11,'Cars & Results'!$A$6:$K$317,K$5,FALSE))","v":"Chevrolet"},{"$f":"IF(ISNA(VLOOKUP($I11,'Cars & Results'!$A$6:$I$317,L$5,FALSE)),\"Invalid Number\",VLOOKUP($I11,'Cars & Results'!$A$6:$K$317,L$5,FALSE))","v":"Leavine Family Racing"},{"$f":"IF(HLOOKUP(M$5,$B$6:$I$15,Points!$A7+1,FALSE)=\"TBD\",\"\",VLOOKUP(HLOOKUP(M$5,$B$6:$I$15,Points!$A7+1,FALSE),'Cars & Results'!$A$7:$BZ$317,2*M$5+6,FALSE))","v":14},{"$f":"IF(HLOOKUP(M$5,$B$6:$I$15,Points!$A7+1,FALSE)=\"TBD\",\"\",IF(VLOOKUP(HLOOKUP(M$5,$B$6:$I$15,Points!$A7+1,FALSE),'Cars & Results'!$A$7:$BZ$317,2*M$5+5)<=10,M11*1.5,0))","v":0},{"$f":"IF(HLOOKUP(O$5,$B$6:$I$15,Points!$A7+1,FALSE)=\"TBD\",\"\",VLOOKUP(HLOOKUP(O$5,$B$6:$I$15,Points!$A7+1,FALSE),'Cars & Results'!$A$7:$BZ$317,2*O$5+6,FALSE))","v":17},{"$f":"IF(HLOOKUP(O$5,$B$6:$I$15,Points!$A7+1,FALSE)=\"TBD\",\"\",IF(VLOOKUP(HLOOKUP(O$5,$B$6:$I$15,Points!$A7+1,FALSE),'Cars & Results'!$A$7:$BZ$317,2*O$5+5)<=10,O11*1.5,0))","v":0},{"$f":"IF(HLOOKUP(Q$5,$B$6:$I$15,Points!$A7+1,FALSE)=\"TBD\",\"\",VLOOKUP(HLOOKUP(Q$5,$B$6:$I$15,Points!$A7+1,FALSE),'Cars & Results'!$A$7:$BZ$317,2*Q$5+6,FALSE))","v":7},{"$f":"IF(HLOOKUP(Q$5,$B$6:$I$15,Points!$A7+1,FALSE)=\"TBD\",\"\",IF(VLOOKUP(HLOOKUP(Q$5,$B$6:$I$15,Points!$A7+1,FALSE),'Cars & Results'!$A$7:$BZ$317,2*Q$5+5)<=10,Q11*1.5,0))","v":0},{"$f":"IF(HLOOKUP(S$5,$B$6:$I$15,Points!$A7+1,FALSE)=\"TBD\",\"\",VLOOKUP(HLOOKUP(S$5,$B$6:$I$15,Points!$A7+1,FALSE),'Cars & Results'!$A$7:$BZ$317,2*S$5+6,FALSE))","v":16},{"$f":"IF(HLOOKUP(S$5,$B$6:$I$15,Points!$A7+1,FALSE)=\"TBD\",\"\",IF(VLOOKUP(HLOOKUP(S$5,$B$6:$I$15,Points!$A7+1,FALSE),'Cars & Results'!$A$7:$BZ$317,2*S$5+5)<=10,S11*1.5,0))","v":0},{"$f":"IF(HLOOKUP(U$5,$B$6:$I$15,Points!$A7+1,FALSE)=\"TBD\",\"\",VLOOKUP(HLOOKUP(U$5,$B$6:$I$15,Points!$A7+1,FALSE),'Cars & Results'!$A$7:$BZ$317,2*U$5+6,FALSE))","v":11},{"$f":"IF(HLOOKUP(U$5,$B$6:$I$15,Points!$A7+1,FALSE)=\"TBD\",\"\",IF(VLOOKUP(HLOOKUP(U$5,$B$6:$I$15,Points!$A7+1,FALSE),'Cars & Results'!$A$7:$BZ$317,2*U$5+5)<=10,U11*1.5,0))","v":0},{"$f":"IF(HLOOKUP(W$5,$B$6:$I$15,Points!$A7+1,FALSE)=\"TBD\",\"\",VLOOKUP(HLOOKUP(W$5,$B$6:$I$15,Points!$A7+1,FALSE),'Cars & Results'!$A$7:$BZ$317,2*W$5+6,FALSE))","v":22},{"$f":"IF(HLOOKUP(W$5,$B$6:$I$15,Points!$A7+1,FALSE)=\"TBD\",\"\",IF(VLOOKUP(HLOOKUP(W$5,$B$6:$I$15,Points!$A7+1,FALSE),'Cars & Results'!$A$7:$BZ$317,2*W$5+5)<=10,W11*1.5,0))","v":0},{"$f":"IF(HLOOKUP(Y$5,$B$6:$I$15,Points!$A7+1,FALSE)=\"TBD\",\"\",VLOOKUP(HLOOKUP(Y$5,$B$6:$I$15,Points!$A7+1,FALSE),'Cars & Results'!$A$7:$BZ$317,2*Y$5+6,FALSE))","v":13},{"$f":"IF(HLOOKUP(Y$5,$B$6:$I$15,Points!$A7+1,FALSE)=\"TBD\",\"\",IF(VLOOKUP(HLOOKUP(Y$5,$B$6:$I$15,Points!$A7+1,FALSE),'Cars & Results'!$A$7:$BZ$317,2*Y$5+5)<=10,Y11*1.5,0))","v":0},{"$f":"IF(HLOOKUP(AA$5,$B$6:$I$15,Points!$A7+1,FALSE)=\"TBD\",\"\",VLOOKUP(HLOOKUP(AA$5,$B$6:$I$15,Points!$A7+1,FALSE),'Cars & Results'!$A$7:$BZ$317,2*AA$5+6,FALSE))","v":17},{"$f":"IF(HLOOKUP(AA$5,$B$6:$I$15,Points!$A7+1,FALSE)=\"TBD\",\"\",IF(VLOOKUP(HLOOKUP(AA$5,$B$6:$I$15,Points!$A7+1,FALSE),'Cars & Results'!$A$7:$BZ$317,2*AA$5+5)<=10,AA11*1.5,0))","v":0}]
[{"$f":"VLOOKUP(HLOOKUP('Pick Distribution'!$P$2,$B$6:$I$15,7),'Current Owner Standings'!$A$71:$B$480,2,FALSE)","v":26},43,6,6,6,34,34,34,34,{"$f":"IF(ISNA(VLOOKUP($I12,'Cars & Results'!$A$6:$I$317,J$5,FALSE)),\"Invalid Number\",VLOOKUP($I12,'Cars & Results'!$A$6:$K$317,J$5,FALSE))","v":"Michael McDowell"},{"$f":"IF(ISNA(VLOOKUP($I12,'Cars & Results'!$A$6:$I$317,K$5,FALSE)),\"Invalid Number\",VLOOKUP($I12,'Cars & Results'!$A$6:$K$317,K$5,FALSE))","v":"Ford"},{"$f":"IF(ISNA(VLOOKUP($I12,'Cars & Results'!$A$6:$I$317,L$5,FALSE)),\"Invalid Number\",VLOOKUP($I12,'Cars & Results'!$A$6:$K$317,L$5,FALSE))","v":"Front Row Motorsports"},{"$f":"IF(HLOOKUP(M$5,$B$6:$I$15,Points!$A8+1,FALSE)=\"TBD\",\"\",VLOOKUP(HLOOKUP(M$5,$B$6:$I$15,Points!$A8+1,FALSE),'Cars & Results'!$A$7:$BZ$317,2*M$5+6,FALSE))","v":10},{"$f":"IF(HLOOKUP(M$5,$B$6:$I$15,Points!$A8+1,FALSE)=\"TBD\",\"\",IF(VLOOKUP(HLOOKUP(M$5,$B$6:$I$15,Points!$A8+1,FALSE),'Cars & Results'!$A$7:$BZ$317,2*M$5+5)<=10,M12*1.5,0))","v":0},{"$f":"IF(HLOOKUP(O$5,$B$6:$I$15,Points!$A8+1,FALSE)=\"TBD\",\"\",VLOOKUP(HLOOKUP(O$5,$B$6:$I$15,Points!$A8+1,FALSE),'Cars & Results'!$A$7:$BZ$317,2*O$5+6,FALSE))","v":22},{"$f":"IF(HLOOKUP(O$5,$B$6:$I$15,Points!$A8+1,FALSE)=\"TBD\",\"\",IF(VLOOKUP(HLOOKUP(O$5,$B$6:$I$15,Points!$A8+1,FALSE),'Cars & Results'!$A$7:$BZ$317,2*O$5+5)<=10,O12*1.5,0))","v":0},{"$f":"IF(HLOOKUP(Q$5,$B$6:$I$15,Points!$A8+1,FALSE)=\"TBD\",\"\",VLOOKUP(HLOOKUP(Q$5,$B$6:$I$15,Points!$A8+1,FALSE),'Cars & Results'!$A$7:$BZ$317,2*Q$5+6,FALSE))","v":19},{"$f":"IF(HLOOKUP(Q$5,$B$6:$I$15,Points!$A8+1,FALSE)=\"TBD\",\"\",IF(VLOOKUP(HLOOKUP(Q$5,$B$6:$I$15,Points!$A8+1,FALSE),'Cars & Results'!$A$7:$BZ$317,2*Q$5+5)<=10,Q12*1.5,0))","v":0},{"$f":"IF(HLOOKUP(S$5,$B$6:$I$15,Points!$A8+1,FALSE)=\"TBD\",\"\",VLOOKUP(HLOOKUP(S$5,$B$6:$I$15,Points!$A8+1,FALSE),'Cars & Results'!$A$7:$BZ$317,2*S$5+6,FALSE))","v":9},{"$f":"IF(HLOOKUP(S$5,$B$6:$I$15,Points!$A8+1,FALSE)=\"TBD\",\"\",IF(VLOOKUP(HLOOKUP(S$5,$B$6:$I$15,Points!$A8+1,FALSE),'Cars & Results'!$A$7:$BZ$317,2*S$5+5)<=10,S12*1.5,0))","v":0},{"$f":"IF(HLOOKUP(U$5,$B$6:$I$15,Points!$A8+1,FALSE)=\"TBD\",\"\",VLOOKUP(HLOOKUP(U$5,$B$6:$I$15,Points!$A8+1,FALSE),'Cars & Results'!$A$7:$BZ$317,2*U$5+6,FALSE))","v":12},{"$f":"IF(HLOOKUP(U$5,$B$6:$I$15,Points!$A8+1,FALSE)=\"TBD\",\"\",IF(VLOOKUP(HLOOKUP(U$5,$B$6:$I$15,Points!$A8+1,FALSE),'Cars & Results'!$A$7:$BZ$317,2*U$5+5)<=10,U12*1.5,0))","v":0},{"$f":"IF(HLOOKUP(W$5,$B$6:$I$15,Points!$A8+1,FALSE)=\"TBD\",\"\",VLOOKUP(HLOOKUP(W$5,$B$6:$I$15,Points!$A8+1,FALSE),'Cars & Results'!$A$7:$BZ$317,2*W$5+6,FALSE))","v":1},{"$f":"IF(HLOOKUP(W$5,$B$6:$I$15,Points!$A8+1,FALSE)=\"TBD\",\"\",IF(VLOOKUP(HLOOKUP(W$5,$B$6:$I$15,Points!$A8+1,FALSE),'Cars & Results'!$A$7:$BZ$317,2*W$5+5)<=10,W12*1.5,0))","v":0},{"$f":"IF(HLOOKUP(Y$5,$B$6:$I$15,Points!$A8+1,FALSE)=\"TBD\",\"\",VLOOKUP(HLOOKUP(Y$5,$B$6:$I$15,Points!$A8+1,FALSE),'Cars & Results'!$A$7:$BZ$317,2*Y$5+6,FALSE))","v":17},{"$f":"IF(HLOOKUP(Y$5,$B$6:$I$15,Points!$A8+1,FALSE)=\"TBD\",\"\",IF(VLOOKUP(HLOOKUP(Y$5,$B$6:$I$15,Points!$A8+1,FALSE),'Cars & Results'!$A$7:$BZ$317,2*Y$5+5)<=10,Y12*1.5,0))","v":0},{"$f":"IF(HLOOKUP(AA$5,$B$6:$I$15,Points!$A8+1,FALSE)=\"TBD\",\"\",VLOOKUP(HLOOKUP(AA$5,$B$6:$I$15,Points!$A8+1,FALSE),'Cars & Results'!$A$7:$BZ$317,2*AA$5+6,FALSE))","v":20},{"$f":"IF(HLOOKUP(AA$5,$B$6:$I$15,Points!$A8+1,FALSE)=\"TBD\",\"\",IF(VLOOKUP(HLOOKUP(AA$5,$B$6:$I$15,Points!$A8+1,FALSE),'Cars & Results'!$A$7:$BZ$317,2*AA$5+5)<=10,AA12*1.5,0))","v":0}]
[{"$f":"VLOOKUP(HLOOKUP('Pick Distribution'!$P$2,$B$6:$I$15,8),'Current Owner Standings'!$A$71:$B$480,2,FALSE)","v":31},32,32,32,32,32,32,32,32,{"$f":"IF(ISNA(VLOOKUP($I13,'Cars & Results'!$A$6:$I$317,J$5,FALSE)),\"Invalid Number\",VLOOKUP($I13,'Cars & Results'!$A$6:$K$317,J$5,FALSE))","v":"Matt DiBenedetto"},{"$f":"IF(ISNA(VLOOKUP($I13,'Cars & Results'!$A$6:$I$317,K$5,FALSE)),\"Invalid Number\",VLOOKUP($I13,'Cars & Results'!$A$6:$K$317,K$5,FALSE))","v":"Ford"},{"$f":"IF(ISNA(VLOOKUP($I13,'Cars & Results'!$A$6:$I$317,L$5,FALSE)),\"Invalid Number\",VLOOKUP($I13,'Cars & Results'!$A$6:$K$317,L$5,FALSE))","v":"Go Fas Racing"},{"$f":"IF(HLOOKUP(M$5,$B$6:$I$15,Points!$A9+1,FALSE)=\"TBD\",\"\",VLOOKUP(HLOOKUP(M$5,$B$6:$I$15,Points!$A9+1,FALSE),'Cars & Results'!$A$7:$BZ$317,2*M$5+6,FALSE))","v":1},{"$f":"IF(HLOOKUP(M$5,$B$6:$I$15,Points!$A9+1,FALSE)=\"TBD\",\"\",IF(VLOOKUP(HLOOKUP(M$5,$B$6:$I$15,Points!$A9+1,FALSE),'Cars & Results'!$A$7:$BZ$317,2*M$5+5)<=10,M13*2,0))","v":0},{"$f":"IF(HLOOKUP(O$5,$B$6:$I$15,Points!$A9+1,FALSE)=\"TBD\",\"\",VLOOKUP(HLOOKUP(O$5,$B$6:$I$15,Points!$A9+1,FALSE),'Cars & Results'!$A$7:$BZ$317,2*O$5+6,FALSE))","v":9},{"$f":"IF(HLOOKUP(O$5,$B$6:$I$15,Points!$A9+1,FALSE)=\"TBD\",\"\",IF(VLOOKUP(HLOOKUP(O$5,$B$6:$I$15,Points!$A9+1,FALSE),'Cars & Results'!$A$7:$BZ$317,2*O$5+5)<=10,O13*2,0))","v":0},{"$f":"IF(HLOOKUP(Q$5,$B$6:$I$15,Points!$A9+1,FALSE)=\"TBD\",\"\",VLOOKUP(HLOOKUP(Q$5,$B$6:$I$15,Points!$A9+1,FALSE),'Cars & Results'!$A$7:$BZ$317,2*Q$5+6,FALSE))","v":10},{"$f":"IF(HLOOKUP(Q$5,$B$6:$I$15,Points!$A9+1,FALSE)=\"TBD\",\"\",IF(VLOOKUP(HLOOKUP(Q$5,$B$6:$I$15,Points!$A9+1,FALSE),'Cars & Results'!$A$7:$BZ$317,2*Q$5+5)<=10,Q13*2,0))","v":0},{"$f":"IF(HLOOKUP(S$5,$B$6:$I$15,Points!$A9+1,FALSE)=\"TBD\",\"\",VLOOKUP(HLOOKUP(S$5,$B$6:$I$15,Points!$A9+1,FALSE),'Cars & Results'!$A$7:$BZ$317,2*S$5+6,FALSE))","v":4},{"$f":"IF(HLOOKUP(S$5,$B$6:$I$15,Points!$A9+1,FALSE)=\"TBD\",\"\",IF(VLOOKUP(HLOOKUP(S$5,$B$6:$I$15,Points!$A9+1,FALSE),'Cars & Results'!$A$7:$BZ$317,2*S$5+5)<=10,S13*2,0))","v":0},{"$f":"IF(HLOOKUP(U$5,$B$6:$I$15,Points!$A9+1,FALSE)=\"TBD\",\"\",VLOOKUP(HLOOKUP(U$5,$B$6:$I$15,Points!$A9+1,FALSE),'Cars & Results'!$A$7:$BZ$317,2*U$5+6,FALSE))","v":13},{"$f":"IF(HLOOKUP(U$5,$B$6:$I$15,Points!$A9+1,FALSE)=\"TBD\",\"\",IF(VLOOKUP(HLOOKUP(U$5,$B$6:$I$15,Points!$A9+1,FALSE),'Cars & Results'!$A$7:$BZ$317,2*U$5+5)<=10,U13*2,0))","v":0},{"$f":"IF(HLOOKUP(W$5,$B$6:$I$15,Points!$A9+1,FALSE)=\"TBD\",\"\",VLOOKUP(HLOOKUP(W$5,$B$6:$I$15,Points!$A9+1,FALSE),'Cars & Results'!$A$7:$BZ$317,2*W$5+6,FALSE))","v":15},{"$f":"IF(HLOOKUP(W$5,$B$6:$I$15,Points!$A9+1,FALSE)=\"TBD\",\"\",IF(VLOOKUP(HLOOKUP(W$5,$B$6:$I$15,Points!$A9+1,FALSE),'Cars & Results'!$A$7:$BZ$317,2*W$5+5)<=10,W13*2,0))","v":0},{"$f":"IF(HLOOKUP(Y$5,$B$6:$I$15,Points!$A9+1,FALSE)=\"TBD\",\"\",VLOOKUP(HLOOKUP(Y$5,$B$6:$I$15,Points!$A9+1,FALSE),'Cars & Results'!$A$7:$BZ$317,2*Y$5+6,FALSE))","v":1},{"$f":"IF(HLOOKUP(Y$5,$B$6:$I$15,Points!$A9+1,FALSE)=\"TBD\",\"\",IF(VLOOKUP(HLOOKUP(Y$5,$B$6:$I$15,Points!$A9+1,FALSE),'Cars & Results'!$A$7:$BZ$317,2*Y$5+5)<=10,Y13*2,0))","v":0},{"$f":"IF(HLOOKUP(AA$5,$B$6:$I$15,Points!$A9+1,FALSE)=\"TBD\",\"\",VLOOKUP(HLOOKUP(AA$5,$B$6:$I$15,Points!$A9+1,FALSE),'Cars & Results'!$A$7:$BZ$317,2*AA$5+6,FALSE))","v":1},{"$f":"IF(HLOOKUP(AA$5,$B$6:$I$15,Points!$A9+1,FALSE)=\"TBD\",\"\",IF(VLOOKUP(HLOOKUP(AA$5,$B$6:$I$15,Points!$A9+1,FALSE),'Cars & Results'!$A$7:$BZ$317,2*AA$5+5)<=10,AA13*2,0))","v":0}]
[{"$f":"VLOOKUP(HLOOKUP('Pick Distribution'!$P$2,$B$6:$I$15,9),'Current Owner Standings'!$A$71:$B$480,2,FALSE)","v":36},51,51,51,51,51,51,51,51,{"$f":"IF(ISNA(VLOOKUP($I14,'Cars & Results'!$A$6:$I$317,J$5,FALSE)),\"Invalid Number\",VLOOKUP($I14,'Cars & Results'!$A$6:$K$317,J$5,FALSE))","v":"David Starr (i)"},{"$f":"IF(ISNA(VLOOKUP($I14,'Cars & Results'!$A$6:$I$317,K$5,FALSE)),\"Invalid Number\",VLOOKUP($I14,'Cars & Results'!$A$6:$K$317,K$5,FALSE))","v":"Ford"},{"$f":"IF(ISNA(VLOOKUP($I14,'Cars & Results'!$A$6:$I$317,L$5,FALSE)),\"Invalid Number\",VLOOKUP($I14,'Cars & Results'!$A$6:$K$317,L$5,FALSE))","v":"Rick Ware Racing"},{"$f":"IF(HLOOKUP(M$5,$B$6:$I$15,Points!$A10+1,FALSE)=\"TBD\",\"\",VLOOKUP(HLOOKUP(M$5,$B$6:$I$15,Points!$A10+1,FALSE),'Cars & Results'!$A$7:$BZ$317,2*M$5+6,FALSE))","v":5},{"$f":"IF(HLOOKUP(M$5,$B$6:$I$15,Points!$A10+1,FALSE)=\"TBD\",\"\",IF(VLOOKUP(HLOOKUP(M$5,$B$6:$I$15,Points!$A10+1,FALSE),'Cars & Results'!$A$7:$BZ$317,2*M$5+5)<=10,M14*3,0))","v":0},{"$f":"IF(HLOOKUP(O$5,$B$6:$I$15,Points!$A10+1,FALSE)=\"TBD\",\"\",VLOOKUP(HLOOKUP(O$5,$B$6:$I$15,Points!$A10+1,FALSE),'Cars & Results'!$A$7:$BZ$317,2*O$5+6,FALSE))","v":3},{"$f":"IF(HLOOKUP(O$5,$B$6:$I$15,Points!$A10+1,FALSE)=\"TBD\",\"\",IF(VLOOKUP(HLOOKUP(O$5,$B$6:$I$15,Points!$A10+1,FALSE),'Cars & Results'!$A$7:$BZ$317,2*O$5+5)<=10,O14*3,0))","v":0},{"$f":"IF(HLOOKUP(Q$5,$B$6:$I$15,Points!$A10+1,FALSE)=\"TBD\",\"\",VLOOKUP(HLOOKUP(Q$5,$B$6:$I$15,Points!$A10+1,FALSE),'Cars & Results'!$A$7:$BZ$317,2*Q$5+6,FALSE))","v":1},{"$f":"IF(HLOOKUP(Q$5,$B$6:$I$15,Points!$A10+1,FALSE)=\"TBD\",\"\",IF(VLOOKUP(HLOOKUP(Q$5,$B$6:$I$15,Points!$A10+1,FALSE),'Cars & Results'!$A$7:$BZ$317,2*Q$5+5)<=10,Q14*3,0))","v":0},{"$f":"IF(HLOOKUP(S$5,$B$6:$I$15,Points!$A10+1,FALSE)=\"TBD\",\"\",VLOOKUP(HLOOKUP(S$5,$B$6:$I$15,Points!$A10+1,FALSE),'Cars & Results'!$A$7:$BZ$317,2*S$5+6,FALSE))","v":1},{"$f":"IF(HLOOKUP(S$5,$B$6:$I$15,Points!$A10+1,FALSE)=\"TBD\",\"\",IF(VLOOKUP(HLOOKUP(S$5,$B$6:$I$15,Points!$A10+1,FALSE),'Cars & Results'!$A$7:$BZ$317,2*S$5+5)<=10,S14*3,0))","v":0},{"$f":"IF(HLOOKUP(U$5,$B$6:$I$15,Points!$A10+1,FALSE)=\"TBD\",\"\",VLOOKUP(HLOOKUP(U$5,$B$6:$I$15,Points!$A10+1,FALSE),'Cars & Results'!$A$7:$BZ$317,2*U$5+6,FALSE))","v":6},{"$f":"IF(HLOOKUP(U$5,$B$6:$I$15,Points!$A10+1,FALSE)=\"TBD\",\"\",IF(VLOOKUP(HLOOKUP(U$5,$B$6:$I$15,Points!$A10+1,FALSE),'Cars & Results'!$A$7:$BZ$317,2*U$5+5)<=10,U14*3,0))","v":0},{"$f":"IF(HLOOKUP(W$5,$B$6:$I$15,Points!$A10+1,FALSE)=\"TBD\",\"\",VLOOKUP(HLOOKUP(W$5,$B$6:$I$15,Points!$A10+1,FALSE),'Cars & Results'!$A$7:$BZ$317,2*W$5+6,FALSE))","v":4},{"$f":"IF(HLOOKUP(W$5,$B$6:$I$15,Points!$A10+1,FALSE)=\"TBD\",\"\",IF(VLOOKUP(HLOOKUP(W$5,$B$6:$I$15,Points!$A10+1,FALSE),'Cars & Results'!$A$7:$BZ$317,2*W$5+5)<=10,W14*3,0))","v":0},{"$f":"IF(HLOOKUP(Y$5,$B$6:$I$15,Points!$A10+1,FALSE)=\"TBD\",\"\",VLOOKUP(HLOOKUP(Y$5,$B$6:$I$15,Points!$A10+1,FALSE),'Cars & Results'!$A$7:$BZ$317,2*Y$5+6,FALSE))","v":5},{"$f":"IF(HLOOKUP(Y$5,$B$6:$I$15,Points!$A10+1,FALSE)=\"TBD\",\"\",IF(VLOOKUP(HLOOKUP(Y$5,$B$6:$I$15,Points!$A10+1,FALSE),'Cars & Results'!$A$7:$BZ$317,2*Y$5+5)<=10,Y14*3,0))","v":0},{"$f":"IF(HLOOKUP(AA$5,$B$6:$I$15,Points!$A10+1,FALSE)=\"TBD\",\"\",VLOOKUP(HLOOKUP(AA$5,$B$6:$I$15,Points!$A10+1,FALSE),'Cars & Results'!$A$7:$BZ$317,2*AA$5+6,FALSE))","v":1},{"$f":"IF(HLOOKUP(AA$5,$B$6:$I$15,Points!$A10+1,FALSE)=\"TBD\",\"\",IF(VLOOKUP(HLOOKUP(AA$5,$B$6:$I$15,Points!$A10+1,FALSE),'Cars & Results'!$A$7:$BZ$317,2*AA$5+5)<=10,AA14*3,0))","v":0}]
[{"$f":"VLOOKUP(HLOOKUP('Pick Distribution'!$P$2,$B$6:$I$15,10),'Current Owner Standings'!$A$71:$B$480,2,FALSE)","v":29},18,42,2,22,4,11,78,6,{"$f":"IF(ISNA(VLOOKUP($I15,'Cars & Results'!$A$6:$I$317,J$5,FALSE)),\"Invalid Number\",VLOOKUP($I15,'Cars & Results'!$A$6:$K$317,J$5,FALSE))","v":"Matt Kenseth"},{"$f":"IF(ISNA(VLOOKUP($I15,'Cars & Results'!$A$6:$I$317,K$5,FALSE)),\"Invalid Number\",VLOOKUP($I15,'Cars & Results'!$A$6:$K$317,K$5,FALSE))","v":"Ford"},{"$f":"IF(ISNA(VLOOKUP($I15,'Cars & Results'!$A$6:$I$317,L$5,FALSE)),\"Invalid Number\",VLOOKUP($I15,'Cars & Results'!$A$6:$K$317,L$5,FALSE))","v":"Roush Fenway Racing"},{"$f":"IF(HLOOKUP(M$5,$B$6:$I$15,Points!$A11+1,FALSE)=\"TBD\",\"\",VLOOKUP(HLOOKUP(M$5,$B$6:$I$15,Points!$A11+1,FALSE),'Cars & Results'!$A$7:$BZ$317,2*M$5+6,FALSE))","v":50},0,{"$f":"IF(HLOOKUP(O$5,$B$6:$I$15,Points!$A11+1,FALSE)=\"TBD\",\"\",VLOOKUP(HLOOKUP(O$5,$B$6:$I$15,Points!$A11+1,FALSE),'Cars & Results'!$A$7:$BZ$317,2*O$5+6,FALSE))","v":25},0,{"$f":"IF(HLOOKUP(Q$5,$B$6:$I$15,Points!$A11+1,FALSE)=\"TBD\",\"\",VLOOKUP(HLOOKUP(Q$5,$B$6:$I$15,Points!$A11+1,FALSE),'Cars & Results'!$A$7:$BZ$317,2*Q$5+6,FALSE))","v":9},0,{"$f":"IF(HLOOKUP(S$5,$B$6:$I$15,Points!$A11+1,FALSE)=\"TBD\",\"\",VLOOKUP(HLOOKUP(S$5,$B$6:$I$15,Points!$A11+1,FALSE),'Cars & Results'!$A$7:$BZ$317,2*S$5+6,FALSE))","v":1},0,{"$f":"IF(HLOOKUP(U$5,$B$6:$I$15,Points!$A11+1,FALSE)=\"TBD\",\"\",VLOOKUP(HLOOKUP(U$5,$B$6:$I$15,Points!$A11+1,FALSE),'Cars & Results'!$A$7:$BZ$317,2*U$5+6,FALSE))","v":60},60,{"$f":"IF(HLOOKUP(W$5,$B$6:$I$15,Points!$A11+1,FALSE)=\"TBD\",\"\",VLOOKUP(HLOOKUP(W$5,$B$6:$I$15,Points!$A11+1,FALSE),'Cars & Results'!$A$7:$BZ$317,2*W$5+6,FALSE))","v":23},0,{"$f":"IF(HLOOKUP(Y$5,$B$6:$I$15,Points!$A11+1,FALSE)=\"TBD\",\"\",VLOOKUP(HLOOKUP(Y$5,$B$6:$I$15,Points!$A11+1,FALSE),'Cars & Results'!$A$7:$BZ$317,2*Y$5+6,FALSE))","v":34},0,{"$f":"IF(HLOOKUP(AA$5,$B$6:$I$15,Points!$A11+1,FALSE)=\"TBD\",\"\",VLOOKUP(HLOOKUP(AA$5,$B$6:$I$15,Points!$A11+1,FALSE),'Cars & Results'!$A$7:$BZ$317,2*AA$5+6,FALSE))","v":35},{"$f":"IF(HLOOKUP(AA$5,$B$6:$I$15,Points!$A11+1,FALSE)=\"TBD\",\"\",IF(AND(VLOOKUP(HLOOKUP(AA$5,$B$6:$I$15,Points!$A11+1,FALSE),'Cars & Results'!$A$7:$BZ$317,2*AA$5+5)<=3,$A$15<=25),AA15*1,IF(AND(VLOOKUP(HLOOKUP(AA$5,$B$6:$I$15,Points!$A11+1,FALSE),'Cars & Results'!$A$7:$BZ$317,2*AA$5+5)<=10,$A$15>25),AA15*3,0)))","v":0}]
[null,null,null,null,null,null,null,null,null,null,null,"Segment 1",null,{"$f":"IF(INDIRECT(ADDRESS(321,5+(M5*2),1,1,\"Cars & Results\"),TRUE)=\"Y\",IF(ISERROR(MATCH(INDIRECT(ADDRESS(318,5+(M5*2),1,1,\"Cars & Results\"),TRUE),B7:B15,0))=TRUE,0,10),\"\")","v":10},null,{"$f":"IF(INDIRECT(ADDRESS(321,5+(O5*2),1,1,\"Cars & Results\"),TRUE)=\"Y\",IF(ISERROR(MATCH(INDIRECT(ADDRESS(318,5+(O5*2),1,1,\"Cars & Results\"),TRUE),C7:C15,0))=TRUE,0,10),\"\")","v":10},null,{"$f":"IF(INDIRECT(ADDRESS(321,5+(Q5*2),1,1,\"Cars & Results\"),TRUE)=\"Y\",IF(ISERROR(MATCH(INDIRECT(ADDRESS(318,5+(Q5*2),1,1,\"Cars & Results\"),TRUE),D7:D15,0))=TRUE,0,10),\"\")","v":0},null,{"$f":"IF(INDIRECT(ADDRESS(321,5+(S5*2),1,1,\"Cars & Results\"),TRUE)=\"Y\",IF(ISERROR(MATCH(INDIRECT(ADDRESS(318,5+(S5*2),1,1,\"Cars & Results\"),TRUE),E7:E15,0))=TRUE,0,10),\"\")","v":0},null,{"$f":"IF(INDIRECT(ADDRESS(321,5+(U5*2),1,1,\"Cars & Results\"),TRUE)=\"Y\",IF(ISERROR(MATCH(INDIRECT(ADDRESS(318,5+(U5*2),1,1,\"Cars & Results\"),TRUE),F7:F15,0))=TRUE,0,10),\"\")","v":10},null,{"$f":"IF(INDIRECT(ADDRESS(321,5+(W5*2),1,1,\"Cars & Results\"),TRUE)=\"Y\",IF(ISERROR(MATCH(INDIRECT(ADDRESS(318,5+(W5*2),1,1,\"Cars & Results\"),TRUE),G7:G15,0))=TRUE,0,10),\"\")","v":0},null,{"$f":"IF(INDIRECT(ADDRESS(321,5+(Y5*2),1,1,\"Cars & Results\"),TRUE)=\"Y\",IF(ISERROR(MATCH(INDIRECT(ADDRESS(318,5+(Y5*2),1,1,\"Cars & Results\"),TRUE),H7:H15,0))=TRUE,0,10),\"\")","v":0},null,{"$f":"IF(INDIRECT(ADDRESS(321,5+(AA5*2),1,1,\"Cars & Results\"),TRUE)=\"Y\",IF(ISERROR(MATCH(INDIRECT(ADDRESS(318,5+(AA5*2),1,1,\"Cars & Results\"),TRUE),I7:I15,0))=TRUE,0,10),\"\")","v":0}]
[null,null,null,null,null,null,null,null,null,null,null,"Segment 2",null,{"$f":"IF(INDIRECT(ADDRESS(321,5+(M5*2),1,1,\"Cars & Results\"),TRUE)=\"Y\",IF(ISERROR(MATCH(INDIRECT(ADDRESS(319,5+(M5*2),1,1,\"Cars & Results\"),TRUE),B7:B15,0))=TRUE,0,10),\"\")","v":10},null,{"$f":"IF(INDIRECT(ADDRESS(321,5+(O5*2),1,1,\"Cars & Results\"),TRUE)=\"Y\",IF(ISERROR(MATCH(INDIRECT(ADDRESS(319,5+(O5*2),1,1,\"Cars & Results\"),TRUE),C7:C15,0))=TRUE,0,10),\"\")","v":0},null,{"$f":"IF(INDIRECT(ADDRESS(321,5+(Q5*2),1,1,\"Cars & Results\"),TRUE)=\"Y\",IF(ISERROR(MATCH(INDIRECT(ADDRESS(319,5+(Q5*2),1,1,\"Cars & Results\"),TRUE),D7:D15,0))=TRUE,0,10),\"\")","v":0},null,{"$f":"IF(INDIRECT(ADDRESS(321,5+(S5*2),1,1,\"Cars & Results\"),TRUE)=\"Y\",IF(ISERROR(MATCH(INDIRECT(ADDRESS(319,5+(S5*2),1,1,\"Cars & Results\"),TRUE),E7:E15,0))=TRUE,0,10),\"\")","v":0},null,{"$f":"IF(INDIRECT(ADDRESS(321,5+(U5*2),1,1,\"Cars & Results\"),TRUE)=\"Y\",IF(ISERROR(MATCH(INDIRECT(ADDRESS(319,5+(U5*2),1,1,\"Cars & Results\"),TRUE),F7:F15,0))=TRUE,0,10),\"\")","v":10},null,{"$f":"IF(INDIRECT(ADDRESS(321,5+(W5*2),1,1,\"Cars & Results\"),TRUE)=\"Y\",IF(ISERROR(MATCH(INDIRECT(ADDRESS(319,5+(W5*2),1,1,\"Cars & Results\"),TRUE),G7:G15,0))=TRUE,0,10),\"\")","v":0},null,{"$f":"IF(INDIRECT(ADDRESS(321,5+(Y5*2),1,1,\"Cars & Results\"),TRUE)=\"Y\",IF(ISERROR(MATCH(INDIRECT(ADDRESS(319,5+(Y5*2),1,1,\"Cars & Results\"),TRUE),H7:H15,0))=TRUE,0,10),\"\")","v":0},null,{"$f":"IF(INDIRECT(ADDRESS(321,5+(AA5*2),1,1,\"Cars & Results\"),TRUE)=\"Y\",IF(ISERROR(MATCH(INDIRECT(ADDRESS(319,5+(AA5*2),1,1,\"Cars & Results\"),TRUE),I7:I15,0))=TRUE,0,10),\"\")","v":10}]
[null,null,null,null,null,null,null,null,null,null,null,"Segment 3",null,{"$f":"IF(INDIRECT(ADDRESS(321,5+(M5*2),1,1,\"Cars & Results\"),TRUE)=\"Y\",IF(ISERROR(MATCH(INDIRECT(ADDRESS(320,5+(M5*2),1,1,\"Cars & Results\"),TRUE),B7:B15,0))=TRUE,0,15),\"\")","v":15},null,{"$f":"IF(INDIRECT(ADDRESS(321,5+(O5*2),1,1,\"Cars & Results\"),TRUE)=\"Y\",IF(ISERROR(MATCH(INDIRECT(ADDRESS(320,5+(O5*2),1,1,\"Cars & Results\"),TRUE),C7:C15,0))=TRUE,0,15),\"\")","v":0},null,{"$f":"IF(INDIRECT(ADDRESS(321,5+(Q5*2),1,1,\"Cars & Results\"),TRUE)=\"Y\",IF(ISERROR(MATCH(INDIRECT(ADDRESS(320,5+(Q5*2),1,1,\"Cars & Results\"),TRUE),D7:D15,0))=TRUE,0,15),\"\")","v":15},null,{"$f":"IF(INDIRECT(ADDRESS(321,5+(S5*2),1,1,\"Cars & Results\"),TRUE)=\"Y\",IF(ISERROR(MATCH(INDIRECT(ADDRESS(320,5+(S5*2),1,1,\"Cars & Results\"),TRUE),E7:E15,0))=TRUE,0,15),\"\")","v":0},null,{"$f":"IF(INDIRECT(ADDRESS(321,5+(U5*2),1,1,\"Cars & Results\"),TRUE)=\"Y\",IF(ISERROR(MATCH(INDIRECT(ADDRESS(320,5+(U5*2),1,1,\"Cars & Results\"),TRUE),F7:F15,0))=TRUE,0,15),\"\")","v":15},null,{"$f":"IF(INDIRECT(ADDRESS(321,5+(W5*2),1,1,\"Cars & Results\"),TRUE)=\"Y\",IF(ISERROR(MATCH(INDIRECT(ADDRESS(320,5+(W5*2),1,1,\"Cars & Results\"),TRUE),G7:G15,0))=TRUE,0,15),\"\")","v":0},null,{"$f":"IF(INDIRECT(ADDRESS(321,5+(Y5*2),1,1,\"Cars & Results\"),TRUE)=\"Y\",IF(ISERROR(MATCH(INDIRECT(ADDRESS(320,5+(Y5*2),1,1,\"Cars & Results\"),TRUE),H7:H15,0))=TRUE,0,15),\"\")","v":0},null,{"$f":"IF(INDIRECT(ADDRESS(321,5+(AA5*2),1,1,\"Cars & Results\"),TRUE)=\"Y\",IF(ISERROR(MATCH(INDIRECT(ADDRESS(320,5+(AA5*2),1,1,\"Cars & Results\"),TRUE),I7:I15,0))=TRUE,0,15),\"\")","v":0}]
[null,{"$f":"SUM(B7:B15)","v":331},277,236,256,247,254,349,276,null,null,null,{"$f":"SUM(M7:M15)","v":221},null,{"$f":"SUM(O7:O15)","v":185},null,{"$f":"SUM(Q7:Q15)","v":187},null,{"$f":"SUM(S7:S15)","v":170},null,{"$f":"SUM(U7:U15)","v":211},null,{"$f":"SUM(W7:W15)","v":163},null,{"$f":"SUM(Y7:Y15)","v":193},null,{"$f":"SUM(AA7:AA15)","v":191}]
[null,null,null,null,null,null,null,null,null,null,null,null,null,{"$f":"SUM(N7:N19)","v":35},null,{"$f":"SUM(P7:P19)","v":10},null,{"$f":"SUM(R7:R19)","v":35.5},null,{"$f":"SUM(T7:T19)","v":17},null,{"$f":"SUM(V7:V19)","v":95},null,{"$f":"SUM(X7:X19)","v":0},null,{"$f":"SUM(Z7:Z19)","v":0},null,{"$f":"SUM(AB7:AB19)","v":10}]
[null,null,null,null,null,null,null,null,null,null,null,"Race Total",{"$f":"M19+N20","v":256},null,{"$f":"O19+P20","v":195},null,{"$f":"Q19+R20","v":222.5},null,{"$f":"S19+T20","v":187},null,{"$f":"U19+V20","v":306},null,{"$f":"W19+X20","v":163},null,{"$f":"Y19+Z20","v":193},null,{"$f":"AA19+AB20","v":201},null,{"$f":"SUM(M21:AB21)","v":1723.5}]
[null,null,null,null,null,null,null,null,"1-8"]
[null,null,null,null,null,null,null,null,"9-16"]
[null,null,null,null,null,null,null,null,"17-23"]
[null,null,null,null,null,null,null,null,"24-30"]
[null,null,null,null,null,null,null,null,"31-35"]
[null,null,null,null,null,null,null,null,">35"]
[null,null,null,null,null,null,null,null,"Provisional"]

{"sheet":"Doug Gebauer","index":10,"n_rows":28,"n_cols":29,"rows_kept":28,"cut":false,"hidden":false,"merged":[[1,26,1,27],[2,26,2,27],[0,26,0,27],[4,26,4,27],[20,26,20,27],[3,26,3,27],[2,24,2,25],[3,12,3,13],[3,14,3,15],[3,16,3,17],[3,18,3,19],[3,20,3,21],[3,22,3,23],[3,24,3,25],[0,24,0,25],[1,12,1,13],[1,14,1,15],[1,16,1,17],[1,18,1,19],[1,20,1,21],[1,22,1,23],[1,24,1,25],[0,12,0,13],[0,14,0,15],[0,16,0,17],[0,18,0,19],[20,16,20,17],[20,18,20,19],[0,20,0,21],[0,22,0,23],[2,22,2,23],[4,22,4,23],[4,24,4,25],[20,22,20,23],[20,24,20,25],[2,12,2,13],[2,14,2,15],[2,16,2,17],[2,18,2,19],[2,20,2,21],[20,20,20,21],[4,12,4,13],[4,14,4,15],[4,16,4,17],[4,18,4,19],[4,20,4,21],[20,12,20,13],[20,14,20,15]]}
[null,null,null,null,null,null,null,null,null,null,null,null,{"$f":"VLOOKUP(M$5,Schedule!$A$8:$G$44,2,FALSE)","v":"2018-07-14"},null,{"$f":"VLOOKUP(O$5,Schedule!$A$8:$G$44,2,FALSE)","v":"2018-07-22"},null,{"$f":"VLOOKUP(Q$5,Schedule!$A$8:$G$44,2,FALSE)","v":"2018-07-29"},null,{"$f":"VLOOKUP(S$5,Schedule!$A$8:$G$44,2,FALSE)","v":"2018-08-05"},null,{"$f":"VLOOKUP(U$5,Schedule!$A$8:$G$44,2,FALSE)","v":"2018-08-12"},null,{"$f":"VLOOKUP(W$5,Schedule!$A$8:$G$44,2,FALSE)","v":"2018-08-18"},null,{"$f":"VLOOKUP(Y$5,Schedule!$A$8:$G$44,2,FALSE)","v":"2018-09-02"},null,{"$f":"VLOOKUP(AA$5,Schedule!$A$8:$G$44,2,FALSE)","v":"2018-09-09"}]
[null,null,null,null,null,null,null,null,null,null,null,null,{"$f":"VLOOKUP(M$5,Schedule!$A$8:$G$44,3,FALSE)","v":"Quaker State 400"},null,{"$f":"VLOOKUP(O$5,Schedule!$A$8:$G$44,3,FALSE)","v":"New Hampshire 301"},null,{"$f":"VLOOKUP(Q$5,Schedule!$A$8:$G$44,3,FALSE)","v":"Gander Outdoors 400"},null,{"$f":"VLOOKUP(S$5,Schedule!$A$8:$G$44,3,FALSE)","v":"Go Bowling at The Glen"},null,{"$f":"VLOOKUP(U$5,Schedule!$A$8:$G$44,3,FALSE)","v":"Pure Michigan 400"},null,{"$f":"VLOOKUP(W$5,Schedule!$A$8:$G$44,3,FALSE)","v":"Bass Pro Shops NRA Night Race"},null,{"$f":"VLOOKUP(Y$5,Schedule!$A$8:$G$44,3,FALSE)","v":"Bojangles' Southern 500"},null,{"$f":"VLOOKUP(AA$5,Schedule!$A$8:$G$44,3,FALSE)","v":"Big Machine Vodka 400 at the Brickyard"}]
[null,null,null,null,null,null,null,null,null,null,null,null,{"$f":"VLOOKUP(M$5,Schedule!$A$8:$G$44,7,FALSE)","v":"1900-06-08"},null,{"$f":"VLOOKUP(O$5,Schedule!$A$8:$G$44,7,FALSE)","v":"1900-05-29"},null,{"$f":"VLOOKUP(Q$5,Schedule!$A$8:$G$44,7,FALSE)","v":"1900-04-09"},null,{"$f":"VLOOKUP(S$5,Schedule!$A$8:$G$44,7,FALSE)","v":"1900-02-09"},null,{"$f":"VLOOKUP(U$5,Schedule!$A$8:$G$44,7,FALSE)","v":"1900-04-29"},null,{"$f":"VLOOKUP(W$5,Schedule!$A$8:$G$44,7,FALSE)","v":"1900-09-06"},null,{"$f":"VLOOKUP(Y$5,Schedule!$A$8:$G$44,7,FALSE)","v":"1900-07-18"},null,{"$f":"VLOOKUP(AA$5,Schedule!$A$8:$G$44,7,FALSE)","v":"1900-04-09"}]
[null,null,null,null,null,null,null,null,null,null,null,null,{"$f":"VLOOKUP(M$5,Schedule!$A$4:$G$44,4,FALSE)","v":"Kentucky Speedway"},null,{"$f":"VLOOKUP(O$5,Schedule!$A$4:$G$44,4,FALSE)","v":"New Hampshire Motor Speedway"},null,{"$f":"VLOOKUP(Q$5,Schedule!$A$4:$G$44,4,FALSE)","v":"Pocono Raceway"},null,{"$f":"VLOOKUP(S$5,Schedule!$A$4:$G$44,4,FALSE)","v":"Watkins Glen International"},null,{"$f":"VLOOKUP(U$5,Schedule!$A$4:$G$44,4,FALSE)","v":"Michigan International Speedway"},null,{"$f":"VLOOKUP(W$5,Schedule!$A$4:$G$44,4,FALSE)","v":"Bristol Motor Speedway"},null,{"$f":"VLOOKUP(Y$5,Schedule!$A$4:$G$44,4,FALSE)","v":"Darlington Raceway"},null,{"$f":"VLOOKUP(AA$5,Schedule!$A$4:$G$44,4,FALSE)","v":"Indianapolis Motor Speedway"}]
["Owner","Week","Week","Week","Week","Week","Week","Week","Week",2,3,4,19,null,20,null,21,null,22,null,23,null,24,null,25,null,26,null,"Total"]
["Points",19,20,21,22,23,24,25,26,"Driver","Make","Sponsor","Points","Bonus","Points","Bonus","Points","Bonus","Points","Bonus","Points","Bonus","Points","Bonus","Points","Bonus","Points","Bonus","Points"]
[{"$f":"VLOOKUP(HLOOKUP('Pick Distribution'!$P$2,$B$6:$I$15,$J$5),'Current Owner Standings'!$A$71:$B$480,2,FALSE)","v":2},4,18,18,18,4,4,4,4,{"$f":"IF(ISNA(VLOOKUP($I7,'Cars & Results'!$A$6:$I$317,J$5,FALSE)),\"Invalid Number\",VLOOKUP($I7,'Cars & Results'!$A$6:$K$317,J$5,FALSE))","v":"Kevin Harvick"},{"$f":"IF(ISNA(VLOOKUP($I7,'Cars & Results'!$A$6:$I$317,K$5,FALSE)),\"Invalid Number\",VLOOKUP($I7,'Cars & Results'!$A$6:$K$317,K$5,FALSE))","v":"Ford"},{"$f":"IF(ISNA(VLOOKUP($I7,'Cars & Results'!$A$6:$I$317,L$5,FALSE)),\"Invalid Number\",VLOOKUP($I7,'Cars & Results'!$A$6:$K$317,L$5,FALSE))","v":"Stewart-Haas Racing"},{"$f":"IF(HLOOKUP(M$5,$B$6:$I$15,Points!$A3+1,FALSE)=\"TBD\",\"\",VLOOKUP(HLOOKUP(M$5,$B$6:$I$15,Points!$A3+1,FALSE),'Cars & Results'!$A$7:$BZ$317,2*M$5+6,FALSE))","v":48},{"$f":"IF(HLOOKUP(M$5,$B$6:$I$15,Points!$A3+1,FALSE)=\"TBD\",\"\",0)","v":0},{"$f":"IF(HLOOKUP(O$5,$B$6:$I$15,Points!$A3+1,FALSE)=\"TBD\",\"\",VLOOKUP(HLOOKUP(O$5,$B$6:$I$15,Points!$A3+1,FALSE),'Cars & Results'!$A$7:$BZ$317,2*O$5+6,FALSE))","v":45},{"$f":"IF(HLOOKUP(O$5,$B$6:$I$15,Points!$A3+1,FALSE)=\"TBD\",\"\",0)","v":0},{"$f":"IF(HLOOKUP(Q$5,$B$6:$I$15,Points!$A3+1,FALSE)=\"TBD\",\"\",VLOOKUP(HLOOKUP(Q$5,$B$6:$I$15,Points!$A3+1,FALSE),'Cars & Results'!$A$7:$BZ$317,2*Q$5+6,FALSE))","v":47},{"$f":"IF(HLOOKUP(Q$5,$B$6:$I$15,Points!$A3+1,FALSE)=\"TBD\",\"\",0)","v":0},{"$f":"IF(HLOOKUP(S$5,$B$6:$I$15,Points!$A3+1,FALSE)=\"TBD\",\"\",VLOOKUP(HLOOKUP(S$5,$B$6:$I$15,Points!$A3+1,FALSE),'Cars & Results'!$A$7:$BZ$317,2*S$5+6,FALSE))","v":43},{"$f":"IF(HLOOKUP(S$5,$B$6:$I$15,Points!$A3+1,FALSE)=\"TBD\",\"\",0)","v":0},{"$f":"IF(HLOOKUP(U$5,$B$6:$I$15,Points!$A3+1,FALSE)=\"TBD\",\"\",VLOOKUP(HLOOKUP(U$5,$B$6:$I$15,Points!$A3+1,FALSE),'Cars & Results'!$A$7:$BZ$317,2*U$5+6,FALSE))","v":60},{"$f":"IF(HLOOKUP(U$5,$B$6:$I$15,Points!$A3+1,FALSE)=\"TBD\",\"\",0)","v":0},{"$f":"IF(HLOOKUP(W$5,$B$6:$I$15,Points!$A3+1,FALSE)=\"TBD\",\"\",VLOOKUP(HLOOKUP(W$5,$B$6:$I$15,Points!$A3+1,FALSE),'Cars & Results'!$A$7:$BZ$317,2*W$5+6,FALSE))","v":36},{"$f":"IF(HLOOKUP(W$5,$B$6:$I$15,Points!$A3+1,FALSE)=\"TBD\",\"\",0)","v":0},{"$f":"IF(HLOOKUP(Y$5,$B$6:$I$15,Points!$A3+1,FALSE)=\"TBD\",\"\",VLOOKUP(HLOOKUP(Y$5,$B$6:$I$15,Points!$A3+1,FALSE),'Cars & Results'!$A$7:$BZ$317,2*Y$5+6,FALSE))","v":39},{"$f":"IF(HLOOKUP(Y$5,$B$6:$I$15,Points!$A3+1,FALSE)=\"TBD\",\"\",0)","v":0},{"$f":"IF(HLOOKUP(AA$5,$B$6:$I$15,Points!$A3+1,FALSE)=\"TBD\",\"\",VLOOKUP(HLOOKUP(AA$5,$B$6:$I$15,Points!$A3+1,FALSE),'Cars & Results'!$A$7:$BZ$317,2*AA$5+6,FALSE))","v":33},{"$f":"IF(HLOOKUP(AA$5,$B$6:$I$15,Points!$A3+1,FALSE)=\"TBD\",\"\",0)","v":0}]
[{"$f":"VLOOKUP(HLOOKUP('Pick Distribution'!$P$2,$B$6:$I$15,3),'Current Owner Standings'!$A$71:$B$480,2,FALSE)","v":9},11,11,11,11,9,11,42,12,{"$f":"IF(ISNA(VLOOKUP($I8,'Cars & Results'!$A$6:$I$317,J$5,FALSE)),\"Invalid Number\",VLOOKUP($I8,'Cars & Results'!$A$6:$K$317,J$5,FALSE))","v":"Ryan Blaney"},{"$f":"IF(ISNA(VLOOKUP($I8,'Cars & Results'!$A$6:$I$317,K$5,FALSE)),\"Invalid Number\",VLOOKUP($I8,'Cars & Results'!$A$6:$K$317,K$5,FALSE))","v":"Ford"},{"$f":"IF(ISNA(VLOOKUP($I8,'Cars & Results'!$A$6:$I$317,L$5,FALSE)),\"Invalid Number\",VLOOKUP($I8,'Cars & Results'!$A$6:$K$317,L$5,FALSE))","v":"Team Penske"},{"$f":"IF(HLOOKUP(M$5,$B$6:$I$15,Points!$A4+1,FALSE)=\"TBD\",\"\",VLOOKUP(HLOOKUP(M$5,$B$6:$I$15,Points!$A4+1,FALSE),'Cars & Results'!$A$7:$BZ$317,2*M$5+6,FALSE))","v":21},{"$f":"IF(HLOOKUP(M$5,$B$6:$I$15,Points!$A4+1,FALSE)=\"TBD\",\"\",IF(VLOOKUP(HLOOKUP(M$5,$B$6:$I$15,Points!$A4+1,FALSE),'Cars & Results'!$A$7:$BZ$317,2*M$5+5)=1,M8*0.25,0))","v":0},{"$f":"IF(HLOOKUP(O$5,$B$6:$I$15,Points!$A4+1,FALSE)=\"TBD\",\"\",VLOOKUP(HLOOKUP(O$5,$B$6:$I$15,Points!$A4+1,FALSE),'Cars & Results'!$A$7:$BZ$317,2*O$5+6,FALSE))","v":24},{"$f":"IF(HLOOKUP(O$5,$B$6:$I$15,Points!$A4+1,FALSE)=\"TBD\",\"\",IF(VLOOKUP(HLOOKUP(O$5,$B$6:$I$15,Points!$A4+1,FALSE),'Cars & Results'!$A$7:$BZ$317,2*O$5+5)=1,O8*0.25,0))","v":0},{"$f":"IF(HLOOKUP(Q$5,$B$6:$I$15,Points!$A4+1,FALSE)=\"TBD\",\"\",VLOOKUP(HLOOKUP(Q$5,$B$6:$I$15,Points!$A4+1,FALSE),'Cars & Results'!$A$7:$BZ$317,2*Q$5+6,FALSE))","v":35},{"$f":"IF(HLOOKUP(Q$5,$B$6:$I$15,Points!$A4+1,FALSE)=\"TBD\",\"\",IF(VLOOKUP(HLOOKUP(Q$5,$B$6:$I$15,Points!$A4+1,FALSE),'Cars & Results'!$A$7:$BZ$317,2*Q$5+5)=1,Q8*0.25,0))","v":0},{"$f":"IF(HLOOKUP(S$5,$B$6:$I$15,Points!$A4+1,FALSE)=\"TBD\",\"\",VLOOKUP(HLOOKUP(S$5,$B$6:$I$15,Points!$A4+1,FALSE),'Cars & Results'!$A$7:$BZ$317,2*S$5+6,FALSE))","v":32},{"$f":"IF(HLOOKUP(S$5,$B$6:$I$15,Points!$A4+1,FALSE)=\"TBD\",\"\",IF(VLOOKUP(HLOOKUP(S$5,$B$6:$I$15,Points!$A4+1,FALSE),'Cars & Results'!$A$7:$BZ$317,2*S$5+5)=1,S8*0.25,0))","v":0},{"$f":"IF(HLOOKUP(U$5,$B$6:$I$15,Points!$A4+1,FALSE)=\"TBD\",\"\",VLOOKUP(HLOOKUP(U$5,$B$6:$I$15,Points!$A4+1,FALSE),'Cars & Results'!$A$7:$BZ$317,2*U$5+6,FALSE))","v":28},{"$f":"IF(HLOOKUP(U$5,$B$6:$I$15,Points!$A4+1,FALSE)=\"TBD\",\"\",IF(VLOOKUP(HLOOKUP(U$5,$B$6:$I$15,Points!$A4+1,FALSE),'Cars & Results'!$A$7:$BZ$317,2*U$5+5)=1,U8*0.25,0))","v":0},{"$f":"IF(HLOOKUP(W$5,$B$6:$I$15,Points!$A4+1,FALSE)=\"TBD\",\"\",VLOOKUP(HLOOKUP(W$5,$B$6:$I$15,Points!$A4+1,FALSE),'Cars & Results'!$A$7:$BZ$317,2*W$5+6,FALSE))","v":23},{"$f":"IF(HLOOKUP(W$5,$B$6:$I$15,Points!$A4+1,FALSE)=\"TBD\",\"\",IF(VLOOKUP(HLOOKUP(W$5,$B$6:$I$15,Points!$A4+1,FALSE),'Cars & Results'!$A$7:$BZ$317,2*W$5+5)=1,W8*0.25,0))","v":0},{"$f":"IF(HLOOKUP(Y$5,$B$6:$I$15,Points!$A4+1,FALSE)=\"TBD\",\"\",VLOOKUP(HLOOKUP(Y$5,$B$6:$I$15,Points!$A4+1,FALSE),'Cars & Results'!$A$7:$BZ$317,2*Y$5+6,FALSE))","v":54},{"$f":"IF(HLOOKUP(Y$5,$B$6:$I$15,Points!$A4+1,FALSE)=\"TBD\",\"\",IF(VLOOKUP(HLOOKUP(Y$5,$B$6:$I$15,Points!$A4+1,FALSE),'Cars & Results'!$A$7:$BZ$317,2*Y$5+5)=1,Y8*0.25,0))","v":0},{"$f":"IF(HLOOKUP(AA$5,$B$6:$I$15,Points!$A4+1,FALSE)=\"TBD\",\"\",VLOOKUP(HLOOKUP(AA$5,$B$6:$I$15,Points!$A4+1,FALSE),'Cars & Results'!$A$7:$BZ$317,2*AA$5+6,FALSE))","v":26},{"$f":"IF(HLOOKUP(AA$5,$B$6:$I$15,Points!$A4+1,FALSE)=\"TBD\",\"\",IF(VLOOKUP(HLOOKUP(AA$5,$B$6:$I$15,Points!$A4+1,FALSE),'Cars & Results'!$A$7:$BZ$317,2*AA$5+5)=1,AA8*0.25,0))","v":0}]
[{"$f":"VLOOKUP(HLOOKUP('Pick Distribution'!$P$2,$B$6:$I$15,4),'Current Owner Standings'!$A$71:$B$480,2,FALSE)","v":20},19,19,19,19,19,19,3,19,{"$f":"IF(ISNA(VLOOKUP($I9,'Cars & Results'!$A$6:$I$317,J$5,FALSE)),\"Invalid Number\",VLOOKUP($I9,'Cars & Results'!$A$6:$K$317,J$5,FALSE))","v":"Daniel Suárez"},{"$f":"IF(ISNA(VLOOKUP($I9,'Cars & Results'!$A$6:$I$317,K$5,FALSE)),\"Invalid Number\",VLOOKUP($I9,'Cars & Results'!$A$6:$K$317,K$5,FALSE))","v":"Toyota"},{"$f":"IF(ISNA(VLOOKUP($I9,'Cars & Results'!$A$6:$I$317,L$5,FALSE)),\"Invalid Number\",VLOOKUP($I9,'Cars & Results'!$A$6:$K$317,L$5,FALSE))","v":"Joe Gibbs Racing"},{"$f":"IF(HLOOKUP(M$5,$B$6:$I$15,Points!$A5+1,FALSE)=\"TBD\",\"\",VLOOKUP(HLOOKUP(M$5,$B$6:$I$15,Points!$A5+1,FALSE),'Cars & Results'!$A$7:$BZ$317,2*M$5+6,FALSE))","v":26},{"$f":"IF(HLOOKUP(M$5,$B$6:$I$15,Points!$A5+1,FALSE)=\"TBD\",\"\",IF(VLOOKUP(HLOOKUP(M$5,$B$6:$I$15,Points!$A5+1,FALSE),'Cars & Results'!$A$7:$BZ$317,2*M$5+5)<=5,M9*0.5,0))","v":0},{"$f":"IF(HLOOKUP(O$5,$B$6:$I$15,Points!$A5+1,FALSE)=\"TBD\",\"\",VLOOKUP(HLOOKUP(O$5,$B$6:$I$15,Points!$A5+1,FALSE),'Cars & Results'!$A$7:$BZ$317,2*O$5+6,FALSE))","v":15},{"$f":"IF(HLOOKUP(O$5,$B$6:$I$15,Points!$A5+1,FALSE)=\"TBD\",\"\",IF(VLOOKUP(HLOOKUP(O$5,$B$6:$I$15,Points!$A5+1,FALSE),'Cars & Results'!$A$7:$BZ$317,2*O$5+5)<=5,O9*0.5,0))","v":0},{"$f":"IF(HLOOKUP(Q$5,$B$6:$I$15,Points!$A5+1,FALSE)=\"TBD\",\"\",VLOOKUP(HLOOKUP(Q$5,$B$6:$I$15,Points!$A5+1,FALSE),'Cars & Results'!$A$7:$BZ$317,2*Q$5+6,FALSE))","v":41},{"$f":"IF(HLOOKUP(Q$5,$B$6:$I$15,Points!$A5+1,FALSE)=\"TBD\",\"\",IF(VLOOKUP(HLOOKUP(Q$5,$B$6:$I$15,Points!$A5+1,FALSE),'Cars & Results'!$A$7:$BZ$317,2*Q$5+5)<=5,Q9*0.5,0))","v":20.5},{"$f":"IF(HLOOKUP(S$5,$B$6:$I$15,Points!$A5+1,FALSE)=\"TBD\",\"\",VLOOKUP(HLOOKUP(S$5,$B$6:$I$15,Points!$A5+1,FALSE),'Cars & Results'!$A$7:$BZ$317,2*S$5+6,FALSE))","v":34},{"$f":"IF(HLOOKUP(S$5,$B$6:$I$15,Points!$A5+1,FALSE)=\"TBD\",\"\",IF(VLOOKUP(HLOOKUP(S$5,$B$6:$I$15,Points!$A5+1,FALSE),'Cars & Results'!$A$7:$BZ$317,2*S$5+5)<=5,S9*0.5,0))","v":17},{"$f":"IF(HLOOKUP(U$5,$B$6:$I$15,Points!$A5+1,FALSE)=\"TBD\",\"\",VLOOKUP(HLOOKUP(U$5,$B$6:$I$15,Points!$A5+1,FALSE),'Cars & Results'!$A$7:$BZ$317,2*U$5+6,FALSE))","v":26},{"$f":"IF(HLOOKUP(U$5,$B$6:$I$15,Points!$A5+1,FALSE)=\"TBD\",\"\",IF(VLOOKUP(HLOOKUP(U$5,$B$6:$I$15,Points!$A5+1,FALSE),'Cars & Results'!$A$7:$BZ$317,2*U$5+5)<=5,U9*0.5,0))","v":0},{"$f":"IF(HLOOKUP(W$5,$B$6:$I$15,Points!$A5+1,FALSE)=\"TBD\",\"\",VLOOKUP(HLOOKUP(W$5,$B$6:$I$15,Points!$A5+1,FALSE),'Cars & Results'!$A$7:$BZ$317,2*W$5+6,FALSE))","v":19},{"$f":"IF(HLOOKUP(W$5,$B$6:$I$15,Points!$A5+1,FALSE)=\"TBD\",\"\",IF(VLOOKUP(HLOOKUP(W$5,$B$6:$I$15,Points!$A5+1,FALSE),'Cars & Results'!$A$7:$BZ$317,2*W$5+5)<=5,W9*0.5,0))","v":0},{"$f":"IF(HLOOKUP(Y$5,$B$6:$I$15,Points!$A5+1,FALSE)=\"TBD\",\"\",VLOOKUP(HLOOKUP(Y$5,$B$6:$I$15,Points!$A5+1,FALSE),'Cars & Results'!$A$7:$BZ$317,2*Y$5+6,FALSE))","v":21},{"$f":"IF(HLOOKUP(Y$5,$B$6:$I$15,Points!$A5+1,FALSE)=\"TBD\",\"\",IF(VLOOKUP(HLOOKUP(Y$5,$B$6:$I$15,Points!$A5+1,FALSE),'Cars & Results'!$A$7:$BZ$317,2*Y$5+5)<=5,Y9*0.5,0))","v":0},{"$f":"IF(HLOOKUP(AA$5,$B$6:$I$15,Points!$A5+1,FALSE)=\"TBD\",\"\",VLOOKUP(HLOOKUP(AA$5,$B$6:$I$15,Points!$A5+1,FALSE),'Cars & Results'!$A$7:$BZ$317,2*AA$5+6,FALSE))","v":24},{"$f":"IF(HLOOKUP(AA$5,$B$6:$I$15,Points!$A5+1,FALSE)=\"TBD\",\"\",IF(VLOOKUP(HLOOKUP(AA$5,$B$6:$I$15,Points!$A5+1,FALSE),'Cars & Results'!$A$7:$BZ$317,2*AA$5+5)<=5,AA9*0.5,0))","v":0}]
[{"$f":"VLOOKUP(HLOOKUP('Pick Distribution'!$P$2,$B$6:$I$15,5),'Current Owner Standings'!$A$71:$B$480,2,FALSE)","v":17},1,1,21,47,24,31,31,31,{"$f":"IF(ISNA(VLOOKUP($I10,'Cars & Results'!$A$6:$I$317,J$5,FALSE)),\"Invalid Number\",VLOOKUP($I10,'Cars & Results'!$A$6:$K$317,J$5,FALSE))","v":"Ryan Newman"},{"$f":"IF(ISNA(VLOOKUP($I10,'Cars & Results'!$A$6:$I$317,K$5,FALSE)),\"Invalid Number\",VLOOKUP($I10,'Cars & Results'!$A$6:$K$317,K$5,FALSE))","v":"Chevrolet"},{"$f":"IF(ISNA(VLOOKUP($I10,'Cars & Results'!$A$6:$I$317,L$5,FALSE)),\"Invalid Number\",VLOOKUP($I10,'Cars & Results'!$A$6:$K$317,L$5,FALSE))","v":"Richard Childress Racing"},{"$f":"IF(HLOOKUP(M$5,$B$6:$I$15,Points!$A6+1,FALSE)=\"TBD\",\"\",VLOOKUP(HLOOKUP(M$5,$B$6:$I$15,Points!$A6+1,FALSE),'Cars & Results'!$A$7:$BZ$317,2*M$5+6,FALSE))","v":20},{"$f":"IF(HLOOKUP(M$5,$B$6:$I$15,Points!$A6+1,FALSE)=\"TBD\",\"\",IF(VLOOKUP(HLOOKUP(M$5,$B$6:$I$15,Points!$A6+1,FALSE),'Cars & Results'!$A$7:$BZ$317,2*M$5+5)<=5,M10*0.5,0))","v":0},{"$f":"IF(HLOOKUP(O$5,$B$6:$I$15,Points!$A6+1,FALSE)=\"TBD\",\"\",VLOOKUP(HLOOKUP(O$5,$B$6:$I$15,Points!$A6+1,FALSE),'Cars & Results'!$A$7:$BZ$317,2*O$5+6,FALSE))","v":19},{"$f":"IF(HLOOKUP(O$5,$B$6:$I$15,Points!$A6+1,FALSE)=\"TBD\",\"\",IF(VLOOKUP(HLOOKUP(O$5,$B$6:$I$15,Points!$A6+1,FALSE),'Cars & Results'!$A$7:$BZ$317,2*O$5+5)<=5,O10*0.5,0))","v":0},{"$f":"IF(HLOOKUP(Q$5,$B$6:$I$15,Points!$A6+1,FALSE)=\"TBD\",\"\",VLOOKUP(HLOOKUP(Q$5,$B$6:$I$15,Points!$A6+1,FALSE),'Cars & Results'!$A$7:$BZ$317,2*Q$5+6,FALSE))","v":16},{"$f":"IF(HLOOKUP(Q$5,$B$6:$I$15,Points!$A6+1,FALSE)=\"TBD\",\"\",IF(VLOOKUP(HLOOKUP(Q$5,$B$6:$I$15,Points!$A6+1,FALSE),'Cars & Results'!$A$7:$BZ$317,2*Q$5+5)<=5,Q10*0.5,0))","v":0},{"$f":"IF(HLOOKUP(S$5,$B$6:$I$15,Points!$A6+1,FALSE)=\"TBD\",\"\",VLOOKUP(HLOOKUP(S$5,$B$6:$I$15,Points!$A6+1,FALSE),'Cars & Results'!$A$7:$BZ$317,2*S$5+6,FALSE))","v":22},{"$f":"IF(HLOOKUP(S$5,$B$6:$I$15,Points!$A6+1,FALSE)=\"TBD\",\"\",IF(VLOOKUP(HLOOKUP(S$5,$B$6:$I$15,Points!$A6+1,FALSE),'Cars & Results'!$A$7:$BZ$317,2*S$5+5)<=5,S10*0.5,0))","v":0},{"$f":"IF(HLOOKUP(U$5,$B$6:$I$15,Points!$A6+1,FALSE)=\"TBD\",\"\",VLOOKUP(HLOOKUP(U$5,$B$6:$I$15,Points!$A6+1,FALSE),'Cars & Results'!$A$7:$BZ$317,2*U$5+6,FALSE))","v":1},{"$f":"IF(HLOOKUP(U$5,$B$6:$I$15,Points!$A6+1,FALSE)=\"TBD\",\"\",IF(VLOOKUP(HLOOKUP(U$5,$B$6:$I$15,Points!$A6+1,FALSE),'Cars & Results'!$A$7:$BZ$317,2*U$5+5)<=5,U10*0.5,0))","v":0},{"$f":"IF(HLOOKUP(W$5,$B$6:$I$15,Points!$A6+1,FALSE)=\"TBD\",\"\",VLOOKUP(HLOOKUP(W$5,$B$6:$I$15,Points!$A6+1,FALSE),'Cars & Results'!$A$7:$BZ$317,2*W$5+6,FALSE))","v":25},{"$f":"IF(HLOOKUP(W$5,$B$6:$I$15,Points!$A6+1,FALSE)=\"TBD\",\"\",IF(VLOOKUP(HLOOKUP(W$5,$B$6:$I$15,Points!$A6+1,FALSE),'Cars & Results'!$A$7:$BZ$317,2*W$5+5)<=5,W10*0.5,0))","v":0},{"$f":"IF(HLOOKUP(Y$5,$B$6:$I$15,Points!$A6+1,FALSE)=\"TBD\",\"\",VLOOKUP(HLOOKUP(Y$5,$B$6:$I$15,Points!$A6+1,FALSE),'Cars & Results'!$A$7:$BZ$317,2*Y$5+6,FALSE))","v":18},{"$f":"IF(HLOOKUP(Y$5,$B$6:$I$15,Points!$A6+1,FALSE)=\"TBD\",\"\",IF(VLOOKUP(HLOOKUP(Y$5,$B$6:$I$15,Points!$A6+1,FALSE),'Cars & Results'!$A$7:$BZ$317,2*Y$5+5)<=5,Y10*0.5,0))","v":0},{"$f":"IF(HLOOKUP(AA$5,$B$6:$I$15,Points!$A6+1,FALSE)=\"TBD\",\"\",VLOOKUP(HLOOKUP(AA$5,$B$6:$I$15,Points!$A6+1,FALSE),'Cars & Results'!$A$7:$BZ$317,2*AA$5+6,FALSE))","v":29},{"$f":"IF(HLOOKUP(AA$5,$B$6:$I$15,Points!$A6+1,FALSE)=\"TBD\",\"\",IF(VLOOKUP(HLOOKUP(AA$5,$B$6:$I$15,Points!$A6+1,FALSE),'Cars & Results'!$A$7:$BZ$317,2*AA$5+5)<=5,AA10*0.5,0))","v":0}]
[{"$f":"VLOOKUP(HLOOKUP('Pick Distribution'!$P$2,$B$6:$I$15,6),'Current Owner Standings'!$A$71:$B$480,2,FALSE)","v":29},6,6,43,6,6,6,6,6,{"$f":"IF(ISNA(VLOOKUP($I11,'Cars & Results'!$A$6:$I$317,J$5,FALSE)),\"Invalid Number\",VLOOKUP($I11,'Cars & Results'!$A$6:$K$317,J$5,FALSE))","v":"Matt Kenseth"},{"$f":"IF(ISNA(VLOOKUP($I11,'Cars & Results'!$A$6:$I$317,K$5,FALSE)),\"Invalid Number\",VLOOKUP($I11,'Cars & Results'!$A$6:$K$317,K$5,FALSE))","v":"Ford"},{"$f":"IF(ISNA(VLOOKUP($I11,'Cars & Results'!$A$6:$I$317,L$5,FALSE)),\"Invalid Number\",VLOOKUP($I11,'Cars & Results'!$A$6:$K$317,L$5,FALSE))","v":"Roush Fenway Racing"},{"$f":"IF(HLOOKUP(M$5,$B$6:$I$15,Points!$A7+1,FALSE)=\"TBD\",\"\",VLOOKUP(HLOOKUP(M$5,$B$6:$I$15,Points!$A7+1,FALSE),'Cars & Results'!$A$7:$BZ$317,2*M$5+6,FALSE))","v":18},{"$f":"IF(HLOOKUP(M$5,$B$6:$I$15,Points!$A7+1,FALSE)=\"TBD\",\"\",IF(VLOOKUP(HLOOKUP(M$5,$B$6:$I$15,Points!$A7+1,FALSE),'Cars & Results'!$A$7:$BZ$317,2*M$5+5)<=10,M11*1.5,0))","v":0},{"$f":"IF(HLOOKUP(O$5,$B$6:$I$15,Points!$A7+1,FALSE)=\"TBD\",\"\",VLOOKUP(HLOOKUP(O$5,$B$6:$I$15,Points!$A7+1,FALSE),'Cars & Results'!$A$7:$BZ$317,2*O$5+6,FALSE))","v":22},{"$f":"IF(HLOOKUP(O$5,$B$6:$I$15,Points!$A7+1,FALSE)=\"TBD\",\"\",IF(VLOOKUP(HLOOKUP(O$5,$B$6:$I$15,Points!$A7+1,FALSE),'Cars & Results'!$A$7:$BZ$317,2*O$5+5)<=10,O11*1.5,0))","v":0},{"$f":"IF(HLOOKUP(Q$5,$B$6:$I$15,Points!$A7+1,FALSE)=\"TBD\",\"\",VLOOKUP(HLOOKUP(Q$5,$B$6:$I$15,Points!$A7+1,FALSE),'Cars & Results'!$A$7:$BZ$317,2*Q$5+6,FALSE))","v":4},{"$f":"IF(HLOOKUP(Q$5,$B$6:$I$15,Points!$A7+1,FALSE)=\"TBD\",\"\",IF(VLOOKUP(HLOOKUP(Q$5,$B$6:$I$15,Points!$A7+1,FALSE),'Cars & Results'!$A$7:$BZ$317,2*Q$5+5)<=10,Q11*1.5,0))","v":0},{"$f":"IF(HLOOKUP(S$5,$B$6:$I$15,Points!$A7+1,FALSE)=\"TBD\",\"\",VLOOKUP(HLOOKUP(S$5,$B$6:$I$15,Points!$A7+1,FALSE),'Cars & Results'!$A$7:$BZ$317,2*S$5+6,FALSE))","v":9},{"$f":"IF(HLOOKUP(S$5,$B$6:$I$15,Points!$A7+1,FALSE)=\"TBD\",\"\",IF(VLOOKUP(HLOOKUP(S$5,$B$6:$I$15,Points!$A7+1,FALSE),'Cars & Results'!$A$7:$BZ$317,2*S$5+5)<=10,S11*1.5,0))","v":0},{"$f":"IF(HLOOKUP(U$5,$B$6:$I$15,Points!$A7+1,FALSE)=\"TBD\",\"\",VLOOKUP(HLOOKUP(U$5,$B$6:$I$15,Points!$A7+1,FALSE),'Cars & Results'!$A$7:$BZ$317,2*U$5+6,FALSE))","v":3},{"$f":"IF(HLOOKUP(U$5,$B$6:$I$15,Points!$A7+1,FALSE)=\"TBD\",\"\",IF(VLOOKUP(HLOOKUP(U$5,$B$6:$I$15,Points!$A7+1,FALSE),'Cars & Results'!$A$7:$BZ$317,2*U$5+5)<=10,U11*1.5,0))","v":0},{"$f":"IF(HLOOKUP(W$5,$B$6:$I$15,Points!$A7+1,FALSE)=\"TBD\",\"\",VLOOKUP(HLOOKUP(W$5,$B$6:$I$15,Points!$A7+1,FALSE),'Cars & Results'!$A$7:$BZ$317,2*W$5+6,FALSE))","v":26},{"$f":"IF(HLOOKUP(W$5,$B$6:$I$15,Points!$A7+1,FALSE)=\"TBD\",\"\",IF(VLOOKUP(HLOOKUP(W$5,$B$6:$I$15,Points!$A7+1,FALSE),'Cars & Results'!$A$7:$BZ$317,2*W$5+5)<=10,W11*1.5,0))","v":0},{"$f":"IF(HLOOKUP(Y$5,$B$6:$I$15,Points!$A7+1,FALSE)=\"TBD\",\"\",VLOOKUP(HLOOKUP(Y$5,$B$6:$I$15,Points!$A7+1,FALSE),'Cars & Results'!$A$7:$BZ$317,2*Y$5+6,FALSE))","v":12},{"$f":"IF(HLOOKUP(Y$5,$B$6:$I$15,Points!$A7+1,FALSE)=\"TBD\",\"\",IF(VLOOKUP(HLOOKUP(Y$5,$B$6:$I$15,Points!$A7+1,FALSE),'Cars & Results'!$A$7:$BZ$317,2*Y$5+5)<=10,Y11*1.5,0))","v":0},{"$f":"IF(HLOOKUP(AA$5,$B$6:$I$15,Points!$A7+1,FALSE)=\"TBD\",\"\",VLOOKUP(HLOOKUP(AA$5,$B$6:$I$15,Points!$A7+1,FALSE),'Cars & Results'!$A$7:$BZ$317,2*AA$5+6,FALSE))","v":35},{"$f":"IF(HLOOKUP(AA$5,$B$6:$I$15,Points!$A7+1,FALSE)=\"TBD\",\"\",IF(VLOOKUP(HLOOKUP(AA$5,$B$6:$I$15,Points!$A7+1,FALSE),'Cars & Results'!$A$7:$BZ$317,2*AA$5+5)<=10,AA11*1.5,0))","v":0}]
[{"$f":"VLOOKUP(HLOOKUP('Pick Distribution'!$P$2,$B$6:$I$15,7),'Current Owner Standings'!$A$71:$B$480,2,FALSE)","v":24},37,95,95,95,95,43,43,47,{"$f":"IF(ISNA(VLOOKUP($I12,'Cars & Results'!$A$6:$I$317,J$5,FALSE)),\"Invalid Number\",VLOOKUP($I12,'Cars & Results'!$A$6:$K$317,J$5,FALSE))","v":"A. J. Allmendinger"},{"$f":"IF(ISNA(VLOOKUP($I12,'Cars & Results'!$A$6:$I$317,K$5,FALSE)),\"Invalid Number\",VLOOKUP($I12,'Cars & Results'!$A$6:$K$317,K$5,FALSE))","v":"Chevrolet"},{"$f":"IF(ISNA(VLOOKUP($I12,'Cars & Results'!$A$6:$I$317,L$5,FALSE)),\"Invalid Number\",VLOOKUP($I12,'Cars & Results'!$A$6:$K$317,L$5,FALSE))","v":"JTG Daugherty Racing"},{"$f":"IF(HLOOKUP(M$5,$B$6:$I$15,Points!$A8+1,FALSE)=\"TBD\",\"\",VLOOKUP(HLOOKUP(M$5,$B$6:$I$15,Points!$A8+1,FALSE),'Cars & Results'!$A$7:$BZ$317,2*M$5+6,FALSE))","v":14},{"$f":"IF(HLOOKUP(M$5,$B$6:$I$15,Points!$A8+1,FALSE)=\"TBD\",\"\",IF(VLOOKUP(HLOOKUP(M$5,$B$6:$I$15,Points!$A8+1,FALSE),'Cars & Results'!$A$7:$BZ$317,2*M$5+5)<=10,M12*1.5,0))","v":0},{"$f":"IF(HLOOKUP(O$5,$B$6:$I$15,Points!$A8+1,FALSE)=\"TBD\",\"\",VLOOKUP(HLOOKUP(O$5,$B$6:$I$15,Points!$A8+1,FALSE),'Cars & Results'!$A$7:$BZ$317,2*O$5+6,FALSE))","v":18},{"$f":"IF(HLOOKUP(O$5,$B$6:$I$15,Points!$A8+1,FALSE)=\"TBD\",\"\",IF(VLOOKUP(HLOOKUP(O$5,$B$6:$I$15,Points!$A8+1,FALSE),'Cars & Results'!$A$7:$BZ$317,2*O$5+5)<=10,O12*1.5,0))","v":0},{"$f":"IF(HLOOKUP(Q$5,$B$6:$I$15,Points!$A8+1,FALSE)=\"TBD\",\"\",VLOOKUP(HLOOKUP(Q$5,$B$6:$I$15,Points!$A8+1,FALSE),'Cars & Results'!$A$7:$BZ$317,2*Q$5+6,FALSE))","v":7},{"$f":"IF(HLOOKUP(Q$5,$B$6:$I$15,Points!$A8+1,FALSE)=\"TBD\",\"\",IF(VLOOKUP(HLOOKUP(Q$5,$B$6:$I$15,Points!$A8+1,FALSE),'Cars & Results'!$A$7:$BZ$317,2*Q$5+5)<=10,Q12*1.5,0))","v":0},{"$f":"IF(HLOOKUP(S$5,$B$6:$I$15,Points!$A8+1,FALSE)=\"TBD\",\"\",VLOOKUP(HLOOKUP(S$5,$B$6:$I$15,Points!$A8+1,FALSE),'Cars & Results'!$A$7:$BZ$317,2*S$5+6,FALSE))","v":16},{"$f":"IF(HLOOKUP(S$5,$B$6:$I$15,Points!$A8+1,FALSE)=\"TBD\",\"\",IF(VLOOKUP(HLOOKUP(S$5,$B$6:$I$15,Points!$A8+1,FALSE),'Cars & Results'!$A$7:$BZ$317,2*S$5+5)<=10,S12*1.5,0))","v":0},{"$f":"IF(HLOOKUP(U$5,$B$6:$I$15,Points!$A8+1,FALSE)=\"TBD\",\"\",VLOOKUP(HLOOKUP(U$5,$B$6:$I$15,Points!$A8+1,FALSE),'Cars & Results'!$A$7:$BZ$317,2*U$5+6,FALSE))","v":11},{"$f":"IF(HLOOKUP(U$5,$B$6:$I$15,Points!$A8+1,FALSE)=\"TBD\",\"\",IF(VLOOKUP(HLOOKUP(U$5,$B$6:$I$15,Points!$A8+1,FALSE),'Cars & Results'!$A$7:$BZ$317,2*U$5+5)<=10,U12*1.5,0))","v":0},{"$f":"IF(HLOOKUP(W$5,$B$6:$I$15,Points!$A8+1,FALSE)=\"TBD\",\"\",VLOOKUP(HLOOKUP(W$5,$B$6:$I$15,Points!$A8+1,FALSE),'Cars & Results'!$A$7:$BZ$317,2*W$5+6,FALSE))","v":1},{"$f":"IF(HLOOKUP(W$5,$B$6:$I$15,Points!$A8+1,FALSE)=\"TBD\",\"\",IF(VLOOKUP(HLOOKUP(W$5,$B$6:$I$15,Points!$A8+1,FALSE),'Cars & Results'!$A$7:$BZ$317,2*W$5+5)<=10,W12*1.5,0))","v":0},{"$f":"IF(HLOOKUP(Y$5,$B$6:$I$15,Points!$A8+1,FALSE)=\"TBD\",\"\",VLOOKUP(HLOOKUP(Y$5,$B$6:$I$15,Points!$A8+1,FALSE),'Cars & Results'!$A$7:$BZ$317,2*Y$5+6,FALSE))","v":11},{"$f":"IF(HLOOKUP(Y$5,$B$6:$I$15,Points!$A8+1,FALSE)=\"TBD\",\"\",IF(VLOOKUP(HLOOKUP(Y$5,$B$6:$I$15,Points!$A8+1,FALSE),'Cars & Results'!$A$7:$BZ$317,2*Y$5+5)<=10,Y12*1.5,0))","v":0},{"$f":"IF(HLOOKUP(AA$5,$B$6:$I$15,Points!$A8+1,FALSE)=\"TBD\",\"\",VLOOKUP(HLOOKUP(AA$5,$B$6:$I$15,Points!$A8+1,FALSE),'Cars & Results'!$A$7:$BZ$317,2*AA$5+6,FALSE))","v":1},{"$f":"IF(HLOOKUP(AA$5,$B$6:$I$15,Points!$A8+1,FALSE)=\"TBD\",\"\",IF(VLOOKUP(HLOOKUP(AA$5,$B$6:$I$15,Points!$A8+1,FALSE),'Cars & Results'!$A$7:$BZ$317,2*AA$5+5)<=10,AA12*1.5,0))","v":0}]
[{"$f":"VLOOKUP(HLOOKUP('Pick Distribution'!$P$2,$B$6:$I$15,8),'Current Owner Standings'!$A$71:$B$480,2,FALSE)","v":31},32,32,32,32,32,32,32,32,{"$f":"IF(ISNA(VLOOKUP($I13,'Cars & Results'!$A$6:$I$317,J$5,FALSE)),\"Invalid Number\",VLOOKUP($I13,'Cars & Results'!$A$6:$K$317,J$5,FALSE))","v":"Matt DiBenedetto"},{"$f":"IF(ISNA(VLOOKUP($I13,'Cars & Results'!$A$6:$I$317,K$5,FALSE)),\"Invalid Number\",VLOOKUP($I13,'Cars & Results'!$A$6:$K$317,K$5,FALSE))","v":"Ford"},{"$f":"IF(ISNA(VLOOKUP($I13,'Cars & Results'!$A$6:$I$317,L$5,FALSE)),\"Invalid Number\",VLOOKUP($I13,'Cars & Results'!$A$6:$K$317,L$5,FALSE))","v":"Go Fas Racing"},{"$f":"IF(HLOOKUP(M$5,$B$6:$I$15,Points!$A9+1,FALSE)=\"TBD\",\"\",VLOOKUP(HLOOKUP(M$5,$B$6:$I$15,Points!$A9+1,FALSE),'Cars & Results'!$A$7:$BZ$317,2*M$5+6,FALSE))","v":1},{"$f":"IF(HLOOKUP(M$5,$B$6:$I$15,Points!$A9+1,FALSE)=\"TBD\",\"\",IF(VLOOKUP(HLOOKUP(M$5,$B$6:$I$15,Points!$A9+1,FALSE),'Cars & Results'!$A$7:$BZ$317,2*M$5+5)<=10,M13*2,0))","v":0},{"$f":"IF(HLOOKUP(O$5,$B$6:$I$15,Points!$A9+1,FALSE)=\"TBD\",\"\",VLOOKUP(HLOOKUP(O$5,$B$6:$I$15,Points!$A9+1,FALSE),'Cars & Results'!$A$7:$BZ$317,2*O$5+6,FALSE))","v":9},{"$f":"IF(HLOOKUP(O$5,$B$6:$I$15,Points!$A9+1,FALSE)=\"TBD\",\"\",IF(VLOOKUP(HLOOKUP(O$5,$B$6:$I$15,Points!$A9+1,FALSE),'Cars & Results'!$A$7:$BZ$317,2*O$5+5)<=10,O13*2,0))","v":0},{"$f":"IF(HLOOKUP(Q$5,$B$6:$I$15,Points!$A9+1,FALSE)=\"TBD\",\"\",VLOOKUP(HLOOKUP(Q$5,$B$6:$I$15,Points!$A9+1,FALSE),'Cars & Results'!$A$7:$BZ$317,2*Q$5+6,FALSE))","v":10},{"$f":"IF(HLOOKUP(Q$5,$B$6:$I$15,Points!$A9+1,FALSE)=\"TBD\",\"\",IF(VLOOKUP(HLOOKUP(Q$5,$B$6:$I$15,Points!$A9+1,FALSE),'Cars & Results'!$A$7:$BZ$317,2*Q$5+5)<=10,Q13*2,0))","v":0},{"$f":"IF(HLOOKUP(S$5,$B$6:$I$15,Points!$A9+1,FALSE)=\"TBD\",\"\",VLOOKUP(HLOOKUP(S$5,$B$6:$I$15,Points!$A9+1,FALSE),'Cars & Results'!$A$7:$BZ$317,2*S$5+6,FALSE))","v":4},{"$f":"IF(HLOOKUP(S$5,$B$6:$I$15,Points!$A9+1,FALSE)=\"TBD\",\"\",IF(VLOOKUP(HLOOKUP(S$5,$B$6:$I$15,Points!$A9+1,FALSE),'Cars & Results'!$A$7:$BZ$317,2*S$5+5)<=10,S13*2,0))","v":0},{"$f":"IF(HLOOKUP(U$5,$B$6:$I$15,Points!$A9+1,FALSE)=\"TBD\",\"\",VLOOKUP(HLOOKUP(U$5,$B$6:$I$15,Points!$A9+1,FALSE),'Cars & Results'!$A$7:$BZ$317,2*U$5+6,FALSE))","v":13},{"$f":"IF(HLOOKUP(U$5,$B$6:$I$15,Points!$A9+1,FALSE)=\"TBD\",\"\",IF(VLOOKUP(HLOOKUP(U$5,$B$6:$I$15,Points!$A9+1,FALSE),'Cars & Results'!$A$7:$BZ$317,2*U$5+5)<=10,U13*2,0))","v":0},{"$f":"IF(HLOOKUP(W$5,$B$6:$I$15,Points!$A9+1,FALSE)=\"TBD\",\"\",VLOOKUP(HLOOKUP(W$5,$B$6:$I$15,Points!$A9+1,FALSE),'Cars & Results'!$A$7:$BZ$317,2*W$5+6,FALSE))","v":15},{"$f":"IF(HLOOKUP(W$5,$B$6:$I$15,Points!$A9+1,FALSE)=\"TBD\",\"\",IF(VLOOKUP(HLOOKUP(W$5,$B$6:$I$15,Points!$A9+1,FALSE),'Cars & Results'!$A$7:$BZ$317,2*W$5+5)<=10,W13*2,0))","v":0},{"$f":"IF(HLOOKUP(Y$5,$B$6:$I$15,Points!$A9+1,FALSE)=\"TBD\",\"\",VLOOKUP(HLOOKUP(Y$5,$B$6:$I$15,Points!$A9+1,FALSE),'Cars & Results'!$A$7:$BZ$317,2*Y$5+6,FALSE))","v":1},{"$f":"IF(HLOOKUP(Y$5,$B$6:$I$15,Points!$A9+1,FALSE)=\"TBD\",\"\",IF(VLOOKUP(HLOOKUP(Y$5,$B$6:$I$15,Points!$A9+1,FALSE),'Cars & Results'!$A$7:$BZ$317,2*Y$5+5)<=10,Y13*2,0))","v":0},{"$f":"IF(HLOOKUP(AA$5,$B$6:$I$15,Points!$A9+1,FALSE)=\"TBD\",\"\",VLOOKUP(HLOOKUP(AA$5,$B$6:$I$15,Points!$A9+1,FALSE),'Cars & Results'!$A$7:$BZ$317,2*AA$5+6,FALSE))","v":1},{"$f":"IF(HLOOKUP(AA$5,$B$6:$I$15,Points!$A9+1,FALSE)=\"TBD\",\"\",IF(VLOOKUP(HLOOKUP(AA$5,$B$6:$I$15,Points!$A9+1,FALSE),'Cars & Results'!$A$7:$BZ$317,2*AA$5+5)<=10,AA13*2,0))","v":0}]
[{"$f":"VLOOKUP(HLOOKUP('Pick Distribution'!$P$2,$B$6:$I$15,9),'Current Owner Standings'!$A$71:$B$480,2,FALSE)","v":37},51,51,51,96,96,52,96,96,{"$f":"IF(ISNA(VLOOKUP($I14,'Cars & Results'!$A$6:$I$317,J$5,FALSE)),\"Invalid Number\",VLOOKUP($I14,'Cars & Results'!$A$6:$K$317,J$5,FALSE))","v":"Jeffrey Earnhardt"},{"$f":"IF(ISNA(VLOOKUP($I14,'Cars & Results'!$A$6:$I$317,K$5,FALSE)),\"Invalid Number\",VLOOKUP($I14,'Cars & Results'!$A$6:$K$317,K$5,FALSE))","v":"Toyota"},{"$f":"IF(ISNA(VLOOKUP($I14,'Cars & Results'!$A$6:$I$317,L$5,FALSE)),\"Invalid Number\",VLOOKUP($I14,'Cars & Results'!$A$6:$K$317,L$5,FALSE))","v":"Gaunt Brothers Racing"},{"$f":"IF(HLOOKUP(M$5,$B$6:$I$15,Points!$A10+1,FALSE)=\"TBD\",\"\",VLOOKUP(HLOOKUP(M$5,$B$6:$I$15,Points!$A10+1,FALSE),'Cars & Results'!$A$7:$BZ$317,2*M$5+6,FALSE))","v":5},{"$f":"IF(HLOOKUP(M$5,$B$6:$I$15,Points!$A10+1,FALSE)=\"TBD\",\"\",IF(VLOOKUP(HLOOKUP(M$5,$B$6:$I$15,Points!$A10+1,FALSE),'Cars & Results'!$A$7:$BZ$317,2*M$5+5)<=10,M14*3,0))","v":0},{"$f":"IF(HLOOKUP(O$5,$B$6:$I$15,Points!$A10+1,FALSE)=\"TBD\",\"\",VLOOKUP(HLOOKUP(O$5,$B$6:$I$15,Points!$A10+1,FALSE),'Cars & Results'!$A$7:$BZ$317,2*O$5+6,FALSE))","v":3},{"$f":"IF(HLOOKUP(O$5,$B$6:$I$15,Points!$A10+1,FALSE)=\"TBD\",\"\",IF(VLOOKUP(HLOOKUP(O$5,$B$6:$I$15,Points!$A10+1,FALSE),'Cars & Results'!$A$7:$BZ$317,2*O$5+5)<=10,O14*3,0))","v":0},{"$f":"IF(HLOOKUP(Q$5,$B$6:$I$15,Points!$A10+1,FALSE)=\"TBD\",\"\",VLOOKUP(HLOOKUP(Q$5,$B$6:$I$15,Points!$A10+1,FALSE),'Cars & Results'!$A$7:$BZ$317,2*Q$5+6,FALSE))","v":1},{"$f":"IF(HLOOKUP(Q$5,$B$6:$I$15,Points!$A10+1,FALSE)=\"TBD\",\"\",IF(VLOOKUP(HLOOKUP(Q$5,$B$6:$I$15,Points!$A10+1,FALSE),'Cars & Results'!$A$7:$BZ$317,2*Q$5+5)<=10,Q14*3,0))","v":0},{"$f":"IF(HLOOKUP(S$5,$B$6:$I$15,Points!$A10+1,FALSE)=\"TBD\",\"\",VLOOKUP(HLOOKUP(S$5,$B$6:$I$15,Points!$A10+1,FALSE),'Cars & Results'!$A$7:$BZ$317,2*S$5+6,FALSE))","v":13},{"$f":"IF(HLOOKUP(S$5,$B$6:$I$15,Points!$A10+1,FALSE)=\"TBD\",\"\",IF(VLOOKUP(HLOOKUP(S$5,$B$6:$I$15,Points!$A10+1,FALSE),'Cars & Results'!$A$7:$BZ$317,2*S$5+5)<=10,S14*3,0))","v":0},{"$f":"IF(HLOOKUP(U$5,$B$6:$I$15,Points!$A10+1,FALSE)=\"TBD\",\"\",VLOOKUP(HLOOKUP(U$5,$B$6:$I$15,Points!$A10+1,FALSE),'Cars & Results'!$A$7:$BZ$317,2*U$5+6,FALSE))","v":1},{"$f":"IF(HLOOKUP(U$5,$B$6:$I$15,Points!$A10+1,FALSE)=\"TBD\",\"\",IF(VLOOKUP(HLOOKUP(U$5,$B$6:$I$15,Points!$A10+1,FALSE),'Cars & Results'!$A$7:$BZ$317,2*U$5+5)<=10,U14*3,0))","v":0},{"$f":"IF(HLOOKUP(W$5,$B$6:$I$15,Points!$A10+1,FALSE)=\"TBD\",\"\",VLOOKUP(HLOOKUP(W$5,$B$6:$I$15,Points!$A10+1,FALSE),'Cars & Results'!$A$7:$BZ$317,2*W$5+6,FALSE))","v":0},{"$f":"IF(HLOOKUP(W$5,$B$6:$I$15,Points!$A10+1,FALSE)=\"TBD\",\"\",IF(VLOOKUP(HLOOKUP(W$5,$B$6:$I$15,Points!$A10+1,FALSE),'Cars & Results'!$A$7:$BZ$317,2*W$5+5)<=10,W14*3,0))","v":0},{"$f":"IF(HLOOKUP(Y$5,$B$6:$I$15,Points!$A10+1,FALSE)=\"TBD\",\"\",VLOOKUP(HLOOKUP(Y$5,$B$6:$I$15,Points!$A10+1,FALSE),'Cars & Results'!$A$7:$BZ$317,2*Y$5+6,FALSE))","v":3},{"$f":"IF(HLOOKUP(Y$5,$B$6:$I$15,Points!$A10+1,FALSE)=\"TBD\",\"\",IF(VLOOKUP(HLOOKUP(Y$5,$B$6:$I$15,Points!$A10+1,FALSE),'Cars & Results'!$A$7:$BZ$317,2*Y$5+5)<=10,Y14*3,0))","v":0},{"$f":"IF(HLOOKUP(AA$5,$B$6:$I$15,Points!$A10+1,FALSE)=\"TBD\",\"\",VLOOKUP(HLOOKUP(AA$5,$B$6:$I$15,Points!$A10+1,FALSE),'Cars & Results'!$A$7:$BZ$317,2*AA$5+6,FALSE))","v":5},{"$f":"IF(HLOOKUP(AA$5,$B$6:$I$15,Points!$A10+1,FALSE)=\"TBD\",\"\",IF(VLOOKUP(HLOOKUP(AA$5,$B$6:$I$15,Points!$A10+1,FALSE),'Cars & Results'!$A$7:$BZ$317,2*AA$5+5)<=10,AA14*3,0))","v":0}]
[{"$f":"VLOOKUP(HLOOKUP('Pick Distribution'!$P$2,$B$6:$I$15,10),'Current Owner Standings'!$A$71:$B$480,2,FALSE)","v":5},78,2,4,14,42,18,41,22,{"$f":"IF(ISNA(VLOOKUP($I15,'Cars & Results'!$A$6:$I$317,J$5,FALSE)),\"Invalid Number\",VLOOKUP($I15,'Cars & Results'!$A$6:$K$317,J$5,FALSE))","v":"Joey Logano"},{"$f":"IF(ISNA(VLOOKUP($I15,'Cars & Results'!$A$6:$I$317,K$5,FALSE)),\"Invalid Number\",VLOOKUP($I15,'Cars & Results'!$A$6:$K$317,K$5,FALSE))","v":"Ford"},{"$f":"IF(ISNA(VLOOKUP($I15,'Cars & Results'!$A$6:$I$317,L$5,FALSE)),\"Invalid Number\",VLOOKUP($I15,'Cars & Results'!$A$6:$K$317,L$5,FALSE))","v":"Team Penske"},{"$f":"IF(HLOOKUP(M$5,$B$6:$I$15,Points!$A11+1,FALSE)=\"TBD\",\"\",VLOOKUP(HLOOKUP(M$5,$B$6:$I$15,Points!$A11+1,FALSE),'Cars & Results'!$A$7:$BZ$317,2*M$5+6,FALSE))","v":60},60,{"$f":"IF(HLOOKUP(O$5,$B$6:$I$15,Points!$A11+1,FALSE)=\"TBD\",\"\",VLOOKUP(HLOOKUP(O$5,$B$6:$I$15,Points!$A11+1,FALSE),'Cars & Results'!$A$7:$BZ$317,2*O$5+6,FALSE))","v":5},0,{"$f":"IF(HLOOKUP(Q$5,$B$6:$I$15,Points!$A11+1,FALSE)=\"TBD\",\"\",VLOOKUP(HLOOKUP(Q$5,$B$6:$I$15,Points!$A11+1,FALSE),'Cars & Results'!$A$7:$BZ$317,2*Q$5+6,FALSE))","v":52},50,{"$f":"IF(HLOOKUP(S$5,$B$6:$I$15,Points!$A11+1,FALSE)=\"TBD\",\"\",VLOOKUP(HLOOKUP(S$5,$B$6:$I$15,Points!$A11+1,FALSE),'Cars & Results'!$A$7:$BZ$317,2*S$5+6,FALSE))","v":26},0,{"$f":"IF(HLOOKUP(U$5,$B$6:$I$15,Points!$A11+1,FALSE)=\"TBD\",\"\",VLOOKUP(HLOOKUP(U$5,$B$6:$I$15,Points!$A11+1,FALSE),'Cars & Results'!$A$7:$BZ$317,2*U$5+6,FALSE))","v":21},0,{"$f":"IF(HLOOKUP(W$5,$B$6:$I$15,Points!$A11+1,FALSE)=\"TBD\",\"\",VLOOKUP(HLOOKUP(W$5,$B$6:$I$15,Points!$A11+1,FALSE),'Cars & Results'!$A$7:$BZ$317,2*W$5+6,FALSE))","v":17},0,{"$f":"IF(HLOOKUP(Y$5,$B$6:$I$15,Points!$A11+1,FALSE)=\"TBD\",\"\",VLOOKUP(HLOOKUP(Y$5,$B$6:$I$15,Points!$A11+1,FALSE),'Cars & Results'!$A$7:$BZ$317,2*Y$5+6,FALSE))","v":39},0,{"$f":"IF(HLOOKUP(AA$5,$B$6:$I$15,Points!$A11+1,FALSE)=\"TBD\",\"\",VLOOKUP(HLOOKUP(AA$5,$B$6:$I$15,Points!$A11+1,FALSE),'Cars & Results'!$A$7:$BZ$317,2*AA$5+6,FALSE))","v":31},{"$f":"IF(HLOOKUP(AA$5,$B$6:$I$15,Points!$A11+1,FALSE)=\"TBD\",\"\",IF(AND(VLOOKUP(HLOOKUP(AA$5,$B$6:$I$15,Points!$A11+1,FALSE),'Cars & Results'!$A$7:$BZ$317,2*AA$5+5)<=3,$A$15<=25),AA15*1,IF(AND(VLOOKUP(HLOOKUP(AA$5,$B$6:$I$15,Points!$A11+1,FALSE),'Cars & Results'!$A$7:$BZ$317,2*AA$5+5)<=10,$A$15>25),AA15*3,0)))","v":0}]
[null,null,null,null,null,null,null,null,null,null,null,"Segment 1",null,{"$f":"IF(INDIRECT(ADDRESS(321,5+(M5*2),1,1,\"Cars & Results\"),TRUE)=\"Y\",IF(ISERROR(MATCH(INDIRECT(ADDRESS(318,5+(M5*2),1,1,\"Cars & Results\"),TRUE),B7:B15,0))=TRUE,0,10),\"\")","v":10},null,{"$f":"IF(INDIRECT(ADDRESS(321,5+(O5*2),1,1,\"Cars & Results\"),TRUE)=\"Y\",IF(ISERROR(MATCH(INDIRECT(ADDRESS(318,5+(O5*2),1,1,\"Cars & Results\"),TRUE),C7:C15,0))=TRUE,0,10),\"\")","v":0},null,{"$f":"IF(INDIRECT(ADDRESS(321,5+(Q5*2),1,1,\"Cars & Results\"),TRUE)=\"Y\",IF(ISERROR(MATCH(INDIRECT(ADDRESS(318,5+(Q5*2),1,1,\"Cars & Results\"),TRUE),D7:D15,0))=TRUE,0,10),\"\")","v":0},null,{"$f":"IF(INDIRECT(ADDRESS(321,5+(S5*2),1,1,\"Cars & Results\"),TRUE)=\"Y\",IF(ISERROR(MATCH(INDIRECT(ADDRESS(318,5+(S5*2),1,1,\"Cars & Results\"),TRUE),E7:E15,0))=TRUE,0,10),\"\")","v":0},null,{"$f":"IF(INDIRECT(ADDRESS(321,5+(U5*2),1,1,\"Cars & Results\"),TRUE)=\"Y\",IF(ISERROR(MATCH(INDIRECT(ADDRESS(318,5+(U5*2),1,1,\"Cars & Results\"),TRUE),F7:F15,0))=TRUE,0,10),\"\")","v":10},null,{"$f":"IF(INDIRECT(ADDRESS(321,5+(W5*2),1,1,\"Cars & Results\"),TRUE)=\"Y\",IF(ISERROR(MATCH(INDIRECT(ADDRESS(318,5+(W5*2),1,1,\"Cars & Results\"),TRUE),G7:G15,0))=TRUE,0,10),\"\")","v":0},null,{"$f":"IF(INDIRECT(ADDRESS(321,5+(Y5*2),1,1,\"Cars & Results\"),TRUE)=\"Y\",IF(ISERROR(MATCH(INDIRECT(ADDRESS(318,5+(Y5*2),1,1,\"Cars & Results\"),TRUE),H7:H15,0))=TRUE,0,10),\"\")","v":10},null,{"$f":"IF(INDIRECT(ADDRESS(321,5+(AA5*2),1,1,\"Cars & Results\"),TRUE)=\"Y\",IF(ISERROR(MATCH(INDIRECT(ADDRESS(318,5+(AA5*2),1,1,\"Cars & Results\"),TRUE),I7:I15,0))=TRUE,0,10),\"\")","v":0}]
[null,null,null,null,null,null,null,null,null,null,null,"Segment 2",null,{"$f":"IF(INDIRECT(ADDRESS(321,5+(M5*2),1,1,\"Cars & Results\"),TRUE)=\"Y\",IF(ISERROR(MATCH(INDIRECT(ADDRESS(319,5+(M5*2),1,1,\"Cars & Results\"),TRUE),B7:B15,0))=TRUE,0,10),\"\")","v":10},null,{"$f":"IF(INDIRECT(ADDRESS(321,5+(O5*2),1,1,\"Cars & Results\"),TRUE)=\"Y\",IF(ISERROR(MATCH(INDIRECT(ADDRESS(319,5+(O5*2),1,1,\"Cars & Results\"),TRUE),C7:C15,0))=TRUE,0,10),\"\")","v":0},null,{"$f":"IF(INDIRECT(ADDRESS(321,5+(Q5*2),1,1,\"Cars & Results\"),TRUE)=\"Y\",IF(ISERROR(MATCH(INDIRECT(ADDRESS(319,5+(Q5*2),1,1,\"Cars & Results\"),TRUE),D7:D15,0))=TRUE,0,10),\"\")","v":10},null,{"$f":"IF(INDIRECT(ADDRESS(321,5+(S5*2),1,1,\"Cars & Results\"),TRUE)=\"Y\",IF(ISERROR(MATCH(INDIRECT(ADDRESS(319,5+(S5*2),1,1,\"Cars & Results\"),TRUE),E7:E15,0))=TRUE,0,10),\"\")","v":0},null,{"$f":"IF(INDIRECT(ADDRESS(321,5+(U5*2),1,1,\"Cars & Results\"),TRUE)=\"Y\",IF(ISERROR(MATCH(INDIRECT(ADDRESS(319,5+(U5*2),1,1,\"Cars & Results\"),TRUE),F7:F15,0))=TRUE,0,10),\"\")","v":10},null,{"$f":"IF(INDIRECT(ADDRESS(321,5+(W5*2),1,1,\"Cars & Results\"),TRUE)=\"Y\",IF(ISERROR(MATCH(INDIRECT(ADDRESS(319,5+(W5*2),1,1,\"Cars & Results\"),TRUE),G7:G15,0))=TRUE,0,10),\"\")","v":0},null,{"$f":"IF(INDIRECT(ADDRESS(321,5+(Y5*2),1,1,\"Cars & Results\"),TRUE)=\"Y\",IF(ISERROR(MATCH(INDIRECT(ADDRESS(319,5+(Y5*2),1,1,\"Cars & Results\"),TRUE),H7:H15,0))=TRUE,0,10),\"\")","v":10},null,{"$f":"IF(INDIRECT(ADDRESS(321,5+(AA5*2),1,1,\"Cars & Results\"),TRUE)=\"Y\",IF(ISERROR(MATCH(INDIRECT(ADDRESS(319,5+(AA5*2),1,1,\"Cars & Results\"),TRUE),I7:I15,0))=TRUE,0,10),\"\")","v":10}]
[null,null,null,null,null,null,null,null,null,null,null,"Segment 3",null,{"$f":"IF(INDIRECT(ADDRESS(321,5+(M5*2),1,1,\"Cars & Results\"),TRUE)=\"Y\",IF(ISERROR(MATCH(INDIRECT(ADDRESS(320,5+(M5*2),1,1,\"Cars & Results\"),TRUE),B7:B15,0))=TRUE,0,15),\"\")","v":15},null,{"$f":"IF(INDIRECT(ADDRESS(321,5+(O5*2),1,1,\"Cars & Results\"),TRUE)=\"Y\",IF(ISERROR(MATCH(INDIRECT(ADDRESS(320,5+(O5*2),1,1,\"Cars & Results\"),TRUE),C7:C15,0))=TRUE,0,15),\"\")","v":0},null,{"$f":"IF(INDIRECT(ADDRESS(321,5+(Q5*2),1,1,\"Cars & Results\"),TRUE)=\"Y\",IF(ISERROR(MATCH(INDIRECT(ADDRESS(320,5+(Q5*2),1,1,\"Cars & Results\"),TRUE),D7:D15,0))=TRUE,0,15),\"\")","v":15},null,{"$f":"IF(INDIRECT(ADDRESS(321,5+(S5*2),1,1,\"Cars & Results\"),TRUE)=\"Y\",IF(ISERROR(MATCH(INDIRECT(ADDRESS(320,5+(S5*2),1,1,\"Cars & Results\"),TRUE),E7:E15,0))=TRUE,0,15),\"\")","v":0},null,{"$f":"IF(INDIRECT(ADDRESS(321,5+(U5*2),1,1,\"Cars & Results\"),TRUE)=\"Y\",IF(ISERROR(MATCH(INDIRECT(ADDRESS(320,5+(U5*2),1,1,\"Cars & Results\"),TRUE),F7:F15,0))=TRUE,0,15),\"\")","v":15},null,{"$f":"IF(INDIRECT(ADDRESS(321,5+(W5*2),1,1,\"Cars & Results\"),TRUE)=\"Y\",IF(ISERROR(MATCH(INDIRECT(ADDRESS(320,5+(W5*2),1,1,\"Cars & Results\"),TRUE),G7:G15,0))=TRUE,0,15),\"\")","v":0},null,{"$f":"IF(INDIRECT(ADDRESS(321,5+(Y5*2),1,1,\"Cars & Results\"),TRUE)=\"Y\",IF(ISERROR(MATCH(INDIRECT(ADDRESS(320,5+(Y5*2),1,1,\"Cars & Results\"),TRUE),H7:H15,0))=TRUE,0,15),\"\")","v":0},null,{"$f":"IF(INDIRECT(ADDRESS(321,5+(AA5*2),1,1,\"Cars & Results\"),TRUE)=\"Y\",IF(ISERROR(MATCH(INDIRECT(ADDRESS(320,5+(AA5*2),1,1,\"Cars & Results\"),TRUE),I7:I15,0))=TRUE,0,15),\"\")","v":0}]
[null,{"$f":"SUM(B7:B15)","v":239},235,294,338,327,216,298,269,null,null,null,{"$f":"SUM(M7:M15)","v":213},null,{"$f":"SUM(O7:O15)","v":160},null,{"$f":"SUM(Q7:Q15)","v":213},null,{"$f":"SUM(S7:S15)","v":199},null,{"$f":"SUM(U7:U15)","v":164},null,{"$f":"SUM(W7:W15)","v":162},null,{"$f":"SUM(Y7:Y15)","v":198},null,{"$f":"SUM(AA7:AA15)","v":185}]
[null,null,null,null,null,null,null,null,null,null,null,null,null,{"$f":"SUM(N7:N19)","v":95},null,{"$f":"SUM(P7:P19)","v":0},null,{"$f":"SUM(R7:R19)","v":95.5},null,{"$f":"SUM(T7:T19)","v":17},null,{"$f":"SUM(V7:V19)","v":35},null,{"$f":"SUM(X7:X19)","v":0},null,{"$f":"SUM(Z7:Z19)","v":20},null,{"$f":"SUM(AB7:AB19)","v":10}]
[null,null,null,null,null,null,null,null,null,null,null,"Race Total",{"$f":"M19+N20","v":308},null,{"$f":"O19+P20","v":160},null,{"$f":"Q19+R20","v":308.5},null,{"$f":"S19+T20","v":216},null,{"$f":"U19+V20","v":199},null,{"$f":"W19+X20","v":162},null,{"$f":"Y19+Z20","v":218},null,{"$f":"AA19+AB20","v":195},null,{"$f":"SUM(M21:AB21)","v":1766.5}]
[null,null,null,null,null,null,null,null,"1-8"]
[null,null,null,null,null,null,null,null,"9-16"]
[null,null,null,null,null,null,null,null,"17-23"]
[null,null,null,null,null,null,null,null,"24-30"]
[null,null,null,null,null,null,null,null,"31-35"]
[null,null,null,null,null,null,null,null,">35"]
[null,null,null,null,null,null,null,null,"Provisional"]

{"sheet":"Trey George","index":11,"n_rows":28,"n_cols":29,"rows_kept":28,"cut":false,"hidden":false,"merged":[[20,20,20,21],[4,26,4,27],[20,26,20,27],[4,22,4,23],[4,24,4,25],[4,20,4,21],[20,22,20,23],[20,24,20,25],[1,26,1,27],[2,26,2,27],[0,26,0,27],[3,26,3,27],[2,20,2,21],[0,20,0,21],[0,22,0,23],[0,24,0,25],[2,24,2,25],[3,24,3,25],[3,22,3,23],[20,12,20,13],[20,14,20,15],[20,16,20,17],[20,18,20,19],[4,12,4,13],[4,14,4,15],[4,16,4,17],[4,18,4,19],[0,12,0,13],[0,14,0,15],[0,16,0,17],[0,18,0,19],[1,24,1,25],[1,22,1,23],[1,12,1,13],[1,14,1,15],[1,16,1,17],[1,18,1,19],[1,20,1,21],[2,12,2,13],[2,14,2,15],[2,16,2,17],[2,18,2,19],[2,22,2,23],[3,12,3,13],[3,14,3,15],[3,16,3,17],[3,18,3,19],[3,20,3,21]]}
[null,null,null,null,null,null,null,null,null,null,null,null,{"$f":"VLOOKUP(M$5,Schedule!$A$8:$G$44,2,FALSE)","v":"2018-07-14"},null,{"$f":"VLOOKUP(O$5,Schedule!$A$8:$G$44,2,FALSE)","v":"2018-07-22"},null,{"$f":"VLOOKUP(Q$5,Schedule!$A$8:$G$44,2,FALSE)","v":"2018-07-29"},null,{"$f":"VLOOKUP(S$5,Schedule!$A$8:$G$44,2,FALSE)","v":"2018-08-05"},null,{"$f":"VLOOKUP(U$5,Schedule!$A$8:$G$44,2,FALSE)","v":"2018-08-12"},null,{"$f":"VLOOKUP(W$5,Schedule!$A$8:$G$44,2,FALSE)","v":"2018-08-18"},null,{"$f":"VLOOKUP(Y$5,Schedule!$A$8:$G$44,2,FALSE)","v":"2018-09-02"},null,{"$f":"VLOOKUP(AA$5,Schedule!$A$8:$G$44,2,FALSE)","v":"2018-09-09"}]
[null,null,null,null,null,null,null,null,null,null,null,null,{"$f":"VLOOKUP(M$5,Schedule!$A$8:$G$44,3,FALSE)","v":"Quaker State 400"},null,{"$f":"VLOOKUP(O$5,Schedule!$A$8:$G$44,3,FALSE)","v":"New Hampshire 301"},null,{"$f":"VLOOKUP(Q$5,Schedule!$A$8:$G$44,3,FALSE)","v":"Gander Outdoors 400"},null,{"$f":"VLOOKUP(S$5,Schedule!$A$8:$G$44,3,FALSE)","v":"Go Bowling at The Glen"},null,{"$f":"VLOOKUP(U$5,Schedule!$A$8:$G$44,3,FALSE)","v":"Pure Michigan 400"},null,{"$f":"VLOOKUP(W$5,Schedule!$A$8:$G$44,3,FALSE)","v":"Bass Pro Shops NRA Night Race"},null,{"$f":"VLOOKUP(Y$5,Schedule!$A$8:$G$44,3,FALSE)","v":"Bojangles' Southern 500"},null,{"$f":"VLOOKUP(AA$5,Schedule!$A$8:$G$44,3,FALSE)","v":"Big Machine Vodka 400 at the Brickyard"}]
[null,null,null,null,null,null,null,null,null,null,null,null,{"$f":"VLOOKUP(M$5,Schedule!$A$8:$G$44,7,FALSE)","v":"1900-06-08"},null,{"$f":"VLOOKUP(O$5,Schedule!$A$8:$G$44,7,FALSE)","v":"1900-05-29"},null,{"$f":"VLOOKUP(Q$5,Schedule!$A$8:$G$44,7,FALSE)","v":"1900-04-09"},null,{"$f":"VLOOKUP(S$5,Schedule!$A$8:$G$44,7,FALSE)","v":"1900-02-09"},null,{"$f":"VLOOKUP(U$5,Schedule!$A$8:$G$44,7,FALSE)","v":"1900-04-29"},null,{"$f":"VLOOKUP(W$5,Schedule!$A$8:$G$44,7,FALSE)","v":"1900-09-06"},null,{"$f":"VLOOKUP(Y$5,Schedule!$A$8:$G$44,7,FALSE)","v":"1900-07-18"},null,{"$f":"VLOOKUP(AA$5,Schedule!$A$8:$G$44,7,FALSE)","v":"1900-04-09"}]
[null,null,null,null,null,null,null,null,null,null,null,null,{"$f":"VLOOKUP(M$5,Schedule!$A$4:$G$44,4,FALSE)","v":"Kentucky Speedway"},null,{"$f":"VLOOKUP(O$5,Schedule!$A$4:$G$44,4,FALSE)","v":"New Hampshire Motor Speedway"},null,{"$f":"VLOOKUP(Q$5,Schedule!$A$4:$G$44,4,FALSE)","v":"Pocono Raceway"},null,{"$f":"VLOOKUP(S$5,Schedule!$A$4:$G$44,4,FALSE)","v":"Watkins Glen International"},null,{"$f":"VLOOKUP(U$5,Schedule!$A$4:$G$44,4,FALSE)","v":"Michigan International Speedway"},null,{"$f":"VLOOKUP(W$5,Schedule!$A$4:$G$44,4,FALSE)","v":"Bristol Motor Speedway"},null,{"$f":"VLOOKUP(Y$5,Schedule!$A$4:$G$44,4,FALSE)","v":"Darlington Raceway"},null,{"$f":"VLOOKUP(AA$5,Schedule!$A$4:$G$44,4,FALSE)","v":"Indianapolis Motor Speedway"}]
["Owner","Week","Week","Week","Week","Week","Week","Week","Week",2,3,4,19,null,20,null,21,null,22,null,23,null,24,null,25,null,26,null,"Total"]
["Points",19,20,21,22,23,24,25,26,"Driver","Make","Sponsor","Points","Bonus","Points","Bonus","Points","Bonus","Points","Bonus","Points","Bonus","Points","Bonus","Points","Bonus","Points","Bonus","Points"]
[{"$f":"VLOOKUP(HLOOKUP('Pick Distribution'!$P$2,$B$6:$I$15,$J$5),'Current Owner Standings'!$A$71:$B$480,2,FALSE)","v":2},78,78,78,78,78,4,4,4,{"$f":"IF(ISNA(VLOOKUP($I7,'Cars & Results'!$A$6:$I$317,J$5,FALSE)),\"Invalid Number\",VLOOKUP($I7,'Cars & Results'!$A$6:$K$317,J$5,FALSE))","v":"Kevin Harvick"},{"$f":"IF(ISNA(VLOOKUP($I7,'Cars & Results'!$A$6:$I$317,K$5,FALSE)),\"Invalid Number\",VLOOKUP($I7,'Cars & Results'!$A$6:$K$317,K$5,FALSE))","v":"Ford"},{"$f":"IF(ISNA(VLOOKUP($I7,'Cars & Results'!$A$6:$I$317,L$5,FALSE)),\"Invalid Number\",VLOOKUP($I7,'Cars & Results'!$A$6:$K$317,L$5,FALSE))","v":"Stewart-Haas Racing"},{"$f":"IF(HLOOKUP(M$5,$B$6:$I$15,Points!$A3+1,FALSE)=\"TBD\",\"\",VLOOKUP(HLOOKUP(M$5,$B$6:$I$15,Points!$A3+1,FALSE),'Cars & Results'!$A$7:$BZ$317,2*M$5+6,FALSE))","v":60},{"$f":"IF(HLOOKUP(M$5,$B$6:$I$15,Points!$A3+1,FALSE)=\"TBD\",\"\",0)","v":0},{"$f":"IF(HLOOKUP(O$5,$B$6:$I$15,Points!$A3+1,FALSE)=\"TBD\",\"\",VLOOKUP(HLOOKUP(O$5,$B$6:$I$15,Points!$A3+1,FALSE),'Cars & Results'!$A$7:$BZ$317,2*O$5+6,FALSE))","v":51},{"$f":"IF(HLOOKUP(O$5,$B$6:$I$15,Points!$A3+1,FALSE)=\"TBD\",\"\",0)","v":0},{"$f":"IF(HLOOKUP(Q$5,$B$6:$I$15,Points!$A3+1,FALSE)=\"TBD\",\"\",VLOOKUP(HLOOKUP(Q$5,$B$6:$I$15,Points!$A3+1,FALSE),'Cars & Results'!$A$7:$BZ$317,2*Q$5+6,FALSE))","v":22},{"$f":"IF(HLOOKUP(Q$5,$B$6:$I$15,Points!$A3+1,FALSE)=\"TBD\",\"\",0)","v":0},{"$f":"IF(HLOOKUP(S$5,$B$6:$I$15,Points!$A3+1,FALSE)=\"TBD\",\"\",VLOOKUP(HLOOKUP(S$5,$B$6:$I$15,Points!$A3+1,FALSE),'Cars & Results'!$A$7:$BZ$317,2*S$5+6,FALSE))","v":51},{"$f":"IF(HLOOKUP(S$5,$B$6:$I$15,Points!$A3+1,FALSE)=\"TBD\",\"\",0)","v":0},{"$f":"IF(HLOOKUP(U$5,$B$6:$I$15,Points!$A3+1,FALSE)=\"TBD\",\"\",VLOOKUP(HLOOKUP(U$5,$B$6:$I$15,Points!$A3+1,FALSE),'Cars & Results'!$A$7:$BZ$317,2*U$5+6,FALSE))","v":29},{"$f":"IF(HLOOKUP(U$5,$B$6:$I$15,Points!$A3+1,FALSE)=\"TBD\",\"\",0)","v":0},{"$f":"IF(HLOOKUP(W$5,$B$6:$I$15,Points!$A3+1,FALSE)=\"TBD\",\"\",VLOOKUP(HLOOKUP(W$5,$B$6:$I$15,Points!$A3+1,FALSE),'Cars & Results'!$A$7:$BZ$317,2*W$5+6,FALSE))","v":36},{"$f":"IF(HLOOKUP(W$5,$B$6:$I$15,Points!$A3+1,FALSE)=\"TBD\",\"\",0)","v":0},{"$f":"IF(HLOOKUP(Y$5,$B$6:$I$15,Points!$A3+1,FALSE)=\"TBD\",\"\",VLOOKUP(HLOOKUP(Y$5,$B$6:$I$15,Points!$A3+1,FALSE),'Cars & Results'!$A$7:$BZ$317,2*Y$5+6,FALSE))","v":39},{"$f":"IF(HLOOKUP(Y$5,$B$6:$I$15,Points!$A3+1,FALSE)=\"TBD\",\"\",0)","v":0},{"$f":"IF(HLOOKUP(AA$5,$B$6:$I$15,Points!$A3+1,FALSE)=\"TBD\",\"\",VLOOKUP(HLOOKUP(AA$5,$B$6:$I$15,Points!$A3+1,FALSE),'Cars & Results'!$A$7:$BZ$317,2*AA$5+6,FALSE))","v":33},{"$f":"IF(HLOOKUP(AA$5,$B$6:$I$15,Points!$A3+1,FALSE)=\"TBD\",\"\",0)","v":0}]
[{"$f":"VLOOKUP(HLOOKUP('Pick Distribution'!$P$2,$B$6:$I$15,3),'Current Owner Standings'!$A$71:$B$480,2,FALSE)","v":10},48,48,48,48,48,11,11,11,{"$f":"IF(ISNA(VLOOKUP($I8,'Cars & Results'!$A$6:$I$317,J$5,FALSE)),\"Invalid Number\",VLOOKUP($I8,'Cars & Results'!$A$6:$K$317,J$5,FALSE))","v":"Denny Hamlin"},{"$f":"IF(ISNA(VLOOKUP($I8,'Cars & Results'!$A$6:$I$317,K$5,FALSE)),\"Invalid Number\",VLOOKUP($I8,'Cars & Results'!$A$6:$K$317,K$5,FALSE))","v":"Toyota"},{"$f":"IF(ISNA(VLOOKUP($I8,'Cars & Results'!$A$6:$I$317,L$5,FALSE)),\"Invalid Number\",VLOOKUP($I8,'Cars & Results'!$A$6:$K$317,L$5,FALSE))","v":"Joe Gibbs Racing"},{"$f":"IF(HLOOKUP(M$5,$B$6:$I$15,Points!$A4+1,FALSE)=\"TBD\",\"\",VLOOKUP(HLOOKUP(M$5,$B$6:$I$15,Points!$A4+1,FALSE),'Cars & Results'!$A$7:$BZ$317,2*M$5+6,FALSE))","v":23},{"$f":"IF(HLOOKUP(M$5,$B$6:$I$15,Points!$A4+1,FALSE)=\"TBD\",\"\",IF(VLOOKUP(HLOOKUP(M$5,$B$6:$I$15,Points!$A4+1,FALSE),'Cars & Results'!$A$7:$BZ$317,2*M$5+5)=1,M8*0.25,0))","v":0},{"$f":"IF(HLOOKUP(O$5,$B$6:$I$15,Points!$A4+1,FALSE)=\"TBD\",\"\",VLOOKUP(HLOOKUP(O$5,$B$6:$I$15,Points!$A4+1,FALSE),'Cars & Results'!$A$7:$BZ$317,2*O$5+6,FALSE))","v":38},{"$f":"IF(HLOOKUP(O$5,$B$6:$I$15,Points!$A4+1,FALSE)=\"TBD\",\"\",IF(VLOOKUP(HLOOKUP(O$5,$B$6:$I$15,Points!$A4+1,FALSE),'Cars & Results'!$A$7:$BZ$317,2*O$5+5)=1,O8*0.25,0))","v":0},{"$f":"IF(HLOOKUP(Q$5,$B$6:$I$15,Points!$A4+1,FALSE)=\"TBD\",\"\",VLOOKUP(HLOOKUP(Q$5,$B$6:$I$15,Points!$A4+1,FALSE),'Cars & Results'!$A$7:$BZ$317,2*Q$5+6,FALSE))","v":25},{"$f":"IF(HLOOKUP(Q$5,$B$6:$I$15,Points!$A4+1,FALSE)=\"TBD\",\"\",IF(VLOOKUP(HLOOKUP(Q$5,$B$6:$I$15,Points!$A4+1,FALSE),'Cars & Results'!$A$7:$BZ$317,2*Q$5+5)=1,Q8*0.25,0))","v":0},{"$f":"IF(HLOOKUP(S$5,$B$6:$I$15,Points!$A4+1,FALSE)=\"TBD\",\"\",VLOOKUP(HLOOKUP(S$5,$B$6:$I$15,Points!$A4+1,FALSE),'Cars & Results'!$A$7:$BZ$317,2*S$5+6,FALSE))","v":16},{"$f":"IF(HLOOKUP(S$5,$B$6:$I$15,Points!$A4+1,FALSE)=\"TBD\",\"\",IF(VLOOKUP(HLOOKUP(S$5,$B$6:$I$15,Points!$A4+1,FALSE),'Cars & Results'!$A$7:$BZ$317,2*S$5+5)=1,S8*0.25,0))","v":0},{"$f":"IF(HLOOKUP(U$5,$B$6:$I$15,Points!$A4+1,FALSE)=\"TBD\",\"\",VLOOKUP(HLOOKUP(U$5,$B$6:$I$15,Points!$A4+1,FALSE),'Cars & Results'!$A$7:$BZ$317,2*U$5+6,FALSE))","v":9},{"$f":"IF(HLOOKUP(U$5,$B$6:$I$15,Points!$A4+1,FALSE)=\"TBD\",\"\",IF(VLOOKUP(HLOOKUP(U$5,$B$6:$I$15,Points!$A4+1,FALSE),'Cars & Results'!$A$7:$BZ$317,2*U$5+5)=1,U8*0.25,0))","v":0},{"$f":"IF(HLOOKUP(W$5,$B$6:$I$15,Points!$A4+1,FALSE)=\"TBD\",\"\",VLOOKUP(HLOOKUP(W$5,$B$6:$I$15,Points!$A4+1,FALSE),'Cars & Results'!$A$7:$BZ$317,2*W$5+6,FALSE))","v":23},{"$f":"IF(HLOOKUP(W$5,$B$6:$I$15,Points!$A4+1,FALSE)=\"TBD\",\"\",IF(VLOOKUP(HLOOKUP(W$5,$B$6:$I$15,Points!$A4+1,FALSE),'Cars & Results'!$A$7:$BZ$317,2*W$5+5)=1,W8*0.25,0))","v":0},{"$f":"IF(HLOOKUP(Y$5,$B$6:$I$15,Points!$A4+1,FALSE)=\"TBD\",\"\",VLOOKUP(HLOOKUP(Y$5,$B$6:$I$15,Points!$A4+1,FALSE),'Cars & Results'!$A$7:$BZ$317,2*Y$5+6,FALSE))","v":31},{"$f":"IF(HLOOKUP(Y$5,$B$6:$I$15,Points!$A4+1,FALSE)=\"TBD\",\"\",IF(VLOOKUP(HLOOKUP(Y$5,$B$6:$I$15,Points!$A4+1,FALSE),'Cars & Results'!$A$7:$BZ$317,2*Y$5+5)=1,Y8*0.25,0))","v":0},{"$f":"IF(HLOOKUP(AA$5,$B$6:$I$15,Points!$A4+1,FALSE)=\"TBD\",\"\",VLOOKUP(HLOOKUP(AA$5,$B$6:$I$15,Points!$A4+1,FALSE),'Cars & Results'!$A$7:$BZ$317,2*AA$5+6,FALSE))","v":42},{"$f":"IF(HLOOKUP(AA$5,$B$6:$I$15,Points!$A4+1,FALSE)=\"TBD\",\"\",IF(VLOOKUP(HLOOKUP(AA$5,$B$6:$I$15,Points!$A4+1,FALSE),'Cars & Results'!$A$7:$BZ$317,2*AA$5+5)=1,AA8*0.25,0))","v":0}]
[{"$f":"VLOOKUP(HLOOKUP('Pick Distribution'!$P$2,$B$6:$I$15,4),'Current Owner Standings'!$A$71:$B$480,2,FALSE)","v":17},3,3,3,3,3,31,31,31,{"$f":"IF(ISNA(VLOOKUP($I9,'Cars & Results'!$A$6:$I$317,J$5,FALSE)),\"Invalid Number\",VLOOKUP($I9,'Cars & Results'!$A$6:$K$317,J$5,FALSE))","v":"Ryan Newman"},{"$f":"IF(ISNA(VLOOKUP($I9,'Cars & Results'!$A$6:$I$317,K$5,FALSE)),\"Invalid Number\",VLOOKUP($I9,'Cars & Results'!$A$6:$K$317,K$5,FALSE))","v":"Chevrolet"},{"$f":"IF(ISNA(VLOOKUP($I9,'Cars & Results'!$A$6:$I$317,L$5,FALSE)),\"Invalid Number\",VLOOKUP($I9,'Cars & Results'!$A$6:$K$317,L$5,FALSE))","v":"Richard Childress Racing"},{"$f":"IF(HLOOKUP(M$5,$B$6:$I$15,Points!$A5+1,FALSE)=\"TBD\",\"\",VLOOKUP(HLOOKUP(M$5,$B$6:$I$15,Points!$A5+1,FALSE),'Cars & Results'!$A$7:$BZ$317,2*M$5+6,FALSE))","v":15},{"$f":"IF(HLOOKUP(M$5,$B$6:$I$15,Points!$A5+1,FALSE)=\"TBD\",\"\",IF(VLOOKUP(HLOOKUP(M$5,$B$6:$I$15,Points!$A5+1,FALSE),'Cars & Results'!$A$7:$BZ$317,2*M$5+5)<=5,M9*0.5,0))","v":0},{"$f":"IF(HLOOKUP(O$5,$B$6:$I$15,Points!$A5+1,FALSE)=\"TBD\",\"\",VLOOKUP(HLOOKUP(O$5,$B$6:$I$15,Points!$A5+1,FALSE),'Cars & Results'!$A$7:$BZ$317,2*O$5+6,FALSE))","v":16},{"$f":"IF(HLOOKUP(O$5,$B$6:$I$15,Points!$A5+1,FALSE)=\"TBD\",\"\",IF(VLOOKUP(HLOOKUP(O$5,$B$6:$I$15,Points!$A5+1,FALSE),'Cars & Results'!$A$7:$BZ$317,2*O$5+5)<=5,O9*0.5,0))","v":0},{"$f":"IF(HLOOKUP(Q$5,$B$6:$I$15,Points!$A5+1,FALSE)=\"TBD\",\"\",VLOOKUP(HLOOKUP(Q$5,$B$6:$I$15,Points!$A5+1,FALSE),'Cars & Results'!$A$7:$BZ$317,2*Q$5+6,FALSE))","v":24},{"$f":"IF(HLOOKUP(Q$5,$B$6:$I$15,Points!$A5+1,FALSE)=\"TBD\",\"\",IF(VLOOKUP(HLOOKUP(Q$5,$B$6:$I$15,Points!$A5+1,FALSE),'Cars & Results'!$A$7:$BZ$317,2*Q$5+5)<=5,Q9*0.5,0))","v":0},{"$f":"IF(HLOOKUP(S$5,$B$6:$I$15,Points!$A5+1,FALSE)=\"TBD\",\"\",VLOOKUP(HLOOKUP(S$5,$B$6:$I$15,Points!$A5+1,FALSE),'Cars & Results'!$A$7:$BZ$317,2*S$5+6,FALSE))","v":10},{"$f":"IF(HLOOKUP(S$5,$B$6:$I$15,Points!$A5+1,FALSE)=\"TBD\",\"\",IF(VLOOKUP(HLOOKUP(S$5,$B$6:$I$15,Points!$A5+1,FALSE),'Cars & Results'!$A$7:$BZ$317,2*S$5+5)<=5,S9*0.5,0))","v":0},{"$f":"IF(HLOOKUP(U$5,$B$6:$I$15,Points!$A5+1,FALSE)=\"TBD\",\"\",VLOOKUP(HLOOKUP(U$5,$B$6:$I$15,Points!$A5+1,FALSE),'Cars & Results'!$A$7:$BZ$317,2*U$5+6,FALSE))","v":39},{"$f":"IF(HLOOKUP(U$5,$B$6:$I$15,Points!$A5+1,FALSE)=\"TBD\",\"\",IF(VLOOKUP(HLOOKUP(U$5,$B$6:$I$15,Points!$A5+1,FALSE),'Cars & Results'!$A$7:$BZ$317,2*U$5+5)<=5,U9*0.5,0))","v":19.5},{"$f":"IF(HLOOKUP(W$5,$B$6:$I$15,Points!$A5+1,FALSE)=\"TBD\",\"\",VLOOKUP(HLOOKUP(W$5,$B$6:$I$15,Points!$A5+1,FALSE),'Cars & Results'!$A$7:$BZ$317,2*W$5+6,FALSE))","v":25},{"$f":"IF(HLOOKUP(W$5,$B$6:$I$15,Points!$A5+1,FALSE)=\"TBD\",\"\",IF(VLOOKUP(HLOOKUP(W$5,$B$6:$I$15,Points!$A5+1,FALSE),'Cars & Results'!$A$7:$BZ$317,2*W$5+5)<=5,W9*0.5,0))","v":0},{"$f":"IF(HLOOKUP(Y$5,$B$6:$I$15,Points!$A5+1,FALSE)=\"TBD\",\"\",VLOOKUP(HLOOKUP(Y$5,$B$6:$I$15,Points!$A5+1,FALSE),'Cars & Results'!$A$7:$BZ$317,2*Y$5+6,FALSE))","v":18},{"$f":"IF(HLOOKUP(Y$5,$B$6:$I$15,Points!$A5+1,FALSE)=\"TBD\",\"\",IF(VLOOKUP(HLOOKUP(Y$5,$B$6:$I$15,Points!$A5+1,FALSE),'Cars & Results'!$A$7:$BZ$317,2*Y$5+5)<=5,Y9*0.5,0))","v":0},{"$f":"IF(HLOOKUP(AA$5,$B$6:$I$15,Points!$A5+1,FALSE)=\"TBD\",\"\",VLOOKUP(HLOOKUP(AA$5,$B$6:$I$15,Points!$A5+1,FALSE),'Cars & Results'!$A$7:$BZ$317,2*AA$5+6,FALSE))","v":29},{"$f":"IF(HLOOKUP(AA$5,$B$6:$I$15,Points!$A5+1,FALSE)=\"TBD\",\"\",IF(VLOOKUP(HLOOKUP(AA$5,$B$6:$I$15,Points!$A5+1,FALSE),'Cars & Results'!$A$7:$BZ$317,2*AA$5+5)<=5,AA9*0.5,0))","v":0}]
[{"$f":"VLOOKUP(HLOOKUP('Pick Distribution'!$P$2,$B$6:$I$15,5),'Current Owner Standings'!$A$71:$B$480,2,FALSE)","v":21},1,1,1,1,1,1,1,1,{"$f":"IF(ISNA(VLOOKUP($I10,'Cars & Results'!$A$6:$I$317,J$5,FALSE)),\"Invalid Number\",VLOOKUP($I10,'Cars & Results'!$A$6:$K$317,J$5,FALSE))","v":"Jamie McMurray"},{"$f":"IF(ISNA(VLOOKUP($I10,'Cars & Results'!$A$6:$I$317,K$5,FALSE)),\"Invalid Number\",VLOOKUP($I10,'Cars & Results'!$A$6:$K$317,K$5,FALSE))","v":"Chevrolet"},{"$f":"IF(ISNA(VLOOKUP($I10,'Cars & Results'!$A$6:$I$317,L$5,FALSE)),\"Invalid Number\",VLOOKUP($I10,'Cars & Results'!$A$6:$K$317,L$5,FALSE))","v":"Chip Ganassi Racing"},{"$f":"IF(HLOOKUP(M$5,$B$6:$I$15,Points!$A6+1,FALSE)=\"TBD\",\"\",VLOOKUP(HLOOKUP(M$5,$B$6:$I$15,Points!$A6+1,FALSE),'Cars & Results'!$A$7:$BZ$317,2*M$5+6,FALSE))","v":20},{"$f":"IF(HLOOKUP(M$5,$B$6:$I$15,Points!$A6+1,FALSE)=\"TBD\",\"\",IF(VLOOKUP(HLOOKUP(M$5,$B$6:$I$15,Points!$A6+1,FALSE),'Cars & Results'!$A$7:$BZ$317,2*M$5+5)<=5,M10*0.5,0))","v":0},{"$f":"IF(HLOOKUP(O$5,$B$6:$I$15,Points!$A6+1,FALSE)=\"TBD\",\"\",VLOOKUP(HLOOKUP(O$5,$B$6:$I$15,Points!$A6+1,FALSE),'Cars & Results'!$A$7:$BZ$317,2*O$5+6,FALSE))","v":19},{"$f":"IF(HLOOKUP(O$5,$B$6:$I$15,Points!$A6+1,FALSE)=\"TBD\",\"\",IF(VLOOKUP(HLOOKUP(O$5,$B$6:$I$15,Points!$A6+1,FALSE),'Cars & Results'!$A$7:$BZ$317,2*O$5+5)<=5,O10*0.5,0))","v":0},{"$f":"IF(HLOOKUP(Q$5,$B$6:$I$15,Points!$A6+1,FALSE)=\"TBD\",\"\",VLOOKUP(HLOOKUP(Q$5,$B$6:$I$15,Points!$A6+1,FALSE),'Cars & Results'!$A$7:$BZ$317,2*Q$5+6,FALSE))","v":25},{"$f":"IF(HLOOKUP(Q$5,$B$6:$I$15,Points!$A6+1,FALSE)=\"TBD\",\"\",IF(VLOOKUP(HLOOKUP(Q$5,$B$6:$I$15,Points!$A6+1,FALSE),'Cars & Results'!$A$7:$BZ$317,2*Q$5+5)<=5,Q10*0.5,0))","v":0},{"$f":"IF(HLOOKUP(S$5,$B$6:$I$15,Points!$A6+1,FALSE)=\"TBD\",\"\",VLOOKUP(HLOOKUP(S$5,$B$6:$I$15,Points!$A6+1,FALSE),'Cars & Results'!$A$7:$BZ$317,2*S$5+6,FALSE))","v":35},{"$f":"IF(HLOOKUP(S$5,$B$6:$I$15,Points!$A6+1,FALSE)=\"TBD\",\"\",IF(VLOOKUP(HLOOKUP(S$5,$B$6:$I$15,Points!$A6+1,FALSE),'Cars & Results'!$A$7:$BZ$317,2*S$5+5)<=5,S10*0.5,0))","v":0},{"$f":"IF(HLOOKUP(U$5,$B$6:$I$15,Points!$A6+1,FALSE)=\"TBD\",\"\",VLOOKUP(HLOOKUP(U$5,$B$6:$I$15,Points!$A6+1,FALSE),'Cars & Results'!$A$7:$BZ$317,2*U$5+6,FALSE))","v":16},{"$f":"IF(HLOOKUP(U$5,$B$6:$I$15,Points!$A6+1,FALSE)=\"TBD\",\"\",IF(VLOOKUP(HLOOKUP(U$5,$B$6:$I$15,Points!$A6+1,FALSE),'Cars & Results'!$A$7:$BZ$317,2*U$5+5)<=5,U10*0.5,0))","v":0},{"$f":"IF(HLOOKUP(W$5,$B$6:$I$15,Points!$A6+1,FALSE)=\"TBD\",\"\",VLOOKUP(HLOOKUP(W$5,$B$6:$I$15,Points!$A6+1,FALSE),'Cars & Results'!$A$7:$BZ$317,2*W$5+6,FALSE))","v":8},{"$f":"IF(HLOOKUP(W$5,$B$6:$I$15,Points!$A6+1,FALSE)=\"TBD\",\"\",IF(VLOOKUP(HLOOKUP(W$5,$B$6:$I$15,Points!$A6+1,FALSE),'Cars & Results'!$A$7:$BZ$317,2*W$5+5)<=5,W10*0.5,0))","v":0},{"$f":"IF(HLOOKUP(Y$5,$B$6:$I$15,Points!$A6+1,FALSE)=\"TBD\",\"\",VLOOKUP(HLOOKUP(Y$5,$B$6:$I$15,Points!$A6+1,FALSE),'Cars & Results'!$A$7:$BZ$317,2*Y$5+6,FALSE))","v":30},{"$f":"IF(HLOOKUP(Y$5,$B$6:$I$15,Points!$A6+1,FALSE)=\"TBD\",\"\",IF(VLOOKUP(HLOOKUP(Y$5,$B$6:$I$15,Points!$A6+1,FALSE),'Cars & Results'!$A$7:$BZ$317,2*Y$5+5)<=5,Y10*0.5,0))","v":0},{"$f":"IF(HLOOKUP(AA$5,$B$6:$I$15,Points!$A6+1,FALSE)=\"TBD\",\"\",VLOOKUP(HLOOKUP(AA$5,$B$6:$I$15,Points!$A6+1,FALSE),'Cars & Results'!$A$7:$BZ$317,2*AA$5+6,FALSE))","v":30},{"$f":"IF(HLOOKUP(AA$5,$B$6:$I$15,Points!$A6+1,FALSE)=\"TBD\",\"\",IF(VLOOKUP(HLOOKUP(AA$5,$B$6:$I$15,Points!$A6+1,FALSE),'Cars & Results'!$A$7:$BZ$317,2*AA$5+5)<=5,AA10*0.5,0))","v":0}]
[{"$f":"VLOOKUP(HLOOKUP('Pick Distribution'!$P$2,$B$6:$I$15,6),'Current Owner Standings'!$A$71:$B$480,2,FALSE)","v":28},43,43,43,43,43,43,43,43,{"$f":"IF(ISNA(VLOOKUP($I11,'Cars & Results'!$A$6:$I$317,J$5,FALSE)),\"Invalid Number\",VLOOKUP($I11,'Cars & Results'!$A$6:$K$317,J$5,FALSE))","v":"Darrell Wallace Jr. (R)"},{"$f":"IF(ISNA(VLOOKUP($I11,'Cars & Results'!$A$6:$I$317,K$5,FALSE)),\"Invalid Number\",VLOOKUP($I11,'Cars & Results'!$A$6:$K$317,K$5,FALSE))","v":"Chevrolet"},{"$f":"IF(ISNA(VLOOKUP($I11,'Cars & Results'!$A$6:$I$317,L$5,FALSE)),\"Invalid Number\",VLOOKUP($I11,'Cars & Results'!$A$6:$K$317,L$5,FALSE))","v":"Richard Petty Motorsports"},{"$f":"IF(HLOOKUP(M$5,$B$6:$I$15,Points!$A7+1,FALSE)=\"TBD\",\"\",VLOOKUP(HLOOKUP(M$5,$B$6:$I$15,Points!$A7+1,FALSE),'Cars & Results'!$A$7:$BZ$317,2*M$5+6,FALSE))","v":10},{"$f":"IF(HLOOKUP(M$5,$B$6:$I$15,Points!$A7+1,FALSE)=\"TBD\",\"\",IF(VLOOKUP(HLOOKUP(M$5,$B$6:$I$15,Points!$A7+1,FALSE),'Cars & Results'!$A$7:$BZ$317,2*M$5+5)<=10,M11*1.5,0))","v":0},{"$f":"IF(HLOOKUP(O$5,$B$6:$I$15,Points!$A7+1,FALSE)=\"TBD\",\"\",VLOOKUP(HLOOKUP(O$5,$B$6:$I$15,Points!$A7+1,FALSE),'Cars & Results'!$A$7:$BZ$317,2*O$5+6,FALSE))","v":13},{"$f":"IF(HLOOKUP(O$5,$B$6:$I$15,Points!$A7+1,FALSE)=\"TBD\",\"\",IF(VLOOKUP(HLOOKUP(O$5,$B$6:$I$15,Points!$A7+1,FALSE),'Cars & Results'!$A$7:$BZ$317,2*O$5+5)<=10,O11*1.5,0))","v":0},{"$f":"IF(HLOOKUP(Q$5,$B$6:$I$15,Points!$A7+1,FALSE)=\"TBD\",\"\",VLOOKUP(HLOOKUP(Q$5,$B$6:$I$15,Points!$A7+1,FALSE),'Cars & Results'!$A$7:$BZ$317,2*Q$5+6,FALSE))","v":4},{"$f":"IF(HLOOKUP(Q$5,$B$6:$I$15,Points!$A7+1,FALSE)=\"TBD\",\"\",IF(VLOOKUP(HLOOKUP(Q$5,$B$6:$I$15,Points!$A7+1,FALSE),'Cars & Results'!$A$7:$BZ$317,2*Q$5+5)<=10,Q11*1.5,0))","v":0},{"$f":"IF(HLOOKUP(S$5,$B$6:$I$15,Points!$A7+1,FALSE)=\"TBD\",\"\",VLOOKUP(HLOOKUP(S$5,$B$6:$I$15,Points!$A7+1,FALSE),'Cars & Results'!$A$7:$BZ$317,2*S$5+6,FALSE))","v":12},{"$f":"IF(HLOOKUP(S$5,$B$6:$I$15,Points!$A7+1,FALSE)=\"TBD\",\"\",IF(VLOOKUP(HLOOKUP(S$5,$B$6:$I$15,Points!$A7+1,FALSE),'Cars & Results'!$A$7:$BZ$317,2*S$5+5)<=10,S11*1.5,0))","v":0},{"$f":"IF(HLOOKUP(U$5,$B$6:$I$15,Points!$A7+1,FALSE)=\"TBD\",\"\",VLOOKUP(HLOOKUP(U$5,$B$6:$I$15,Points!$A7+1,FALSE),'Cars & Results'!$A$7:$BZ$317,2*U$5+6,FALSE))","v":14},{"$f":"IF(HLOOKUP(U$5,$B$6:$I$15,Points!$A7+1,FALSE)=\"TBD\",\"\",IF(VLOOKUP(HLOOKUP(U$5,$B$6:$I$15,Points!$A7+1,FALSE),'Cars & Results'!$A$7:$BZ$317,2*U$5+5)<=10,U11*1.5,0))","v":0},{"$f":"IF(HLOOKUP(W$5,$B$6:$I$15,Points!$A7+1,FALSE)=\"TBD\",\"\",VLOOKUP(HLOOKUP(W$5,$B$6:$I$15,Points!$A7+1,FALSE),'Cars & Results'!$A$7:$BZ$317,2*W$5+6,FALSE))","v":1},{"$f":"IF(HLOOKUP(W$5,$B$6:$I$15,Points!$A7+1,FALSE)=\"TBD\",\"\",IF(VLOOKUP(HLOOKUP(W$5,$B$6:$I$15,Points!$A7+1,FALSE),'Cars & Results'!$A$7:$BZ$317,2*W$5+5)<=10,W11*1.5,0))","v":0},{"$f":"IF(HLOOKUP(Y$5,$B$6:$I$15,Points!$A7+1,FALSE)=\"TBD\",\"\",VLOOKUP(HLOOKUP(Y$5,$B$6:$I$15,Points!$A7+1,FALSE),'Cars & Results'!$A$7:$BZ$317,2*Y$5+6,FALSE))","v":11},{"$f":"IF(HLOOKUP(Y$5,$B$6:$I$15,Points!$A7+1,FALSE)=\"TBD\",\"\",IF(VLOOKUP(HLOOKUP(Y$5,$B$6:$I$15,Points!$A7+1,FALSE),'Cars & Results'!$A$7:$BZ$317,2*Y$5+5)<=10,Y11*1.5,0))","v":0},{"$f":"IF(HLOOKUP(AA$5,$B$6:$I$15,Points!$A7+1,FALSE)=\"TBD\",\"\",VLOOKUP(HLOOKUP(AA$5,$B$6:$I$15,Points!$A7+1,FALSE),'Cars & Results'!$A$7:$BZ$317,2*AA$5+6,FALSE))","v":1},{"$f":"IF(HLOOKUP(AA$5,$B$6:$I$15,Points!$A7+1,FALSE)=\"TBD\",\"\",IF(VLOOKUP(HLOOKUP(AA$5,$B$6:$I$15,Points!$A7+1,FALSE),'Cars & Results'!$A$7:$BZ$317,2*AA$5+5)<=10,AA11*1.5,0))","v":0}]
[{"$f":"VLOOKUP(HLOOKUP('Pick Distribution'!$P$2,$B$6:$I$15,7),'Current Owner Standings'!$A$71:$B$480,2,FALSE)","v":25},38,38,38,38,38,38,38,38,{"$f":"IF(ISNA(VLOOKUP($I12,'Cars & Results'!$A$6:$I$317,J$5,FALSE)),\"Invalid Number\",VLOOKUP($I12,'Cars & Results'!$A$6:$K$317,J$5,FALSE))","v":"David Ragan"},{"$f":"IF(ISNA(VLOOKUP($I12,'Cars & Results'!$A$6:$I$317,K$5,FALSE)),\"Invalid Number\",VLOOKUP($I12,'Cars & Results'!$A$6:$K$317,K$5,FALSE))","v":"Ford"},{"$f":"IF(ISNA(VLOOKUP($I12,'Cars & Results'!$A$6:$I$317,L$5,FALSE)),\"Invalid Number\",VLOOKUP($I12,'Cars & Results'!$A$6:$K$317,L$5,FALSE))","v":"Front Row Motorsports"},{"$f":"IF(HLOOKUP(M$5,$B$6:$I$15,Points!$A8+1,FALSE)=\"TBD\",\"\",VLOOKUP(HLOOKUP(M$5,$B$6:$I$15,Points!$A8+1,FALSE),'Cars & Results'!$A$7:$BZ$317,2*M$5+6,FALSE))","v":19},{"$f":"IF(HLOOKUP(M$5,$B$6:$I$15,Points!$A8+1,FALSE)=\"TBD\",\"\",IF(VLOOKUP(HLOOKUP(M$5,$B$6:$I$15,Points!$A8+1,FALSE),'Cars & Results'!$A$7:$BZ$317,2*M$5+5)<=10,M12*1.5,0))","v":0},{"$f":"IF(HLOOKUP(O$5,$B$6:$I$15,Points!$A8+1,FALSE)=\"TBD\",\"\",VLOOKUP(HLOOKUP(O$5,$B$6:$I$15,Points!$A8+1,FALSE),'Cars & Results'!$A$7:$BZ$317,2*O$5+6,FALSE))","v":8},{"$f":"IF(HLOOKUP(O$5,$B$6:$I$15,Points!$A8+1,FALSE)=\"TBD\",\"\",IF(VLOOKUP(HLOOKUP(O$5,$B$6:$I$15,Points!$A8+1,FALSE),'Cars & Results'!$A$7:$BZ$317,2*O$5+5)<=10,O12*1.5,0))","v":0},{"$f":"IF(HLOOKUP(Q$5,$B$6:$I$15,Points!$A8+1,FALSE)=\"TBD\",\"\",VLOOKUP(HLOOKUP(Q$5,$B$6:$I$15,Points!$A8+1,FALSE),'Cars & Results'!$A$7:$BZ$317,2*Q$5+6,FALSE))","v":18},{"$f":"IF(HLOOKUP(Q$5,$B$6:$I$15,Points!$A8+1,FALSE)=\"TBD\",\"\",IF(VLOOKUP(HLOOKUP(Q$5,$B$6:$I$15,Points!$A8+1,FALSE),'Cars & Results'!$A$7:$BZ$317,2*Q$5+5)<=10,Q12*1.5,0))","v":0},{"$f":"IF(HLOOKUP(S$5,$B$6:$I$15,Points!$A8+1,FALSE)=\"TBD\",\"\",VLOOKUP(HLOOKUP(S$5,$B$6:$I$15,Points!$A8+1,FALSE),'Cars & Results'!$A$7:$BZ$317,2*S$5+6,FALSE))","v":11},{"$f":"IF(HLOOKUP(S$5,$B$6:$I$15,Points!$A8+1,FALSE)=\"TBD\",\"\",IF(VLOOKUP(HLOOKUP(S$5,$B$6:$I$15,Points!$A8+1,FALSE),'Cars & Results'!$A$7:$BZ$317,2*S$5+5)<=10,S12*1.5,0))","v":0},{"$f":"IF(HLOOKUP(U$5,$B$6:$I$15,Points!$A8+1,FALSE)=\"TBD\",\"\",VLOOKUP(HLOOKUP(U$5,$B$6:$I$15,Points!$A8+1,FALSE),'Cars & Results'!$A$7:$BZ$317,2*U$5+6,FALSE))","v":10},{"$f":"IF(HLOOKUP(U$5,$B$6:$I$15,Points!$A8+1,FALSE)=\"TBD\",\"\",IF(VLOOKUP(HLOOKUP(U$5,$B$6:$I$15,Points!$A8+1,FALSE),'Cars & Results'!$A$7:$BZ$317,2*U$5+5)<=10,U12*1.5,0))","v":0},{"$f":"IF(HLOOKUP(W$5,$B$6:$I$15,Points!$A8+1,FALSE)=\"TBD\",\"\",VLOOKUP(HLOOKUP(W$5,$B$6:$I$15,Points!$A8+1,FALSE),'Cars & Results'!$A$7:$BZ$317,2*W$5+6,FALSE))","v":20},{"$f":"IF(HLOOKUP(W$5,$B$6:$I$15,Points!$A8+1,FALSE)=\"TBD\",\"\",IF(VLOOKUP(HLOOKUP(W$5,$B$6:$I$15,Points!$A8+1,FALSE),'Cars & Results'!$A$7:$BZ$317,2*W$5+5)<=10,W12*1.5,0))","v":0},{"$f":"IF(HLOOKUP(Y$5,$B$6:$I$15,Points!$A8+1,FALSE)=\"TBD\",\"\",VLOOKUP(HLOOKUP(Y$5,$B$6:$I$15,Points!$A8+1,FALSE),'Cars & Results'!$A$7:$BZ$317,2*Y$5+6,FALSE))","v":19},{"$f":"IF(HLOOKUP(Y$5,$B$6:$I$15,Points!$A8+1,FALSE)=\"TBD\",\"\",IF(VLOOKUP(HLOOKUP(Y$5,$B$6:$I$15,Points!$A8+1,FALSE),'Cars & Results'!$A$7:$BZ$317,2*Y$5+5)<=10,Y12*1.5,0))","v":0},{"$f":"IF(HLOOKUP(AA$5,$B$6:$I$15,Points!$A8+1,FALSE)=\"TBD\",\"\",VLOOKUP(HLOOKUP(AA$5,$B$6:$I$15,Points!$A8+1,FALSE),'Cars & Results'!$A$7:$BZ$317,2*AA$5+6,FALSE))","v":13},{"$f":"IF(HLOOKUP(AA$5,$B$6:$I$15,Points!$A8+1,FALSE)=\"TBD\",\"\",IF(VLOOKUP(HLOOKUP(AA$5,$B$6:$I$15,Points!$A8+1,FALSE),'Cars & Results'!$A$7:$BZ$317,2*AA$5+5)<=10,AA12*1.5,0))","v":0}]
[{"$f":"VLOOKUP(HLOOKUP('Pick Distribution'!$P$2,$B$6:$I$15,8),'Current Owner Standings'!$A$71:$B$480,2,FALSE)","v":32},15,15,15,15,15,15,15,15,{"$f":"IF(ISNA(VLOOKUP($I13,'Cars & Results'!$A$6:$I$317,J$5,FALSE)),\"Invalid Number\",VLOOKUP($I13,'Cars & Results'!$A$6:$K$317,J$5,FALSE))","v":"Ross Chastain (i)"},{"$f":"IF(ISNA(VLOOKUP($I13,'Cars & Results'!$A$6:$I$317,K$5,FALSE)),\"Invalid Number\",VLOOKUP($I13,'Cars & Results'!$A$6:$K$317,K$5,FALSE))","v":"Chevrolet"},{"$f":"IF(ISNA(VLOOKUP($I13,'Cars & Results'!$A$6:$I$317,L$5,FALSE)),\"Invalid Number\",VLOOKUP($I13,'Cars & Results'!$A$6:$K$317,L$5,FALSE))","v":"Premium Motorsports"},{"$f":"IF(HLOOKUP(M$5,$B$6:$I$15,Points!$A9+1,FALSE)=\"TBD\",\"\",VLOOKUP(HLOOKUP(M$5,$B$6:$I$15,Points!$A9+1,FALSE),'Cars & Results'!$A$7:$BZ$317,2*M$5+6,FALSE))","v":9},{"$f":"IF(HLOOKUP(M$5,$B$6:$I$15,Points!$A9+1,FALSE)=\"TBD\",\"\",IF(VLOOKUP(HLOOKUP(M$5,$B$6:$I$15,Points!$A9+1,FALSE),'Cars & Results'!$A$7:$BZ$317,2*M$5+5)<=10,M13*2,0))","v":0},{"$f":"IF(HLOOKUP(O$5,$B$6:$I$15,Points!$A9+1,FALSE)=\"TBD\",\"\",VLOOKUP(HLOOKUP(O$5,$B$6:$I$15,Points!$A9+1,FALSE),'Cars & Results'!$A$7:$BZ$317,2*O$5+6,FALSE))","v":12},{"$f":"IF(HLOOKUP(O$5,$B$6:$I$15,Points!$A9+1,FALSE)=\"TBD\",\"\",IF(VLOOKUP(HLOOKUP(O$5,$B$6:$I$15,Points!$A9+1,FALSE),'Cars & Results'!$A$7:$BZ$317,2*O$5+5)<=10,O13*2,0))","v":0},{"$f":"IF(HLOOKUP(Q$5,$B$6:$I$15,Points!$A9+1,FALSE)=\"TBD\",\"\",VLOOKUP(HLOOKUP(Q$5,$B$6:$I$15,Points!$A9+1,FALSE),'Cars & Results'!$A$7:$BZ$317,2*Q$5+6,FALSE))","v":2},{"$f":"IF(HLOOKUP(Q$5,$B$6:$I$15,Points!$A9+1,FALSE)=\"TBD\",\"\",IF(VLOOKUP(HLOOKUP(Q$5,$B$6:$I$15,Points!$A9+1,FALSE),'Cars & Results'!$A$7:$BZ$317,2*Q$5+5)<=10,Q13*2,0))","v":0},{"$f":"IF(HLOOKUP(S$5,$B$6:$I$15,Points!$A9+1,FALSE)=\"TBD\",\"\",VLOOKUP(HLOOKUP(S$5,$B$6:$I$15,Points!$A9+1,FALSE),'Cars & Results'!$A$7:$BZ$317,2*S$5+6,FALSE))","v":5},{"$f":"IF(HLOOKUP(S$5,$B$6:$I$15,Points!$A9+1,FALSE)=\"TBD\",\"\",IF(VLOOKUP(HLOOKUP(S$5,$B$6:$I$15,Points!$A9+1,FALSE),'Cars & Results'!$A$7:$BZ$317,2*S$5+5)<=10,S13*2,0))","v":0},{"$f":"IF(HLOOKUP(U$5,$B$6:$I$15,Points!$A9+1,FALSE)=\"TBD\",\"\",VLOOKUP(HLOOKUP(U$5,$B$6:$I$15,Points!$A9+1,FALSE),'Cars & Results'!$A$7:$BZ$317,2*U$5+6,FALSE))","v":2},{"$f":"IF(HLOOKUP(U$5,$B$6:$I$15,Points!$A9+1,FALSE)=\"TBD\",\"\",IF(VLOOKUP(HLOOKUP(U$5,$B$6:$I$15,Points!$A9+1,FALSE),'Cars & Results'!$A$7:$BZ$317,2*U$5+5)<=10,U13*2,0))","v":0},{"$f":"IF(HLOOKUP(W$5,$B$6:$I$15,Points!$A9+1,FALSE)=\"TBD\",\"\",VLOOKUP(HLOOKUP(W$5,$B$6:$I$15,Points!$A9+1,FALSE),'Cars & Results'!$A$7:$BZ$317,2*W$5+6,FALSE))","v":11},{"$f":"IF(HLOOKUP(W$5,$B$6:$I$15,Points!$A9+1,FALSE)=\"TBD\",\"\",IF(VLOOKUP(HLOOKUP(W$5,$B$6:$I$15,Points!$A9+1,FALSE),'Cars & Results'!$A$7:$BZ$317,2*W$5+5)<=10,W13*2,0))","v":0},{"$f":"IF(HLOOKUP(Y$5,$B$6:$I$15,Points!$A9+1,FALSE)=\"TBD\",\"\",VLOOKUP(HLOOKUP(Y$5,$B$6:$I$15,Points!$A9+1,FALSE),'Cars & Results'!$A$7:$BZ$317,2*Y$5+6,FALSE))","v":9},{"$f":"IF(HLOOKUP(Y$5,$B$6:$I$15,Points!$A9+1,FALSE)=\"TBD\",\"\",IF(VLOOKUP(HLOOKUP(Y$5,$B$6:$I$15,Points!$A9+1,FALSE),'Cars & Results'!$A$7:$BZ$317,2*Y$5+5)<=10,Y13*2,0))","v":0},{"$f":"IF(HLOOKUP(AA$5,$B$6:$I$15,Points!$A9+1,FALSE)=\"TBD\",\"\",VLOOKUP(HLOOKUP(AA$5,$B$6:$I$15,Points!$A9+1,FALSE),'Cars & Results'!$A$7:$BZ$317,2*AA$5+6,FALSE))","v":11},{"$f":"IF(HLOOKUP(AA$5,$B$6:$I$15,Points!$A9+1,FALSE)=\"TBD\",\"\",IF(VLOOKUP(HLOOKUP(AA$5,$B$6:$I$15,Points!$A9+1,FALSE),'Cars & Results'!$A$7:$BZ$317,2*AA$5+5)<=10,AA13*2,0))","v":0}]
[{"$f":"VLOOKUP(HLOOKUP('Pick Distribution'!$P$2,$B$6:$I$15,9),'Current Owner Standings'!$A$71:$B$480,2,FALSE)","v":36},51,51,51,51,51,51,51,51,{"$f":"IF(ISNA(VLOOKUP($I14,'Cars & Results'!$A$6:$I$317,J$5,FALSE)),\"Invalid Number\",VLOOKUP($I14,'Cars & Results'!$A$6:$K$317,J$5,FALSE))","v":"David Starr (i)"},{"$f":"IF(ISNA(VLOOKUP($I14,'Cars & Results'!$A$6:$I$317,K$5,FALSE)),\"Invalid Number\",VLOOKUP($I14,'Cars & Results'!$A$6:$K$317,K$5,FALSE))","v":"Ford"},{"$f":"IF(ISNA(VLOOKUP($I14,'Cars & Results'!$A$6:$I$317,L$5,FALSE)),\"Invalid Number\",VLOOKUP($I14,'Cars & Results'!$A$6:$K$317,L$5,FALSE))","v":"Rick Ware Racing"},{"$f":"IF(HLOOKUP(M$5,$B$6:$I$15,Points!$A10+1,FALSE)=\"TBD\",\"\",VLOOKUP(HLOOKUP(M$5,$B$6:$I$15,Points!$A10+1,FALSE),'Cars & Results'!$A$7:$BZ$317,2*M$5+6,FALSE))","v":5},{"$f":"IF(HLOOKUP(M$5,$B$6:$I$15,Points!$A10+1,FALSE)=\"TBD\",\"\",IF(VLOOKUP(HLOOKUP(M$5,$B$6:$I$15,Points!$A10+1,FALSE),'Cars & Results'!$A$7:$BZ$317,2*M$5+5)<=10,M14*3,0))","v":0},{"$f":"IF(HLOOKUP(O$5,$B$6:$I$15,Points!$A10+1,FALSE)=\"TBD\",\"\",VLOOKUP(HLOOKUP(O$5,$B$6:$I$15,Points!$A10+1,FALSE),'Cars & Results'!$A$7:$BZ$317,2*O$5+6,FALSE))","v":3},{"$f":"IF(HLOOKUP(O$5,$B$6:$I$15,Points!$A10+1,FALSE)=\"TBD\",\"\",IF(VLOOKUP(HLOOKUP(O$5,$B$6:$I$15,Points!$A10+1,FALSE),'Cars & Results'!$A$7:$BZ$317,2*O$5+5)<=10,O14*3,0))","v":0},{"$f":"IF(HLOOKUP(Q$5,$B$6:$I$15,Points!$A10+1,FALSE)=\"TBD\",\"\",VLOOKUP(HLOOKUP(Q$5,$B$6:$I$15,Points!$A10+1,FALSE),'Cars & Results'!$A$7:$BZ$317,2*Q$5+6,FALSE))","v":1},{"$f":"IF(HLOOKUP(Q$5,$B$6:$I$15,Points!$A10+1,FALSE)=\"TBD\",\"\",IF(VLOOKUP(HLOOKUP(Q$5,$B$6:$I$15,Points!$A10+1,FALSE),'Cars & Results'!$A$7:$BZ$317,2*Q$5+5)<=10,Q14*3,0))","v":0},{"$f":"IF(HLOOKUP(S$5,$B$6:$I$15,Points!$A10+1,FALSE)=\"TBD\",\"\",VLOOKUP(HLOOKUP(S$5,$B$6:$I$15,Points!$A10+1,FALSE),'Cars & Results'!$A$7:$BZ$317,2*S$5+6,FALSE))","v":1},{"$f":"IF(HLOOKUP(S$5,$B$6:$I$15,Points!$A10+1,FALSE)=\"TBD\",\"\",IF(VLOOKUP(HLOOKUP(S$5,$B$6:$I$15,Points!$A10+1,FALSE),'Cars & Results'!$A$7:$BZ$317,2*S$5+5)<=10,S14*3,0))","v":0},{"$f":"IF(HLOOKUP(U$5,$B$6:$I$15,Points!$A10+1,FALSE)=\"TBD\",\"\",VLOOKUP(HLOOKUP(U$5,$B$6:$I$15,Points!$A10+1,FALSE),'Cars & Results'!$A$7:$BZ$317,2*U$5+6,FALSE))","v":6},{"$f":"IF(HLOOKUP(U$5,$B$6:$I$15,Points!$A10+1,FALSE)=\"TBD\",\"\",IF(VLOOKUP(HLOOKUP(U$5,$B$6:$I$15,Points!$A10+1,FALSE),'Cars & Results'!$A$7:$BZ$317,2*U$5+5)<=10,U14*3,0))","v":0},{"$f":"IF(HLOOKUP(W$5,$B$6:$I$15,Points!$A10+1,FALSE)=\"TBD\",\"\",VLOOKUP(HLOOKUP(W$5,$B$6:$I$15,Points!$A10+1,FALSE),'Cars & Results'!$A$7:$BZ$317,2*W$5+6,FALSE))","v":4},{"$f":"IF(HLOOKUP(W$5,$B$6:$I$15,Points!$A10+1,FALSE)=\"TBD\",\"\",IF(VLOOKUP(HLOOKUP(W$5,$B$6:$I$15,Points!$A10+1,FALSE),'Cars & Results'!$A$7:$BZ$317,2*W$5+5)<=10,W14*3,0))","v":0},{"$f":"IF(HLOOKUP(Y$5,$B$6:$I$15,Points!$A10+1,FALSE)=\"TBD\",\"\",VLOOKUP(HLOOKUP(Y$5,$B$6:$I$15,Points!$A10+1,FALSE),'Cars & Results'!$A$7:$BZ$317,2*Y$5+6,FALSE))","v":5},{"$f":"IF(HLOOKUP(Y$5,$B$6:$I$15,Points!$A10+1,FALSE)=\"TBD\",\"\",IF(VLOOKUP(HLOOKUP(Y$5,$B$6:$I$15,Points!$A10+1,FALSE),'Cars & Results'!$A$7:$BZ$317,2*Y$5+5)<=10,Y14*3,0))","v":0},{"$f":"IF(HLOOKUP(AA$5,$B$6:$I$15,Points!$A10+1,FALSE)=\"TBD\",\"\",VLOOKUP(HLOOKUP(AA$5,$B$6:$I$15,Points!$A10+1,FALSE),'Cars & Results'!$A$7:$BZ$317,2*AA$5+6,FALSE))","v":1},{"$f":"IF(HLOOKUP(AA$5,$B$6:$I$15,Points!$A10+1,FALSE)=\"TBD\",\"\",IF(VLOOKUP(HLOOKUP(AA$5,$B$6:$I$15,Points!$A10+1,FALSE),'Cars & Results'!$A$7:$BZ$317,2*AA$5+5)<=10,AA14*3,0))","v":0}]
[{"$f":"VLOOKUP(HLOOKUP('Pick Distribution'!$P$2,$B$6:$I$15,10),'Current Owner Standings'!$A$71:$B$480,2,FALSE)","v":33},42,23,"00",96,7,2,66,72,{"$f":"IF(ISNA(VLOOKUP($I15,'Cars & Results'!$A$6:$I$317,J$5,FALSE)),\"Invalid Number\",VLOOKUP($I15,'Cars & Results'!$A$6:$K$317,J$5,FALSE))","v":"Corey LaJoie"},{"$f":"IF(ISNA(VLOOKUP($I15,'Cars & Results'!$A$6:$I$317,K$5,FALSE)),\"Invalid Number\",VLOOKUP($I15,'Cars & Results'!$A$6:$K$317,K$5,FALSE))","v":"Chevrolet"},{"$f":"IF(ISNA(VLOOKUP($I15,'Cars & Results'!$A$6:$I$317,L$5,FALSE)),\"Invalid Number\",VLOOKUP($I15,'Cars & Results'!$A$6:$K$317,L$5,FALSE))","v":"TriStar Motorsports"},{"$f":"IF(HLOOKUP(M$5,$B$6:$I$15,Points!$A11+1,FALSE)=\"TBD\",\"\",VLOOKUP(HLOOKUP(M$5,$B$6:$I$15,Points!$A11+1,FALSE),'Cars & Results'!$A$7:$BZ$317,2*M$5+6,FALSE))","v":37},0,{"$f":"IF(HLOOKUP(O$5,$B$6:$I$15,Points!$A11+1,FALSE)=\"TBD\",\"\",VLOOKUP(HLOOKUP(O$5,$B$6:$I$15,Points!$A11+1,FALSE),'Cars & Results'!$A$7:$BZ$317,2*O$5+6,FALSE))","v":4},0,{"$f":"IF(HLOOKUP(Q$5,$B$6:$I$15,Points!$A11+1,FALSE)=\"TBD\",\"\",VLOOKUP(HLOOKUP(Q$5,$B$6:$I$15,Points!$A11+1,FALSE),'Cars & Results'!$A$7:$BZ$317,2*Q$5+6,FALSE))","v":0},0,{"$f":"IF(HLOOKUP(S$5,$B$6:$I$15,Points!$A11+1,FALSE)=\"TBD\",\"\",VLOOKUP(HLOOKUP(S$5,$B$6:$I$15,Points!$A11+1,FALSE),'Cars & Results'!$A$7:$BZ$317,2*S$5+6,FALSE))","v":13},0,{"$f":"IF(HLOOKUP(U$5,$B$6:$I$15,Points!$A11+1,FALSE)=\"TBD\",\"\",VLOOKUP(HLOOKUP(U$5,$B$6:$I$15,Points!$A11+1,FALSE),'Cars & Results'!$A$7:$BZ$317,2*U$5+6,FALSE))","v":5},0,{"$f":"IF(HLOOKUP(W$5,$B$6:$I$15,Points!$A11+1,FALSE)=\"TBD\",\"\",VLOOKUP(HLOOKUP(W$5,$B$6:$I$15,Points!$A11+1,FALSE),'Cars & Results'!$A$7:$BZ$317,2*W$5+6,FALSE))","v":21},0,{"$f":"IF(HLOOKUP(Y$5,$B$6:$I$15,Points!$A11+1,FALSE)=\"TBD\",\"\",VLOOKUP(HLOOKUP(Y$5,$B$6:$I$15,Points!$A11+1,FALSE),'Cars & Results'!$A$7:$BZ$317,2*Y$5+6,FALSE))","v":1},0,{"$f":"IF(HLOOKUP(AA$5,$B$6:$I$15,Points!$A11+1,FALSE)=\"TBD\",\"\",VLOOKUP(HLOOKUP(AA$5,$B$6:$I$15,Points!$A11+1,FALSE),'Cars & Results'!$A$7:$BZ$317,2*AA$5+6,FALSE))","v":10},{"$f":"IF(HLOOKUP(AA$5,$B$6:$I$15,Points!$A11+1,FALSE)=\"TBD\",\"\",IF(AND(VLOOKUP(HLOOKUP(AA$5,$B$6:$I$15,Points!$A11+1,FALSE),'Cars & Results'!$A$7:$BZ$317,2*AA$5+5)<=3,$A$15<=25),AA15*1,IF(AND(VLOOKUP(HLOOKUP(AA$5,$B$6:$I$15,Points!$A11+1,FALSE),'Cars & Results'!$A$7:$BZ$317,2*AA$5+5)<=10,$A$15>25),AA15*3,0)))","v":0}]
[null,null,null,null,null,null,null,null,null,null,null,"Segment 1",null,{"$f":"IF(INDIRECT(ADDRESS(321,5+(M5*2),1,1,\"Cars & Results\"),TRUE)=\"Y\",IF(ISERROR(MATCH(INDIRECT(ADDRESS(318,5+(M5*2),1,1,\"Cars & Results\"),TRUE),B7:B15,0))=TRUE,0,10),\"\")","v":10},null,{"$f":"IF(INDIRECT(ADDRESS(321,5+(O5*2),1,1,\"Cars & Results\"),TRUE)=\"Y\",IF(ISERROR(MATCH(INDIRECT(ADDRESS(318,5+(O5*2),1,1,\"Cars & Results\"),TRUE),C7:C15,0))=TRUE,0,10),\"\")","v":10},null,{"$f":"IF(INDIRECT(ADDRESS(321,5+(Q5*2),1,1,\"Cars & Results\"),TRUE)=\"Y\",IF(ISERROR(MATCH(INDIRECT(ADDRESS(318,5+(Q5*2),1,1,\"Cars & Results\"),TRUE),D7:D15,0))=TRUE,0,10),\"\")","v":0},null,{"$f":"IF(INDIRECT(ADDRESS(321,5+(S5*2),1,1,\"Cars & Results\"),TRUE)=\"Y\",IF(ISERROR(MATCH(INDIRECT(ADDRESS(318,5+(S5*2),1,1,\"Cars & Results\"),TRUE),E7:E15,0))=TRUE,0,10),\"\")","v":10},null,{"$f":"IF(INDIRECT(ADDRESS(321,5+(U5*2),1,1,\"Cars & Results\"),TRUE)=\"Y\",IF(ISERROR(MATCH(INDIRECT(ADDRESS(318,5+(U5*2),1,1,\"Cars & Results\"),TRUE),F7:F15,0))=TRUE,0,10),\"\")","v":0},null,{"$f":"IF(INDIRECT(ADDRESS(321,5+(W5*2),1,1,\"Cars & Results\"),TRUE)=\"Y\",IF(ISERROR(MATCH(INDIRECT(ADDRESS(318,5+(W5*2),1,1,\"Cars & Results\"),TRUE),G7:G15,0))=TRUE,0,10),\"\")","v":0},null,{"$f":"IF(INDIRECT(ADDRESS(321,5+(Y5*2),1,1,\"Cars & Results\"),TRUE)=\"Y\",IF(ISERROR(MATCH(INDIRECT(ADDRESS(318,5+(Y5*2),1,1,\"Cars & Results\"),TRUE),H7:H15,0))=TRUE,0,10),\"\")","v":0},null,{"$f":"IF(INDIRECT(ADDRESS(321,5+(AA5*2),1,1,\"Cars & Results\"),TRUE)=\"Y\",IF(ISERROR(MATCH(INDIRECT(ADDRESS(318,5+(AA5*2),1,1,\"Cars & Results\"),TRUE),I7:I15,0))=TRUE,0,10),\"\")","v":0}]
[null,null,null,null,null,null,null,null,null,null,null,"Segment 2",null,{"$f":"IF(INDIRECT(ADDRESS(321,5+(M5*2),1,1,\"Cars & Results\"),TRUE)=\"Y\",IF(ISERROR(MATCH(INDIRECT(ADDRESS(319,5+(M5*2),1,1,\"Cars & Results\"),TRUE),B7:B15,0))=TRUE,0,10),\"\")","v":10},null,{"$f":"IF(INDIRECT(ADDRESS(321,5+(O5*2),1,1,\"Cars & Results\"),TRUE)=\"Y\",IF(ISERROR(MATCH(INDIRECT(ADDRESS(319,5+(O5*2),1,1,\"Cars & Results\"),TRUE),C7:C15,0))=TRUE,0,10),\"\")","v":0},null,{"$f":"IF(INDIRECT(ADDRESS(321,5+(Q5*2),1,1,\"Cars & Results\"),TRUE)=\"Y\",IF(ISERROR(MATCH(INDIRECT(ADDRESS(319,5+(Q5*2),1,1,\"Cars & Results\"),TRUE),D7:D15,0))=TRUE,0,10),\"\")","v":0},null,{"$f":"IF(INDIRECT(ADDRESS(321,5+(S5*2),1,1,\"Cars & Results\"),TRUE)=\"Y\",IF(ISERROR(MATCH(INDIRECT(ADDRESS(319,5+(S5*2),1,1,\"Cars & Results\"),TRUE),E7:E15,0))=TRUE,0,10),\"\")","v":0},null,{"$f":"IF(INDIRECT(ADDRESS(321,5+(U5*2),1,1,\"Cars & Results\"),TRUE)=\"Y\",IF(ISERROR(MATCH(INDIRECT(ADDRESS(319,5+(U5*2),1,1,\"Cars & Results\"),TRUE),F7:F15,0))=TRUE,0,10),\"\")","v":0},null,{"$f":"IF(INDIRECT(ADDRESS(321,5+(W5*2),1,1,\"Cars & Results\"),TRUE)=\"Y\",IF(ISERROR(MATCH(INDIRECT(ADDRESS(319,5+(W5*2),1,1,\"Cars & Results\"),TRUE),G7:G15,0))=TRUE,0,10),\"\")","v":0},null,{"$f":"IF(INDIRECT(ADDRESS(321,5+(Y5*2),1,1,\"Cars & Results\"),TRUE)=\"Y\",IF(ISERROR(MATCH(INDIRECT(ADDRESS(319,5+(Y5*2),1,1,\"Cars & Results\"),TRUE),H7:H15,0))=TRUE,0,10),\"\")","v":0},null,{"$f":"IF(INDIRECT(ADDRESS(321,5+(AA5*2),1,1,\"Cars & Results\"),TRUE)=\"Y\",IF(ISERROR(MATCH(INDIRECT(ADDRESS(319,5+(AA5*2),1,1,\"Cars & Results\"),TRUE),I7:I15,0))=TRUE,0,10),\"\")","v":0}]
[null,null,null,null,null,null,null,null,null,null,null,"Segment 3",null,{"$f":"IF(INDIRECT(ADDRESS(321,5+(M5*2),1,1,\"Cars & Results\"),TRUE)=\"Y\",IF(ISERROR(MATCH(INDIRECT(ADDRESS(320,5+(M5*2),1,1,\"Cars & Results\"),TRUE),B7:B15,0))=TRUE,0,15),\"\")","v":15},null,{"$f":"IF(INDIRECT(ADDRESS(321,5+(O5*2),1,1,\"Cars & Results\"),TRUE)=\"Y\",IF(ISERROR(MATCH(INDIRECT(ADDRESS(320,5+(O5*2),1,1,\"Cars & Results\"),TRUE),C7:C15,0))=TRUE,0,15),\"\")","v":0},null,{"$f":"IF(INDIRECT(ADDRESS(321,5+(Q5*2),1,1,\"Cars & Results\"),TRUE)=\"Y\",IF(ISERROR(MATCH(INDIRECT(ADDRESS(320,5+(Q5*2),1,1,\"Cars & Results\"),TRUE),D7:D15,0))=TRUE,0,15),\"\")","v":0},null,{"$f":"IF(INDIRECT(ADDRESS(321,5+(S5*2),1,1,\"Cars & Results\"),TRUE)=\"Y\",IF(ISERROR(MATCH(INDIRECT(ADDRESS(320,5+(S5*2),1,1,\"Cars & Results\"),TRUE),E7:E15,0))=TRUE,0,15),\"\")","v":0},null,{"$f":"IF(INDIRECT(ADDRESS(321,5+(U5*2),1,1,\"Cars & Results\"),TRUE)=\"Y\",IF(ISERROR(MATCH(INDIRECT(ADDRESS(320,5+(U5*2),1,1,\"Cars & Results\"),TRUE),F7:F15,0))=TRUE,0,15),\"\")","v":0},null,{"$f":"IF(INDIRECT(ADDRESS(321,5+(W5*2),1,1,\"Cars & Results\"),TRUE)=\"Y\",IF(ISERROR(MATCH(INDIRECT(ADDRESS(320,5+(W5*2),1,1,\"Cars & Results\"),TRUE),G7:G15,0))=TRUE,0,15),\"\")","v":0},null,{"$f":"IF(INDIRECT(ADDRESS(321,5+(Y5*2),1,1,\"Cars & Results\"),TRUE)=\"Y\",IF(ISERROR(MATCH(INDIRECT(ADDRESS(320,5+(Y5*2),1,1,\"Cars & Results\"),TRUE),H7:H15,0))=TRUE,0,15),\"\")","v":0},null,{"$f":"IF(INDIRECT(ADDRESS(321,5+(AA5*2),1,1,\"Cars & Results\"),TRUE)=\"Y\",IF(ISERROR(MATCH(INDIRECT(ADDRESS(320,5+(AA5*2),1,1,\"Cars & Results\"),TRUE),I7:I15,0))=TRUE,0,15),\"\")","v":0}]
[null,{"$f":"SUM(B7:B15)","v":319},300,277,373,284,196,260,266,null,null,null,{"$f":"SUM(M7:M15)","v":198},null,{"$f":"SUM(O7:O15)","v":164},null,{"$f":"SUM(Q7:Q15)","v":121},null,{"$f":"SUM(S7:S15)","v":154},null,{"$f":"SUM(U7:U15)","v":130},null,{"$f":"SUM(W7:W15)","v":149},null,{"$f":"SUM(Y7:Y15)","v":163},null,{"$f":"SUM(AA7:AA15)","v":170}]
[null,null,null,null,null,null,null,null,null,null,null,null,null,{"$f":"SUM(N7:N19)","v":35},null,{"$f":"SUM(P7:P19)","v":10},null,{"$f":"SUM(R7:R19)","v":0},null,{"$f":"SUM(T7:T19)","v":10},null,{"$f":"SUM(V7:V19)","v":19.5},null,{"$f":"SUM(X7:X19)","v":0},null,{"$f":"SUM(Z7:Z19)","v":0},null,{"$f":"SUM(AB7:AB19)","v":0}]
[null,null,null,null,null,null,null,null,null,null,null,"Race Total",{"$f":"M19+N20","v":233},null,{"$f":"O19+P20","v":174},null,{"$f":"Q19+R20","v":121},null,{"$f":"S19+T20","v":164},null,{"$f":"U19+V20","v":149.5},null,{"$f":"W19+X20","v":149},null,{"$f":"Y19+Z20","v":163},null,{"$f":"AA19+AB20","v":170},null,{"$f":"SUM(M21:AB21)","v":1323.5}]
[null,null,null,null,null,null,null,null,"1-8"]
[null,null,null,null,null,null,null,null,"9-16"]
[null,null,null,null,null,null,null,null,"17-23"]
[null,null,null,null,null,null,null,null,"24-30"]
[null,null,null,null,null,null,null,null,"31-35"]
[null,null,null,null,null,null,null,null,">35"]
[null,null,null,null,null,null,null,null,"Provisional"]

{"sheet":"Ron Mason","index":12,"n_rows":28,"n_cols":29,"rows_kept":28,"cut":false,"hidden":false,"merged":[[4,26,4,27],[1,26,1,27],[0,26,0,27],[3,26,3,27],[2,26,2,27],[1,24,1,25],[2,20,2,21],[1,20,1,21],[3,24,3,25],[1,22,1,23],[2,24,2,25],[3,20,3,21],[3,22,3,23],[4,22,4,23],[0,18,0,19],[0,20,0,21],[0,22,0,23],[2,18,2,19],[2,22,2,23],[1,14,1,15],[3,16,3,17],[4,16,4,17],[4,18,4,19],[4,20,4,21],[0,24,0,25],[1,16,1,17],[1,18,1,19],[4,12,4,13],[0,12,0,13],[1,12,1,13],[2,12,2,13],[3,14,3,15],[4,14,4,15],[4,24,4,25],[3,18,3,19],[3,12,3,13],[0,14,0,15],[2,14,2,15],[0,16,0,17],[2,16,2,17],[20,20,20,21],[20,22,20,23],[20,24,20,25],[20,26,20,27],[20,12,20,13],[20,14,20,15],[20,16,20,17],[20,18,20,19]]}
[null,null,null,null,null,null,null,null,null,null,null,null,{"$f":"VLOOKUP(M$5,Schedule!$A$8:$G$44,2,FALSE)","v":"2018-07-14"},null,{"$f":"VLOOKUP(O$5,Schedule!$A$8:$G$44,2,FALSE)","v":"2018-07-22"},null,{"$f":"VLOOKUP(Q$5,Schedule!$A$8:$G$44,2,FALSE)","v":"2018-07-29"},null,{"$f":"VLOOKUP(S$5,Schedule!$A$8:$G$44,2,FALSE)","v":"2018-08-05"},null,{"$f":"VLOOKUP(U$5,Schedule!$A$8:$G$44,2,FALSE)","v":"2018-08-12"},null,{"$f":"VLOOKUP(W$5,Schedule!$A$8:$G$44,2,FALSE)","v":"2018-08-18"},null,{"$f":"VLOOKUP(Y$5,Schedule!$A$8:$G$44,2,FALSE)","v":"2018-09-02"},null,{"$f":"VLOOKUP(AA$5,Schedule!$A$8:$G$44,2,FALSE)","v":"2018-09-09"}]
[null,null,null,null,null,null,null,null,null,null,null,null,{"$f":"VLOOKUP(M$5,Schedule!$A$8:$G$44,3,FALSE)","v":"Quaker State 400"},null,{"$f":"VLOOKUP(O$5,Schedule!$A$8:$G$44,3,FALSE)","v":"New Hampshire 301"},null,{"$f":"VLOOKUP(Q$5,Schedule!$A$8:$G$44,3,FALSE)","v":"Gander Outdoors 400"},null,{"$f":"VLOOKUP(S$5,Schedule!$A$8:$G$44,3,FALSE)","v":"Go Bowling at The Glen"},null,{"$f":"VLOOKUP(U$5,Schedule!$A$8:$G$44,3,FALSE)","v":"Pure Michigan 400"},null,{"$f":"VLOOKUP(W$5,Schedule!$A$8:$G$44,3,FALSE)","v":"Bass Pro Shops NRA Night Race"},null,{"$f":"VLOOKUP(Y$5,Schedule!$A$8:$G$44,3,FALSE)","v":"Bojangles' Southern 500"},null,{"$f":"VLOOKUP(AA$5,Schedule!$A$8:$G$44,3,FALSE)","v":"Big Machine Vodka 400 at the Brickyard"}]
[null,null,null,null,null,null,null,null,null,null,null,null,{"$f":"VLOOKUP(M$5,Schedule!$A$8:$G$44,7,FALSE)","v":"1900-06-08"},null,{"$f":"VLOOKUP(O$5,Schedule!$A$8:$G$44,7,FALSE)","v":"1900-05-29"},null,{"$f":"VLOOKUP(Q$5,Schedule!$A$8:$G$44,7,FALSE)","v":"1900-04-09"},null,{"$f":"VLOOKUP(S$5,Schedule!$A$8:$G$44,7,FALSE)","v":"1900-02-09"},null,{"$f":"VLOOKUP(U$5,Schedule!$A$8:$G$44,7,FALSE)","v":"1900-04-29"},null,{"$f":"VLOOKUP(W$5,Schedule!$A$8:$G$44,7,FALSE)","v":"1900-09-06"},null,{"$f":"VLOOKUP(Y$5,Schedule!$A$8:$G$44,7,FALSE)","v":"1900-07-18"},null,{"$f":"VLOOKUP(AA$5,Schedule!$A$8:$G$44,7,FALSE)","v":"1900-04-09"}]
[null,null,null,null,null,null,null,null,null,null,null,null,{"$f":"VLOOKUP(M$5,Schedule!$A$4:$G$44,4,FALSE)","v":"Kentucky Speedway"},null,{"$f":"VLOOKUP(O$5,Schedule!$A$4:$G$44,4,FALSE)","v":"New Hampshire Motor Speedway"},null,{"$f":"VLOOKUP(Q$5,Schedule!$A$4:$G$44,4,FALSE)","v":"Pocono Raceway"},null,{"$f":"VLOOKUP(S$5,Schedule!$A$4:$G$44,4,FALSE)","v":"Watkins Glen International"},null,{"$f":"VLOOKUP(U$5,Schedule!$A$4:$G$44,4,FALSE)","v":"Michigan International Speedway"},null,{"$f":"VLOOKUP(W$5,Schedule!$A$4:$G$44,4,FALSE)","v":"Bristol Motor Speedway"},null,{"$f":"VLOOKUP(Y$5,Schedule!$A$4:$G$44,4,FALSE)","v":"Darlington Raceway"},null,{"$f":"VLOOKUP(AA$5,Schedule!$A$4:$G$44,4,FALSE)","v":"Indianapolis Motor Speedway"}]
["Owner","Week","Week","Week","Week","Week","Week","Week","Week",2,3,4,19,null,20,null,21,null,22,null,23,null,24,null,25,null,26,null,"Total"]
["Points",19,20,21,22,23,24,25,26,"Driver","Make","Sponsor","Points","Bonus","Points","Bonus","Points","Bonus","Points","Bonus","Points","Bonus","Points","Bonus","Points","Bonus","Points","Bonus","Points"]
[{"$f":"VLOOKUP(HLOOKUP('Pick Distribution'!$P$2,$B$6:$I$15,$J$5),'Current Owner Standings'!$A$71:$B$480,2,FALSE)","v":2},4,4,4,18,18,18,18,4,{"$f":"IF(ISNA(VLOOKUP($I7,'Cars & Results'!$A$6:$I$317,J$5,FALSE)),\"Invalid Number\",VLOOKUP($I7,'Cars & Results'!$A$6:$K$317,J$5,FALSE))","v":"Kevin Harvick"},{"$f":"IF(ISNA(VLOOKUP($I7,'Cars & Results'!$A$6:$I$317,K$5,FALSE)),\"Invalid Number\",VLOOKUP($I7,'Cars & Results'!$A$6:$K$317,K$5,FALSE))","v":"Ford"},{"$f":"IF(ISNA(VLOOKUP($I7,'Cars & Results'!$A$6:$I$317,L$5,FALSE)),\"Invalid Number\",VLOOKUP($I7,'Cars & Results'!$A$6:$K$317,L$5,FALSE))","v":"Stewart-Haas Racing"},{"$f":"IF(HLOOKUP(M$5,$B$6:$I$15,Points!$A3+1,FALSE)=\"TBD\",\"\",VLOOKUP(HLOOKUP(M$5,$B$6:$I$15,Points!$A3+1,FALSE),'Cars & Results'!$A$7:$BZ$317,2*M$5+6,FALSE))","v":48},{"$f":"IF(HLOOKUP(M$5,$B$6:$I$15,Points!$A3+1,FALSE)=\"TBD\",\"\",0)","v":0},{"$f":"IF(HLOOKUP(O$5,$B$6:$I$15,Points!$A3+1,FALSE)=\"TBD\",\"\",VLOOKUP(HLOOKUP(O$5,$B$6:$I$15,Points!$A3+1,FALSE),'Cars & Results'!$A$7:$BZ$317,2*O$5+6,FALSE))","v":51},{"$f":"IF(HLOOKUP(O$5,$B$6:$I$15,Points!$A3+1,FALSE)=\"TBD\",\"\",0)","v":0},{"$f":"IF(HLOOKUP(Q$5,$B$6:$I$15,Points!$A3+1,FALSE)=\"TBD\",\"\",VLOOKUP(HLOOKUP(Q$5,$B$6:$I$15,Points!$A3+1,FALSE),'Cars & Results'!$A$7:$BZ$317,2*Q$5+6,FALSE))","v":52},{"$f":"IF(HLOOKUP(Q$5,$B$6:$I$15,Points!$A3+1,FALSE)=\"TBD\",\"\",0)","v":0},{"$f":"IF(HLOOKUP(S$5,$B$6:$I$15,Points!$A3+1,FALSE)=\"TBD\",\"\",VLOOKUP(HLOOKUP(S$5,$B$6:$I$15,Points!$A3+1,FALSE),'Cars & Results'!$A$7:$BZ$317,2*S$5+6,FALSE))","v":43},{"$f":"IF(HLOOKUP(S$5,$B$6:$I$15,Points!$A3+1,FALSE)=\"TBD\",\"\",0)","v":0},{"$f":"IF(HLOOKUP(U$5,$B$6:$I$15,Points!$A3+1,FALSE)=\"TBD\",\"\",VLOOKUP(HLOOKUP(U$5,$B$6:$I$15,Points!$A3+1,FALSE),'Cars & Results'!$A$7:$BZ$317,2*U$5+6,FALSE))","v":52},{"$f":"IF(HLOOKUP(U$5,$B$6:$I$15,Points!$A3+1,FALSE)=\"TBD\",\"\",0)","v":0},{"$f":"IF(HLOOKUP(W$5,$B$6:$I$15,Points!$A3+1,FALSE)=\"TBD\",\"\",VLOOKUP(HLOOKUP(W$5,$B$6:$I$15,Points!$A3+1,FALSE),'Cars & Results'!$A$7:$BZ$317,2*W$5+6,FALSE))","v":17},{"$f":"IF(HLOOKUP(W$5,$B$6:$I$15,Points!$A3+1,FALSE)=\"TBD\",\"\",0)","v":0},{"$f":"IF(HLOOKUP(Y$5,$B$6:$I$15,Points!$A3+1,FALSE)=\"TBD\",\"\",VLOOKUP(HLOOKUP(Y$5,$B$6:$I$15,Points!$A3+1,FALSE),'Cars & Results'!$A$7:$BZ$317,2*Y$5+6,FALSE))","v":35},{"$f":"IF(HLOOKUP(Y$5,$B$6:$I$15,Points!$A3+1,FALSE)=\"TBD\",\"\",0)","v":0},{"$f":"IF(HLOOKUP(AA$5,$B$6:$I$15,Points!$A3+1,FALSE)=\"TBD\",\"\",VLOOKUP(HLOOKUP(AA$5,$B$6:$I$15,Points!$A3+1,FALSE),'Cars & Results'!$A$7:$BZ$317,2*AA$5+6,FALSE))","v":33},{"$f":"IF(HLOOKUP(AA$5,$B$6:$I$15,Points!$A3+1,FALSE)=\"TBD\",\"\",0)","v":0}]
[{"$f":"VLOOKUP(HLOOKUP('Pick Distribution'!$P$2,$B$6:$I$15,3),'Current Owner Standings'!$A$71:$B$480,2,FALSE)","v":11},12,12,12,9,9,9,9,9,{"$f":"IF(ISNA(VLOOKUP($I8,'Cars & Results'!$A$6:$I$317,J$5,FALSE)),\"Invalid Number\",VLOOKUP($I8,'Cars & Results'!$A$6:$K$317,J$5,FALSE))","v":"Chase Elliott"},{"$f":"IF(ISNA(VLOOKUP($I8,'Cars & Results'!$A$6:$I$317,K$5,FALSE)),\"Invalid Number\",VLOOKUP($I8,'Cars & Results'!$A$6:$K$317,K$5,FALSE))","v":"Chevrolet"},{"$f":"IF(ISNA(VLOOKUP($I8,'Cars & Results'!$A$6:$I$317,L$5,FALSE)),\"Invalid Number\",VLOOKUP($I8,'Cars & Results'!$A$6:$K$317,L$5,FALSE))","v":"Hendrick Motorsports"},{"$f":"IF(HLOOKUP(M$5,$B$6:$I$15,Points!$A4+1,FALSE)=\"TBD\",\"\",VLOOKUP(HLOOKUP(M$5,$B$6:$I$15,Points!$A4+1,FALSE),'Cars & Results'!$A$7:$BZ$317,2*M$5+6,FALSE))","v":50},{"$f":"IF(HLOOKUP(M$5,$B$6:$I$15,Points!$A4+1,FALSE)=\"TBD\",\"\",IF(VLOOKUP(HLOOKUP(M$5,$B$6:$I$15,Points!$A4+1,FALSE),'Cars & Results'!$A$7:$BZ$317,2*M$5+5)=1,M8*0.25,0))","v":0},{"$f":"IF(HLOOKUP(O$5,$B$6:$I$15,Points!$A4+1,FALSE)=\"TBD\",\"\",VLOOKUP(HLOOKUP(O$5,$B$6:$I$15,Points!$A4+1,FALSE),'Cars & Results'!$A$7:$BZ$317,2*O$5+6,FALSE))","v":38},{"$f":"IF(HLOOKUP(O$5,$B$6:$I$15,Points!$A4+1,FALSE)=\"TBD\",\"\",IF(VLOOKUP(HLOOKUP(O$5,$B$6:$I$15,Points!$A4+1,FALSE),'Cars & Results'!$A$7:$BZ$317,2*O$5+5)=1,O8*0.25,0))","v":0},{"$f":"IF(HLOOKUP(Q$5,$B$6:$I$15,Points!$A4+1,FALSE)=\"TBD\",\"\",VLOOKUP(HLOOKUP(Q$5,$B$6:$I$15,Points!$A4+1,FALSE),'Cars & Results'!$A$7:$BZ$317,2*Q$5+6,FALSE))","v":28},{"$f":"IF(HLOOKUP(Q$5,$B$6:$I$15,Points!$A4+1,FALSE)=\"TBD\",\"\",IF(VLOOKUP(HLOOKUP(Q$5,$B$6:$I$15,Points!$A4+1,FALSE),'Cars & Results'!$A$7:$BZ$317,2*Q$5+5)=1,Q8*0.25,0))","v":0},{"$f":"IF(HLOOKUP(S$5,$B$6:$I$15,Points!$A4+1,FALSE)=\"TBD\",\"\",VLOOKUP(HLOOKUP(S$5,$B$6:$I$15,Points!$A4+1,FALSE),'Cars & Results'!$A$7:$BZ$317,2*S$5+6,FALSE))","v":50},{"$f":"IF(HLOOKUP(S$5,$B$6:$I$15,Points!$A4+1,FALSE)=\"TBD\",\"\",IF(VLOOKUP(HLOOKUP(S$5,$B$6:$I$15,Points!$A4+1,FALSE),'Cars & Results'!$A$7:$BZ$317,2*S$5+5)=1,S8*0.25,0))","v":12.5},{"$f":"IF(HLOOKUP(U$5,$B$6:$I$15,Points!$A4+1,FALSE)=\"TBD\",\"\",VLOOKUP(HLOOKUP(U$5,$B$6:$I$15,Points!$A4+1,FALSE),'Cars & Results'!$A$7:$BZ$317,2*U$5+6,FALSE))","v":28},{"$f":"IF(HLOOKUP(U$5,$B$6:$I$15,Points!$A4+1,FALSE)=\"TBD\",\"\",IF(VLOOKUP(HLOOKUP(U$5,$B$6:$I$15,Points!$A4+1,FALSE),'Cars & Results'!$A$7:$BZ$317,2*U$5+5)=1,U8*0.25,0))","v":0},{"$f":"IF(HLOOKUP(W$5,$B$6:$I$15,Points!$A4+1,FALSE)=\"TBD\",\"\",VLOOKUP(HLOOKUP(W$5,$B$6:$I$15,Points!$A4+1,FALSE),'Cars & Results'!$A$7:$BZ$317,2*W$5+6,FALSE))","v":50},{"$f":"IF(HLOOKUP(W$5,$B$6:$I$15,Points!$A4+1,FALSE)=\"TBD\",\"\",IF(VLOOKUP(HLOOKUP(W$5,$B$6:$I$15,Points!$A4+1,FALSE),'Cars & Results'!$A$7:$BZ$317,2*W$5+5)=1,W8*0.25,0))","v":0},{"$f":"IF(HLOOKUP(Y$5,$B$6:$I$15,Points!$A4+1,FALSE)=\"TBD\",\"\",VLOOKUP(HLOOKUP(Y$5,$B$6:$I$15,Points!$A4+1,FALSE),'Cars & Results'!$A$7:$BZ$317,2*Y$5+6,FALSE))","v":40},{"$f":"IF(HLOOKUP(Y$5,$B$6:$I$15,Points!$A4+1,FALSE)=\"TBD\",\"\",IF(VLOOKUP(HLOOKUP(Y$5,$B$6:$I$15,Points!$A4+1,FALSE),'Cars & Results'!$A$7:$BZ$317,2*Y$5+5)=1,Y8*0.25,0))","v":0},{"$f":"IF(HLOOKUP(AA$5,$B$6:$I$15,Points!$A4+1,FALSE)=\"TBD\",\"\",VLOOKUP(HLOOKUP(AA$5,$B$6:$I$15,Points!$A4+1,FALSE),'Cars & Results'!$A$7:$BZ$317,2*AA$5+6,FALSE))","v":33},{"$f":"IF(HLOOKUP(AA$5,$B$6:$I$15,Points!$A4+1,FALSE)=\"TBD\",\"\",IF(VLOOKUP(HLOOKUP(AA$5,$B$6:$I$15,Points!$A4+1,FALSE),'Cars & Results'!$A$7:$BZ$317,2*AA$5+5)=1,AA8*0.25,0))","v":0}]
[{"$f":"VLOOKUP(HLOOKUP('Pick Distribution'!$P$2,$B$6:$I$15,4),'Current Owner Standings'!$A$71:$B$480,2,FALSE)","v":17},31,31,31,24,24,24,24,31,{"$f":"IF(ISNA(VLOOKUP($I9,'Cars & Results'!$A$6:$I$317,J$5,FALSE)),\"Invalid Number\",VLOOKUP($I9,'Cars & Results'!$A$6:$K$317,J$5,FALSE))","v":"Ryan Newman"},{"$f":"IF(ISNA(VLOOKUP($I9,'Cars & Results'!$A$6:$I$317,K$5,FALSE)),\"Invalid Number\",VLOOKUP($I9,'Cars & Results'!$A$6:$K$317,K$5,FALSE))","v":"Chevrolet"},{"$f":"IF(ISNA(VLOOKUP($I9,'Cars & Results'!$A$6:$I$317,L$5,FALSE)),\"Invalid Number\",VLOOKUP($I9,'Cars & Results'!$A$6:$K$317,L$5,FALSE))","v":"Richard Childress Racing"},{"$f":"IF(HLOOKUP(M$5,$B$6:$I$15,Points!$A5+1,FALSE)=\"TBD\",\"\",VLOOKUP(HLOOKUP(M$5,$B$6:$I$15,Points!$A5+1,FALSE),'Cars & Results'!$A$7:$BZ$317,2*M$5+6,FALSE))","v":16},{"$f":"IF(HLOOKUP(M$5,$B$6:$I$15,Points!$A5+1,FALSE)=\"TBD\",\"\",IF(VLOOKUP(HLOOKUP(M$5,$B$6:$I$15,Points!$A5+1,FALSE),'Cars & Results'!$A$7:$BZ$317,2*M$5+5)<=5,M9*0.5,0))","v":0},{"$f":"IF(HLOOKUP(O$5,$B$6:$I$15,Points!$A5+1,FALSE)=\"TBD\",\"\",VLOOKUP(HLOOKUP(O$5,$B$6:$I$15,Points!$A5+1,FALSE),'Cars & Results'!$A$7:$BZ$317,2*O$5+6,FALSE))","v":31},{"$f":"IF(HLOOKUP(O$5,$B$6:$I$15,Points!$A5+1,FALSE)=\"TBD\",\"\",IF(VLOOKUP(HLOOKUP(O$5,$B$6:$I$15,Points!$A5+1,FALSE),'Cars & Results'!$A$7:$BZ$317,2*O$5+5)<=5,O9*0.5,0))","v":0},{"$f":"IF(HLOOKUP(Q$5,$B$6:$I$15,Points!$A5+1,FALSE)=\"TBD\",\"\",VLOOKUP(HLOOKUP(Q$5,$B$6:$I$15,Points!$A5+1,FALSE),'Cars & Results'!$A$7:$BZ$317,2*Q$5+6,FALSE))","v":29},{"$f":"IF(HLOOKUP(Q$5,$B$6:$I$15,Points!$A5+1,FALSE)=\"TBD\",\"\",IF(VLOOKUP(HLOOKUP(Q$5,$B$6:$I$15,Points!$A5+1,FALSE),'Cars & Results'!$A$7:$BZ$317,2*Q$5+5)<=5,Q9*0.5,0))","v":0},{"$f":"IF(HLOOKUP(S$5,$B$6:$I$15,Points!$A5+1,FALSE)=\"TBD\",\"\",VLOOKUP(HLOOKUP(S$5,$B$6:$I$15,Points!$A5+1,FALSE),'Cars & Results'!$A$7:$BZ$317,2*S$5+6,FALSE))","v":37},{"$f":"IF(HLOOKUP(S$5,$B$6:$I$15,Points!$A5+1,FALSE)=\"TBD\",\"\",IF(VLOOKUP(HLOOKUP(S$5,$B$6:$I$15,Points!$A5+1,FALSE),'Cars & Results'!$A$7:$BZ$317,2*S$5+5)<=5,S9*0.5,0))","v":0},{"$f":"IF(HLOOKUP(U$5,$B$6:$I$15,Points!$A5+1,FALSE)=\"TBD\",\"\",VLOOKUP(HLOOKUP(U$5,$B$6:$I$15,Points!$A5+1,FALSE),'Cars & Results'!$A$7:$BZ$317,2*U$5+6,FALSE))","v":1},{"$f":"IF(HLOOKUP(U$5,$B$6:$I$15,Points!$A5+1,FALSE)=\"TBD\",\"\",IF(VLOOKUP(HLOOKUP(U$5,$B$6:$I$15,Points!$A5+1,FALSE),'Cars & Results'!$A$7:$BZ$317,2*U$5+5)<=5,U9*0.5,0))","v":0},{"$f":"IF(HLOOKUP(W$5,$B$6:$I$15,Points!$A5+1,FALSE)=\"TBD\",\"\",VLOOKUP(HLOOKUP(W$5,$B$6:$I$15,Points!$A5+1,FALSE),'Cars & Results'!$A$7:$BZ$317,2*W$5+6,FALSE))","v":14},{"$f":"IF(HLOOKUP(W$5,$B$6:$I$15,Points!$A5+1,FALSE)=\"TBD\",\"\",IF(VLOOKUP(HLOOKUP(W$5,$B$6:$I$15,Points!$A5+1,FALSE),'Cars & Results'!$A$7:$BZ$317,2*W$5+5)<=5,W9*0.5,0))","v":0},{"$f":"IF(HLOOKUP(Y$5,$B$6:$I$15,Points!$A5+1,FALSE)=\"TBD\",\"\",VLOOKUP(HLOOKUP(Y$5,$B$6:$I$15,Points!$A5+1,FALSE),'Cars & Results'!$A$7:$BZ$317,2*Y$5+6,FALSE))","v":2},{"$f":"IF(HLOOKUP(Y$5,$B$6:$I$15,Points!$A5+1,FALSE)=\"TBD\",\"\",IF(VLOOKUP(HLOOKUP(Y$5,$B$6:$I$15,Points!$A5+1,FALSE),'Cars & Results'!$A$7:$BZ$317,2*Y$5+5)<=5,Y9*0.5,0))","v":0},{"$f":"IF(HLOOKUP(AA$5,$B$6:$I$15,Points!$A5+1,FALSE)=\"TBD\",\"\",VLOOKUP(HLOOKUP(AA$5,$B$6:$I$15,Points!$A5+1,FALSE),'Cars & Results'!$A$7:$BZ$317,2*AA$5+6,FALSE))","v":29},{"$f":"IF(HLOOKUP(AA$5,$B$6:$I$15,Points!$A5+1,FALSE)=\"TBD\",\"\",IF(VLOOKUP(HLOOKUP(AA$5,$B$6:$I$15,Points!$A5+1,FALSE),'Cars & Results'!$A$7:$BZ$317,2*AA$5+5)<=5,AA9*0.5,0))","v":0}]
[{"$f":"VLOOKUP(HLOOKUP('Pick Distribution'!$P$2,$B$6:$I$15,5),'Current Owner Standings'!$A$71:$B$480,2,FALSE)","v":21},19,19,19,19,19,19,19,1,{"$f":"IF(ISNA(VLOOKUP($I10,'Cars & Results'!$A$6:$I$317,J$5,FALSE)),\"Invalid Number\",VLOOKUP($I10,'Cars & Results'!$A$6:$K$317,J$5,FALSE))","v":"Jamie McMurray"},{"$f":"IF(ISNA(VLOOKUP($I10,'Cars & Results'!$A$6:$I$317,K$5,FALSE)),\"Invalid Number\",VLOOKUP($I10,'Cars & Results'!$A$6:$K$317,K$5,FALSE))","v":"Chevrolet"},{"$f":"IF(ISNA(VLOOKUP($I10,'Cars & Results'!$A$6:$I$317,L$5,FALSE)),\"Invalid Number\",VLOOKUP($I10,'Cars & Results'!$A$6:$K$317,L$5,FALSE))","v":"Chip Ganassi Racing"},{"$f":"IF(HLOOKUP(M$5,$B$6:$I$15,Points!$A6+1,FALSE)=\"TBD\",\"\",VLOOKUP(HLOOKUP(M$5,$B$6:$I$15,Points!$A6+1,FALSE),'Cars & Results'!$A$7:$BZ$317,2*M$5+6,FALSE))","v":26},{"$f":"IF(HLOOKUP(M$5,$B$6:$I$15,Points!$A6+1,FALSE)=\"TBD\",\"\",IF(VLOOKUP(HLOOKUP(M$5,$B$6:$I$15,Points!$A6+1,FALSE),'Cars & Results'!$A$7:$BZ$317,2*M$5+5)<=5,M10*0.5,0))","v":0},{"$f":"IF(HLOOKUP(O$5,$B$6:$I$15,Points!$A6+1,FALSE)=\"TBD\",\"\",VLOOKUP(HLOOKUP(O$5,$B$6:$I$15,Points!$A6+1,FALSE),'Cars & Results'!$A$7:$BZ$317,2*O$5+6,FALSE))","v":15},{"$f":"IF(HLOOKUP(O$5,$B$6:$I$15,Points!$A6+1,FALSE)=\"TBD\",\"\",IF(VLOOKUP(HLOOKUP(O$5,$B$6:$I$15,Points!$A6+1,FALSE),'Cars & Results'!$A$7:$BZ$317,2*O$5+5)<=5,O10*0.5,0))","v":0},{"$f":"IF(HLOOKUP(Q$5,$B$6:$I$15,Points!$A6+1,FALSE)=\"TBD\",\"\",VLOOKUP(HLOOKUP(Q$5,$B$6:$I$15,Points!$A6+1,FALSE),'Cars & Results'!$A$7:$BZ$317,2*Q$5+6,FALSE))","v":41},{"$f":"IF(HLOOKUP(Q$5,$B$6:$I$15,Points!$A6+1,FALSE)=\"TBD\",\"\",IF(VLOOKUP(HLOOKUP(Q$5,$B$6:$I$15,Points!$A6+1,FALSE),'Cars & Results'!$A$7:$BZ$317,2*Q$5+5)<=5,Q10*0.5,0))","v":20.5},{"$f":"IF(HLOOKUP(S$5,$B$6:$I$15,Points!$A6+1,FALSE)=\"TBD\",\"\",VLOOKUP(HLOOKUP(S$5,$B$6:$I$15,Points!$A6+1,FALSE),'Cars & Results'!$A$7:$BZ$317,2*S$5+6,FALSE))","v":34},{"$f":"IF(HLOOKUP(S$5,$B$6:$I$15,Points!$A6+1,FALSE)=\"TBD\",\"\",IF(VLOOKUP(HLOOKUP(S$5,$B$6:$I$15,Points!$A6+1,FALSE),'Cars & Results'!$A$7:$BZ$317,2*S$5+5)<=5,S10*0.5,0))","v":17},{"$f":"IF(HLOOKUP(U$5,$B$6:$I$15,Points!$A6+1,FALSE)=\"TBD\",\"\",VLOOKUP(HLOOKUP(U$5,$B$6:$I$15,Points!$A6+1,FALSE),'Cars & Results'!$A$7:$BZ$317,2*U$5+6,FALSE))","v":26},{"$f":"IF(HLOOKUP(U$5,$B$6:$I$15,Points!$A6+1,FALSE)=\"TBD\",\"\",IF(VLOOKUP(HLOOKUP(U$5,$B$6:$I$15,Points!$A6+1,FALSE),'Cars & Results'!$A$7:$BZ$317,2*U$5+5)<=5,U10*0.5,0))","v":0},{"$f":"IF(HLOOKUP(W$5,$B$6:$I$15,Points!$A6+1,FALSE)=\"TBD\",\"\",VLOOKUP(HLOOKUP(W$5,$B$6:$I$15,Points!$A6+1,FALSE),'Cars & Results'!$A$7:$BZ$317,2*W$5+6,FALSE))","v":19},{"$f":"IF(HLOOKUP(W$5,$B$6:$I$15,Points!$A6+1,FALSE)=\"TBD\",\"\",IF(VLOOKUP(HLOOKUP(W$5,$B$6:$I$15,Points!$A6+1,FALSE),'Cars & Results'!$A$7:$BZ$317,2*W$5+5)<=5,W10*0.5,0))","v":0},{"$f":"IF(HLOOKUP(Y$5,$B$6:$I$15,Points!$A6+1,FALSE)=\"TBD\",\"\",VLOOKUP(HLOOKUP(Y$5,$B$6:$I$15,Points!$A6+1,FALSE),'Cars & Results'!$A$7:$BZ$317,2*Y$5+6,FALSE))","v":8},{"$f":"IF(HLOOKUP(Y$5,$B$6:$I$15,Points!$A6+1,FALSE)=\"TBD\",\"\",IF(VLOOKUP(HLOOKUP(Y$5,$B$6:$I$15,Points!$A6+1,FALSE),'Cars & Results'!$A$7:$BZ$317,2*Y$5+5)<=5,Y10*0.5,0))","v":0},{"$f":"IF(HLOOKUP(AA$5,$B$6:$I$15,Points!$A6+1,FALSE)=\"TBD\",\"\",VLOOKUP(HLOOKUP(AA$5,$B$6:$I$15,Points!$A6+1,FALSE),'Cars & Results'!$A$7:$BZ$317,2*AA$5+6,FALSE))","v":30},{"$f":"IF(HLOOKUP(AA$5,$B$6:$I$15,Points!$A6+1,FALSE)=\"TBD\",\"\",IF(VLOOKUP(HLOOKUP(AA$5,$B$6:$I$15,Points!$A6+1,FALSE),'Cars & Results'!$A$7:$BZ$317,2*AA$5+5)<=5,AA10*0.5,0))","v":0}]
[{"$f":"VLOOKUP(HLOOKUP('Pick Distribution'!$P$2,$B$6:$I$15,6),'Current Owner Standings'!$A$71:$B$480,2,FALSE)","v":24},38,38,47,34,34,34,47,47,{"$f":"IF(ISNA(VLOOKUP($I11,'Cars & Results'!$A$6:$I$317,J$5,FALSE)),\"Invalid Number\",VLOOKUP($I11,'Cars & Results'!$A$6:$K$317,J$5,FALSE))","v":"A. J. Allmendinger"},{"$f":"IF(ISNA(VLOOKUP($I11,'Cars & Results'!$A$6:$I$317,K$5,FALSE)),\"Invalid Number\",VLOOKUP($I11,'Cars & Results'!$A$6:$K$317,K$5,FALSE))","v":"Chevrolet"},{"$f":"IF(ISNA(VLOOKUP($I11,'Cars & Results'!$A$6:$I$317,L$5,FALSE)),\"Invalid Number\",VLOOKUP($I11,'Cars & Results'!$A$6:$K$317,L$5,FALSE))","v":"JTG Daugherty Racing"},{"$f":"IF(HLOOKUP(M$5,$B$6:$I$15,Points!$A7+1,FALSE)=\"TBD\",\"\",VLOOKUP(HLOOKUP(M$5,$B$6:$I$15,Points!$A7+1,FALSE),'Cars & Results'!$A$7:$BZ$317,2*M$5+6,FALSE))","v":19},{"$f":"IF(HLOOKUP(M$5,$B$6:$I$15,Points!$A7+1,FALSE)=\"TBD\",\"\",IF(VLOOKUP(HLOOKUP(M$5,$B$6:$I$15,Points!$A7+1,FALSE),'Cars & Results'!$A$7:$BZ$317,2*M$5+5)<=10,M11*1.5,0))","v":0},{"$f":"IF(HLOOKUP(O$5,$B$6:$I$15,Points!$A7+1,FALSE)=\"TBD\",\"\",VLOOKUP(HLOOKUP(O$5,$B$6:$I$15,Points!$A7+1,FALSE),'Cars & Results'!$A$7:$BZ$317,2*O$5+6,FALSE))","v":8},{"$f":"IF(HLOOKUP(O$5,$B$6:$I$15,Points!$A7+1,FALSE)=\"TBD\",\"\",IF(VLOOKUP(HLOOKUP(O$5,$B$6:$I$15,Points!$A7+1,FALSE),'Cars & Results'!$A$7:$BZ$317,2*O$5+5)<=10,O11*1.5,0))","v":0},{"$f":"IF(HLOOKUP(Q$5,$B$6:$I$15,Points!$A7+1,FALSE)=\"TBD\",\"\",VLOOKUP(HLOOKUP(Q$5,$B$6:$I$15,Points!$A7+1,FALSE),'Cars & Results'!$A$7:$BZ$317,2*Q$5+6,FALSE))","v":23},{"$f":"IF(HLOOKUP(Q$5,$B$6:$I$15,Points!$A7+1,FALSE)=\"TBD\",\"\",IF(VLOOKUP(HLOOKUP(Q$5,$B$6:$I$15,Points!$A7+1,FALSE),'Cars & Results'!$A$7:$BZ$317,2*Q$5+5)<=10,Q11*1.5,0))","v":0},{"$f":"IF(HLOOKUP(S$5,$B$6:$I$15,Points!$A7+1,FALSE)=\"TBD\",\"\",VLOOKUP(HLOOKUP(S$5,$B$6:$I$15,Points!$A7+1,FALSE),'Cars & Results'!$A$7:$BZ$317,2*S$5+6,FALSE))","v":26},{"$f":"IF(HLOOKUP(S$5,$B$6:$I$15,Points!$A7+1,FALSE)=\"TBD\",\"\",IF(VLOOKUP(HLOOKUP(S$5,$B$6:$I$15,Points!$A7+1,FALSE),'Cars & Results'!$A$7:$BZ$317,2*S$5+5)<=10,S11*1.5,0))","v":0},{"$f":"IF(HLOOKUP(U$5,$B$6:$I$15,Points!$A7+1,FALSE)=\"TBD\",\"\",VLOOKUP(HLOOKUP(U$5,$B$6:$I$15,Points!$A7+1,FALSE),'Cars & Results'!$A$7:$BZ$317,2*U$5+6,FALSE))","v":12},{"$f":"IF(HLOOKUP(U$5,$B$6:$I$15,Points!$A7+1,FALSE)=\"TBD\",\"\",IF(VLOOKUP(HLOOKUP(U$5,$B$6:$I$15,Points!$A7+1,FALSE),'Cars & Results'!$A$7:$BZ$317,2*U$5+5)<=10,U11*1.5,0))","v":0},{"$f":"IF(HLOOKUP(W$5,$B$6:$I$15,Points!$A7+1,FALSE)=\"TBD\",\"\",VLOOKUP(HLOOKUP(W$5,$B$6:$I$15,Points!$A7+1,FALSE),'Cars & Results'!$A$7:$BZ$317,2*W$5+6,FALSE))","v":1},{"$f":"IF(HLOOKUP(W$5,$B$6:$I$15,Points!$A7+1,FALSE)=\"TBD\",\"\",IF(VLOOKUP(HLOOKUP(W$5,$B$6:$I$15,Points!$A7+1,FALSE),'Cars & Results'!$A$7:$BZ$317,2*W$5+5)<=10,W11*1.5,0))","v":0},{"$f":"IF(HLOOKUP(Y$5,$B$6:$I$15,Points!$A7+1,FALSE)=\"TBD\",\"\",VLOOKUP(HLOOKUP(Y$5,$B$6:$I$15,Points!$A7+1,FALSE),'Cars & Results'!$A$7:$BZ$317,2*Y$5+6,FALSE))","v":15},{"$f":"IF(HLOOKUP(Y$5,$B$6:$I$15,Points!$A7+1,FALSE)=\"TBD\",\"\",IF(VLOOKUP(HLOOKUP(Y$5,$B$6:$I$15,Points!$A7+1,FALSE),'Cars & Results'!$A$7:$BZ$317,2*Y$5+5)<=10,Y11*1.5,0))","v":0},{"$f":"IF(HLOOKUP(AA$5,$B$6:$I$15,Points!$A7+1,FALSE)=\"TBD\",\"\",VLOOKUP(HLOOKUP(AA$5,$B$6:$I$15,Points!$A7+1,FALSE),'Cars & Results'!$A$7:$BZ$317,2*AA$5+6,FALSE))","v":1},{"$f":"IF(HLOOKUP(AA$5,$B$6:$I$15,Points!$A7+1,FALSE)=\"TBD\",\"\",IF(VLOOKUP(HLOOKUP(AA$5,$B$6:$I$15,Points!$A7+1,FALSE),'Cars & Results'!$A$7:$BZ$317,2*AA$5+5)<=10,AA11*1.5,0))","v":0}]
[{"$f":"VLOOKUP(HLOOKUP('Pick Distribution'!$P$2,$B$6:$I$15,7),'Current Owner Standings'!$A$71:$B$480,2,FALSE)","v":29},95,95,95,95,95,95,95,6,{"$f":"IF(ISNA(VLOOKUP($I12,'Cars & Results'!$A$6:$I$317,J$5,FALSE)),\"Invalid Number\",VLOOKUP($I12,'Cars & Results'!$A$6:$K$317,J$5,FALSE))","v":"Matt Kenseth"},{"$f":"IF(ISNA(VLOOKUP($I12,'Cars & Results'!$A$6:$I$317,K$5,FALSE)),\"Invalid Number\",VLOOKUP($I12,'Cars & Results'!$A$6:$K$317,K$5,FALSE))","v":"Ford"},{"$f":"IF(ISNA(VLOOKUP($I12,'Cars & Results'!$A$6:$I$317,L$5,FALSE)),\"Invalid Number\",VLOOKUP($I12,'Cars & Results'!$A$6:$K$317,L$5,FALSE))","v":"Roush Fenway Racing"},{"$f":"IF(HLOOKUP(M$5,$B$6:$I$15,Points!$A8+1,FALSE)=\"TBD\",\"\",VLOOKUP(HLOOKUP(M$5,$B$6:$I$15,Points!$A8+1,FALSE),'Cars & Results'!$A$7:$BZ$317,2*M$5+6,FALSE))","v":12},{"$f":"IF(HLOOKUP(M$5,$B$6:$I$15,Points!$A8+1,FALSE)=\"TBD\",\"\",IF(VLOOKUP(HLOOKUP(M$5,$B$6:$I$15,Points!$A8+1,FALSE),'Cars & Results'!$A$7:$BZ$317,2*M$5+5)<=10,M12*1.5,0))","v":0},{"$f":"IF(HLOOKUP(O$5,$B$6:$I$15,Points!$A8+1,FALSE)=\"TBD\",\"\",VLOOKUP(HLOOKUP(O$5,$B$6:$I$15,Points!$A8+1,FALSE),'Cars & Results'!$A$7:$BZ$317,2*O$5+6,FALSE))","v":18},{"$f":"IF(HLOOKUP(O$5,$B$6:$I$15,Points!$A8+1,FALSE)=\"TBD\",\"\",IF(VLOOKUP(HLOOKUP(O$5,$B$6:$I$15,Points!$A8+1,FALSE),'Cars & Results'!$A$7:$BZ$317,2*O$5+5)<=10,O12*1.5,0))","v":0},{"$f":"IF(HLOOKUP(Q$5,$B$6:$I$15,Points!$A8+1,FALSE)=\"TBD\",\"\",VLOOKUP(HLOOKUP(Q$5,$B$6:$I$15,Points!$A8+1,FALSE),'Cars & Results'!$A$7:$BZ$317,2*Q$5+6,FALSE))","v":7},{"$f":"IF(HLOOKUP(Q$5,$B$6:$I$15,Points!$A8+1,FALSE)=\"TBD\",\"\",IF(VLOOKUP(HLOOKUP(Q$5,$B$6:$I$15,Points!$A8+1,FALSE),'Cars & Results'!$A$7:$BZ$317,2*Q$5+5)<=10,Q12*1.5,0))","v":0},{"$f":"IF(HLOOKUP(S$5,$B$6:$I$15,Points!$A8+1,FALSE)=\"TBD\",\"\",VLOOKUP(HLOOKUP(S$5,$B$6:$I$15,Points!$A8+1,FALSE),'Cars & Results'!$A$7:$BZ$317,2*S$5+6,FALSE))","v":16},{"$f":"IF(HLOOKUP(S$5,$B$6:$I$15,Points!$A8+1,FALSE)=\"TBD\",\"\",IF(VLOOKUP(HLOOKUP(S$5,$B$6:$I$15,Points!$A8+1,FALSE),'Cars & Results'!$A$7:$BZ$317,2*S$5+5)<=10,S12*1.5,0))","v":0},{"$f":"IF(HLOOKUP(U$5,$B$6:$I$15,Points!$A8+1,FALSE)=\"TBD\",\"\",VLOOKUP(HLOOKUP(U$5,$B$6:$I$15,Points!$A8+1,FALSE),'Cars & Results'!$A$7:$BZ$317,2*U$5+6,FALSE))","v":11},{"$f":"IF(HLOOKUP(U$5,$B$6:$I$15,Points!$A8+1,FALSE)=\"TBD\",\"\",IF(VLOOKUP(HLOOKUP(U$5,$B$6:$I$15,Points!$A8+1,FALSE),'Cars & Results'!$A$7:$BZ$317,2*U$5+5)<=10,U12*1.5,0))","v":0},{"$f":"IF(HLOOKUP(W$5,$B$6:$I$15,Points!$A8+1,FALSE)=\"TBD\",\"\",VLOOKUP(HLOOKUP(W$5,$B$6:$I$15,Points!$A8+1,FALSE),'Cars & Results'!$A$7:$BZ$317,2*W$5+6,FALSE))","v":22},{"$f":"IF(HLOOKUP(W$5,$B$6:$I$15,Points!$A8+1,FALSE)=\"TBD\",\"\",IF(VLOOKUP(HLOOKUP(W$5,$B$6:$I$15,Points!$A8+1,FALSE),'Cars & Results'!$A$7:$BZ$317,2*W$5+5)<=10,W12*1.5,0))","v":0},{"$f":"IF(HLOOKUP(Y$5,$B$6:$I$15,Points!$A8+1,FALSE)=\"TBD\",\"\",VLOOKUP(HLOOKUP(Y$5,$B$6:$I$15,Points!$A8+1,FALSE),'Cars & Results'!$A$7:$BZ$317,2*Y$5+6,FALSE))","v":13},{"$f":"IF(HLOOKUP(Y$5,$B$6:$I$15,Points!$A8+1,FALSE)=\"TBD\",\"\",IF(VLOOKUP(HLOOKUP(Y$5,$B$6:$I$15,Points!$A8+1,FALSE),'Cars & Results'!$A$7:$BZ$317,2*Y$5+5)<=10,Y12*1.5,0))","v":0},{"$f":"IF(HLOOKUP(AA$5,$B$6:$I$15,Points!$A8+1,FALSE)=\"TBD\",\"\",VLOOKUP(HLOOKUP(AA$5,$B$6:$I$15,Points!$A8+1,FALSE),'Cars & Results'!$A$7:$BZ$317,2*AA$5+6,FALSE))","v":35},{"$f":"IF(HLOOKUP(AA$5,$B$6:$I$15,Points!$A8+1,FALSE)=\"TBD\",\"\",IF(VLOOKUP(HLOOKUP(AA$5,$B$6:$I$15,Points!$A8+1,FALSE),'Cars & Results'!$A$7:$BZ$317,2*AA$5+5)<=10,AA12*1.5,0))","v":0}]
[{"$f":"VLOOKUP(HLOOKUP('Pick Distribution'!$P$2,$B$6:$I$15,8),'Current Owner Standings'!$A$71:$B$480,2,FALSE)","v":32},32,32,32,32,32,32,15,15,{"$f":"IF(ISNA(VLOOKUP($I13,'Cars & Results'!$A$6:$I$317,J$5,FALSE)),\"Invalid Number\",VLOOKUP($I13,'Cars & Results'!$A$6:$K$317,J$5,FALSE))","v":"Ross Chastain (i)"},{"$f":"IF(ISNA(VLOOKUP($I13,'Cars & Results'!$A$6:$I$317,K$5,FALSE)),\"Invalid Number\",VLOOKUP($I13,'Cars & Results'!$A$6:$K$317,K$5,FALSE))","v":"Chevrolet"},{"$f":"IF(ISNA(VLOOKUP($I13,'Cars & Results'!$A$6:$I$317,L$5,FALSE)),\"Invalid Number\",VLOOKUP($I13,'Cars & Results'!$A$6:$K$317,L$5,FALSE))","v":"Premium Motorsports"},{"$f":"IF(HLOOKUP(M$5,$B$6:$I$15,Points!$A9+1,FALSE)=\"TBD\",\"\",VLOOKUP(HLOOKUP(M$5,$B$6:$I$15,Points!$A9+1,FALSE),'Cars & Results'!$A$7:$BZ$317,2*M$5+6,FALSE))","v":1},{"$f":"IF(HLOOKUP(M$5,$B$6:$I$15,Points!$A9+1,FALSE)=\"TBD\",\"\",IF(VLOOKUP(HLOOKUP(M$5,$B$6:$I$15,Points!$A9+1,FALSE),'Cars & Results'!$A$7:$BZ$317,2*M$5+5)<=10,M13*2,0))","v":0},{"$f":"IF(HLOOKUP(O$5,$B$6:$I$15,Points!$A9+1,FALSE)=\"TBD\",\"\",VLOOKUP(HLOOKUP(O$5,$B$6:$I$15,Points!$A9+1,FALSE),'Cars & Results'!$A$7:$BZ$317,2*O$5+6,FALSE))","v":9},{"$f":"IF(HLOOKUP(O$5,$B$6:$I$15,Points!$A9+1,FALSE)=\"TBD\",\"\",IF(VLOOKUP(HLOOKUP(O$5,$B$6:$I$15,Points!$A9+1,FALSE),'Cars & Results'!$A$7:$BZ$317,2*O$5+5)<=10,O13*2,0))","v":0},{"$f":"IF(HLOOKUP(Q$5,$B$6:$I$15,Points!$A9+1,FALSE)=\"TBD\",\"\",VLOOKUP(HLOOKUP(Q$5,$B$6:$I$15,Points!$A9+1,FALSE),'Cars & Results'!$A$7:$BZ$317,2*Q$5+6,FALSE))","v":10},{"$f":"IF(HLOOKUP(Q$5,$B$6:$I$15,Points!$A9+1,FALSE)=\"TBD\",\"\",IF(VLOOKUP(HLOOKUP(Q$5,$B$6:$I$15,Points!$A9+1,FALSE),'Cars & Results'!$A$7:$BZ$317,2*Q$5+5)<=10,Q13*2,0))","v":0},{"$f":"IF(HLOOKUP(S$5,$B$6:$I$15,Points!$A9+1,FALSE)=\"TBD\",\"\",VLOOKUP(HLOOKUP(S$5,$B$6:$I$15,Points!$A9+1,FALSE),'Cars & Results'!$A$7:$BZ$317,2*S$5+6,FALSE))","v":4},{"$f":"IF(HLOOKUP(S$5,$B$6:$I$15,Points!$A9+1,FALSE)=\"TBD\",\"\",IF(VLOOKUP(HLOOKUP(S$5,$B$6:$I$15,Points!$A9+1,FALSE),'Cars & Results'!$A$7:$BZ$317,2*S$5+5)<=10,S13*2,0))","v":0},{"$f":"IF(HLOOKUP(U$5,$B$6:$I$15,Points!$A9+1,FALSE)=\"TBD\",\"\",VLOOKUP(HLOOKUP(U$5,$B$6:$I$15,Points!$A9+1,FALSE),'Cars & Results'!$A$7:$BZ$317,2*U$5+6,FALSE))","v":13},{"$f":"IF(HLOOKUP(U$5,$B$6:$I$15,Points!$A9+1,FALSE)=\"TBD\",\"\",IF(VLOOKUP(HLOOKUP(U$5,$B$6:$I$15,Points!$A9+1,FALSE),'Cars & Results'!$A$7:$BZ$317,2*U$5+5)<=10,U13*2,0))","v":0},{"$f":"IF(HLOOKUP(W$5,$B$6:$I$15,Points!$A9+1,FALSE)=\"TBD\",\"\",VLOOKUP(HLOOKUP(W$5,$B$6:$I$15,Points!$A9+1,FALSE),'Cars & Results'!$A$7:$BZ$317,2*W$5+6,FALSE))","v":15},{"$f":"IF(HLOOKUP(W$5,$B$6:$I$15,Points!$A9+1,FALSE)=\"TBD\",\"\",IF(VLOOKUP(HLOOKUP(W$5,$B$6:$I$15,Points!$A9+1,FALSE),'Cars & Results'!$A$7:$BZ$317,2*W$5+5)<=10,W13*2,0))","v":0},{"$f":"IF(HLOOKUP(Y$5,$B$6:$I$15,Points!$A9+1,FALSE)=\"TBD\",\"\",VLOOKUP(HLOOKUP(Y$5,$B$6:$I$15,Points!$A9+1,FALSE),'Cars & Results'!$A$7:$BZ$317,2*Y$5+6,FALSE))","v":9},{"$f":"IF(HLOOKUP(Y$5,$B$6:$I$15,Points!$A9+1,FALSE)=\"TBD\",\"\",IF(VLOOKUP(HLOOKUP(Y$5,$B$6:$I$15,Points!$A9+1,FALSE),'Cars & Results'!$A$7:$BZ$317,2*Y$5+5)<=10,Y13*2,0))","v":0},{"$f":"IF(HLOOKUP(AA$5,$B$6:$I$15,Points!$A9+1,FALSE)=\"TBD\",\"\",VLOOKUP(HLOOKUP(AA$5,$B$6:$I$15,Points!$A9+1,FALSE),'Cars & Results'!$A$7:$BZ$317,2*AA$5+6,FALSE))","v":11},{"$f":"IF(HLOOKUP(AA$5,$B$6:$I$15,Points!$A9+1,FALSE)=\"TBD\",\"\",IF(VLOOKUP(HLOOKUP(AA$5,$B$6:$I$15,Points!$A9+1,FALSE),'Cars & Results'!$A$7:$BZ$317,2*AA$5+5)<=10,AA13*2,0))","v":0}]
[{"$f":"VLOOKUP(HLOOKUP('Pick Distribution'!$P$2,$B$6:$I$15,9),'Current Owner Standings'!$A$71:$B$480,2,FALSE)","v":36},51,51,51,51,51,51,51,51,{"$f":"IF(ISNA(VLOOKUP($I14,'Cars & Results'!$A$6:$I$317,J$5,FALSE)),\"Invalid Number\",VLOOKUP($I14,'Cars & Results'!$A$6:$K$317,J$5,FALSE))","v":"David Starr (i)"},{"$f":"IF(ISNA(VLOOKUP($I14,'Cars & Results'!$A$6:$I$317,K$5,FALSE)),\"Invalid Number\",VLOOKUP($I14,'Cars & Results'!$A$6:$K$317,K$5,FALSE))","v":"Ford"},{"$f":"IF(ISNA(VLOOKUP($I14,'Cars & Results'!$A$6:$I$317,L$5,FALSE)),\"Invalid Number\",VLOOKUP($I14,'Cars & Results'!$A$6:$K$317,L$5,FALSE))","v":"Rick Ware Racing"},{"$f":"IF(HLOOKUP(M$5,$B$6:$I$15,Points!$A10+1,FALSE)=\"TBD\",\"\",VLOOKUP(HLOOKUP(M$5,$B$6:$I$15,Points!$A10+1,FALSE),'Cars & Results'!$A$7:$BZ$317,2*M$5+6,FALSE))","v":5},{"$f":"IF(HLOOKUP(M$5,$B$6:$I$15,Points!$A10+1,FALSE)=\"TBD\",\"\",IF(VLOOKUP(HLOOKUP(M$5,$B$6:$I$15,Points!$A10+1,FALSE),'Cars & Results'!$A$7:$BZ$317,2*M$5+5)<=10,M14*3,0))","v":0},{"$f":"IF(HLOOKUP(O$5,$B$6:$I$15,Points!$A10+1,FALSE)=\"TBD\",\"\",VLOOKUP(HLOOKUP(O$5,$B$6:$I$15,Points!$A10+1,FALSE),'Cars & Results'!$A$7:$BZ$317,2*O$5+6,FALSE))","v":3},{"$f":"IF(HLOOKUP(O$5,$B$6:$I$15,Points!$A10+1,FALSE)=\"TBD\",\"\",IF(VLOOKUP(HLOOKUP(O$5,$B$6:$I$15,Points!$A10+1,FALSE),'Cars & Results'!$A$7:$BZ$317,2*O$5+5)<=10,O14*3,0))","v":0},{"$f":"IF(HLOOKUP(Q$5,$B$6:$I$15,Points!$A10+1,FALSE)=\"TBD\",\"\",VLOOKUP(HLOOKUP(Q$5,$B$6:$I$15,Points!$A10+1,FALSE),'Cars & Results'!$A$7:$BZ$317,2*Q$5+6,FALSE))","v":1},{"$f":"IF(HLOOKUP(Q$5,$B$6:$I$15,Points!$A10+1,FALSE)=\"TBD\",\"\",IF(VLOOKUP(HLOOKUP(Q$5,$B$6:$I$15,Points!$A10+1,FALSE),'Cars & Results'!$A$7:$BZ$317,2*Q$5+5)<=10,Q14*3,0))","v":0},{"$f":"IF(HLOOKUP(S$5,$B$6:$I$15,Points!$A10+1,FALSE)=\"TBD\",\"\",VLOOKUP(HLOOKUP(S$5,$B$6:$I$15,Points!$A10+1,FALSE),'Cars & Results'!$A$7:$BZ$317,2*S$5+6,FALSE))","v":1},{"$f":"IF(HLOOKUP(S$5,$B$6:$I$15,Points!$A10+1,FALSE)=\"TBD\",\"\",IF(VLOOKUP(HLOOKUP(S$5,$B$6:$I$15,Points!$A10+1,FALSE),'Cars & Results'!$A$7:$BZ$317,2*S$5+5)<=10,S14*3,0))","v":0},{"$f":"IF(HLOOKUP(U$5,$B$6:$I$15,Points!$A10+1,FALSE)=\"TBD\",\"\",VLOOKUP(HLOOKUP(U$5,$B$6:$I$15,Points!$A10+1,FALSE),'Cars & Results'!$A$7:$BZ$317,2*U$5+6,FALSE))","v":6},{"$f":"IF(HLOOKUP(U$5,$B$6:$I$15,Points!$A10+1,FALSE)=\"TBD\",\"\",IF(VLOOKUP(HLOOKUP(U$5,$B$6:$I$15,Points!$A10+1,FALSE),'Cars & Results'!$A$7:$BZ$317,2*U$5+5)<=10,U14*3,0))","v":0},{"$f":"IF(HLOOKUP(W$5,$B$6:$I$15,Points!$A10+1,FALSE)=\"TBD\",\"\",VLOOKUP(HLOOKUP(W$5,$B$6:$I$15,Points!$A10+1,FALSE),'Cars & Results'!$A$7:$BZ$317,2*W$5+6,FALSE))","v":4},{"$f":"IF(HLOOKUP(W$5,$B$6:$I$15,Points!$A10+1,FALSE)=\"TBD\",\"\",IF(VLOOKUP(HLOOKUP(W$5,$B$6:$I$15,Points!$A10+1,FALSE),'Cars & Results'!$A$7:$BZ$317,2*W$5+5)<=10,W14*3,0))","v":0},{"$f":"IF(HLOOKUP(Y$5,$B$6:$I$15,Points!$A10+1,FALSE)=\"TBD\",\"\",VLOOKUP(HLOOKUP(Y$5,$B$6:$I$15,Points!$A10+1,FALSE),'Cars & Results'!$A$7:$BZ$317,2*Y$5+6,FALSE))","v":5},{"$f":"IF(HLOOKUP(Y$5,$B$6:$I$15,Points!$A10+1,FALSE)=\"TBD\",\"\",IF(VLOOKUP(HLOOKUP(Y$5,$B$6:$I$15,Points!$A10+1,FALSE),'Cars & Results'!$A$7:$BZ$317,2*Y$5+5)<=10,Y14*3,0))","v":0},{"$f":"IF(HLOOKUP(AA$5,$B$6:$I$15,Points!$A10+1,FALSE)=\"TBD\",\"\",VLOOKUP(HLOOKUP(AA$5,$B$6:$I$15,Points!$A10+1,FALSE),'Cars & Results'!$A$7:$BZ$317,2*AA$5+6,FALSE))","v":1},{"$f":"IF(HLOOKUP(AA$5,$B$6:$I$15,Points!$A10+1,FALSE)=\"TBD\",\"\",IF(VLOOKUP(HLOOKUP(AA$5,$B$6:$I$15,Points!$A10+1,FALSE),'Cars & Results'!$A$7:$BZ$317,2*AA$5+5)<=10,AA14*3,0))","v":0}]
[{"$f":"VLOOKUP(HLOOKUP('Pick Distribution'!$P$2,$B$6:$I$15,10),'Current Owner Standings'!$A$71:$B$480,2,FALSE)","v":6},78,18,11,10,14,42,41,2,{"$f":"IF(ISNA(VLOOKUP($I15,'Cars & Results'!$A$6:$I$317,J$5,FALSE)),\"Invalid Number\",VLOOKUP($I15,'Cars & Results'!$A$6:$K$317,J$5,FALSE))","v":"Brad Keselowski"},{"$f":"IF(ISNA(VLOOKUP($I15,'Cars & Results'!$A$6:$I$317,K$5,FALSE)),\"Invalid Number\",VLOOKUP($I15,'Cars & Results'!$A$6:$K$317,K$5,FALSE))","v":"Ford"},{"$f":"IF(ISNA(VLOOKUP($I15,'Cars & Results'!$A$6:$I$317,L$5,FALSE)),\"Invalid Number\",VLOOKUP($I15,'Cars & Results'!$A$6:$K$317,L$5,FALSE))","v":"Team Penske"},{"$f":"IF(HLOOKUP(M$5,$B$6:$I$15,Points!$A11+1,FALSE)=\"TBD\",\"\",VLOOKUP(HLOOKUP(M$5,$B$6:$I$15,Points!$A11+1,FALSE),'Cars & Results'!$A$7:$BZ$317,2*M$5+6,FALSE))","v":60},60,{"$f":"IF(HLOOKUP(O$5,$B$6:$I$15,Points!$A11+1,FALSE)=\"TBD\",\"\",VLOOKUP(HLOOKUP(O$5,$B$6:$I$15,Points!$A11+1,FALSE),'Cars & Results'!$A$7:$BZ$317,2*O$5+6,FALSE))","v":45},45,{"$f":"IF(HLOOKUP(Q$5,$B$6:$I$15,Points!$A11+1,FALSE)=\"TBD\",\"\",VLOOKUP(HLOOKUP(Q$5,$B$6:$I$15,Points!$A11+1,FALSE),'Cars & Results'!$A$7:$BZ$317,2*Q$5+6,FALSE))","v":35},0,{"$f":"IF(HLOOKUP(S$5,$B$6:$I$15,Points!$A11+1,FALSE)=\"TBD\",\"\",VLOOKUP(HLOOKUP(S$5,$B$6:$I$15,Points!$A11+1,FALSE),'Cars & Results'!$A$7:$BZ$317,2*S$5+6,FALSE))","v":15},0,{"$f":"IF(HLOOKUP(U$5,$B$6:$I$15,Points!$A11+1,FALSE)=\"TBD\",\"\",VLOOKUP(HLOOKUP(U$5,$B$6:$I$15,Points!$A11+1,FALSE),'Cars & Results'!$A$7:$BZ$317,2*U$5+6,FALSE))","v":29},0,{"$f":"IF(HLOOKUP(W$5,$B$6:$I$15,Points!$A11+1,FALSE)=\"TBD\",\"\",VLOOKUP(HLOOKUP(W$5,$B$6:$I$15,Points!$A11+1,FALSE),'Cars & Results'!$A$7:$BZ$317,2*W$5+6,FALSE))","v":48},48,{"$f":"IF(HLOOKUP(Y$5,$B$6:$I$15,Points!$A11+1,FALSE)=\"TBD\",\"\",VLOOKUP(HLOOKUP(Y$5,$B$6:$I$15,Points!$A11+1,FALSE),'Cars & Results'!$A$7:$BZ$317,2*Y$5+6,FALSE))","v":39},0,{"$f":"IF(HLOOKUP(AA$5,$B$6:$I$15,Points!$A11+1,FALSE)=\"TBD\",\"\",VLOOKUP(HLOOKUP(AA$5,$B$6:$I$15,Points!$A11+1,FALSE),'Cars & Results'!$A$7:$BZ$317,2*AA$5+6,FALSE))","v":49},{"$f":"IF(HLOOKUP(AA$5,$B$6:$I$15,Points!$A11+1,FALSE)=\"TBD\",\"\",IF(AND(VLOOKUP(HLOOKUP(AA$5,$B$6:$I$15,Points!$A11+1,FALSE),'Cars & Results'!$A$7:$BZ$317,2*AA$5+5)<=3,$A$15<=25),AA15*1,IF(AND(VLOOKUP(HLOOKUP(AA$5,$B$6:$I$15,Points!$A11+1,FALSE),'Cars & Results'!$A$7:$BZ$317,2*AA$5+5)<=10,$A$15>25),AA15*3,0)))","v":49}]
[null,null,null,null,null,null,null,null,null,null,null,"Segment 1",null,{"$f":"IF(INDIRECT(ADDRESS(321,5+(M5*2),1,1,\"Cars & Results\"),TRUE)=\"Y\",IF(ISERROR(MATCH(INDIRECT(ADDRESS(318,5+(M5*2),1,1,\"Cars & Results\"),TRUE),B7:B15,0))=TRUE,0,10),\"\")","v":10},null,{"$f":"IF(INDIRECT(ADDRESS(321,5+(O5*2),1,1,\"Cars & Results\"),TRUE)=\"Y\",IF(ISERROR(MATCH(INDIRECT(ADDRESS(318,5+(O5*2),1,1,\"Cars & Results\"),TRUE),C7:C15,0))=TRUE,0,10),\"\")","v":0},null,{"$f":"IF(INDIRECT(ADDRESS(321,5+(Q5*2),1,1,\"Cars & Results\"),TRUE)=\"Y\",IF(ISERROR(MATCH(INDIRECT(ADDRESS(318,5+(Q5*2),1,1,\"Cars & Results\"),TRUE),D7:D15,0))=TRUE,0,10),\"\")","v":0},null,{"$f":"IF(INDIRECT(ADDRESS(321,5+(S5*2),1,1,\"Cars & Results\"),TRUE)=\"Y\",IF(ISERROR(MATCH(INDIRECT(ADDRESS(318,5+(S5*2),1,1,\"Cars & Results\"),TRUE),E7:E15,0))=TRUE,0,10),\"\")","v":0},null,{"$f":"IF(INDIRECT(ADDRESS(321,5+(U5*2),1,1,\"Cars & Results\"),TRUE)=\"Y\",IF(ISERROR(MATCH(INDIRECT(ADDRESS(318,5+(U5*2),1,1,\"Cars & Results\"),TRUE),F7:F15,0))=TRUE,0,10),\"\")","v":0},null,{"$f":"IF(INDIRECT(ADDRESS(321,5+(W5*2),1,1,\"Cars & Results\"),TRUE)=\"Y\",IF(ISERROR(MATCH(INDIRECT(ADDRESS(318,5+(W5*2),1,1,\"Cars & Results\"),TRUE),G7:G15,0))=TRUE,0,10),\"\")","v":0},null,{"$f":"IF(INDIRECT(ADDRESS(321,5+(Y5*2),1,1,\"Cars & Results\"),TRUE)=\"Y\",IF(ISERROR(MATCH(INDIRECT(ADDRESS(318,5+(Y5*2),1,1,\"Cars & Results\"),TRUE),H7:H15,0))=TRUE,0,10),\"\")","v":0},null,{"$f":"IF(INDIRECT(ADDRESS(321,5+(AA5*2),1,1,\"Cars & Results\"),TRUE)=\"Y\",IF(ISERROR(MATCH(INDIRECT(ADDRESS(318,5+(AA5*2),1,1,\"Cars & Results\"),TRUE),I7:I15,0))=TRUE,0,10),\"\")","v":0}]
[null,null,null,null,null,null,null,null,null,null,null,"Segment 2",null,{"$f":"IF(INDIRECT(ADDRESS(321,5+(M5*2),1,1,\"Cars & Results\"),TRUE)=\"Y\",IF(ISERROR(MATCH(INDIRECT(ADDRESS(319,5+(M5*2),1,1,\"Cars & Results\"),TRUE),B7:B15,0))=TRUE,0,10),\"\")","v":10},null,{"$f":"IF(INDIRECT(ADDRESS(321,5+(O5*2),1,1,\"Cars & Results\"),TRUE)=\"Y\",IF(ISERROR(MATCH(INDIRECT(ADDRESS(319,5+(O5*2),1,1,\"Cars & Results\"),TRUE),C7:C15,0))=TRUE,0,10),\"\")","v":0},null,{"$f":"IF(INDIRECT(ADDRESS(321,5+(Q5*2),1,1,\"Cars & Results\"),TRUE)=\"Y\",IF(ISERROR(MATCH(INDIRECT(ADDRESS(319,5+(Q5*2),1,1,\"Cars & Results\"),TRUE),D7:D15,0))=TRUE,0,10),\"\")","v":10},null,{"$f":"IF(INDIRECT(ADDRESS(321,5+(S5*2),1,1,\"Cars & Results\"),TRUE)=\"Y\",IF(ISERROR(MATCH(INDIRECT(ADDRESS(319,5+(S5*2),1,1,\"Cars & Results\"),TRUE),E7:E15,0))=TRUE,0,10),\"\")","v":10},null,{"$f":"IF(INDIRECT(ADDRESS(321,5+(U5*2),1,1,\"Cars & Results\"),TRUE)=\"Y\",IF(ISERROR(MATCH(INDIRECT(ADDRESS(319,5+(U5*2),1,1,\"Cars & Results\"),TRUE),F7:F15,0))=TRUE,0,10),\"\")","v":0},null,{"$f":"IF(INDIRECT(ADDRESS(321,5+(W5*2),1,1,\"Cars & Results\"),TRUE)=\"Y\",IF(ISERROR(MATCH(INDIRECT(ADDRESS(319,5+(W5*2),1,1,\"Cars & Results\"),TRUE),G7:G15,0))=TRUE,0,10),\"\")","v":0},null,{"$f":"IF(INDIRECT(ADDRESS(321,5+(Y5*2),1,1,\"Cars & Results\"),TRUE)=\"Y\",IF(ISERROR(MATCH(INDIRECT(ADDRESS(319,5+(Y5*2),1,1,\"Cars & Results\"),TRUE),H7:H15,0))=TRUE,0,10),\"\")","v":0},null,{"$f":"IF(INDIRECT(ADDRESS(321,5+(AA5*2),1,1,\"Cars & Results\"),TRUE)=\"Y\",IF(ISERROR(MATCH(INDIRECT(ADDRESS(319,5+(AA5*2),1,1,\"Cars & Results\"),TRUE),I7:I15,0))=TRUE,0,10),\"\")","v":10}]
[null,null,null,null,null,null,null,null,null,null,null,"Segment 3",null,{"$f":"IF(INDIRECT(ADDRESS(321,5+(M5*2),1,1,\"Cars & Results\"),TRUE)=\"Y\",IF(ISERROR(MATCH(INDIRECT(ADDRESS(320,5+(M5*2),1,1,\"Cars & Results\"),TRUE),B7:B15,0))=TRUE,0,15),\"\")","v":15},null,{"$f":"IF(INDIRECT(ADDRESS(321,5+(O5*2),1,1,\"Cars & Results\"),TRUE)=\"Y\",IF(ISERROR(MATCH(INDIRECT(ADDRESS(320,5+(O5*2),1,1,\"Cars & Results\"),TRUE),C7:C15,0))=TRUE,0,15),\"\")","v":15},null,{"$f":"IF(INDIRECT(ADDRESS(321,5+(Q5*2),1,1,\"Cars & Results\"),TRUE)=\"Y\",IF(ISERROR(MATCH(INDIRECT(ADDRESS(320,5+(Q5*2),1,1,\"Cars & Results\"),TRUE),D7:D15,0))=TRUE,0,15),\"\")","v":0},null,{"$f":"IF(INDIRECT(ADDRESS(321,5+(S5*2),1,1,\"Cars & Results\"),TRUE)=\"Y\",IF(ISERROR(MATCH(INDIRECT(ADDRESS(320,5+(S5*2),1,1,\"Cars & Results\"),TRUE),E7:E15,0))=TRUE,0,15),\"\")","v":15},null,{"$f":"IF(INDIRECT(ADDRESS(321,5+(U5*2),1,1,\"Cars & Results\"),TRUE)=\"Y\",IF(ISERROR(MATCH(INDIRECT(ADDRESS(320,5+(U5*2),1,1,\"Cars & Results\"),TRUE),F7:F15,0))=TRUE,0,15),\"\")","v":0},null,{"$f":"IF(INDIRECT(ADDRESS(321,5+(W5*2),1,1,\"Cars & Results\"),TRUE)=\"Y\",IF(ISERROR(MATCH(INDIRECT(ADDRESS(320,5+(W5*2),1,1,\"Cars & Results\"),TRUE),G7:G15,0))=TRUE,0,15),\"\")","v":0},null,{"$f":"IF(INDIRECT(ADDRESS(321,5+(Y5*2),1,1,\"Cars & Results\"),TRUE)=\"Y\",IF(ISERROR(MATCH(INDIRECT(ADDRESS(320,5+(Y5*2),1,1,\"Cars & Results\"),TRUE),H7:H15,0))=TRUE,0,15),\"\")","v":0},null,{"$f":"IF(INDIRECT(ADDRESS(321,5+(AA5*2),1,1,\"Cars & Results\"),TRUE)=\"Y\",IF(ISERROR(MATCH(INDIRECT(ADDRESS(320,5+(AA5*2),1,1,\"Cars & Results\"),TRUE),I7:I15,0))=TRUE,0,15),\"\")","v":15}]
[null,{"$f":"SUM(B7:B15)","v":360},300,302,292,296,324,319,166,null,null,null,{"$f":"SUM(M7:M15)","v":237},null,{"$f":"SUM(O7:O15)","v":218},null,{"$f":"SUM(Q7:Q15)","v":226},null,{"$f":"SUM(S7:S15)","v":226},null,{"$f":"SUM(U7:U15)","v":178},null,{"$f":"SUM(W7:W15)","v":190},null,{"$f":"SUM(Y7:Y15)","v":166},null,{"$f":"SUM(AA7:AA15)","v":222}]
[null,null,null,null,null,null,null,null,null,null,null,null,null,{"$f":"SUM(N7:N19)","v":95},null,{"$f":"SUM(P7:P19)","v":60},null,{"$f":"SUM(R7:R19)","v":30.5},null,{"$f":"SUM(T7:T19)","v":54.5},null,{"$f":"SUM(V7:V19)","v":0},null,{"$f":"SUM(X7:X19)","v":48},null,{"$f":"SUM(Z7:Z19)","v":0},null,{"$f":"SUM(AB7:AB19)","v":74}]
[null,null,null,null,null,null,null,null,null,null,null,"Race Total",{"$f":"M19+N20","v":332},null,{"$f":"O19+P20","v":278},null,{"$f":"Q19+R20","v":256.5},null,{"$f":"S19+T20","v":280.5},null,{"$f":"U19+V20","v":178},null,{"$f":"W19+X20","v":238},null,{"$f":"Y19+Z20","v":166},null,{"$f":"AA19+AB20","v":296},null,{"$f":"SUM(M21:AB21)","v":2025}]
[null,null,null,null,null,null,null,null,"1-8"]
[null,null,null,null,null,null,null,null,"9-16"]
[null,null,null,null,null,null,null,null,"17-23"]
[null,null,null,null,null,null,null,null,"24-30"]
[null,null,null,null,null,null,null,null,"31-35"]
[null,null,null,null,null,null,null,null,">35"]
[null,null,null,null,null,null,null,null,"Provisional"]

{"sheet":"Brad McLean","index":13,"n_rows":28,"n_cols":29,"rows_kept":28,"cut":false,"hidden":false,"merged":[[1,26,1,27],[2,26,2,27],[0,26,0,27],[4,26,4,27],[20,26,20,27],[3,26,3,27],[2,20,2,21],[2,22,2,23],[2,24,2,25],[3,20,3,21],[3,22,3,23],[3,24,3,25],[3,12,3,13],[3,14,3,15],[3,16,3,17],[3,18,3,19],[1,16,1,17],[1,18,1,19],[1,20,1,21],[1,22,1,23],[1,24,1,25],[0,24,0,25],[2,12,2,13],[2,14,2,15],[2,16,2,17],[2,18,2,19],[1,12,1,13],[1,14,1,15],[0,20,0,21],[0,22,0,23],[0,12,0,13],[0,14,0,15],[0,16,0,17],[0,18,0,19],[4,12,4,13],[4,14,4,15],[4,16,4,17],[20,12,20,13],[20,14,20,15],[20,16,20,17],[4,18,4,19],[4,20,4,21],[4,22,4,23],[4,24,4,25],[20,18,20,19],[20,20,20,21],[20,22,20,23],[20,24,20,25]]}
[null,null,null,null,null,null,null,null,null,null,null,null,{"$f":"VLOOKUP(M$5,Schedule!$A$8:$G$44,2,FALSE)","v":"2018-07-14"},null,{"$f":"VLOOKUP(O$5,Schedule!$A$8:$G$44,2,FALSE)","v":"2018-07-22"},null,{"$f":"VLOOKUP(Q$5,Schedule!$A$8:$G$44,2,FALSE)","v":"2018-07-29"},null,{"$f":"VLOOKUP(S$5,Schedule!$A$8:$G$44,2,FALSE)","v":"2018-08-05"},null,{"$f":"VLOOKUP(U$5,Schedule!$A$8:$G$44,2,FALSE)","v":"2018-08-12"},null,{"$f":"VLOOKUP(W$5,Schedule!$A$8:$G$44,2,FALSE)","v":"2018-08-18"},null,{"$f":"VLOOKUP(Y$5,Schedule!$A$8:$G$44,2,FALSE)","v":"2018-09-02"},null,{"$f":"VLOOKUP(AA$5,Schedule!$A$8:$G$44,2,FALSE)","v":"2018-09-09"}]
[null,null,null,null,null,null,null,null,null,null,null,null,{"$f":"VLOOKUP(M$5,Schedule!$A$8:$G$44,3,FALSE)","v":"Quaker State 400"},null,{"$f":"VLOOKUP(O$5,Schedule!$A$8:$G$44,3,FALSE)","v":"New Hampshire 301"},null,{"$f":"VLOOKUP(Q$5,Schedule!$A$8:$G$44,3,FALSE)","v":"Gander Outdoors 400"},null,{"$f":"VLOOKUP(S$5,Schedule!$A$8:$G$44,3,FALSE)","v":"Go Bowling at The Glen"},null,{"$f":"VLOOKUP(U$5,Schedule!$A$8:$G$44,3,FALSE)","v":"Pure Michigan 400"},null,{"$f":"VLOOKUP(W$5,Schedule!$A$8:$G$44,3,FALSE)","v":"Bass Pro Shops NRA Night Race"},null,{"$f":"VLOOKUP(Y$5,Schedule!$A$8:$G$44,3,FALSE)","v":"Bojangles' Southern 500"},null,{"$f":"VLOOKUP(AA$5,Schedule!$A$8:$G$44,3,FALSE)","v":"Big Machine Vodka 400 at the Brickyard"}]
[null,null,null,null,null,null,null,null,null,null,null,null,{"$f":"VLOOKUP(M$5,Schedule!$A$8:$G$44,7,FALSE)","v":"1900-06-08"},null,{"$f":"VLOOKUP(O$5,Schedule!$A$8:$G$44,7,FALSE)","v":"1900-05-29"},null,{"$f":"VLOOKUP(Q$5,Schedule!$A$8:$G$44,7,FALSE)","v":"1900-04-09"},null,{"$f":"VLOOKUP(S$5,Schedule!$A$8:$G$44,7,FALSE)","v":"1900-02-09"},null,{"$f":"VLOOKUP(U$5,Schedule!$A$8:$G$44,7,FALSE)","v":"1900-04-29"},null,{"$f":"VLOOKUP(W$5,Schedule!$A$8:$G$44,7,FALSE)","v":"1900-09-06"},null,{"$f":"VLOOKUP(Y$5,Schedule!$A$8:$G$44,7,FALSE)","v":"1900-07-18"},null,{"$f":"VLOOKUP(AA$5,Schedule!$A$8:$G$44,7,FALSE)","v":"1900-04-09"}]
[null,null,null,null,null,null,null,null,null,null,null,null,{"$f":"VLOOKUP(M$5,Schedule!$A$4:$G$44,4,FALSE)","v":"Kentucky Speedway"},null,{"$f":"VLOOKUP(O$5,Schedule!$A$4:$G$44,4,FALSE)","v":"New Hampshire Motor Speedway"},null,{"$f":"VLOOKUP(Q$5,Schedule!$A$4:$G$44,4,FALSE)","v":"Pocono Raceway"},null,{"$f":"VLOOKUP(S$5,Schedule!$A$4:$G$44,4,FALSE)","v":"Watkins Glen International"},null,{"$f":"VLOOKUP(U$5,Schedule!$A$4:$G$44,4,FALSE)","v":"Michigan International Speedway"},null,{"$f":"VLOOKUP(W$5,Schedule!$A$4:$G$44,4,FALSE)","v":"Bristol Motor Speedway"},null,{"$f":"VLOOKUP(Y$5,Schedule!$A$4:$G$44,4,FALSE)","v":"Darlington Raceway"},null,{"$f":"VLOOKUP(AA$5,Schedule!$A$4:$G$44,4,FALSE)","v":"Indianapolis Motor Speedway"}]
["Owner","Week","Week","Week","Week","Week","Week","Week","Week",2,3,4,19,null,20,null,21,null,22,null,23,null,24,null,25,null,26,null,"Total"]
["Points",19,20,21,22,23,24,25,26,"Driver","Make","Sponsor","Points","Bonus","Points","Bonus","Points","Bonus","Points","Bonus","Points","Bonus","Points","Bonus","Points","Bonus","Points","Bonus","Points"]
[{"$f":"VLOOKUP(HLOOKUP('Pick Distribution'!$P$2,$B$6:$I$15,$J$5),'Current Owner Standings'!$A$71:$B$480,2,FALSE)","v":3},78,78,78,78,78,78,78,78,{"$f":"IF(ISNA(VLOOKUP($I7,'Cars & Results'!$A$6:$I$317,J$5,FALSE)),\"Invalid Number\",VLOOKUP($I7,'Cars & Results'!$A$6:$K$317,J$5,FALSE))","v":"Martin Truex Jr."},{"$f":"IF(ISNA(VLOOKUP($I7,'Cars & Results'!$A$6:$I$317,K$5,FALSE)),\"Invalid Number\",VLOOKUP($I7,'Cars & Results'!$A$6:$K$317,K$5,FALSE))","v":"Toyota"},{"$f":"IF(ISNA(VLOOKUP($I7,'Cars & Results'!$A$6:$I$317,L$5,FALSE)),\"Invalid Number\",VLOOKUP($I7,'Cars & Results'!$A$6:$K$317,L$5,FALSE))","v":"Furniture Row Racing"},{"$f":"IF(HLOOKUP(M$5,$B$6:$I$15,Points!$A3+1,FALSE)=\"TBD\",\"\",VLOOKUP(HLOOKUP(M$5,$B$6:$I$15,Points!$A3+1,FALSE),'Cars & Results'!$A$7:$BZ$317,2*M$5+6,FALSE))","v":60},{"$f":"IF(HLOOKUP(M$5,$B$6:$I$15,Points!$A3+1,FALSE)=\"TBD\",\"\",0)","v":0},{"$f":"IF(HLOOKUP(O$5,$B$6:$I$15,Points!$A3+1,FALSE)=\"TBD\",\"\",VLOOKUP(HLOOKUP(O$5,$B$6:$I$15,Points!$A3+1,FALSE),'Cars & Results'!$A$7:$BZ$317,2*O$5+6,FALSE))","v":51},{"$f":"IF(HLOOKUP(O$5,$B$6:$I$15,Points!$A3+1,FALSE)=\"TBD\",\"\",0)","v":0},{"$f":"IF(HLOOKUP(Q$5,$B$6:$I$15,Points!$A3+1,FALSE)=\"TBD\",\"\",VLOOKUP(HLOOKUP(Q$5,$B$6:$I$15,Points!$A3+1,FALSE),'Cars & Results'!$A$7:$BZ$317,2*Q$5+6,FALSE))","v":22},{"$f":"IF(HLOOKUP(Q$5,$B$6:$I$15,Points!$A3+1,FALSE)=\"TBD\",\"\",0)","v":0},{"$f":"IF(HLOOKUP(S$5,$B$6:$I$15,Points!$A3+1,FALSE)=\"TBD\",\"\",VLOOKUP(HLOOKUP(S$5,$B$6:$I$15,Points!$A3+1,FALSE),'Cars & Results'!$A$7:$BZ$317,2*S$5+6,FALSE))","v":51},{"$f":"IF(HLOOKUP(S$5,$B$6:$I$15,Points!$A3+1,FALSE)=\"TBD\",\"\",0)","v":0},{"$f":"IF(HLOOKUP(U$5,$B$6:$I$15,Points!$A3+1,FALSE)=\"TBD\",\"\",VLOOKUP(HLOOKUP(U$5,$B$6:$I$15,Points!$A3+1,FALSE),'Cars & Results'!$A$7:$BZ$317,2*U$5+6,FALSE))","v":29},{"$f":"IF(HLOOKUP(U$5,$B$6:$I$15,Points!$A3+1,FALSE)=\"TBD\",\"\",0)","v":0},{"$f":"IF(HLOOKUP(W$5,$B$6:$I$15,Points!$A3+1,FALSE)=\"TBD\",\"\",VLOOKUP(HLOOKUP(W$5,$B$6:$I$15,Points!$A3+1,FALSE),'Cars & Results'!$A$7:$BZ$317,2*W$5+6,FALSE))","v":7},{"$f":"IF(HLOOKUP(W$5,$B$6:$I$15,Points!$A3+1,FALSE)=\"TBD\",\"\",0)","v":0},{"$f":"IF(HLOOKUP(Y$5,$B$6:$I$15,Points!$A3+1,FALSE)=\"TBD\",\"\",VLOOKUP(HLOOKUP(Y$5,$B$6:$I$15,Points!$A3+1,FALSE),'Cars & Results'!$A$7:$BZ$317,2*Y$5+6,FALSE))","v":34},{"$f":"IF(HLOOKUP(Y$5,$B$6:$I$15,Points!$A3+1,FALSE)=\"TBD\",\"\",0)","v":0},{"$f":"IF(HLOOKUP(AA$5,$B$6:$I$15,Points!$A3+1,FALSE)=\"TBD\",\"\",VLOOKUP(HLOOKUP(AA$5,$B$6:$I$15,Points!$A3+1,FALSE),'Cars & Results'!$A$7:$BZ$317,2*AA$5+6,FALSE))","v":1},{"$f":"IF(HLOOKUP(AA$5,$B$6:$I$15,Points!$A3+1,FALSE)=\"TBD\",\"\",0)","v":0}]
[{"$f":"VLOOKUP(HLOOKUP('Pick Distribution'!$P$2,$B$6:$I$15,3),'Current Owner Standings'!$A$71:$B$480,2,FALSE)","v":10},48,48,48,10,48,48,42,11,{"$f":"IF(ISNA(VLOOKUP($I8,'Cars & Results'!$A$6:$I$317,J$5,FALSE)),\"Invalid Number\",VLOOKUP($I8,'Cars & Results'!$A$6:$K$317,J$5,FALSE))","v":"Denny Hamlin"},{"$f":"IF(ISNA(VLOOKUP($I8,'Cars & Results'!$A$6:$I$317,K$5,FALSE)),\"Invalid Number\",VLOOKUP($I8,'Cars & Results'!$A$6:$K$317,K$5,FALSE))","v":"Toyota"},{"$f":"IF(ISNA(VLOOKUP($I8,'Cars & Results'!$A$6:$I$317,L$5,FALSE)),\"Invalid Number\",VLOOKUP($I8,'Cars & Results'!$A$6:$K$317,L$5,FALSE))","v":"Joe Gibbs Racing"},{"$f":"IF(HLOOKUP(M$5,$B$6:$I$15,Points!$A4+1,FALSE)=\"TBD\",\"\",VLOOKUP(HLOOKUP(M$5,$B$6:$I$15,Points!$A4+1,FALSE),'Cars & Results'!$A$7:$BZ$317,2*M$5+6,FALSE))","v":23},{"$f":"IF(HLOOKUP(M$5,$B$6:$I$15,Points!$A4+1,FALSE)=\"TBD\",\"\",IF(VLOOKUP(HLOOKUP(M$5,$B$6:$I$15,Points!$A4+1,FALSE),'Cars & Results'!$A$7:$BZ$317,2*M$5+5)=1,M8*0.25,0))","v":0},{"$f":"IF(HLOOKUP(O$5,$B$6:$I$15,Points!$A4+1,FALSE)=\"TBD\",\"\",VLOOKUP(HLOOKUP(O$5,$B$6:$I$15,Points!$A4+1,FALSE),'Cars & Results'!$A$7:$BZ$317,2*O$5+6,FALSE))","v":38},{"$f":"IF(HLOOKUP(O$5,$B$6:$I$15,Points!$A4+1,FALSE)=\"TBD\",\"\",IF(VLOOKUP(HLOOKUP(O$5,$B$6:$I$15,Points!$A4+1,FALSE),'Cars & Results'!$A$7:$BZ$317,2*O$5+5)=1,O8*0.25,0))","v":0},{"$f":"IF(HLOOKUP(Q$5,$B$6:$I$15,Points!$A4+1,FALSE)=\"TBD\",\"\",VLOOKUP(HLOOKUP(Q$5,$B$6:$I$15,Points!$A4+1,FALSE),'Cars & Results'!$A$7:$BZ$317,2*Q$5+6,FALSE))","v":25},{"$f":"IF(HLOOKUP(Q$5,$B$6:$I$15,Points!$A4+1,FALSE)=\"TBD\",\"\",IF(VLOOKUP(HLOOKUP(Q$5,$B$6:$I$15,Points!$A4+1,FALSE),'Cars & Results'!$A$7:$BZ$317,2*Q$5+5)=1,Q8*0.25,0))","v":0},{"$f":"IF(HLOOKUP(S$5,$B$6:$I$15,Points!$A4+1,FALSE)=\"TBD\",\"\",VLOOKUP(HLOOKUP(S$5,$B$6:$I$15,Points!$A4+1,FALSE),'Cars & Results'!$A$7:$BZ$317,2*S$5+6,FALSE))","v":15},{"$f":"IF(HLOOKUP(S$5,$B$6:$I$15,Points!$A4+1,FALSE)=\"TBD\",\"\",IF(VLOOKUP(HLOOKUP(S$5,$B$6:$I$15,Points!$A4+1,FALSE),'Cars & Results'!$A$7:$BZ$317,2*S$5+5)=1,S8*0.25,0))","v":0},{"$f":"IF(HLOOKUP(U$5,$B$6:$I$15,Points!$A4+1,FALSE)=\"TBD\",\"\",VLOOKUP(HLOOKUP(U$5,$B$6:$I$15,Points!$A4+1,FALSE),'Cars & Results'!$A$7:$BZ$317,2*U$5+6,FALSE))","v":9},{"$f":"IF(HLOOKUP(U$5,$B$6:$I$15,Points!$A4+1,FALSE)=\"TBD\",\"\",IF(VLOOKUP(HLOOKUP(U$5,$B$6:$I$15,Points!$A4+1,FALSE),'Cars & Results'!$A$7:$BZ$317,2*U$5+5)=1,U8*0.25,0))","v":0},{"$f":"IF(HLOOKUP(W$5,$B$6:$I$15,Points!$A4+1,FALSE)=\"TBD\",\"\",VLOOKUP(HLOOKUP(W$5,$B$6:$I$15,Points!$A4+1,FALSE),'Cars & Results'!$A$7:$BZ$317,2*W$5+6,FALSE))","v":32},{"$f":"IF(HLOOKUP(W$5,$B$6:$I$15,Points!$A4+1,FALSE)=\"TBD\",\"\",IF(VLOOKUP(HLOOKUP(W$5,$B$6:$I$15,Points!$A4+1,FALSE),'Cars & Results'!$A$7:$BZ$317,2*W$5+5)=1,W8*0.25,0))","v":0},{"$f":"IF(HLOOKUP(Y$5,$B$6:$I$15,Points!$A4+1,FALSE)=\"TBD\",\"\",VLOOKUP(HLOOKUP(Y$5,$B$6:$I$15,Points!$A4+1,FALSE),'Cars & Results'!$A$7:$BZ$317,2*Y$5+6,FALSE))","v":54},{"$f":"IF(HLOOKUP(Y$5,$B$6:$I$15,Points!$A4+1,FALSE)=\"TBD\",\"\",IF(VLOOKUP(HLOOKUP(Y$5,$B$6:$I$15,Points!$A4+1,FALSE),'Cars & Results'!$A$7:$BZ$317,2*Y$5+5)=1,Y8*0.25,0))","v":0},{"$f":"IF(HLOOKUP(AA$5,$B$6:$I$15,Points!$A4+1,FALSE)=\"TBD\",\"\",VLOOKUP(HLOOKUP(AA$5,$B$6:$I$15,Points!$A4+1,FALSE),'Cars & Results'!$A$7:$BZ$317,2*AA$5+6,FALSE))","v":42},{"$f":"IF(HLOOKUP(AA$5,$B$6:$I$15,Points!$A4+1,FALSE)=\"TBD\",\"\",IF(VLOOKUP(HLOOKUP(AA$5,$B$6:$I$15,Points!$A4+1,FALSE),'Cars & Results'!$A$7:$BZ$317,2*AA$5+5)=1,AA8*0.25,0))","v":0}]
[{"$f":"VLOOKUP(HLOOKUP('Pick Distribution'!$P$2,$B$6:$I$15,4),'Current Owner Standings'!$A$71:$B$480,2,FALSE)","v":22},3,3,19,19,24,24,24,24,{"$f":"IF(ISNA(VLOOKUP($I9,'Cars & Results'!$A$6:$I$317,J$5,FALSE)),\"Invalid Number\",VLOOKUP($I9,'Cars & Results'!$A$6:$K$317,J$5,FALSE))","v":"William Byron (R)"},{"$f":"IF(ISNA(VLOOKUP($I9,'Cars & Results'!$A$6:$I$317,K$5,FALSE)),\"Invalid Number\",VLOOKUP($I9,'Cars & Results'!$A$6:$K$317,K$5,FALSE))","v":"Chevrolet"},{"$f":"IF(ISNA(VLOOKUP($I9,'Cars & Results'!$A$6:$I$317,L$5,FALSE)),\"Invalid Number\",VLOOKUP($I9,'Cars & Results'!$A$6:$K$317,L$5,FALSE))","v":"Hendrick Motorsports"},{"$f":"IF(HLOOKUP(M$5,$B$6:$I$15,Points!$A5+1,FALSE)=\"TBD\",\"\",VLOOKUP(HLOOKUP(M$5,$B$6:$I$15,Points!$A5+1,FALSE),'Cars & Results'!$A$7:$BZ$317,2*M$5+6,FALSE))","v":15},{"$f":"IF(HLOOKUP(M$5,$B$6:$I$15,Points!$A5+1,FALSE)=\"TBD\",\"\",IF(VLOOKUP(HLOOKUP(M$5,$B$6:$I$15,Points!$A5+1,FALSE),'Cars & Results'!$A$7:$BZ$317,2*M$5+5)<=5,M9*0.5,0))","v":0},{"$f":"IF(HLOOKUP(O$5,$B$6:$I$15,Points!$A5+1,FALSE)=\"TBD\",\"\",VLOOKUP(HLOOKUP(O$5,$B$6:$I$15,Points!$A5+1,FALSE),'Cars & Results'!$A$7:$BZ$317,2*O$5+6,FALSE))","v":16},{"$f":"IF(HLOOKUP(O$5,$B$6:$I$15,Points!$A5+1,FALSE)=\"TBD\",\"\",IF(VLOOKUP(HLOOKUP(O$5,$B$6:$I$15,Points!$A5+1,FALSE),'Cars & Results'!$A$7:$BZ$317,2*O$5+5)<=5,O9*0.5,0))","v":0},{"$f":"IF(HLOOKUP(Q$5,$B$6:$I$15,Points!$A5+1,FALSE)=\"TBD\",\"\",VLOOKUP(HLOOKUP(Q$5,$B$6:$I$15,Points!$A5+1,FALSE),'Cars & Results'!$A$7:$BZ$317,2*Q$5+6,FALSE))","v":41},{"$f":"IF(HLOOKUP(Q$5,$B$6:$I$15,Points!$A5+1,FALSE)=\"TBD\",\"\",IF(VLOOKUP(HLOOKUP(Q$5,$B$6:$I$15,Points!$A5+1,FALSE),'Cars & Results'!$A$7:$BZ$317,2*Q$5+5)<=5,Q9*0.5,0))","v":20.5},{"$f":"IF(HLOOKUP(S$5,$B$6:$I$15,Points!$A5+1,FALSE)=\"TBD\",\"\",VLOOKUP(HLOOKUP(S$5,$B$6:$I$15,Points!$A5+1,FALSE),'Cars & Results'!$A$7:$BZ$317,2*S$5+6,FALSE))","v":34},{"$f":"IF(HLOOKUP(S$5,$B$6:$I$15,Points!$A5+1,FALSE)=\"TBD\",\"\",IF(VLOOKUP(HLOOKUP(S$5,$B$6:$I$15,Points!$A5+1,FALSE),'Cars & Results'!$A$7:$BZ$317,2*S$5+5)<=5,S9*0.5,0))","v":17},{"$f":"IF(HLOOKUP(U$5,$B$6:$I$15,Points!$A5+1,FALSE)=\"TBD\",\"\",VLOOKUP(HLOOKUP(U$5,$B$6:$I$15,Points!$A5+1,FALSE),'Cars & Results'!$A$7:$BZ$317,2*U$5+6,FALSE))","v":1},{"$f":"IF(HLOOKUP(U$5,$B$6:$I$15,Points!$A5+1,FALSE)=\"TBD\",\"\",IF(VLOOKUP(HLOOKUP(U$5,$B$6:$I$15,Points!$A5+1,FALSE),'Cars & Results'!$A$7:$BZ$317,2*U$5+5)<=5,U9*0.5,0))","v":0},{"$f":"IF(HLOOKUP(W$5,$B$6:$I$15,Points!$A5+1,FALSE)=\"TBD\",\"\",VLOOKUP(HLOOKUP(W$5,$B$6:$I$15,Points!$A5+1,FALSE),'Cars & Results'!$A$7:$BZ$317,2*W$5+6,FALSE))","v":14},{"$f":"IF(HLOOKUP(W$5,$B$6:$I$15,Points!$A5+1,FALSE)=\"TBD\",\"\",IF(VLOOKUP(HLOOKUP(W$5,$B$6:$I$15,Points!$A5+1,FALSE),'Cars & Results'!$A$7:$BZ$317,2*W$5+5)<=5,W9*0.5,0))","v":0},{"$f":"IF(HLOOKUP(Y$5,$B$6:$I$15,Points!$A5+1,FALSE)=\"TBD\",\"\",VLOOKUP(HLOOKUP(Y$5,$B$6:$I$15,Points!$A5+1,FALSE),'Cars & Results'!$A$7:$BZ$317,2*Y$5+6,FALSE))","v":2},{"$f":"IF(HLOOKUP(Y$5,$B$6:$I$15,Points!$A5+1,FALSE)=\"TBD\",\"\",IF(VLOOKUP(HLOOKUP(Y$5,$B$6:$I$15,Points!$A5+1,FALSE),'Cars & Results'!$A$7:$BZ$317,2*Y$5+5)<=5,Y9*0.5,0))","v":0},{"$f":"IF(HLOOKUP(AA$5,$B$6:$I$15,Points!$A5+1,FALSE)=\"TBD\",\"\",VLOOKUP(HLOOKUP(AA$5,$B$6:$I$15,Points!$A5+1,FALSE),'Cars & Results'!$A$7:$BZ$317,2*AA$5+6,FALSE))","v":18},{"$f":"IF(HLOOKUP(AA$5,$B$6:$I$15,Points!$A5+1,FALSE)=\"TBD\",\"\",IF(VLOOKUP(HLOOKUP(AA$5,$B$6:$I$15,Points!$A5+1,FALSE),'Cars & Results'!$A$7:$BZ$317,2*AA$5+5)<=5,AA9*0.5,0))","v":0}]
[{"$f":"VLOOKUP(HLOOKUP('Pick Distribution'!$P$2,$B$6:$I$15,5),'Current Owner Standings'!$A$71:$B$480,2,FALSE)","v":18},1,1,1,47,47,1,3,3,{"$f":"IF(ISNA(VLOOKUP($I10,'Cars & Results'!$A$6:$I$317,J$5,FALSE)),\"Invalid Number\",VLOOKUP($I10,'Cars & Results'!$A$6:$K$317,J$5,FALSE))","v":"Austin Dillon"},{"$f":"IF(ISNA(VLOOKUP($I10,'Cars & Results'!$A$6:$I$317,K$5,FALSE)),\"Invalid Number\",VLOOKUP($I10,'Cars & Results'!$A$6:$K$317,K$5,FALSE))","v":"Chevrolet"},{"$f":"IF(ISNA(VLOOKUP($I10,'Cars & Results'!$A$6:$I$317,L$5,FALSE)),\"Invalid Number\",VLOOKUP($I10,'Cars & Results'!$A$6:$K$317,L$5,FALSE))","v":"Richard Childress Racing"},{"$f":"IF(HLOOKUP(M$5,$B$6:$I$15,Points!$A6+1,FALSE)=\"TBD\",\"\",VLOOKUP(HLOOKUP(M$5,$B$6:$I$15,Points!$A6+1,FALSE),'Cars & Results'!$A$7:$BZ$317,2*M$5+6,FALSE))","v":20},{"$f":"IF(HLOOKUP(M$5,$B$6:$I$15,Points!$A6+1,FALSE)=\"TBD\",\"\",IF(VLOOKUP(HLOOKUP(M$5,$B$6:$I$15,Points!$A6+1,FALSE),'Cars & Results'!$A$7:$BZ$317,2*M$5+5)<=5,M10*0.5,0))","v":0},{"$f":"IF(HLOOKUP(O$5,$B$6:$I$15,Points!$A6+1,FALSE)=\"TBD\",\"\",VLOOKUP(HLOOKUP(O$5,$B$6:$I$15,Points!$A6+1,FALSE),'Cars & Results'!$A$7:$BZ$317,2*O$5+6,FALSE))","v":19},{"$f":"IF(HLOOKUP(O$5,$B$6:$I$15,Points!$A6+1,FALSE)=\"TBD\",\"\",IF(VLOOKUP(HLOOKUP(O$5,$B$6:$I$15,Points!$A6+1,FALSE),'Cars & Results'!$A$7:$BZ$317,2*O$5+5)<=5,O10*0.5,0))","v":0},{"$f":"IF(HLOOKUP(Q$5,$B$6:$I$15,Points!$A6+1,FALSE)=\"TBD\",\"\",VLOOKUP(HLOOKUP(Q$5,$B$6:$I$15,Points!$A6+1,FALSE),'Cars & Results'!$A$7:$BZ$317,2*Q$5+6,FALSE))","v":25},{"$f":"IF(HLOOKUP(Q$5,$B$6:$I$15,Points!$A6+1,FALSE)=\"TBD\",\"\",IF(VLOOKUP(HLOOKUP(Q$5,$B$6:$I$15,Points!$A6+1,FALSE),'Cars & Results'!$A$7:$BZ$317,2*Q$5+5)<=5,Q10*0.5,0))","v":0},{"$f":"IF(HLOOKUP(S$5,$B$6:$I$15,Points!$A6+1,FALSE)=\"TBD\",\"\",VLOOKUP(HLOOKUP(S$5,$B$6:$I$15,Points!$A6+1,FALSE),'Cars & Results'!$A$7:$BZ$317,2*S$5+6,FALSE))","v":22},{"$f":"IF(HLOOKUP(S$5,$B$6:$I$15,Points!$A6+1,FALSE)=\"TBD\",\"\",IF(VLOOKUP(HLOOKUP(S$5,$B$6:$I$15,Points!$A6+1,FALSE),'Cars & Results'!$A$7:$BZ$317,2*S$5+5)<=5,S10*0.5,0))","v":0},{"$f":"IF(HLOOKUP(U$5,$B$6:$I$15,Points!$A6+1,FALSE)=\"TBD\",\"\",VLOOKUP(HLOOKUP(U$5,$B$6:$I$15,Points!$A6+1,FALSE),'Cars & Results'!$A$7:$BZ$317,2*U$5+6,FALSE))","v":15},{"$f":"IF(HLOOKUP(U$5,$B$6:$I$15,Points!$A6+1,FALSE)=\"TBD\",\"\",IF(VLOOKUP(HLOOKUP(U$5,$B$6:$I$15,Points!$A6+1,FALSE),'Cars & Results'!$A$7:$BZ$317,2*U$5+5)<=5,U10*0.5,0))","v":0},{"$f":"IF(HLOOKUP(W$5,$B$6:$I$15,Points!$A6+1,FALSE)=\"TBD\",\"\",VLOOKUP(HLOOKUP(W$5,$B$6:$I$15,Points!$A6+1,FALSE),'Cars & Results'!$A$7:$BZ$317,2*W$5+6,FALSE))","v":8},{"$f":"IF(HLOOKUP(W$5,$B$6:$I$15,Points!$A6+1,FALSE)=\"TBD\",\"\",IF(VLOOKUP(HLOOKUP(W$5,$B$6:$I$15,Points!$A6+1,FALSE),'Cars & Results'!$A$7:$BZ$317,2*W$5+5)<=5,W10*0.5,0))","v":0},{"$f":"IF(HLOOKUP(Y$5,$B$6:$I$15,Points!$A6+1,FALSE)=\"TBD\",\"\",VLOOKUP(HLOOKUP(Y$5,$B$6:$I$15,Points!$A6+1,FALSE),'Cars & Results'!$A$7:$BZ$317,2*Y$5+6,FALSE))","v":21},{"$f":"IF(HLOOKUP(Y$5,$B$6:$I$15,Points!$A6+1,FALSE)=\"TBD\",\"\",IF(VLOOKUP(HLOOKUP(Y$5,$B$6:$I$15,Points!$A6+1,FALSE),'Cars & Results'!$A$7:$BZ$317,2*Y$5+5)<=5,Y10*0.5,0))","v":0},{"$f":"IF(HLOOKUP(AA$5,$B$6:$I$15,Points!$A6+1,FALSE)=\"TBD\",\"\",VLOOKUP(HLOOKUP(AA$5,$B$6:$I$15,Points!$A6+1,FALSE),'Cars & Results'!$A$7:$BZ$317,2*AA$5+6,FALSE))","v":15},{"$f":"IF(HLOOKUP(AA$5,$B$6:$I$15,Points!$A6+1,FALSE)=\"TBD\",\"\",IF(VLOOKUP(HLOOKUP(AA$5,$B$6:$I$15,Points!$A6+1,FALSE),'Cars & Results'!$A$7:$BZ$317,2*AA$5+5)<=5,AA10*0.5,0))","v":0}]
[{"$f":"VLOOKUP(HLOOKUP('Pick Distribution'!$P$2,$B$6:$I$15,6),'Current Owner Standings'!$A$71:$B$480,2,FALSE)","v":28},13,13,95,95,95,43,43,43,{"$f":"IF(ISNA(VLOOKUP($I11,'Cars & Results'!$A$6:$I$317,J$5,FALSE)),\"Invalid Number\",VLOOKUP($I11,'Cars & Results'!$A$6:$K$317,J$5,FALSE))","v":"Darrell Wallace Jr. (R)"},{"$f":"IF(ISNA(VLOOKUP($I11,'Cars & Results'!$A$6:$I$317,K$5,FALSE)),\"Invalid Number\",VLOOKUP($I11,'Cars & Results'!$A$6:$K$317,K$5,FALSE))","v":"Chevrolet"},{"$f":"IF(ISNA(VLOOKUP($I11,'Cars & Results'!$A$6:$I$317,L$5,FALSE)),\"Invalid Number\",VLOOKUP($I11,'Cars & Results'!$A$6:$K$317,L$5,FALSE))","v":"Richard Petty Motorsports"},{"$f":"IF(HLOOKUP(M$5,$B$6:$I$15,Points!$A7+1,FALSE)=\"TBD\",\"\",VLOOKUP(HLOOKUP(M$5,$B$6:$I$15,Points!$A7+1,FALSE),'Cars & Results'!$A$7:$BZ$317,2*M$5+6,FALSE))","v":8},{"$f":"IF(HLOOKUP(M$5,$B$6:$I$15,Points!$A7+1,FALSE)=\"TBD\",\"\",IF(VLOOKUP(HLOOKUP(M$5,$B$6:$I$15,Points!$A7+1,FALSE),'Cars & Results'!$A$7:$BZ$317,2*M$5+5)<=10,M11*1.5,0))","v":0},{"$f":"IF(HLOOKUP(O$5,$B$6:$I$15,Points!$A7+1,FALSE)=\"TBD\",\"\",VLOOKUP(HLOOKUP(O$5,$B$6:$I$15,Points!$A7+1,FALSE),'Cars & Results'!$A$7:$BZ$317,2*O$5+6,FALSE))","v":14},{"$f":"IF(HLOOKUP(O$5,$B$6:$I$15,Points!$A7+1,FALSE)=\"TBD\",\"\",IF(VLOOKUP(HLOOKUP(O$5,$B$6:$I$15,Points!$A7+1,FALSE),'Cars & Results'!$A$7:$BZ$317,2*O$5+5)<=10,O11*1.5,0))","v":0},{"$f":"IF(HLOOKUP(Q$5,$B$6:$I$15,Points!$A7+1,FALSE)=\"TBD\",\"\",VLOOKUP(HLOOKUP(Q$5,$B$6:$I$15,Points!$A7+1,FALSE),'Cars & Results'!$A$7:$BZ$317,2*Q$5+6,FALSE))","v":7},{"$f":"IF(HLOOKUP(Q$5,$B$6:$I$15,Points!$A7+1,FALSE)=\"TBD\",\"\",IF(VLOOKUP(HLOOKUP(Q$5,$B$6:$I$15,Points!$A7+1,FALSE),'Cars & Results'!$A$7:$BZ$317,2*Q$5+5)<=10,Q11*1.5,0))","v":0},{"$f":"IF(HLOOKUP(S$5,$B$6:$I$15,Points!$A7+1,FALSE)=\"TBD\",\"\",VLOOKUP(HLOOKUP(S$5,$B$6:$I$15,Points!$A7+1,FALSE),'Cars & Results'!$A$7:$BZ$317,2*S$5+6,FALSE))","v":16},{"$f":"IF(HLOOKUP(S$5,$B$6:$I$15,Points!$A7+1,FALSE)=\"TBD\",\"\",IF(VLOOKUP(HLOOKUP(S$5,$B$6:$I$15,Points!$A7+1,FALSE),'Cars & Results'!$A$7:$BZ$317,2*S$5+5)<=10,S11*1.5,0))","v":0},{"$f":"IF(HLOOKUP(U$5,$B$6:$I$15,Points!$A7+1,FALSE)=\"TBD\",\"\",VLOOKUP(HLOOKUP(U$5,$B$6:$I$15,Points!$A7+1,FALSE),'Cars & Results'!$A$7:$BZ$317,2*U$5+6,FALSE))","v":11},{"$f":"IF(HLOOKUP(U$5,$B$6:$I$15,Points!$A7+1,FALSE)=\"TBD\",\"\",IF(VLOOKUP(HLOOKUP(U$5,$B$6:$I$15,Points!$A7+1,FALSE),'Cars & Results'!$A$7:$BZ$317,2*U$5+5)<=10,U11*1.5,0))","v":0},{"$f":"IF(HLOOKUP(W$5,$B$6:$I$15,Points!$A7+1,FALSE)=\"TBD\",\"\",VLOOKUP(HLOOKUP(W$5,$B$6:$I$15,Points!$A7+1,FALSE),'Cars & Results'!$A$7:$BZ$317,2*W$5+6,FALSE))","v":1},{"$f":"IF(HLOOKUP(W$5,$B$6:$I$15,Points!$A7+1,FALSE)=\"TBD\",\"\",IF(VLOOKUP(HLOOKUP(W$5,$B$6:$I$15,Points!$A7+1,FALSE),'Cars & Results'!$A$7:$BZ$317,2*W$5+5)<=10,W11*1.5,0))","v":0},{"$f":"IF(HLOOKUP(Y$5,$B$6:$I$15,Points!$A7+1,FALSE)=\"TBD\",\"\",VLOOKUP(HLOOKUP(Y$5,$B$6:$I$15,Points!$A7+1,FALSE),'Cars & Results'!$A$7:$BZ$317,2*Y$5+6,FALSE))","v":11},{"$f":"IF(HLOOKUP(Y$5,$B$6:$I$15,Points!$A7+1,FALSE)=\"TBD\",\"\",IF(VLOOKUP(HLOOKUP(Y$5,$B$6:$I$15,Points!$A7+1,FALSE),'Cars & Results'!$A$7:$BZ$317,2*Y$5+5)<=10,Y11*1.5,0))","v":0},{"$f":"IF(HLOOKUP(AA$5,$B$6:$I$15,Points!$A7+1,FALSE)=\"TBD\",\"\",VLOOKUP(HLOOKUP(AA$5,$B$6:$I$15,Points!$A7+1,FALSE),'Cars & Results'!$A$7:$BZ$317,2*AA$5+6,FALSE))","v":1},{"$f":"IF(HLOOKUP(AA$5,$B$6:$I$15,Points!$A7+1,FALSE)=\"TBD\",\"\",IF(VLOOKUP(HLOOKUP(AA$5,$B$6:$I$15,Points!$A7+1,FALSE),'Cars & Results'!$A$7:$BZ$317,2*AA$5+5)<=10,AA11*1.5,0))","v":0}]
[{"$f":"VLOOKUP(HLOOKUP('Pick Distribution'!$P$2,$B$6:$I$15,7),'Current Owner Standings'!$A$71:$B$480,2,FALSE)","v":29},43,43,43,43,6,6,6,6,{"$f":"IF(ISNA(VLOOKUP($I12,'Cars & Results'!$A$6:$I$317,J$5,FALSE)),\"Invalid Number\",VLOOKUP($I12,'Cars & Results'!$A$6:$K$317,J$5,FALSE))","v":"Matt Kenseth"},{"$f":"IF(ISNA(VLOOKUP($I12,'Cars & Results'!$A$6:$I$317,K$5,FALSE)),\"Invalid Number\",VLOOKUP($I12,'Cars & Results'!$A$6:$K$317,K$5,FALSE))","v":"Ford"},{"$f":"IF(ISNA(VLOOKUP($I12,'Cars & Results'!$A$6:$I$317,L$5,FALSE)),\"Invalid Number\",VLOOKUP($I12,'Cars & Results'!$A$6:$K$317,L$5,FALSE))","v":"Roush Fenway Racing"},{"$f":"IF(HLOOKUP(M$5,$B$6:$I$15,Points!$A8+1,FALSE)=\"TBD\",\"\",VLOOKUP(HLOOKUP(M$5,$B$6:$I$15,Points!$A8+1,FALSE),'Cars & Results'!$A$7:$BZ$317,2*M$5+6,FALSE))","v":10},{"$f":"IF(HLOOKUP(M$5,$B$6:$I$15,Points!$A8+1,FALSE)=\"TBD\",\"\",IF(VLOOKUP(HLOOKUP(M$5,$B$6:$I$15,Points!$A8+1,FALSE),'Cars & Results'!$A$7:$BZ$317,2*M$5+5)<=10,M12*1.5,0))","v":0},{"$f":"IF(HLOOKUP(O$5,$B$6:$I$15,Points!$A8+1,FALSE)=\"TBD\",\"\",VLOOKUP(HLOOKUP(O$5,$B$6:$I$15,Points!$A8+1,FALSE),'Cars & Results'!$A$7:$BZ$317,2*O$5+6,FALSE))","v":13},{"$f":"IF(HLOOKUP(O$5,$B$6:$I$15,Points!$A8+1,FALSE)=\"TBD\",\"\",IF(VLOOKUP(HLOOKUP(O$5,$B$6:$I$15,Points!$A8+1,FALSE),'Cars & Results'!$A$7:$BZ$317,2*O$5+5)<=10,O12*1.5,0))","v":0},{"$f":"IF(HLOOKUP(Q$5,$B$6:$I$15,Points!$A8+1,FALSE)=\"TBD\",\"\",VLOOKUP(HLOOKUP(Q$5,$B$6:$I$15,Points!$A8+1,FALSE),'Cars & Results'!$A$7:$BZ$317,2*Q$5+6,FALSE))","v":4},{"$f":"IF(HLOOKUP(Q$5,$B$6:$I$15,Points!$A8+1,FALSE)=\"TBD\",\"\",IF(VLOOKUP(HLOOKUP(Q$5,$B$6:$I$15,Points!$A8+1,FALSE),'Cars & Results'!$A$7:$BZ$317,2*Q$5+5)<=10,Q12*1.5,0))","v":0},{"$f":"IF(HLOOKUP(S$5,$B$6:$I$15,Points!$A8+1,FALSE)=\"TBD\",\"\",VLOOKUP(HLOOKUP(S$5,$B$6:$I$15,Points!$A8+1,FALSE),'Cars & Results'!$A$7:$BZ$317,2*S$5+6,FALSE))","v":12},{"$f":"IF(HLOOKUP(S$5,$B$6:$I$15,Points!$A8+1,FALSE)=\"TBD\",\"\",IF(VLOOKUP(HLOOKUP(S$5,$B$6:$I$15,Points!$A8+1,FALSE),'Cars & Results'!$A$7:$BZ$317,2*S$5+5)<=10,S12*1.5,0))","v":0},{"$f":"IF(HLOOKUP(U$5,$B$6:$I$15,Points!$A8+1,FALSE)=\"TBD\",\"\",VLOOKUP(HLOOKUP(U$5,$B$6:$I$15,Points!$A8+1,FALSE),'Cars & Results'!$A$7:$BZ$317,2*U$5+6,FALSE))","v":3},{"$f":"IF(HLOOKUP(U$5,$B$6:$I$15,Points!$A8+1,FALSE)=\"TBD\",\"\",IF(VLOOKUP(HLOOKUP(U$5,$B$6:$I$15,Points!$A8+1,FALSE),'Cars & Results'!$A$7:$BZ$317,2*U$5+5)<=10,U12*1.5,0))","v":0},{"$f":"IF(HLOOKUP(W$5,$B$6:$I$15,Points!$A8+1,FALSE)=\"TBD\",\"\",VLOOKUP(HLOOKUP(W$5,$B$6:$I$15,Points!$A8+1,FALSE),'Cars & Results'!$A$7:$BZ$317,2*W$5+6,FALSE))","v":26},{"$f":"IF(HLOOKUP(W$5,$B$6:$I$15,Points!$A8+1,FALSE)=\"TBD\",\"\",IF(VLOOKUP(HLOOKUP(W$5,$B$6:$I$15,Points!$A8+1,FALSE),'Cars & Results'!$A$7:$BZ$317,2*W$5+5)<=10,W12*1.5,0))","v":0},{"$f":"IF(HLOOKUP(Y$5,$B$6:$I$15,Points!$A8+1,FALSE)=\"TBD\",\"\",VLOOKUP(HLOOKUP(Y$5,$B$6:$I$15,Points!$A8+1,FALSE),'Cars & Results'!$A$7:$BZ$317,2*Y$5+6,FALSE))","v":12},{"$f":"IF(HLOOKUP(Y$5,$B$6:$I$15,Points!$A8+1,FALSE)=\"TBD\",\"\",IF(VLOOKUP(HLOOKUP(Y$5,$B$6:$I$15,Points!$A8+1,FALSE),'Cars & Results'!$A$7:$BZ$317,2*Y$5+5)<=10,Y12*1.5,0))","v":0},{"$f":"IF(HLOOKUP(AA$5,$B$6:$I$15,Points!$A8+1,FALSE)=\"TBD\",\"\",VLOOKUP(HLOOKUP(AA$5,$B$6:$I$15,Points!$A8+1,FALSE),'Cars & Results'!$A$7:$BZ$317,2*AA$5+6,FALSE))","v":35},{"$f":"IF(HLOOKUP(AA$5,$B$6:$I$15,Points!$A8+1,FALSE)=\"TBD\",\"\",IF(VLOOKUP(HLOOKUP(AA$5,$B$6:$I$15,Points!$A8+1,FALSE),'Cars & Results'!$A$7:$BZ$317,2*AA$5+5)<=10,AA12*1.5,0))","v":0}]
[{"$f":"VLOOKUP(HLOOKUP('Pick Distribution'!$P$2,$B$6:$I$15,8),'Current Owner Standings'!$A$71:$B$480,2,FALSE)","v":31},32,32,32,32,32,32,32,32,{"$f":"IF(ISNA(VLOOKUP($I13,'Cars & Results'!$A$6:$I$317,J$5,FALSE)),\"Invalid Number\",VLOOKUP($I13,'Cars & Results'!$A$6:$K$317,J$5,FALSE))","v":"Matt DiBenedetto"},{"$f":"IF(ISNA(VLOOKUP($I13,'Cars & Results'!$A$6:$I$317,K$5,FALSE)),\"Invalid Number\",VLOOKUP($I13,'Cars & Results'!$A$6:$K$317,K$5,FALSE))","v":"Ford"},{"$f":"IF(ISNA(VLOOKUP($I13,'Cars & Results'!$A$6:$I$317,L$5,FALSE)),\"Invalid Number\",VLOOKUP($I13,'Cars & Results'!$A$6:$K$317,L$5,FALSE))","v":"Go Fas Racing"},{"$f":"IF(HLOOKUP(M$5,$B$6:$I$15,Points!$A9+1,FALSE)=\"TBD\",\"\",VLOOKUP(HLOOKUP(M$5,$B$6:$I$15,Points!$A9+1,FALSE),'Cars & Results'!$A$7:$BZ$317,2*M$5+6,FALSE))","v":1},{"$f":"IF(HLOOKUP(M$5,$B$6:$I$15,Points!$A9+1,FALSE)=\"TBD\",\"\",IF(VLOOKUP(HLOOKUP(M$5,$B$6:$I$15,Points!$A9+1,FALSE),'Cars & Results'!$A$7:$BZ$317,2*M$5+5)<=10,M13*2,0))","v":0},{"$f":"IF(HLOOKUP(O$5,$B$6:$I$15,Points!$A9+1,FALSE)=\"TBD\",\"\",VLOOKUP(HLOOKUP(O$5,$B$6:$I$15,Points!$A9+1,FALSE),'Cars & Results'!$A$7:$BZ$317,2*O$5+6,FALSE))","v":9},{"$f":"IF(HLOOKUP(O$5,$B$6:$I$15,Points!$A9+1,FALSE)=\"TBD\",\"\",IF(VLOOKUP(HLOOKUP(O$5,$B$6:$I$15,Points!$A9+1,FALSE),'Cars & Results'!$A$7:$BZ$317,2*O$5+5)<=10,O13*2,0))","v":0},{"$f":"IF(HLOOKUP(Q$5,$B$6:$I$15,Points!$A9+1,FALSE)=\"TBD\",\"\",VLOOKUP(HLOOKUP(Q$5,$B$6:$I$15,Points!$A9+1,FALSE),'Cars & Results'!$A$7:$BZ$317,2*Q$5+6,FALSE))","v":10},{"$f":"IF(HLOOKUP(Q$5,$B$6:$I$15,Points!$A9+1,FALSE)=\"TBD\",\"\",IF(VLOOKUP(HLOOKUP(Q$5,$B$6:$I$15,Points!$A9+1,FALSE),'Cars & Results'!$A$7:$BZ$317,2*Q$5+5)<=10,Q13*2,0))","v":0},{"$f":"IF(HLOOKUP(S$5,$B$6:$I$15,Points!$A9+1,FALSE)=\"TBD\",\"\",VLOOKUP(HLOOKUP(S$5,$B$6:$I$15,Points!$A9+1,FALSE),'Cars & Results'!$A$7:$BZ$317,2*S$5+6,FALSE))","v":4},{"$f":"IF(HLOOKUP(S$5,$B$6:$I$15,Points!$A9+1,FALSE)=\"TBD\",\"\",IF(VLOOKUP(HLOOKUP(S$5,$B$6:$I$15,Points!$A9+1,FALSE),'Cars & Results'!$A$7:$BZ$317,2*S$5+5)<=10,S13*2,0))","v":0},{"$f":"IF(HLOOKUP(U$5,$B$6:$I$15,Points!$A9+1,FALSE)=\"TBD\",\"\",VLOOKUP(HLOOKUP(U$5,$B$6:$I$15,Points!$A9+1,FALSE),'Cars & Results'!$A$7:$BZ$317,2*U$5+6,FALSE))","v":13},{"$f":"IF(HLOOKUP(U$5,$B$6:$I$15,Points!$A9+1,FALSE)=\"TBD\",\"\",IF(VLOOKUP(HLOOKUP(U$5,$B$6:$I$15,Points!$A9+1,FALSE),'Cars & Results'!$A$7:$BZ$317,2*U$5+5)<=10,U13*2,0))","v":0},{"$f":"IF(HLOOKUP(W$5,$B$6:$I$15,Points!$A9+1,FALSE)=\"TBD\",\"\",VLOOKUP(HLOOKUP(W$5,$B$6:$I$15,Points!$A9+1,FALSE),'Cars & Results'!$A$7:$BZ$317,2*W$5+6,FALSE))","v":15},{"$f":"IF(HLOOKUP(W$5,$B$6:$I$15,Points!$A9+1,FALSE)=\"TBD\",\"\",IF(VLOOKUP(HLOOKUP(W$5,$B$6:$I$15,Points!$A9+1,FALSE),'Cars & Results'!$A$7:$BZ$317,2*W$5+5)<=10,W13*2,0))","v":0},{"$f":"IF(HLOOKUP(Y$5,$B$6:$I$15,Points!$A9+1,FALSE)=\"TBD\",\"\",VLOOKUP(HLOOKUP(Y$5,$B$6:$I$15,Points!$A9+1,FALSE),'Cars & Results'!$A$7:$BZ$317,2*Y$5+6,FALSE))","v":1},{"$f":"IF(HLOOKUP(Y$5,$B$6:$I$15,Points!$A9+1,FALSE)=\"TBD\",\"\",IF(VLOOKUP(HLOOKUP(Y$5,$B$6:$I$15,Points!$A9+1,FALSE),'Cars & Results'!$A$7:$BZ$317,2*Y$5+5)<=10,Y13*2,0))","v":0},{"$f":"IF(HLOOKUP(AA$5,$B$6:$I$15,Points!$A9+1,FALSE)=\"TBD\",\"\",VLOOKUP(HLOOKUP(AA$5,$B$6:$I$15,Points!$A9+1,FALSE),'Cars & Results'!$A$7:$BZ$317,2*AA$5+6,FALSE))","v":1},{"$f":"IF(HLOOKUP(AA$5,$B$6:$I$15,Points!$A9+1,FALSE)=\"TBD\",\"\",IF(VLOOKUP(HLOOKUP(AA$5,$B$6:$I$15,Points!$A9+1,FALSE),'Cars & Results'!$A$7:$BZ$317,2*AA$5+5)<=10,AA13*2,0))","v":0}]
[{"$f":"VLOOKUP(HLOOKUP('Pick Distribution'!$P$2,$B$6:$I$15,9),'Current Owner Standings'!$A$71:$B$480,2,FALSE)","v":36},51,51,51,51,51,51,51,51,{"$f":"IF(ISNA(VLOOKUP($I14,'Cars & Results'!$A$6:$I$317,J$5,FALSE)),\"Invalid Number\",VLOOKUP($I14,'Cars & Results'!$A$6:$K$317,J$5,FALSE))","v":"David Starr (i)"},{"$f":"IF(ISNA(VLOOKUP($I14,'Cars & Results'!$A$6:$I$317,K$5,FALSE)),\"Invalid Number\",VLOOKUP($I14,'Cars & Results'!$A$6:$K$317,K$5,FALSE))","v":"Ford"},{"$f":"IF(ISNA(VLOOKUP($I14,'Cars & Results'!$A$6:$I$317,L$5,FALSE)),\"Invalid Number\",VLOOKUP($I14,'Cars & Results'!$A$6:$K$317,L$5,FALSE))","v":"Rick Ware Racing"},{"$f":"IF(HLOOKUP(M$5,$B$6:$I$15,Points!$A10+1,FALSE)=\"TBD\",\"\",VLOOKUP(HLOOKUP(M$5,$B$6:$I$15,Points!$A10+1,FALSE),'Cars & Results'!$A$7:$BZ$317,2*M$5+6,FALSE))","v":5},{"$f":"IF(HLOOKUP(M$5,$B$6:$I$15,Points!$A10+1,FALSE)=\"TBD\",\"\",IF(VLOOKUP(HLOOKUP(M$5,$B$6:$I$15,Points!$A10+1,FALSE),'Cars & Results'!$A$7:$BZ$317,2*M$5+5)<=10,M14*3,0))","v":0},{"$f":"IF(HLOOKUP(O$5,$B$6:$I$15,Points!$A10+1,FALSE)=\"TBD\",\"\",VLOOKUP(HLOOKUP(O$5,$B$6:$I$15,Points!$A10+1,FALSE),'Cars & Results'!$A$7:$BZ$317,2*O$5+6,FALSE))","v":3},{"$f":"IF(HLOOKUP(O$5,$B$6:$I$15,Points!$A10+1,FALSE)=\"TBD\",\"\",IF(VLOOKUP(HLOOKUP(O$5,$B$6:$I$15,Points!$A10+1,FALSE),'Cars & Results'!$A$7:$BZ$317,2*O$5+5)<=10,O14*3,0))","v":0},{"$f":"IF(HLOOKUP(Q$5,$B$6:$I$15,Points!$A10+1,FALSE)=\"TBD\",\"\",VLOOKUP(HLOOKUP(Q$5,$B$6:$I$15,Points!$A10+1,FALSE),'Cars & Results'!$A$7:$BZ$317,2*Q$5+6,FALSE))","v":1},{"$f":"IF(HLOOKUP(Q$5,$B$6:$I$15,Points!$A10+1,FALSE)=\"TBD\",\"\",IF(VLOOKUP(HLOOKUP(Q$5,$B$6:$I$15,Points!$A10+1,FALSE),'Cars & Results'!$A$7:$BZ$317,2*Q$5+5)<=10,Q14*3,0))","v":0},{"$f":"IF(HLOOKUP(S$5,$B$6:$I$15,Points!$A10+1,FALSE)=\"TBD\",\"\",VLOOKUP(HLOOKUP(S$5,$B$6:$I$15,Points!$A10+1,FALSE),'Cars & Results'!$A$7:$BZ$317,2*S$5+6,FALSE))","v":1},{"$f":"IF(HLOOKUP(S$5,$B$6:$I$15,Points!$A10+1,FALSE)=\"TBD\",\"\",IF(VLOOKUP(HLOOKUP(S$5,$B$6:$I$15,Points!$A10+1,FALSE),'Cars & Results'!$A$7:$BZ$317,2*S$5+5)<=10,S14*3,0))","v":0},{"$f":"IF(HLOOKUP(U$5,$B$6:$I$15,Points!$A10+1,FALSE)=\"TBD\",\"\",VLOOKUP(HLOOKUP(U$5,$B$6:$I$15,Points!$A10+1,FALSE),'Cars & Results'!$A$7:$BZ$317,2*U$5+6,FALSE))","v":6},{"$f":"IF(HLOOKUP(U$5,$B$6:$I$15,Points!$A10+1,FALSE)=\"TBD\",\"\",IF(VLOOKUP(HLOOKUP(U$5,$B$6:$I$15,Points!$A10+1,FALSE),'Cars & Results'!$A$7:$BZ$317,2*U$5+5)<=10,U14*3,0))","v":0},{"$f":"IF(HLOOKUP(W$5,$B$6:$I$15,Points!$A10+1,FALSE)=\"TBD\",\"\",VLOOKUP(HLOOKUP(W$5,$B$6:$I$15,Points!$A10+1,FALSE),'Cars & Results'!$A$7:$BZ$317,2*W$5+6,FALSE))","v":4},{"$f":"IF(HLOOKUP(W$5,$B$6:$I$15,Points!$A10+1,FALSE)=\"TBD\",\"\",IF(VLOOKUP(HLOOKUP(W$5,$B$6:$I$15,Points!$A10+1,FALSE),'Cars & Results'!$A$7:$BZ$317,2*W$5+5)<=10,W14*3,0))","v":0},{"$f":"IF(HLOOKUP(Y$5,$B$6:$I$15,Points!$A10+1,FALSE)=\"TBD\",\"\",VLOOKUP(HLOOKUP(Y$5,$B$6:$I$15,Points!$A10+1,FALSE),'Cars & Results'!$A$7:$BZ$317,2*Y$5+6,FALSE))","v":5},{"$f":"IF(HLOOKUP(Y$5,$B$6:$I$15,Points!$A10+1,FALSE)=\"TBD\",\"\",IF(VLOOKUP(HLOOKUP(Y$5,$B$6:$I$15,Points!$A10+1,FALSE),'Cars & Results'!$A$7:$BZ$317,2*Y$5+5)<=10,Y14*3,0))","v":0},{"$f":"IF(HLOOKUP(AA$5,$B$6:$I$15,Points!$A10+1,FALSE)=\"TBD\",\"\",VLOOKUP(HLOOKUP(AA$5,$B$6:$I$15,Points!$A10+1,FALSE),'Cars & Results'!$A$7:$BZ$317,2*AA$5+6,FALSE))","v":1},{"$f":"IF(HLOOKUP(AA$5,$B$6:$I$15,Points!$A10+1,FALSE)=\"TBD\",\"\",IF(VLOOKUP(HLOOKUP(AA$5,$B$6:$I$15,Points!$A10+1,FALSE),'Cars & Results'!$A$7:$BZ$317,2*AA$5+5)<=10,AA14*3,0))","v":0}]
[{"$f":"VLOOKUP(HLOOKUP('Pick Distribution'!$P$2,$B$6:$I$15,10),'Current Owner Standings'!$A$71:$B$480,2,FALSE)","v":4},14,22,11,18,4,2,12,41,{"$f":"IF(ISNA(VLOOKUP($I15,'Cars & Results'!$A$6:$I$317,J$5,FALSE)),\"Invalid Number\",VLOOKUP($I15,'Cars & Results'!$A$6:$K$317,J$5,FALSE))","v":"Kurt Busch"},{"$f":"IF(ISNA(VLOOKUP($I15,'Cars & Results'!$A$6:$I$317,K$5,FALSE)),\"Invalid Number\",VLOOKUP($I15,'Cars & Results'!$A$6:$K$317,K$5,FALSE))","v":"Ford"},{"$f":"IF(ISNA(VLOOKUP($I15,'Cars & Results'!$A$6:$I$317,L$5,FALSE)),\"Invalid Number\",VLOOKUP($I15,'Cars & Results'!$A$6:$K$317,L$5,FALSE))","v":"Stewart-Haas Racing"},{"$f":"IF(HLOOKUP(M$5,$B$6:$I$15,Points!$A11+1,FALSE)=\"TBD\",\"\",VLOOKUP(HLOOKUP(M$5,$B$6:$I$15,Points!$A11+1,FALSE),'Cars & Results'!$A$7:$BZ$317,2*M$5+6,FALSE))","v":35},0,{"$f":"IF(HLOOKUP(O$5,$B$6:$I$15,Points!$A11+1,FALSE)=\"TBD\",\"\",VLOOKUP(HLOOKUP(O$5,$B$6:$I$15,Points!$A11+1,FALSE),'Cars & Results'!$A$7:$BZ$317,2*O$5+6,FALSE))","v":31},0,{"$f":"IF(HLOOKUP(Q$5,$B$6:$I$15,Points!$A11+1,FALSE)=\"TBD\",\"\",VLOOKUP(HLOOKUP(Q$5,$B$6:$I$15,Points!$A11+1,FALSE),'Cars & Results'!$A$7:$BZ$317,2*Q$5+6,FALSE))","v":35},0,{"$f":"IF(HLOOKUP(S$5,$B$6:$I$15,Points!$A11+1,FALSE)=\"TBD\",\"\",VLOOKUP(HLOOKUP(S$5,$B$6:$I$15,Points!$A11+1,FALSE),'Cars & Results'!$A$7:$BZ$317,2*S$5+6,FALSE))","v":43},43,{"$f":"IF(HLOOKUP(U$5,$B$6:$I$15,Points!$A11+1,FALSE)=\"TBD\",\"\",VLOOKUP(HLOOKUP(U$5,$B$6:$I$15,Points!$A11+1,FALSE),'Cars & Results'!$A$7:$BZ$317,2*U$5+6,FALSE))","v":60},60,{"$f":"IF(HLOOKUP(W$5,$B$6:$I$15,Points!$A11+1,FALSE)=\"TBD\",\"\",VLOOKUP(HLOOKUP(W$5,$B$6:$I$15,Points!$A11+1,FALSE),'Cars & Results'!$A$7:$BZ$317,2*W$5+6,FALSE))","v":21},0,{"$f":"IF(HLOOKUP(Y$5,$B$6:$I$15,Points!$A11+1,FALSE)=\"TBD\",\"\",VLOOKUP(HLOOKUP(Y$5,$B$6:$I$15,Points!$A11+1,FALSE),'Cars & Results'!$A$7:$BZ$317,2*Y$5+6,FALSE))","v":22},0,{"$f":"IF(HLOOKUP(AA$5,$B$6:$I$15,Points!$A11+1,FALSE)=\"TBD\",\"\",VLOOKUP(HLOOKUP(AA$5,$B$6:$I$15,Points!$A11+1,FALSE),'Cars & Results'!$A$7:$BZ$317,2*AA$5+6,FALSE))","v":46},{"$f":"IF(HLOOKUP(AA$5,$B$6:$I$15,Points!$A11+1,FALSE)=\"TBD\",\"\",IF(AND(VLOOKUP(HLOOKUP(AA$5,$B$6:$I$15,Points!$A11+1,FALSE),'Cars & Results'!$A$7:$BZ$317,2*AA$5+5)<=3,$A$15<=25),AA15*1,IF(AND(VLOOKUP(HLOOKUP(AA$5,$B$6:$I$15,Points!$A11+1,FALSE),'Cars & Results'!$A$7:$BZ$317,2*AA$5+5)<=10,$A$15>25),AA15*3,0)))","v":0}]
[null,null,null,null,null,null,null,null,null,null,null,"Segment 1",null,{"$f":"IF(INDIRECT(ADDRESS(321,5+(M5*2),1,1,\"Cars & Results\"),TRUE)=\"Y\",IF(ISERROR(MATCH(INDIRECT(ADDRESS(318,5+(M5*2),1,1,\"Cars & Results\"),TRUE),B7:B15,0))=TRUE,0,10),\"\")","v":10},null,{"$f":"IF(INDIRECT(ADDRESS(321,5+(O5*2),1,1,\"Cars & Results\"),TRUE)=\"Y\",IF(ISERROR(MATCH(INDIRECT(ADDRESS(318,5+(O5*2),1,1,\"Cars & Results\"),TRUE),C7:C15,0))=TRUE,0,10),\"\")","v":10},null,{"$f":"IF(INDIRECT(ADDRESS(321,5+(Q5*2),1,1,\"Cars & Results\"),TRUE)=\"Y\",IF(ISERROR(MATCH(INDIRECT(ADDRESS(318,5+(Q5*2),1,1,\"Cars & Results\"),TRUE),D7:D15,0))=TRUE,0,10),\"\")","v":0},null,{"$f":"IF(INDIRECT(ADDRESS(321,5+(S5*2),1,1,\"Cars & Results\"),TRUE)=\"Y\",IF(ISERROR(MATCH(INDIRECT(ADDRESS(318,5+(S5*2),1,1,\"Cars & Results\"),TRUE),E7:E15,0))=TRUE,0,10),\"\")","v":10},null,{"$f":"IF(INDIRECT(ADDRESS(321,5+(U5*2),1,1,\"Cars & Results\"),TRUE)=\"Y\",IF(ISERROR(MATCH(INDIRECT(ADDRESS(318,5+(U5*2),1,1,\"Cars & Results\"),TRUE),F7:F15,0))=TRUE,0,10),\"\")","v":10},null,{"$f":"IF(INDIRECT(ADDRESS(321,5+(W5*2),1,1,\"Cars & Results\"),TRUE)=\"Y\",IF(ISERROR(MATCH(INDIRECT(ADDRESS(318,5+(W5*2),1,1,\"Cars & Results\"),TRUE),G7:G15,0))=TRUE,0,10),\"\")","v":0},null,{"$f":"IF(INDIRECT(ADDRESS(321,5+(Y5*2),1,1,\"Cars & Results\"),TRUE)=\"Y\",IF(ISERROR(MATCH(INDIRECT(ADDRESS(318,5+(Y5*2),1,1,\"Cars & Results\"),TRUE),H7:H15,0))=TRUE,0,10),\"\")","v":10},null,{"$f":"IF(INDIRECT(ADDRESS(321,5+(AA5*2),1,1,\"Cars & Results\"),TRUE)=\"Y\",IF(ISERROR(MATCH(INDIRECT(ADDRESS(318,5+(AA5*2),1,1,\"Cars & Results\"),TRUE),I7:I15,0))=TRUE,0,10),\"\")","v":0}]
[null,null,null,null,null,null,null,null,null,null,null,"Segment 2",null,{"$f":"IF(INDIRECT(ADDRESS(321,5+(M5*2),1,1,\"Cars & Results\"),TRUE)=\"Y\",IF(ISERROR(MATCH(INDIRECT(ADDRESS(319,5+(M5*2),1,1,\"Cars & Results\"),TRUE),B7:B15,0))=TRUE,0,10),\"\")","v":10},null,{"$f":"IF(INDIRECT(ADDRESS(321,5+(O5*2),1,1,\"Cars & Results\"),TRUE)=\"Y\",IF(ISERROR(MATCH(INDIRECT(ADDRESS(319,5+(O5*2),1,1,\"Cars & Results\"),TRUE),C7:C15,0))=TRUE,0,10),\"\")","v":0},null,{"$f":"IF(INDIRECT(ADDRESS(321,5+(Q5*2),1,1,\"Cars & Results\"),TRUE)=\"Y\",IF(ISERROR(MATCH(INDIRECT(ADDRESS(319,5+(Q5*2),1,1,\"Cars & Results\"),TRUE),D7:D15,0))=TRUE,0,10),\"\")","v":0},null,{"$f":"IF(INDIRECT(ADDRESS(321,5+(S5*2),1,1,\"Cars & Results\"),TRUE)=\"Y\",IF(ISERROR(MATCH(INDIRECT(ADDRESS(319,5+(S5*2),1,1,\"Cars & Results\"),TRUE),E7:E15,0))=TRUE,0,10),\"\")","v":0},null,{"$f":"IF(INDIRECT(ADDRESS(321,5+(U5*2),1,1,\"Cars & Results\"),TRUE)=\"Y\",IF(ISERROR(MATCH(INDIRECT(ADDRESS(319,5+(U5*2),1,1,\"Cars & Results\"),TRUE),F7:F15,0))=TRUE,0,10),\"\")","v":10},null,{"$f":"IF(INDIRECT(ADDRESS(321,5+(W5*2),1,1,\"Cars & Results\"),TRUE)=\"Y\",IF(ISERROR(MATCH(INDIRECT(ADDRESS(319,5+(W5*2),1,1,\"Cars & Results\"),TRUE),G7:G15,0))=TRUE,0,10),\"\")","v":0},null,{"$f":"IF(INDIRECT(ADDRESS(321,5+(Y5*2),1,1,\"Cars & Results\"),TRUE)=\"Y\",IF(ISERROR(MATCH(INDIRECT(ADDRESS(319,5+(Y5*2),1,1,\"Cars & Results\"),TRUE),H7:H15,0))=TRUE,0,10),\"\")","v":10},null,{"$f":"IF(INDIRECT(ADDRESS(321,5+(AA5*2),1,1,\"Cars & Results\"),TRUE)=\"Y\",IF(ISERROR(MATCH(INDIRECT(ADDRESS(319,5+(AA5*2),1,1,\"Cars & Results\"),TRUE),I7:I15,0))=TRUE,0,10),\"\")","v":10}]
[null,null,null,null,null,null,null,null,null,null,null,"Segment 3",null,{"$f":"IF(INDIRECT(ADDRESS(321,5+(M5*2),1,1,\"Cars & Results\"),TRUE)=\"Y\",IF(ISERROR(MATCH(INDIRECT(ADDRESS(320,5+(M5*2),1,1,\"Cars & Results\"),TRUE),B7:B15,0))=TRUE,0,15),\"\")","v":15},null,{"$f":"IF(INDIRECT(ADDRESS(321,5+(O5*2),1,1,\"Cars & Results\"),TRUE)=\"Y\",IF(ISERROR(MATCH(INDIRECT(ADDRESS(320,5+(O5*2),1,1,\"Cars & Results\"),TRUE),C7:C15,0))=TRUE,0,15),\"\")","v":0},null,{"$f":"IF(INDIRECT(ADDRESS(321,5+(Q5*2),1,1,\"Cars & Results\"),TRUE)=\"Y\",IF(ISERROR(MATCH(INDIRECT(ADDRESS(320,5+(Q5*2),1,1,\"Cars & Results\"),TRUE),D7:D15,0))=TRUE,0,15),\"\")","v":0},null,{"$f":"IF(INDIRECT(ADDRESS(321,5+(S5*2),1,1,\"Cars & Results\"),TRUE)=\"Y\",IF(ISERROR(MATCH(INDIRECT(ADDRESS(320,5+(S5*2),1,1,\"Cars & Results\"),TRUE),E7:E15,0))=TRUE,0,15),\"\")","v":0},null,{"$f":"IF(INDIRECT(ADDRESS(321,5+(U5*2),1,1,\"Cars & Results\"),TRUE)=\"Y\",IF(ISERROR(MATCH(INDIRECT(ADDRESS(320,5+(U5*2),1,1,\"Cars & Results\"),TRUE),F7:F15,0))=TRUE,0,15),\"\")","v":15},null,{"$f":"IF(INDIRECT(ADDRESS(321,5+(W5*2),1,1,\"Cars & Results\"),TRUE)=\"Y\",IF(ISERROR(MATCH(INDIRECT(ADDRESS(320,5+(W5*2),1,1,\"Cars & Results\"),TRUE),G7:G15,0))=TRUE,0,15),\"\")","v":0},null,{"$f":"IF(INDIRECT(ADDRESS(321,5+(Y5*2),1,1,\"Cars & Results\"),TRUE)=\"Y\",IF(ISERROR(MATCH(INDIRECT(ADDRESS(320,5+(Y5*2),1,1,\"Cars & Results\"),TRUE),H7:H15,0))=TRUE,0,15),\"\")","v":0},null,{"$f":"IF(INDIRECT(ADDRESS(321,5+(AA5*2),1,1,\"Cars & Results\"),TRUE)=\"Y\",IF(ISERROR(MATCH(INDIRECT(ADDRESS(320,5+(AA5*2),1,1,\"Cars & Results\"),TRUE),I7:I15,0))=TRUE,0,15),\"\")","v":0}]
[null,{"$f":"SUM(B7:B15)","v":283},291,378,393,385,285,291,289,null,null,null,{"$f":"SUM(M7:M15)","v":177},null,{"$f":"SUM(O7:O15)","v":194},null,{"$f":"SUM(Q7:Q15)","v":170},null,{"$f":"SUM(S7:S15)","v":198},null,{"$f":"SUM(U7:U15)","v":147},null,{"$f":"SUM(W7:W15)","v":128},null,{"$f":"SUM(Y7:Y15)","v":162},null,{"$f":"SUM(AA7:AA15)","v":160}]
[null,null,null,null,null,null,null,null,null,null,null,null,null,{"$f":"SUM(N7:N19)","v":35},null,{"$f":"SUM(P7:P19)","v":10},null,{"$f":"SUM(R7:R19)","v":20.5},null,{"$f":"SUM(T7:T19)","v":70},null,{"$f":"SUM(V7:V19)","v":95},null,{"$f":"SUM(X7:X19)","v":0},null,{"$f":"SUM(Z7:Z19)","v":20},null,{"$f":"SUM(AB7:AB19)","v":10}]
[null,null,null,null,null,null,null,null,null,null,null,"Race Total",{"$f":"M19+N20","v":212},null,{"$f":"O19+P20","v":204},null,{"$f":"Q19+R20","v":190.5},null,{"$f":"S19+T20","v":268},null,{"$f":"U19+V20","v":242},null,{"$f":"W19+X20","v":128},null,{"$f":"Y19+Z20","v":182},null,{"$f":"AA19+AB20","v":170},null,{"$f":"SUM(M21:AB21)","v":1596.5}]
[null,null,null,null,null,null,null,null,"1-8"]
[null,null,null,null,null,null,null,null,"9-16"]
[null,null,null,null,null,null,null,null,"17-23"]
[null,null,null,null,null,null,null,null,"24-30"]
[null,null,null,null,null,null,null,null,"31-35"]
[null,null,null,null,null,null,null,null,">35"]
[null,null,null,null,null,null,null,null,"Provisional"]

{"sheet":"Donna McLean","index":14,"n_rows":28,"n_cols":29,"rows_kept":28,"cut":false,"hidden":false,"merged":[[1,26,1,27],[2,26,2,27],[0,26,0,27],[4,26,4,27],[20,26,20,27],[3,26,3,27],[4,20,4,21],[4,22,4,23],[4,24,4,25],[20,12,20,13],[20,14,20,15],[20,16,20,17],[20,18,20,19],[20,20,20,21],[20,22,20,23],[20,24,20,25],[4,12,4,13],[4,14,4,15],[4,16,4,17],[4,18,4,19],[2,24,2,25],[3,24,3,25],[3,14,3,15],[3,16,3,17],[3,18,3,19],[3,20,3,21],[3,22,3,23],[2,20,2,21],[2,16,2,17],[2,18,2,19],[0,24,0,25],[1,20,1,21],[0,12,0,13],[0,14,0,15],[0,16,0,17],[0,18,0,19],[1,12,1,13],[1,14,1,15],[1,16,1,17],[1,18,1,19],[1,22,1,23],[1,24,1,25],[3,12,3,13],[2,12,2,13],[2,14,2,15],[0,20,0,21],[0,22,0,23],[2,22,2,23]]}
[null,null,null,null,null,null,null,null,null,null,null,null,{"$f":"VLOOKUP(M$5,Schedule!$A$8:$G$44,2,FALSE)","v":"2018-07-14"},null,{"$f":"VLOOKUP(O$5,Schedule!$A$8:$G$44,2,FALSE)","v":"2018-07-22"},null,{"$f":"VLOOKUP(Q$5,Schedule!$A$8:$G$44,2,FALSE)","v":"2018-07-29"},null,{"$f":"VLOOKUP(S$5,Schedule!$A$8:$G$44,2,FALSE)","v":"2018-08-05"},null,{"$f":"VLOOKUP(U$5,Schedule!$A$8:$G$44,2,FALSE)","v":"2018-08-12"},null,{"$f":"VLOOKUP(W$5,Schedule!$A$8:$G$44,2,FALSE)","v":"2018-08-18"},null,{"$f":"VLOOKUP(Y$5,Schedule!$A$8:$G$44,2,FALSE)","v":"2018-09-02"},null,{"$f":"VLOOKUP(AA$5,Schedule!$A$8:$G$44,2,FALSE)","v":"2018-09-09"}]
[null,null,null,null,null,null,null,null,null,null,null,null,{"$f":"VLOOKUP(M$5,Schedule!$A$8:$G$44,3,FALSE)","v":"Quaker State 400"},null,{"$f":"VLOOKUP(O$5,Schedule!$A$8:$G$44,3,FALSE)","v":"New Hampshire 301"},null,{"$f":"VLOOKUP(Q$5,Schedule!$A$8:$G$44,3,FALSE)","v":"Gander Outdoors 400"},null,{"$f":"VLOOKUP(S$5,Schedule!$A$8:$G$44,3,FALSE)","v":"Go Bowling at The Glen"},null,{"$f":"VLOOKUP(U$5,Schedule!$A$8:$G$44,3,FALSE)","v":"Pure Michigan 400"},null,{"$f":"VLOOKUP(W$5,Schedule!$A$8:$G$44,3,FALSE)","v":"Bass Pro Shops NRA Night Race"},null,{"$f":"VLOOKUP(Y$5,Schedule!$A$8:$G$44,3,FALSE)","v":"Bojangles' Southern 500"},null,{"$f":"VLOOKUP(AA$5,Schedule!$A$8:$G$44,3,FALSE)","v":"Big Machine Vodka 400 at the Brickyard"}]
[null,null,null,null,null,null,null,null,null,null,null,null,{"$f":"VLOOKUP(M$5,Schedule!$A$8:$G$44,7,FALSE)","v":"1900-06-08"},null,{"$f":"VLOOKUP(O$5,Schedule!$A$8:$G$44,7,FALSE)","v":"1900-05-29"},null,{"$f":"VLOOKUP(Q$5,Schedule!$A$8:$G$44,7,FALSE)","v":"1900-04-09"},null,{"$f":"VLOOKUP(S$5,Schedule!$A$8:$G$44,7,FALSE)","v":"1900-02-09"},null,{"$f":"VLOOKUP(U$5,Schedule!$A$8:$G$44,7,FALSE)","v":"1900-04-29"},null,{"$f":"VLOOKUP(W$5,Schedule!$A$8:$G$44,7,FALSE)","v":"1900-09-06"},null,{"$f":"VLOOKUP(Y$5,Schedule!$A$8:$G$44,7,FALSE)","v":"1900-07-18"},null,{"$f":"VLOOKUP(AA$5,Schedule!$A$8:$G$44,7,FALSE)","v":"1900-04-09"}]
[null,null,null,null,null,null,null,null,null,null,null,null,{"$f":"VLOOKUP(M$5,Schedule!$A$4:$G$44,4,FALSE)","v":"Kentucky Speedway"},null,{"$f":"VLOOKUP(O$5,Schedule!$A$4:$G$44,4,FALSE)","v":"New Hampshire Motor Speedway"},null,{"$f":"VLOOKUP(Q$5,Schedule!$A$4:$G$44,4,FALSE)","v":"Pocono Raceway"},null,{"$f":"VLOOKUP(S$5,Schedule!$A$4:$G$44,4,FALSE)","v":"Watkins Glen International"},null,{"$f":"VLOOKUP(U$5,Schedule!$A$4:$G$44,4,FALSE)","v":"Michigan International Speedway"},null,{"$f":"VLOOKUP(W$5,Schedule!$A$4:$G$44,4,FALSE)","v":"Bristol Motor Speedway"},null,{"$f":"VLOOKUP(Y$5,Schedule!$A$4:$G$44,4,FALSE)","v":"Darlington Raceway"},null,{"$f":"VLOOKUP(AA$5,Schedule!$A$4:$G$44,4,FALSE)","v":"Indianapolis Motor Speedway"}]
["Owner","Week","Week","Week","Week","Week","Week","Week","Week",2,3,4,19,null,20,null,21,null,22,null,23,null,24,null,25,null,26,null,"Total"]
["Points",19,20,21,22,23,24,25,26,"Driver","Make","Sponsor","Points","Bonus","Points","Bonus","Points","Bonus","Points","Bonus","Points","Bonus","Points","Bonus","Points","Bonus","Points","Bonus","Points"]
[{"$f":"VLOOKUP(HLOOKUP('Pick Distribution'!$P$2,$B$6:$I$15,$J$5),'Current Owner Standings'!$A$71:$B$480,2,FALSE)","v":3},78,78,78,78,78,78,78,78,{"$f":"IF(ISNA(VLOOKUP($I7,'Cars & Results'!$A$6:$I$317,J$5,FALSE)),\"Invalid Number\",VLOOKUP($I7,'Cars & Results'!$A$6:$K$317,J$5,FALSE))","v":"Martin Truex Jr."},{"$f":"IF(ISNA(VLOOKUP($I7,'Cars & Results'!$A$6:$I$317,K$5,FALSE)),\"Invalid Number\",VLOOKUP($I7,'Cars & Results'!$A$6:$K$317,K$5,FALSE))","v":"Toyota"},{"$f":"IF(ISNA(VLOOKUP($I7,'Cars & Results'!$A$6:$I$317,L$5,FALSE)),\"Invalid Number\",VLOOKUP($I7,'Cars & Results'!$A$6:$K$317,L$5,FALSE))","v":"Furniture Row Racing"},{"$f":"IF(HLOOKUP(M$5,$B$6:$I$15,Points!$A3+1,FALSE)=\"TBD\",\"\",VLOOKUP(HLOOKUP(M$5,$B$6:$I$15,Points!$A3+1,FALSE),'Cars & Results'!$A$7:$BZ$317,2*M$5+6,FALSE))","v":60},{"$f":"IF(HLOOKUP(M$5,$B$6:$I$15,Points!$A3+1,FALSE)=\"TBD\",\"\",0)","v":0},{"$f":"IF(HLOOKUP(O$5,$B$6:$I$15,Points!$A3+1,FALSE)=\"TBD\",\"\",VLOOKUP(HLOOKUP(O$5,$B$6:$I$15,Points!$A3+1,FALSE),'Cars & Results'!$A$7:$BZ$317,2*O$5+6,FALSE))","v":51},{"$f":"IF(HLOOKUP(O$5,$B$6:$I$15,Points!$A3+1,FALSE)=\"TBD\",\"\",0)","v":0},{"$f":"IF(HLOOKUP(Q$5,$B$6:$I$15,Points!$A3+1,FALSE)=\"TBD\",\"\",VLOOKUP(HLOOKUP(Q$5,$B$6:$I$15,Points!$A3+1,FALSE),'Cars & Results'!$A$7:$BZ$317,2*Q$5+6,FALSE))","v":22},{"$f":"IF(HLOOKUP(Q$5,$B$6:$I$15,Points!$A3+1,FALSE)=\"TBD\",\"\",0)","v":0},{"$f":"IF(HLOOKUP(S$5,$B$6:$I$15,Points!$A3+1,FALSE)=\"TBD\",\"\",VLOOKUP(HLOOKUP(S$5,$B$6:$I$15,Points!$A3+1,FALSE),'Cars & Results'!$A$7:$BZ$317,2*S$5+6,FALSE))","v":51},{"$f":"IF(HLOOKUP(S$5,$B$6:$I$15,Points!$A3+1,FALSE)=\"TBD\",\"\",0)","v":0},{"$f":"IF(HLOOKUP(U$5,$B$6:$I$15,Points!$A3+1,FALSE)=\"TBD\",\"\",VLOOKUP(HLOOKUP(U$5,$B$6:$I$15,Points!$A3+1,FALSE),'Cars & Results'!$A$7:$BZ$317,2*U$5+6,FALSE))","v":29},{"$f":"IF(HLOOKUP(U$5,$B$6:$I$15,Points!$A3+1,FALSE)=\"TBD\",\"\",0)","v":0},{"$f":"IF(HLOOKUP(W$5,$B$6:$I$15,Points!$A3+1,FALSE)=\"TBD\",\"\",VLOOKUP(HLOOKUP(W$5,$B$6:$I$15,Points!$A3+1,FALSE),'Cars & Results'!$A$7:$BZ$317,2*W$5+6,FALSE))","v":7},{"$f":"IF(HLOOKUP(W$5,$B$6:$I$15,Points!$A3+1,FALSE)=\"TBD\",\"\",0)","v":0},{"$f":"IF(HLOOKUP(Y$5,$B$6:$I$15,Points!$A3+1,FALSE)=\"TBD\",\"\",VLOOKUP(HLOOKUP(Y$5,$B$6:$I$15,Points!$A3+1,FALSE),'Cars & Results'!$A$7:$BZ$317,2*Y$5+6,FALSE))","v":34},{"$f":"IF(HLOOKUP(Y$5,$B$6:$I$15,Points!$A3+1,FALSE)=\"TBD\",\"\",0)","v":0},{"$f":"IF(HLOOKUP(AA$5,$B$6:$I$15,Points!$A3+1,FALSE)=\"TBD\",\"\",VLOOKUP(HLOOKUP(AA$5,$B$6:$I$15,Points!$A3+1,FALSE),'Cars & Results'!$A$7:$BZ$317,2*AA$5+6,FALSE))","v":1},{"$f":"IF(HLOOKUP(AA$5,$B$6:$I$15,Points!$A3+1,FALSE)=\"TBD\",\"\",0)","v":0}]
[{"$f":"VLOOKUP(HLOOKUP('Pick Distribution'!$P$2,$B$6:$I$15,3),'Current Owner Standings'!$A$71:$B$480,2,FALSE)","v":11},12,12,9,9,9,9,9,9,{"$f":"IF(ISNA(VLOOKUP($I8,'Cars & Results'!$A$6:$I$317,J$5,FALSE)),\"Invalid Number\",VLOOKUP($I8,'Cars & Results'!$A$6:$K$317,J$5,FALSE))","v":"Chase Elliott"},{"$f":"IF(ISNA(VLOOKUP($I8,'Cars & Results'!$A$6:$I$317,K$5,FALSE)),\"Invalid Number\",VLOOKUP($I8,'Cars & Results'!$A$6:$K$317,K$5,FALSE))","v":"Chevrolet"},{"$f":"IF(ISNA(VLOOKUP($I8,'Cars & Results'!$A$6:$I$317,L$5,FALSE)),\"Invalid Number\",VLOOKUP($I8,'Cars & Results'!$A$6:$K$317,L$5,FALSE))","v":"Hendrick Motorsports"},{"$f":"IF(HLOOKUP(M$5,$B$6:$I$15,Points!$A4+1,FALSE)=\"TBD\",\"\",VLOOKUP(HLOOKUP(M$5,$B$6:$I$15,Points!$A4+1,FALSE),'Cars & Results'!$A$7:$BZ$317,2*M$5+6,FALSE))","v":50},{"$f":"IF(HLOOKUP(M$5,$B$6:$I$15,Points!$A4+1,FALSE)=\"TBD\",\"\",IF(VLOOKUP(HLOOKUP(M$5,$B$6:$I$15,Points!$A4+1,FALSE),'Cars & Results'!$A$7:$BZ$317,2*M$5+5)=1,M8*0.25,0))","v":0},{"$f":"IF(HLOOKUP(O$5,$B$6:$I$15,Points!$A4+1,FALSE)=\"TBD\",\"\",VLOOKUP(HLOOKUP(O$5,$B$6:$I$15,Points!$A4+1,FALSE),'Cars & Results'!$A$7:$BZ$317,2*O$5+6,FALSE))","v":38},{"$f":"IF(HLOOKUP(O$5,$B$6:$I$15,Points!$A4+1,FALSE)=\"TBD\",\"\",IF(VLOOKUP(HLOOKUP(O$5,$B$6:$I$15,Points!$A4+1,FALSE),'Cars & Results'!$A$7:$BZ$317,2*O$5+5)=1,O8*0.25,0))","v":0},{"$f":"IF(HLOOKUP(Q$5,$B$6:$I$15,Points!$A4+1,FALSE)=\"TBD\",\"\",VLOOKUP(HLOOKUP(Q$5,$B$6:$I$15,Points!$A4+1,FALSE),'Cars & Results'!$A$7:$BZ$317,2*Q$5+6,FALSE))","v":49},{"$f":"IF(HLOOKUP(Q$5,$B$6:$I$15,Points!$A4+1,FALSE)=\"TBD\",\"\",IF(VLOOKUP(HLOOKUP(Q$5,$B$6:$I$15,Points!$A4+1,FALSE),'Cars & Results'!$A$7:$BZ$317,2*Q$5+5)=1,Q8*0.25,0))","v":0},{"$f":"IF(HLOOKUP(S$5,$B$6:$I$15,Points!$A4+1,FALSE)=\"TBD\",\"\",VLOOKUP(HLOOKUP(S$5,$B$6:$I$15,Points!$A4+1,FALSE),'Cars & Results'!$A$7:$BZ$317,2*S$5+6,FALSE))","v":50},{"$f":"IF(HLOOKUP(S$5,$B$6:$I$15,Points!$A4+1,FALSE)=\"TBD\",\"\",IF(VLOOKUP(HLOOKUP(S$5,$B$6:$I$15,Points!$A4+1,FALSE),'Cars & Results'!$A$7:$BZ$317,2*S$5+5)=1,S8*0.25,0))","v":12.5},{"$f":"IF(HLOOKUP(U$5,$B$6:$I$15,Points!$A4+1,FALSE)=\"TBD\",\"\",VLOOKUP(HLOOKUP(U$5,$B$6:$I$15,Points!$A4+1,FALSE),'Cars & Results'!$A$7:$BZ$317,2*U$5+6,FALSE))","v":28},{"$f":"IF(HLOOKUP(U$5,$B$6:$I$15,Points!$A4+1,FALSE)=\"TBD\",\"\",IF(VLOOKUP(HLOOKUP(U$5,$B$6:$I$15,Points!$A4+1,FALSE),'Cars & Results'!$A$7:$BZ$317,2*U$5+5)=1,U8*0.25,0))","v":0},{"$f":"IF(HLOOKUP(W$5,$B$6:$I$15,Points!$A4+1,FALSE)=\"TBD\",\"\",VLOOKUP(HLOOKUP(W$5,$B$6:$I$15,Points!$A4+1,FALSE),'Cars & Results'!$A$7:$BZ$317,2*W$5+6,FALSE))","v":50},{"$f":"IF(HLOOKUP(W$5,$B$6:$I$15,Points!$A4+1,FALSE)=\"TBD\",\"\",IF(VLOOKUP(HLOOKUP(W$5,$B$6:$I$15,Points!$A4+1,FALSE),'Cars & Results'!$A$7:$BZ$317,2*W$5+5)=1,W8*0.25,0))","v":0},{"$f":"IF(HLOOKUP(Y$5,$B$6:$I$15,Points!$A4+1,FALSE)=\"TBD\",\"\",VLOOKUP(HLOOKUP(Y$5,$B$6:$I$15,Points!$A4+1,FALSE),'Cars & Results'!$A$7:$BZ$317,2*Y$5+6,FALSE))","v":40},{"$f":"IF(HLOOKUP(Y$5,$B$6:$I$15,Points!$A4+1,FALSE)=\"TBD\",\"\",IF(VLOOKUP(HLOOKUP(Y$5,$B$6:$I$15,Points!$A4+1,FALSE),'Cars & Results'!$A$7:$BZ$317,2*Y$5+5)=1,Y8*0.25,0))","v":0},{"$f":"IF(HLOOKUP(AA$5,$B$6:$I$15,Points!$A4+1,FALSE)=\"TBD\",\"\",VLOOKUP(HLOOKUP(AA$5,$B$6:$I$15,Points!$A4+1,FALSE),'Cars & Results'!$A$7:$BZ$317,2*AA$5+6,FALSE))","v":33},{"$f":"IF(HLOOKUP(AA$5,$B$6:$I$15,Points!$A4+1,FALSE)=\"TBD\",\"\",IF(VLOOKUP(HLOOKUP(AA$5,$B$6:$I$15,Points!$A4+1,FALSE),'Cars & Results'!$A$7:$BZ$317,2*AA$5+5)=1,AA8*0.25,0))","v":0}]
[{"$f":"VLOOKUP(HLOOKUP('Pick Distribution'!$P$2,$B$6:$I$15,4),'Current Owner Standings'!$A$71:$B$480,2,FALSE)","v":21},1,1,1,47,47,47,1,1,{"$f":"IF(ISNA(VLOOKUP($I9,'Cars & Results'!$A$6:$I$317,J$5,FALSE)),\"Invalid Number\",VLOOKUP($I9,'Cars & Results'!$A$6:$K$317,J$5,FALSE))","v":"Jamie McMurray"},{"$f":"IF(ISNA(VLOOKUP($I9,'Cars & Results'!$A$6:$I$317,K$5,FALSE)),\"Invalid Number\",VLOOKUP($I9,'Cars & Results'!$A$6:$K$317,K$5,FALSE))","v":"Chevrolet"},{"$f":"IF(ISNA(VLOOKUP($I9,'Cars & Results'!$A$6:$I$317,L$5,FALSE)),\"Invalid Number\",VLOOKUP($I9,'Cars & Results'!$A$6:$K$317,L$5,FALSE))","v":"Chip Ganassi Racing"},{"$f":"IF(HLOOKUP(M$5,$B$6:$I$15,Points!$A5+1,FALSE)=\"TBD\",\"\",VLOOKUP(HLOOKUP(M$5,$B$6:$I$15,Points!$A5+1,FALSE),'Cars & Results'!$A$7:$BZ$317,2*M$5+6,FALSE))","v":20},{"$f":"IF(HLOOKUP(M$5,$B$6:$I$15,Points!$A5+1,FALSE)=\"TBD\",\"\",IF(VLOOKUP(HLOOKUP(M$5,$B$6:$I$15,Points!$A5+1,FALSE),'Cars & Results'!$A$7:$BZ$317,2*M$5+5)<=5,M9*0.5,0))","v":0},{"$f":"IF(HLOOKUP(O$5,$B$6:$I$15,Points!$A5+1,FALSE)=\"TBD\",\"\",VLOOKUP(HLOOKUP(O$5,$B$6:$I$15,Points!$A5+1,FALSE),'Cars & Results'!$A$7:$BZ$317,2*O$5+6,FALSE))","v":19},{"$f":"IF(HLOOKUP(O$5,$B$6:$I$15,Points!$A5+1,FALSE)=\"TBD\",\"\",IF(VLOOKUP(HLOOKUP(O$5,$B$6:$I$15,Points!$A5+1,FALSE),'Cars & Results'!$A$7:$BZ$317,2*O$5+5)<=5,O9*0.5,0))","v":0},{"$f":"IF(HLOOKUP(Q$5,$B$6:$I$15,Points!$A5+1,FALSE)=\"TBD\",\"\",VLOOKUP(HLOOKUP(Q$5,$B$6:$I$15,Points!$A5+1,FALSE),'Cars & Results'!$A$7:$BZ$317,2*Q$5+6,FALSE))","v":25},{"$f":"IF(HLOOKUP(Q$5,$B$6:$I$15,Points!$A5+1,FALSE)=\"TBD\",\"\",IF(VLOOKUP(HLOOKUP(Q$5,$B$6:$I$15,Points!$A5+1,FALSE),'Cars & Results'!$A$7:$BZ$317,2*Q$5+5)<=5,Q9*0.5,0))","v":0},{"$f":"IF(HLOOKUP(S$5,$B$6:$I$15,Points!$A5+1,FALSE)=\"TBD\",\"\",VLOOKUP(HLOOKUP(S$5,$B$6:$I$15,Points!$A5+1,FALSE),'Cars & Results'!$A$7:$BZ$317,2*S$5+6,FALSE))","v":22},{"$f":"IF(HLOOKUP(S$5,$B$6:$I$15,Points!$A5+1,FALSE)=\"TBD\",\"\",IF(VLOOKUP(HLOOKUP(S$5,$B$6:$I$15,Points!$A5+1,FALSE),'Cars & Results'!$A$7:$BZ$317,2*S$5+5)<=5,S9*0.5,0))","v":0},{"$f":"IF(HLOOKUP(U$5,$B$6:$I$15,Points!$A5+1,FALSE)=\"TBD\",\"\",VLOOKUP(HLOOKUP(U$5,$B$6:$I$15,Points!$A5+1,FALSE),'Cars & Results'!$A$7:$BZ$317,2*U$5+6,FALSE))","v":15},{"$f":"IF(HLOOKUP(U$5,$B$6:$I$15,Points!$A5+1,FALSE)=\"TBD\",\"\",IF(VLOOKUP(HLOOKUP(U$5,$B$6:$I$15,Points!$A5+1,FALSE),'Cars & Results'!$A$7:$BZ$317,2*U$5+5)<=5,U9*0.5,0))","v":0},{"$f":"IF(HLOOKUP(W$5,$B$6:$I$15,Points!$A5+1,FALSE)=\"TBD\",\"\",VLOOKUP(HLOOKUP(W$5,$B$6:$I$15,Points!$A5+1,FALSE),'Cars & Results'!$A$7:$BZ$317,2*W$5+6,FALSE))","v":1},{"$f":"IF(HLOOKUP(W$5,$B$6:$I$15,Points!$A5+1,FALSE)=\"TBD\",\"\",IF(VLOOKUP(HLOOKUP(W$5,$B$6:$I$15,Points!$A5+1,FALSE),'Cars & Results'!$A$7:$BZ$317,2*W$5+5)<=5,W9*0.5,0))","v":0},{"$f":"IF(HLOOKUP(Y$5,$B$6:$I$15,Points!$A5+1,FALSE)=\"TBD\",\"\",VLOOKUP(HLOOKUP(Y$5,$B$6:$I$15,Points!$A5+1,FALSE),'Cars & Results'!$A$7:$BZ$317,2*Y$5+6,FALSE))","v":30},{"$f":"IF(HLOOKUP(Y$5,$B$6:$I$15,Points!$A5+1,FALSE)=\"TBD\",\"\",IF(VLOOKUP(HLOOKUP(Y$5,$B$6:$I$15,Points!$A5+1,FALSE),'Cars & Results'!$A$7:$BZ$317,2*Y$5+5)<=5,Y9*0.5,0))","v":0},{"$f":"IF(HLOOKUP(AA$5,$B$6:$I$15,Points!$A5+1,FALSE)=\"TBD\",\"\",VLOOKUP(HLOOKUP(AA$5,$B$6:$I$15,Points!$A5+1,FALSE),'Cars & Results'!$A$7:$BZ$317,2*AA$5+6,FALSE))","v":30},{"$f":"IF(HLOOKUP(AA$5,$B$6:$I$15,Points!$A5+1,FALSE)=\"TBD\",\"\",IF(VLOOKUP(HLOOKUP(AA$5,$B$6:$I$15,Points!$A5+1,FALSE),'Cars & Results'!$A$7:$BZ$317,2*AA$5+5)<=5,AA9*0.5,0))","v":0}]
[{"$f":"VLOOKUP(HLOOKUP('Pick Distribution'!$P$2,$B$6:$I$15,5),'Current Owner Standings'!$A$71:$B$480,2,FALSE)","v":22},24,24,24,24,24,24,24,24,{"$f":"IF(ISNA(VLOOKUP($I10,'Cars & Results'!$A$6:$I$317,J$5,FALSE)),\"Invalid Number\",VLOOKUP($I10,'Cars & Results'!$A$6:$K$317,J$5,FALSE))","v":"William Byron (R)"},{"$f":"IF(ISNA(VLOOKUP($I10,'Cars & Results'!$A$6:$I$317,K$5,FALSE)),\"Invalid Number\",VLOOKUP($I10,'Cars & Results'!$A$6:$K$317,K$5,FALSE))","v":"Chevrolet"},{"$f":"IF(ISNA(VLOOKUP($I10,'Cars & Results'!$A$6:$I$317,L$5,FALSE)),\"Invalid Number\",VLOOKUP($I10,'Cars & Results'!$A$6:$K$317,L$5,FALSE))","v":"Hendrick Motorsports"},{"$f":"IF(HLOOKUP(M$5,$B$6:$I$15,Points!$A6+1,FALSE)=\"TBD\",\"\",VLOOKUP(HLOOKUP(M$5,$B$6:$I$15,Points!$A6+1,FALSE),'Cars & Results'!$A$7:$BZ$317,2*M$5+6,FALSE))","v":17},{"$f":"IF(HLOOKUP(M$5,$B$6:$I$15,Points!$A6+1,FALSE)=\"TBD\",\"\",IF(VLOOKUP(HLOOKUP(M$5,$B$6:$I$15,Points!$A6+1,FALSE),'Cars & Results'!$A$7:$BZ$317,2*M$5+5)<=5,M10*0.5,0))","v":0},{"$f":"IF(HLOOKUP(O$5,$B$6:$I$15,Points!$A6+1,FALSE)=\"TBD\",\"\",VLOOKUP(HLOOKUP(O$5,$B$6:$I$15,Points!$A6+1,FALSE),'Cars & Results'!$A$7:$BZ$317,2*O$5+6,FALSE))","v":23},{"$f":"IF(HLOOKUP(O$5,$B$6:$I$15,Points!$A6+1,FALSE)=\"TBD\",\"\",IF(VLOOKUP(HLOOKUP(O$5,$B$6:$I$15,Points!$A6+1,FALSE),'Cars & Results'!$A$7:$BZ$317,2*O$5+5)<=5,O10*0.5,0))","v":0},{"$f":"IF(HLOOKUP(Q$5,$B$6:$I$15,Points!$A6+1,FALSE)=\"TBD\",\"\",VLOOKUP(HLOOKUP(Q$5,$B$6:$I$15,Points!$A6+1,FALSE),'Cars & Results'!$A$7:$BZ$317,2*Q$5+6,FALSE))","v":32},{"$f":"IF(HLOOKUP(Q$5,$B$6:$I$15,Points!$A6+1,FALSE)=\"TBD\",\"\",IF(VLOOKUP(HLOOKUP(Q$5,$B$6:$I$15,Points!$A6+1,FALSE),'Cars & Results'!$A$7:$BZ$317,2*Q$5+5)<=5,Q10*0.5,0))","v":0},{"$f":"IF(HLOOKUP(S$5,$B$6:$I$15,Points!$A6+1,FALSE)=\"TBD\",\"\",VLOOKUP(HLOOKUP(S$5,$B$6:$I$15,Points!$A6+1,FALSE),'Cars & Results'!$A$7:$BZ$317,2*S$5+6,FALSE))","v":37},{"$f":"IF(HLOOKUP(S$5,$B$6:$I$15,Points!$A6+1,FALSE)=\"TBD\",\"\",IF(VLOOKUP(HLOOKUP(S$5,$B$6:$I$15,Points!$A6+1,FALSE),'Cars & Results'!$A$7:$BZ$317,2*S$5+5)<=5,S10*0.5,0))","v":0},{"$f":"IF(HLOOKUP(U$5,$B$6:$I$15,Points!$A6+1,FALSE)=\"TBD\",\"\",VLOOKUP(HLOOKUP(U$5,$B$6:$I$15,Points!$A6+1,FALSE),'Cars & Results'!$A$7:$BZ$317,2*U$5+6,FALSE))","v":1},{"$f":"IF(HLOOKUP(U$5,$B$6:$I$15,Points!$A6+1,FALSE)=\"TBD\",\"\",IF(VLOOKUP(HLOOKUP(U$5,$B$6:$I$15,Points!$A6+1,FALSE),'Cars & Results'!$A$7:$BZ$317,2*U$5+5)<=5,U10*0.5,0))","v":0},{"$f":"IF(HLOOKUP(W$5,$B$6:$I$15,Points!$A6+1,FALSE)=\"TBD\",\"\",VLOOKUP(HLOOKUP(W$5,$B$6:$I$15,Points!$A6+1,FALSE),'Cars & Results'!$A$7:$BZ$317,2*W$5+6,FALSE))","v":14},{"$f":"IF(HLOOKUP(W$5,$B$6:$I$15,Points!$A6+1,FALSE)=\"TBD\",\"\",IF(VLOOKUP(HLOOKUP(W$5,$B$6:$I$15,Points!$A6+1,FALSE),'Cars & Results'!$A$7:$BZ$317,2*W$5+5)<=5,W10*0.5,0))","v":0},{"$f":"IF(HLOOKUP(Y$5,$B$6:$I$15,Points!$A6+1,FALSE)=\"TBD\",\"\",VLOOKUP(HLOOKUP(Y$5,$B$6:$I$15,Points!$A6+1,FALSE),'Cars & Results'!$A$7:$BZ$317,2*Y$5+6,FALSE))","v":2},{"$f":"IF(HLOOKUP(Y$5,$B$6:$I$15,Points!$A6+1,FALSE)=\"TBD\",\"\",IF(VLOOKUP(HLOOKUP(Y$5,$B$6:$I$15,Points!$A6+1,FALSE),'Cars & Results'!$A$7:$BZ$317,2*Y$5+5)<=5,Y10*0.5,0))","v":0},{"$f":"IF(HLOOKUP(AA$5,$B$6:$I$15,Points!$A6+1,FALSE)=\"TBD\",\"\",VLOOKUP(HLOOKUP(AA$5,$B$6:$I$15,Points!$A6+1,FALSE),'Cars & Results'!$A$7:$BZ$317,2*AA$5+6,FALSE))","v":18},{"$f":"IF(HLOOKUP(AA$5,$B$6:$I$15,Points!$A6+1,FALSE)=\"TBD\",\"\",IF(VLOOKUP(HLOOKUP(AA$5,$B$6:$I$15,Points!$A6+1,FALSE),'Cars & Results'!$A$7:$BZ$317,2*AA$5+5)<=5,AA10*0.5,0))","v":0}]
[{"$f":"VLOOKUP(HLOOKUP('Pick Distribution'!$P$2,$B$6:$I$15,6),'Current Owner Standings'!$A$71:$B$480,2,FALSE)","v":28},13,13,43,43,43,43,43,43,{"$f":"IF(ISNA(VLOOKUP($I11,'Cars & Results'!$A$6:$I$317,J$5,FALSE)),\"Invalid Number\",VLOOKUP($I11,'Cars & Results'!$A$6:$K$317,J$5,FALSE))","v":"Darrell Wallace Jr. (R)"},{"$f":"IF(ISNA(VLOOKUP($I11,'Cars & Results'!$A$6:$I$317,K$5,FALSE)),\"Invalid Number\",VLOOKUP($I11,'Cars & Results'!$A$6:$K$317,K$5,FALSE))","v":"Chevrolet"},{"$f":"IF(ISNA(VLOOKUP($I11,'Cars & Results'!$A$6:$I$317,L$5,FALSE)),\"Invalid Number\",VLOOKUP($I11,'Cars & Results'!$A$6:$K$317,L$5,FALSE))","v":"Richard Petty Motorsports"},{"$f":"IF(HLOOKUP(M$5,$B$6:$I$15,Points!$A7+1,FALSE)=\"TBD\",\"\",VLOOKUP(HLOOKUP(M$5,$B$6:$I$15,Points!$A7+1,FALSE),'Cars & Results'!$A$7:$BZ$317,2*M$5+6,FALSE))","v":8},{"$f":"IF(HLOOKUP(M$5,$B$6:$I$15,Points!$A7+1,FALSE)=\"TBD\",\"\",IF(VLOOKUP(HLOOKUP(M$5,$B$6:$I$15,Points!$A7+1,FALSE),'Cars & Results'!$A$7:$BZ$317,2*M$5+5)<=10,M11*1.5,0))","v":0},{"$f":"IF(HLOOKUP(O$5,$B$6:$I$15,Points!$A7+1,FALSE)=\"TBD\",\"\",VLOOKUP(HLOOKUP(O$5,$B$6:$I$15,Points!$A7+1,FALSE),'Cars & Results'!$A$7:$BZ$317,2*O$5+6,FALSE))","v":14},{"$f":"IF(HLOOKUP(O$5,$B$6:$I$15,Points!$A7+1,FALSE)=\"TBD\",\"\",IF(VLOOKUP(HLOOKUP(O$5,$B$6:$I$15,Points!$A7+1,FALSE),'Cars & Results'!$A$7:$BZ$317,2*O$5+5)<=10,O11*1.5,0))","v":0},{"$f":"IF(HLOOKUP(Q$5,$B$6:$I$15,Points!$A7+1,FALSE)=\"TBD\",\"\",VLOOKUP(HLOOKUP(Q$5,$B$6:$I$15,Points!$A7+1,FALSE),'Cars & Results'!$A$7:$BZ$317,2*Q$5+6,FALSE))","v":4},{"$f":"IF(HLOOKUP(Q$5,$B$6:$I$15,Points!$A7+1,FALSE)=\"TBD\",\"\",IF(VLOOKUP(HLOOKUP(Q$5,$B$6:$I$15,Points!$A7+1,FALSE),'Cars & Results'!$A$7:$BZ$317,2*Q$5+5)<=10,Q11*1.5,0))","v":0},{"$f":"IF(HLOOKUP(S$5,$B$6:$I$15,Points!$A7+1,FALSE)=\"TBD\",\"\",VLOOKUP(HLOOKUP(S$5,$B$6:$I$15,Points!$A7+1,FALSE),'Cars & Results'!$A$7:$BZ$317,2*S$5+6,FALSE))","v":12},{"$f":"IF(HLOOKUP(S$5,$B$6:$I$15,Points!$A7+1,FALSE)=\"TBD\",\"\",IF(VLOOKUP(HLOOKUP(S$5,$B$6:$I$15,Points!$A7+1,FALSE),'Cars & Results'!$A$7:$BZ$317,2*S$5+5)<=10,S11*1.5,0))","v":0},{"$f":"IF(HLOOKUP(U$5,$B$6:$I$15,Points!$A7+1,FALSE)=\"TBD\",\"\",VLOOKUP(HLOOKUP(U$5,$B$6:$I$15,Points!$A7+1,FALSE),'Cars & Results'!$A$7:$BZ$317,2*U$5+6,FALSE))","v":14},{"$f":"IF(HLOOKUP(U$5,$B$6:$I$15,Points!$A7+1,FALSE)=\"TBD\",\"\",IF(VLOOKUP(HLOOKUP(U$5,$B$6:$I$15,Points!$A7+1,FALSE),'Cars & Results'!$A$7:$BZ$317,2*U$5+5)<=10,U11*1.5,0))","v":0},{"$f":"IF(HLOOKUP(W$5,$B$6:$I$15,Points!$A7+1,FALSE)=\"TBD\",\"\",VLOOKUP(HLOOKUP(W$5,$B$6:$I$15,Points!$A7+1,FALSE),'Cars & Results'!$A$7:$BZ$317,2*W$5+6,FALSE))","v":1},{"$f":"IF(HLOOKUP(W$5,$B$6:$I$15,Points!$A7+1,FALSE)=\"TBD\",\"\",IF(VLOOKUP(HLOOKUP(W$5,$B$6:$I$15,Points!$A7+1,FALSE),'Cars & Results'!$A$7:$BZ$317,2*W$5+5)<=10,W11*1.5,0))","v":0},{"$f":"IF(HLOOKUP(Y$5,$B$6:$I$15,Points!$A7+1,FALSE)=\"TBD\",\"\",VLOOKUP(HLOOKUP(Y$5,$B$6:$I$15,Points!$A7+1,FALSE),'Cars & Results'!$A$7:$BZ$317,2*Y$5+6,FALSE))","v":11},{"$f":"IF(HLOOKUP(Y$5,$B$6:$I$15,Points!$A7+1,FALSE)=\"TBD\",\"\",IF(VLOOKUP(HLOOKUP(Y$5,$B$6:$I$15,Points!$A7+1,FALSE),'Cars & Results'!$A$7:$BZ$317,2*Y$5+5)<=10,Y11*1.5,0))","v":0},{"$f":"IF(HLOOKUP(AA$5,$B$6:$I$15,Points!$A7+1,FALSE)=\"TBD\",\"\",VLOOKUP(HLOOKUP(AA$5,$B$6:$I$15,Points!$A7+1,FALSE),'Cars & Results'!$A$7:$BZ$317,2*AA$5+6,FALSE))","v":1},{"$f":"IF(HLOOKUP(AA$5,$B$6:$I$15,Points!$A7+1,FALSE)=\"TBD\",\"\",IF(VLOOKUP(HLOOKUP(AA$5,$B$6:$I$15,Points!$A7+1,FALSE),'Cars & Results'!$A$7:$BZ$317,2*AA$5+5)<=10,AA11*1.5,0))","v":0}]
[{"$f":"VLOOKUP(HLOOKUP('Pick Distribution'!$P$2,$B$6:$I$15,7),'Current Owner Standings'!$A$71:$B$480,2,FALSE)","v":27},95,95,95,95,95,95,95,95,{"$f":"IF(ISNA(VLOOKUP($I12,'Cars & Results'!$A$6:$I$317,J$5,FALSE)),\"Invalid Number\",VLOOKUP($I12,'Cars & Results'!$A$6:$K$317,J$5,FALSE))","v":"Regan Smith"},{"$f":"IF(ISNA(VLOOKUP($I12,'Cars & Results'!$A$6:$I$317,K$5,FALSE)),\"Invalid Number\",VLOOKUP($I12,'Cars & Results'!$A$6:$K$317,K$5,FALSE))","v":"Chevrolet"},{"$f":"IF(ISNA(VLOOKUP($I12,'Cars & Results'!$A$6:$I$317,L$5,FALSE)),\"Invalid Number\",VLOOKUP($I12,'Cars & Results'!$A$6:$K$317,L$5,FALSE))","v":"Leavine Family Racing"},{"$f":"IF(HLOOKUP(M$5,$B$6:$I$15,Points!$A8+1,FALSE)=\"TBD\",\"\",VLOOKUP(HLOOKUP(M$5,$B$6:$I$15,Points!$A8+1,FALSE),'Cars & Results'!$A$7:$BZ$317,2*M$5+6,FALSE))","v":12},{"$f":"IF(HLOOKUP(M$5,$B$6:$I$15,Points!$A8+1,FALSE)=\"TBD\",\"\",IF(VLOOKUP(HLOOKUP(M$5,$B$6:$I$15,Points!$A8+1,FALSE),'Cars & Results'!$A$7:$BZ$317,2*M$5+5)<=10,M12*1.5,0))","v":0},{"$f":"IF(HLOOKUP(O$5,$B$6:$I$15,Points!$A8+1,FALSE)=\"TBD\",\"\",VLOOKUP(HLOOKUP(O$5,$B$6:$I$15,Points!$A8+1,FALSE),'Cars & Results'!$A$7:$BZ$317,2*O$5+6,FALSE))","v":18},{"$f":"IF(HLOOKUP(O$5,$B$6:$I$15,Points!$A8+1,FALSE)=\"TBD\",\"\",IF(VLOOKUP(HLOOKUP(O$5,$B$6:$I$15,Points!$A8+1,FALSE),'Cars & Results'!$A$7:$BZ$317,2*O$5+5)<=10,O12*1.5,0))","v":0},{"$f":"IF(HLOOKUP(Q$5,$B$6:$I$15,Points!$A8+1,FALSE)=\"TBD\",\"\",VLOOKUP(HLOOKUP(Q$5,$B$6:$I$15,Points!$A8+1,FALSE),'Cars & Results'!$A$7:$BZ$317,2*Q$5+6,FALSE))","v":7},{"$f":"IF(HLOOKUP(Q$5,$B$6:$I$15,Points!$A8+1,FALSE)=\"TBD\",\"\",IF(VLOOKUP(HLOOKUP(Q$5,$B$6:$I$15,Points!$A8+1,FALSE),'Cars & Results'!$A$7:$BZ$317,2*Q$5+5)<=10,Q12*1.5,0))","v":0},{"$f":"IF(HLOOKUP(S$5,$B$6:$I$15,Points!$A8+1,FALSE)=\"TBD\",\"\",VLOOKUP(HLOOKUP(S$5,$B$6:$I$15,Points!$A8+1,FALSE),'Cars & Results'!$A$7:$BZ$317,2*S$5+6,FALSE))","v":16},{"$f":"IF(HLOOKUP(S$5,$B$6:$I$15,Points!$A8+1,FALSE)=\"TBD\",\"\",IF(VLOOKUP(HLOOKUP(S$5,$B$6:$I$15,Points!$A8+1,FALSE),'Cars & Results'!$A$7:$BZ$317,2*S$5+5)<=10,S12*1.5,0))","v":0},{"$f":"IF(HLOOKUP(U$5,$B$6:$I$15,Points!$A8+1,FALSE)=\"TBD\",\"\",VLOOKUP(HLOOKUP(U$5,$B$6:$I$15,Points!$A8+1,FALSE),'Cars & Results'!$A$7:$BZ$317,2*U$5+6,FALSE))","v":11},{"$f":"IF(HLOOKUP(U$5,$B$6:$I$15,Points!$A8+1,FALSE)=\"TBD\",\"\",IF(VLOOKUP(HLOOKUP(U$5,$B$6:$I$15,Points!$A8+1,FALSE),'Cars & Results'!$A$7:$BZ$317,2*U$5+5)<=10,U12*1.5,0))","v":0},{"$f":"IF(HLOOKUP(W$5,$B$6:$I$15,Points!$A8+1,FALSE)=\"TBD\",\"\",VLOOKUP(HLOOKUP(W$5,$B$6:$I$15,Points!$A8+1,FALSE),'Cars & Results'!$A$7:$BZ$317,2*W$5+6,FALSE))","v":22},{"$f":"IF(HLOOKUP(W$5,$B$6:$I$15,Points!$A8+1,FALSE)=\"TBD\",\"\",IF(VLOOKUP(HLOOKUP(W$5,$B$6:$I$15,Points!$A8+1,FALSE),'Cars & Results'!$A$7:$BZ$317,2*W$5+5)<=10,W12*1.5,0))","v":0},{"$f":"IF(HLOOKUP(Y$5,$B$6:$I$15,Points!$A8+1,FALSE)=\"TBD\",\"\",VLOOKUP(HLOOKUP(Y$5,$B$6:$I$15,Points!$A8+1,FALSE),'Cars & Results'!$A$7:$BZ$317,2*Y$5+6,FALSE))","v":13},{"$f":"IF(HLOOKUP(Y$5,$B$6:$I$15,Points!$A8+1,FALSE)=\"TBD\",\"\",IF(VLOOKUP(HLOOKUP(Y$5,$B$6:$I$15,Points!$A8+1,FALSE),'Cars & Results'!$A$7:$BZ$317,2*Y$5+5)<=10,Y12*1.5,0))","v":0},{"$f":"IF(HLOOKUP(AA$5,$B$6:$I$15,Points!$A8+1,FALSE)=\"TBD\",\"\",VLOOKUP(HLOOKUP(AA$5,$B$6:$I$15,Points!$A8+1,FALSE),'Cars & Results'!$A$7:$BZ$317,2*AA$5+6,FALSE))","v":17},{"$f":"IF(HLOOKUP(AA$5,$B$6:$I$15,Points!$A8+1,FALSE)=\"TBD\",\"\",IF(VLOOKUP(HLOOKUP(AA$5,$B$6:$I$15,Points!$A8+1,FALSE),'Cars & Results'!$A$7:$BZ$317,2*AA$5+5)<=10,AA12*1.5,0))","v":0}]
[{"$f":"VLOOKUP(HLOOKUP('Pick Distribution'!$P$2,$B$6:$I$15,8),'Current Owner Standings'!$A$71:$B$480,2,FALSE)","v":31},32,32,32,32,32,32,32,32,{"$f":"IF(ISNA(VLOOKUP($I13,'Cars & Results'!$A$6:$I$317,J$5,FALSE)),\"Invalid Number\",VLOOKUP($I13,'Cars & Results'!$A$6:$K$317,J$5,FALSE))","v":"Matt DiBenedetto"},{"$f":"IF(ISNA(VLOOKUP($I13,'Cars & Results'!$A$6:$I$317,K$5,FALSE)),\"Invalid Number\",VLOOKUP($I13,'Cars & Results'!$A$6:$K$317,K$5,FALSE))","v":"Ford"},{"$f":"IF(ISNA(VLOOKUP($I13,'Cars & Results'!$A$6:$I$317,L$5,FALSE)),\"Invalid Number\",VLOOKUP($I13,'Cars & Results'!$A$6:$K$317,L$5,FALSE))","v":"Go Fas Racing"},{"$f":"IF(HLOOKUP(M$5,$B$6:$I$15,Points!$A9+1,FALSE)=\"TBD\",\"\",VLOOKUP(HLOOKUP(M$5,$B$6:$I$15,Points!$A9+1,FALSE),'Cars & Results'!$A$7:$BZ$317,2*M$5+6,FALSE))","v":1},{"$f":"IF(HLOOKUP(M$5,$B$6:$I$15,Points!$A9+1,FALSE)=\"TBD\",\"\",IF(VLOOKUP(HLOOKUP(M$5,$B$6:$I$15,Points!$A9+1,FALSE),'Cars & Results'!$A$7:$BZ$317,2*M$5+5)<=10,M13*2,0))","v":0},{"$f":"IF(HLOOKUP(O$5,$B$6:$I$15,Points!$A9+1,FALSE)=\"TBD\",\"\",VLOOKUP(HLOOKUP(O$5,$B$6:$I$15,Points!$A9+1,FALSE),'Cars & Results'!$A$7:$BZ$317,2*O$5+6,FALSE))","v":9},{"$f":"IF(HLOOKUP(O$5,$B$6:$I$15,Points!$A9+1,FALSE)=\"TBD\",\"\",IF(VLOOKUP(HLOOKUP(O$5,$B$6:$I$15,Points!$A9+1,FALSE),'Cars & Results'!$A$7:$BZ$317,2*O$5+5)<=10,O13*2,0))","v":0},{"$f":"IF(HLOOKUP(Q$5,$B$6:$I$15,Points!$A9+1,FALSE)=\"TBD\",\"\",VLOOKUP(HLOOKUP(Q$5,$B$6:$I$15,Points!$A9+1,FALSE),'Cars & Results'!$A$7:$BZ$317,2*Q$5+6,FALSE))","v":10},{"$f":"IF(HLOOKUP(Q$5,$B$6:$I$15,Points!$A9+1,FALSE)=\"TBD\",\"\",IF(VLOOKUP(HLOOKUP(Q$5,$B$6:$I$15,Points!$A9+1,FALSE),'Cars & Results'!$A$7:$BZ$317,2*Q$5+5)<=10,Q13*2,0))","v":0},{"$f":"IF(HLOOKUP(S$5,$B$6:$I$15,Points!$A9+1,FALSE)=\"TBD\",\"\",VLOOKUP(HLOOKUP(S$5,$B$6:$I$15,Points!$A9+1,FALSE),'Cars & Results'!$A$7:$BZ$317,2*S$5+6,FALSE))","v":4},{"$f":"IF(HLOOKUP(S$5,$B$6:$I$15,Points!$A9+1,FALSE)=\"TBD\",\"\",IF(VLOOKUP(HLOOKUP(S$5,$B$6:$I$15,Points!$A9+1,FALSE),'Cars & Results'!$A$7:$BZ$317,2*S$5+5)<=10,S13*2,0))","v":0},{"$f":"IF(HLOOKUP(U$5,$B$6:$I$15,Points!$A9+1,FALSE)=\"TBD\",\"\",VLOOKUP(HLOOKUP(U$5,$B$6:$I$15,Points!$A9+1,FALSE),'Cars & Results'!$A$7:$BZ$317,2*U$5+6,FALSE))","v":13},{"$f":"IF(HLOOKUP(U$5,$B$6:$I$15,Points!$A9+1,FALSE)=\"TBD\",\"\",IF(VLOOKUP(HLOOKUP(U$5,$B$6:$I$15,Points!$A9+1,FALSE),'Cars & Results'!$A$7:$BZ$317,2*U$5+5)<=10,U13*2,0))","v":0},{"$f":"IF(HLOOKUP(W$5,$B$6:$I$15,Points!$A9+1,FALSE)=\"TBD\",\"\",VLOOKUP(HLOOKUP(W$5,$B$6:$I$15,Points!$A9+1,FALSE),'Cars & Results'!$A$7:$BZ$317,2*W$5+6,FALSE))","v":15},{"$f":"IF(HLOOKUP(W$5,$B$6:$I$15,Points!$A9+1,FALSE)=\"TBD\",\"\",IF(VLOOKUP(HLOOKUP(W$5,$B$6:$I$15,Points!$A9+1,FALSE),'Cars & Results'!$A$7:$BZ$317,2*W$5+5)<=10,W13*2,0))","v":0},{"$f":"IF(HLOOKUP(Y$5,$B$6:$I$15,Points!$A9+1,FALSE)=\"TBD\",\"\",VLOOKUP(HLOOKUP(Y$5,$B$6:$I$15,Points!$A9+1,FALSE),'Cars & Results'!$A$7:$BZ$317,2*Y$5+6,FALSE))","v":1},{"$f":"IF(HLOOKUP(Y$5,$B$6:$I$15,Points!$A9+1,FALSE)=\"TBD\",\"\",IF(VLOOKUP(HLOOKUP(Y$5,$B$6:$I$15,Points!$A9+1,FALSE),'Cars & Results'!$A$7:$BZ$317,2*Y$5+5)<=10,Y13*2,0))","v":0},{"$f":"IF(HLOOKUP(AA$5,$B$6:$I$15,Points!$A9+1,FALSE)=\"TBD\",\"\",VLOOKUP(HLOOKUP(AA$5,$B$6:$I$15,Points!$A9+1,FALSE),'Cars & Results'!$A$7:$BZ$317,2*AA$5+6,FALSE))","v":1},{"$f":"IF(HLOOKUP(AA$5,$B$6:$I$15,Points!$A9+1,FALSE)=\"TBD\",\"\",IF(VLOOKUP(HLOOKUP(AA$5,$B$6:$I$15,Points!$A9+1,FALSE),'Cars & Results'!$A$7:$BZ$317,2*AA$5+5)<=10,AA13*2,0))","v":0}]
[{"$f":"VLOOKUP(HLOOKUP('Pick Distribution'!$P$2,$B$6:$I$15,9),'Current Owner Standings'!$A$71:$B$480,2,FALSE)","v":36},51,51,51,51,51,51,51,51,{"$f":"IF(ISNA(VLOOKUP($I14,'Cars & Results'!$A$6:$I$317,J$5,FALSE)),\"Invalid Number\",VLOOKUP($I14,'Cars & Results'!$A$6:$K$317,J$5,FALSE))","v":"David Starr (i)"},{"$f":"IF(ISNA(VLOOKUP($I14,'Cars & Results'!$A$6:$I$317,K$5,FALSE)),\"Invalid Number\",VLOOKUP($I14,'Cars & Results'!$A$6:$K$317,K$5,FALSE))","v":"Ford"},{"$f":"IF(ISNA(VLOOKUP($I14,'Cars & Results'!$A$6:$I$317,L$5,FALSE)),\"Invalid Number\",VLOOKUP($I14,'Cars & Results'!$A$6:$K$317,L$5,FALSE))","v":"Rick Ware Racing"},{"$f":"IF(HLOOKUP(M$5,$B$6:$I$15,Points!$A10+1,FALSE)=\"TBD\",\"\",VLOOKUP(HLOOKUP(M$5,$B$6:$I$15,Points!$A10+1,FALSE),'Cars & Results'!$A$7:$BZ$317,2*M$5+6,FALSE))","v":5},{"$f":"IF(HLOOKUP(M$5,$B$6:$I$15,Points!$A10+1,FALSE)=\"TBD\",\"\",IF(VLOOKUP(HLOOKUP(M$5,$B$6:$I$15,Points!$A10+1,FALSE),'Cars & Results'!$A$7:$BZ$317,2*M$5+5)<=10,M14*3,0))","v":0},{"$f":"IF(HLOOKUP(O$5,$B$6:$I$15,Points!$A10+1,FALSE)=\"TBD\",\"\",VLOOKUP(HLOOKUP(O$5,$B$6:$I$15,Points!$A10+1,FALSE),'Cars & Results'!$A$7:$BZ$317,2*O$5+6,FALSE))","v":3},{"$f":"IF(HLOOKUP(O$5,$B$6:$I$15,Points!$A10+1,FALSE)=\"TBD\",\"\",IF(VLOOKUP(HLOOKUP(O$5,$B$6:$I$15,Points!$A10+1,FALSE),'Cars & Results'!$A$7:$BZ$317,2*O$5+5)<=10,O14*3,0))","v":0},{"$f":"IF(HLOOKUP(Q$5,$B$6:$I$15,Points!$A10+1,FALSE)=\"TBD\",\"\",VLOOKUP(HLOOKUP(Q$5,$B$6:$I$15,Points!$A10+1,FALSE),'Cars & Results'!$A$7:$BZ$317,2*Q$5+6,FALSE))","v":1},{"$f":"IF(HLOOKUP(Q$5,$B$6:$I$15,Points!$A10+1,FALSE)=\"TBD\",\"\",IF(VLOOKUP(HLOOKUP(Q$5,$B$6:$I$15,Points!$A10+1,FALSE),'Cars & Results'!$A$7:$BZ$317,2*Q$5+5)<=10,Q14*3,0))","v":0},{"$f":"IF(HLOOKUP(S$5,$B$6:$I$15,Points!$A10+1,FALSE)=\"TBD\",\"\",VLOOKUP(HLOOKUP(S$5,$B$6:$I$15,Points!$A10+1,FALSE),'Cars & Results'!$A$7:$BZ$317,2*S$5+6,FALSE))","v":1},{"$f":"IF(HLOOKUP(S$5,$B$6:$I$15,Points!$A10+1,FALSE)=\"TBD\",\"\",IF(VLOOKUP(HLOOKUP(S$5,$B$6:$I$15,Points!$A10+1,FALSE),'Cars & Results'!$A$7:$BZ$317,2*S$5+5)<=10,S14*3,0))","v":0},{"$f":"IF(HLOOKUP(U$5,$B$6:$I$15,Points!$A10+1,FALSE)=\"TBD\",\"\",VLOOKUP(HLOOKUP(U$5,$B$6:$I$15,Points!$A10+1,FALSE),'Cars & Results'!$A$7:$BZ$317,2*U$5+6,FALSE))","v":6},{"$f":"IF(HLOOKUP(U$5,$B$6:$I$15,Points!$A10+1,FALSE)=\"TBD\",\"\",IF(VLOOKUP(HLOOKUP(U$5,$B$6:$I$15,Points!$A10+1,FALSE),'Cars & Results'!$A$7:$BZ$317,2*U$5+5)<=10,U14*3,0))","v":0},{"$f":"IF(HLOOKUP(W$5,$B$6:$I$15,Points!$A10+1,FALSE)=\"TBD\",\"\",VLOOKUP(HLOOKUP(W$5,$B$6:$I$15,Points!$A10+1,FALSE),'Cars & Results'!$A$7:$BZ$317,2*W$5+6,FALSE))","v":4},{"$f":"IF(HLOOKUP(W$5,$B$6:$I$15,Points!$A10+1,FALSE)=\"TBD\",\"\",IF(VLOOKUP(HLOOKUP(W$5,$B$6:$I$15,Points!$A10+1,FALSE),'Cars & Results'!$A$7:$BZ$317,2*W$5+5)<=10,W14*3,0))","v":0},{"$f":"IF(HLOOKUP(Y$5,$B$6:$I$15,Points!$A10+1,FALSE)=\"TBD\",\"\",VLOOKUP(HLOOKUP(Y$5,$B$6:$I$15,Points!$A10+1,FALSE),'Cars & Results'!$A$7:$BZ$317,2*Y$5+6,FALSE))","v":5},{"$f":"IF(HLOOKUP(Y$5,$B$6:$I$15,Points!$A10+1,FALSE)=\"TBD\",\"\",IF(VLOOKUP(HLOOKUP(Y$5,$B$6:$I$15,Points!$A10+1,FALSE),'Cars & Results'!$A$7:$BZ$317,2*Y$5+5)<=10,Y14*3,0))","v":0},{"$f":"IF(HLOOKUP(AA$5,$B$6:$I$15,Points!$A10+1,FALSE)=\"TBD\",\"\",VLOOKUP(HLOOKUP(AA$5,$B$6:$I$15,Points!$A10+1,FALSE),'Cars & Results'!$A$7:$BZ$317,2*AA$5+6,FALSE))","v":1},{"$f":"IF(HLOOKUP(AA$5,$B$6:$I$15,Points!$A10+1,FALSE)=\"TBD\",\"\",IF(VLOOKUP(HLOOKUP(AA$5,$B$6:$I$15,Points!$A10+1,FALSE),'Cars & Results'!$A$7:$BZ$317,2*AA$5+5)<=10,AA14*3,0))","v":0}]
[{"$f":"VLOOKUP(HLOOKUP('Pick Distribution'!$P$2,$B$6:$I$15,10),'Current Owner Standings'!$A$71:$B$480,2,FALSE)","v":5},2,18,4,41,11,12,14,22,{"$f":"IF(ISNA(VLOOKUP($I15,'Cars & Results'!$A$6:$I$317,J$5,FALSE)),\"Invalid Number\",VLOOKUP($I15,'Cars & Results'!$A$6:$K$317,J$5,FALSE))","v":"Joey Logano"},{"$f":"IF(ISNA(VLOOKUP($I15,'Cars & Results'!$A$6:$I$317,K$5,FALSE)),\"Invalid Number\",VLOOKUP($I15,'Cars & Results'!$A$6:$K$317,K$5,FALSE))","v":"Ford"},{"$f":"IF(ISNA(VLOOKUP($I15,'Cars & Results'!$A$6:$I$317,L$5,FALSE)),\"Invalid Number\",VLOOKUP($I15,'Cars & Results'!$A$6:$K$317,L$5,FALSE))","v":"Team Penske"},{"$f":"IF(HLOOKUP(M$5,$B$6:$I$15,Points!$A11+1,FALSE)=\"TBD\",\"\",VLOOKUP(HLOOKUP(M$5,$B$6:$I$15,Points!$A11+1,FALSE),'Cars & Results'!$A$7:$BZ$317,2*M$5+6,FALSE))","v":34},34,{"$f":"IF(HLOOKUP(O$5,$B$6:$I$15,Points!$A11+1,FALSE)=\"TBD\",\"\",VLOOKUP(HLOOKUP(O$5,$B$6:$I$15,Points!$A11+1,FALSE),'Cars & Results'!$A$7:$BZ$317,2*O$5+6,FALSE))","v":45},45,{"$f":"IF(HLOOKUP(Q$5,$B$6:$I$15,Points!$A11+1,FALSE)=\"TBD\",\"\",VLOOKUP(HLOOKUP(Q$5,$B$6:$I$15,Points!$A11+1,FALSE),'Cars & Results'!$A$7:$BZ$317,2*Q$5+6,FALSE))","v":52},50,{"$f":"IF(HLOOKUP(S$5,$B$6:$I$15,Points!$A11+1,FALSE)=\"TBD\",\"\",VLOOKUP(HLOOKUP(S$5,$B$6:$I$15,Points!$A11+1,FALSE),'Cars & Results'!$A$7:$BZ$317,2*S$5+6,FALSE))","v":28},0,{"$f":"IF(HLOOKUP(U$5,$B$6:$I$15,Points!$A11+1,FALSE)=\"TBD\",\"\",VLOOKUP(HLOOKUP(U$5,$B$6:$I$15,Points!$A11+1,FALSE),'Cars & Results'!$A$7:$BZ$317,2*U$5+6,FALSE))","v":34},0,{"$f":"IF(HLOOKUP(W$5,$B$6:$I$15,Points!$A11+1,FALSE)=\"TBD\",\"\",VLOOKUP(HLOOKUP(W$5,$B$6:$I$15,Points!$A11+1,FALSE),'Cars & Results'!$A$7:$BZ$317,2*W$5+6,FALSE))","v":46},0,{"$f":"IF(HLOOKUP(Y$5,$B$6:$I$15,Points!$A11+1,FALSE)=\"TBD\",\"\",VLOOKUP(HLOOKUP(Y$5,$B$6:$I$15,Points!$A11+1,FALSE),'Cars & Results'!$A$7:$BZ$317,2*Y$5+6,FALSE))","v":1},0,{"$f":"IF(HLOOKUP(AA$5,$B$6:$I$15,Points!$A11+1,FALSE)=\"TBD\",\"\",VLOOKUP(HLOOKUP(AA$5,$B$6:$I$15,Points!$A11+1,FALSE),'Cars & Results'!$A$7:$BZ$317,2*AA$5+6,FALSE))","v":31},{"$f":"IF(HLOOKUP(AA$5,$B$6:$I$15,Points!$A11+1,FALSE)=\"TBD\",\"\",IF(AND(VLOOKUP(HLOOKUP(AA$5,$B$6:$I$15,Points!$A11+1,FALSE),'Cars & Results'!$A$7:$BZ$317,2*AA$5+5)<=3,$A$15<=25),AA15*1,IF(AND(VLOOKUP(HLOOKUP(AA$5,$B$6:$I$15,Points!$A11+1,FALSE),'Cars & Results'!$A$7:$BZ$317,2*AA$5+5)<=10,$A$15>25),AA15*3,0)))","v":0}]
[null,null,null,null,null,null,null,null,null,null,null,"Segment 1",null,{"$f":"IF(INDIRECT(ADDRESS(321,5+(M5*2),1,1,\"Cars & Results\"),TRUE)=\"Y\",IF(ISERROR(MATCH(INDIRECT(ADDRESS(318,5+(M5*2),1,1,\"Cars & Results\"),TRUE),B7:B15,0))=TRUE,0,10),\"\")","v":10},null,{"$f":"IF(INDIRECT(ADDRESS(321,5+(O5*2),1,1,\"Cars & Results\"),TRUE)=\"Y\",IF(ISERROR(MATCH(INDIRECT(ADDRESS(318,5+(O5*2),1,1,\"Cars & Results\"),TRUE),C7:C15,0))=TRUE,0,10),\"\")","v":10},null,{"$f":"IF(INDIRECT(ADDRESS(321,5+(Q5*2),1,1,\"Cars & Results\"),TRUE)=\"Y\",IF(ISERROR(MATCH(INDIRECT(ADDRESS(318,5+(Q5*2),1,1,\"Cars & Results\"),TRUE),D7:D15,0))=TRUE,0,10),\"\")","v":10},null,{"$f":"IF(INDIRECT(ADDRESS(321,5+(S5*2),1,1,\"Cars & Results\"),TRUE)=\"Y\",IF(ISERROR(MATCH(INDIRECT(ADDRESS(318,5+(S5*2),1,1,\"Cars & Results\"),TRUE),E7:E15,0))=TRUE,0,10),\"\")","v":10},null,{"$f":"IF(INDIRECT(ADDRESS(321,5+(U5*2),1,1,\"Cars & Results\"),TRUE)=\"Y\",IF(ISERROR(MATCH(INDIRECT(ADDRESS(318,5+(U5*2),1,1,\"Cars & Results\"),TRUE),F7:F15,0))=TRUE,0,10),\"\")","v":0},null,{"$f":"IF(INDIRECT(ADDRESS(321,5+(W5*2),1,1,\"Cars & Results\"),TRUE)=\"Y\",IF(ISERROR(MATCH(INDIRECT(ADDRESS(318,5+(W5*2),1,1,\"Cars & Results\"),TRUE),G7:G15,0))=TRUE,0,10),\"\")","v":10},null,{"$f":"IF(INDIRECT(ADDRESS(321,5+(Y5*2),1,1,\"Cars & Results\"),TRUE)=\"Y\",IF(ISERROR(MATCH(INDIRECT(ADDRESS(318,5+(Y5*2),1,1,\"Cars & Results\"),TRUE),H7:H15,0))=TRUE,0,10),\"\")","v":0},null,{"$f":"IF(INDIRECT(ADDRESS(321,5+(AA5*2),1,1,\"Cars & Results\"),TRUE)=\"Y\",IF(ISERROR(MATCH(INDIRECT(ADDRESS(318,5+(AA5*2),1,1,\"Cars & Results\"),TRUE),I7:I15,0))=TRUE,0,10),\"\")","v":0}]
[null,null,null,null,null,null,null,null,null,null,null,"Segment 2",null,{"$f":"IF(INDIRECT(ADDRESS(321,5+(M5*2),1,1,\"Cars & Results\"),TRUE)=\"Y\",IF(ISERROR(MATCH(INDIRECT(ADDRESS(319,5+(M5*2),1,1,\"Cars & Results\"),TRUE),B7:B15,0))=TRUE,0,10),\"\")","v":10},null,{"$f":"IF(INDIRECT(ADDRESS(321,5+(O5*2),1,1,\"Cars & Results\"),TRUE)=\"Y\",IF(ISERROR(MATCH(INDIRECT(ADDRESS(319,5+(O5*2),1,1,\"Cars & Results\"),TRUE),C7:C15,0))=TRUE,0,10),\"\")","v":0},null,{"$f":"IF(INDIRECT(ADDRESS(321,5+(Q5*2),1,1,\"Cars & Results\"),TRUE)=\"Y\",IF(ISERROR(MATCH(INDIRECT(ADDRESS(319,5+(Q5*2),1,1,\"Cars & Results\"),TRUE),D7:D15,0))=TRUE,0,10),\"\")","v":10},null,{"$f":"IF(INDIRECT(ADDRESS(321,5+(S5*2),1,1,\"Cars & Results\"),TRUE)=\"Y\",IF(ISERROR(MATCH(INDIRECT(ADDRESS(319,5+(S5*2),1,1,\"Cars & Results\"),TRUE),E7:E15,0))=TRUE,0,10),\"\")","v":10},null,{"$f":"IF(INDIRECT(ADDRESS(321,5+(U5*2),1,1,\"Cars & Results\"),TRUE)=\"Y\",IF(ISERROR(MATCH(INDIRECT(ADDRESS(319,5+(U5*2),1,1,\"Cars & Results\"),TRUE),F7:F15,0))=TRUE,0,10),\"\")","v":0},null,{"$f":"IF(INDIRECT(ADDRESS(321,5+(W5*2),1,1,\"Cars & Results\"),TRUE)=\"Y\",IF(ISERROR(MATCH(INDIRECT(ADDRESS(319,5+(W5*2),1,1,\"Cars & Results\"),TRUE),G7:G15,0))=TRUE,0,10),\"\")","v":0},null,{"$f":"IF(INDIRECT(ADDRESS(321,5+(Y5*2),1,1,\"Cars & Results\"),TRUE)=\"Y\",IF(ISERROR(MATCH(INDIRECT(ADDRESS(319,5+(Y5*2),1,1,\"Cars & Results\"),TRUE),H7:H15,0))=TRUE,0,10),\"\")","v":0},null,{"$f":"IF(INDIRECT(ADDRESS(321,5+(AA5*2),1,1,\"Cars & Results\"),TRUE)=\"Y\",IF(ISERROR(MATCH(INDIRECT(ADDRESS(319,5+(AA5*2),1,1,\"Cars & Results\"),TRUE),I7:I15,0))=TRUE,0,10),\"\")","v":0}]
[null,null,null,null,null,null,null,null,null,null,null,"Segment 3",null,{"$f":"IF(INDIRECT(ADDRESS(321,5+(M5*2),1,1,\"Cars & Results\"),TRUE)=\"Y\",IF(ISERROR(MATCH(INDIRECT(ADDRESS(320,5+(M5*2),1,1,\"Cars & Results\"),TRUE),B7:B15,0))=TRUE,0,15),\"\")","v":15},null,{"$f":"IF(INDIRECT(ADDRESS(321,5+(O5*2),1,1,\"Cars & Results\"),TRUE)=\"Y\",IF(ISERROR(MATCH(INDIRECT(ADDRESS(320,5+(O5*2),1,1,\"Cars & Results\"),TRUE),C7:C15,0))=TRUE,0,15),\"\")","v":0},null,{"$f":"IF(INDIRECT(ADDRESS(321,5+(Q5*2),1,1,\"Cars & Results\"),TRUE)=\"Y\",IF(ISERROR(MATCH(INDIRECT(ADDRESS(320,5+(Q5*2),1,1,\"Cars & Results\"),TRUE),D7:D15,0))=TRUE,0,15),\"\")","v":0},null,{"$f":"IF(INDIRECT(ADDRESS(321,5+(S5*2),1,1,\"Cars & Results\"),TRUE)=\"Y\",IF(ISERROR(MATCH(INDIRECT(ADDRESS(320,5+(S5*2),1,1,\"Cars & Results\"),TRUE),E7:E15,0))=TRUE,0,15),\"\")","v":15},null,{"$f":"IF(INDIRECT(ADDRESS(321,5+(U5*2),1,1,\"Cars & Results\"),TRUE)=\"Y\",IF(ISERROR(MATCH(INDIRECT(ADDRESS(320,5+(U5*2),1,1,\"Cars & Results\"),TRUE),F7:F15,0))=TRUE,0,15),\"\")","v":0},null,{"$f":"IF(INDIRECT(ADDRESS(321,5+(W5*2),1,1,\"Cars & Results\"),TRUE)=\"Y\",IF(ISERROR(MATCH(INDIRECT(ADDRESS(320,5+(W5*2),1,1,\"Cars & Results\"),TRUE),G7:G15,0))=TRUE,0,15),\"\")","v":0},null,{"$f":"IF(INDIRECT(ADDRESS(321,5+(Y5*2),1,1,\"Cars & Results\"),TRUE)=\"Y\",IF(ISERROR(MATCH(INDIRECT(ADDRESS(320,5+(Y5*2),1,1,\"Cars & Results\"),TRUE),H7:H15,0))=TRUE,0,15),\"\")","v":0},null,{"$f":"IF(INDIRECT(ADDRESS(321,5+(AA5*2),1,1,\"Cars & Results\"),TRUE)=\"Y\",IF(ISERROR(MATCH(INDIRECT(ADDRESS(320,5+(AA5*2),1,1,\"Cars & Results\"),TRUE),I7:I15,0))=TRUE,0,15),\"\")","v":0}]
[null,{"$f":"SUM(B7:B15)","v":308},324,337,420,390,391,347,355,null,null,null,{"$f":"SUM(M7:M15)","v":207},null,{"$f":"SUM(O7:O15)","v":220},null,{"$f":"SUM(Q7:Q15)","v":202},null,{"$f":"SUM(S7:S15)","v":221},null,{"$f":"SUM(U7:U15)","v":151},null,{"$f":"SUM(W7:W15)","v":160},null,{"$f":"SUM(Y7:Y15)","v":137},null,{"$f":"SUM(AA7:AA15)","v":133}]
[null,null,null,null,null,null,null,null,null,null,null,null,null,{"$f":"SUM(N7:N19)","v":69},null,{"$f":"SUM(P7:P19)","v":55},null,{"$f":"SUM(R7:R19)","v":70},null,{"$f":"SUM(T7:T19)","v":47.5},null,{"$f":"SUM(V7:V19)","v":0},null,{"$f":"SUM(X7:X19)","v":10},null,{"$f":"SUM(Z7:Z19)","v":0},null,{"$f":"SUM(AB7:AB19)","v":0}]
[null,null,null,null,null,null,null,null,null,null,null,"Race Total",{"$f":"M19+N20","v":276},null,{"$f":"O19+P20","v":275},null,{"$f":"Q19+R20","v":272},null,{"$f":"S19+T20","v":268.5},null,{"$f":"U19+V20","v":151},null,{"$f":"W19+X20","v":170},null,{"$f":"Y19+Z20","v":137},null,{"$f":"AA19+AB20","v":133},null,{"$f":"SUM(M21:AB21)","v":1682.5}]
[null,null,null,null,null,null,null,null,"1-8"]
[null,null,null,null,null,null,null,null,"9-16"]
[null,null,null,null,null,null,null,null,"17-23"]
[null,null,null,null,null,null,null,null,"24-30"]
[null,null,null,null,null,null,null,null,"31-35"]
[null,null,null,null,null,null,null,null,">35"]
[null,null,null,null,null,null,null,null,"Provisional"]

{"sheet":"Steve Sheppard","index":15,"n_rows":28,"n_cols":29,"rows_kept":28,"cut":false,"hidden":false,"merged":[[20,24,20,25],[4,22,4,23],[0,26,0,27],[1,26,1,27],[2,26,2,27],[3,26,3,27],[4,26,4,27],[20,26,20,27],[0,24,0,25],[3,24,3,25],[3,14,3,15],[3,16,3,17],[20,12,20,13],[20,14,20,15],[20,16,20,17],[4,12,4,13],[4,14,4,15],[4,16,4,17],[2,12,2,13],[2,14,2,15],[2,16,2,17],[0,20,0,21],[4,24,4,25],[4,20,4,21],[0,22,0,23],[0,12,0,13],[0,14,0,15],[0,16,0,17],[1,12,1,13],[1,14,1,15],[1,16,1,17],[0,18,0,19],[4,18,4,19],[3,12,3,13],[1,18,1,19],[1,20,1,21],[1,24,1,25],[2,20,2,21],[2,22,2,23],[2,24,2,25],[1,22,1,23],[2,18,2,19],[20,18,20,19],[20,20,20,21],[3,18,3,19],[3,20,3,21],[3,22,3,23],[20,22,20,23]]}
[null,null,null,null,null,null,null,null,null,null,null,null,{"$f":"VLOOKUP(M$5,Schedule!$A$8:$G$44,2,FALSE)","v":"2018-07-14"},null,{"$f":"VLOOKUP(O$5,Schedule!$A$8:$G$44,2,FALSE)","v":"2018-07-22"},null,{"$f":"VLOOKUP(Q$5,Schedule!$A$8:$G$44,2,FALSE)","v":"2018-07-29"},null,{"$f":"VLOOKUP(S$5,Schedule!$A$8:$G$44,2,FALSE)","v":"2018-08-05"},null,{"$f":"VLOOKUP(U$5,Schedule!$A$8:$G$44,2,FALSE)","v":"2018-08-12"},null,{"$f":"VLOOKUP(W$5,Schedule!$A$8:$G$44,2,FALSE)","v":"2018-08-18"},null,{"$f":"VLOOKUP(Y$5,Schedule!$A$8:$G$44,2,FALSE)","v":"2018-09-02"},null,{"$f":"VLOOKUP(AA$5,Schedule!$A$8:$G$44,2,FALSE)","v":"2018-09-09"}]
[null,null,null,null,null,null,null,null,null,null,null,null,{"$f":"VLOOKUP(M$5,Schedule!$A$8:$G$44,3,FALSE)","v":"Quaker State 400"},null,{"$f":"VLOOKUP(O$5,Schedule!$A$8:$G$44,3,FALSE)","v":"New Hampshire 301"},null,{"$f":"VLOOKUP(Q$5,Schedule!$A$8:$G$44,3,FALSE)","v":"Gander Outdoors 400"},null,{"$f":"VLOOKUP(S$5,Schedule!$A$8:$G$44,3,FALSE)","v":"Go Bowling at The Glen"},null,{"$f":"VLOOKUP(U$5,Schedule!$A$8:$G$44,3,FALSE)","v":"Pure Michigan 400"},null,{"$f":"VLOOKUP(W$5,Schedule!$A$8:$G$44,3,FALSE)","v":"Bass Pro Shops NRA Night Race"},null,{"$f":"VLOOKUP(Y$5,Schedule!$A$8:$G$44,3,FALSE)","v":"Bojangles' Southern 500"},null,{"$f":"VLOOKUP(AA$5,Schedule!$A$8:$G$44,3,FALSE)","v":"Big Machine Vodka 400 at the Brickyard"}]
[null,null,null,null,null,null,null,null,null,null,null,null,{"$f":"VLOOKUP(M$5,Schedule!$A$8:$G$44,7,FALSE)","v":"1900-06-08"},null,{"$f":"VLOOKUP(O$5,Schedule!$A$8:$G$44,7,FALSE)","v":"1900-05-29"},null,{"$f":"VLOOKUP(Q$5,Schedule!$A$8:$G$44,7,FALSE)","v":"1900-04-09"},null,{"$f":"VLOOKUP(S$5,Schedule!$A$8:$G$44,7,FALSE)","v":"1900-02-09"},null,{"$f":"VLOOKUP(U$5,Schedule!$A$8:$G$44,7,FALSE)","v":"1900-04-29"},null,{"$f":"VLOOKUP(W$5,Schedule!$A$8:$G$44,7,FALSE)","v":"1900-09-06"},null,{"$f":"VLOOKUP(Y$5,Schedule!$A$8:$G$44,7,FALSE)","v":"1900-07-18"},null,{"$f":"VLOOKUP(AA$5,Schedule!$A$8:$G$44,7,FALSE)","v":"1900-04-09"}]
[null,null,null,null,null,null,null,null,null,null,null,null,{"$f":"VLOOKUP(M$5,Schedule!$A$4:$G$44,4,FALSE)","v":"Kentucky Speedway"},null,{"$f":"VLOOKUP(O$5,Schedule!$A$4:$G$44,4,FALSE)","v":"New Hampshire Motor Speedway"},null,{"$f":"VLOOKUP(Q$5,Schedule!$A$4:$G$44,4,FALSE)","v":"Pocono Raceway"},null,{"$f":"VLOOKUP(S$5,Schedule!$A$4:$G$44,4,FALSE)","v":"Watkins Glen International"},null,{"$f":"VLOOKUP(U$5,Schedule!$A$4:$G$44,4,FALSE)","v":"Michigan International Speedway"},null,{"$f":"VLOOKUP(W$5,Schedule!$A$4:$G$44,4,FALSE)","v":"Bristol Motor Speedway"},null,{"$f":"VLOOKUP(Y$5,Schedule!$A$4:$G$44,4,FALSE)","v":"Darlington Raceway"},null,{"$f":"VLOOKUP(AA$5,Schedule!$A$4:$G$44,4,FALSE)","v":"Indianapolis Motor Speedway"}]
["Owner","Week","Week","Week","Week","Week","Week","Week","Week",2,3,4,19,null,20,null,21,null,22,null,23,null,24,null,25,null,26,null,"Total"]
["Points",19,20,21,22,23,24,25,26,"Driver","Make","Sponsor","Points","Bonus","Points","Bonus","Points","Bonus","Points","Bonus","Points","Bonus","Points","Bonus","Points","Bonus","Points","Bonus","Points"]
[{"$f":"VLOOKUP(HLOOKUP('Pick Distribution'!$P$2,$B$6:$I$15,$J$5),'Current Owner Standings'!$A$71:$B$480,2,FALSE)","v":1},4,4,4,4,4,18,18,18,{"$f":"IF(ISNA(VLOOKUP($I7,'Cars & Results'!$A$6:$I$317,J$5,FALSE)),\"Invalid Number\",VLOOKUP($I7,'Cars & Results'!$A$6:$K$317,J$5,FALSE))","v":"Kyle Busch"},{"$f":"IF(ISNA(VLOOKUP($I7,'Cars & Results'!$A$6:$I$317,K$5,FALSE)),\"Invalid Number\",VLOOKUP($I7,'Cars & Results'!$A$6:$K$317,K$5,FALSE))","v":"Toyota"},{"$f":"IF(ISNA(VLOOKUP($I7,'Cars & Results'!$A$6:$I$317,L$5,FALSE)),\"Invalid Number\",VLOOKUP($I7,'Cars & Results'!$A$6:$K$317,L$5,FALSE))","v":"Joe Gibbs Racing"},{"$f":"IF(HLOOKUP(M$5,$B$6:$I$15,Points!$A3+1,FALSE)=\"TBD\",\"\",VLOOKUP(HLOOKUP(M$5,$B$6:$I$15,Points!$A3+1,FALSE),'Cars & Results'!$A$7:$BZ$317,2*M$5+6,FALSE))","v":48},{"$f":"IF(HLOOKUP(M$5,$B$6:$I$15,Points!$A3+1,FALSE)=\"TBD\",\"\",0)","v":0},{"$f":"IF(HLOOKUP(O$5,$B$6:$I$15,Points!$A3+1,FALSE)=\"TBD\",\"\",VLOOKUP(HLOOKUP(O$5,$B$6:$I$15,Points!$A3+1,FALSE),'Cars & Results'!$A$7:$BZ$317,2*O$5+6,FALSE))","v":51},{"$f":"IF(HLOOKUP(O$5,$B$6:$I$15,Points!$A3+1,FALSE)=\"TBD\",\"\",0)","v":0},{"$f":"IF(HLOOKUP(Q$5,$B$6:$I$15,Points!$A3+1,FALSE)=\"TBD\",\"\",VLOOKUP(HLOOKUP(Q$5,$B$6:$I$15,Points!$A3+1,FALSE),'Cars & Results'!$A$7:$BZ$317,2*Q$5+6,FALSE))","v":52},{"$f":"IF(HLOOKUP(Q$5,$B$6:$I$15,Points!$A3+1,FALSE)=\"TBD\",\"\",0)","v":0},{"$f":"IF(HLOOKUP(S$5,$B$6:$I$15,Points!$A3+1,FALSE)=\"TBD\",\"\",VLOOKUP(HLOOKUP(S$5,$B$6:$I$15,Points!$A3+1,FALSE),'Cars & Results'!$A$7:$BZ$317,2*S$5+6,FALSE))","v":31},{"$f":"IF(HLOOKUP(S$5,$B$6:$I$15,Points!$A3+1,FALSE)=\"TBD\",\"\",0)","v":0},{"$f":"IF(HLOOKUP(U$5,$B$6:$I$15,Points!$A3+1,FALSE)=\"TBD\",\"\",VLOOKUP(HLOOKUP(U$5,$B$6:$I$15,Points!$A3+1,FALSE),'Cars & Results'!$A$7:$BZ$317,2*U$5+6,FALSE))","v":60},{"$f":"IF(HLOOKUP(U$5,$B$6:$I$15,Points!$A3+1,FALSE)=\"TBD\",\"\",0)","v":0},{"$f":"IF(HLOOKUP(W$5,$B$6:$I$15,Points!$A3+1,FALSE)=\"TBD\",\"\",VLOOKUP(HLOOKUP(W$5,$B$6:$I$15,Points!$A3+1,FALSE),'Cars & Results'!$A$7:$BZ$317,2*W$5+6,FALSE))","v":17},{"$f":"IF(HLOOKUP(W$5,$B$6:$I$15,Points!$A3+1,FALSE)=\"TBD\",\"\",0)","v":0},{"$f":"IF(HLOOKUP(Y$5,$B$6:$I$15,Points!$A3+1,FALSE)=\"TBD\",\"\",VLOOKUP(HLOOKUP(Y$5,$B$6:$I$15,Points!$A3+1,FALSE),'Cars & Results'!$A$7:$BZ$317,2*Y$5+6,FALSE))","v":35},{"$f":"IF(HLOOKUP(Y$5,$B$6:$I$15,Points!$A3+1,FALSE)=\"TBD\",\"\",0)","v":0},{"$f":"IF(HLOOKUP(AA$5,$B$6:$I$15,Points!$A3+1,FALSE)=\"TBD\",\"\",VLOOKUP(HLOOKUP(AA$5,$B$6:$I$15,Points!$A3+1,FALSE),'Cars & Results'!$A$7:$BZ$317,2*AA$5+6,FALSE))","v":35},{"$f":"IF(HLOOKUP(AA$5,$B$6:$I$15,Points!$A3+1,FALSE)=\"TBD\",\"\",0)","v":0}]
[{"$f":"VLOOKUP(HLOOKUP('Pick Distribution'!$P$2,$B$6:$I$15,3),'Current Owner Standings'!$A$71:$B$480,2,FALSE)","v":11},17,9,9,9,9,9,9,9,{"$f":"IF(ISNA(VLOOKUP($I8,'Cars & Results'!$A$6:$I$317,J$5,FALSE)),\"Invalid Number\",VLOOKUP($I8,'Cars & Results'!$A$6:$K$317,J$5,FALSE))","v":"Chase Elliott"},{"$f":"IF(ISNA(VLOOKUP($I8,'Cars & Results'!$A$6:$I$317,K$5,FALSE)),\"Invalid Number\",VLOOKUP($I8,'Cars & Results'!$A$6:$K$317,K$5,FALSE))","v":"Chevrolet"},{"$f":"IF(ISNA(VLOOKUP($I8,'Cars & Results'!$A$6:$I$317,L$5,FALSE)),\"Invalid Number\",VLOOKUP($I8,'Cars & Results'!$A$6:$K$317,L$5,FALSE))","v":"Hendrick Motorsports"},{"$f":"IF(HLOOKUP(M$5,$B$6:$I$15,Points!$A4+1,FALSE)=\"TBD\",\"\",VLOOKUP(HLOOKUP(M$5,$B$6:$I$15,Points!$A4+1,FALSE),'Cars & Results'!$A$7:$BZ$317,2*M$5+6,FALSE))","v":11},{"$f":"IF(HLOOKUP(M$5,$B$6:$I$15,Points!$A4+1,FALSE)=\"TBD\",\"\",IF(VLOOKUP(HLOOKUP(M$5,$B$6:$I$15,Points!$A4+1,FALSE),'Cars & Results'!$A$7:$BZ$317,2*M$5+5)=1,M8*0.25,0))","v":0},{"$f":"IF(HLOOKUP(O$5,$B$6:$I$15,Points!$A4+1,FALSE)=\"TBD\",\"\",VLOOKUP(HLOOKUP(O$5,$B$6:$I$15,Points!$A4+1,FALSE),'Cars & Results'!$A$7:$BZ$317,2*O$5+6,FALSE))","v":51},{"$f":"IF(HLOOKUP(O$5,$B$6:$I$15,Points!$A4+1,FALSE)=\"TBD\",\"\",IF(VLOOKUP(HLOOKUP(O$5,$B$6:$I$15,Points!$A4+1,FALSE),'Cars & Results'!$A$7:$BZ$317,2*O$5+5)=1,O8*0.25,0))","v":0},{"$f":"IF(HLOOKUP(Q$5,$B$6:$I$15,Points!$A4+1,FALSE)=\"TBD\",\"\",VLOOKUP(HLOOKUP(Q$5,$B$6:$I$15,Points!$A4+1,FALSE),'Cars & Results'!$A$7:$BZ$317,2*Q$5+6,FALSE))","v":49},{"$f":"IF(HLOOKUP(Q$5,$B$6:$I$15,Points!$A4+1,FALSE)=\"TBD\",\"\",IF(VLOOKUP(HLOOKUP(Q$5,$B$6:$I$15,Points!$A4+1,FALSE),'Cars & Results'!$A$7:$BZ$317,2*Q$5+5)=1,Q8*0.25,0))","v":0},{"$f":"IF(HLOOKUP(S$5,$B$6:$I$15,Points!$A4+1,FALSE)=\"TBD\",\"\",VLOOKUP(HLOOKUP(S$5,$B$6:$I$15,Points!$A4+1,FALSE),'Cars & Results'!$A$7:$BZ$317,2*S$5+6,FALSE))","v":50},{"$f":"IF(HLOOKUP(S$5,$B$6:$I$15,Points!$A4+1,FALSE)=\"TBD\",\"\",IF(VLOOKUP(HLOOKUP(S$5,$B$6:$I$15,Points!$A4+1,FALSE),'Cars & Results'!$A$7:$BZ$317,2*S$5+5)=1,S8*0.25,0))","v":12.5},{"$f":"IF(HLOOKUP(U$5,$B$6:$I$15,Points!$A4+1,FALSE)=\"TBD\",\"\",VLOOKUP(HLOOKUP(U$5,$B$6:$I$15,Points!$A4+1,FALSE),'Cars & Results'!$A$7:$BZ$317,2*U$5+6,FALSE))","v":28},{"$f":"IF(HLOOKUP(U$5,$B$6:$I$15,Points!$A4+1,FALSE)=\"TBD\",\"\",IF(VLOOKUP(HLOOKUP(U$5,$B$6:$I$15,Points!$A4+1,FALSE),'Cars & Results'!$A$7:$BZ$317,2*U$5+5)=1,U8*0.25,0))","v":0},{"$f":"IF(HLOOKUP(W$5,$B$6:$I$15,Points!$A4+1,FALSE)=\"TBD\",\"\",VLOOKUP(HLOOKUP(W$5,$B$6:$I$15,Points!$A4+1,FALSE),'Cars & Results'!$A$7:$BZ$317,2*W$5+6,FALSE))","v":50},{"$f":"IF(HLOOKUP(W$5,$B$6:$I$15,Points!$A4+1,FALSE)=\"TBD\",\"\",IF(VLOOKUP(HLOOKUP(W$5,$B$6:$I$15,Points!$A4+1,FALSE),'Cars & Results'!$A$7:$BZ$317,2*W$5+5)=1,W8*0.25,0))","v":0},{"$f":"IF(HLOOKUP(Y$5,$B$6:$I$15,Points!$A4+1,FALSE)=\"TBD\",\"\",VLOOKUP(HLOOKUP(Y$5,$B$6:$I$15,Points!$A4+1,FALSE),'Cars & Results'!$A$7:$BZ$317,2*Y$5+6,FALSE))","v":40},{"$f":"IF(HLOOKUP(Y$5,$B$6:$I$15,Points!$A4+1,FALSE)=\"TBD\",\"\",IF(VLOOKUP(HLOOKUP(Y$5,$B$6:$I$15,Points!$A4+1,FALSE),'Cars & Results'!$A$7:$BZ$317,2*Y$5+5)=1,Y8*0.25,0))","v":0},{"$f":"IF(HLOOKUP(AA$5,$B$6:$I$15,Points!$A4+1,FALSE)=\"TBD\",\"\",VLOOKUP(HLOOKUP(AA$5,$B$6:$I$15,Points!$A4+1,FALSE),'Cars & Results'!$A$7:$BZ$317,2*AA$5+6,FALSE))","v":33},{"$f":"IF(HLOOKUP(AA$5,$B$6:$I$15,Points!$A4+1,FALSE)=\"TBD\",\"\",IF(VLOOKUP(HLOOKUP(AA$5,$B$6:$I$15,Points!$A4+1,FALSE),'Cars & Results'!$A$7:$BZ$317,2*AA$5+5)=1,AA8*0.25,0))","v":0}]
[{"$f":"VLOOKUP(HLOOKUP('Pick Distribution'!$P$2,$B$6:$I$15,4),'Current Owner Standings'!$A$71:$B$480,2,FALSE)","v":17},19,31,31,31,31,31,31,31,{"$f":"IF(ISNA(VLOOKUP($I9,'Cars & Results'!$A$6:$I$317,J$5,FALSE)),\"Invalid Number\",VLOOKUP($I9,'Cars & Results'!$A$6:$K$317,J$5,FALSE))","v":"Ryan Newman"},{"$f":"IF(ISNA(VLOOKUP($I9,'Cars & Results'!$A$6:$I$317,K$5,FALSE)),\"Invalid Number\",VLOOKUP($I9,'Cars & Results'!$A$6:$K$317,K$5,FALSE))","v":"Chevrolet"},{"$f":"IF(ISNA(VLOOKUP($I9,'Cars & Results'!$A$6:$I$317,L$5,FALSE)),\"Invalid Number\",VLOOKUP($I9,'Cars & Results'!$A$6:$K$317,L$5,FALSE))","v":"Richard Childress Racing"},{"$f":"IF(HLOOKUP(M$5,$B$6:$I$15,Points!$A5+1,FALSE)=\"TBD\",\"\",VLOOKUP(HLOOKUP(M$5,$B$6:$I$15,Points!$A5+1,FALSE),'Cars & Results'!$A$7:$BZ$317,2*M$5+6,FALSE))","v":26},{"$f":"IF(HLOOKUP(M$5,$B$6:$I$15,Points!$A5+1,FALSE)=\"TBD\",\"\",IF(VLOOKUP(HLOOKUP(M$5,$B$6:$I$15,Points!$A5+1,FALSE),'Cars & Results'!$A$7:$BZ$317,2*M$5+5)<=5,M9*0.5,0))","v":0},{"$f":"IF(HLOOKUP(O$5,$B$6:$I$15,Points!$A5+1,FALSE)=\"TBD\",\"\",VLOOKUP(HLOOKUP(O$5,$B$6:$I$15,Points!$A5+1,FALSE),'Cars & Results'!$A$7:$BZ$317,2*O$5+6,FALSE))","v":31},{"$f":"IF(HLOOKUP(O$5,$B$6:$I$15,Points!$A5+1,FALSE)=\"TBD\",\"\",IF(VLOOKUP(HLOOKUP(O$5,$B$6:$I$15,Points!$A5+1,FALSE),'Cars & Results'!$A$7:$BZ$317,2*O$5+5)<=5,O9*0.5,0))","v":0},{"$f":"IF(HLOOKUP(Q$5,$B$6:$I$15,Points!$A5+1,FALSE)=\"TBD\",\"\",VLOOKUP(HLOOKUP(Q$5,$B$6:$I$15,Points!$A5+1,FALSE),'Cars & Results'!$A$7:$BZ$317,2*Q$5+6,FALSE))","v":29},{"$f":"IF(HLOOKUP(Q$5,$B$6:$I$15,Points!$A5+1,FALSE)=\"TBD\",\"\",IF(VLOOKUP(HLOOKUP(Q$5,$B$6:$I$15,Points!$A5+1,FALSE),'Cars & Results'!$A$7:$BZ$317,2*Q$5+5)<=5,Q9*0.5,0))","v":0},{"$f":"IF(HLOOKUP(S$5,$B$6:$I$15,Points!$A5+1,FALSE)=\"TBD\",\"\",VLOOKUP(HLOOKUP(S$5,$B$6:$I$15,Points!$A5+1,FALSE),'Cars & Results'!$A$7:$BZ$317,2*S$5+6,FALSE))","v":18},{"$f":"IF(HLOOKUP(S$5,$B$6:$I$15,Points!$A5+1,FALSE)=\"TBD\",\"\",IF(VLOOKUP(HLOOKUP(S$5,$B$6:$I$15,Points!$A5+1,FALSE),'Cars & Results'!$A$7:$BZ$317,2*S$5+5)<=5,S9*0.5,0))","v":0},{"$f":"IF(HLOOKUP(U$5,$B$6:$I$15,Points!$A5+1,FALSE)=\"TBD\",\"\",VLOOKUP(HLOOKUP(U$5,$B$6:$I$15,Points!$A5+1,FALSE),'Cars & Results'!$A$7:$BZ$317,2*U$5+6,FALSE))","v":25},{"$f":"IF(HLOOKUP(U$5,$B$6:$I$15,Points!$A5+1,FALSE)=\"TBD\",\"\",IF(VLOOKUP(HLOOKUP(U$5,$B$6:$I$15,Points!$A5+1,FALSE),'Cars & Results'!$A$7:$BZ$317,2*U$5+5)<=5,U9*0.5,0))","v":0},{"$f":"IF(HLOOKUP(W$5,$B$6:$I$15,Points!$A5+1,FALSE)=\"TBD\",\"\",VLOOKUP(HLOOKUP(W$5,$B$6:$I$15,Points!$A5+1,FALSE),'Cars & Results'!$A$7:$BZ$317,2*W$5+6,FALSE))","v":25},{"$f":"IF(HLOOKUP(W$5,$B$6:$I$15,Points!$A5+1,FALSE)=\"TBD\",\"\",IF(VLOOKUP(HLOOKUP(W$5,$B$6:$I$15,Points!$A5+1,FALSE),'Cars & Results'!$A$7:$BZ$317,2*W$5+5)<=5,W9*0.5,0))","v":0},{"$f":"IF(HLOOKUP(Y$5,$B$6:$I$15,Points!$A5+1,FALSE)=\"TBD\",\"\",VLOOKUP(HLOOKUP(Y$5,$B$6:$I$15,Points!$A5+1,FALSE),'Cars & Results'!$A$7:$BZ$317,2*Y$5+6,FALSE))","v":18},{"$f":"IF(HLOOKUP(Y$5,$B$6:$I$15,Points!$A5+1,FALSE)=\"TBD\",\"\",IF(VLOOKUP(HLOOKUP(Y$5,$B$6:$I$15,Points!$A5+1,FALSE),'Cars & Results'!$A$7:$BZ$317,2*Y$5+5)<=5,Y9*0.5,0))","v":0},{"$f":"IF(HLOOKUP(AA$5,$B$6:$I$15,Points!$A5+1,FALSE)=\"TBD\",\"\",VLOOKUP(HLOOKUP(AA$5,$B$6:$I$15,Points!$A5+1,FALSE),'Cars & Results'!$A$7:$BZ$317,2*AA$5+6,FALSE))","v":29},{"$f":"IF(HLOOKUP(AA$5,$B$6:$I$15,Points!$A5+1,FALSE)=\"TBD\",\"\",IF(VLOOKUP(HLOOKUP(AA$5,$B$6:$I$15,Points!$A5+1,FALSE),'Cars & Results'!$A$7:$BZ$317,2*AA$5+5)<=5,AA9*0.5,0))","v":0}]
[{"$f":"VLOOKUP(HLOOKUP('Pick Distribution'!$P$2,$B$6:$I$15,5),'Current Owner Standings'!$A$71:$B$480,2,FALSE)","v":19},1,21,21,21,21,21,21,21,{"$f":"IF(ISNA(VLOOKUP($I10,'Cars & Results'!$A$6:$I$317,J$5,FALSE)),\"Invalid Number\",VLOOKUP($I10,'Cars & Results'!$A$6:$K$317,J$5,FALSE))","v":"Paul Menard"},{"$f":"IF(ISNA(VLOOKUP($I10,'Cars & Results'!$A$6:$I$317,K$5,FALSE)),\"Invalid Number\",VLOOKUP($I10,'Cars & Results'!$A$6:$K$317,K$5,FALSE))","v":"Ford"},{"$f":"IF(ISNA(VLOOKUP($I10,'Cars & Results'!$A$6:$I$317,L$5,FALSE)),\"Invalid Number\",VLOOKUP($I10,'Cars & Results'!$A$6:$K$317,L$5,FALSE))","v":"Wood Brothers Racing"},{"$f":"IF(HLOOKUP(M$5,$B$6:$I$15,Points!$A6+1,FALSE)=\"TBD\",\"\",VLOOKUP(HLOOKUP(M$5,$B$6:$I$15,Points!$A6+1,FALSE),'Cars & Results'!$A$7:$BZ$317,2*M$5+6,FALSE))","v":20},{"$f":"IF(HLOOKUP(M$5,$B$6:$I$15,Points!$A6+1,FALSE)=\"TBD\",\"\",IF(VLOOKUP(HLOOKUP(M$5,$B$6:$I$15,Points!$A6+1,FALSE),'Cars & Results'!$A$7:$BZ$317,2*M$5+5)<=5,M10*0.5,0))","v":0},{"$f":"IF(HLOOKUP(O$5,$B$6:$I$15,Points!$A6+1,FALSE)=\"TBD\",\"\",VLOOKUP(HLOOKUP(O$5,$B$6:$I$15,Points!$A6+1,FALSE),'Cars & Results'!$A$7:$BZ$317,2*O$5+6,FALSE))","v":20},{"$f":"IF(HLOOKUP(O$5,$B$6:$I$15,Points!$A6+1,FALSE)=\"TBD\",\"\",IF(VLOOKUP(HLOOKUP(O$5,$B$6:$I$15,Points!$A6+1,FALSE),'Cars & Results'!$A$7:$BZ$317,2*O$5+5)<=5,O10*0.5,0))","v":0},{"$f":"IF(HLOOKUP(Q$5,$B$6:$I$15,Points!$A6+1,FALSE)=\"TBD\",\"\",VLOOKUP(HLOOKUP(Q$5,$B$6:$I$15,Points!$A6+1,FALSE),'Cars & Results'!$A$7:$BZ$317,2*Q$5+6,FALSE))","v":16},{"$f":"IF(HLOOKUP(Q$5,$B$6:$I$15,Points!$A6+1,FALSE)=\"TBD\",\"\",IF(VLOOKUP(HLOOKUP(Q$5,$B$6:$I$15,Points!$A6+1,FALSE),'Cars & Results'!$A$7:$BZ$317,2*Q$5+5)<=5,Q10*0.5,0))","v":0},{"$f":"IF(HLOOKUP(S$5,$B$6:$I$15,Points!$A6+1,FALSE)=\"TBD\",\"\",VLOOKUP(HLOOKUP(S$5,$B$6:$I$15,Points!$A6+1,FALSE),'Cars & Results'!$A$7:$BZ$317,2*S$5+6,FALSE))","v":11},{"$f":"IF(HLOOKUP(S$5,$B$6:$I$15,Points!$A6+1,FALSE)=\"TBD\",\"\",IF(VLOOKUP(HLOOKUP(S$5,$B$6:$I$15,Points!$A6+1,FALSE),'Cars & Results'!$A$7:$BZ$317,2*S$5+5)<=5,S10*0.5,0))","v":0},{"$f":"IF(HLOOKUP(U$5,$B$6:$I$15,Points!$A6+1,FALSE)=\"TBD\",\"\",VLOOKUP(HLOOKUP(U$5,$B$6:$I$15,Points!$A6+1,FALSE),'Cars & Results'!$A$7:$BZ$317,2*U$5+6,FALSE))","v":21},{"$f":"IF(HLOOKUP(U$5,$B$6:$I$15,Points!$A6+1,FALSE)=\"TBD\",\"\",IF(VLOOKUP(HLOOKUP(U$5,$B$6:$I$15,Points!$A6+1,FALSE),'Cars & Results'!$A$7:$BZ$317,2*U$5+5)<=5,U10*0.5,0))","v":0},{"$f":"IF(HLOOKUP(W$5,$B$6:$I$15,Points!$A6+1,FALSE)=\"TBD\",\"\",VLOOKUP(HLOOKUP(W$5,$B$6:$I$15,Points!$A6+1,FALSE),'Cars & Results'!$A$7:$BZ$317,2*W$5+6,FALSE))","v":1},{"$f":"IF(HLOOKUP(W$5,$B$6:$I$15,Points!$A6+1,FALSE)=\"TBD\",\"\",IF(VLOOKUP(HLOOKUP(W$5,$B$6:$I$15,Points!$A6+1,FALSE),'Cars & Results'!$A$7:$BZ$317,2*W$5+5)<=5,W10*0.5,0))","v":0},{"$f":"IF(HLOOKUP(Y$5,$B$6:$I$15,Points!$A6+1,FALSE)=\"TBD\",\"\",VLOOKUP(HLOOKUP(Y$5,$B$6:$I$15,Points!$A6+1,FALSE),'Cars & Results'!$A$7:$BZ$317,2*Y$5+6,FALSE))","v":20},{"$f":"IF(HLOOKUP(Y$5,$B$6:$I$15,Points!$A6+1,FALSE)=\"TBD\",\"\",IF(VLOOKUP(HLOOKUP(Y$5,$B$6:$I$15,Points!$A6+1,FALSE),'Cars & Results'!$A$7:$BZ$317,2*Y$5+5)<=5,Y10*0.5,0))","v":0},{"$f":"IF(HLOOKUP(AA$5,$B$6:$I$15,Points!$A6+1,FALSE)=\"TBD\",\"\",VLOOKUP(HLOOKUP(AA$5,$B$6:$I$15,Points!$A6+1,FALSE),'Cars & Results'!$A$7:$BZ$317,2*AA$5+6,FALSE))","v":31},{"$f":"IF(HLOOKUP(AA$5,$B$6:$I$15,Points!$A6+1,FALSE)=\"TBD\",\"\",IF(VLOOKUP(HLOOKUP(AA$5,$B$6:$I$15,Points!$A6+1,FALSE),'Cars & Results'!$A$7:$BZ$317,2*AA$5+5)<=5,AA10*0.5,0))","v":0}]
[{"$f":"VLOOKUP(HLOOKUP('Pick Distribution'!$P$2,$B$6:$I$15,6),'Current Owner Standings'!$A$71:$B$480,2,FALSE)","v":28},43,43,43,43,43,43,43,43,{"$f":"IF(ISNA(VLOOKUP($I11,'Cars & Results'!$A$6:$I$317,J$5,FALSE)),\"Invalid Number\",VLOOKUP($I11,'Cars & Results'!$A$6:$K$317,J$5,FALSE))","v":"Darrell Wallace Jr. (R)"},{"$f":"IF(ISNA(VLOOKUP($I11,'Cars & Results'!$A$6:$I$317,K$5,FALSE)),\"Invalid Number\",VLOOKUP($I11,'Cars & Results'!$A$6:$K$317,K$5,FALSE))","v":"Chevrolet"},{"$f":"IF(ISNA(VLOOKUP($I11,'Cars & Results'!$A$6:$I$317,L$5,FALSE)),\"Invalid Number\",VLOOKUP($I11,'Cars & Results'!$A$6:$K$317,L$5,FALSE))","v":"Richard Petty Motorsports"},{"$f":"IF(HLOOKUP(M$5,$B$6:$I$15,Points!$A7+1,FALSE)=\"TBD\",\"\",VLOOKUP(HLOOKUP(M$5,$B$6:$I$15,Points!$A7+1,FALSE),'Cars & Results'!$A$7:$BZ$317,2*M$5+6,FALSE))","v":10},{"$f":"IF(HLOOKUP(M$5,$B$6:$I$15,Points!$A7+1,FALSE)=\"TBD\",\"\",IF(VLOOKUP(HLOOKUP(M$5,$B$6:$I$15,Points!$A7+1,FALSE),'Cars & Results'!$A$7:$BZ$317,2*M$5+5)<=10,M11*1.5,0))","v":0},{"$f":"IF(HLOOKUP(O$5,$B$6:$I$15,Points!$A7+1,FALSE)=\"TBD\",\"\",VLOOKUP(HLOOKUP(O$5,$B$6:$I$15,Points!$A7+1,FALSE),'Cars & Results'!$A$7:$BZ$317,2*O$5+6,FALSE))","v":13},{"$f":"IF(HLOOKUP(O$5,$B$6:$I$15,Points!$A7+1,FALSE)=\"TBD\",\"\",IF(VLOOKUP(HLOOKUP(O$5,$B$6:$I$15,Points!$A7+1,FALSE),'Cars & Results'!$A$7:$BZ$317,2*O$5+5)<=10,O11*1.5,0))","v":0},{"$f":"IF(HLOOKUP(Q$5,$B$6:$I$15,Points!$A7+1,FALSE)=\"TBD\",\"\",VLOOKUP(HLOOKUP(Q$5,$B$6:$I$15,Points!$A7+1,FALSE),'Cars & Results'!$A$7:$BZ$317,2*Q$5+6,FALSE))","v":4},{"$f":"IF(HLOOKUP(Q$5,$B$6:$I$15,Points!$A7+1,FALSE)=\"TBD\",\"\",IF(VLOOKUP(HLOOKUP(Q$5,$B$6:$I$15,Points!$A7+1,FALSE),'Cars & Results'!$A$7:$BZ$317,2*Q$5+5)<=10,Q11*1.5,0))","v":0},{"$f":"IF(HLOOKUP(S$5,$B$6:$I$15,Points!$A7+1,FALSE)=\"TBD\",\"\",VLOOKUP(HLOOKUP(S$5,$B$6:$I$15,Points!$A7+1,FALSE),'Cars & Results'!$A$7:$BZ$317,2*S$5+6,FALSE))","v":12},{"$f":"IF(HLOOKUP(S$5,$B$6:$I$15,Points!$A7+1,FALSE)=\"TBD\",\"\",IF(VLOOKUP(HLOOKUP(S$5,$B$6:$I$15,Points!$A7+1,FALSE),'Cars & Results'!$A$7:$BZ$317,2*S$5+5)<=10,S11*1.5,0))","v":0},{"$f":"IF(HLOOKUP(U$5,$B$6:$I$15,Points!$A7+1,FALSE)=\"TBD\",\"\",VLOOKUP(HLOOKUP(U$5,$B$6:$I$15,Points!$A7+1,FALSE),'Cars & Results'!$A$7:$BZ$317,2*U$5+6,FALSE))","v":14},{"$f":"IF(HLOOKUP(U$5,$B$6:$I$15,Points!$A7+1,FALSE)=\"TBD\",\"\",IF(VLOOKUP(HLOOKUP(U$5,$B$6:$I$15,Points!$A7+1,FALSE),'Cars & Results'!$A$7:$BZ$317,2*U$5+5)<=10,U11*1.5,0))","v":0},{"$f":"IF(HLOOKUP(W$5,$B$6:$I$15,Points!$A7+1,FALSE)=\"TBD\",\"\",VLOOKUP(HLOOKUP(W$5,$B$6:$I$15,Points!$A7+1,FALSE),'Cars & Results'!$A$7:$BZ$317,2*W$5+6,FALSE))","v":1},{"$f":"IF(HLOOKUP(W$5,$B$6:$I$15,Points!$A7+1,FALSE)=\"TBD\",\"\",IF(VLOOKUP(HLOOKUP(W$5,$B$6:$I$15,Points!$A7+1,FALSE),'Cars & Results'!$A$7:$BZ$317,2*W$5+5)<=10,W11*1.5,0))","v":0},{"$f":"IF(HLOOKUP(Y$5,$B$6:$I$15,Points!$A7+1,FALSE)=\"TBD\",\"\",VLOOKUP(HLOOKUP(Y$5,$B$6:$I$15,Points!$A7+1,FALSE),'Cars & Results'!$A$7:$BZ$317,2*Y$5+6,FALSE))","v":11},{"$f":"IF(HLOOKUP(Y$5,$B$6:$I$15,Points!$A7+1,FALSE)=\"TBD\",\"\",IF(VLOOKUP(HLOOKUP(Y$5,$B$6:$I$15,Points!$A7+1,FALSE),'Cars & Results'!$A$7:$BZ$317,2*Y$5+5)<=10,Y11*1.5,0))","v":0},{"$f":"IF(HLOOKUP(AA$5,$B$6:$I$15,Points!$A7+1,FALSE)=\"TBD\",\"\",VLOOKUP(HLOOKUP(AA$5,$B$6:$I$15,Points!$A7+1,FALSE),'Cars & Results'!$A$7:$BZ$317,2*AA$5+6,FALSE))","v":1},{"$f":"IF(HLOOKUP(AA$5,$B$6:$I$15,Points!$A7+1,FALSE)=\"TBD\",\"\",IF(VLOOKUP(HLOOKUP(AA$5,$B$6:$I$15,Points!$A7+1,FALSE),'Cars & Results'!$A$7:$BZ$317,2*AA$5+5)<=10,AA11*1.5,0))","v":0}]
[{"$f":"VLOOKUP(HLOOKUP('Pick Distribution'!$P$2,$B$6:$I$15,7),'Current Owner Standings'!$A$71:$B$480,2,FALSE)","v":29},6,6,6,6,6,6,6,6,{"$f":"IF(ISNA(VLOOKUP($I12,'Cars & Results'!$A$6:$I$317,J$5,FALSE)),\"Invalid Number\",VLOOKUP($I12,'Cars & Results'!$A$6:$K$317,J$5,FALSE))","v":"Matt Kenseth"},{"$f":"IF(ISNA(VLOOKUP($I12,'Cars & Results'!$A$6:$I$317,K$5,FALSE)),\"Invalid Number\",VLOOKUP($I12,'Cars & Results'!$A$6:$K$317,K$5,FALSE))","v":"Ford"},{"$f":"IF(ISNA(VLOOKUP($I12,'Cars & Results'!$A$6:$I$317,L$5,FALSE)),\"Invalid Number\",VLOOKUP($I12,'Cars & Results'!$A$6:$K$317,L$5,FALSE))","v":"Roush Fenway Racing"},{"$f":"IF(HLOOKUP(M$5,$B$6:$I$15,Points!$A8+1,FALSE)=\"TBD\",\"\",VLOOKUP(HLOOKUP(M$5,$B$6:$I$15,Points!$A8+1,FALSE),'Cars & Results'!$A$7:$BZ$317,2*M$5+6,FALSE))","v":18},{"$f":"IF(HLOOKUP(M$5,$B$6:$I$15,Points!$A8+1,FALSE)=\"TBD\",\"\",IF(VLOOKUP(HLOOKUP(M$5,$B$6:$I$15,Points!$A8+1,FALSE),'Cars & Results'!$A$7:$BZ$317,2*M$5+5)<=10,M12*1.5,0))","v":0},{"$f":"IF(HLOOKUP(O$5,$B$6:$I$15,Points!$A8+1,FALSE)=\"TBD\",\"\",VLOOKUP(HLOOKUP(O$5,$B$6:$I$15,Points!$A8+1,FALSE),'Cars & Results'!$A$7:$BZ$317,2*O$5+6,FALSE))","v":22},{"$f":"IF(HLOOKUP(O$5,$B$6:$I$15,Points!$A8+1,FALSE)=\"TBD\",\"\",IF(VLOOKUP(HLOOKUP(O$5,$B$6:$I$15,Points!$A8+1,FALSE),'Cars & Results'!$A$7:$BZ$317,2*O$5+5)<=10,O12*1.5,0))","v":0},{"$f":"IF(HLOOKUP(Q$5,$B$6:$I$15,Points!$A8+1,FALSE)=\"TBD\",\"\",VLOOKUP(HLOOKUP(Q$5,$B$6:$I$15,Points!$A8+1,FALSE),'Cars & Results'!$A$7:$BZ$317,2*Q$5+6,FALSE))","v":19},{"$f":"IF(HLOOKUP(Q$5,$B$6:$I$15,Points!$A8+1,FALSE)=\"TBD\",\"\",IF(VLOOKUP(HLOOKUP(Q$5,$B$6:$I$15,Points!$A8+1,FALSE),'Cars & Results'!$A$7:$BZ$317,2*Q$5+5)<=10,Q12*1.5,0))","v":0},{"$f":"IF(HLOOKUP(S$5,$B$6:$I$15,Points!$A8+1,FALSE)=\"TBD\",\"\",VLOOKUP(HLOOKUP(S$5,$B$6:$I$15,Points!$A8+1,FALSE),'Cars & Results'!$A$7:$BZ$317,2*S$5+6,FALSE))","v":9},{"$f":"IF(HLOOKUP(S$5,$B$6:$I$15,Points!$A8+1,FALSE)=\"TBD\",\"\",IF(VLOOKUP(HLOOKUP(S$5,$B$6:$I$15,Points!$A8+1,FALSE),'Cars & Results'!$A$7:$BZ$317,2*S$5+5)<=10,S12*1.5,0))","v":0},{"$f":"IF(HLOOKUP(U$5,$B$6:$I$15,Points!$A8+1,FALSE)=\"TBD\",\"\",VLOOKUP(HLOOKUP(U$5,$B$6:$I$15,Points!$A8+1,FALSE),'Cars & Results'!$A$7:$BZ$317,2*U$5+6,FALSE))","v":3},{"$f":"IF(HLOOKUP(U$5,$B$6:$I$15,Points!$A8+1,FALSE)=\"TBD\",\"\",IF(VLOOKUP(HLOOKUP(U$5,$B$6:$I$15,Points!$A8+1,FALSE),'Cars & Results'!$A$7:$BZ$317,2*U$5+5)<=10,U12*1.5,0))","v":0},{"$f":"IF(HLOOKUP(W$5,$B$6:$I$15,Points!$A8+1,FALSE)=\"TBD\",\"\",VLOOKUP(HLOOKUP(W$5,$B$6:$I$15,Points!$A8+1,FALSE),'Cars & Results'!$A$7:$BZ$317,2*W$5+6,FALSE))","v":26},{"$f":"IF(HLOOKUP(W$5,$B$6:$I$15,Points!$A8+1,FALSE)=\"TBD\",\"\",IF(VLOOKUP(HLOOKUP(W$5,$B$6:$I$15,Points!$A8+1,FALSE),'Cars & Results'!$A$7:$BZ$317,2*W$5+5)<=10,W12*1.5,0))","v":0},{"$f":"IF(HLOOKUP(Y$5,$B$6:$I$15,Points!$A8+1,FALSE)=\"TBD\",\"\",VLOOKUP(HLOOKUP(Y$5,$B$6:$I$15,Points!$A8+1,FALSE),'Cars & Results'!$A$7:$BZ$317,2*Y$5+6,FALSE))","v":12},{"$f":"IF(HLOOKUP(Y$5,$B$6:$I$15,Points!$A8+1,FALSE)=\"TBD\",\"\",IF(VLOOKUP(HLOOKUP(Y$5,$B$6:$I$15,Points!$A8+1,FALSE),'Cars & Results'!$A$7:$BZ$317,2*Y$5+5)<=10,Y12*1.5,0))","v":0},{"$f":"IF(HLOOKUP(AA$5,$B$6:$I$15,Points!$A8+1,FALSE)=\"TBD\",\"\",VLOOKUP(HLOOKUP(AA$5,$B$6:$I$15,Points!$A8+1,FALSE),'Cars & Results'!$A$7:$BZ$317,2*AA$5+6,FALSE))","v":35},{"$f":"IF(HLOOKUP(AA$5,$B$6:$I$15,Points!$A8+1,FALSE)=\"TBD\",\"\",IF(VLOOKUP(HLOOKUP(AA$5,$B$6:$I$15,Points!$A8+1,FALSE),'Cars & Results'!$A$7:$BZ$317,2*AA$5+5)<=10,AA12*1.5,0))","v":0}]
[{"$f":"VLOOKUP(HLOOKUP('Pick Distribution'!$P$2,$B$6:$I$15,8),'Current Owner Standings'!$A$71:$B$480,2,FALSE)","v":31},"00",32,32,32,32,32,32,32,{"$f":"IF(ISNA(VLOOKUP($I13,'Cars & Results'!$A$6:$I$317,J$5,FALSE)),\"Invalid Number\",VLOOKUP($I13,'Cars & Results'!$A$6:$K$317,J$5,FALSE))","v":"Matt DiBenedetto"},{"$f":"IF(ISNA(VLOOKUP($I13,'Cars & Results'!$A$6:$I$317,K$5,FALSE)),\"Invalid Number\",VLOOKUP($I13,'Cars & Results'!$A$6:$K$317,K$5,FALSE))","v":"Ford"},{"$f":"IF(ISNA(VLOOKUP($I13,'Cars & Results'!$A$6:$I$317,L$5,FALSE)),\"Invalid Number\",VLOOKUP($I13,'Cars & Results'!$A$6:$K$317,L$5,FALSE))","v":"Go Fas Racing"},{"$f":"IF(HLOOKUP(M$5,$B$6:$I$15,Points!$A9+1,FALSE)=\"TBD\",\"\",VLOOKUP(HLOOKUP(M$5,$B$6:$I$15,Points!$A9+1,FALSE),'Cars & Results'!$A$7:$BZ$317,2*M$5+6,FALSE))","v":4},{"$f":"IF(HLOOKUP(M$5,$B$6:$I$15,Points!$A9+1,FALSE)=\"TBD\",\"\",IF(VLOOKUP(HLOOKUP(M$5,$B$6:$I$15,Points!$A9+1,FALSE),'Cars & Results'!$A$7:$BZ$317,2*M$5+5)<=10,M13*2,0))","v":0},{"$f":"IF(HLOOKUP(O$5,$B$6:$I$15,Points!$A9+1,FALSE)=\"TBD\",\"\",VLOOKUP(HLOOKUP(O$5,$B$6:$I$15,Points!$A9+1,FALSE),'Cars & Results'!$A$7:$BZ$317,2*O$5+6,FALSE))","v":9},{"$f":"IF(HLOOKUP(O$5,$B$6:$I$15,Points!$A9+1,FALSE)=\"TBD\",\"\",IF(VLOOKUP(HLOOKUP(O$5,$B$6:$I$15,Points!$A9+1,FALSE),'Cars & Results'!$A$7:$BZ$317,2*O$5+5)<=10,O13*2,0))","v":0},{"$f":"IF(HLOOKUP(Q$5,$B$6:$I$15,Points!$A9+1,FALSE)=\"TBD\",\"\",VLOOKUP(HLOOKUP(Q$5,$B$6:$I$15,Points!$A9+1,FALSE),'Cars & Results'!$A$7:$BZ$317,2*Q$5+6,FALSE))","v":10},{"$f":"IF(HLOOKUP(Q$5,$B$6:$I$15,Points!$A9+1,FALSE)=\"TBD\",\"\",IF(VLOOKUP(HLOOKUP(Q$5,$B$6:$I$15,Points!$A9+1,FALSE),'Cars & Results'!$A$7:$BZ$317,2*Q$5+5)<=10,Q13*2,0))","v":0},{"$f":"IF(HLOOKUP(S$5,$B$6:$I$15,Points!$A9+1,FALSE)=\"TBD\",\"\",VLOOKUP(HLOOKUP(S$5,$B$6:$I$15,Points!$A9+1,FALSE),'Cars & Results'!$A$7:$BZ$317,2*S$5+6,FALSE))","v":4},{"$f":"IF(HLOOKUP(S$5,$B$6:$I$15,Points!$A9+1,FALSE)=\"TBD\",\"\",IF(VLOOKUP(HLOOKUP(S$5,$B$6:$I$15,Points!$A9+1,FALSE),'Cars & Results'!$A$7:$BZ$317,2*S$5+5)<=10,S13*2,0))","v":0},{"$f":"IF(HLOOKUP(U$5,$B$6:$I$15,Points!$A9+1,FALSE)=\"TBD\",\"\",VLOOKUP(HLOOKUP(U$5,$B$6:$I$15,Points!$A9+1,FALSE),'Cars & Results'!$A$7:$BZ$317,2*U$5+6,FALSE))","v":13},{"$f":"IF(HLOOKUP(U$5,$B$6:$I$15,Points!$A9+1,FALSE)=\"TBD\",\"\",IF(VLOOKUP(HLOOKUP(U$5,$B$6:$I$15,Points!$A9+1,FALSE),'Cars & Results'!$A$7:$BZ$317,2*U$5+5)<=10,U13*2,0))","v":0},{"$f":"IF(HLOOKUP(W$5,$B$6:$I$15,Points!$A9+1,FALSE)=\"TBD\",\"\",VLOOKUP(HLOOKUP(W$5,$B$6:$I$15,Points!$A9+1,FALSE),'Cars & Results'!$A$7:$BZ$317,2*W$5+6,FALSE))","v":15},{"$f":"IF(HLOOKUP(W$5,$B$6:$I$15,Points!$A9+1,FALSE)=\"TBD\",\"\",IF(VLOOKUP(HLOOKUP(W$5,$B$6:$I$15,Points!$A9+1,FALSE),'Cars & Results'!$A$7:$BZ$317,2*W$5+5)<=10,W13*2,0))","v":0},{"$f":"IF(HLOOKUP(Y$5,$B$6:$I$15,Points!$A9+1,FALSE)=\"TBD\",\"\",VLOOKUP(HLOOKUP(Y$5,$B$6:$I$15,Points!$A9+1,FALSE),'Cars & Results'!$A$7:$BZ$317,2*Y$5+6,FALSE))","v":1},{"$f":"IF(HLOOKUP(Y$5,$B$6:$I$15,Points!$A9+1,FALSE)=\"TBD\",\"\",IF(VLOOKUP(HLOOKUP(Y$5,$B$6:$I$15,Points!$A9+1,FALSE),'Cars & Results'!$A$7:$BZ$317,2*Y$5+5)<=10,Y13*2,0))","v":0},{"$f":"IF(HLOOKUP(AA$5,$B$6:$I$15,Points!$A9+1,FALSE)=\"TBD\",\"\",VLOOKUP(HLOOKUP(AA$5,$B$6:$I$15,Points!$A9+1,FALSE),'Cars & Results'!$A$7:$BZ$317,2*AA$5+6,FALSE))","v":1},{"$f":"IF(HLOOKUP(AA$5,$B$6:$I$15,Points!$A9+1,FALSE)=\"TBD\",\"\",IF(VLOOKUP(HLOOKUP(AA$5,$B$6:$I$15,Points!$A9+1,FALSE),'Cars & Results'!$A$7:$BZ$317,2*AA$5+5)<=10,AA13*2,0))","v":0}]
[{"$f":"VLOOKUP(HLOOKUP('Pick Distribution'!$P$2,$B$6:$I$15,9),'Current Owner Standings'!$A$71:$B$480,2,FALSE)","v":36},51,51,51,51,51,51,51,51,{"$f":"IF(ISNA(VLOOKUP($I14,'Cars & Results'!$A$6:$I$317,J$5,FALSE)),\"Invalid Number\",VLOOKUP($I14,'Cars & Results'!$A$6:$K$317,J$5,FALSE))","v":"David Starr (i)"},{"$f":"IF(ISNA(VLOOKUP($I14,'Cars & Results'!$A$6:$I$317,K$5,FALSE)),\"Invalid Number\",VLOOKUP($I14,'Cars & Results'!$A$6:$K$317,K$5,FALSE))","v":"Ford"},{"$f":"IF(ISNA(VLOOKUP($I14,'Cars & Results'!$A$6:$I$317,L$5,FALSE)),\"Invalid Number\",VLOOKUP($I14,'Cars & Results'!$A$6:$K$317,L$5,FALSE))","v":"Rick Ware Racing"},{"$f":"IF(HLOOKUP(M$5,$B$6:$I$15,Points!$A10+1,FALSE)=\"TBD\",\"\",VLOOKUP(HLOOKUP(M$5,$B$6:$I$15,Points!$A10+1,FALSE),'Cars & Results'!$A$7:$BZ$317,2*M$5+6,FALSE))","v":5},{"$f":"IF(HLOOKUP(M$5,$B$6:$I$15,Points!$A10+1,FALSE)=\"TBD\",\"\",IF(VLOOKUP(HLOOKUP(M$5,$B$6:$I$15,Points!$A10+1,FALSE),'Cars & Results'!$A$7:$BZ$317,2*M$5+5)<=10,M14*3,0))","v":0},{"$f":"IF(HLOOKUP(O$5,$B$6:$I$15,Points!$A10+1,FALSE)=\"TBD\",\"\",VLOOKUP(HLOOKUP(O$5,$B$6:$I$15,Points!$A10+1,FALSE),'Cars & Results'!$A$7:$BZ$317,2*O$5+6,FALSE))","v":3},{"$f":"IF(HLOOKUP(O$5,$B$6:$I$15,Points!$A10+1,FALSE)=\"TBD\",\"\",IF(VLOOKUP(HLOOKUP(O$5,$B$6:$I$15,Points!$A10+1,FALSE),'Cars & Results'!$A$7:$BZ$317,2*O$5+5)<=10,O14*3,0))","v":0},{"$f":"IF(HLOOKUP(Q$5,$B$6:$I$15,Points!$A10+1,FALSE)=\"TBD\",\"\",VLOOKUP(HLOOKUP(Q$5,$B$6:$I$15,Points!$A10+1,FALSE),'Cars & Results'!$A$7:$BZ$317,2*Q$5+6,FALSE))","v":1},{"$f":"IF(HLOOKUP(Q$5,$B$6:$I$15,Points!$A10+1,FALSE)=\"TBD\",\"\",IF(VLOOKUP(HLOOKUP(Q$5,$B$6:$I$15,Points!$A10+1,FALSE),'Cars & Results'!$A$7:$BZ$317,2*Q$5+5)<=10,Q14*3,0))","v":0},{"$f":"IF(HLOOKUP(S$5,$B$6:$I$15,Points!$A10+1,FALSE)=\"TBD\",\"\",VLOOKUP(HLOOKUP(S$5,$B$6:$I$15,Points!$A10+1,FALSE),'Cars & Results'!$A$7:$BZ$317,2*S$5+6,FALSE))","v":1},{"$f":"IF(HLOOKUP(S$5,$B$6:$I$15,Points!$A10+1,FALSE)=\"TBD\",\"\",IF(VLOOKUP(HLOOKUP(S$5,$B$6:$I$15,Points!$A10+1,FALSE),'Cars & Results'!$A$7:$BZ$317,2*S$5+5)<=10,S14*3,0))","v":0},{"$f":"IF(HLOOKUP(U$5,$B$6:$I$15,Points!$A10+1,FALSE)=\"TBD\",\"\",VLOOKUP(HLOOKUP(U$5,$B$6:$I$15,Points!$A10+1,FALSE),'Cars & Results'!$A$7:$BZ$317,2*U$5+6,FALSE))","v":6},{"$f":"IF(HLOOKUP(U$5,$B$6:$I$15,Points!$A10+1,FALSE)=\"TBD\",\"\",IF(VLOOKUP(HLOOKUP(U$5,$B$6:$I$15,Points!$A10+1,FALSE),'Cars & Results'!$A$7:$BZ$317,2*U$5+5)<=10,U14*3,0))","v":0},{"$f":"IF(HLOOKUP(W$5,$B$6:$I$15,Points!$A10+1,FALSE)=\"TBD\",\"\",VLOOKUP(HLOOKUP(W$5,$B$6:$I$15,Points!$A10+1,FALSE),'Cars & Results'!$A$7:$BZ$317,2*W$5+6,FALSE))","v":4},{"$f":"IF(HLOOKUP(W$5,$B$6:$I$15,Points!$A10+1,FALSE)=\"TBD\",\"\",IF(VLOOKUP(HLOOKUP(W$5,$B$6:$I$15,Points!$A10+1,FALSE),'Cars & Results'!$A$7:$BZ$317,2*W$5+5)<=10,W14*3,0))","v":0},{"$f":"IF(HLOOKUP(Y$5,$B$6:$I$15,Points!$A10+1,FALSE)=\"TBD\",\"\",VLOOKUP(HLOOKUP(Y$5,$B$6:$I$15,Points!$A10+1,FALSE),'Cars & Results'!$A$7:$BZ$317,2*Y$5+6,FALSE))","v":5},{"$f":"IF(HLOOKUP(Y$5,$B$6:$I$15,Points!$A10+1,FALSE)=\"TBD\",\"\",IF(VLOOKUP(HLOOKUP(Y$5,$B$6:$I$15,Points!$A10+1,FALSE),'Cars & Results'!$A$7:$BZ$317,2*Y$5+5)<=10,Y14*3,0))","v":0},{"$f":"IF(HLOOKUP(AA$5,$B$6:$I$15,Points!$A10+1,FALSE)=\"TBD\",\"\",VLOOKUP(HLOOKUP(AA$5,$B$6:$I$15,Points!$A10+1,FALSE),'Cars & Results'!$A$7:$BZ$317,2*AA$5+6,FALSE))","v":1},{"$f":"IF(HLOOKUP(AA$5,$B$6:$I$15,Points!$A10+1,FALSE)=\"TBD\",\"\",IF(VLOOKUP(HLOOKUP(AA$5,$B$6:$I$15,Points!$A10+1,FALSE),'Cars & Results'!$A$7:$BZ$317,2*AA$5+5)<=10,AA14*3,0))","v":0}]
[{"$f":"VLOOKUP(HLOOKUP('Pick Distribution'!$P$2,$B$6:$I$15,10),'Current Owner Standings'!$A$71:$B$480,2,FALSE)","v":2},48,78,18,2,11,42,22,4,{"$f":"IF(ISNA(VLOOKUP($I15,'Cars & Results'!$A$6:$I$317,J$5,FALSE)),\"Invalid Number\",VLOOKUP($I15,'Cars & Results'!$A$6:$K$317,J$5,FALSE))","v":"Kevin Harvick"},{"$f":"IF(ISNA(VLOOKUP($I15,'Cars & Results'!$A$6:$I$317,K$5,FALSE)),\"Invalid Number\",VLOOKUP($I15,'Cars & Results'!$A$6:$K$317,K$5,FALSE))","v":"Ford"},{"$f":"IF(ISNA(VLOOKUP($I15,'Cars & Results'!$A$6:$I$317,L$5,FALSE)),\"Invalid Number\",VLOOKUP($I15,'Cars & Results'!$A$6:$K$317,L$5,FALSE))","v":"Stewart-Haas Racing"},{"$f":"IF(HLOOKUP(M$5,$B$6:$I$15,Points!$A11+1,FALSE)=\"TBD\",\"\",VLOOKUP(HLOOKUP(M$5,$B$6:$I$15,Points!$A11+1,FALSE),'Cars & Results'!$A$7:$BZ$317,2*M$5+6,FALSE))","v":23},0,{"$f":"IF(HLOOKUP(O$5,$B$6:$I$15,Points!$A11+1,FALSE)=\"TBD\",\"\",VLOOKUP(HLOOKUP(O$5,$B$6:$I$15,Points!$A11+1,FALSE),'Cars & Results'!$A$7:$BZ$317,2*O$5+6,FALSE))","v":51},0,{"$f":"IF(HLOOKUP(Q$5,$B$6:$I$15,Points!$A11+1,FALSE)=\"TBD\",\"\",VLOOKUP(HLOOKUP(Q$5,$B$6:$I$15,Points!$A11+1,FALSE),'Cars & Results'!$A$7:$BZ$317,2*Q$5+6,FALSE))","v":47},40,{"$f":"IF(HLOOKUP(S$5,$B$6:$I$15,Points!$A11+1,FALSE)=\"TBD\",\"\",VLOOKUP(HLOOKUP(S$5,$B$6:$I$15,Points!$A11+1,FALSE),'Cars & Results'!$A$7:$BZ$317,2*S$5+6,FALSE))","v":26},0,{"$f":"IF(HLOOKUP(U$5,$B$6:$I$15,Points!$A11+1,FALSE)=\"TBD\",\"\",VLOOKUP(HLOOKUP(U$5,$B$6:$I$15,Points!$A11+1,FALSE),'Cars & Results'!$A$7:$BZ$317,2*U$5+6,FALSE))","v":34},0,{"$f":"IF(HLOOKUP(W$5,$B$6:$I$15,Points!$A11+1,FALSE)=\"TBD\",\"\",VLOOKUP(HLOOKUP(W$5,$B$6:$I$15,Points!$A11+1,FALSE),'Cars & Results'!$A$7:$BZ$317,2*W$5+6,FALSE))","v":48},48,{"$f":"IF(HLOOKUP(Y$5,$B$6:$I$15,Points!$A11+1,FALSE)=\"TBD\",\"\",VLOOKUP(HLOOKUP(Y$5,$B$6:$I$15,Points!$A11+1,FALSE),'Cars & Results'!$A$7:$BZ$317,2*Y$5+6,FALSE))","v":50},50,{"$f":"IF(HLOOKUP(AA$5,$B$6:$I$15,Points!$A11+1,FALSE)=\"TBD\",\"\",VLOOKUP(HLOOKUP(AA$5,$B$6:$I$15,Points!$A11+1,FALSE),'Cars & Results'!$A$7:$BZ$317,2*AA$5+6,FALSE))","v":33},{"$f":"IF(HLOOKUP(AA$5,$B$6:$I$15,Points!$A11+1,FALSE)=\"TBD\",\"\",IF(AND(VLOOKUP(HLOOKUP(AA$5,$B$6:$I$15,Points!$A11+1,FALSE),'Cars & Results'!$A$7:$BZ$317,2*AA$5+5)<=3,$A$15<=25),AA15*1,IF(AND(VLOOKUP(HLOOKUP(AA$5,$B$6:$I$15,Points!$A11+1,FALSE),'Cars & Results'!$A$7:$BZ$317,2*AA$5+5)<=10,$A$15>25),AA15*3,0)))","v":0}]
[null,null,null,null,null,null,null,null,null,null,null,"Segment 1",null,{"$f":"IF(INDIRECT(ADDRESS(321,5+(M5*2),1,1,\"Cars & Results\"),TRUE)=\"Y\",IF(ISERROR(MATCH(INDIRECT(ADDRESS(318,5+(M5*2),1,1,\"Cars & Results\"),TRUE),B7:B15,0))=TRUE,0,10),\"\")","v":0},null,{"$f":"IF(INDIRECT(ADDRESS(321,5+(O5*2),1,1,\"Cars & Results\"),TRUE)=\"Y\",IF(ISERROR(MATCH(INDIRECT(ADDRESS(318,5+(O5*2),1,1,\"Cars & Results\"),TRUE),C7:C15,0))=TRUE,0,10),\"\")","v":10},null,{"$f":"IF(INDIRECT(ADDRESS(321,5+(Q5*2),1,1,\"Cars & Results\"),TRUE)=\"Y\",IF(ISERROR(MATCH(INDIRECT(ADDRESS(318,5+(Q5*2),1,1,\"Cars & Results\"),TRUE),D7:D15,0))=TRUE,0,10),\"\")","v":10},null,{"$f":"IF(INDIRECT(ADDRESS(321,5+(S5*2),1,1,\"Cars & Results\"),TRUE)=\"Y\",IF(ISERROR(MATCH(INDIRECT(ADDRESS(318,5+(S5*2),1,1,\"Cars & Results\"),TRUE),E7:E15,0))=TRUE,0,10),\"\")","v":0},null,{"$f":"IF(INDIRECT(ADDRESS(321,5+(U5*2),1,1,\"Cars & Results\"),TRUE)=\"Y\",IF(ISERROR(MATCH(INDIRECT(ADDRESS(318,5+(U5*2),1,1,\"Cars & Results\"),TRUE),F7:F15,0))=TRUE,0,10),\"\")","v":10},null,{"$f":"IF(INDIRECT(ADDRESS(321,5+(W5*2),1,1,\"Cars & Results\"),TRUE)=\"Y\",IF(ISERROR(MATCH(INDIRECT(ADDRESS(318,5+(W5*2),1,1,\"Cars & Results\"),TRUE),G7:G15,0))=TRUE,0,10),\"\")","v":0},null,{"$f":"IF(INDIRECT(ADDRESS(321,5+(Y5*2),1,1,\"Cars & Results\"),TRUE)=\"Y\",IF(ISERROR(MATCH(INDIRECT(ADDRESS(318,5+(Y5*2),1,1,\"Cars & Results\"),TRUE),H7:H15,0))=TRUE,0,10),\"\")","v":0},null,{"$f":"IF(INDIRECT(ADDRESS(321,5+(AA5*2),1,1,\"Cars & Results\"),TRUE)=\"Y\",IF(ISERROR(MATCH(INDIRECT(ADDRESS(318,5+(AA5*2),1,1,\"Cars & Results\"),TRUE),I7:I15,0))=TRUE,0,10),\"\")","v":0}]
[null,null,null,null,null,null,null,null,null,null,null,"Segment 2",null,{"$f":"IF(INDIRECT(ADDRESS(321,5+(M5*2),1,1,\"Cars & Results\"),TRUE)=\"Y\",IF(ISERROR(MATCH(INDIRECT(ADDRESS(319,5+(M5*2),1,1,\"Cars & Results\"),TRUE),B7:B15,0))=TRUE,0,10),\"\")","v":0},null,{"$f":"IF(INDIRECT(ADDRESS(321,5+(O5*2),1,1,\"Cars & Results\"),TRUE)=\"Y\",IF(ISERROR(MATCH(INDIRECT(ADDRESS(319,5+(O5*2),1,1,\"Cars & Results\"),TRUE),C7:C15,0))=TRUE,0,10),\"\")","v":10},null,{"$f":"IF(INDIRECT(ADDRESS(321,5+(Q5*2),1,1,\"Cars & Results\"),TRUE)=\"Y\",IF(ISERROR(MATCH(INDIRECT(ADDRESS(319,5+(Q5*2),1,1,\"Cars & Results\"),TRUE),D7:D15,0))=TRUE,0,10),\"\")","v":10},null,{"$f":"IF(INDIRECT(ADDRESS(321,5+(S5*2),1,1,\"Cars & Results\"),TRUE)=\"Y\",IF(ISERROR(MATCH(INDIRECT(ADDRESS(319,5+(S5*2),1,1,\"Cars & Results\"),TRUE),E7:E15,0))=TRUE,0,10),\"\")","v":10},null,{"$f":"IF(INDIRECT(ADDRESS(321,5+(U5*2),1,1,\"Cars & Results\"),TRUE)=\"Y\",IF(ISERROR(MATCH(INDIRECT(ADDRESS(319,5+(U5*2),1,1,\"Cars & Results\"),TRUE),F7:F15,0))=TRUE,0,10),\"\")","v":10},null,{"$f":"IF(INDIRECT(ADDRESS(321,5+(W5*2),1,1,\"Cars & Results\"),TRUE)=\"Y\",IF(ISERROR(MATCH(INDIRECT(ADDRESS(319,5+(W5*2),1,1,\"Cars & Results\"),TRUE),G7:G15,0))=TRUE,0,10),\"\")","v":0},null,{"$f":"IF(INDIRECT(ADDRESS(321,5+(Y5*2),1,1,\"Cars & Results\"),TRUE)=\"Y\",IF(ISERROR(MATCH(INDIRECT(ADDRESS(319,5+(Y5*2),1,1,\"Cars & Results\"),TRUE),H7:H15,0))=TRUE,0,10),\"\")","v":0},null,{"$f":"IF(INDIRECT(ADDRESS(321,5+(AA5*2),1,1,\"Cars & Results\"),TRUE)=\"Y\",IF(ISERROR(MATCH(INDIRECT(ADDRESS(319,5+(AA5*2),1,1,\"Cars & Results\"),TRUE),I7:I15,0))=TRUE,0,10),\"\")","v":10}]
[null,null,null,null,null,null,null,null,null,null,null,"Segment 3",null,{"$f":"IF(INDIRECT(ADDRESS(321,5+(M5*2),1,1,\"Cars & Results\"),TRUE)=\"Y\",IF(ISERROR(MATCH(INDIRECT(ADDRESS(320,5+(M5*2),1,1,\"Cars & Results\"),TRUE),B7:B15,0))=TRUE,0,15),\"\")","v":0},null,{"$f":"IF(INDIRECT(ADDRESS(321,5+(O5*2),1,1,\"Cars & Results\"),TRUE)=\"Y\",IF(ISERROR(MATCH(INDIRECT(ADDRESS(320,5+(O5*2),1,1,\"Cars & Results\"),TRUE),C7:C15,0))=TRUE,0,15),\"\")","v":15},null,{"$f":"IF(INDIRECT(ADDRESS(321,5+(Q5*2),1,1,\"Cars & Results\"),TRUE)=\"Y\",IF(ISERROR(MATCH(INDIRECT(ADDRESS(320,5+(Q5*2),1,1,\"Cars & Results\"),TRUE),D7:D15,0))=TRUE,0,15),\"\")","v":15},null,{"$f":"IF(INDIRECT(ADDRESS(321,5+(S5*2),1,1,\"Cars & Results\"),TRUE)=\"Y\",IF(ISERROR(MATCH(INDIRECT(ADDRESS(320,5+(S5*2),1,1,\"Cars & Results\"),TRUE),E7:E15,0))=TRUE,0,15),\"\")","v":15},null,{"$f":"IF(INDIRECT(ADDRESS(321,5+(U5*2),1,1,\"Cars & Results\"),TRUE)=\"Y\",IF(ISERROR(MATCH(INDIRECT(ADDRESS(320,5+(U5*2),1,1,\"Cars & Results\"),TRUE),F7:F15,0))=TRUE,0,15),\"\")","v":15},null,{"$f":"IF(INDIRECT(ADDRESS(321,5+(W5*2),1,1,\"Cars & Results\"),TRUE)=\"Y\",IF(ISERROR(MATCH(INDIRECT(ADDRESS(320,5+(W5*2),1,1,\"Cars & Results\"),TRUE),G7:G15,0))=TRUE,0,15),\"\")","v":0},null,{"$f":"IF(INDIRECT(ADDRESS(321,5+(Y5*2),1,1,\"Cars & Results\"),TRUE)=\"Y\",IF(ISERROR(MATCH(INDIRECT(ADDRESS(320,5+(Y5*2),1,1,\"Cars & Results\"),TRUE),H7:H15,0))=TRUE,0,15),\"\")","v":0},null,{"$f":"IF(INDIRECT(ADDRESS(321,5+(AA5*2),1,1,\"Cars & Results\"),TRUE)=\"Y\",IF(ISERROR(MATCH(INDIRECT(ADDRESS(320,5+(AA5*2),1,1,\"Cars & Results\"),TRUE),I7:I15,0))=TRUE,0,15),\"\")","v":0}]
[null,{"$f":"SUM(B7:B15)","v":189},275,215,199,208,253,233,215,null,null,null,{"$f":"SUM(M7:M15)","v":165},null,{"$f":"SUM(O7:O15)","v":251},null,{"$f":"SUM(Q7:Q15)","v":227},null,{"$f":"SUM(S7:S15)","v":162},null,{"$f":"SUM(U7:U15)","v":204},null,{"$f":"SUM(W7:W15)","v":187},null,{"$f":"SUM(Y7:Y15)","v":192},null,{"$f":"SUM(AA7:AA15)","v":199}]
[null,null,null,null,null,null,null,null,null,null,null,null,null,{"$f":"SUM(N7:N19)","v":0},null,{"$f":"SUM(P7:P19)","v":35},null,{"$f":"SUM(R7:R19)","v":75},null,{"$f":"SUM(T7:T19)","v":37.5},null,{"$f":"SUM(V7:V19)","v":35},null,{"$f":"SUM(X7:X19)","v":48},null,{"$f":"SUM(Z7:Z19)","v":50},null,{"$f":"SUM(AB7:AB19)","v":10}]
[null,null,null,null,null,null,null,null,null,null,null,"Race Total",{"$f":"M19+N20","v":165},null,{"$f":"O19+P20","v":286},null,{"$f":"Q19+R20","v":302},null,{"$f":"S19+T20","v":199.5},null,{"$f":"U19+V20","v":239},null,{"$f":"W19+X20","v":235},null,{"$f":"Y19+Z20","v":242},null,{"$f":"AA19+AB20","v":209},null,{"$f":"SUM(M21:AB21)","v":1877.5}]
[null,null,null,null,null,null,null,null,"1-8"]
[null,null,null,null,null,null,null,null,"9-16"]
[null,null,null,null,null,null,null,null,"17-23"]
[null,null,null,null,null,null,null,null,"24-30"]
[null,null,null,null,null,null,null,null,"31-35"]
[null,null,null,null,null,null,null,null,">35"]
[null,null,null,null,null,null,null,null,"Provisional"]

{"sheet":"Points","index":16,"n_rows":43,"n_cols":8,"rows_kept":43,"cut":false,"hidden":false,"merged":[]}
["Finishing Position","Points","Group 7 Points","Difference","Bonus Points",null,null,"Group 1 - Positions 1-8, 1 Car"]
[0,0,0,null,null,null,null,"Group 2 - Positions 9-16, 1 Car"]
[1,40,40,null,"Segment 1 Winner",10,null,"Group 3 - Positions 17-23, 1 Car"]
[2,39,39,{"$f":"B3-B4","v":1},"Segment 2 Winner",10,null,"Group 4 - Positions 24-30, 1 Car"]
[3,38,38,{"$f":"B4-B5","v":1},"Segment 3 Winner",15,null,"Group 5 - Positions 31-35, 1 Car"]
[4,37,37,1,null,null,null,"Group 6 - Positions 36+, 1 Car "]
[5,36,36,1,"Group 1","No Bonus",null,"Group 7 - Provisional.  Valid for 1 wk per segment and must be changed each week."]
[6,35,35,1,"Group 2 - Win","25% Bonus"]
[7,34,34,1,"Group 3 - Top 5 Finish","50% Bonus"]
[8,33,33,1,"Group 4 - Top 10 Finish","150% Bonus"]
[9,32,32,1,"Group 5 - Top 10 Finish","200% Bonus"]
[10,31,31,1,"Group 6 - Top 10 Finish","300% Bonus"]
[11,30,30,1,"Group 7 - Top 3 Finish","100% Bonus","If car is in top 25 in Points"]
[12,29,29,1,"Group 7 - Top 10 Finish","300% Bonus","If car is outside top 25 in Points"]
[13,28,28,1]
[14,27,27,1]
[15,26,26,1]
[16,25,25,1]
[17,24,24,1]
[18,23,23,1]
[19,22,22,1]
[20,21,21,1]
[21,20,20,1]
[22,19,19,1]
[23,18,18,1]
[24,17,17,1]
[25,16,16,1]
[26,15,15,1]
[27,14,14,1]
[28,13,13,1]
[29,12,12,1]
[30,11,11,1]
[31,10,10,{"$f":"B32-B33","v":1}]
[32,9,9,1]
[33,8,8,1]
[34,7,7,1]
[35,6,6,1]
[36,5,5,1]
[37,4,4,1]
[38,3,3,1]
[39,2,2,1]
[40,1,1,1]
["DNS",-25]

{"sheet":"Schedule","index":17,"n_rows":44,"n_cols":15,"rows_kept":44,"cut":false,"hidden":false,"merged":[[1,1,2,5]]}
[]
[null,"Sprint Cup Schedule"]
[]
["Race Number","Scheduled","Race Name","Track","Name","Segment 1","Segment 2","Segment 3","Segment 4","Track Size","Race Length","Television","Time/","Qualifying","Happy Hour"]
["*","2018-02-11","Advance Auto Parts Clash*","Daytona International Speedway",{"$f":"LEFT(D5,FIND(\" \",D5))","v":"Daytona "},75,null,null,null,2.5,187.5,"FS1","03:00:00","N/A","2018-02-10T10:35:00"]
["*","2018-02-15","Can-Am Duel At Daytona #1*","Daytona International Speedway",{"$f":"LEFT(D6,FIND(\" \",D6))","v":"Daytona "},60,null,null,null,2.5,150,"FS1","07:00:00","2018-02-11T12:15:00","2018-02-10T11:05:00"]
["*","2018-02-15","Can-Am Duel At Daytona #2*","Daytona International Speedway","Daytona ",60,null,null,null,2.5,150,"FS1","~9:00","2018-02-11T12:15:00","2018-02-10T11:05:00"]
[1,"2018-02-18","Daytona 500","Daytona International Speedway","Daytona ",60,120,200,null,2.5,500,"FOX","02:30:00","2018-02-11T12:15:00","2018-02-17T12:05:00"]
[2,"2018-02-25","Folds of Honor QuikTrip 500","Atlanta Motor Speedway","Atlanta ",85,170,325,null,1.54,500.5,"FOX","02:00:00","2018-02-24T05:15:00","2018-02-23T12:00:00"]
[3,"2018-03-04","Kobalt 400","Las Vegas Motor Speedway","Las Vegas",80,160,267,null,1.5,400.5,"FOX","03:30:00","TBA","TBA"]
[4,"2018-03-11","Camping World 500(k)","ISM Raceway","Phoenix",75,150,312,null,1,312,"FOX","03:30:00","TBA","TBA"]
[5,"2018-03-18","Auto Club 400","Auto Club Speedway","Fontana",60,120,200,null,2,400,"FOX","03:30:00","TBA","TBA"]
[6,"2018-03-25","STP 500","Martinsville Speedway","Martinsville ",130,260,500,null,0.52600000000000002,263,"FS1","02:00:00","TBA","TBA"]
[7,"2018-04-08","O'Reilly Auto Parts 500","Texas Motor Speedway","Texas ",85,170,334,null,1.5,500.5,"FS1","02:00:00","TBA","TBA"]
[8,"2018-04-15","Food City 500","Bristol Motor Speedway","Bristol ",125,250,500,null,0.53300000000000003,266.5,"FOX","02:00:00","TBA","TBA"]
[9,"2018-04-21","Toyota Owners 400","Richmond Raceway","Richmond ",100,200,400,null,0.75,300,"FOX","06:30:00","TBA","TBA"]
[10,"2018-04-29","GEICO 500","Talladega Superspeedway","Talladega ",55,110,188,null,2.66,500.08,"FOX","02:00:00","TBA","TBA"]
[11,"2018-05-06","AAA 400 Drive for Autism","Dover International Speedway","Dover ",120,240,400,null,1,400,"FS1","02:00:00","TBA","TBA"]
[12,"2018-05-12","Go Bowling 400","Kansas Speedway","Kansas ",80,160,267,null,1.5,400.5,"FS1","08:00:00","TBA","TBA"]
[13,"2018-05-27","Coca-Cola 600","Charlotte Motor Speedway","Charlotte ",100,200,300,400,1.5,600,"FOX","06:00:00","TBA","TBA"]
[14,"2018-06-03","Pocono 400","Pocono Raceway","Pocono ",50,100,160,null,2.5,400,"FS1","02:00:00","TBA","TBA"]
[15,"2018-06-10","FireKeepers Casino 400","Michigan International Speedway","Michigan ",60,120,200,null,2,400,"FOX","02:00:00","TBA","TBA"]
[16,"2018-06-24","Toyota/Save Mart 350","Sonoma Raceway","Sonoma ",25,50,110,null,1.99,224,"FS1","03:00:00","TBA","TBA"]
[17,"2018-07-01","Overton's 400","Chicagoland Speedway","Chicagoland ",80,160,267,null,1.5,400.5,"NBCSN","02:30:00","TBA","TBA"]
[18,"2018-07-07","Coke Zero 400","Daytona International Speedway","Daytona ",40,80,160,null,2.5,400,"NBC","07:00:00","TBA","TBA"]
[19,"2018-07-14","Quaker State 400","Kentucky Speedway","Kentucky ",80,160,267,null,1.5,400.5,"NBCSN","07:30:00","TBA","TBA"]
[20,"2018-07-22","New Hampshire 301","New Hampshire Motor Speedway","New Hamp",75,150,301,null,1.0580000000000001,318.45999999999998,"NBCSN","02:00:00","TBA","TBA"]
[21,"2018-07-29","Gander Outdoors 400","Pocono Raceway","Pocono ",50,100,160,null,2.5,400,"NBCSN","02:30:00","TBA","TBA"]
[22,"2018-08-05","Go Bowling at The Glen","Watkins Glen International","Watkins ",20,40,90,null,2.4500000000000002,220.5,"NBC","02:30:00","TBA","TBA"]
[23,"2018-08-12","Pure Michigan 400","Michigan International Speedway","Michigan ",60,120,200,null,2,400,"NBCSN","02:30:00","TBA","TBA"]
[24,"2018-08-18","Bass Pro Shops NRA Night Race","Bristol Motor Speedway","Bristol ",125,250,500,null,0.53300000000000003,266.5,"NBCSN","07:30:00","TBA","TBA"]
[25,"2018-09-02","Bojangles' Southern 500","Darlington Raceway","Darlington ",100,200,267,null,1.3660000000000001,501.3,"NBCSN","06:00:00","TBA","TBA"]
[26,"2018-09-09","Big Machine Vodka 400 at the Brickyard","Indianapolis Motor Speedway","Indianapolis ",50,100,160,null,2.5,400,"NBCSN","02:00:00","TBA","TBA"]
[27,"2018-09-16","South Point 400","Las Vegas Motor Speedway","Las Vegas",80,160,267,null,1.5,400.5,"NBCSN","03:00:00","TBA","TBA"]
[28,"2018-09-22","Federated Auto Parts 400","Richmond Raceway","Richmond ",100,200,400,null,0.75,300,"NBCSN","07:30:00","TBA","TBA"]
[29,"2018-09-30","Bank of America 500(k)","Charlotte Motor Speedway","Charlotte ",30,60,130,null,"2.4(roval)",312,"NBC","02:00:00","TBA","TBA"]
[30,"2018-10-07","Delaware 400","Dover International Speedway","Dover ",120,240,400,null,1,400,"NBCSN","02:00:00","TBA","TBA"]
[31,"2018-10-14","Alabama 500","Talladega Superspeedway","Talladega ",55,110,188,null,2.66,500.08,"NBC","02:00:00","TBA","TBA"]
[32,"2018-10-21","Hollywood Casino 400","Kansas Speedway","Kansas ",80,160,267,null,1.5,400.5,"NBC","02:00:00","TBA","TBA"]
[33,"2018-10-28","First Data 500","Martinsville Speedway","Martinsville ",130,260,500,null,0.52600000000000002,263,"NBCSN","02:30:00","TBA","TBA"]
[34,"2018-11-04","AAA Texas 500","Texas Motor Speedway","Texas ",85,170,334,null,1.5,500.5,"NBCSN","03:00:00","TBA","TBA"]
[35,"2018-11-11","Can-Am 500(k)","ISM Raceway","Phoenix",75,150,312,null,1,312,"NBC","02:30:00","TBA","TBA"]
[36,"2018-11-18","Ford EcoBoost 400","Homestead-Miami Speedway","Homestead-Miami ",80,160,267,null,1.5,400,"NBC","02:30:00","TBA","TBA"]
[36,"2017-11-19","Ford EcoBoost 400","Homestead","Ford EcoBoost 400 Homestead-Miami Speedway  -  Homestead, FL","Sun, Nov, 22 3:15 ET (NBC)",{"$f":"RIGHT(F44,FIND(\"ET\",F44)-5)","v":" 3:15 ET (NBC)"},60,10]

{"sheet":"Show me the Money","index":18,"n_rows":13,"n_cols":15,"rows_kept":13,"cut":false,"hidden":false,"merged":[]}
["Player","Sort","Segment 1","Segment 2","Segment 3","Segment 4","Total","Year End Pool","Total Cost","Cash Received","Winnings Rolled","Winnings","Bonus Pool","Net Winnings","WinningsPaid"]
["Ron Mason",{"$f":"MID(A2,FIND(\" \", A2)+1,LEN(A2))&\", \"&LEFT(A2,FIND(\" \",A2)-1)","v":"Mason, Ron"},25,25,25,25,{"$f":"SUM(C2:F2)","v":100},0,{"$f":"G2+H2","v":100},0,0,{"$f":"50+0+200","v":250},0,{"$f":"(L2+M2)-I2-J2","v":150},0]
["Kevin Blossom","Blossom, Kevin",25,25,25,25,100,{"$f":"0+25","v":25},125,0,0,{"$f":"35+115","v":150},0,25,0]
["Jeff Buehrle",{"$f":"MID(A4,FIND(\" \", A4)+1,LEN(A4))&\", \"&LEFT(A4,FIND(\" \",A4)-1)","v":"Buehrle, Jeff"},25,25,25,25,100,{"$f":"0+25","v":25},125,0,0,{"$f":"0+50+50","v":100},0,-25,0]
["Doug Gebauer","Gebauer, Doug",25,25,25,25,100,{"$f":"25+25+25","v":75},175,0,0,{"$f":"115+35+115+35","v":300},0,125,0]
["Trey George","George, Trey",25,25,25,25,100,0,100,0,0,0,0,-100,0]
["Brad McLean","McLean, Brad",25,25,25,25,100,0,100,0,0,{"$f":"0+0+35","v":35},0,-65,0]
["Donna McLean","McLean, Donna",25,25,25,25,100,0,100,0,0,0,0,-100,0]
["Steve Sheppard","Sheppard, Steve",25,25,25,25,100,0,100,0,0,{"$f":"0+0+50","v":50},0,-50,0]
["Total Segment Pot",null,{"$f":"SUM(C2:C9)","v":200},200,200,200,800,125,925,0,0,885,0,-40,0]
["1st Place",null,{"$f":"C10-C12-C13","v":115},{"$f":"D10-D12-D13","v":115},{"$f":"E10-E12-E13","v":115},{"$f":"F10-F12-F13","v":115}]
["2nd Place",null,{"$f":"IF(C10*0.25<50,50,C10*0.25)","v":50},{"$f":"IF(D10*0.25<50,50,D10*0.25)","v":50},{"$f":"IF(E10*0.25<50,50,E10*0.25)","v":50},{"$f":"IF(F10*0.25<50,50,F10*0.25)","v":50}]
["3rd Place",null,{"$f":"IF(C10*0.15<35,35,C10*0.15)","v":35},{"$f":"IF(D10*0.15<35,35,D10*0.15)","v":35},{"$f":"IF(E10*0.15<35,35,E10*0.15)","v":35},{"$f":"IF(F10*0.15<35,35,F10*0.15)","v":35}]

{"sheet":"Rules","index":19,"n_rows":41,"n_cols":2,"rows_kept":41,"cut":false,"hidden":false,"merged":[]}
["Rule","Description"]
[1,"General"]
[1.1000000000000001,"The season will consist of 4 segments of 9 races each"]
[1.2,"Each segment will cost $25 per player to enter.  $100 per season"]
[1.3,"Winners will be declared at the end of each segment paying out to the top 3 finishers.  1st place upto 60%, 2nd place 25% (Minimum $50), 3rd place 15% (Minimum $25)"]
[1.5,"There are no limits on the number of changes you may make to your team prior to the beginning of each segment"]
[1.6,"Team consists of 13 cars in 7 groups."]
[1.7,"Groupings and car positions are based on each car's current car owner points standings as posted on www.nascar.com"]
[1.8,"Group 1 - Positions 1-6, Group 2 - Positions 7-12, Group 3 - Positions 13-20, Group 4 - Positions 21-30, Group 5 - Positions 31-35, Group 6 - Positions >35, Group 7 - Provisional"]
["1.8.1","Provisional Entry - Car not already on your team and listed on the entry list for the current weeks race.  Provisional Pick must be dropped from your team each week and can be used on your team as a provisional pick only once per segment."]
[1.9,"Week 1 - Daytona 500 positions are based on 2008 Car owner standings"]
[2,"The Play"]
[2.1,"Each week you must drop those cars that do not maintain their position in each of the 7 groups.  These are your weekly mandatory changes and will be highlighted in red."]
[2.2000000000000002,"Each week you may change up to 4 other cars in addition to your manatory changes.  (You may not add a car that was a mandatory change from rule 2.1.)  These are known as your optional changes."]
[2.2999999999999998,"Each week you may purchase additional changes (above the limit from rule 2.2) for $10 each additional change.  This money will be added to the year end pool and distributed as per rule 5.1"]
[2.4,"All changes must be submitted prior to the beginning of each race's qualifying session.  If qualifying is rained out positions will be set by NASCAR and owner points.  No changes will be accepted once the starting lineup has been posted to www.nascar.com"]
[2.5,"Any mandatory changes not submitted prior to the beginning of qualifying will be changed by the administrator.  The car at the bottom of each group will be substituted working up in the standings.  For group 6 the administrator will start at position 43 and work up.  For group 7 the administrator will start at position 50 and work up."]
[2.6,"Prior to the beginning of 9th race in each segment, any player may purchase up to 500 points in increments of 100 points.  $5 for every 100 points, $25 maximum."]
[3,"Points"]
[3.1,"Point totals will be reset after each segment."]
[3.2,"20 points for Pole"]
[3.3,"10 points for outside pole"]
[3.4,"5 Points for a car leading a lap in a race"]
[3.5,"10 Points for car leading the most laps in a race"]
[3.6,"Points for each finishing position are awarded on a decreasing scale.  See Points tab in the spreadsheet for actual points by finishing position"]
[3.7,"-100 points if your car does not make the race."]
[3.8,"-200 points if your group 7 car does not make the race"]
[4,"Bonus Points"]
[4.0999999999999996,"Group 1 car receives no finishing position bonus"]
[4.2,"Group 2 car Wins the race - 25% point bonus for that car"]
[4.3,"Group 3 car finshies in top 5 - 50% point bonus for that car"]
[4.4000000000000004,"Group 4 car finishes in top 10 - 150% point bonus for that car"]
[4.5,"Group 5 car finishes in top 10 - 200% point bonus for that car"]
[4.5999999999999996,"Group 6 car finishes in top 10 - 300% point bonus for that car"]
[4.7,"Group 7 car finishes in top   3 - 100% point bonus for cars inside the top 25 in points"]
[4.8,"Group 7 car finishes in top 10 - 300% point bonus for cars outside the top 25 in points"]
[5,"End of Season Pot"]
[5.0999999999999996,"All cash accumulated based on Rule 2.3 and 2.6 will be added to a separate \"End of Season\" point fund.  "]
[5.2,"The \"End of Season\" point fund will be paid to the top 3 season point totals excluding any purchased points from rule 2.6."]
[5.3,"You must participate in all 4 segments in order to qualify for the \"End of Season\" point fund."]
[5.4,"Payouts will be made as follows: 1st place 75%, 2nd place 15%, 3rd place 5%, and Last place 5%"]

{"sheet":"Pick Distribution","index":20,"n_rows":48,"n_cols":16,"rows_kept":48,"cut":false,"hidden":false,"merged":[]}
[null,"Driver","Tracy Banks","Kevin Blossom","Jeff Buehrle","Doug Gebauer","Trey George","Brad McLean","Donna McLean","Steve Sheppard","Frequency",null,null,null,null,"Week"]
[1,{"$f":"LOOKUP(A2,'Cars & Results'!$A$7:$A$215,'Cars & Results'!$B$7:$B$215)","v":"Jamie McMurray"},{"$f":"IF(ISNA(VLOOKUP($A2,'Ron Mason'!$B$7:$C$15,1,FALSE)),\"\",$A2)","v":""},{"$f":"IF(ISNA(VLOOKUP($A2,'Kevin Blossom'!$B$7:$C$15,1,FALSE)),\"\",$A2)","v":""},{"$f":"IF(ISNA(VLOOKUP($A2,'Jeff Buehrle'!$B$7:$C$15,1,FALSE)),\"\",$A2)","v":""},{"$f":"IF(ISNA(VLOOKUP($A2,'Doug Gebauer'!$B$7:$C$15,1,FALSE)),\"\",$A2)","v":1},{"$f":"IF(ISNA(VLOOKUP($A2,'Trey George'!$B$7:$C$15,1,FALSE)),\"\",$A2)","v":1},{"$f":"IF(ISNA(VLOOKUP($A2,'Brad McLean'!$B$7:$C$15,1,FALSE)),\"\",$A2)","v":1},{"$f":"IF(ISNA(VLOOKUP($A2,'Donna McLean'!$B$7:$C$15,1,FALSE)),\"\",$A2)","v":1},{"$f":"IF(ISNA(VLOOKUP($A2,'Steve Sheppard'!$B$7:$C$15,1,FALSE)),\"\",$A2)","v":1},{"$f":"9-COUNTBLANK(C2:J2)","v":6},null,null,null,null,26]
[2,{"$f":"LOOKUP(A3,'Cars & Results'!$A$7:$A$215,'Cars & Results'!$B$7:$B$215)","v":"Brad Keselowski"},{"$f":"IF(ISNA(VLOOKUP($A3,'Ron Mason'!$B$7:$C$15,1,FALSE)),\"\",$A3)","v":""},{"$f":"IF(ISNA(VLOOKUP($A3,'Kevin Blossom'!$B$7:$C$15,1,FALSE)),\"\",$A3)","v":""},{"$f":"IF(ISNA(VLOOKUP($A3,'Jeff Buehrle'!$B$7:$C$15,1,FALSE)),\"\",$A3)","v":""},{"$f":"IF(ISNA(VLOOKUP($A3,'Doug Gebauer'!$B$7:$C$15,1,FALSE)),\"\",$A3)","v":""},{"$f":"IF(ISNA(VLOOKUP($A3,'Trey George'!$B$7:$C$15,1,FALSE)),\"\",$A3)","v":""},{"$f":"IF(ISNA(VLOOKUP($A3,'Brad McLean'!$B$7:$C$15,1,FALSE)),\"\",$A3)","v":""},{"$f":"IF(ISNA(VLOOKUP($A3,'Donna McLean'!$B$7:$C$15,1,FALSE)),\"\",$A3)","v":2},{"$f":"IF(ISNA(VLOOKUP($A3,'Steve Sheppard'!$B$7:$C$15,1,FALSE)),\"\",$A3)","v":""},2]
[3,{"$f":"LOOKUP(A4,'Cars & Results'!$A$7:$A$215,'Cars & Results'!$B$7:$B$215)","v":"Austin Dillon"},{"$f":"IF(ISNA(VLOOKUP($A4,'Ron Mason'!$B$7:$C$15,1,FALSE)),\"\",$A4)","v":""},{"$f":"IF(ISNA(VLOOKUP($A4,'Kevin Blossom'!$B$7:$C$15,1,FALSE)),\"\",$A4)","v":""},{"$f":"IF(ISNA(VLOOKUP($A4,'Jeff Buehrle'!$B$7:$C$15,1,FALSE)),\"\",$A4)","v":""},{"$f":"IF(ISNA(VLOOKUP($A4,'Doug Gebauer'!$B$7:$C$15,1,FALSE)),\"\",$A4)","v":""},{"$f":"IF(ISNA(VLOOKUP($A4,'Trey George'!$B$7:$C$15,1,FALSE)),\"\",$A4)","v":3},{"$f":"IF(ISNA(VLOOKUP($A4,'Brad McLean'!$B$7:$C$15,1,FALSE)),\"\",$A4)","v":3},{"$f":"IF(ISNA(VLOOKUP($A4,'Donna McLean'!$B$7:$C$15,1,FALSE)),\"\",$A4)","v":""},{"$f":"IF(ISNA(VLOOKUP($A4,'Steve Sheppard'!$B$7:$C$15,1,FALSE)),\"\",$A4)","v":""},3]
[4,{"$f":"LOOKUP(A5,'Cars & Results'!$A$7:$A$215,'Cars & Results'!$B$7:$B$215)","v":"Kevin Harvick"},{"$f":"IF(ISNA(VLOOKUP($A5,'Ron Mason'!$B$7:$C$15,1,FALSE)),\"\",$A5)","v":4},{"$f":"IF(ISNA(VLOOKUP($A5,'Kevin Blossom'!$B$7:$C$15,1,FALSE)),\"\",$A5)","v":4},{"$f":"IF(ISNA(VLOOKUP($A5,'Jeff Buehrle'!$B$7:$C$15,1,FALSE)),\"\",$A5)","v":""},{"$f":"IF(ISNA(VLOOKUP($A5,'Doug Gebauer'!$B$7:$C$15,1,FALSE)),\"\",$A5)","v":4},{"$f":"IF(ISNA(VLOOKUP($A5,'Trey George'!$B$7:$C$15,1,FALSE)),\"\",$A5)","v":""},{"$f":"IF(ISNA(VLOOKUP($A5,'Brad McLean'!$B$7:$C$15,1,FALSE)),\"\",$A5)","v":""},{"$f":"IF(ISNA(VLOOKUP($A5,'Donna McLean'!$B$7:$C$15,1,FALSE)),\"\",$A5)","v":""},{"$f":"IF(ISNA(VLOOKUP($A5,'Steve Sheppard'!$B$7:$C$15,1,FALSE)),\"\",$A5)","v":4},5]
[5,{"$f":"LOOKUP(A6,'Cars & Results'!$A$7:$A$215,'Cars & Results'!$B$7:$B$215)","v":""},{"$f":"IF(ISNA(VLOOKUP($A6,'Ron Mason'!$B$7:$C$15,1,FALSE)),\"\",$A6)","v":""},{"$f":"IF(ISNA(VLOOKUP($A6,'Kevin Blossom'!$B$7:$C$15,1,FALSE)),\"\",$A6)","v":""},{"$f":"IF(ISNA(VLOOKUP($A6,'Jeff Buehrle'!$B$7:$C$15,1,FALSE)),\"\",$A6)","v":""},{"$f":"IF(ISNA(VLOOKUP($A6,'Doug Gebauer'!$B$7:$C$15,1,FALSE)),\"\",$A6)","v":""},{"$f":"IF(ISNA(VLOOKUP($A6,'Trey George'!$B$7:$C$15,1,FALSE)),\"\",$A6)","v":""},{"$f":"IF(ISNA(VLOOKUP($A6,'Brad McLean'!$B$7:$C$15,1,FALSE)),\"\",$A6)","v":""},{"$f":"IF(ISNA(VLOOKUP($A6,'Donna McLean'!$B$7:$C$15,1,FALSE)),\"\",$A6)","v":""},{"$f":"IF(ISNA(VLOOKUP($A6,'Steve Sheppard'!$B$7:$C$15,1,FALSE)),\"\",$A6)","v":""},1]
[6,{"$f":"LOOKUP(A7,'Cars & Results'!$A$7:$A$215,'Cars & Results'!$B$7:$B$215)","v":"Matt Kenseth"},{"$f":"IF(ISNA(VLOOKUP($A7,'Ron Mason'!$B$7:$C$15,1,FALSE)),\"\",$A7)","v":""},{"$f":"IF(ISNA(VLOOKUP($A7,'Kevin Blossom'!$B$7:$C$15,1,FALSE)),\"\",$A7)","v":""},{"$f":"IF(ISNA(VLOOKUP($A7,'Jeff Buehrle'!$B$7:$C$15,1,FALSE)),\"\",$A7)","v":""},{"$f":"IF(ISNA(VLOOKUP($A7,'Doug Gebauer'!$B$7:$C$15,1,FALSE)),\"\",$A7)","v":6},{"$f":"IF(ISNA(VLOOKUP($A7,'Trey George'!$B$7:$C$15,1,FALSE)),\"\",$A7)","v":""},{"$f":"IF(ISNA(VLOOKUP($A7,'Brad McLean'!$B$7:$C$15,1,FALSE)),\"\",$A7)","v":""},{"$f":"IF(ISNA(VLOOKUP($A7,'Donna McLean'!$B$7:$C$15,1,FALSE)),\"\",$A7)","v":""},{"$f":"IF(ISNA(VLOOKUP($A7,'Steve Sheppard'!$B$7:$C$15,1,FALSE)),\"\",$A7)","v":6},3]
[7,{"$f":"LOOKUP(A8,'Cars & Results'!$A$7:$A$215,'Cars & Results'!$B$7:$B$215)","v":"Reed Sorenson"},{"$f":"IF(ISNA(VLOOKUP($A8,'Ron Mason'!$B$7:$C$15,1,FALSE)),\"\",$A8)","v":""},{"$f":"IF(ISNA(VLOOKUP($A8,'Kevin Blossom'!$B$7:$C$15,1,FALSE)),\"\",$A8)","v":""},{"$f":"IF(ISNA(VLOOKUP($A8,'Jeff Buehrle'!$B$7:$C$15,1,FALSE)),\"\",$A8)","v":""},{"$f":"IF(ISNA(VLOOKUP($A8,'Doug Gebauer'!$B$7:$C$15,1,FALSE)),\"\",$A8)","v":""},{"$f":"IF(ISNA(VLOOKUP($A8,'Trey George'!$B$7:$C$15,1,FALSE)),\"\",$A8)","v":""},{"$f":"IF(ISNA(VLOOKUP($A8,'Brad McLean'!$B$7:$C$15,1,FALSE)),\"\",$A8)","v":""},{"$f":"IF(ISNA(VLOOKUP($A8,'Donna McLean'!$B$7:$C$15,1,FALSE)),\"\",$A8)","v":""},{"$f":"IF(ISNA(VLOOKUP($A8,'Steve Sheppard'!$B$7:$C$15,1,FALSE)),\"\",$A8)","v":""},1]
[10,{"$f":"LOOKUP(A9,'Cars & Results'!$A$7:$A$215,'Cars & Results'!$B$7:$B$215)","v":"Aric Almirola"},{"$f":"IF(ISNA(VLOOKUP($A9,'Ron Mason'!$B$7:$C$15,1,FALSE)),\"\",$A9)","v":""},{"$f":"IF(ISNA(VLOOKUP($A9,'Kevin Blossom'!$B$7:$C$15,1,FALSE)),\"\",$A9)","v":""},{"$f":"IF(ISNA(VLOOKUP($A9,'Jeff Buehrle'!$B$7:$C$15,1,FALSE)),\"\",$A9)","v":""},{"$f":"IF(ISNA(VLOOKUP($A9,'Doug Gebauer'!$B$7:$C$15,1,FALSE)),\"\",$A9)","v":""},{"$f":"IF(ISNA(VLOOKUP($A9,'Trey George'!$B$7:$C$15,1,FALSE)),\"\",$A9)","v":""},{"$f":"IF(ISNA(VLOOKUP($A9,'Brad McLean'!$B$7:$C$15,1,FALSE)),\"\",$A9)","v":""},{"$f":"IF(ISNA(VLOOKUP($A9,'Donna McLean'!$B$7:$C$15,1,FALSE)),\"\",$A9)","v":""},{"$f":"IF(ISNA(VLOOKUP($A9,'Steve Sheppard'!$B$7:$C$15,1,FALSE)),\"\",$A9)","v":""},1]
[11,{"$f":"LOOKUP(A10,'Cars & Results'!$A$7:$A$215,'Cars & Results'!$B$7:$B$215)","v":"Denny Hamlin"},{"$f":"IF(ISNA(VLOOKUP($A10,'Ron Mason'!$B$7:$C$15,1,FALSE)),\"\",$A10)","v":""},{"$f":"IF(ISNA(VLOOKUP($A10,'Kevin Blossom'!$B$7:$C$15,1,FALSE)),\"\",$A10)","v":11},{"$f":"IF(ISNA(VLOOKUP($A10,'Jeff Buehrle'!$B$7:$C$15,1,FALSE)),\"\",$A10)","v":""},{"$f":"IF(ISNA(VLOOKUP($A10,'Doug Gebauer'!$B$7:$C$15,1,FALSE)),\"\",$A10)","v":11},{"$f":"IF(ISNA(VLOOKUP($A10,'Trey George'!$B$7:$C$15,1,FALSE)),\"\",$A10)","v":""},{"$f":"IF(ISNA(VLOOKUP($A10,'Brad McLean'!$B$7:$C$15,1,FALSE)),\"\",$A10)","v":""},{"$f":"IF(ISNA(VLOOKUP($A10,'Donna McLean'!$B$7:$C$15,1,FALSE)),\"\",$A10)","v":""},{"$f":"IF(ISNA(VLOOKUP($A10,'Steve Sheppard'!$B$7:$C$15,1,FALSE)),\"\",$A10)","v":""},3]
[13,{"$f":"LOOKUP(A11,'Cars & Results'!$A$7:$A$215,'Cars & Results'!$B$7:$B$215)","v":"Ty Dillon"},{"$f":"IF(ISNA(VLOOKUP($A11,'Ron Mason'!$B$7:$C$15,1,FALSE)),\"\",$A11)","v":""},{"$f":"IF(ISNA(VLOOKUP($A11,'Kevin Blossom'!$B$7:$C$15,1,FALSE)),\"\",$A11)","v":""},{"$f":"IF(ISNA(VLOOKUP($A11,'Jeff Buehrle'!$B$7:$C$15,1,FALSE)),\"\",$A11)","v":""},{"$f":"IF(ISNA(VLOOKUP($A11,'Doug Gebauer'!$B$7:$C$15,1,FALSE)),\"\",$A11)","v":""},{"$f":"IF(ISNA(VLOOKUP($A11,'Trey George'!$B$7:$C$15,1,FALSE)),\"\",$A11)","v":""},{"$f":"IF(ISNA(VLOOKUP($A11,'Brad McLean'!$B$7:$C$15,1,FALSE)),\"\",$A11)","v":13},{"$f":"IF(ISNA(VLOOKUP($A11,'Donna McLean'!$B$7:$C$15,1,FALSE)),\"\",$A11)","v":13},{"$f":"IF(ISNA(VLOOKUP($A11,'Steve Sheppard'!$B$7:$C$15,1,FALSE)),\"\",$A11)","v":""},3]
[14,{"$f":"LOOKUP(A12,'Cars & Results'!$A$7:$A$215,'Cars & Results'!$B$7:$B$215)","v":"Clint Bowyer"},{"$f":"IF(ISNA(VLOOKUP($A12,'Ron Mason'!$B$7:$C$15,1,FALSE)),\"\",$A12)","v":""},{"$f":"IF(ISNA(VLOOKUP($A12,'Kevin Blossom'!$B$7:$C$15,1,FALSE)),\"\",$A12)","v":""},{"$f":"IF(ISNA(VLOOKUP($A12,'Jeff Buehrle'!$B$7:$C$15,1,FALSE)),\"\",$A12)","v":""},{"$f":"IF(ISNA(VLOOKUP($A12,'Doug Gebauer'!$B$7:$C$15,1,FALSE)),\"\",$A12)","v":""},{"$f":"IF(ISNA(VLOOKUP($A12,'Trey George'!$B$7:$C$15,1,FALSE)),\"\",$A12)","v":""},{"$f":"IF(ISNA(VLOOKUP($A12,'Brad McLean'!$B$7:$C$15,1,FALSE)),\"\",$A12)","v":14},{"$f":"IF(ISNA(VLOOKUP($A12,'Donna McLean'!$B$7:$C$15,1,FALSE)),\"\",$A12)","v":""},{"$f":"IF(ISNA(VLOOKUP($A12,'Steve Sheppard'!$B$7:$C$15,1,FALSE)),\"\",$A12)","v":""},2]
[15,{"$f":"LOOKUP(A13,'Cars & Results'!$A$7:$A$215,'Cars & Results'!$B$7:$B$215)","v":"Ross Chastain (i)"},{"$f":"IF(ISNA(VLOOKUP($A13,'Ron Mason'!$B$7:$C$15,1,FALSE)),\"\",$A13)","v":""},{"$f":"IF(ISNA(VLOOKUP($A13,'Kevin Blossom'!$B$7:$C$15,1,FALSE)),\"\",$A13)","v":""},{"$f":"IF(ISNA(VLOOKUP($A13,'Jeff Buehrle'!$B$7:$C$15,1,FALSE)),\"\",$A13)","v":""},{"$f":"IF(ISNA(VLOOKUP($A13,'Doug Gebauer'!$B$7:$C$15,1,FALSE)),\"\",$A13)","v":""},{"$f":"IF(ISNA(VLOOKUP($A13,'Trey George'!$B$7:$C$15,1,FALSE)),\"\",$A13)","v":15},{"$f":"IF(ISNA(VLOOKUP($A13,'Brad McLean'!$B$7:$C$15,1,FALSE)),\"\",$A13)","v":""},{"$f":"IF(ISNA(VLOOKUP($A13,'Donna McLean'!$B$7:$C$15,1,FALSE)),\"\",$A13)","v":""},{"$f":"IF(ISNA(VLOOKUP($A13,'Steve Sheppard'!$B$7:$C$15,1,FALSE)),\"\",$A13)","v":""},2]
[16,{"$f":"LOOKUP(A14,'Cars & Results'!$A$7:$A$215,'Cars & Results'!$B$7:$B$215)","v":""},{"$f":"IF(ISNA(VLOOKUP($A14,'Ron Mason'!$B$7:$C$15,1,FALSE)),\"\",$A14)","v":""},{"$f":"IF(ISNA(VLOOKUP($A14,'Kevin Blossom'!$B$7:$C$15,1,FALSE)),\"\",$A14)","v":""},{"$f":"IF(ISNA(VLOOKUP($A14,'Jeff Buehrle'!$B$7:$C$15,1,FALSE)),\"\",$A14)","v":""},{"$f":"IF(ISNA(VLOOKUP($A14,'Doug Gebauer'!$B$7:$C$15,1,FALSE)),\"\",$A14)","v":""},{"$f":"IF(ISNA(VLOOKUP($A14,'Trey George'!$B$7:$C$15,1,FALSE)),\"\",$A14)","v":""},{"$f":"IF(ISNA(VLOOKUP($A14,'Brad McLean'!$B$7:$C$15,1,FALSE)),\"\",$A14)","v":""},{"$f":"IF(ISNA(VLOOKUP($A14,'Donna McLean'!$B$7:$C$15,1,FALSE)),\"\",$A14)","v":""},{"$f":"IF(ISNA(VLOOKUP($A14,'Steve Sheppard'!$B$7:$C$15,1,FALSE)),\"\",$A14)","v":""},1]
[17,{"$f":"LOOKUP(A15,'Cars & Results'!$A$7:$A$215,'Cars & Results'!$B$7:$B$215)","v":"Ricky Stenhouse Jr."},{"$f":"IF(ISNA(VLOOKUP($A15,'Ron Mason'!$B$7:$C$15,1,FALSE)),\"\",$A15)","v":""},{"$f":"IF(ISNA(VLOOKUP($A15,'Kevin Blossom'!$B$7:$C$15,1,FALSE)),\"\",$A15)","v":""},{"$f":"IF(ISNA(VLOOKUP($A15,'Jeff Buehrle'!$B$7:$C$15,1,FALSE)),\"\",$A15)","v":""},{"$f":"IF(ISNA(VLOOKUP($A15,'Doug Gebauer'!$B$7:$C$15,1,FALSE)),\"\",$A15)","v":""},{"$f":"IF(ISNA(VLOOKUP($A15,'Trey George'!$B$7:$C$15,1,FALSE)),\"\",$A15)","v":""},{"$f":"IF(ISNA(VLOOKUP($A15,'Brad McLean'!$B$7:$C$15,1,FALSE)),\"\",$A15)","v":""},{"$f":"IF(ISNA(VLOOKUP($A15,'Donna McLean'!$B$7:$C$15,1,FALSE)),\"\",$A15)","v":""},{"$f":"IF(ISNA(VLOOKUP($A15,'Steve Sheppard'!$B$7:$C$15,1,FALSE)),\"\",$A15)","v":17},2]
[18,{"$f":"LOOKUP(A16,'Cars & Results'!$A$7:$A$215,'Cars & Results'!$B$7:$B$215)","v":"Kyle Busch"},{"$f":"IF(ISNA(VLOOKUP($A16,'Ron Mason'!$B$7:$C$15,1,FALSE)),\"\",$A16)","v":""},{"$f":"IF(ISNA(VLOOKUP($A16,'Kevin Blossom'!$B$7:$C$15,1,FALSE)),\"\",$A16)","v":""},{"$f":"IF(ISNA(VLOOKUP($A16,'Jeff Buehrle'!$B$7:$C$15,1,FALSE)),\"\",$A16)","v":18},{"$f":"IF(ISNA(VLOOKUP($A16,'Doug Gebauer'!$B$7:$C$15,1,FALSE)),\"\",$A16)","v":""},{"$f":"IF(ISNA(VLOOKUP($A16,'Trey George'!$B$7:$C$15,1,FALSE)),\"\",$A16)","v":""},{"$f":"IF(ISNA(VLOOKUP($A16,'Brad McLean'!$B$7:$C$15,1,FALSE)),\"\",$A16)","v":""},{"$f":"IF(ISNA(VLOOKUP($A16,'Donna McLean'!$B$7:$C$15,1,FALSE)),\"\",$A16)","v":""},{"$f":"IF(ISNA(VLOOKUP($A16,'Steve Sheppard'!$B$7:$C$15,1,FALSE)),\"\",$A16)","v":""},2]
[19,{"$f":"LOOKUP(A17,'Cars & Results'!$A$7:$A$215,'Cars & Results'!$B$7:$B$215)","v":"Daniel Suárez"},{"$f":"IF(ISNA(VLOOKUP($A17,'Ron Mason'!$B$7:$C$15,1,FALSE)),\"\",$A17)","v":19},{"$f":"IF(ISNA(VLOOKUP($A17,'Kevin Blossom'!$B$7:$C$15,1,FALSE)),\"\",$A17)","v":19},{"$f":"IF(ISNA(VLOOKUP($A17,'Jeff Buehrle'!$B$7:$C$15,1,FALSE)),\"\",$A17)","v":""},{"$f":"IF(ISNA(VLOOKUP($A17,'Doug Gebauer'!$B$7:$C$15,1,FALSE)),\"\",$A17)","v":19},{"$f":"IF(ISNA(VLOOKUP($A17,'Trey George'!$B$7:$C$15,1,FALSE)),\"\",$A17)","v":""},{"$f":"IF(ISNA(VLOOKUP($A17,'Brad McLean'!$B$7:$C$15,1,FALSE)),\"\",$A17)","v":""},{"$f":"IF(ISNA(VLOOKUP($A17,'Donna McLean'!$B$7:$C$15,1,FALSE)),\"\",$A17)","v":""},{"$f":"IF(ISNA(VLOOKUP($A17,'Steve Sheppard'!$B$7:$C$15,1,FALSE)),\"\",$A17)","v":19},5]
[20,{"$f":"LOOKUP(A18,'Cars & Results'!$A$7:$A$215,'Cars & Results'!$B$7:$B$215)","v":"Erik Jones"},{"$f":"IF(ISNA(VLOOKUP($A18,'Ron Mason'!$B$7:$C$15,1,FALSE)),\"\",$A18)","v":""},{"$f":"IF(ISNA(VLOOKUP($A18,'Kevin Blossom'!$B$7:$C$15,1,FALSE)),\"\",$A18)","v":""},{"$f":"IF(ISNA(VLOOKUP($A18,'Jeff Buehrle'!$B$7:$C$15,1,FALSE)),\"\",$A18)","v":20},{"$f":"IF(ISNA(VLOOKUP($A18,'Doug Gebauer'!$B$7:$C$15,1,FALSE)),\"\",$A18)","v":""},{"$f":"IF(ISNA(VLOOKUP($A18,'Trey George'!$B$7:$C$15,1,FALSE)),\"\",$A18)","v":""},{"$f":"IF(ISNA(VLOOKUP($A18,'Brad McLean'!$B$7:$C$15,1,FALSE)),\"\",$A18)","v":""},{"$f":"IF(ISNA(VLOOKUP($A18,'Donna McLean'!$B$7:$C$15,1,FALSE)),\"\",$A18)","v":""},{"$f":"IF(ISNA(VLOOKUP($A18,'Steve Sheppard'!$B$7:$C$15,1,FALSE)),\"\",$A18)","v":""},2]
[21,{"$f":"LOOKUP(A19,'Cars & Results'!$A$7:$A$215,'Cars & Results'!$B$7:$B$215)","v":"Paul Menard"},{"$f":"IF(ISNA(VLOOKUP($A19,'Ron Mason'!$B$7:$C$15,1,FALSE)),\"\",$A19)","v":""},{"$f":"IF(ISNA(VLOOKUP($A19,'Kevin Blossom'!$B$7:$C$15,1,FALSE)),\"\",$A19)","v":""},{"$f":"IF(ISNA(VLOOKUP($A19,'Jeff Buehrle'!$B$7:$C$15,1,FALSE)),\"\",$A19)","v":21},{"$f":"IF(ISNA(VLOOKUP($A19,'Doug Gebauer'!$B$7:$C$15,1,FALSE)),\"\",$A19)","v":""},{"$f":"IF(ISNA(VLOOKUP($A19,'Trey George'!$B$7:$C$15,1,FALSE)),\"\",$A19)","v":""},{"$f":"IF(ISNA(VLOOKUP($A19,'Brad McLean'!$B$7:$C$15,1,FALSE)),\"\",$A19)","v":""},{"$f":"IF(ISNA(VLOOKUP($A19,'Donna McLean'!$B$7:$C$15,1,FALSE)),\"\",$A19)","v":""},{"$f":"IF(ISNA(VLOOKUP($A19,'Steve Sheppard'!$B$7:$C$15,1,FALSE)),\"\",$A19)","v":""},2]
[22,{"$f":"LOOKUP(A20,'Cars & Results'!$A$7:$A$215,'Cars & Results'!$B$7:$B$215)","v":"Joey Logano"},{"$f":"IF(ISNA(VLOOKUP($A20,'Ron Mason'!$B$7:$C$15,1,FALSE)),\"\",$A20)","v":""},{"$f":"IF(ISNA(VLOOKUP($A20,'Kevin Blossom'!$B$7:$C$15,1,FALSE)),\"\",$A20)","v":""},{"$f":"IF(ISNA(VLOOKUP($A20,'Jeff Buehrle'!$B$7:$C$15,1,FALSE)),\"\",$A20)","v":""},{"$f":"IF(ISNA(VLOOKUP($A20,'Doug Gebauer'!$B$7:$C$15,1,FALSE)),\"\",$A20)","v":""},{"$f":"IF(ISNA(VLOOKUP($A20,'Trey George'!$B$7:$C$15,1,FALSE)),\"\",$A20)","v":""},{"$f":"IF(ISNA(VLOOKUP($A20,'Brad McLean'!$B$7:$C$15,1,FALSE)),\"\",$A20)","v":""},{"$f":"IF(ISNA(VLOOKUP($A20,'Donna McLean'!$B$7:$C$15,1,FALSE)),\"\",$A20)","v":""},{"$f":"IF(ISNA(VLOOKUP($A20,'Steve Sheppard'!$B$7:$C$15,1,FALSE)),\"\",$A20)","v":""},1]
[23,{"$f":"LOOKUP(A21,'Cars & Results'!$A$7:$A$215,'Cars & Results'!$B$7:$B$215)","v":"J. J. Yeley (i)"},{"$f":"IF(ISNA(VLOOKUP($A21,'Ron Mason'!$B$7:$C$15,1,FALSE)),\"\",$A21)","v":""},{"$f":"IF(ISNA(VLOOKUP($A21,'Kevin Blossom'!$B$7:$C$15,1,FALSE)),\"\",$A21)","v":""},{"$f":"IF(ISNA(VLOOKUP($A21,'Jeff Buehrle'!$B$7:$C$15,1,FALSE)),\"\",$A21)","v":""},{"$f":"IF(ISNA(VLOOKUP($A21,'Doug Gebauer'!$B$7:$C$15,1,FALSE)),\"\",$A21)","v":""},{"$f":"IF(ISNA(VLOOKUP($A21,'Trey George'!$B$7:$C$15,1,FALSE)),\"\",$A21)","v":""},{"$f":"IF(ISNA(VLOOKUP($A21,'Brad McLean'!$B$7:$C$15,1,FALSE)),\"\",$A21)","v":""},{"$f":"IF(ISNA(VLOOKUP($A21,'Donna McLean'!$B$7:$C$15,1,FALSE)),\"\",$A21)","v":""},{"$f":"IF(ISNA(VLOOKUP($A21,'Steve Sheppard'!$B$7:$C$15,1,FALSE)),\"\",$A21)","v":""},1]
[24,{"$f":"LOOKUP(A22,'Cars & Results'!$A$7:$A$215,'Cars & Results'!$B$7:$B$215)","v":"William Byron (R)"},{"$f":"IF(ISNA(VLOOKUP($A22,'Ron Mason'!$B$7:$C$15,1,FALSE)),\"\",$A22)","v":""},{"$f":"IF(ISNA(VLOOKUP($A22,'Kevin Blossom'!$B$7:$C$15,1,FALSE)),\"\",$A22)","v":""},{"$f":"IF(ISNA(VLOOKUP($A22,'Jeff Buehrle'!$B$7:$C$15,1,FALSE)),\"\",$A22)","v":""},{"$f":"IF(ISNA(VLOOKUP($A22,'Doug Gebauer'!$B$7:$C$15,1,FALSE)),\"\",$A22)","v":""},{"$f":"IF(ISNA(VLOOKUP($A22,'Trey George'!$B$7:$C$15,1,FALSE)),\"\",$A22)","v":""},{"$f":"IF(ISNA(VLOOKUP($A22,'Brad McLean'!$B$7:$C$15,1,FALSE)),\"\",$A22)","v":""},{"$f":"IF(ISNA(VLOOKUP($A22,'Donna McLean'!$B$7:$C$15,1,FALSE)),\"\",$A22)","v":24},{"$f":"IF(ISNA(VLOOKUP($A22,'Steve Sheppard'!$B$7:$C$15,1,FALSE)),\"\",$A22)","v":""},2]
[26,{"$f":"LOOKUP(A23,'Cars & Results'!$A$7:$A$215,'Cars & Results'!$B$7:$B$215)","v":""},{"$f":"IF(ISNA(VLOOKUP($A23,'Ron Mason'!$B$7:$C$15,1,FALSE)),\"\",$A23)","v":""},{"$f":"IF(ISNA(VLOOKUP($A23,'Kevin Blossom'!$B$7:$C$15,1,FALSE)),\"\",$A23)","v":""},{"$f":"IF(ISNA(VLOOKUP($A23,'Jeff Buehrle'!$B$7:$C$15,1,FALSE)),\"\",$A23)","v":""},{"$f":"IF(ISNA(VLOOKUP($A23,'Doug Gebauer'!$B$7:$C$15,1,FALSE)),\"\",$A23)","v":""},{"$f":"IF(ISNA(VLOOKUP($A23,'Trey George'!$B$7:$C$15,1,FALSE)),\"\",$A23)","v":""},{"$f":"IF(ISNA(VLOOKUP($A23,'Brad McLean'!$B$7:$C$15,1,FALSE)),\"\",$A23)","v":""},{"$f":"IF(ISNA(VLOOKUP($A23,'Donna McLean'!$B$7:$C$15,1,FALSE)),\"\",$A23)","v":""},{"$f":"IF(ISNA(VLOOKUP($A23,'Steve Sheppard'!$B$7:$C$15,1,FALSE)),\"\",$A23)","v":""},1]
[27,{"$f":"LOOKUP(A24,'Cars & Results'!$A$7:$A$215,'Cars & Results'!$B$7:$B$215)","v":""},{"$f":"IF(ISNA(VLOOKUP($A24,'Ron Mason'!$B$7:$C$15,1,FALSE)),\"\",$A24)","v":""},{"$f":"IF(ISNA(VLOOKUP($A24,'Kevin Blossom'!$B$7:$C$15,1,FALSE)),\"\",$A24)","v":""},{"$f":"IF(ISNA(VLOOKUP($A24,'Jeff Buehrle'!$B$7:$C$15,1,FALSE)),\"\",$A24)","v":""},{"$f":"IF(ISNA(VLOOKUP($A24,'Doug Gebauer'!$B$7:$C$15,1,FALSE)),\"\",$A24)","v":""},{"$f":"IF(ISNA(VLOOKUP($A24,'Trey George'!$B$7:$C$15,1,FALSE)),\"\",$A24)","v":""},{"$f":"IF(ISNA(VLOOKUP($A24,'Brad McLean'!$B$7:$C$15,1,FALSE)),\"\",$A24)","v":""},{"$f":"IF(ISNA(VLOOKUP($A24,'Donna McLean'!$B$7:$C$15,1,FALSE)),\"\",$A24)","v":""},{"$f":"IF(ISNA(VLOOKUP($A24,'Steve Sheppard'!$B$7:$C$15,1,FALSE)),\"\",$A24)","v":""},1]
[30,{"$f":"LOOKUP(A25,'Cars & Results'!$A$7:$A$215,'Cars & Results'!$B$7:$B$215)","v":""},{"$f":"IF(ISNA(VLOOKUP($A25,'Ron Mason'!$B$7:$C$15,1,FALSE)),\"\",$A25)","v":""},{"$f":"IF(ISNA(VLOOKUP($A25,'Kevin Blossom'!$B$7:$C$15,1,FALSE)),\"\",$A25)","v":""},{"$f":"IF(ISNA(VLOOKUP($A25,'Jeff Buehrle'!$B$7:$C$15,1,FALSE)),\"\",$A25)","v":""},{"$f":"IF(ISNA(VLOOKUP($A25,'Doug Gebauer'!$B$7:$C$15,1,FALSE)),\"\",$A25)","v":""},{"$f":"IF(ISNA(VLOOKUP($A25,'Trey George'!$B$7:$C$15,1,FALSE)),\"\",$A25)","v":""},{"$f":"IF(ISNA(VLOOKUP($A25,'Brad McLean'!$B$7:$C$15,1,FALSE)),\"\",$A25)","v":""},{"$f":"IF(ISNA(VLOOKUP($A25,'Donna McLean'!$B$7:$C$15,1,FALSE)),\"\",$A25)","v":""},{"$f":"IF(ISNA(VLOOKUP($A25,'Steve Sheppard'!$B$7:$C$15,1,FALSE)),\"\",$A25)","v":""},1]
[31,{"$f":"LOOKUP(A26,'Cars & Results'!$A$7:$A$215,'Cars & Results'!$B$7:$B$215)","v":"Ryan Newman"},{"$f":"IF(ISNA(VLOOKUP($A26,'Ron Mason'!$B$7:$C$15,1,FALSE)),\"\",$A26)","v":31},{"$f":"IF(ISNA(VLOOKUP($A26,'Kevin Blossom'!$B$7:$C$15,1,FALSE)),\"\",$A26)","v":31},{"$f":"IF(ISNA(VLOOKUP($A26,'Jeff Buehrle'!$B$7:$C$15,1,FALSE)),\"\",$A26)","v":31},{"$f":"IF(ISNA(VLOOKUP($A26,'Doug Gebauer'!$B$7:$C$15,1,FALSE)),\"\",$A26)","v":""},{"$f":"IF(ISNA(VLOOKUP($A26,'Trey George'!$B$7:$C$15,1,FALSE)),\"\",$A26)","v":""},{"$f":"IF(ISNA(VLOOKUP($A26,'Brad McLean'!$B$7:$C$15,1,FALSE)),\"\",$A26)","v":""},{"$f":"IF(ISNA(VLOOKUP($A26,'Donna McLean'!$B$7:$C$15,1,FALSE)),\"\",$A26)","v":""},{"$f":"IF(ISNA(VLOOKUP($A26,'Steve Sheppard'!$B$7:$C$15,1,FALSE)),\"\",$A26)","v":""},4]
[32,{"$f":"LOOKUP(A27,'Cars & Results'!$A$7:$A$215,'Cars & Results'!$B$7:$B$215)","v":"Matt DiBenedetto"},{"$f":"IF(ISNA(VLOOKUP($A27,'Ron Mason'!$B$7:$C$15,1,FALSE)),\"\",$A27)","v":32},{"$f":"IF(ISNA(VLOOKUP($A27,'Kevin Blossom'!$B$7:$C$15,1,FALSE)),\"\",$A27)","v":32},{"$f":"IF(ISNA(VLOOKUP($A27,'Jeff Buehrle'!$B$7:$C$15,1,FALSE)),\"\",$A27)","v":32},{"$f":"IF(ISNA(VLOOKUP($A27,'Doug Gebauer'!$B$7:$C$15,1,FALSE)),\"\",$A27)","v":32},{"$f":"IF(ISNA(VLOOKUP($A27,'Trey George'!$B$7:$C$15,1,FALSE)),\"\",$A27)","v":""},{"$f":"IF(ISNA(VLOOKUP($A27,'Brad McLean'!$B$7:$C$15,1,FALSE)),\"\",$A27)","v":32},{"$f":"IF(ISNA(VLOOKUP($A27,'Donna McLean'!$B$7:$C$15,1,FALSE)),\"\",$A27)","v":32},{"$f":"IF(ISNA(VLOOKUP($A27,'Steve Sheppard'!$B$7:$C$15,1,FALSE)),\"\",$A27)","v":""},7]
[34,{"$f":"LOOKUP(A28,'Cars & Results'!$A$7:$A$215,'Cars & Results'!$B$7:$B$215)","v":"Michael McDowell"},{"$f":"IF(ISNA(VLOOKUP($A28,'Ron Mason'!$B$7:$C$15,1,FALSE)),\"\",$A28)","v":""},{"$f":"IF(ISNA(VLOOKUP($A28,'Kevin Blossom'!$B$7:$C$15,1,FALSE)),\"\",$A28)","v":""},{"$f":"IF(ISNA(VLOOKUP($A28,'Jeff Buehrle'!$B$7:$C$15,1,FALSE)),\"\",$A28)","v":""},{"$f":"IF(ISNA(VLOOKUP($A28,'Doug Gebauer'!$B$7:$C$15,1,FALSE)),\"\",$A28)","v":""},{"$f":"IF(ISNA(VLOOKUP($A28,'Trey George'!$B$7:$C$15,1,FALSE)),\"\",$A28)","v":""},{"$f":"IF(ISNA(VLOOKUP($A28,'Brad McLean'!$B$7:$C$15,1,FALSE)),\"\",$A28)","v":""},{"$f":"IF(ISNA(VLOOKUP($A28,'Donna McLean'!$B$7:$C$15,1,FALSE)),\"\",$A28)","v":""},{"$f":"IF(ISNA(VLOOKUP($A28,'Steve Sheppard'!$B$7:$C$15,1,FALSE)),\"\",$A28)","v":""},1]
[35,{"$f":"LOOKUP(A29,'Cars & Results'!$A$7:$A$215,'Cars & Results'!$B$7:$B$215)","v":""},{"$f":"IF(ISNA(VLOOKUP($A29,'Ron Mason'!$B$7:$C$15,1,FALSE)),\"\",$A29)","v":""},{"$f":"IF(ISNA(VLOOKUP($A29,'Kevin Blossom'!$B$7:$C$15,1,FALSE)),\"\",$A29)","v":""},{"$f":"IF(ISNA(VLOOKUP($A29,'Jeff Buehrle'!$B$7:$C$15,1,FALSE)),\"\",$A29)","v":""},{"$f":"IF(ISNA(VLOOKUP($A29,'Doug Gebauer'!$B$7:$C$15,1,FALSE)),\"\",$A29)","v":""},{"$f":"IF(ISNA(VLOOKUP($A29,'Trey George'!$B$7:$C$15,1,FALSE)),\"\",$A29)","v":""},{"$f":"IF(ISNA(VLOOKUP($A29,'Brad McLean'!$B$7:$C$15,1,FALSE)),\"\",$A29)","v":""},{"$f":"IF(ISNA(VLOOKUP($A29,'Donna McLean'!$B$7:$C$15,1,FALSE)),\"\",$A29)","v":""},{"$f":"IF(ISNA(VLOOKUP($A29,'Steve Sheppard'!$B$7:$C$15,1,FALSE)),\"\",$A29)","v":""},1]
[38,{"$f":"LOOKUP(A30,'Cars & Results'!$A$7:$A$215,'Cars & Results'!$B$7:$B$215)","v":"David Ragan"},{"$f":"IF(ISNA(VLOOKUP($A30,'Ron Mason'!$B$7:$C$15,1,FALSE)),\"\",$A30)","v":38},{"$f":"IF(ISNA(VLOOKUP($A30,'Kevin Blossom'!$B$7:$C$15,1,FALSE)),\"\",$A30)","v":""},{"$f":"IF(ISNA(VLOOKUP($A30,'Jeff Buehrle'!$B$7:$C$15,1,FALSE)),\"\",$A30)","v":""},{"$f":"IF(ISNA(VLOOKUP($A30,'Doug Gebauer'!$B$7:$C$15,1,FALSE)),\"\",$A30)","v":""},{"$f":"IF(ISNA(VLOOKUP($A30,'Trey George'!$B$7:$C$15,1,FALSE)),\"\",$A30)","v":38},{"$f":"IF(ISNA(VLOOKUP($A30,'Brad McLean'!$B$7:$C$15,1,FALSE)),\"\",$A30)","v":""},{"$f":"IF(ISNA(VLOOKUP($A30,'Donna McLean'!$B$7:$C$15,1,FALSE)),\"\",$A30)","v":""},{"$f":"IF(ISNA(VLOOKUP($A30,'Steve Sheppard'!$B$7:$C$15,1,FALSE)),\"\",$A30)","v":""},3]
[40,{"$f":"LOOKUP(A31,'Cars & Results'!$A$7:$A$215,'Cars & Results'!$B$7:$B$215)","v":""},{"$f":"IF(ISNA(VLOOKUP($A31,'Ron Mason'!$B$7:$C$15,1,FALSE)),\"\",$A31)","v":""},{"$f":"IF(ISNA(VLOOKUP($A31,'Kevin Blossom'!$B$7:$C$15,1,FALSE)),\"\",$A31)","v":""},{"$f":"IF(ISNA(VLOOKUP($A31,'Jeff Buehrle'!$B$7:$C$15,1,FALSE)),\"\",$A31)","v":""},{"$f":"IF(ISNA(VLOOKUP($A31,'Doug Gebauer'!$B$7:$C$15,1,FALSE)),\"\",$A31)","v":""},{"$f":"IF(ISNA(VLOOKUP($A31,'Trey George'!$B$7:$C$15,1,FALSE)),\"\",$A31)","v":""},{"$f":"IF(ISNA(VLOOKUP($A31,'Brad McLean'!$B$7:$C$15,1,FALSE)),\"\",$A31)","v":""},{"$f":"IF(ISNA(VLOOKUP($A31,'Donna McLean'!$B$7:$C$15,1,FALSE)),\"\",$A31)","v":""},{"$f":"IF(ISNA(VLOOKUP($A31,'Steve Sheppard'!$B$7:$C$15,1,FALSE)),\"\",$A31)","v":""},1]
[41,{"$f":"LOOKUP(A32,'Cars & Results'!$A$7:$A$215,'Cars & Results'!$B$7:$B$215)","v":"Kurt Busch"},{"$f":"IF(ISNA(VLOOKUP($A32,'Ron Mason'!$B$7:$C$15,1,FALSE)),\"\",$A32)","v":""},{"$f":"IF(ISNA(VLOOKUP($A32,'Kevin Blossom'!$B$7:$C$15,1,FALSE)),\"\",$A32)","v":""},{"$f":"IF(ISNA(VLOOKUP($A32,'Jeff Buehrle'!$B$7:$C$15,1,FALSE)),\"\",$A32)","v":""},{"$f":"IF(ISNA(VLOOKUP($A32,'Doug Gebauer'!$B$7:$C$15,1,FALSE)),\"\",$A32)","v":""},{"$f":"IF(ISNA(VLOOKUP($A32,'Trey George'!$B$7:$C$15,1,FALSE)),\"\",$A32)","v":""},{"$f":"IF(ISNA(VLOOKUP($A32,'Brad McLean'!$B$7:$C$15,1,FALSE)),\"\",$A32)","v":""},{"$f":"IF(ISNA(VLOOKUP($A32,'Donna McLean'!$B$7:$C$15,1,FALSE)),\"\",$A32)","v":""},{"$f":"IF(ISNA(VLOOKUP($A32,'Steve Sheppard'!$B$7:$C$15,1,FALSE)),\"\",$A32)","v":""},1]
[42,{"$f":"LOOKUP(A33,'Cars & Results'!$A$7:$A$215,'Cars & Results'!$B$7:$B$215)","v":"Kyle Larson"},{"$f":"IF(ISNA(VLOOKUP($A33,'Ron Mason'!$B$7:$C$15,1,FALSE)),\"\",$A33)","v":""},{"$f":"IF(ISNA(VLOOKUP($A33,'Kevin Blossom'!$B$7:$C$15,1,FALSE)),\"\",$A33)","v":42},{"$f":"IF(ISNA(VLOOKUP($A33,'Jeff Buehrle'!$B$7:$C$15,1,FALSE)),\"\",$A33)","v":""},{"$f":"IF(ISNA(VLOOKUP($A33,'Doug Gebauer'!$B$7:$C$15,1,FALSE)),\"\",$A33)","v":""},{"$f":"IF(ISNA(VLOOKUP($A33,'Trey George'!$B$7:$C$15,1,FALSE)),\"\",$A33)","v":42},{"$f":"IF(ISNA(VLOOKUP($A33,'Brad McLean'!$B$7:$C$15,1,FALSE)),\"\",$A33)","v":""},{"$f":"IF(ISNA(VLOOKUP($A33,'Donna McLean'!$B$7:$C$15,1,FALSE)),\"\",$A33)","v":""},{"$f":"IF(ISNA(VLOOKUP($A33,'Steve Sheppard'!$B$7:$C$15,1,FALSE)),\"\",$A33)","v":""},3]
[43,{"$f":"LOOKUP(A34,'Cars & Results'!$A$7:$A$215,'Cars & Results'!$B$7:$B$215)","v":"Darrell Wallace Jr. (R)"},{"$f":"IF(ISNA(VLOOKUP($A34,'Ron Mason'!$B$7:$C$15,1,FALSE)),\"\",$A34)","v":""},{"$f":"IF(ISNA(VLOOKUP($A34,'Kevin Blossom'!$B$7:$C$15,1,FALSE)),\"\",$A34)","v":43},{"$f":"IF(ISNA(VLOOKUP($A34,'Jeff Buehrle'!$B$7:$C$15,1,FALSE)),\"\",$A34)","v":43},{"$f":"IF(ISNA(VLOOKUP($A34,'Doug Gebauer'!$B$7:$C$15,1,FALSE)),\"\",$A34)","v":""},{"$f":"IF(ISNA(VLOOKUP($A34,'Trey George'!$B$7:$C$15,1,FALSE)),\"\",$A34)","v":43},{"$f":"IF(ISNA(VLOOKUP($A34,'Brad McLean'!$B$7:$C$15,1,FALSE)),\"\",$A34)","v":43},{"$f":"IF(ISNA(VLOOKUP($A34,'Donna McLean'!$B$7:$C$15,1,FALSE)),\"\",$A34)","v":""},{"$f":"IF(ISNA(VLOOKUP($A34,'Steve Sheppard'!$B$7:$C$15,1,FALSE)),\"\",$A34)","v":43},6]
[44,{"$f":"LOOKUP(A35,'Cars & Results'!$A$7:$A$215,'Cars & Results'!$B$7:$B$215)","v":""},{"$f":"IF(ISNA(VLOOKUP($A35,'Ron Mason'!$B$7:$C$15,1,FALSE)),\"\",$A35)","v":""},{"$f":"IF(ISNA(VLOOKUP($A35,'Kevin Blossom'!$B$7:$C$15,1,FALSE)),\"\",$A35)","v":""},{"$f":"IF(ISNA(VLOOKUP($A35,'Jeff Buehrle'!$B$7:$C$15,1,FALSE)),\"\",$A35)","v":""},{"$f":"IF(ISNA(VLOOKUP($A35,'Doug Gebauer'!$B$7:$C$15,1,FALSE)),\"\",$A35)","v":""},{"$f":"IF(ISNA(VLOOKUP($A35,'Trey George'!$B$7:$C$15,1,FALSE)),\"\",$A35)","v":""},{"$f":"IF(ISNA(VLOOKUP($A35,'Brad McLean'!$B$7:$C$15,1,FALSE)),\"\",$A35)","v":""},{"$f":"IF(ISNA(VLOOKUP($A35,'Donna McLean'!$B$7:$C$15,1,FALSE)),\"\",$A35)","v":""},{"$f":"IF(ISNA(VLOOKUP($A35,'Steve Sheppard'!$B$7:$C$15,1,FALSE)),\"\",$A35)","v":""},1]
[46,{"$f":"LOOKUP(A36,'Cars & Results'!$A$7:$A$215,'Cars & Results'!$B$7:$B$215)","v":""},{"$f":"IF(ISNA(VLOOKUP($A36,'Ron Mason'!$B$7:$C$15,1,FALSE)),\"\",$A36)","v":""},{"$f":"IF(ISNA(VLOOKUP($A36,'Kevin Blossom'!$B$7:$C$15,1,FALSE)),\"\",$A36)","v":""},{"$f":"IF(ISNA(VLOOKUP($A36,'Jeff Buehrle'!$B$7:$C$15,1,FALSE)),\"\",$A36)","v":""},{"$f":"IF(ISNA(VLOOKUP($A36,'Doug Gebauer'!$B$7:$C$15,1,FALSE)),\"\",$A36)","v":""},{"$f":"IF(ISNA(VLOOKUP($A36,'Trey George'!$B$7:$C$15,1,FALSE)),\"\",$A36)","v":""},{"$f":"IF(ISNA(VLOOKUP($A36,'Brad McLean'!$B$7:$C$15,1,FALSE)),\"\",$A36)","v":""},{"$f":"IF(ISNA(VLOOKUP($A36,'Donna McLean'!$B$7:$C$15,1,FALSE)),\"\",$A36)","v":""},{"$f":"IF(ISNA(VLOOKUP($A36,'Steve Sheppard'!$B$7:$C$15,1,FALSE)),\"\",$A36)","v":""},1]
[47,{"$f":"LOOKUP(A37,'Cars & Results'!$A$7:$A$215,'Cars & Results'!$B$7:$B$215)","v":"A. J. Allmendinger"},{"$f":"IF(ISNA(VLOOKUP($A37,'Ron Mason'!$B$7:$C$15,1,FALSE)),\"\",$A37)","v":""},{"$f":"IF(ISNA(VLOOKUP($A37,'Kevin Blossom'!$B$7:$C$15,1,FALSE)),\"\",$A37)","v":""},{"$f":"IF(ISNA(VLOOKUP($A37,'Jeff Buehrle'!$B$7:$C$15,1,FALSE)),\"\",$A37)","v":""},{"$f":"IF(ISNA(VLOOKUP($A37,'Doug Gebauer'!$B$7:$C$15,1,FALSE)),\"\",$A37)","v":""},{"$f":"IF(ISNA(VLOOKUP($A37,'Trey George'!$B$7:$C$15,1,FALSE)),\"\",$A37)","v":""},{"$f":"IF(ISNA(VLOOKUP($A37,'Brad McLean'!$B$7:$C$15,1,FALSE)),\"\",$A37)","v":""},{"$f":"IF(ISNA(VLOOKUP($A37,'Donna McLean'!$B$7:$C$15,1,FALSE)),\"\",$A37)","v":""},{"$f":"IF(ISNA(VLOOKUP($A37,'Steve Sheppard'!$B$7:$C$15,1,FALSE)),\"\",$A37)","v":""},1]
[48,{"$f":"LOOKUP(A38,'Cars & Results'!$A$7:$A$215,'Cars & Results'!$B$7:$B$215)","v":"Jimmie Johnson"},{"$f":"IF(ISNA(VLOOKUP($A38,'Ron Mason'!$B$7:$C$15,1,FALSE)),\"\",$A38)","v":""},{"$f":"IF(ISNA(VLOOKUP($A38,'Kevin Blossom'!$B$7:$C$15,1,FALSE)),\"\",$A38)","v":""},{"$f":"IF(ISNA(VLOOKUP($A38,'Jeff Buehrle'!$B$7:$C$15,1,FALSE)),\"\",$A38)","v":""},{"$f":"IF(ISNA(VLOOKUP($A38,'Doug Gebauer'!$B$7:$C$15,1,FALSE)),\"\",$A38)","v":""},{"$f":"IF(ISNA(VLOOKUP($A38,'Trey George'!$B$7:$C$15,1,FALSE)),\"\",$A38)","v":48},{"$f":"IF(ISNA(VLOOKUP($A38,'Brad McLean'!$B$7:$C$15,1,FALSE)),\"\",$A38)","v":48},{"$f":"IF(ISNA(VLOOKUP($A38,'Donna McLean'!$B$7:$C$15,1,FALSE)),\"\",$A38)","v":""},{"$f":"IF(ISNA(VLOOKUP($A38,'Steve Sheppard'!$B$7:$C$15,1,FALSE)),\"\",$A38)","v":48},4]
[59,{"$f":"LOOKUP(A39,'Cars & Results'!$A$7:$A$215,'Cars & Results'!$B$7:$B$215)","v":""},{"$f":"IF(ISNA(VLOOKUP($A39,'Ron Mason'!$B$7:$C$15,1,FALSE)),\"\",$A39)","v":""},{"$f":"IF(ISNA(VLOOKUP($A39,'Kevin Blossom'!$B$7:$C$15,1,FALSE)),\"\",$A39)","v":""},{"$f":"IF(ISNA(VLOOKUP($A39,'Jeff Buehrle'!$B$7:$C$15,1,FALSE)),\"\",$A39)","v":""},{"$f":"IF(ISNA(VLOOKUP($A39,'Doug Gebauer'!$B$7:$C$15,1,FALSE)),\"\",$A39)","v":""},{"$f":"IF(ISNA(VLOOKUP($A39,'Trey George'!$B$7:$C$15,1,FALSE)),\"\",$A39)","v":""},{"$f":"IF(ISNA(VLOOKUP($A39,'Brad McLean'!$B$7:$C$15,1,FALSE)),\"\",$A39)","v":""},{"$f":"IF(ISNA(VLOOKUP($A39,'Donna McLean'!$B$7:$C$15,1,FALSE)),\"\",$A39)","v":""},{"$f":"IF(ISNA(VLOOKUP($A39,'Steve Sheppard'!$B$7:$C$15,1,FALSE)),\"\",$A39)","v":""},1]
[78,{"$f":"LOOKUP(A40,'Cars & Results'!$A$7:$A$215,'Cars & Results'!$B$7:$B$215)","v":"Martin Truex Jr."},{"$f":"IF(ISNA(VLOOKUP($A40,'Ron Mason'!$B$7:$C$15,1,FALSE)),\"\",$A40)","v":78},{"$f":"IF(ISNA(VLOOKUP($A40,'Kevin Blossom'!$B$7:$C$15,1,FALSE)),\"\",$A40)","v":""},{"$f":"IF(ISNA(VLOOKUP($A40,'Jeff Buehrle'!$B$7:$C$15,1,FALSE)),\"\",$A40)","v":78},{"$f":"IF(ISNA(VLOOKUP($A40,'Doug Gebauer'!$B$7:$C$15,1,FALSE)),\"\",$A40)","v":78},{"$f":"IF(ISNA(VLOOKUP($A40,'Trey George'!$B$7:$C$15,1,FALSE)),\"\",$A40)","v":78},{"$f":"IF(ISNA(VLOOKUP($A40,'Brad McLean'!$B$7:$C$15,1,FALSE)),\"\",$A40)","v":78},{"$f":"IF(ISNA(VLOOKUP($A40,'Donna McLean'!$B$7:$C$15,1,FALSE)),\"\",$A40)","v":78},{"$f":"IF(ISNA(VLOOKUP($A40,'Steve Sheppard'!$B$7:$C$15,1,FALSE)),\"\",$A40)","v":""},7]
[83,{"$f":"LOOKUP(A41,'Cars & Results'!$A$7:$A$215,'Cars & Results'!$B$7:$B$215)","v":""},{"$f":"IF(ISNA(VLOOKUP($A41,'Ron Mason'!$B$7:$C$15,1,FALSE)),\"\",$A41)","v":""},{"$f":"IF(ISNA(VLOOKUP($A41,'Kevin Blossom'!$B$7:$C$15,1,FALSE)),\"\",$A41)","v":""},{"$f":"IF(ISNA(VLOOKUP($A41,'Jeff Buehrle'!$B$7:$C$15,1,FALSE)),\"\",$A41)","v":""},{"$f":"IF(ISNA(VLOOKUP($A41,'Doug Gebauer'!$B$7:$C$15,1,FALSE)),\"\",$A41)","v":""},{"$f":"IF(ISNA(VLOOKUP($A41,'Trey George'!$B$7:$C$15,1,FALSE)),\"\",$A41)","v":""},{"$f":"IF(ISNA(VLOOKUP($A41,'Brad McLean'!$B$7:$C$15,1,FALSE)),\"\",$A41)","v":""},{"$f":"IF(ISNA(VLOOKUP($A41,'Donna McLean'!$B$7:$C$15,1,FALSE)),\"\",$A41)","v":""},{"$f":"IF(ISNA(VLOOKUP($A41,'Steve Sheppard'!$B$7:$C$15,1,FALSE)),\"\",$A41)","v":""},1]
[88,{"$f":"LOOKUP(A42,'Cars & Results'!$A$7:$A$215,'Cars & Results'!$B$7:$B$215)","v":"Alex Bowman"},{"$f":"IF(ISNA(VLOOKUP($A42,'Ron Mason'!$B$7:$C$15,1,FALSE)),\"\",$A42)","v":""},{"$f":"IF(ISNA(VLOOKUP($A42,'Kevin Blossom'!$B$7:$C$15,1,FALSE)),\"\",$A42)","v":""},{"$f":"IF(ISNA(VLOOKUP($A42,'Jeff Buehrle'!$B$7:$C$15,1,FALSE)),\"\",$A42)","v":""},{"$f":"IF(ISNA(VLOOKUP($A42,'Doug Gebauer'!$B$7:$C$15,1,FALSE)),\"\",$A42)","v":""},{"$f":"IF(ISNA(VLOOKUP($A42,'Trey George'!$B$7:$C$15,1,FALSE)),\"\",$A42)","v":""},{"$f":"IF(ISNA(VLOOKUP($A42,'Brad McLean'!$B$7:$C$15,1,FALSE)),\"\",$A42)","v":""},{"$f":"IF(ISNA(VLOOKUP($A42,'Donna McLean'!$B$7:$C$15,1,FALSE)),\"\",$A42)","v":""},{"$f":"IF(ISNA(VLOOKUP($A42,'Steve Sheppard'!$B$7:$C$15,1,FALSE)),\"\",$A42)","v":""},1]
[93,{"$f":"LOOKUP(A43,'Cars & Results'!$A$7:$A$215,'Cars & Results'!$B$7:$B$215)","v":""},{"$f":"IF(ISNA(VLOOKUP($A43,'Ron Mason'!$B$7:$C$15,1,FALSE)),\"\",$A43)","v":""},{"$f":"IF(ISNA(VLOOKUP($A43,'Kevin Blossom'!$B$7:$C$15,1,FALSE)),\"\",$A43)","v":""},{"$f":"IF(ISNA(VLOOKUP($A43,'Jeff Buehrle'!$B$7:$C$15,1,FALSE)),\"\",$A43)","v":""},{"$f":"IF(ISNA(VLOOKUP($A43,'Doug Gebauer'!$B$7:$C$15,1,FALSE)),\"\",$A43)","v":""},{"$f":"IF(ISNA(VLOOKUP($A43,'Trey George'!$B$7:$C$15,1,FALSE)),\"\",$A43)","v":""},{"$f":"IF(ISNA(VLOOKUP($A43,'Brad McLean'!$B$7:$C$15,1,FALSE)),\"\",$A43)","v":""},{"$f":"IF(ISNA(VLOOKUP($A43,'Donna McLean'!$B$7:$C$15,1,FALSE)),\"\",$A43)","v":""},{"$f":"IF(ISNA(VLOOKUP($A43,'Steve Sheppard'!$B$7:$C$15,1,FALSE)),\"\",$A43)","v":""},1]
[95,{"$f":"LOOKUP(A44,'Cars & Results'!$A$7:$A$215,'Cars & Results'!$B$7:$B$215)","v":"Regan Smith"},{"$f":"IF(ISNA(VLOOKUP($A44,'Ron Mason'!$B$7:$C$15,1,FALSE)),\"\",$A44)","v":95},{"$f":"IF(ISNA(VLOOKUP($A44,'Kevin Blossom'!$B$7:$C$15,1,FALSE)),\"\",$A44)","v":""},{"$f":"IF(ISNA(VLOOKUP($A44,'Jeff Buehrle'!$B$7:$C$15,1,FALSE)),\"\",$A44)","v":""},{"$f":"IF(ISNA(VLOOKUP($A44,'Doug Gebauer'!$B$7:$C$15,1,FALSE)),\"\",$A44)","v":""},{"$f":"IF(ISNA(VLOOKUP($A44,'Trey George'!$B$7:$C$15,1,FALSE)),\"\",$A44)","v":""},{"$f":"IF(ISNA(VLOOKUP($A44,'Brad McLean'!$B$7:$C$15,1,FALSE)),\"\",$A44)","v":""},{"$f":"IF(ISNA(VLOOKUP($A44,'Donna McLean'!$B$7:$C$15,1,FALSE)),\"\",$A44)","v":95},{"$f":"IF(ISNA(VLOOKUP($A44,'Steve Sheppard'!$B$7:$C$15,1,FALSE)),\"\",$A44)","v":""},3]
[98,{"$f":"LOOKUP(A45,'Cars & Results'!$A$7:$A$215,'Cars & Results'!$B$7:$B$215)","v":""},{"$f":"IF(ISNA(VLOOKUP($A45,'Ron Mason'!$B$7:$C$15,1,FALSE)),\"\",$A45)","v":""},{"$f":"IF(ISNA(VLOOKUP($A45,'Kevin Blossom'!$B$7:$C$15,1,FALSE)),\"\",$A45)","v":""},{"$f":"IF(ISNA(VLOOKUP($A45,'Jeff Buehrle'!$B$7:$C$15,1,FALSE)),\"\",$A45)","v":""},{"$f":"IF(ISNA(VLOOKUP($A45,'Doug Gebauer'!$B$7:$C$15,1,FALSE)),\"\",$A45)","v":""},{"$f":"IF(ISNA(VLOOKUP($A45,'Trey George'!$B$7:$C$15,1,FALSE)),\"\",$A45)","v":""},{"$f":"IF(ISNA(VLOOKUP($A45,'Brad McLean'!$B$7:$C$15,1,FALSE)),\"\",$A45)","v":""},{"$f":"IF(ISNA(VLOOKUP($A45,'Donna McLean'!$B$7:$C$15,1,FALSE)),\"\",$A45)","v":""},{"$f":"IF(ISNA(VLOOKUP($A45,'Steve Sheppard'!$B$7:$C$15,1,FALSE)),\"\",$A45)","v":""},1]
[null,null,{"$f":"SUM(C2:C45)","v":297},182,243,151,268,232,245,138,102]
[null,null,{"$f":"HLOOKUP($P$2,'Ron Mason'!$B$6:$I$19,14,FALSE)","v":166},{"$f":"HLOOKUP($P$2,'Kevin Blossom'!$B$6:$I$19,14,FALSE)","v":229},{"$f":"HLOOKUP($P$2,'Jeff Buehrle'!$B$6:$I$19,14,FALSE)","v":276},{"$f":"HLOOKUP($P$2,'Doug Gebauer'!$B$6:$I$19,14,FALSE)","v":269},{"$f":"HLOOKUP($P$2,'Trey George'!$B$6:$I$19,14,FALSE)","v":266},{"$f":"HLOOKUP($P$2,'Brad McLean'!$B$6:$I$19,14,FALSE)","v":289},{"$f":"HLOOKUP($P$2,'Donna McLean'!$B$6:$I$19,14,FALSE)","v":355},{"$f":"HLOOKUP($P$2,'Steve Sheppard'!$B$6:$I$19,14,FALSE)","v":215},{"$f":"9*9","v":81}]
[null,null,{"$f":"44-COUNTBLANK(C2:C45)","v":7},{"$f":"44-COUNTBLANK(D2:D45)","v":7},7,7,8,8,7,7,{"$f":"K46-K47","v":21}]